{"text_format":"1","workbook":"xlsx","n_sheets":7,"sheets":["O projektu","Popis appletu","Kruskalův-Wallisův test","Kritické hodnoty","Post hoc analýza","Kritické hodnoty pro post hoc","pomNemeneyi"],"not_rendered":{"charts":0,"images":5,"macros":1,"external_links":0,"defined_names":0,"comments":0,"pivot_tables":0},"unopened":[],"bounds":{"document_bytes":16777216,"sheet_cells":100000,"rows_first":2000,"rows_last":500,"rows_between":2000,"halvings":0,"cell_chars":16384,"cell_head_chars":4096},"cells_cut":0,"cells_raw":0,"read":"whole","date_system":"1900"}

{"sheet":"O projektu","index":0,"n_rows":0,"n_cols":0,"rows_kept":0,"cut":false,"hidden":false,"merged":[]}

{"sheet":"Popis appletu","index":1,"n_rows":13,"n_cols":12,"rows_kept":13,"cut":false,"hidden":false,"merged":[[1,1,1,14],[2,1,2,14],[4,1,4,14]]}
["Kruskalův - Wallisův a Leveneův test",null,null,null,null,null,null,null,null,null,null,"© Martina Litschmannová, 2011"]
["Autor:","Martina Litschmannová"]
["Email:","martina.litschmannova@vsb.cz"]
[]
["Citace:","Litschmannová, M., 2011, Úvod do statistiky, VŠB-TU Ostrava, multimediální výukový materiál vyhotoveny v rámci projektu projektu „Matematika pro inženýry 21. století -inovace výuky matematiky na technických školách v nových podmínkách rychle se vyvíjející informační a technické společnosti“ ( CZ.1.07/2.2.00/07.0332)"]
["Popis:"]
[]
[]
[]
[]
[]
[]
["Literatura:"]

{"sheet":"Kruskalův-Wallisův test","index":2,"n_rows":1523,"n_cols":76,"rows_kept":1523,"cut":false,"hidden":false,"merged":[[1,0,1,13],[22,3,22,17],[3,0,3,13],[5,0,5,2],[5,8,5,9],[5,10,5,12],[22,0,23,0],[22,1,23,1],[2,0,2,25]]}
["Kruskalův - Wallisův a Leveneův test",null,null,null,null,null,null,null,null,null,null,"© Martina Litschmannová, 2011"]
["Postup:"]
["1. V případě potřeby vymažte původní data (tlačítko Vymaž data), v poli K6 zvolte formu zadání dat a v poli D6 nastavte požadovanou hladinu významnosti. Zadáváte-li data ve formě Data a jejich identifikátor, je nutné identifikátor skupin zadat jako přirozená čísla, tj. 1, 2, ..., 15."]
["2. Do níže uvedené tabulky zadejte data (maximální počet tříd: 15, maximální rozsah tříd: 1000), která chcete analyzovat pomocí Kruskalova-Wallisova testu. Test, včetně post hoc analýzy, bude proveden automaticky. V appletu je rovněž automaticky ověřována homoskedasticita dat pomocí Leveneova testu. "]
[]
["Hladina významnosti:",null,null,0.05,null,null,null,null,"Forma zadání dat",null,"Data a jejich identifikátor",null,null,null,{"$f":"IF(K6=\"Data a jejich identifikátor\",1,0)","v":1}]
[]
["Kruskalův-Wallisův test:"]
["H0:","Mediány populací, z nichž pocházejí analyzované výběry, lze považovat za shodné."]
["HA:","Mediány populací, z nichž pocházejí analyzované výběry, nelze považovat za shodné."]
["pom",{"$f":"SUM(IF((AC22:AQ22)<>0,(AC23:AQ23)^2/AC22:AQ22))","v":0},"n",{"$f":"SUM(AC22:AQ22)","v":0},"k",{"$f":"15-COUNTIF(AC22:AQ22,0)","v":0}]
["Testové kritérium:",null,{"$f":"IF($E$12=0,\"\",-3*(D11+1)+(12/(D11*(D11+1)))*B11)","v":""},null,{"$f":"SUM(AC22:AQ22)","v":0}]
["p-hodnota:",null,{"$f":"IF($E$12=0,\"\",IF(C14=\"\",ROUND(CHIDIST(C12,F11-1),4)))","v":""},null,{"$f":"IF($E$12=0,\"\",IF(C13<D6,CONCATENATE(\"Na hladině významnosti \",D6,\" zamítáme H0.\"),CONCATENATE(\"Na hladině významnosti \",D6,\" nezamítáme H0.\")))","v":""}]
[null,null,{"$f":"IF(AND(MIN($AC$22:$AQ$22)<>0,MIN($AC$22:$AQ$22)<5),\"Test je prováděn pouze v případě, že rozsah každého analyzovaného výběru je alespoň 5.\",\"\")","v":""}]
["Leveneův test:"]
["H0:","Rozptyly populací, z nichž pocházejí analyzované výběry, lze považovat za shodné."]
["HA:","Rozptyly populací, z nichž pocházejí analyzované výběry, nelze považovat za shodné."]
[]
["Testové kritérium:",null,{"$f":"IF($E$12=0,\"\",BC21/BE21)","v":""}]
["p-hodnota:",null,{"$f":"IF($E$12=0,\"\",ROUND(FDIST(C19,F11-1,D11-F11),4))","v":""},null,{"$f":"IF($E$12=0,\"\",IF(C20<D6,CONCATENATE(\"Na hladině významnosti \",D6,\" zamítáme H0.\"),CONCATENATE(\"Na hladině významnosti \",D6,\" nezamítáme H0.\")))","v":""}]
[null,null,null,null,null,null,null,null,null,null,null,null,null,null,null,null,null,null,null,null,null,null,null,null,null,null,null,null,null,null,null,null,null,null,null,null,null,null,null,null,null,null,null,null,null,"Leveneův test",null,"Z_cp",{"$f":"IF($O$6=1,AVERAGE($Y$25:$Y$15023),AVERAGE(AT25:BH1024))","v":{"$error":"#DIV/0!"}},"SS_ZB",{"$f":"SUM(IF(AT22:BH22<>\"\",(AT23:BH23)*(AT22:BH22-$AW$21)^2))","v":0},"SS_Ze",{"$f":"IF($O$6=1,SUM(AA25:AA15023),SUM(BJ25:BX1024))","v":0},"MS_ZB",{"$f":"AY21/(F11-1)","v":0},"MS_Ze",{"$f":"BA21/(D11-F11)","v":{"$error":"#DIV/0!"}}]
[null,null,null,null,null,null,null,null,null,null,null,null,null,null,null,null,null,null,null,null,null,null,null,null,null,null,null,"n",{"$f":"IF($O$6=1,COUNTIF($V$25:$V$15023,AC24),COUNT(AC25:AC1016))","v":0},{"$f":"IF($O$6=1,COUNTIF($V$25:$V$15023,AD24),COUNT(AD25:AD1016))","v":0},0,0,0,0,0,0,0,0,0,0,0,0,0,null,"Z_průměr",{"$f":"IF(AT23=0,\"\",IF($O$6=1,AVERAGEIF($V$25:$V$15023,AT24,$Y$25:$Y$15023),AVERAGE(AT25:AT1024)))","v":""},{"$f":"IF(AU23=0,\"\",IF($O$6=1,AVERAGEIF($V$25:$V$15023,AU24,$Y$25:$Y$15023),AVERAGE(AU25:AU1024)))","v":""},"","","","","","","","","","","","",""]
["Data","Identifikátor",null,"Výběr",null,null,null,null,null,null,null,null,null,null,null,null,null,null,null,null,null,null,null,null,null,null,null,"T",{"$f":"IF($O$6=1,SUM(IF(($U$25:$U$15023<>\"\")*($V$25:$V$15023=AC24),$W$25:$W$15023)),SUM(IF(AC25:AC1024<>\"\",AC25:AC1024)))","v":0},{"$f":"IF($O$6=1,SUM(IF(($U$25:$U$15023<>\"\")*($V$25:$V$15023=AD24),$W$25:$W$15023)),SUM(IF(AD25:AD1024<>\"\",AD25:AD1024)))","v":0},{"$f":"IF($O$6=1,SUM(IF(($U$25:$U$15023<>\"\")*($V$25:$V$15023=AE24),$W$25:$W$15023)),SUM(IF(AE25:AE1024<>\"\",AE25:AE1024)))","v":0},{"$f":"IF($O$6=1,SUM(IF(($U$25:$U$15023<>\"\")*($V$25:$V$15023=AF24),$W$25:$W$15023)),SUM(IF(AF25:AF1024<>\"\",AF25:AF1024)))","v":0},{"$f":"IF($O$6=1,SUM(IF(($U$25:$U$15023<>\"\")*($V$25:$V$15023=AG24),$W$25:$W$15023)),SUM(IF(AG25:AG1024<>\"\",AG25:AG1024)))","v":0},{"$f":"IF($O$6=1,SUM(IF(($U$25:$U$15023<>\"\")*($V$25:$V$15023=AH24),$W$25:$W$15023)),SUM(IF(AH25:AH1024<>\"\",AH25:AH1024)))","v":0},{"$f":"IF($O$6=1,SUM(IF(($U$25:$U$15023<>\"\")*($V$25:$V$15023=AI24),$W$25:$W$15023)),SUM(IF(AI25:AI1024<>\"\",AI25:AI1024)))","v":0},{"$f":"IF($O$6=1,SUM(IF(($U$25:$U$15023<>\"\")*($V$25:$V$15023=AJ24),$W$25:$W$15023)),SUM(IF(AJ25:AJ1024<>\"\",AJ25:AJ1024)))","v":0},{"$f":"IF($O$6=1,SUM(IF(($U$25:$U$15023<>\"\")*($V$25:$V$15023=AK24),$W$25:$W$15023)),SUM(IF(AK25:AK1024<>\"\",AK25:AK1024)))","v":0},{"$f":"IF($O$6=1,SUM(IF(($U$25:$U$15023<>\"\")*($V$25:$V$15023=AL24),$W$25:$W$15023)),SUM(IF(AL25:AL1024<>\"\",AL25:AL1024)))","v":0},{"$f":"IF($O$6=1,SUM(IF(($U$25:$U$15023<>\"\")*($V$25:$V$15023=AM24),$W$25:$W$15023)),SUM(IF(AM25:AM1024<>\"\",AM25:AM1024)))","v":0},{"$f":"IF($O$6=1,SUM(IF(($U$25:$U$15023<>\"\")*($V$25:$V$15023=AN24),$W$25:$W$15023)),SUM(IF(AN25:AN1024<>\"\",AN25:AN1024)))","v":0},{"$f":"IF($O$6=1,SUM(IF(($U$25:$U$15023<>\"\")*($V$25:$V$15023=AO24),$W$25:$W$15023)),SUM(IF(AO25:AO1024<>\"\",AO25:AO1024)))","v":0},{"$f":"IF($O$6=1,SUM(IF(($U$25:$U$15023<>\"\")*($V$25:$V$15023=AP24),$W$25:$W$15023)),SUM(IF(AP25:AP1024<>\"\",AP25:AP1024)))","v":0},{"$f":"IF($O$6=1,SUM(IF(($U$25:$U$15023<>\"\")*($V$25:$V$15023=AQ24),$W$25:$W$15023)),SUM(IF(AQ25:AQ1024<>\"\",AQ25:AQ1024)))","v":0},null,"n",{"$f":"IF($O$6=1,COUNTIF($V$25:$V$15023,AC24),COUNT(AT$25:AT$1024))","v":0},{"$f":"IF($O$6=1,COUNTIF($V$25:$V$15023,AD24),COUNT(AU$25:AU$1024))","v":0},0,0,0,0,0,0,0,0,0,0,0,0,0]
[null,null,null,1,2,3,4,5,6,7,8,9,10,11,12,13,14,15,null,null,{"$f":"A23","v":"Data"},{"$f":"B23","v":"Identifikátor"},"Pořadí","Medián","Z","Z_prům","pom",null,1,2,3,4,5,6,7,8,9,10,11,12,13,14,15,null,null,1,2,3,4,5,6,7,8,9,10,11,12,13,14,15,null,1,2,3,4,5,6,7,8,9,10,11,12,13,14,15]
[null,null,null,null,null,null,null,null,null,null,null,null,null,null,null,null,null,null,null,null,{"$f":"IF(A25=\"\",\"\",A25)","v":""},{"$f":"IF(B25=\"\",\"\",B25)","v":""},{"$f":"IF(U25=\"\",\"\",RANK(U25,$U$25:$U$15023,1)+(COUNT($U$25:$U$15023)+1-RANK(U25,$U$25:$U$15023,0)-RANK(U25,$U$25:$U$15023,1))/2)","v":""},{"$f":"IF(U25=\"\",\"\",MEDIAN(IF(($U$25:$U$15023<>\"\")*($V$25:$V$15023=V25),$U$25:$U$15023)))","v":""},{"$f":"IF(U25=\"\",\"\",ABS(X25-U25))","v":""},{"$f":"IF(V25=\"\",\"\",AVERAGEIF($V$25:$V$15023,V25,$Y$25:$Y$15023))","v":""},{"$f":"IF(V25=\"\",\"\",(Y25-Z25)^2)","v":""},null,{"$f":"IF(D25=\"\",\"\",RANK(D25,$D$25:$R$1024,1)+(COUNT($D$25:$R$1024)+1-RANK(D25,$D$25:$R$1024,0)-RANK(D25,$D$25:$R$1024,1))/2)","v":""},{"$f":"IF(E25=\"\",\"\",RANK(E25,$D$25:$R$1024,1)+(COUNT($D$25:$R$1024)+1-RANK(E25,$D$25:$R$1024,0)-RANK(E25,$D$25:$R$1024,1))/2)","v":""},"","","","","","","","","","","","","",null,null,{"$f":"IF(D25=\"\",\"\",ABS(D25-MEDIAN(D$25:D$1024)))","v":""},{"$f":"IF(E25=\"\",\"\",ABS(E25-MEDIAN(E$25:E$1024)))","v":""},"","","","","","","","","","","","","",null,{"$f":"IF(AT25=\"\",\"\",(AT25-AT$22)^2)","v":""},{"$f":"IF(AU25=\"\",\"\",(AU25-AU$22)^2)","v":""},"","","","","","","","","","","","",""]
[null,null,null,null,null,null,null,null,null,null,null,null,null,null,null,null,null,null,null,null,{"$f":"IF(A26=\"\",\"\",A26)","v":""},{"$f":"IF(B26=\"\",\"\",B26)","v":""},{"$f":"IF(U26=\"\",\"\",RANK(U26,$U$25:$U$15023,1)+(COUNT($U$25:$U$15023)+1-RANK(U26,$U$25:$U$15023,0)-RANK(U26,$U$25:$U$15023,1))/2)","v":""},{"$f":"IF(U26=\"\",\"\",MEDIAN(IF(($U$25:$U$15023<>\"\")*($V$25:$V$15023=V26),$U$25:$U$15023)))","v":""},{"$f":"IF(U26=\"\",\"\",ABS(X26-U26))","v":""},{"$f":"IF(V26=\"\",\"\",AVERAGEIF($V$25:$V$15023,V26,$Y$25:$Y$15023))","v":""},{"$f":"IF(V26=\"\",\"\",(Y26-Z26)^2)","v":""},null,{"$f":"IF(D26=\"\",\"\",RANK(D26,$D$25:$R$1024,1)+(COUNT($D$25:$R$1024)+1-RANK(D26,$D$25:$R$1024,0)-RANK(D26,$D$25:$R$1024,1))/2)","v":""},{"$f":"IF(E26=\"\",\"\",RANK(E26,$D$25:$R$1024,1)+(COUNT($D$25:$R$1024)+1-RANK(E26,$D$25:$R$1024,0)-RANK(E26,$D$25:$R$1024,1))/2)","v":""},{"$f":"IF(F26=\"\",\"\",RANK(F26,$D$25:$R$1024,1)+(COUNT($D$25:$R$1024)+1-RANK(F26,$D$25:$R$1024,0)-RANK(F26,$D$25:$R$1024,1))/2)","v":""},{"$f":"IF(G26=\"\",\"\",RANK(G26,$D$25:$R$1024,1)+(COUNT($D$25:$R$1024)+1-RANK(G26,$D$25:$R$1024,0)-RANK(G26,$D$25:$R$1024,1))/2)","v":""},{"$f":"IF(H26=\"\",\"\",RANK(H26,$D$25:$R$1024,1)+(COUNT($D$25:$R$1024)+1-RANK(H26,$D$25:$R$1024,0)-RANK(H26,$D$25:$R$1024,1))/2)","v":""},{"$f":"IF(I26=\"\",\"\",RANK(I26,$D$25:$R$1024,1)+(COUNT($D$25:$R$1024)+1-RANK(I26,$D$25:$R$1024,0)-RANK(I26,$D$25:$R$1024,1))/2)","v":""},{"$f":"IF(J26=\"\",\"\",RANK(J26,$D$25:$R$1024,1)+(COUNT($D$25:$R$1024)+1-RANK(J26,$D$25:$R$1024,0)-RANK(J26,$D$25:$R$1024,1))/2)","v":""},{"$f":"IF(K26=\"\",\"\",RANK(K26,$D$25:$R$1024,1)+(COUNT($D$25:$R$1024)+1-RANK(K26,$D$25:$R$1024,0)-RANK(K26,$D$25:$R$1024,1))/2)","v":""},{"$f":"IF(L26=\"\",\"\",RANK(L26,$D$25:$R$1024,1)+(COUNT($D$25:$R$1024)+1-RANK(L26,$D$25:$R$1024,0)-RANK(L26,$D$25:$R$1024,1))/2)","v":""},{"$f":"IF(M26=\"\",\"\",RANK(M26,$D$25:$R$1024,1)+(COUNT($D$25:$R$1024)+1-RANK(M26,$D$25:$R$1024,0)-RANK(M26,$D$25:$R$1024,1))/2)","v":""},{"$f":"IF(N26=\"\",\"\",RANK(N26,$D$25:$R$1024,1)+(COUNT($D$25:$R$1024)+1-RANK(N26,$D$25:$R$1024,0)-RANK(N26,$D$25:$R$1024,1))/2)","v":""},{"$f":"IF(O26=\"\",\"\",RANK(O26,$D$25:$R$1024,1)+(COUNT($D$25:$R$1024)+1-RANK(O26,$D$25:$R$1024,0)-RANK(O26,$D$25:$R$1024,1))/2)","v":""},{"$f":"IF(P26=\"\",\"\",RANK(P26,$D$25:$R$1024,1)+(COUNT($D$25:$R$1024)+1-RANK(P26,$D$25:$R$1024,0)-RANK(P26,$D$25:$R$1024,1))/2)","v":""},{"$f":"IF(Q26=\"\",\"\",RANK(Q26,$D$25:$R$1024,1)+(COUNT($D$25:$R$1024)+1-RANK(Q26,$D$25:$R$1024,0)-RANK(Q26,$D$25:$R$1024,1))/2)","v":""},{"$f":"IF(R26=\"\",\"\",RANK(R26,$D$25:$R$1024,1)+(COUNT($D$25:$R$1024)+1-RANK(R26,$D$25:$R$1024,0)-RANK(R26,$D$25:$R$1024,1))/2)","v":""},null,null,{"$f":"IF(D26=\"\",\"\",ABS(D26-MEDIAN(D$25:D$1024)))","v":""},{"$f":"IF(E26=\"\",\"\",ABS(E26-MEDIAN(E$25:E$1024)))","v":""},{"$f":"IF(F26=\"\",\"\",ABS(F26-MEDIAN(F$25:F$1024)))","v":""},{"$f":"IF(G26=\"\",\"\",ABS(G26-MEDIAN(G$25:G$1024)))","v":""},{"$f":"IF(H26=\"\",\"\",ABS(H26-MEDIAN(H$25:H$1024)))","v":""},{"$f":"IF(I26=\"\",\"\",ABS(I26-MEDIAN(I$25:I$1024)))","v":""},{"$f":"IF(J26=\"\",\"\",ABS(J26-MEDIAN(J$25:J$1024)))","v":""},{"$f":"IF(K26=\"\",\"\",ABS(K26-MEDIAN(K$25:K$1024)))","v":""},{"$f":"IF(L26=\"\",\"\",ABS(L26-MEDIAN(L$25:L$1024)))","v":""},{"$f":"IF(M26=\"\",\"\",ABS(M26-MEDIAN(M$25:M$1024)))","v":""},{"$f":"IF(N26=\"\",\"\",ABS(N26-MEDIAN(N$25:N$1024)))","v":""},{"$f":"IF(O26=\"\",\"\",ABS(O26-MEDIAN(O$25:O$1024)))","v":""},{"$f":"IF(P26=\"\",\"\",ABS(P26-MEDIAN(P$25:P$1024)))","v":""},{"$f":"IF(Q26=\"\",\"\",ABS(Q26-MEDIAN(Q$25:Q$1024)))","v":""},{"$f":"IF(R26=\"\",\"\",ABS(R26-MEDIAN(R$25:R$1024)))","v":""},null,{"$f":"IF(AT26=\"\",\"\",(AT26-AT$22)^2)","v":""},{"$f":"IF(AU26=\"\",\"\",(AU26-AU$22)^2)","v":""},{"$f":"IF(AV26=\"\",\"\",(AV26-AV$22)^2)","v":""},{"$f":"IF(AW26=\"\",\"\",(AW26-AW$22)^2)","v":""},{"$f":"IF(AX26=\"\",\"\",(AX26-AX$22)^2)","v":""},{"$f":"IF(AY26=\"\",\"\",(AY26-AY$22)^2)","v":""},{"$f":"IF(AZ26=\"\",\"\",(AZ26-AZ$22)^2)","v":""},{"$f":"IF(BA26=\"\",\"\",(BA26-BA$22)^2)","v":""},{"$f":"IF(BB26=\"\",\"\",(BB26-BB$22)^2)","v":""},{"$f":"IF(BC26=\"\",\"\",(BC26-BC$22)^2)","v":""},{"$f":"IF(BD26=\"\",\"\",(BD26-BD$22)^2)","v":""},{"$f":"IF(BE26=\"\",\"\",(BE26-BE$22)^2)","v":""},{"$f":"IF(BF26=\"\",\"\",(BF26-BF$22)^2)","v":""},{"$f":"IF(BG26=\"\",\"\",(BG26-BG$22)^2)","v":""},{"$f":"IF(BH26=\"\",\"\",(BH26-BH$22)^2)","v":""}]
[null,null,null,null,null,null,null,null,null,null,null,null,null,null,null,null,null,null,null,null,"","","",{"$f":"IF(U27=\"\",\"\",MEDIAN(IF(($U$25:$U$15023<>\"\")*($V$25:$V$15023=V27),$U$25:$U$15023)))","v":""},"","","",null,"","","","","","","","","","","","","","","",null,null,"","","","","","","","","","","","","","","",null,"","","","","","","","","","","","","","",""]
[null,null,null,null,null,null,null,null,null,null,null,null,null,null,null,null,null,null,null,null,"","","",{"$f":"IF(U28=\"\",\"\",MEDIAN(IF(($U$25:$U$15023<>\"\")*($V$25:$V$15023=V28),$U$25:$U$15023)))","v":""},"","","",null,"","","","","","","","","","","","","","","",null,null,"","","","","","","","","","","","","","","",null,"","","","","","","","","","","","","","",""]
[null,null,null,null,null,null,null,null,null,null,null,null,null,null,null,null,null,null,null,null,"","","",{"$f":"IF(U29=\"\",\"\",MEDIAN(IF(($U$25:$U$15023<>\"\")*($V$25:$V$15023=V29),$U$25:$U$15023)))","v":""},"","","",null,"","","","","","","","","","","","","","","",null,null,"","","","","","","","","","","","","","","",null,"","","","","","","","","","","","","","",""]
[null,null,null,null,null,null,null,null,null,null,null,null,null,null,null,null,null,null,null,null,"","","",{"$f":"IF(U30=\"\",\"\",MEDIAN(IF(($U$25:$U$15023<>\"\")*($V$25:$V$15023=V30),$U$25:$U$15023)))","v":""},"","","",null,"","","","","","","","","","","","","","","",null,null,"","","","","","","","","","","","","","","",null,"","","","","","","","","","","","","","",""]
[null,null,null,null,null,null,null,null,null,null,null,null,null,null,null,null,null,null,null,null,"","","",{"$f":"IF(U31=\"\",\"\",MEDIAN(IF(($U$25:$U$15023<>\"\")*($V$25:$V$15023=V31),$U$25:$U$15023)))","v":""},"","","",null,"","","","","","","","","","","","","","","",null,null,"","","","","","","","","","","","","","","",null,"","","","","","","","","","","","","","",""]
[null,null,null,null,null,null,null,null,null,null,null,null,null,null,null,null,null,null,null,null,"","","",{"$f":"IF(U32=\"\",\"\",MEDIAN(IF(($U$25:$U$15023<>\"\")*($V$25:$V$15023=V32),$U$25:$U$15023)))","v":""},"","","",null,{"$f":"IF(D32=\"\",\"\",RANK(D32,$D$25:$R$1024,1)+(COUNT($D$25:$R$1024)+1-RANK(D32,$D$25:$R$1024,0)-RANK(D32,$D$25:$R$1024,1))/2)","v":""},{"$f":"IF(E32=\"\",\"\",RANK(E32,$D$25:$R$1024,1)+(COUNT($D$25:$R$1024)+1-RANK(E32,$D$25:$R$1024,0)-RANK(E32,$D$25:$R$1024,1))/2)","v":""},{"$f":"IF(F32=\"\",\"\",RANK(F32,$D$25:$R$1024,1)+(COUNT($D$25:$R$1024)+1-RANK(F32,$D$25:$R$1024,0)-RANK(F32,$D$25:$R$1024,1))/2)","v":""},{"$f":"IF(G32=\"\",\"\",RANK(G32,$D$25:$R$1024,1)+(COUNT($D$25:$R$1024)+1-RANK(G32,$D$25:$R$1024,0)-RANK(G32,$D$25:$R$1024,1))/2)","v":""},{"$f":"IF(H32=\"\",\"\",RANK(H32,$D$25:$R$1024,1)+(COUNT($D$25:$R$1024)+1-RANK(H32,$D$25:$R$1024,0)-RANK(H32,$D$25:$R$1024,1))/2)","v":""},{"$f":"IF(I32=\"\",\"\",RANK(I32,$D$25:$R$1024,1)+(COUNT($D$25:$R$1024)+1-RANK(I32,$D$25:$R$1024,0)-RANK(I32,$D$25:$R$1024,1))/2)","v":""},{"$f":"IF(J32=\"\",\"\",RANK(J32,$D$25:$R$1024,1)+(COUNT($D$25:$R$1024)+1-RANK(J32,$D$25:$R$1024,0)-RANK(J32,$D$25:$R$1024,1))/2)","v":""},{"$f":"IF(K32=\"\",\"\",RANK(K32,$D$25:$R$1024,1)+(COUNT($D$25:$R$1024)+1-RANK(K32,$D$25:$R$1024,0)-RANK(K32,$D$25:$R$1024,1))/2)","v":""},{"$f":"IF(L32=\"\",\"\",RANK(L32,$D$25:$R$1024,1)+(COUNT($D$25:$R$1024)+1-RANK(L32,$D$25:$R$1024,0)-RANK(L32,$D$25:$R$1024,1))/2)","v":""},{"$f":"IF(M32=\"\",\"\",RANK(M32,$D$25:$R$1024,1)+(COUNT($D$25:$R$1024)+1-RANK(M32,$D$25:$R$1024,0)-RANK(M32,$D$25:$R$1024,1))/2)","v":""},{"$f":"IF(N32=\"\",\"\",RANK(N32,$D$25:$R$1024,1)+(COUNT($D$25:$R$1024)+1-RANK(N32,$D$25:$R$1024,0)-RANK(N32,$D$25:$R$1024,1))/2)","v":""},{"$f":"IF(O32=\"\",\"\",RANK(O32,$D$25:$R$1024,1)+(COUNT($D$25:$R$1024)+1-RANK(O32,$D$25:$R$1024,0)-RANK(O32,$D$25:$R$1024,1))/2)","v":""},{"$f":"IF(P32=\"\",\"\",RANK(P32,$D$25:$R$1024,1)+(COUNT($D$25:$R$1024)+1-RANK(P32,$D$25:$R$1024,0)-RANK(P32,$D$25:$R$1024,1))/2)","v":""},{"$f":"IF(Q32=\"\",\"\",RANK(Q32,$D$25:$R$1024,1)+(COUNT($D$25:$R$1024)+1-RANK(Q32,$D$25:$R$1024,0)-RANK(Q32,$D$25:$R$1024,1))/2)","v":""},"",null,null,"","","","","","","","","","","","","","","",null,"","","","","","","","","","","","","","",""]
[null,null,null,null,null,null,null,null,null,null,null,null,null,null,null,null,null,null,null,null,"","","",{"$f":"IF(U33=\"\",\"\",MEDIAN(IF(($U$25:$U$15023<>\"\")*($V$25:$V$15023=V33),$U$25:$U$15023)))","v":""},"","","",null,{"$f":"IF(D33=\"\",\"\",RANK(D33,$D$25:$R$1024,1)+(COUNT($D$25:$R$1024)+1-RANK(D33,$D$25:$R$1024,0)-RANK(D33,$D$25:$R$1024,1))/2)","v":""},{"$f":"IF(E33=\"\",\"\",RANK(E33,$D$25:$R$1024,1)+(COUNT($D$25:$R$1024)+1-RANK(E33,$D$25:$R$1024,0)-RANK(E33,$D$25:$R$1024,1))/2)","v":""},{"$f":"IF(F33=\"\",\"\",RANK(F33,$D$25:$R$1024,1)+(COUNT($D$25:$R$1024)+1-RANK(F33,$D$25:$R$1024,0)-RANK(F33,$D$25:$R$1024,1))/2)","v":""},{"$f":"IF(G33=\"\",\"\",RANK(G33,$D$25:$R$1024,1)+(COUNT($D$25:$R$1024)+1-RANK(G33,$D$25:$R$1024,0)-RANK(G33,$D$25:$R$1024,1))/2)","v":""},{"$f":"IF(H33=\"\",\"\",RANK(H33,$D$25:$R$1024,1)+(COUNT($D$25:$R$1024)+1-RANK(H33,$D$25:$R$1024,0)-RANK(H33,$D$25:$R$1024,1))/2)","v":""},{"$f":"IF(I33=\"\",\"\",RANK(I33,$D$25:$R$1024,1)+(COUNT($D$25:$R$1024)+1-RANK(I33,$D$25:$R$1024,0)-RANK(I33,$D$25:$R$1024,1))/2)","v":""},{"$f":"IF(J33=\"\",\"\",RANK(J33,$D$25:$R$1024,1)+(COUNT($D$25:$R$1024)+1-RANK(J33,$D$25:$R$1024,0)-RANK(J33,$D$25:$R$1024,1))/2)","v":""},{"$f":"IF(K33=\"\",\"\",RANK(K33,$D$25:$R$1024,1)+(COUNT($D$25:$R$1024)+1-RANK(K33,$D$25:$R$1024,0)-RANK(K33,$D$25:$R$1024,1))/2)","v":""},{"$f":"IF(L33=\"\",\"\",RANK(L33,$D$25:$R$1024,1)+(COUNT($D$25:$R$1024)+1-RANK(L33,$D$25:$R$1024,0)-RANK(L33,$D$25:$R$1024,1))/2)","v":""},{"$f":"IF(M33=\"\",\"\",RANK(M33,$D$25:$R$1024,1)+(COUNT($D$25:$R$1024)+1-RANK(M33,$D$25:$R$1024,0)-RANK(M33,$D$25:$R$1024,1))/2)","v":""},{"$f":"IF(N33=\"\",\"\",RANK(N33,$D$25:$R$1024,1)+(COUNT($D$25:$R$1024)+1-RANK(N33,$D$25:$R$1024,0)-RANK(N33,$D$25:$R$1024,1))/2)","v":""},{"$f":"IF(O33=\"\",\"\",RANK(O33,$D$25:$R$1024,1)+(COUNT($D$25:$R$1024)+1-RANK(O33,$D$25:$R$1024,0)-RANK(O33,$D$25:$R$1024,1))/2)","v":""},{"$f":"IF(P33=\"\",\"\",RANK(P33,$D$25:$R$1024,1)+(COUNT($D$25:$R$1024)+1-RANK(P33,$D$25:$R$1024,0)-RANK(P33,$D$25:$R$1024,1))/2)","v":""},{"$f":"IF(Q33=\"\",\"\",RANK(Q33,$D$25:$R$1024,1)+(COUNT($D$25:$R$1024)+1-RANK(Q33,$D$25:$R$1024,0)-RANK(Q33,$D$25:$R$1024,1))/2)","v":""},{"$f":"IF(R33=\"\",\"\",RANK(R33,$D$25:$R$1024,1)+(COUNT($D$25:$R$1024)+1-RANK(R33,$D$25:$R$1024,0)-RANK(R33,$D$25:$R$1024,1))/2)","v":""}]
[null,null,null,null,null,null,null,null,null,null,null,null,null,null,null,null,null,null,null,null,"","","",{"$f":"IF(U34=\"\",\"\",MEDIAN(IF(($U$25:$U$15023<>\"\")*($V$25:$V$15023=V34),$U$25:$U$15023)))","v":""},"","","",null,"","","","","","","","","","","","","","",""]
[null,null,null,null,null,null,null,null,null,null,null,null,null,null,null,null,null,null,null,null,"","","",{"$f":"IF(U35=\"\",\"\",MEDIAN(IF(($U$25:$U$15023<>\"\")*($V$25:$V$15023=V35),$U$25:$U$15023)))","v":""},"","","",null,"","","","","","","","","","","","","","",""]
[null,null,null,null,null,null,null,null,null,null,null,null,null,null,null,null,null,null,null,null,"","","",{"$f":"IF(U36=\"\",\"\",MEDIAN(IF(($U$25:$U$15023<>\"\")*($V$25:$V$15023=V36),$U$25:$U$15023)))","v":""},"","","",null,"","","","","","","","","","","","","","",""]
[null,null,null,null,null,null,null,null,null,null,null,null,null,null,null,null,null,null,null,null,"","","",{"$f":"IF(U37=\"\",\"\",MEDIAN(IF(($U$25:$U$15023<>\"\")*($V$25:$V$15023=V37),$U$25:$U$15023)))","v":""},"","","",null,"","","","","","","","","","","","","","",""]
[null,null,null,null,null,null,null,null,null,null,null,null,null,null,null,null,null,null,null,null,"","","",{"$f":"IF(U38=\"\",\"\",MEDIAN(IF(($U$25:$U$15023<>\"\")*($V$25:$V$15023=V38),$U$25:$U$15023)))","v":""},"","","",null,"","","","","","","","","","","","","","",""]
[null,null,null,null,null,null,null,null,null,null,null,null,null,null,null,null,null,null,null,null,"","","",{"$f":"IF(U39=\"\",\"\",MEDIAN(IF(($U$25:$U$15023<>\"\")*($V$25:$V$15023=V39),$U$25:$U$15023)))","v":""},"","","",null,"","","","","","","","","","","","","","",""]
[null,null,null,null,null,null,null,null,null,null,null,null,null,null,null,null,null,null,null,null,"","","",{"$f":"IF(U40=\"\",\"\",MEDIAN(IF(($U$25:$U$15023<>\"\")*($V$25:$V$15023=V40),$U$25:$U$15023)))","v":""},"","","",null,"","","","","","","","","","","","","","",""]
[null,null,null,null,null,null,null,null,null,null,null,null,null,null,null,null,null,null,null,null,"","","",{"$f":"IF(U41=\"\",\"\",MEDIAN(IF(($U$25:$U$15023<>\"\")*($V$25:$V$15023=V41),$U$25:$U$15023)))","v":""},"","","",null,"","","","","","","","","","","","","","",""]
[null,null,null,null,null,null,null,null,null,null,null,null,null,null,null,null,null,null,null,null,"","","",{"$f":"IF(U42=\"\",\"\",MEDIAN(IF(($U$25:$U$15023<>\"\")*($V$25:$V$15023=V42),$U$25:$U$15023)))","v":""},"","","",null,"","","","","","","","","","","","","","",""]
[null,null,null,null,null,null,null,null,null,null,null,null,null,null,null,null,null,null,null,null,"","","",{"$f":"IF(U43=\"\",\"\",MEDIAN(IF(($U$25:$U$15023<>\"\")*($V$25:$V$15023=V43),$U$25:$U$15023)))","v":""},"","","",null,"","","","","","","","","","","","","","",""]
[null,null,null,null,null,null,null,null,null,null,null,null,null,null,null,null,null,null,null,null,"","","",{"$f":"IF(U44=\"\",\"\",MEDIAN(IF(($U$25:$U$15023<>\"\")*($V$25:$V$15023=V44),$U$25:$U$15023)))","v":""},"","","",null,"","","","","","","","","","","","","","",""]
[null,null,null,null,null,null,null,null,null,null,null,null,null,null,null,null,null,null,null,null,"","","",{"$f":"IF(U45=\"\",\"\",MEDIAN(IF(($U$25:$U$15023<>\"\")*($V$25:$V$15023=V45),$U$25:$U$15023)))","v":""},"","","",null,"","","","","","","","","","","","","","",""]
[null,null,null,null,null,null,null,null,null,null,null,null,null,null,null,null,null,null,null,null,"","","",{"$f":"IF(U46=\"\",\"\",MEDIAN(IF(($U$25:$U$15023<>\"\")*($V$25:$V$15023=V46),$U$25:$U$15023)))","v":""},"","","",null,"","","","","","","","","","","","","","",""]
[null,null,null,null,null,null,null,null,null,null,null,null,null,null,null,null,null,null,null,null,"","","",{"$f":"IF(U47=\"\",\"\",MEDIAN(IF(($U$25:$U$15023<>\"\")*($V$25:$V$15023=V47),$U$25:$U$15023)))","v":""},"","","",null,"","","","","","","","","","","","","","",""]
[null,null,null,null,null,null,null,null,null,null,null,null,null,null,null,null,null,null,null,null,"","","",{"$f":"IF(U48=\"\",\"\",MEDIAN(IF(($U$25:$U$15023<>\"\")*($V$25:$V$15023=V48),$U$25:$U$15023)))","v":""},"","","",null,"","","","","","","","","","","","","","",""]
[null,null,null,null,null,null,null,null,null,null,null,null,null,null,null,null,null,null,null,null,"","","",{"$f":"IF(U49=\"\",\"\",MEDIAN(IF(($U$25:$U$15023<>\"\")*($V$25:$V$15023=V49),$U$25:$U$15023)))","v":""},"","","",null,"","","","","","","","","","","","","","",""]
[null,null,null,null,null,null,null,null,null,null,null,null,null,null,null,null,null,null,null,null,"","","",{"$f":"IF(U50=\"\",\"\",MEDIAN(IF(($U$25:$U$15023<>\"\")*($V$25:$V$15023=V50),$U$25:$U$15023)))","v":""},"","","",null,"","","","","","","","","","","","","","",""]
[null,null,null,null,null,null,null,null,null,null,null,null,null,null,null,null,null,null,null,null,"","","",{"$f":"IF(U51=\"\",\"\",MEDIAN(IF(($U$25:$U$15023<>\"\")*($V$25:$V$15023=V51),$U$25:$U$15023)))","v":""},"","","",null,"","","","","","","","","","","","","","",""]
[null,null,null,null,null,null,null,null,null,null,null,null,null,null,null,null,null,null,null,null,"","","",{"$f":"IF(U52=\"\",\"\",MEDIAN(IF(($U$25:$U$15023<>\"\")*($V$25:$V$15023=V52),$U$25:$U$15023)))","v":""},"","","",null,"","","","","","","","","","","","","","",""]
[null,null,null,null,null,null,null,null,null,null,null,null,null,null,null,null,null,null,null,null,"","","",{"$f":"IF(U53=\"\",\"\",MEDIAN(IF(($U$25:$U$15023<>\"\")*($V$25:$V$15023=V53),$U$25:$U$15023)))","v":""},"","","",null,"","","","","","","","","","","","","","",""]
[null,null,null,null,null,null,null,null,null,null,null,null,null,null,null,null,null,null,null,null,"","","",{"$f":"IF(U54=\"\",\"\",MEDIAN(IF(($U$25:$U$15023<>\"\")*($V$25:$V$15023=V54),$U$25:$U$15023)))","v":""},"","","",null,"","","","","","","","","","","","","","",""]
[null,null,null,null,null,null,null,null,null,null,null,null,null,null,null,null,null,null,null,null,"","","",{"$f":"IF(U55=\"\",\"\",MEDIAN(IF(($U$25:$U$15023<>\"\")*($V$25:$V$15023=V55),$U$25:$U$15023)))","v":""},"","","",null,"","","","","","","","","","","","","","",""]
[null,null,null,null,null,null,null,null,null,null,null,null,null,null,null,null,null,null,null,null,"","","",{"$f":"IF(U56=\"\",\"\",MEDIAN(IF(($U$25:$U$15023<>\"\")*($V$25:$V$15023=V56),$U$25:$U$15023)))","v":""},"","","",null,"","","","","","","","","","","","","","",""]
[null,null,null,null,null,null,null,null,null,null,null,null,null,null,null,null,null,null,null,null,"","","",{"$f":"IF(U57=\"\",\"\",MEDIAN(IF(($U$25:$U$15023<>\"\")*($V$25:$V$15023=V57),$U$25:$U$15023)))","v":""},"","","",null,"","","","","","","","","","","","","","",""]
[null,null,null,null,null,null,null,null,null,null,null,null,null,null,null,null,null,null,null,null,"","","",{"$f":"IF(U58=\"\",\"\",MEDIAN(IF(($U$25:$U$15023<>\"\")*($V$25:$V$15023=V58),$U$25:$U$15023)))","v":""},"","","",null,"","","","","","","","","","","","","","",""]
[null,null,null,null,null,null,null,null,null,null,null,null,null,null,null,null,null,null,null,null,"","","",{"$f":"IF(U59=\"\",\"\",MEDIAN(IF(($U$25:$U$15023<>\"\")*($V$25:$V$15023=V59),$U$25:$U$15023)))","v":""},"","","",null,"","","","","","","","","","","","","","",""]
[null,null,null,null,null,null,null,null,null,null,null,null,null,null,null,null,null,null,null,null,"","","",{"$f":"IF(U60=\"\",\"\",MEDIAN(IF(($U$25:$U$15023<>\"\")*($V$25:$V$15023=V60),$U$25:$U$15023)))","v":""},"","","",null,"","","","","","","","","","","","","","",""]
[null,null,null,null,null,null,null,null,null,null,null,null,null,null,null,null,null,null,null,null,"","","",{"$f":"IF(U61=\"\",\"\",MEDIAN(IF(($U$25:$U$15023<>\"\")*($V$25:$V$15023=V61),$U$25:$U$15023)))","v":""},"","","",null,"","","","","","","","","","","","","","",""]
[null,null,null,null,null,null,null,null,null,null,null,null,null,null,null,null,null,null,null,null,"","","",{"$f":"IF(U62=\"\",\"\",MEDIAN(IF(($U$25:$U$15023<>\"\")*($V$25:$V$15023=V62),$U$25:$U$15023)))","v":""},"","","",null,"","","","","","","","","","","","","","",""]
[null,null,null,null,null,null,null,null,null,null,null,null,null,null,null,null,null,null,null,null,"","","",{"$f":"IF(U63=\"\",\"\",MEDIAN(IF(($U$25:$U$15023<>\"\")*($V$25:$V$15023=V63),$U$25:$U$15023)))","v":""},"","","",null,"","","","","","","","","","","","","","",""]
[null,null,null,null,null,null,null,null,null,null,null,null,null,null,null,null,null,null,null,null,"","","",{"$f":"IF(U64=\"\",\"\",MEDIAN(IF(($U$25:$U$15023<>\"\")*($V$25:$V$15023=V64),$U$25:$U$15023)))","v":""},"","","",null,"","","","","","","","","","","","","","",""]
[null,null,null,null,null,null,null,null,null,null,null,null,null,null,null,null,null,null,null,null,"","","",{"$f":"IF(U65=\"\",\"\",MEDIAN(IF(($U$25:$U$15023<>\"\")*($V$25:$V$15023=V65),$U$25:$U$15023)))","v":""},"","","",null,"","","","","","","","","","","","","","",""]
[null,null,null,null,null,null,null,null,null,null,null,null,null,null,null,null,null,null,null,null,"","","",{"$f":"IF(U66=\"\",\"\",MEDIAN(IF(($U$25:$U$15023<>\"\")*($V$25:$V$15023=V66),$U$25:$U$15023)))","v":""},"","","",null,"","","","","","","","","","","","","","",""]
[null,null,null,null,null,null,null,null,null,null,null,null,null,null,null,null,null,null,null,null,"","","",{"$f":"IF(U67=\"\",\"\",MEDIAN(IF(($U$25:$U$15023<>\"\")*($V$25:$V$15023=V67),$U$25:$U$15023)))","v":""},"","","",null,"","","","","","","","","","","","","","",""]
[null,null,null,null,null,null,null,null,null,null,null,null,null,null,null,null,null,null,null,null,"","","",{"$f":"IF(U68=\"\",\"\",MEDIAN(IF(($U$25:$U$15023<>\"\")*($V$25:$V$15023=V68),$U$25:$U$15023)))","v":""},"","","",null,"","","","","","","","","","","","","","",""]
[null,null,null,null,null,null,null,null,null,null,null,null,null,null,null,null,null,null,null,null,"","","",{"$f":"IF(U69=\"\",\"\",MEDIAN(IF(($U$25:$U$15023<>\"\")*($V$25:$V$15023=V69),$U$25:$U$15023)))","v":""},"","","",null,"","","","","","","","","","","","","","",""]
[null,null,null,null,null,null,null,null,null,null,null,null,null,null,null,null,null,null,null,null,"","","",{"$f":"IF(U70=\"\",\"\",MEDIAN(IF(($U$25:$U$15023<>\"\")*($V$25:$V$15023=V70),$U$25:$U$15023)))","v":""},"","","",null,"","","","","","","","","","","","","","",""]
[null,null,null,null,null,null,null,null,null,null,null,null,null,null,null,null,null,null,null,null,"","","",{"$f":"IF(U71=\"\",\"\",MEDIAN(IF(($U$25:$U$15023<>\"\")*($V$25:$V$15023=V71),$U$25:$U$15023)))","v":""},"","","",null,"","","","","","","","","","","","","","",""]
[null,null,null,null,null,null,null,null,null,null,null,null,null,null,null,null,null,null,null,null,"","","",{"$f":"IF(U72=\"\",\"\",MEDIAN(IF(($U$25:$U$15023<>\"\")*($V$25:$V$15023=V72),$U$25:$U$15023)))","v":""},"","","",null,"","","","","","","","","","","","","","",""]
[null,null,null,null,null,null,null,null,null,null,null,null,null,null,null,null,null,null,null,null,"","","",{"$f":"IF(U73=\"\",\"\",MEDIAN(IF(($U$25:$U$15023<>\"\")*($V$25:$V$15023=V73),$U$25:$U$15023)))","v":""},"","","",null,"","","","","","","","","","","","","","",""]
[null,null,null,null,null,null,null,null,null,null,null,null,null,null,null,null,null,null,null,null,"","","",{"$f":"IF(U74=\"\",\"\",MEDIAN(IF(($U$25:$U$15023<>\"\")*($V$25:$V$15023=V74),$U$25:$U$15023)))","v":""},"","","",null,"","","","","","","","","","","","","","",""]
[null,null,null,null,null,null,null,null,null,null,null,null,null,null,null,null,null,null,null,null,"","","",{"$f":"IF(U75=\"\",\"\",MEDIAN(IF(($U$25:$U$15023<>\"\")*($V$25:$V$15023=V75),$U$25:$U$15023)))","v":""},"","","",null,"","","","","","","","","","","","","","",""]
[null,null,null,null,null,null,null,null,null,null,null,null,null,null,null,null,null,null,null,null,"","","",{"$f":"IF(U76=\"\",\"\",MEDIAN(IF(($U$25:$U$15023<>\"\")*($V$25:$V$15023=V76),$U$25:$U$15023)))","v":""},"","","",null,"","","","","","","","","","","","","","",""]
[null,null,null,null,null,null,null,null,null,null,null,null,null,null,null,null,null,null,null,null,"","","",{"$f":"IF(U77=\"\",\"\",MEDIAN(IF(($U$25:$U$15023<>\"\")*($V$25:$V$15023=V77),$U$25:$U$15023)))","v":""},"","","",null,"","","","","","","","","","","","","","",""]
[null,null,null,null,null,null,null,null,null,null,null,null,null,null,null,null,null,null,null,null,"","","",{"$f":"IF(U78=\"\",\"\",MEDIAN(IF(($U$25:$U$15023<>\"\")*($V$25:$V$15023=V78),$U$25:$U$15023)))","v":""},"","","",null,"","","","","","","","","","","","","","",""]
[null,null,null,null,null,null,null,null,null,null,null,null,null,null,null,null,null,null,null,null,"","","",{"$f":"IF(U79=\"\",\"\",MEDIAN(IF(($U$25:$U$15023<>\"\")*($V$25:$V$15023=V79),$U$25:$U$15023)))","v":""},"","","",null,"","","","","","","","","","","","","","",""]
[null,null,null,null,null,null,null,null,null,null,null,null,null,null,null,null,null,null,null,null,"","","",{"$f":"IF(U80=\"\",\"\",MEDIAN(IF(($U$25:$U$15023<>\"\")*($V$25:$V$15023=V80),$U$25:$U$15023)))","v":""},"","","",null,"","","","","","","","","","","","","","",""]
[null,null,null,null,null,null,null,null,null,null,null,null,null,null,null,null,null,null,null,null,"","","",{"$f":"IF(U81=\"\",\"\",MEDIAN(IF(($U$25:$U$15023<>\"\")*($V$25:$V$15023=V81),$U$25:$U$15023)))","v":""},"","","",null,"","","","","","","","","","","","","","",""]
[null,null,null,null,null,null,null,null,null,null,null,null,null,null,null,null,null,null,null,null,"","","",{"$f":"IF(U82=\"\",\"\",MEDIAN(IF(($U$25:$U$15023<>\"\")*($V$25:$V$15023=V82),$U$25:$U$15023)))","v":""},"","","",null,"","","","","","","","","","","","","","",""]
[null,null,null,null,null,null,null,null,null,null,null,null,null,null,null,null,null,null,null,null,"","","",{"$f":"IF(U83=\"\",\"\",MEDIAN(IF(($U$25:$U$15023<>\"\")*($V$25:$V$15023=V83),$U$25:$U$15023)))","v":""},"","","",null,"","","","","","","","","","","","","","",""]
[null,null,null,null,null,null,null,null,null,null,null,null,null,null,null,null,null,null,null,null,"","","",{"$f":"IF(U84=\"\",\"\",MEDIAN(IF(($U$25:$U$15023<>\"\")*($V$25:$V$15023=V84),$U$25:$U$15023)))","v":""},"","","",null,"","","","","","","","","","","","","","",""]
[null,null,null,null,null,null,null,null,null,null,null,null,null,null,null,null,null,null,null,null,"","","",{"$f":"IF(U85=\"\",\"\",MEDIAN(IF(($U$25:$U$15023<>\"\")*($V$25:$V$15023=V85),$U$25:$U$15023)))","v":""},"","","",null,"","","","","","","","","","","","","","",""]
[null,null,null,null,null,null,null,null,null,null,null,null,null,null,null,null,null,null,null,null,"","","",{"$f":"IF(U86=\"\",\"\",MEDIAN(IF(($U$25:$U$15023<>\"\")*($V$25:$V$15023=V86),$U$25:$U$15023)))","v":""},"","","",null,"","","","","","","","","","","","","","",""]
[null,null,null,null,null,null,null,null,null,null,null,null,null,null,null,null,null,null,null,null,"","","",{"$f":"IF(U87=\"\",\"\",MEDIAN(IF(($U$25:$U$15023<>\"\")*($V$25:$V$15023=V87),$U$25:$U$15023)))","v":""},"","","",null,"","","","","","","","","","","","","","",""]
[null,null,null,null,null,null,null,null,null,null,null,null,null,null,null,null,null,null,null,null,"","","",{"$f":"IF(U88=\"\",\"\",MEDIAN(IF(($U$25:$U$15023<>\"\")*($V$25:$V$15023=V88),$U$25:$U$15023)))","v":""},"","","",null,"","","","","","","","","","","","","","",""]
[null,null,null,null,null,null,null,null,null,null,null,null,null,null,null,null,null,null,null,null,"","","",{"$f":"IF(U89=\"\",\"\",MEDIAN(IF(($U$25:$U$15023<>\"\")*($V$25:$V$15023=V89),$U$25:$U$15023)))","v":""},"","","",null,"","","","","","","","","","","","","","",""]
[null,null,null,null,null,null,null,null,null,null,null,null,null,null,null,null,null,null,null,null,{"$f":"IF(A90=\"\",\"\",A90)","v":""},{"$f":"IF(B90=\"\",\"\",B90)","v":""},{"$f":"IF(U90=\"\",\"\",RANK(U90,$U$25:$U$15023,1)+(COUNT($U$25:$U$15023)+1-RANK(U90,$U$25:$U$15023,0)-RANK(U90,$U$25:$U$15023,1))/2)","v":""},{"$f":"IF(U90=\"\",\"\",MEDIAN(IF(($U$25:$U$15023<>\"\")*($V$25:$V$15023=V90),$U$25:$U$15023)))","v":""},{"$f":"IF(U90=\"\",\"\",ABS(X90-U90))","v":""},{"$f":"IF(V90=\"\",\"\",AVERAGEIF($V$25:$V$15023,V90,$Y$25:$Y$15023))","v":""},{"$f":"IF(V90=\"\",\"\",(Y90-Z90)^2)","v":""},null,"","","","","","","","","","","","","","",""]
[null,null,null,null,null,null,null,null,null,null,null,null,null,null,null,null,null,null,null,null,"","","",{"$f":"IF(U91=\"\",\"\",MEDIAN(IF(($U$25:$U$15023<>\"\")*($V$25:$V$15023=V91),$U$25:$U$15023)))","v":""},"","","",null,"","","","","","","","","","","","","","",""]
[null,null,null,null,null,null,null,null,null,null,null,null,null,null,null,null,null,null,null,null,"","","",{"$f":"IF(U92=\"\",\"\",MEDIAN(IF(($U$25:$U$15023<>\"\")*($V$25:$V$15023=V92),$U$25:$U$15023)))","v":""},"","","",null,"","","","","","","","","","","","","","",""]
[null,null,null,null,null,null,null,null,null,null,null,null,null,null,null,null,null,null,null,null,"","","",{"$f":"IF(U93=\"\",\"\",MEDIAN(IF(($U$25:$U$15023<>\"\")*($V$25:$V$15023=V93),$U$25:$U$15023)))","v":""},"","","",null,"","","","","","","","","","","","","","",""]
[null,null,null,null,null,null,null,null,null,null,null,null,null,null,null,null,null,null,null,null,"","","",{"$f":"IF(U94=\"\",\"\",MEDIAN(IF(($U$25:$U$15023<>\"\")*($V$25:$V$15023=V94),$U$25:$U$15023)))","v":""},"","","",null,"","","","","","","","","","","","","","",""]
[null,null,null,null,null,null,null,null,null,null,null,null,null,null,null,null,null,null,null,null,"","","",{"$f":"IF(U95=\"\",\"\",MEDIAN(IF(($U$25:$U$15023<>\"\")*($V$25:$V$15023=V95),$U$25:$U$15023)))","v":""},"","","",null,"","","","","","","","","","","","","","",""]
[null,null,null,null,null,null,null,null,null,null,null,null,null,null,null,null,null,null,null,null,"","","",{"$f":"IF(U96=\"\",\"\",MEDIAN(IF(($U$25:$U$15023<>\"\")*($V$25:$V$15023=V96),$U$25:$U$15023)))","v":""},"","","",null,"","","","","","","","","","","","","","","",null,null,{"$f":"IF(D96=\"\",\"\",ABS(D96-MEDIAN(D$25:D$1024)))","v":""},{"$f":"IF(E96=\"\",\"\",ABS(E96-MEDIAN(E$25:E$1024)))","v":""},{"$f":"IF(F96=\"\",\"\",ABS(F96-MEDIAN(F$25:F$1024)))","v":""},{"$f":"IF(G96=\"\",\"\",ABS(G96-MEDIAN(G$25:G$1024)))","v":""},{"$f":"IF(H96=\"\",\"\",ABS(H96-MEDIAN(H$25:H$1024)))","v":""},{"$f":"IF(I96=\"\",\"\",ABS(I96-MEDIAN(I$25:I$1024)))","v":""},{"$f":"IF(J96=\"\",\"\",ABS(J96-MEDIAN(J$25:J$1024)))","v":""},{"$f":"IF(K96=\"\",\"\",ABS(K96-MEDIAN(K$25:K$1024)))","v":""},{"$f":"IF(L96=\"\",\"\",ABS(L96-MEDIAN(L$25:L$1024)))","v":""},{"$f":"IF(M96=\"\",\"\",ABS(M96-MEDIAN(M$25:M$1024)))","v":""},{"$f":"IF(N96=\"\",\"\",ABS(N96-MEDIAN(N$25:N$1024)))","v":""},{"$f":"IF(O96=\"\",\"\",ABS(O96-MEDIAN(O$25:O$1024)))","v":""},{"$f":"IF(P96=\"\",\"\",ABS(P96-MEDIAN(P$25:P$1024)))","v":""},{"$f":"IF(Q96=\"\",\"\",ABS(Q96-MEDIAN(Q$25:Q$1024)))","v":""},{"$f":"IF(R96=\"\",\"\",ABS(R96-MEDIAN(R$25:R$1024)))","v":""},null,{"$f":"IF(AT96=\"\",\"\",(AT96-AT$22)^2)","v":""},{"$f":"IF(AU96=\"\",\"\",(AU96-AU$22)^2)","v":""},{"$f":"IF(AV96=\"\",\"\",(AV96-AV$22)^2)","v":""},{"$f":"IF(AW96=\"\",\"\",(AW96-AW$22)^2)","v":""},{"$f":"IF(AX96=\"\",\"\",(AX96-AX$22)^2)","v":""},{"$f":"IF(AY96=\"\",\"\",(AY96-AY$22)^2)","v":""},{"$f":"IF(AZ96=\"\",\"\",(AZ96-AZ$22)^2)","v":""},{"$f":"IF(BA96=\"\",\"\",(BA96-BA$22)^2)","v":""},{"$f":"IF(BB96=\"\",\"\",(BB96-BB$22)^2)","v":""},{"$f":"IF(BC96=\"\",\"\",(BC96-BC$22)^2)","v":""},{"$f":"IF(BD96=\"\",\"\",(BD96-BD$22)^2)","v":""},{"$f":"IF(BE96=\"\",\"\",(BE96-BE$22)^2)","v":""},{"$f":"IF(BF96=\"\",\"\",(BF96-BF$22)^2)","v":""},{"$f":"IF(BG96=\"\",\"\",(BG96-BG$22)^2)","v":""},{"$f":"IF(BH96=\"\",\"\",(BH96-BH$22)^2)","v":""}]
[null,null,null,null,null,null,null,null,null,null,null,null,null,null,null,null,null,null,null,null,"","","",{"$f":"IF(U97=\"\",\"\",MEDIAN(IF(($U$25:$U$15023<>\"\")*($V$25:$V$15023=V97),$U$25:$U$15023)))","v":""},"","","",null,{"$f":"IF(D97=\"\",\"\",RANK(D97,$D$25:$R$1024,1)+(COUNT($D$25:$R$1024)+1-RANK(D97,$D$25:$R$1024,0)-RANK(D97,$D$25:$R$1024,1))/2)","v":""},{"$f":"IF(E97=\"\",\"\",RANK(E97,$D$25:$R$1024,1)+(COUNT($D$25:$R$1024)+1-RANK(E97,$D$25:$R$1024,0)-RANK(E97,$D$25:$R$1024,1))/2)","v":""},{"$f":"IF(F97=\"\",\"\",RANK(F97,$D$25:$R$1024,1)+(COUNT($D$25:$R$1024)+1-RANK(F97,$D$25:$R$1024,0)-RANK(F97,$D$25:$R$1024,1))/2)","v":""},{"$f":"IF(G97=\"\",\"\",RANK(G97,$D$25:$R$1024,1)+(COUNT($D$25:$R$1024)+1-RANK(G97,$D$25:$R$1024,0)-RANK(G97,$D$25:$R$1024,1))/2)","v":""},{"$f":"IF(H97=\"\",\"\",RANK(H97,$D$25:$R$1024,1)+(COUNT($D$25:$R$1024)+1-RANK(H97,$D$25:$R$1024,0)-RANK(H97,$D$25:$R$1024,1))/2)","v":""},{"$f":"IF(I97=\"\",\"\",RANK(I97,$D$25:$R$1024,1)+(COUNT($D$25:$R$1024)+1-RANK(I97,$D$25:$R$1024,0)-RANK(I97,$D$25:$R$1024,1))/2)","v":""},{"$f":"IF(J97=\"\",\"\",RANK(J97,$D$25:$R$1024,1)+(COUNT($D$25:$R$1024)+1-RANK(J97,$D$25:$R$1024,0)-RANK(J97,$D$25:$R$1024,1))/2)","v":""},{"$f":"IF(K97=\"\",\"\",RANK(K97,$D$25:$R$1024,1)+(COUNT($D$25:$R$1024)+1-RANK(K97,$D$25:$R$1024,0)-RANK(K97,$D$25:$R$1024,1))/2)","v":""},{"$f":"IF(L97=\"\",\"\",RANK(L97,$D$25:$R$1024,1)+(COUNT($D$25:$R$1024)+1-RANK(L97,$D$25:$R$1024,0)-RANK(L97,$D$25:$R$1024,1))/2)","v":""},{"$f":"IF(M97=\"\",\"\",RANK(M97,$D$25:$R$1024,1)+(COUNT($D$25:$R$1024)+1-RANK(M97,$D$25:$R$1024,0)-RANK(M97,$D$25:$R$1024,1))/2)","v":""},{"$f":"IF(N97=\"\",\"\",RANK(N97,$D$25:$R$1024,1)+(COUNT($D$25:$R$1024)+1-RANK(N97,$D$25:$R$1024,0)-RANK(N97,$D$25:$R$1024,1))/2)","v":""},{"$f":"IF(O97=\"\",\"\",RANK(O97,$D$25:$R$1024,1)+(COUNT($D$25:$R$1024)+1-RANK(O97,$D$25:$R$1024,0)-RANK(O97,$D$25:$R$1024,1))/2)","v":""},{"$f":"IF(P97=\"\",\"\",RANK(P97,$D$25:$R$1024,1)+(COUNT($D$25:$R$1024)+1-RANK(P97,$D$25:$R$1024,0)-RANK(P97,$D$25:$R$1024,1))/2)","v":""},{"$f":"IF(Q97=\"\",\"\",RANK(Q97,$D$25:$R$1024,1)+(COUNT($D$25:$R$1024)+1-RANK(Q97,$D$25:$R$1024,0)-RANK(Q97,$D$25:$R$1024,1))/2)","v":""},{"$f":"IF(R97=\"\",\"\",RANK(R97,$D$25:$R$1024,1)+(COUNT($D$25:$R$1024)+1-RANK(R97,$D$25:$R$1024,0)-RANK(R97,$D$25:$R$1024,1))/2)","v":""},null,null,"","","","","","","","","","","","","","","",null,"","","","","","","","","","","","","","",""]
[null,null,null,null,null,null,null,null,null,null,null,null,null,null,null,null,null,null,null,null,"","","",{"$f":"IF(U98=\"\",\"\",MEDIAN(IF(($U$25:$U$15023<>\"\")*($V$25:$V$15023=V98),$U$25:$U$15023)))","v":""},"","","",null,"","","","","","","","","","","","","","","",null,null,"","","","","","","","","","","","","","","",null,"","","","","","","","","","","","","","",""]
[null,null,null,null,null,null,null,null,null,null,null,null,null,null,null,null,null,null,null,null,"","","",{"$f":"IF(U99=\"\",\"\",MEDIAN(IF(($U$25:$U$15023<>\"\")*($V$25:$V$15023=V99),$U$25:$U$15023)))","v":""},"","","",null,"","","","","","","","","","","","","","","",null,null,"","","","","","","","","","","","","","","",null,"","","","","","","","","","","","","","",""]
[null,null,null,null,null,null,null,null,null,null,null,null,null,null,null,null,null,null,null,null,"","","",{"$f":"IF(U100=\"\",\"\",MEDIAN(IF(($U$25:$U$15023<>\"\")*($V$25:$V$15023=V100),$U$25:$U$15023)))","v":""},"","","",null,"","","","","","","","","","","","","","","",null,null,"","","","","","","","","","","","","","","",null,"","","","","","","","","","","","","","",""]
[null,null,null,null,null,null,null,null,null,null,null,null,null,null,null,null,null,null,null,null,"","","",{"$f":"IF(U101=\"\",\"\",MEDIAN(IF(($U$25:$U$15023<>\"\")*($V$25:$V$15023=V101),$U$25:$U$15023)))","v":""},"","","",null,"","","","","","","","","","","","","","","",null,null,"","","","","","","","","","","","","","","",null,"","","","","","","","","","","","","","",""]
[null,null,null,null,null,null,null,null,null,null,null,null,null,null,null,null,null,null,null,null,"","","",{"$f":"IF(U102=\"\",\"\",MEDIAN(IF(($U$25:$U$15023<>\"\")*($V$25:$V$15023=V102),$U$25:$U$15023)))","v":""},"","","",null,"","","","","","","","","","","","","","","",null,null,"","","","","","","","","","","","","","","",null,"","","","","","","","","","","","","","",""]
[null,null,null,null,null,null,null,null,null,null,null,null,null,null,null,null,null,null,null,null,"","","",{"$f":"IF(U103=\"\",\"\",MEDIAN(IF(($U$25:$U$15023<>\"\")*($V$25:$V$15023=V103),$U$25:$U$15023)))","v":""},"","","",null,"","","","","","","","","","","","","","","",null,null,"","","","","","","","","","","","","","","",null,"","","","","","","","","","","","","","",""]
[null,null,null,null,null,null,null,null,null,null,null,null,null,null,null,null,null,null,null,null,"","","",{"$f":"IF(U104=\"\",\"\",MEDIAN(IF(($U$25:$U$15023<>\"\")*($V$25:$V$15023=V104),$U$25:$U$15023)))","v":""},"","","",null,"","","","","","","","","","","","","","","",null,null,"","","","","","","","","","","","","","","",null,"","","","","","","","","","","","","","",""]
[null,null,null,null,null,null,null,null,null,null,null,null,null,null,null,null,null,null,null,null,"","","",{"$f":"IF(U105=\"\",\"\",MEDIAN(IF(($U$25:$U$15023<>\"\")*($V$25:$V$15023=V105),$U$25:$U$15023)))","v":""},"","","",null,"","","","","","","","","","","","","","","",null,null,"","","","","","","","","","","","","","","",null,"","","","","","","","","","","","","","",""]
[null,null,null,null,null,null,null,null,null,null,null,null,null,null,null,null,null,null,null,null,"","","",{"$f":"IF(U106=\"\",\"\",MEDIAN(IF(($U$25:$U$15023<>\"\")*($V$25:$V$15023=V106),$U$25:$U$15023)))","v":""},"","","",null,"","","","","","","","","","","","","","","",null,null,"","","","","","","","","","","","","","","",null,"","","","","","","","","","","","","","",""]
[null,null,null,null,null,null,null,null,null,null,null,null,null,null,null,null,null,null,null,null,"","","",{"$f":"IF(U107=\"\",\"\",MEDIAN(IF(($U$25:$U$15023<>\"\")*($V$25:$V$15023=V107),$U$25:$U$15023)))","v":""},"","","",null,"","","","","","","","","","","","","","","",null,null,"","","","","","","","","","","","","","","",null,"","","","","","","","","","","","","","",""]
[null,null,null,null,null,null,null,null,null,null,null,null,null,null,null,null,null,null,null,null,"","","",{"$f":"IF(U108=\"\",\"\",MEDIAN(IF(($U$25:$U$15023<>\"\")*($V$25:$V$15023=V108),$U$25:$U$15023)))","v":""},"","","",null,"","","","","","","","","","","","","","","",null,null,"","","","","","","","","","","","","","","",null,"","","","","","","","","","","","","","",""]
[null,null,null,null,null,null,null,null,null,null,null,null,null,null,null,null,null,null,null,null,"","","",{"$f":"IF(U109=\"\",\"\",MEDIAN(IF(($U$25:$U$15023<>\"\")*($V$25:$V$15023=V109),$U$25:$U$15023)))","v":""},"","","",null,"","","","","","","","","","","","","","","",null,null,"","","","","","","","","","","","","","","",null,"","","","","","","","","","","","","","",""]
[null,null,null,null,null,null,null,null,null,null,null,null,null,null,null,null,null,null,null,null,"","","",{"$f":"IF(U110=\"\",\"\",MEDIAN(IF(($U$25:$U$15023<>\"\")*($V$25:$V$15023=V110),$U$25:$U$15023)))","v":""},"","","",null,"","","","","","","","","","","","","","","",null,null,"","","","","","","","","","","","","","","",null,"","","","","","","","","","","","","","",""]
[null,null,null,null,null,null,null,null,null,null,null,null,null,null,null,null,null,null,null,null,"","","",{"$f":"IF(U111=\"\",\"\",MEDIAN(IF(($U$25:$U$15023<>\"\")*($V$25:$V$15023=V111),$U$25:$U$15023)))","v":""},"","","",null,"","","","","","","","","","","","","","","",null,null,"","","","","","","","","","","","","","","",null,"","","","","","","","","","","","","","",""]
[null,null,null,null,null,null,null,null,null,null,null,null,null,null,null,null,null,null,null,null,"","","",{"$f":"IF(U112=\"\",\"\",MEDIAN(IF(($U$25:$U$15023<>\"\")*($V$25:$V$15023=V112),$U$25:$U$15023)))","v":""},"","","",null,"","","","","","","","","","","","","","","",null,null,"","","","","","","","","","","","","","","",null,"","","","","","","","","","","","","","",""]
[null,null,null,null,null,null,null,null,null,null,null,null,null,null,null,null,null,null,null,null,"","","",{"$f":"IF(U113=\"\",\"\",MEDIAN(IF(($U$25:$U$15023<>\"\")*($V$25:$V$15023=V113),$U$25:$U$15023)))","v":""},"","","",null,"","","","","","","","","","","","","","","",null,null,"","","","","","","","","","","","","","","",null,"","","","","","","","","","","","","","",""]
[null,null,null,null,null,null,null,null,null,null,null,null,null,null,null,null,null,null,null,null,"","","",{"$f":"IF(U114=\"\",\"\",MEDIAN(IF(($U$25:$U$15023<>\"\")*($V$25:$V$15023=V114),$U$25:$U$15023)))","v":""},"","","",null,"","","","","","","","","","","","","","","",null,null,"","","","","","","","","","","","","","","",null,"","","","","","","","","","","","","","",""]
[null,null,null,null,null,null,null,null,null,null,null,null,null,null,null,null,null,null,null,null,"","","",{"$f":"IF(U115=\"\",\"\",MEDIAN(IF(($U$25:$U$15023<>\"\")*($V$25:$V$15023=V115),$U$25:$U$15023)))","v":""},"","","",null,"","","","","","","","","","","","","","","",null,null,"","","","","","","","","","","","","","","",null,"","","","","","","","","","","","","","",""]
[null,null,null,null,null,null,null,null,null,null,null,null,null,null,null,null,null,null,null,null,"","","",{"$f":"IF(U116=\"\",\"\",MEDIAN(IF(($U$25:$U$15023<>\"\")*($V$25:$V$15023=V116),$U$25:$U$15023)))","v":""},"","","",null,"","","","","","","","","","","","","","","",null,null,"","","","","","","","","","","","","","","",null,"","","","","","","","","","","","","","",""]
[null,null,null,null,null,null,null,null,null,null,null,null,null,null,null,null,null,null,null,null,"","","",{"$f":"IF(U117=\"\",\"\",MEDIAN(IF(($U$25:$U$15023<>\"\")*($V$25:$V$15023=V117),$U$25:$U$15023)))","v":""},"","","",null,"","","","","","","","","","","","","","","",null,null,"","","","","","","","","","","","","","","",null,"","","","","","","","","","","","","","",""]
[null,null,null,null,null,null,null,null,null,null,null,null,null,null,null,null,null,null,null,null,"","","",{"$f":"IF(U118=\"\",\"\",MEDIAN(IF(($U$25:$U$15023<>\"\")*($V$25:$V$15023=V118),$U$25:$U$15023)))","v":""},"","","",null,"","","","","","","","","","","","","","","",null,null,"","","","","","","","","","","","","","","",null,"","","","","","","","","","","","","","",""]
[null,null,null,null,null,null,null,null,null,null,null,null,null,null,null,null,null,null,null,null,"","","",{"$f":"IF(U119=\"\",\"\",MEDIAN(IF(($U$25:$U$15023<>\"\")*($V$25:$V$15023=V119),$U$25:$U$15023)))","v":""},"","","",null,"","","","","","","","","","","","","","","",null,null,"","","","","","","","","","","","","","","",null,"","","","","","","","","","","","","","",""]
[null,null,null,null,null,null,null,null,null,null,null,null,null,null,null,null,null,null,null,null,"","","",{"$f":"IF(U120=\"\",\"\",MEDIAN(IF(($U$25:$U$15023<>\"\")*($V$25:$V$15023=V120),$U$25:$U$15023)))","v":""},"","","",null,"","","","","","","","","","","","","","","",null,null,"","","","","","","","","","","","","","","",null,"","","","","","","","","","","","","","",""]
[null,null,null,null,null,null,null,null,null,null,null,null,null,null,null,null,null,null,null,null,"","","",{"$f":"IF(U121=\"\",\"\",MEDIAN(IF(($U$25:$U$15023<>\"\")*($V$25:$V$15023=V121),$U$25:$U$15023)))","v":""},"","","",null,"","","","","","","","","","","","","","","",null,null,"","","","","","","","","","","","","","","",null,"","","","","","","","","","","","","","",""]
[null,null,null,null,null,null,null,null,null,null,null,null,null,null,null,null,null,null,null,null,"","","",{"$f":"IF(U122=\"\",\"\",MEDIAN(IF(($U$25:$U$15023<>\"\")*($V$25:$V$15023=V122),$U$25:$U$15023)))","v":""},"","","",null,"","","","","","","","","","","","","","","",null,null,"","","","","","","","","","","","","","","",null,"","","","","","","","","","","","","","",""]
[null,null,null,null,null,null,null,null,null,null,null,null,null,null,null,null,null,null,null,null,"","","",{"$f":"IF(U123=\"\",\"\",MEDIAN(IF(($U$25:$U$15023<>\"\")*($V$25:$V$15023=V123),$U$25:$U$15023)))","v":""},"","","",null,"","","","","","","","","","","","","","","",null,null,"","","","","","","","","","","","","","","",null,"","","","","","","","","","","","","","",""]
[null,null,null,null,null,null,null,null,null,null,null,null,null,null,null,null,null,null,null,null,"","","",{"$f":"IF(U124=\"\",\"\",MEDIAN(IF(($U$25:$U$15023<>\"\")*($V$25:$V$15023=V124),$U$25:$U$15023)))","v":""},"","","",null,"","","","","","","","","","","","","","","",null,null,"","","","","","","","","","","","","","","",null,"","","","","","","","","","","","","","",""]
[null,null,null,null,null,null,null,null,null,null,null,null,null,null,null,null,null,null,null,null,"","","",{"$f":"IF(U125=\"\",\"\",MEDIAN(IF(($U$25:$U$15023<>\"\")*($V$25:$V$15023=V125),$U$25:$U$15023)))","v":""},"","","",null,"","","","","","","","","","","","","","","",null,null,"","","","","","","","","","","","","","","",null,"","","","","","","","","","","","","","",""]
[null,null,null,null,null,null,null,null,null,null,null,null,null,null,null,null,null,null,null,null,"","","",{"$f":"IF(U126=\"\",\"\",MEDIAN(IF(($U$25:$U$15023<>\"\")*($V$25:$V$15023=V126),$U$25:$U$15023)))","v":""},"","","",null,"","","","","","","","","","","","","","","",null,null,"","","","","","","","","","","","","","","",null,"","","","","","","","","","","","","","",""]
[null,null,null,null,null,null,null,null,null,null,null,null,null,null,null,null,null,null,null,null,"","","",{"$f":"IF(U127=\"\",\"\",MEDIAN(IF(($U$25:$U$15023<>\"\")*($V$25:$V$15023=V127),$U$25:$U$15023)))","v":""},"","","",null,"","","","","","","","","","","","","","","",null,null,"","","","","","","","","","","","","","","",null,"","","","","","","","","","","","","","",""]
[null,null,null,null,null,null,null,null,null,null,null,null,null,null,null,null,null,null,null,null,"","","",{"$f":"IF(U128=\"\",\"\",MEDIAN(IF(($U$25:$U$15023<>\"\")*($V$25:$V$15023=V128),$U$25:$U$15023)))","v":""},"","","",null,"","","","","","","","","","","","","","","",null,null,"","","","","","","","","","","","","","","",null,"","","","","","","","","","","","","","",""]
[null,null,null,null,null,null,null,null,null,null,null,null,null,null,null,null,null,null,null,null,"","","",{"$f":"IF(U129=\"\",\"\",MEDIAN(IF(($U$25:$U$15023<>\"\")*($V$25:$V$15023=V129),$U$25:$U$15023)))","v":""},"","","",null,"","","","","","","","","","","","","","","",null,null,"","","","","","","","","","","","","","","",null,"","","","","","","","","","","","","","",""]
[null,null,null,null,null,null,null,null,null,null,null,null,null,null,null,null,null,null,null,null,"","","",{"$f":"IF(U130=\"\",\"\",MEDIAN(IF(($U$25:$U$15023<>\"\")*($V$25:$V$15023=V130),$U$25:$U$15023)))","v":""},"","","",null,"","","","","","","","","","","","","","","",null,null,"","","","","","","","","","","","","","","",null,"","","","","","","","","","","","","","",""]
[null,null,null,null,null,null,null,null,null,null,null,null,null,null,null,null,null,null,null,null,"","","",{"$f":"IF(U131=\"\",\"\",MEDIAN(IF(($U$25:$U$15023<>\"\")*($V$25:$V$15023=V131),$U$25:$U$15023)))","v":""},"","","",null,"","","","","","","","","","","","","","","",null,null,"","","","","","","","","","","","","","","",null,"","","","","","","","","","","","","","",""]
[null,null,null,null,null,null,null,null,null,null,null,null,null,null,null,null,null,null,null,null,"","","",{"$f":"IF(U132=\"\",\"\",MEDIAN(IF(($U$25:$U$15023<>\"\")*($V$25:$V$15023=V132),$U$25:$U$15023)))","v":""},"","","",null,"","","","","","","","","","","","","","","",null,null,"","","","","","","","","","","","","","","",null,"","","","","","","","","","","","","","",""]
[null,null,null,null,null,null,null,null,null,null,null,null,null,null,null,null,null,null,null,null,"","","",{"$f":"IF(U133=\"\",\"\",MEDIAN(IF(($U$25:$U$15023<>\"\")*($V$25:$V$15023=V133),$U$25:$U$15023)))","v":""},"","","",null,"","","","","","","","","","","","","","","",null,null,"","","","","","","","","","","","","","","",null,"","","","","","","","","","","","","","",""]
[null,null,null,null,null,null,null,null,null,null,null,null,null,null,null,null,null,null,null,null,"","","",{"$f":"IF(U134=\"\",\"\",MEDIAN(IF(($U$25:$U$15023<>\"\")*($V$25:$V$15023=V134),$U$25:$U$15023)))","v":""},"","","",null,"","","","","","","","","","","","","","","",null,null,"","","","","","","","","","","","","","","",null,"","","","","","","","","","","","","","",""]
[null,null,null,null,null,null,null,null,null,null,null,null,null,null,null,null,null,null,null,null,"","","",{"$f":"IF(U135=\"\",\"\",MEDIAN(IF(($U$25:$U$15023<>\"\")*($V$25:$V$15023=V135),$U$25:$U$15023)))","v":""},"","","",null,"","","","","","","","","","","","","","","",null,null,"","","","","","","","","","","","","","","",null,"","","","","","","","","","","","","","",""]
[null,null,null,null,null,null,null,null,null,null,null,null,null,null,null,null,null,null,null,null,"","","",{"$f":"IF(U136=\"\",\"\",MEDIAN(IF(($U$25:$U$15023<>\"\")*($V$25:$V$15023=V136),$U$25:$U$15023)))","v":""},"","","",null,"","","","","","","","","","","","","","","",null,null,"","","","","","","","","","","","","","","",null,"","","","","","","","","","","","","","",""]
[null,null,null,null,null,null,null,null,null,null,null,null,null,null,null,null,null,null,null,null,"","","",{"$f":"IF(U137=\"\",\"\",MEDIAN(IF(($U$25:$U$15023<>\"\")*($V$25:$V$15023=V137),$U$25:$U$15023)))","v":""},"","","",null,"","","","","","","","","","","","","","","",null,null,"","","","","","","","","","","","","","","",null,"","","","","","","","","","","","","","",""]
[null,null,null,null,null,null,null,null,null,null,null,null,null,null,null,null,null,null,null,null,"","","",{"$f":"IF(U138=\"\",\"\",MEDIAN(IF(($U$25:$U$15023<>\"\")*($V$25:$V$15023=V138),$U$25:$U$15023)))","v":""},"","","",null,"","","","","","","","","","","","","","","",null,null,"","","","","","","","","","","","","","","",null,"","","","","","","","","","","","","","",""]
[null,null,null,null,null,null,null,null,null,null,null,null,null,null,null,null,null,null,null,null,"","","",{"$f":"IF(U139=\"\",\"\",MEDIAN(IF(($U$25:$U$15023<>\"\")*($V$25:$V$15023=V139),$U$25:$U$15023)))","v":""},"","","",null,"","","","","","","","","","","","","","","",null,null,"","","","","","","","","","","","","","","",null,"","","","","","","","","","","","","","",""]
[null,null,null,null,null,null,null,null,null,null,null,null,null,null,null,null,null,null,null,null,"","","",{"$f":"IF(U140=\"\",\"\",MEDIAN(IF(($U$25:$U$15023<>\"\")*($V$25:$V$15023=V140),$U$25:$U$15023)))","v":""},"","","",null,"","","","","","","","","","","","","","","",null,null,"","","","","","","","","","","","","","","",null,"","","","","","","","","","","","","","",""]
[null,null,null,null,null,null,null,null,null,null,null,null,null,null,null,null,null,null,null,null,"","","",{"$f":"IF(U141=\"\",\"\",MEDIAN(IF(($U$25:$U$15023<>\"\")*($V$25:$V$15023=V141),$U$25:$U$15023)))","v":""},"","","",null,"","","","","","","","","","","","","","","",null,null,"","","","","","","","","","","","","","","",null,"","","","","","","","","","","","","","",""]
[null,null,null,null,null,null,null,null,null,null,null,null,null,null,null,null,null,null,null,null,"","","",{"$f":"IF(U142=\"\",\"\",MEDIAN(IF(($U$25:$U$15023<>\"\")*($V$25:$V$15023=V142),$U$25:$U$15023)))","v":""},"","","",null,"","","","","","","","","","","","","","","",null,null,"","","","","","","","","","","","","","","",null,"","","","","","","","","","","","","","",""]
[null,null,null,null,null,null,null,null,null,null,null,null,null,null,null,null,null,null,null,null,"","","",{"$f":"IF(U143=\"\",\"\",MEDIAN(IF(($U$25:$U$15023<>\"\")*($V$25:$V$15023=V143),$U$25:$U$15023)))","v":""},"","","",null,"","","","","","","","","","","","","","","",null,null,"","","","","","","","","","","","","","","",null,"","","","","","","","","","","","","","",""]
[null,null,null,null,null,null,null,null,null,null,null,null,null,null,null,null,null,null,null,null,"","","",{"$f":"IF(U144=\"\",\"\",MEDIAN(IF(($U$25:$U$15023<>\"\")*($V$25:$V$15023=V144),$U$25:$U$15023)))","v":""},"","","",null,"","","","","","","","","","","","","","","",null,null,"","","","","","","","","","","","","","","",null,"","","","","","","","","","","","","","",""]
[null,null,null,null,null,null,null,null,null,null,null,null,null,null,null,null,null,null,null,null,"","","",{"$f":"IF(U145=\"\",\"\",MEDIAN(IF(($U$25:$U$15023<>\"\")*($V$25:$V$15023=V145),$U$25:$U$15023)))","v":""},"","","",null,"","","","","","","","","","","","","","","",null,null,"","","","","","","","","","","","","","","",null,"","","","","","","","","","","","","","",""]
[null,null,null,null,null,null,null,null,null,null,null,null,null,null,null,null,null,null,null,null,"","","",{"$f":"IF(U146=\"\",\"\",MEDIAN(IF(($U$25:$U$15023<>\"\")*($V$25:$V$15023=V146),$U$25:$U$15023)))","v":""},"","","",null,"","","","","","","","","","","","","","","",null,null,"","","","","","","","","","","","","","","",null,"","","","","","","","","","","","","","",""]
[null,null,null,null,null,null,null,null,null,null,null,null,null,null,null,null,null,null,null,null,"","","",{"$f":"IF(U147=\"\",\"\",MEDIAN(IF(($U$25:$U$15023<>\"\")*($V$25:$V$15023=V147),$U$25:$U$15023)))","v":""},"","","",null,"","","","","","","","","","","","","","","",null,null,"","","","","","","","","","","","","","","",null,"","","","","","","","","","","","","","",""]
[null,null,null,null,null,null,null,null,null,null,null,null,null,null,null,null,null,null,null,null,"","","",{"$f":"IF(U148=\"\",\"\",MEDIAN(IF(($U$25:$U$15023<>\"\")*($V$25:$V$15023=V148),$U$25:$U$15023)))","v":""},"","","",null,"","","","","","","","","","","","","","","",null,null,"","","","","","","","","","","","","","","",null,"","","","","","","","","","","","","","",""]
[null,null,null,null,null,null,null,null,null,null,null,null,null,null,null,null,null,null,null,null,"","","",{"$f":"IF(U149=\"\",\"\",MEDIAN(IF(($U$25:$U$15023<>\"\")*($V$25:$V$15023=V149),$U$25:$U$15023)))","v":""},"","","",null,"","","","","","","","","","","","","","","",null,null,"","","","","","","","","","","","","","","",null,"","","","","","","","","","","","","","",""]
[null,null,null,null,null,null,null,null,null,null,null,null,null,null,null,null,null,null,null,null,"","","",{"$f":"IF(U150=\"\",\"\",MEDIAN(IF(($U$25:$U$15023<>\"\")*($V$25:$V$15023=V150),$U$25:$U$15023)))","v":""},"","","",null,"","","","","","","","","","","","","","","",null,null,"","","","","","","","","","","","","","","",null,"","","","","","","","","","","","","","",""]
[null,null,null,null,null,null,null,null,null,null,null,null,null,null,null,null,null,null,null,null,"","","",{"$f":"IF(U151=\"\",\"\",MEDIAN(IF(($U$25:$U$15023<>\"\")*($V$25:$V$15023=V151),$U$25:$U$15023)))","v":""},"","","",null,"","","","","","","","","","","","","","","",null,null,"","","","","","","","","","","","","","","",null,"","","","","","","","","","","","","","",""]
[null,null,null,null,null,null,null,null,null,null,null,null,null,null,null,null,null,null,null,null,"","","",{"$f":"IF(U152=\"\",\"\",MEDIAN(IF(($U$25:$U$15023<>\"\")*($V$25:$V$15023=V152),$U$25:$U$15023)))","v":""},"","","",null,"","","","","","","","","","","","","","","",null,null,"","","","","","","","","","","","","","","",null,"","","","","","","","","","","","","","",""]
[null,null,null,null,null,null,null,null,null,null,null,null,null,null,null,null,null,null,null,null,"","","",{"$f":"IF(U153=\"\",\"\",MEDIAN(IF(($U$25:$U$15023<>\"\")*($V$25:$V$15023=V153),$U$25:$U$15023)))","v":""},"","","",null,"","","","","","","","","","","","","","","",null,null,"","","","","","","","","","","","","","","",null,"","","","","","","","","","","","","","",""]
[null,null,null,null,null,null,null,null,null,null,null,null,null,null,null,null,null,null,null,null,{"$f":"IF(A154=\"\",\"\",A154)","v":""},{"$f":"IF(B154=\"\",\"\",B154)","v":""},{"$f":"IF(U154=\"\",\"\",RANK(U154,$U$25:$U$15023,1)+(COUNT($U$25:$U$15023)+1-RANK(U154,$U$25:$U$15023,0)-RANK(U154,$U$25:$U$15023,1))/2)","v":""},{"$f":"IF(U154=\"\",\"\",MEDIAN(IF(($U$25:$U$15023<>\"\")*($V$25:$V$15023=V154),$U$25:$U$15023)))","v":""},{"$f":"IF(U154=\"\",\"\",ABS(X154-U154))","v":""},{"$f":"IF(V154=\"\",\"\",AVERAGEIF($V$25:$V$15023,V154,$Y$25:$Y$15023))","v":""},{"$f":"IF(V154=\"\",\"\",(Y154-Z154)^2)","v":""},null,"","","","","","","","","","","","","","","",null,null,{"$f":"IF(D154=\"\",\"\",ABS(D154-MEDIAN(D$25:D$1024)))","v":""},{"$f":"IF(E154=\"\",\"\",ABS(E154-MEDIAN(E$25:E$1024)))","v":""},{"$f":"IF(F154=\"\",\"\",ABS(F154-MEDIAN(F$25:F$1024)))","v":""},{"$f":"IF(G154=\"\",\"\",ABS(G154-MEDIAN(G$25:G$1024)))","v":""},{"$f":"IF(H154=\"\",\"\",ABS(H154-MEDIAN(H$25:H$1024)))","v":""},{"$f":"IF(I154=\"\",\"\",ABS(I154-MEDIAN(I$25:I$1024)))","v":""},{"$f":"IF(J154=\"\",\"\",ABS(J154-MEDIAN(J$25:J$1024)))","v":""},{"$f":"IF(K154=\"\",\"\",ABS(K154-MEDIAN(K$25:K$1024)))","v":""},{"$f":"IF(L154=\"\",\"\",ABS(L154-MEDIAN(L$25:L$1024)))","v":""},{"$f":"IF(M154=\"\",\"\",ABS(M154-MEDIAN(M$25:M$1024)))","v":""},{"$f":"IF(N154=\"\",\"\",ABS(N154-MEDIAN(N$25:N$1024)))","v":""},{"$f":"IF(O154=\"\",\"\",ABS(O154-MEDIAN(O$25:O$1024)))","v":""},{"$f":"IF(P154=\"\",\"\",ABS(P154-MEDIAN(P$25:P$1024)))","v":""},{"$f":"IF(Q154=\"\",\"\",ABS(Q154-MEDIAN(Q$25:Q$1024)))","v":""},{"$f":"IF(R154=\"\",\"\",ABS(R154-MEDIAN(R$25:R$1024)))","v":""},null,{"$f":"IF(AT154=\"\",\"\",(AT154-AT$22)^2)","v":""},{"$f":"IF(AU154=\"\",\"\",(AU154-AU$22)^2)","v":""},{"$f":"IF(AV154=\"\",\"\",(AV154-AV$22)^2)","v":""},{"$f":"IF(AW154=\"\",\"\",(AW154-AW$22)^2)","v":""},{"$f":"IF(AX154=\"\",\"\",(AX154-AX$22)^2)","v":""},{"$f":"IF(AY154=\"\",\"\",(AY154-AY$22)^2)","v":""},{"$f":"IF(AZ154=\"\",\"\",(AZ154-AZ$22)^2)","v":""},{"$f":"IF(BA154=\"\",\"\",(BA154-BA$22)^2)","v":""},{"$f":"IF(BB154=\"\",\"\",(BB154-BB$22)^2)","v":""},{"$f":"IF(BC154=\"\",\"\",(BC154-BC$22)^2)","v":""},{"$f":"IF(BD154=\"\",\"\",(BD154-BD$22)^2)","v":""},{"$f":"IF(BE154=\"\",\"\",(BE154-BE$22)^2)","v":""},{"$f":"IF(BF154=\"\",\"\",(BF154-BF$22)^2)","v":""},{"$f":"IF(BG154=\"\",\"\",(BG154-BG$22)^2)","v":""},{"$f":"IF(BH154=\"\",\"\",(BH154-BH$22)^2)","v":""}]
[null,null,null,null,null,null,null,null,null,null,null,null,null,null,null,null,null,null,null,null,"","","",{"$f":"IF(U155=\"\",\"\",MEDIAN(IF(($U$25:$U$15023<>\"\")*($V$25:$V$15023=V155),$U$25:$U$15023)))","v":""},"","","",null,"","","","","","","","","","","","","","","",null,null,"","","","","","","","","","","","","","","",null,"","","","","","","","","","","","","","",""]
[null,null,null,null,null,null,null,null,null,null,null,null,null,null,null,null,null,null,null,null,"","","",{"$f":"IF(U156=\"\",\"\",MEDIAN(IF(($U$25:$U$15023<>\"\")*($V$25:$V$15023=V156),$U$25:$U$15023)))","v":""},"","","",null,"","","","","","","","","","","","","","","",null,null,"","","","","","","","","","","","","","","",null,"","","","","","","","","","","","","","",""]
[null,null,null,null,null,null,null,null,null,null,null,null,null,null,null,null,null,null,null,null,"","","",{"$f":"IF(U157=\"\",\"\",MEDIAN(IF(($U$25:$U$15023<>\"\")*($V$25:$V$15023=V157),$U$25:$U$15023)))","v":""},"","","",null,"","","","","","","","","","","","","","","",null,null,"","","","","","","","","","","","","","","",null,"","","","","","","","","","","","","","",""]
[null,null,null,null,null,null,null,null,null,null,null,null,null,null,null,null,null,null,null,null,"","","",{"$f":"IF(U158=\"\",\"\",MEDIAN(IF(($U$25:$U$15023<>\"\")*($V$25:$V$15023=V158),$U$25:$U$15023)))","v":""},"","","",null,"","","","","","","","","","","","","","","",null,null,"","","","","","","","","","","","","","","",null,"","","","","","","","","","","","","","",""]
[null,null,null,null,null,null,null,null,null,null,null,null,null,null,null,null,null,null,null,null,"","","",{"$f":"IF(U159=\"\",\"\",MEDIAN(IF(($U$25:$U$15023<>\"\")*($V$25:$V$15023=V159),$U$25:$U$15023)))","v":""},"","","",null,"","","","","","","","","","","","","","","",null,null,"","","","","","","","","","","","","","","",null,"","","","","","","","","","","","","","",""]
[null,null,null,null,null,null,null,null,null,null,null,null,null,null,null,null,null,null,null,null,"","","",{"$f":"IF(U160=\"\",\"\",MEDIAN(IF(($U$25:$U$15023<>\"\")*($V$25:$V$15023=V160),$U$25:$U$15023)))","v":""},"","","",null,"","","","","","","","","","","","","","","",null,null,"","","","","","","","","","","","","","","",null,"","","","","","","","","","","","","","",""]
[null,null,null,null,null,null,null,null,null,null,null,null,null,null,null,null,null,null,null,null,"","","",{"$f":"IF(U161=\"\",\"\",MEDIAN(IF(($U$25:$U$15023<>\"\")*($V$25:$V$15023=V161),$U$25:$U$15023)))","v":""},"","","",null,{"$f":"IF(D161=\"\",\"\",RANK(D161,$D$25:$R$1024,1)+(COUNT($D$25:$R$1024)+1-RANK(D161,$D$25:$R$1024,0)-RANK(D161,$D$25:$R$1024,1))/2)","v":""},{"$f":"IF(E161=\"\",\"\",RANK(E161,$D$25:$R$1024,1)+(COUNT($D$25:$R$1024)+1-RANK(E161,$D$25:$R$1024,0)-RANK(E161,$D$25:$R$1024,1))/2)","v":""},{"$f":"IF(F161=\"\",\"\",RANK(F161,$D$25:$R$1024,1)+(COUNT($D$25:$R$1024)+1-RANK(F161,$D$25:$R$1024,0)-RANK(F161,$D$25:$R$1024,1))/2)","v":""},{"$f":"IF(G161=\"\",\"\",RANK(G161,$D$25:$R$1024,1)+(COUNT($D$25:$R$1024)+1-RANK(G161,$D$25:$R$1024,0)-RANK(G161,$D$25:$R$1024,1))/2)","v":""},{"$f":"IF(H161=\"\",\"\",RANK(H161,$D$25:$R$1024,1)+(COUNT($D$25:$R$1024)+1-RANK(H161,$D$25:$R$1024,0)-RANK(H161,$D$25:$R$1024,1))/2)","v":""},{"$f":"IF(I161=\"\",\"\",RANK(I161,$D$25:$R$1024,1)+(COUNT($D$25:$R$1024)+1-RANK(I161,$D$25:$R$1024,0)-RANK(I161,$D$25:$R$1024,1))/2)","v":""},{"$f":"IF(J161=\"\",\"\",RANK(J161,$D$25:$R$1024,1)+(COUNT($D$25:$R$1024)+1-RANK(J161,$D$25:$R$1024,0)-RANK(J161,$D$25:$R$1024,1))/2)","v":""},{"$f":"IF(K161=\"\",\"\",RANK(K161,$D$25:$R$1024,1)+(COUNT($D$25:$R$1024)+1-RANK(K161,$D$25:$R$1024,0)-RANK(K161,$D$25:$R$1024,1))/2)","v":""},{"$f":"IF(L161=\"\",\"\",RANK(L161,$D$25:$R$1024,1)+(COUNT($D$25:$R$1024)+1-RANK(L161,$D$25:$R$1024,0)-RANK(L161,$D$25:$R$1024,1))/2)","v":""},{"$f":"IF(M161=\"\",\"\",RANK(M161,$D$25:$R$1024,1)+(COUNT($D$25:$R$1024)+1-RANK(M161,$D$25:$R$1024,0)-RANK(M161,$D$25:$R$1024,1))/2)","v":""},{"$f":"IF(N161=\"\",\"\",RANK(N161,$D$25:$R$1024,1)+(COUNT($D$25:$R$1024)+1-RANK(N161,$D$25:$R$1024,0)-RANK(N161,$D$25:$R$1024,1))/2)","v":""},{"$f":"IF(O161=\"\",\"\",RANK(O161,$D$25:$R$1024,1)+(COUNT($D$25:$R$1024)+1-RANK(O161,$D$25:$R$1024,0)-RANK(O161,$D$25:$R$1024,1))/2)","v":""},{"$f":"IF(P161=\"\",\"\",RANK(P161,$D$25:$R$1024,1)+(COUNT($D$25:$R$1024)+1-RANK(P161,$D$25:$R$1024,0)-RANK(P161,$D$25:$R$1024,1))/2)","v":""},{"$f":"IF(Q161=\"\",\"\",RANK(Q161,$D$25:$R$1024,1)+(COUNT($D$25:$R$1024)+1-RANK(Q161,$D$25:$R$1024,0)-RANK(Q161,$D$25:$R$1024,1))/2)","v":""},{"$f":"IF(R161=\"\",\"\",RANK(R161,$D$25:$R$1024,1)+(COUNT($D$25:$R$1024)+1-RANK(R161,$D$25:$R$1024,0)-RANK(R161,$D$25:$R$1024,1))/2)","v":""},null,null,"","","","","","","","","","","","","","","",null,"","","","","","","","","","","","","","",""]
[null,null,null,null,null,null,null,null,null,null,null,null,null,null,null,null,null,null,null,null,"","","",{"$f":"IF(U162=\"\",\"\",MEDIAN(IF(($U$25:$U$15023<>\"\")*($V$25:$V$15023=V162),$U$25:$U$15023)))","v":""},"","","",null,"","","","","","","","","","","","","","","",null,null,"","","","","","","","","","","","","","","",null,"","","","","","","","","","","","","","",""]
[null,null,null,null,null,null,null,null,null,null,null,null,null,null,null,null,null,null,null,null,"","","",{"$f":"IF(U163=\"\",\"\",MEDIAN(IF(($U$25:$U$15023<>\"\")*($V$25:$V$15023=V163),$U$25:$U$15023)))","v":""},"","","",null,"","","","","","","","","","","","","","","",null,null,"","","","","","","","","","","","","","","",null,"","","","","","","","","","","","","","",""]
[null,null,null,null,null,null,null,null,null,null,null,null,null,null,null,null,null,null,null,null,"","","",{"$f":"IF(U164=\"\",\"\",MEDIAN(IF(($U$25:$U$15023<>\"\")*($V$25:$V$15023=V164),$U$25:$U$15023)))","v":""},"","","",null,"","","","","","","","","","","","","","","",null,null,"","","","","","","","","","","","","","","",null,"","","","","","","","","","","","","","",""]
[null,null,null,null,null,null,null,null,null,null,null,null,null,null,null,null,null,null,null,null,"","","",{"$f":"IF(U165=\"\",\"\",MEDIAN(IF(($U$25:$U$15023<>\"\")*($V$25:$V$15023=V165),$U$25:$U$15023)))","v":""},"","","",null,"","","","","","","","","","","","","","","",null,null,"","","","","","","","","","","","","","","",null,"","","","","","","","","","","","","","",""]
[null,null,null,null,null,null,null,null,null,null,null,null,null,null,null,null,null,null,null,null,"","","",{"$f":"IF(U166=\"\",\"\",MEDIAN(IF(($U$25:$U$15023<>\"\")*($V$25:$V$15023=V166),$U$25:$U$15023)))","v":""},"","","",null,"","","","","","","","","","","","","","","",null,null,"","","","","","","","","","","","","","","",null,"","","","","","","","","","","","","","",""]
[null,null,null,null,null,null,null,null,null,null,null,null,null,null,null,null,null,null,null,null,"","","",{"$f":"IF(U167=\"\",\"\",MEDIAN(IF(($U$25:$U$15023<>\"\")*($V$25:$V$15023=V167),$U$25:$U$15023)))","v":""},"","","",null,"","","","","","","","","","","","","","","",null,null,"","","","","","","","","","","","","","","",null,"","","","","","","","","","","","","","",""]
[null,null,null,null,null,null,null,null,null,null,null,null,null,null,null,null,null,null,null,null,"","","",{"$f":"IF(U168=\"\",\"\",MEDIAN(IF(($U$25:$U$15023<>\"\")*($V$25:$V$15023=V168),$U$25:$U$15023)))","v":""},"","","",null,"","","","","","","","","","","","","","","",null,null,"","","","","","","","","","","","","","","",null,"","","","","","","","","","","","","","",""]
[null,null,null,null,null,null,null,null,null,null,null,null,null,null,null,null,null,null,null,null,"","","",{"$f":"IF(U169=\"\",\"\",MEDIAN(IF(($U$25:$U$15023<>\"\")*($V$25:$V$15023=V169),$U$25:$U$15023)))","v":""},"","","",null,"","","","","","","","","","","","","","","",null,null,"","","","","","","","","","","","","","","",null,"","","","","","","","","","","","","","",""]
[null,null,null,null,null,null,null,null,null,null,null,null,null,null,null,null,null,null,null,null,"","","",{"$f":"IF(U170=\"\",\"\",MEDIAN(IF(($U$25:$U$15023<>\"\")*($V$25:$V$15023=V170),$U$25:$U$15023)))","v":""},"","","",null,"","","","","","","","","","","","","","","",null,null,"","","","","","","","","","","","","","","",null,"","","","","","","","","","","","","","",""]
[null,null,null,null,null,null,null,null,null,null,null,null,null,null,null,null,null,null,null,null,"","","",{"$f":"IF(U171=\"\",\"\",MEDIAN(IF(($U$25:$U$15023<>\"\")*($V$25:$V$15023=V171),$U$25:$U$15023)))","v":""},"","","",null,"","","","","","","","","","","","","","","",null,null,"","","","","","","","","","","","","","","",null,"","","","","","","","","","","","","","",""]
[null,null,null,null,null,null,null,null,null,null,null,null,null,null,null,null,null,null,null,null,"","","",{"$f":"IF(U172=\"\",\"\",MEDIAN(IF(($U$25:$U$15023<>\"\")*($V$25:$V$15023=V172),$U$25:$U$15023)))","v":""},"","","",null,"","","","","","","","","","","","","","","",null,null,"","","","","","","","","","","","","","","",null,"","","","","","","","","","","","","","",""]
[null,null,null,null,null,null,null,null,null,null,null,null,null,null,null,null,null,null,null,null,"","","",{"$f":"IF(U173=\"\",\"\",MEDIAN(IF(($U$25:$U$15023<>\"\")*($V$25:$V$15023=V173),$U$25:$U$15023)))","v":""},"","","",null,"","","","","","","","","","","","","","","",null,null,"","","","","","","","","","","","","","","",null,"","","","","","","","","","","","","","",""]
[null,null,null,null,null,null,null,null,null,null,null,null,null,null,null,null,null,null,null,null,"","","",{"$f":"IF(U174=\"\",\"\",MEDIAN(IF(($U$25:$U$15023<>\"\")*($V$25:$V$15023=V174),$U$25:$U$15023)))","v":""},"","","",null,"","","","","","","","","","","","","","","",null,null,"","","","","","","","","","","","","","","",null,"","","","","","","","","","","","","","",""]
[null,null,null,null,null,null,null,null,null,null,null,null,null,null,null,null,null,null,null,null,"","","",{"$f":"IF(U175=\"\",\"\",MEDIAN(IF(($U$25:$U$15023<>\"\")*($V$25:$V$15023=V175),$U$25:$U$15023)))","v":""},"","","",null,"","","","","","","","","","","","","","","",null,null,"","","","","","","","","","","","","","","",null,"","","","","","","","","","","","","","",""]
[null,null,null,null,null,null,null,null,null,null,null,null,null,null,null,null,null,null,null,null,"","","",{"$f":"IF(U176=\"\",\"\",MEDIAN(IF(($U$25:$U$15023<>\"\")*($V$25:$V$15023=V176),$U$25:$U$15023)))","v":""},"","","",null,"","","","","","","","","","","","","","","",null,null,"","","","","","","","","","","","","","","",null,"","","","","","","","","","","","","","",""]
[null,null,null,null,null,null,null,null,null,null,null,null,null,null,null,null,null,null,null,null,"","","",{"$f":"IF(U177=\"\",\"\",MEDIAN(IF(($U$25:$U$15023<>\"\")*($V$25:$V$15023=V177),$U$25:$U$15023)))","v":""},"","","",null,"","","","","","","","","","","","","","","",null,null,"","","","","","","","","","","","","","","",null,"","","","","","","","","","","","","","",""]
[null,null,null,null,null,null,null,null,null,null,null,null,null,null,null,null,null,null,null,null,"","","",{"$f":"IF(U178=\"\",\"\",MEDIAN(IF(($U$25:$U$15023<>\"\")*($V$25:$V$15023=V178),$U$25:$U$15023)))","v":""},"","","",null,"","","","","","","","","","","","","","","",null,null,"","","","","","","","","","","","","","","",null,"","","","","","","","","","","","","","",""]
[null,null,null,null,null,null,null,null,null,null,null,null,null,null,null,null,null,null,null,null,"","","",{"$f":"IF(U179=\"\",\"\",MEDIAN(IF(($U$25:$U$15023<>\"\")*($V$25:$V$15023=V179),$U$25:$U$15023)))","v":""},"","","",null,"","","","","","","","","","","","","","","",null,null,"","","","","","","","","","","","","","","",null,"","","","","","","","","","","","","","",""]
[null,null,null,null,null,null,null,null,null,null,null,null,null,null,null,null,null,null,null,null,"","","",{"$f":"IF(U180=\"\",\"\",MEDIAN(IF(($U$25:$U$15023<>\"\")*($V$25:$V$15023=V180),$U$25:$U$15023)))","v":""},"","","",null,"","","","","","","","","","","","","","","",null,null,"","","","","","","","","","","","","","","",null,"","","","","","","","","","","","","","",""]
[null,null,null,null,null,null,null,null,null,null,null,null,null,null,null,null,null,null,null,null,"","","",{"$f":"IF(U181=\"\",\"\",MEDIAN(IF(($U$25:$U$15023<>\"\")*($V$25:$V$15023=V181),$U$25:$U$15023)))","v":""},"","","",null,"","","","","","","","","","","","","","","",null,null,"","","","","","","","","","","","","","","",null,"","","","","","","","","","","","","","",""]
[null,null,null,null,null,null,null,null,null,null,null,null,null,null,null,null,null,null,null,null,"","","",{"$f":"IF(U182=\"\",\"\",MEDIAN(IF(($U$25:$U$15023<>\"\")*($V$25:$V$15023=V182),$U$25:$U$15023)))","v":""},"","","",null,"","","","","","","","","","","","","","","",null,null,"","","","","","","","","","","","","","","",null,"","","","","","","","","","","","","","",""]
[null,null,null,null,null,null,null,null,null,null,null,null,null,null,null,null,null,null,null,null,"","","",{"$f":"IF(U183=\"\",\"\",MEDIAN(IF(($U$25:$U$15023<>\"\")*($V$25:$V$15023=V183),$U$25:$U$15023)))","v":""},"","","",null,"","","","","","","","","","","","","","","",null,null,"","","","","","","","","","","","","","","",null,"","","","","","","","","","","","","","",""]
[null,null,null,null,null,null,null,null,null,null,null,null,null,null,null,null,null,null,null,null,"","","",{"$f":"IF(U184=\"\",\"\",MEDIAN(IF(($U$25:$U$15023<>\"\")*($V$25:$V$15023=V184),$U$25:$U$15023)))","v":""},"","","",null,"","","","","","","","","","","","","","","",null,null,"","","","","","","","","","","","","","","",null,"","","","","","","","","","","","","","",""]
[null,null,null,null,null,null,null,null,null,null,null,null,null,null,null,null,null,null,null,null,"","","",{"$f":"IF(U185=\"\",\"\",MEDIAN(IF(($U$25:$U$15023<>\"\")*($V$25:$V$15023=V185),$U$25:$U$15023)))","v":""},"","","",null,"","","","","","","","","","","","","","","",null,null,"","","","","","","","","","","","","","","",null,"","","","","","","","","","","","","","",""]
[null,null,null,null,null,null,null,null,null,null,null,null,null,null,null,null,null,null,null,null,"","","",{"$f":"IF(U186=\"\",\"\",MEDIAN(IF(($U$25:$U$15023<>\"\")*($V$25:$V$15023=V186),$U$25:$U$15023)))","v":""},"","","",null,"","","","","","","","","","","","","","","",null,null,"","","","","","","","","","","","","","","",null,"","","","","","","","","","","","","","",""]
[null,null,null,null,null,null,null,null,null,null,null,null,null,null,null,null,null,null,null,null,"","","",{"$f":"IF(U187=\"\",\"\",MEDIAN(IF(($U$25:$U$15023<>\"\")*($V$25:$V$15023=V187),$U$25:$U$15023)))","v":""},"","","",null,"","","","","","","","","","","","","","","",null,null,"","","","","","","","","","","","","","","",null,"","","","","","","","","","","","","","",""]
[null,null,null,null,null,null,null,null,null,null,null,null,null,null,null,null,null,null,null,null,"","","",{"$f":"IF(U188=\"\",\"\",MEDIAN(IF(($U$25:$U$15023<>\"\")*($V$25:$V$15023=V188),$U$25:$U$15023)))","v":""},"","","",null,"","","","","","","","","","","","","","","",null,null,"","","","","","","","","","","","","","","",null,"","","","","","","","","","","","","","",""]
[null,null,null,null,null,null,null,null,null,null,null,null,null,null,null,null,null,null,null,null,"","","",{"$f":"IF(U189=\"\",\"\",MEDIAN(IF(($U$25:$U$15023<>\"\")*($V$25:$V$15023=V189),$U$25:$U$15023)))","v":""},"","","",null,"","","","","","","","","","","","","","","",null,null,"","","","","","","","","","","","","","","",null,"","","","","","","","","","","","","","",""]
[null,null,null,null,null,null,null,null,null,null,null,null,null,null,null,null,null,null,null,null,"","","",{"$f":"IF(U190=\"\",\"\",MEDIAN(IF(($U$25:$U$15023<>\"\")*($V$25:$V$15023=V190),$U$25:$U$15023)))","v":""},"","","",null,"","","","","","","","","","","","","","","",null,null,"","","","","","","","","","","","","","","",null,"","","","","","","","","","","","","","",""]
[null,null,null,null,null,null,null,null,null,null,null,null,null,null,null,null,null,null,null,null,"","","",{"$f":"IF(U191=\"\",\"\",MEDIAN(IF(($U$25:$U$15023<>\"\")*($V$25:$V$15023=V191),$U$25:$U$15023)))","v":""},"","","",null,"","","","","","","","","","","","","","","",null,null,"","","","","","","","","","","","","","","",null,"","","","","","","","","","","","","","",""]
[null,null,null,null,null,null,null,null,null,null,null,null,null,null,null,null,null,null,null,null,"","","",{"$f":"IF(U192=\"\",\"\",MEDIAN(IF(($U$25:$U$15023<>\"\")*($V$25:$V$15023=V192),$U$25:$U$15023)))","v":""},"","","",null,"","","","","","","","","","","","","","","",null,null,"","","","","","","","","","","","","","","",null,"","","","","","","","","","","","","","",""]
[null,null,null,null,null,null,null,null,null,null,null,null,null,null,null,null,null,null,null,null,"","","",{"$f":"IF(U193=\"\",\"\",MEDIAN(IF(($U$25:$U$15023<>\"\")*($V$25:$V$15023=V193),$U$25:$U$15023)))","v":""},"","","",null,"","","","","","","","","","","","","","","",null,null,"","","","","","","","","","","","","","","",null,"","","","","","","","","","","","","","",""]
[null,null,null,null,null,null,null,null,null,null,null,null,null,null,null,null,null,null,null,null,"","","",{"$f":"IF(U194=\"\",\"\",MEDIAN(IF(($U$25:$U$15023<>\"\")*($V$25:$V$15023=V194),$U$25:$U$15023)))","v":""},"","","",null,"","","","","","","","","","","","","","","",null,null,"","","","","","","","","","","","","","","",null,"","","","","","","","","","","","","","",""]
[null,null,null,null,null,null,null,null,null,null,null,null,null,null,null,null,null,null,null,null,"","","",{"$f":"IF(U195=\"\",\"\",MEDIAN(IF(($U$25:$U$15023<>\"\")*($V$25:$V$15023=V195),$U$25:$U$15023)))","v":""},"","","",null,"","","","","","","","","","","","","","","",null,null,"","","","","","","","","","","","","","","",null,"","","","","","","","","","","","","","",""]
[null,null,null,null,null,null,null,null,null,null,null,null,null,null,null,null,null,null,null,null,"","","",{"$f":"IF(U196=\"\",\"\",MEDIAN(IF(($U$25:$U$15023<>\"\")*($V$25:$V$15023=V196),$U$25:$U$15023)))","v":""},"","","",null,"","","","","","","","","","","","","","","",null,null,"","","","","","","","","","","","","","","",null,"","","","","","","","","","","","","","",""]
[null,null,null,null,null,null,null,null,null,null,null,null,null,null,null,null,null,null,null,null,"","","",{"$f":"IF(U197=\"\",\"\",MEDIAN(IF(($U$25:$U$15023<>\"\")*($V$25:$V$15023=V197),$U$25:$U$15023)))","v":""},"","","",null,"","","","","","","","","","","","","","","",null,null,"","","","","","","","","","","","","","","",null,"","","","","","","","","","","","","","",""]
[null,null,null,null,null,null,null,null,null,null,null,null,null,null,null,null,null,null,null,null,"","","",{"$f":"IF(U198=\"\",\"\",MEDIAN(IF(($U$25:$U$15023<>\"\")*($V$25:$V$15023=V198),$U$25:$U$15023)))","v":""},"","","",null,"","","","","","","","","","","","","","","",null,null,"","","","","","","","","","","","","","","",null,"","","","","","","","","","","","","","",""]
[null,null,null,null,null,null,null,null,null,null,null,null,null,null,null,null,null,null,null,null,"","","",{"$f":"IF(U199=\"\",\"\",MEDIAN(IF(($U$25:$U$15023<>\"\")*($V$25:$V$15023=V199),$U$25:$U$15023)))","v":""},"","","",null,"","","","","","","","","","","","","","","",null,null,"","","","","","","","","","","","","","","",null,"","","","","","","","","","","","","","",""]
[null,null,null,null,null,null,null,null,null,null,null,null,null,null,null,null,null,null,null,null,"","","",{"$f":"IF(U200=\"\",\"\",MEDIAN(IF(($U$25:$U$15023<>\"\")*($V$25:$V$15023=V200),$U$25:$U$15023)))","v":""},"","","",null,"","","","","","","","","","","","","","","",null,null,"","","","","","","","","","","","","","","",null,"","","","","","","","","","","","","","",""]
[null,null,null,null,null,null,null,null,null,null,null,null,null,null,null,null,null,null,null,null,"","","",{"$f":"IF(U201=\"\",\"\",MEDIAN(IF(($U$25:$U$15023<>\"\")*($V$25:$V$15023=V201),$U$25:$U$15023)))","v":""},"","","",null,"","","","","","","","","","","","","","","",null,null,"","","","","","","","","","","","","","","",null,"","","","","","","","","","","","","","",""]
[null,null,null,null,null,null,null,null,null,null,null,null,null,null,null,null,null,null,null,null,"","","",{"$f":"IF(U202=\"\",\"\",MEDIAN(IF(($U$25:$U$15023<>\"\")*($V$25:$V$15023=V202),$U$25:$U$15023)))","v":""},"","","",null,"","","","","","","","","","","","","","","",null,null,"","","","","","","","","","","","","","","",null,"","","","","","","","","","","","","","",""]
[null,null,null,null,null,null,null,null,null,null,null,null,null,null,null,null,null,null,null,null,"","","",{"$f":"IF(U203=\"\",\"\",MEDIAN(IF(($U$25:$U$15023<>\"\")*($V$25:$V$15023=V203),$U$25:$U$15023)))","v":""},"","","",null,"","","","","","","","","","","","","","","",null,null,"","","","","","","","","","","","","","","",null,"","","","","","","","","","","","","","",""]
[null,null,null,null,null,null,null,null,null,null,null,null,null,null,null,null,null,null,null,null,"","","",{"$f":"IF(U204=\"\",\"\",MEDIAN(IF(($U$25:$U$15023<>\"\")*($V$25:$V$15023=V204),$U$25:$U$15023)))","v":""},"","","",null,"","","","","","","","","","","","","","","",null,null,"","","","","","","","","","","","","","","",null,"","","","","","","","","","","","","","",""]
[null,null,null,null,null,null,null,null,null,null,null,null,null,null,null,null,null,null,null,null,"","","",{"$f":"IF(U205=\"\",\"\",MEDIAN(IF(($U$25:$U$15023<>\"\")*($V$25:$V$15023=V205),$U$25:$U$15023)))","v":""},"","","",null,"","","","","","","","","","","","","","","",null,null,"","","","","","","","","","","","","","","",null,"","","","","","","","","","","","","","",""]
[null,null,null,null,null,null,null,null,null,null,null,null,null,null,null,null,null,null,null,null,"","","",{"$f":"IF(U206=\"\",\"\",MEDIAN(IF(($U$25:$U$15023<>\"\")*($V$25:$V$15023=V206),$U$25:$U$15023)))","v":""},"","","",null,"","","","","","","","","","","","","","","",null,null,"","","","","","","","","","","","","","","",null,"","","","","","","","","","","","","","",""]
[null,null,null,null,null,null,null,null,null,null,null,null,null,null,null,null,null,null,null,null,"","","",{"$f":"IF(U207=\"\",\"\",MEDIAN(IF(($U$25:$U$15023<>\"\")*($V$25:$V$15023=V207),$U$25:$U$15023)))","v":""},"","","",null,"","","","","","","","","","","","","","","",null,null,"","","","","","","","","","","","","","","",null,"","","","","","","","","","","","","","",""]
[null,null,null,null,null,null,null,null,null,null,null,null,null,null,null,null,null,null,null,null,"","","",{"$f":"IF(U208=\"\",\"\",MEDIAN(IF(($U$25:$U$15023<>\"\")*($V$25:$V$15023=V208),$U$25:$U$15023)))","v":""},"","","",null,"","","","","","","","","","","","","","","",null,null,"","","","","","","","","","","","","","","",null,"","","","","","","","","","","","","","",""]
[null,null,null,null,null,null,null,null,null,null,null,null,null,null,null,null,null,null,null,null,"","","",{"$f":"IF(U209=\"\",\"\",MEDIAN(IF(($U$25:$U$15023<>\"\")*($V$25:$V$15023=V209),$U$25:$U$15023)))","v":""},"","","",null,"","","","","","","","","","","","","","","",null,null,"","","","","","","","","","","","","","","",null,"","","","","","","","","","","","","","",""]
[null,null,null,null,null,null,null,null,null,null,null,null,null,null,null,null,null,null,null,null,"","","",{"$f":"IF(U210=\"\",\"\",MEDIAN(IF(($U$25:$U$15023<>\"\")*($V$25:$V$15023=V210),$U$25:$U$15023)))","v":""},"","","",null,"","","","","","","","","","","","","","","",null,null,"","","","","","","","","","","","","","","",null,"","","","","","","","","","","","","","",""]
[null,null,null,null,null,null,null,null,null,null,null,null,null,null,null,null,null,null,null,null,"","","",{"$f":"IF(U211=\"\",\"\",MEDIAN(IF(($U$25:$U$15023<>\"\")*($V$25:$V$15023=V211),$U$25:$U$15023)))","v":""},"","","",null,"","","","","","","","","","","","","","","",null,null,"","","","","","","","","","","","","","","",null,"","","","","","","","","","","","","","",""]
[null,null,null,null,null,null,null,null,null,null,null,null,null,null,null,null,null,null,null,null,"","","",{"$f":"IF(U212=\"\",\"\",MEDIAN(IF(($U$25:$U$15023<>\"\")*($V$25:$V$15023=V212),$U$25:$U$15023)))","v":""},"","","",null,"","","","","","","","","","","","","","","",null,null,"","","","","","","","","","","","","","","",null,"","","","","","","","","","","","","","",""]
[null,null,null,null,null,null,null,null,null,null,null,null,null,null,null,null,null,null,null,null,"","","",{"$f":"IF(U213=\"\",\"\",MEDIAN(IF(($U$25:$U$15023<>\"\")*($V$25:$V$15023=V213),$U$25:$U$15023)))","v":""},"","","",null,"","","","","","","","","","","","","","","",null,null,"","","","","","","","","","","","","","","",null,"","","","","","","","","","","","","","",""]
[null,null,null,null,null,null,null,null,null,null,null,null,null,null,null,null,null,null,null,null,"","","",{"$f":"IF(U214=\"\",\"\",MEDIAN(IF(($U$25:$U$15023<>\"\")*($V$25:$V$15023=V214),$U$25:$U$15023)))","v":""},"","","",null,"","","","","","","","","","","","","","","",null,null,"","","","","","","","","","","","","","","",null,"","","","","","","","","","","","","","",""]
[null,null,null,null,null,null,null,null,null,null,null,null,null,null,null,null,null,null,null,null,"","","",{"$f":"IF(U215=\"\",\"\",MEDIAN(IF(($U$25:$U$15023<>\"\")*($V$25:$V$15023=V215),$U$25:$U$15023)))","v":""},"","","",null,"","","","","","","","","","","","","","","",null,null,"","","","","","","","","","","","","","","",null,"","","","","","","","","","","","","","",""]
[null,null,null,null,null,null,null,null,null,null,null,null,null,null,null,null,null,null,null,null,"","","",{"$f":"IF(U216=\"\",\"\",MEDIAN(IF(($U$25:$U$15023<>\"\")*($V$25:$V$15023=V216),$U$25:$U$15023)))","v":""},"","","",null,"","","","","","","","","","","","","","","",null,null,"","","","","","","","","","","","","","","",null,"","","","","","","","","","","","","","",""]
[null,null,null,null,null,null,null,null,null,null,null,null,null,null,null,null,null,null,null,null,"","","",{"$f":"IF(U217=\"\",\"\",MEDIAN(IF(($U$25:$U$15023<>\"\")*($V$25:$V$15023=V217),$U$25:$U$15023)))","v":""},"","","",null,"","","","","","","","","","","","","","","",null,null,"","","","","","","","","","","","","","","",null,"","","","","","","","","","","","","","",""]
[null,null,null,null,null,null,null,null,null,null,null,null,null,null,null,null,null,null,null,null,{"$f":"IF(A218=\"\",\"\",A218)","v":""},{"$f":"IF(B218=\"\",\"\",B218)","v":""},{"$f":"IF(U218=\"\",\"\",RANK(U218,$U$25:$U$15023,1)+(COUNT($U$25:$U$15023)+1-RANK(U218,$U$25:$U$15023,0)-RANK(U218,$U$25:$U$15023,1))/2)","v":""},{"$f":"IF(U218=\"\",\"\",MEDIAN(IF(($U$25:$U$15023<>\"\")*($V$25:$V$15023=V218),$U$25:$U$15023)))","v":""},{"$f":"IF(U218=\"\",\"\",ABS(X218-U218))","v":""},{"$f":"IF(V218=\"\",\"\",AVERAGEIF($V$25:$V$15023,V218,$Y$25:$Y$15023))","v":""},{"$f":"IF(V218=\"\",\"\",(Y218-Z218)^2)","v":""},null,"","","","","","","","","","","","","","","",null,null,{"$f":"IF(D218=\"\",\"\",ABS(D218-MEDIAN(D$25:D$1024)))","v":""},{"$f":"IF(E218=\"\",\"\",ABS(E218-MEDIAN(E$25:E$1024)))","v":""},{"$f":"IF(F218=\"\",\"\",ABS(F218-MEDIAN(F$25:F$1024)))","v":""},{"$f":"IF(G218=\"\",\"\",ABS(G218-MEDIAN(G$25:G$1024)))","v":""},{"$f":"IF(H218=\"\",\"\",ABS(H218-MEDIAN(H$25:H$1024)))","v":""},{"$f":"IF(I218=\"\",\"\",ABS(I218-MEDIAN(I$25:I$1024)))","v":""},{"$f":"IF(J218=\"\",\"\",ABS(J218-MEDIAN(J$25:J$1024)))","v":""},{"$f":"IF(K218=\"\",\"\",ABS(K218-MEDIAN(K$25:K$1024)))","v":""},{"$f":"IF(L218=\"\",\"\",ABS(L218-MEDIAN(L$25:L$1024)))","v":""},{"$f":"IF(M218=\"\",\"\",ABS(M218-MEDIAN(M$25:M$1024)))","v":""},{"$f":"IF(N218=\"\",\"\",ABS(N218-MEDIAN(N$25:N$1024)))","v":""},{"$f":"IF(O218=\"\",\"\",ABS(O218-MEDIAN(O$25:O$1024)))","v":""},{"$f":"IF(P218=\"\",\"\",ABS(P218-MEDIAN(P$25:P$1024)))","v":""},{"$f":"IF(Q218=\"\",\"\",ABS(Q218-MEDIAN(Q$25:Q$1024)))","v":""},{"$f":"IF(R218=\"\",\"\",ABS(R218-MEDIAN(R$25:R$1024)))","v":""},null,{"$f":"IF(AT218=\"\",\"\",(AT218-AT$22)^2)","v":""},{"$f":"IF(AU218=\"\",\"\",(AU218-AU$22)^2)","v":""},{"$f":"IF(AV218=\"\",\"\",(AV218-AV$22)^2)","v":""},{"$f":"IF(AW218=\"\",\"\",(AW218-AW$22)^2)","v":""},{"$f":"IF(AX218=\"\",\"\",(AX218-AX$22)^2)","v":""},{"$f":"IF(AY218=\"\",\"\",(AY218-AY$22)^2)","v":""},{"$f":"IF(AZ218=\"\",\"\",(AZ218-AZ$22)^2)","v":""},{"$f":"IF(BA218=\"\",\"\",(BA218-BA$22)^2)","v":""},{"$f":"IF(BB218=\"\",\"\",(BB218-BB$22)^2)","v":""},{"$f":"IF(BC218=\"\",\"\",(BC218-BC$22)^2)","v":""},{"$f":"IF(BD218=\"\",\"\",(BD218-BD$22)^2)","v":""},{"$f":"IF(BE218=\"\",\"\",(BE218-BE$22)^2)","v":""},{"$f":"IF(BF218=\"\",\"\",(BF218-BF$22)^2)","v":""},{"$f":"IF(BG218=\"\",\"\",(BG218-BG$22)^2)","v":""},{"$f":"IF(BH218=\"\",\"\",(BH218-BH$22)^2)","v":""}]
[null,null,null,null,null,null,null,null,null,null,null,null,null,null,null,null,null,null,null,null,"","","",{"$f":"IF(U219=\"\",\"\",MEDIAN(IF(($U$25:$U$15023<>\"\")*($V$25:$V$15023=V219),$U$25:$U$15023)))","v":""},"","","",null,"","","","","","","","","","","","","","","",null,null,"","","","","","","","","","","","","","","",null,"","","","","","","","","","","","","","",""]
[null,null,null,null,null,null,null,null,null,null,null,null,null,null,null,null,null,null,null,null,"","","",{"$f":"IF(U220=\"\",\"\",MEDIAN(IF(($U$25:$U$15023<>\"\")*($V$25:$V$15023=V220),$U$25:$U$15023)))","v":""},"","","",null,"","","","","","","","","","","","","","","",null,null,"","","","","","","","","","","","","","","",null,"","","","","","","","","","","","","","",""]
[null,null,null,null,null,null,null,null,null,null,null,null,null,null,null,null,null,null,null,null,"","","",{"$f":"IF(U221=\"\",\"\",MEDIAN(IF(($U$25:$U$15023<>\"\")*($V$25:$V$15023=V221),$U$25:$U$15023)))","v":""},"","","",null,"","","","","","","","","","","","","","","",null,null,"","","","","","","","","","","","","","","",null,"","","","","","","","","","","","","","",""]
[null,null,null,null,null,null,null,null,null,null,null,null,null,null,null,null,null,null,null,null,"","","",{"$f":"IF(U222=\"\",\"\",MEDIAN(IF(($U$25:$U$15023<>\"\")*($V$25:$V$15023=V222),$U$25:$U$15023)))","v":""},"","","",null,"","","","","","","","","","","","","","","",null,null,"","","","","","","","","","","","","","","",null,"","","","","","","","","","","","","","",""]
[null,null,null,null,null,null,null,null,null,null,null,null,null,null,null,null,null,null,null,null,"","","",{"$f":"IF(U223=\"\",\"\",MEDIAN(IF(($U$25:$U$15023<>\"\")*($V$25:$V$15023=V223),$U$25:$U$15023)))","v":""},"","","",null,"","","","","","","","","","","","","","","",null,null,"","","","","","","","","","","","","","","",null,"","","","","","","","","","","","","","",""]
[null,null,null,null,null,null,null,null,null,null,null,null,null,null,null,null,null,null,null,null,"","","",{"$f":"IF(U224=\"\",\"\",MEDIAN(IF(($U$25:$U$15023<>\"\")*($V$25:$V$15023=V224),$U$25:$U$15023)))","v":""},"","","",null,"","","","","","","","","","","","","","","",null,null,"","","","","","","","","","","","","","","",null,"","","","","","","","","","","","","","",""]
[null,null,null,null,null,null,null,null,null,null,null,null,null,null,null,null,null,null,null,null,"","","",{"$f":"IF(U225=\"\",\"\",MEDIAN(IF(($U$25:$U$15023<>\"\")*($V$25:$V$15023=V225),$U$25:$U$15023)))","v":""},"","","",null,{"$f":"IF(D225=\"\",\"\",RANK(D225,$D$25:$R$1024,1)+(COUNT($D$25:$R$1024)+1-RANK(D225,$D$25:$R$1024,0)-RANK(D225,$D$25:$R$1024,1))/2)","v":""},{"$f":"IF(E225=\"\",\"\",RANK(E225,$D$25:$R$1024,1)+(COUNT($D$25:$R$1024)+1-RANK(E225,$D$25:$R$1024,0)-RANK(E225,$D$25:$R$1024,1))/2)","v":""},{"$f":"IF(F225=\"\",\"\",RANK(F225,$D$25:$R$1024,1)+(COUNT($D$25:$R$1024)+1-RANK(F225,$D$25:$R$1024,0)-RANK(F225,$D$25:$R$1024,1))/2)","v":""},{"$f":"IF(G225=\"\",\"\",RANK(G225,$D$25:$R$1024,1)+(COUNT($D$25:$R$1024)+1-RANK(G225,$D$25:$R$1024,0)-RANK(G225,$D$25:$R$1024,1))/2)","v":""},{"$f":"IF(H225=\"\",\"\",RANK(H225,$D$25:$R$1024,1)+(COUNT($D$25:$R$1024)+1-RANK(H225,$D$25:$R$1024,0)-RANK(H225,$D$25:$R$1024,1))/2)","v":""},{"$f":"IF(I225=\"\",\"\",RANK(I225,$D$25:$R$1024,1)+(COUNT($D$25:$R$1024)+1-RANK(I225,$D$25:$R$1024,0)-RANK(I225,$D$25:$R$1024,1))/2)","v":""},{"$f":"IF(J225=\"\",\"\",RANK(J225,$D$25:$R$1024,1)+(COUNT($D$25:$R$1024)+1-RANK(J225,$D$25:$R$1024,0)-RANK(J225,$D$25:$R$1024,1))/2)","v":""},{"$f":"IF(K225=\"\",\"\",RANK(K225,$D$25:$R$1024,1)+(COUNT($D$25:$R$1024)+1-RANK(K225,$D$25:$R$1024,0)-RANK(K225,$D$25:$R$1024,1))/2)","v":""},{"$f":"IF(L225=\"\",\"\",RANK(L225,$D$25:$R$1024,1)+(COUNT($D$25:$R$1024)+1-RANK(L225,$D$25:$R$1024,0)-RANK(L225,$D$25:$R$1024,1))/2)","v":""},{"$f":"IF(M225=\"\",\"\",RANK(M225,$D$25:$R$1024,1)+(COUNT($D$25:$R$1024)+1-RANK(M225,$D$25:$R$1024,0)-RANK(M225,$D$25:$R$1024,1))/2)","v":""},{"$f":"IF(N225=\"\",\"\",RANK(N225,$D$25:$R$1024,1)+(COUNT($D$25:$R$1024)+1-RANK(N225,$D$25:$R$1024,0)-RANK(N225,$D$25:$R$1024,1))/2)","v":""},{"$f":"IF(O225=\"\",\"\",RANK(O225,$D$25:$R$1024,1)+(COUNT($D$25:$R$1024)+1-RANK(O225,$D$25:$R$1024,0)-RANK(O225,$D$25:$R$1024,1))/2)","v":""},{"$f":"IF(P225=\"\",\"\",RANK(P225,$D$25:$R$1024,1)+(COUNT($D$25:$R$1024)+1-RANK(P225,$D$25:$R$1024,0)-RANK(P225,$D$25:$R$1024,1))/2)","v":""},{"$f":"IF(Q225=\"\",\"\",RANK(Q225,$D$25:$R$1024,1)+(COUNT($D$25:$R$1024)+1-RANK(Q225,$D$25:$R$1024,0)-RANK(Q225,$D$25:$R$1024,1))/2)","v":""},{"$f":"IF(R225=\"\",\"\",RANK(R225,$D$25:$R$1024,1)+(COUNT($D$25:$R$1024)+1-RANK(R225,$D$25:$R$1024,0)-RANK(R225,$D$25:$R$1024,1))/2)","v":""},null,null,"","","","","","","","","","","","","","","",null,"","","","","","","","","","","","","","",""]
[null,null,null,null,null,null,null,null,null,null,null,null,null,null,null,null,null,null,null,null,"","","",{"$f":"IF(U226=\"\",\"\",MEDIAN(IF(($U$25:$U$15023<>\"\")*($V$25:$V$15023=V226),$U$25:$U$15023)))","v":""},"","","",null,"","","","","","","","","","","","","","","",null,null,"","","","","","","","","","","","","","","",null,"","","","","","","","","","","","","","",""]
[null,null,null,null,null,null,null,null,null,null,null,null,null,null,null,null,null,null,null,null,"","","",{"$f":"IF(U227=\"\",\"\",MEDIAN(IF(($U$25:$U$15023<>\"\")*($V$25:$V$15023=V227),$U$25:$U$15023)))","v":""},"","","",null,"","","","","","","","","","","","","","","",null,null,"","","","","","","","","","","","","","","",null,"","","","","","","","","","","","","","",""]
[null,null,null,null,null,null,null,null,null,null,null,null,null,null,null,null,null,null,null,null,"","","",{"$f":"IF(U228=\"\",\"\",MEDIAN(IF(($U$25:$U$15023<>\"\")*($V$25:$V$15023=V228),$U$25:$U$15023)))","v":""},"","","",null,"","","","","","","","","","","","","","","",null,null,"","","","","","","","","","","","","","","",null,"","","","","","","","","","","","","","",""]
[null,null,null,null,null,null,null,null,null,null,null,null,null,null,null,null,null,null,null,null,"","","",{"$f":"IF(U229=\"\",\"\",MEDIAN(IF(($U$25:$U$15023<>\"\")*($V$25:$V$15023=V229),$U$25:$U$15023)))","v":""},"","","",null,"","","","","","","","","","","","","","","",null,null,"","","","","","","","","","","","","","","",null,"","","","","","","","","","","","","","",""]
[null,null,null,null,null,null,null,null,null,null,null,null,null,null,null,null,null,null,null,null,"","","",{"$f":"IF(U230=\"\",\"\",MEDIAN(IF(($U$25:$U$15023<>\"\")*($V$25:$V$15023=V230),$U$25:$U$15023)))","v":""},"","","",null,"","","","","","","","","","","","","","","",null,null,"","","","","","","","","","","","","","","",null,"","","","","","","","","","","","","","",""]
[null,null,null,null,null,null,null,null,null,null,null,null,null,null,null,null,null,null,null,null,"","","",{"$f":"IF(U231=\"\",\"\",MEDIAN(IF(($U$25:$U$15023<>\"\")*($V$25:$V$15023=V231),$U$25:$U$15023)))","v":""},"","","",null,"","","","","","","","","","","","","","","",null,null,"","","","","","","","","","","","","","","",null,"","","","","","","","","","","","","","",""]
[null,null,null,null,null,null,null,null,null,null,null,null,null,null,null,null,null,null,null,null,"","","",{"$f":"IF(U232=\"\",\"\",MEDIAN(IF(($U$25:$U$15023<>\"\")*($V$25:$V$15023=V232),$U$25:$U$15023)))","v":""},"","","",null,"","","","","","","","","","","","","","","",null,null,"","","","","","","","","","","","","","","",null,"","","","","","","","","","","","","","",""]
[null,null,null,null,null,null,null,null,null,null,null,null,null,null,null,null,null,null,null,null,"","","",{"$f":"IF(U233=\"\",\"\",MEDIAN(IF(($U$25:$U$15023<>\"\")*($V$25:$V$15023=V233),$U$25:$U$15023)))","v":""},"","","",null,"","","","","","","","","","","","","","","",null,null,"","","","","","","","","","","","","","","",null,"","","","","","","","","","","","","","",""]
[null,null,null,null,null,null,null,null,null,null,null,null,null,null,null,null,null,null,null,null,"","","",{"$f":"IF(U234=\"\",\"\",MEDIAN(IF(($U$25:$U$15023<>\"\")*($V$25:$V$15023=V234),$U$25:$U$15023)))","v":""},"","","",null,"","","","","","","","","","","","","","","",null,null,"","","","","","","","","","","","","","","",null,"","","","","","","","","","","","","","",""]
[null,null,null,null,null,null,null,null,null,null,null,null,null,null,null,null,null,null,null,null,"","","",{"$f":"IF(U235=\"\",\"\",MEDIAN(IF(($U$25:$U$15023<>\"\")*($V$25:$V$15023=V235),$U$25:$U$15023)))","v":""},"","","",null,"","","","","","","","","","","","","","","",null,null,"","","","","","","","","","","","","","","",null,"","","","","","","","","","","","","","",""]
[null,null,null,null,null,null,null,null,null,null,null,null,null,null,null,null,null,null,null,null,"","","",{"$f":"IF(U236=\"\",\"\",MEDIAN(IF(($U$25:$U$15023<>\"\")*($V$25:$V$15023=V236),$U$25:$U$15023)))","v":""},"","","",null,"","","","","","","","","","","","","","","",null,null,"","","","","","","","","","","","","","","",null,"","","","","","","","","","","","","","",""]
[null,null,null,null,null,null,null,null,null,null,null,null,null,null,null,null,null,null,null,null,"","","",{"$f":"IF(U237=\"\",\"\",MEDIAN(IF(($U$25:$U$15023<>\"\")*($V$25:$V$15023=V237),$U$25:$U$15023)))","v":""},"","","",null,"","","","","","","","","","","","","","","",null,null,"","","","","","","","","","","","","","","",null,"","","","","","","","","","","","","","",""]
[null,null,null,null,null,null,null,null,null,null,null,null,null,null,null,null,null,null,null,null,"","","",{"$f":"IF(U238=\"\",\"\",MEDIAN(IF(($U$25:$U$15023<>\"\")*($V$25:$V$15023=V238),$U$25:$U$15023)))","v":""},"","","",null,"","","","","","","","","","","","","","","",null,null,"","","","","","","","","","","","","","","",null,"","","","","","","","","","","","","","",""]
[null,null,null,null,null,null,null,null,null,null,null,null,null,null,null,null,null,null,null,null,"","","",{"$f":"IF(U239=\"\",\"\",MEDIAN(IF(($U$25:$U$15023<>\"\")*($V$25:$V$15023=V239),$U$25:$U$15023)))","v":""},"","","",null,"","","","","","","","","","","","","","","",null,null,"","","","","","","","","","","","","","","",null,"","","","","","","","","","","","","","",""]
[null,null,null,null,null,null,null,null,null,null,null,null,null,null,null,null,null,null,null,null,"","","",{"$f":"IF(U240=\"\",\"\",MEDIAN(IF(($U$25:$U$15023<>\"\")*($V$25:$V$15023=V240),$U$25:$U$15023)))","v":""},"","","",null,"","","","","","","","","","","","","","","",null,null,"","","","","","","","","","","","","","","",null,"","","","","","","","","","","","","","",""]
[null,null,null,null,null,null,null,null,null,null,null,null,null,null,null,null,null,null,null,null,"","","",{"$f":"IF(U241=\"\",\"\",MEDIAN(IF(($U$25:$U$15023<>\"\")*($V$25:$V$15023=V241),$U$25:$U$15023)))","v":""},"","","",null,"","","","","","","","","","","","","","","",null,null,"","","","","","","","","","","","","","","",null,"","","","","","","","","","","","","","",""]
[null,null,null,null,null,null,null,null,null,null,null,null,null,null,null,null,null,null,null,null,"","","",{"$f":"IF(U242=\"\",\"\",MEDIAN(IF(($U$25:$U$15023<>\"\")*($V$25:$V$15023=V242),$U$25:$U$15023)))","v":""},"","","",null,"","","","","","","","","","","","","","","",null,null,"","","","","","","","","","","","","","","",null,"","","","","","","","","","","","","","",""]
[null,null,null,null,null,null,null,null,null,null,null,null,null,null,null,null,null,null,null,null,"","","",{"$f":"IF(U243=\"\",\"\",MEDIAN(IF(($U$25:$U$15023<>\"\")*($V$25:$V$15023=V243),$U$25:$U$15023)))","v":""},"","","",null,"","","","","","","","","","","","","","","",null,null,"","","","","","","","","","","","","","","",null,"","","","","","","","","","","","","","",""]
[null,null,null,null,null,null,null,null,null,null,null,null,null,null,null,null,null,null,null,null,"","","",{"$f":"IF(U244=\"\",\"\",MEDIAN(IF(($U$25:$U$15023<>\"\")*($V$25:$V$15023=V244),$U$25:$U$15023)))","v":""},"","","",null,"","","","","","","","","","","","","","","",null,null,"","","","","","","","","","","","","","","",null,"","","","","","","","","","","","","","",""]
[null,null,null,null,null,null,null,null,null,null,null,null,null,null,null,null,null,null,null,null,"","","",{"$f":"IF(U245=\"\",\"\",MEDIAN(IF(($U$25:$U$15023<>\"\")*($V$25:$V$15023=V245),$U$25:$U$15023)))","v":""},"","","",null,"","","","","","","","","","","","","","","",null,null,"","","","","","","","","","","","","","","",null,"","","","","","","","","","","","","","",""]
[null,null,null,null,null,null,null,null,null,null,null,null,null,null,null,null,null,null,null,null,"","","",{"$f":"IF(U246=\"\",\"\",MEDIAN(IF(($U$25:$U$15023<>\"\")*($V$25:$V$15023=V246),$U$25:$U$15023)))","v":""},"","","",null,"","","","","","","","","","","","","","","",null,null,"","","","","","","","","","","","","","","",null,"","","","","","","","","","","","","","",""]
[null,null,null,null,null,null,null,null,null,null,null,null,null,null,null,null,null,null,null,null,"","","",{"$f":"IF(U247=\"\",\"\",MEDIAN(IF(($U$25:$U$15023<>\"\")*($V$25:$V$15023=V247),$U$25:$U$15023)))","v":""},"","","",null,"","","","","","","","","","","","","","","",null,null,"","","","","","","","","","","","","","","",null,"","","","","","","","","","","","","","",""]
[null,null,null,null,null,null,null,null,null,null,null,null,null,null,null,null,null,null,null,null,"","","",{"$f":"IF(U248=\"\",\"\",MEDIAN(IF(($U$25:$U$15023<>\"\")*($V$25:$V$15023=V248),$U$25:$U$15023)))","v":""},"","","",null,"","","","","","","","","","","","","","","",null,null,"","","","","","","","","","","","","","","",null,"","","","","","","","","","","","","","",""]
[null,null,null,null,null,null,null,null,null,null,null,null,null,null,null,null,null,null,null,null,"","","",{"$f":"IF(U249=\"\",\"\",MEDIAN(IF(($U$25:$U$15023<>\"\")*($V$25:$V$15023=V249),$U$25:$U$15023)))","v":""},"","","",null,"","","","","","","","","","","","","","","",null,null,"","","","","","","","","","","","","","","",null,"","","","","","","","","","","","","","",""]
[null,null,null,null,null,null,null,null,null,null,null,null,null,null,null,null,null,null,null,null,"","","",{"$f":"IF(U250=\"\",\"\",MEDIAN(IF(($U$25:$U$15023<>\"\")*($V$25:$V$15023=V250),$U$25:$U$15023)))","v":""},"","","",null,"","","","","","","","","","","","","","","",null,null,"","","","","","","","","","","","","","","",null,"","","","","","","","","","","","","","",""]
[null,null,null,null,null,null,null,null,null,null,null,null,null,null,null,null,null,null,null,null,"","","",{"$f":"IF(U251=\"\",\"\",MEDIAN(IF(($U$25:$U$15023<>\"\")*($V$25:$V$15023=V251),$U$25:$U$15023)))","v":""},"","","",null,"","","","","","","","","","","","","","","",null,null,"","","","","","","","","","","","","","","",null,"","","","","","","","","","","","","","",""]
[null,null,null,null,null,null,null,null,null,null,null,null,null,null,null,null,null,null,null,null,"","","",{"$f":"IF(U252=\"\",\"\",MEDIAN(IF(($U$25:$U$15023<>\"\")*($V$25:$V$15023=V252),$U$25:$U$15023)))","v":""},"","","",null,"","","","","","","","","","","","","","","",null,null,"","","","","","","","","","","","","","","",null,"","","","","","","","","","","","","","",""]
[null,null,null,null,null,null,null,null,null,null,null,null,null,null,null,null,null,null,null,null,"","","",{"$f":"IF(U253=\"\",\"\",MEDIAN(IF(($U$25:$U$15023<>\"\")*($V$25:$V$15023=V253),$U$25:$U$15023)))","v":""},"","","",null,"","","","","","","","","","","","","","","",null,null,"","","","","","","","","","","","","","","",null,"","","","","","","","","","","","","","",""]
[null,null,null,null,null,null,null,null,null,null,null,null,null,null,null,null,null,null,null,null,"","","",{"$f":"IF(U254=\"\",\"\",MEDIAN(IF(($U$25:$U$15023<>\"\")*($V$25:$V$15023=V254),$U$25:$U$15023)))","v":""},"","","",null,"","","","","","","","","","","","","","","",null,null,"","","","","","","","","","","","","","","",null,"","","","","","","","","","","","","","",""]
[null,null,null,null,null,null,null,null,null,null,null,null,null,null,null,null,null,null,null,null,"","","",{"$f":"IF(U255=\"\",\"\",MEDIAN(IF(($U$25:$U$15023<>\"\")*($V$25:$V$15023=V255),$U$25:$U$15023)))","v":""},"","","",null,"","","","","","","","","","","","","","","",null,null,"","","","","","","","","","","","","","","",null,"","","","","","","","","","","","","","",""]
[null,null,null,null,null,null,null,null,null,null,null,null,null,null,null,null,null,null,null,null,"","","",{"$f":"IF(U256=\"\",\"\",MEDIAN(IF(($U$25:$U$15023<>\"\")*($V$25:$V$15023=V256),$U$25:$U$15023)))","v":""},"","","",null,"","","","","","","","","","","","","","","",null,null,"","","","","","","","","","","","","","","",null,"","","","","","","","","","","","","","",""]
[null,null,null,null,null,null,null,null,null,null,null,null,null,null,null,null,null,null,null,null,"","","",{"$f":"IF(U257=\"\",\"\",MEDIAN(IF(($U$25:$U$15023<>\"\")*($V$25:$V$15023=V257),$U$25:$U$15023)))","v":""},"","","",null,"","","","","","","","","","","","","","","",null,null,"","","","","","","","","","","","","","","",null,"","","","","","","","","","","","","","",""]
[null,null,null,null,null,null,null,null,null,null,null,null,null,null,null,null,null,null,null,null,"","","",{"$f":"IF(U258=\"\",\"\",MEDIAN(IF(($U$25:$U$15023<>\"\")*($V$25:$V$15023=V258),$U$25:$U$15023)))","v":""},"","","",null,"","","","","","","","","","","","","","","",null,null,"","","","","","","","","","","","","","","",null,"","","","","","","","","","","","","","",""]
[null,null,null,null,null,null,null,null,null,null,null,null,null,null,null,null,null,null,null,null,"","","",{"$f":"IF(U259=\"\",\"\",MEDIAN(IF(($U$25:$U$15023<>\"\")*($V$25:$V$15023=V259),$U$25:$U$15023)))","v":""},"","","",null,"","","","","","","","","","","","","","","",null,null,"","","","","","","","","","","","","","","",null,"","","","","","","","","","","","","","",""]
[null,null,null,null,null,null,null,null,null,null,null,null,null,null,null,null,null,null,null,null,"","","",{"$f":"IF(U260=\"\",\"\",MEDIAN(IF(($U$25:$U$15023<>\"\")*($V$25:$V$15023=V260),$U$25:$U$15023)))","v":""},"","","",null,"","","","","","","","","","","","","","","",null,null,"","","","","","","","","","","","","","","",null,"","","","","","","","","","","","","","",""]
[null,null,null,null,null,null,null,null,null,null,null,null,null,null,null,null,null,null,null,null,"","","",{"$f":"IF(U261=\"\",\"\",MEDIAN(IF(($U$25:$U$15023<>\"\")*($V$25:$V$15023=V261),$U$25:$U$15023)))","v":""},"","","",null,"","","","","","","","","","","","","","","",null,null,"","","","","","","","","","","","","","","",null,"","","","","","","","","","","","","","",""]
[null,null,null,null,null,null,null,null,null,null,null,null,null,null,null,null,null,null,null,null,"","","",{"$f":"IF(U262=\"\",\"\",MEDIAN(IF(($U$25:$U$15023<>\"\")*($V$25:$V$15023=V262),$U$25:$U$15023)))","v":""},"","","",null,"","","","","","","","","","","","","","","",null,null,"","","","","","","","","","","","","","","",null,"","","","","","","","","","","","","","",""]
[null,null,null,null,null,null,null,null,null,null,null,null,null,null,null,null,null,null,null,null,"","","",{"$f":"IF(U263=\"\",\"\",MEDIAN(IF(($U$25:$U$15023<>\"\")*($V$25:$V$15023=V263),$U$25:$U$15023)))","v":""},"","","",null,"","","","","","","","","","","","","","","",null,null,"","","","","","","","","","","","","","","",null,"","","","","","","","","","","","","","",""]
[null,null,null,null,null,null,null,null,null,null,null,null,null,null,null,null,null,null,null,null,"","","",{"$f":"IF(U264=\"\",\"\",MEDIAN(IF(($U$25:$U$15023<>\"\")*($V$25:$V$15023=V264),$U$25:$U$15023)))","v":""},"","","",null,"","","","","","","","","","","","","","","",null,null,"","","","","","","","","","","","","","","",null,"","","","","","","","","","","","","","",""]
[null,null,null,null,null,null,null,null,null,null,null,null,null,null,null,null,null,null,null,null,"","","",{"$f":"IF(U265=\"\",\"\",MEDIAN(IF(($U$25:$U$15023<>\"\")*($V$25:$V$15023=V265),$U$25:$U$15023)))","v":""},"","","",null,"","","","","","","","","","","","","","","",null,null,"","","","","","","","","","","","","","","",null,"","","","","","","","","","","","","","",""]
[null,null,null,null,null,null,null,null,null,null,null,null,null,null,null,null,null,null,null,null,"","","",{"$f":"IF(U266=\"\",\"\",MEDIAN(IF(($U$25:$U$15023<>\"\")*($V$25:$V$15023=V266),$U$25:$U$15023)))","v":""},"","","",null,"","","","","","","","","","","","","","","",null,null,"","","","","","","","","","","","","","","",null,"","","","","","","","","","","","","","",""]
[null,null,null,null,null,null,null,null,null,null,null,null,null,null,null,null,null,null,null,null,"","","",{"$f":"IF(U267=\"\",\"\",MEDIAN(IF(($U$25:$U$15023<>\"\")*($V$25:$V$15023=V267),$U$25:$U$15023)))","v":""},"","","",null,"","","","","","","","","","","","","","","",null,null,"","","","","","","","","","","","","","","",null,"","","","","","","","","","","","","","",""]
[null,null,null,null,null,null,null,null,null,null,null,null,null,null,null,null,null,null,null,null,"","","",{"$f":"IF(U268=\"\",\"\",MEDIAN(IF(($U$25:$U$15023<>\"\")*($V$25:$V$15023=V268),$U$25:$U$15023)))","v":""},"","","",null,"","","","","","","","","","","","","","","",null,null,"","","","","","","","","","","","","","","",null,"","","","","","","","","","","","","","",""]
[null,null,null,null,null,null,null,null,null,null,null,null,null,null,null,null,null,null,null,null,"","","",{"$f":"IF(U269=\"\",\"\",MEDIAN(IF(($U$25:$U$15023<>\"\")*($V$25:$V$15023=V269),$U$25:$U$15023)))","v":""},"","","",null,"","","","","","","","","","","","","","","",null,null,"","","","","","","","","","","","","","","",null,"","","","","","","","","","","","","","",""]
[null,null,null,null,null,null,null,null,null,null,null,null,null,null,null,null,null,null,null,null,"","","",{"$f":"IF(U270=\"\",\"\",MEDIAN(IF(($U$25:$U$15023<>\"\")*($V$25:$V$15023=V270),$U$25:$U$15023)))","v":""},"","","",null,"","","","","","","","","","","","","","","",null,null,"","","","","","","","","","","","","","","",null,"","","","","","","","","","","","","","",""]
[null,null,null,null,null,null,null,null,null,null,null,null,null,null,null,null,null,null,null,null,"","","",{"$f":"IF(U271=\"\",\"\",MEDIAN(IF(($U$25:$U$15023<>\"\")*($V$25:$V$15023=V271),$U$25:$U$15023)))","v":""},"","","",null,"","","","","","","","","","","","","","","",null,null,"","","","","","","","","","","","","","","",null,"","","","","","","","","","","","","","",""]
[null,null,null,null,null,null,null,null,null,null,null,null,null,null,null,null,null,null,null,null,"","","",{"$f":"IF(U272=\"\",\"\",MEDIAN(IF(($U$25:$U$15023<>\"\")*($V$25:$V$15023=V272),$U$25:$U$15023)))","v":""},"","","",null,"","","","","","","","","","","","","","","",null,null,"","","","","","","","","","","","","","","",null,"","","","","","","","","","","","","","",""]
[null,null,null,null,null,null,null,null,null,null,null,null,null,null,null,null,null,null,null,null,"","","",{"$f":"IF(U273=\"\",\"\",MEDIAN(IF(($U$25:$U$15023<>\"\")*($V$25:$V$15023=V273),$U$25:$U$15023)))","v":""},"","","",null,"","","","","","","","","","","","","","","",null,null,"","","","","","","","","","","","","","","",null,"","","","","","","","","","","","","","",""]
[null,null,null,null,null,null,null,null,null,null,null,null,null,null,null,null,null,null,null,null,"","","",{"$f":"IF(U274=\"\",\"\",MEDIAN(IF(($U$25:$U$15023<>\"\")*($V$25:$V$15023=V274),$U$25:$U$15023)))","v":""},"","","",null,"","","","","","","","","","","","","","","",null,null,"","","","","","","","","","","","","","","",null,"","","","","","","","","","","","","","",""]
[null,null,null,null,null,null,null,null,null,null,null,null,null,null,null,null,null,null,null,null,"","","",{"$f":"IF(U275=\"\",\"\",MEDIAN(IF(($U$25:$U$15023<>\"\")*($V$25:$V$15023=V275),$U$25:$U$15023)))","v":""},"","","",null,"","","","","","","","","","","","","","","",null,null,"","","","","","","","","","","","","","","",null,"","","","","","","","","","","","","","",""]
[null,null,null,null,null,null,null,null,null,null,null,null,null,null,null,null,null,null,null,null,"","","",{"$f":"IF(U276=\"\",\"\",MEDIAN(IF(($U$25:$U$15023<>\"\")*($V$25:$V$15023=V276),$U$25:$U$15023)))","v":""},"","","",null,"","","","","","","","","","","","","","","",null,null,"","","","","","","","","","","","","","","",null,"","","","","","","","","","","","","","",""]
[null,null,null,null,null,null,null,null,null,null,null,null,null,null,null,null,null,null,null,null,"","","",{"$f":"IF(U277=\"\",\"\",MEDIAN(IF(($U$25:$U$15023<>\"\")*($V$25:$V$15023=V277),$U$25:$U$15023)))","v":""},"","","",null,"","","","","","","","","","","","","","","",null,null,"","","","","","","","","","","","","","","",null,"","","","","","","","","","","","","","",""]
[null,null,null,null,null,null,null,null,null,null,null,null,null,null,null,null,null,null,null,null,"","","",{"$f":"IF(U278=\"\",\"\",MEDIAN(IF(($U$25:$U$15023<>\"\")*($V$25:$V$15023=V278),$U$25:$U$15023)))","v":""},"","","",null,"","","","","","","","","","","","","","","",null,null,"","","","","","","","","","","","","","","",null,"","","","","","","","","","","","","","",""]
[null,null,null,null,null,null,null,null,null,null,null,null,null,null,null,null,null,null,null,null,"","","",{"$f":"IF(U279=\"\",\"\",MEDIAN(IF(($U$25:$U$15023<>\"\")*($V$25:$V$15023=V279),$U$25:$U$15023)))","v":""},"","","",null,"","","","","","","","","","","","","","","",null,null,"","","","","","","","","","","","","","","",null,"","","","","","","","","","","","","","",""]
[null,null,null,null,null,null,null,null,null,null,null,null,null,null,null,null,null,null,null,null,"","","",{"$f":"IF(U280=\"\",\"\",MEDIAN(IF(($U$25:$U$15023<>\"\")*($V$25:$V$15023=V280),$U$25:$U$15023)))","v":""},"","","",null,"","","","","","","","","","","","","","","",null,null,"","","","","","","","","","","","","","","",null,"","","","","","","","","","","","","","",""]
[null,null,null,null,null,null,null,null,null,null,null,null,null,null,null,null,null,null,null,null,"","","",{"$f":"IF(U281=\"\",\"\",MEDIAN(IF(($U$25:$U$15023<>\"\")*($V$25:$V$15023=V281),$U$25:$U$15023)))","v":""},"","","",null,"","","","","","","","","","","","","","","",null,null,"","","","","","","","","","","","","","","",null,"","","","","","","","","","","","","","",""]
[null,null,null,null,null,null,null,null,null,null,null,null,null,null,null,null,null,null,null,null,{"$f":"IF(A282=\"\",\"\",A282)","v":""},{"$f":"IF(B282=\"\",\"\",B282)","v":""},{"$f":"IF(U282=\"\",\"\",RANK(U282,$U$25:$U$15023,1)+(COUNT($U$25:$U$15023)+1-RANK(U282,$U$25:$U$15023,0)-RANK(U282,$U$25:$U$15023,1))/2)","v":""},{"$f":"IF(U282=\"\",\"\",MEDIAN(IF(($U$25:$U$15023<>\"\")*($V$25:$V$15023=V282),$U$25:$U$15023)))","v":""},{"$f":"IF(U282=\"\",\"\",ABS(X282-U282))","v":""},{"$f":"IF(V282=\"\",\"\",AVERAGEIF($V$25:$V$15023,V282,$Y$25:$Y$15023))","v":""},{"$f":"IF(V282=\"\",\"\",(Y282-Z282)^2)","v":""},null,"","","","","","","","","","","","","","","",null,null,{"$f":"IF(D282=\"\",\"\",ABS(D282-MEDIAN(D$25:D$1024)))","v":""},{"$f":"IF(E282=\"\",\"\",ABS(E282-MEDIAN(E$25:E$1024)))","v":""},{"$f":"IF(F282=\"\",\"\",ABS(F282-MEDIAN(F$25:F$1024)))","v":""},{"$f":"IF(G282=\"\",\"\",ABS(G282-MEDIAN(G$25:G$1024)))","v":""},{"$f":"IF(H282=\"\",\"\",ABS(H282-MEDIAN(H$25:H$1024)))","v":""},{"$f":"IF(I282=\"\",\"\",ABS(I282-MEDIAN(I$25:I$1024)))","v":""},{"$f":"IF(J282=\"\",\"\",ABS(J282-MEDIAN(J$25:J$1024)))","v":""},{"$f":"IF(K282=\"\",\"\",ABS(K282-MEDIAN(K$25:K$1024)))","v":""},{"$f":"IF(L282=\"\",\"\",ABS(L282-MEDIAN(L$25:L$1024)))","v":""},{"$f":"IF(M282=\"\",\"\",ABS(M282-MEDIAN(M$25:M$1024)))","v":""},{"$f":"IF(N282=\"\",\"\",ABS(N282-MEDIAN(N$25:N$1024)))","v":""},{"$f":"IF(O282=\"\",\"\",ABS(O282-MEDIAN(O$25:O$1024)))","v":""},{"$f":"IF(P282=\"\",\"\",ABS(P282-MEDIAN(P$25:P$1024)))","v":""},{"$f":"IF(Q282=\"\",\"\",ABS(Q282-MEDIAN(Q$25:Q$1024)))","v":""},{"$f":"IF(R282=\"\",\"\",ABS(R282-MEDIAN(R$25:R$1024)))","v":""},null,{"$f":"IF(AT282=\"\",\"\",(AT282-AT$22)^2)","v":""},{"$f":"IF(AU282=\"\",\"\",(AU282-AU$22)^2)","v":""},{"$f":"IF(AV282=\"\",\"\",(AV282-AV$22)^2)","v":""},{"$f":"IF(AW282=\"\",\"\",(AW282-AW$22)^2)","v":""},{"$f":"IF(AX282=\"\",\"\",(AX282-AX$22)^2)","v":""},{"$f":"IF(AY282=\"\",\"\",(AY282-AY$22)^2)","v":""},{"$f":"IF(AZ282=\"\",\"\",(AZ282-AZ$22)^2)","v":""},{"$f":"IF(BA282=\"\",\"\",(BA282-BA$22)^2)","v":""},{"$f":"IF(BB282=\"\",\"\",(BB282-BB$22)^2)","v":""},{"$f":"IF(BC282=\"\",\"\",(BC282-BC$22)^2)","v":""},{"$f":"IF(BD282=\"\",\"\",(BD282-BD$22)^2)","v":""},{"$f":"IF(BE282=\"\",\"\",(BE282-BE$22)^2)","v":""},{"$f":"IF(BF282=\"\",\"\",(BF282-BF$22)^2)","v":""},{"$f":"IF(BG282=\"\",\"\",(BG282-BG$22)^2)","v":""},{"$f":"IF(BH282=\"\",\"\",(BH282-BH$22)^2)","v":""}]
[null,null,null,null,null,null,null,null,null,null,null,null,null,null,null,null,null,null,null,null,"","","",{"$f":"IF(U283=\"\",\"\",MEDIAN(IF(($U$25:$U$15023<>\"\")*($V$25:$V$15023=V283),$U$25:$U$15023)))","v":""},"","","",null,"","","","","","","","","","","","","","","",null,null,"","","","","","","","","","","","","","","",null,"","","","","","","","","","","","","","",""]
[null,null,null,null,null,null,null,null,null,null,null,null,null,null,null,null,null,null,null,null,"","","",{"$f":"IF(U284=\"\",\"\",MEDIAN(IF(($U$25:$U$15023<>\"\")*($V$25:$V$15023=V284),$U$25:$U$15023)))","v":""},"","","",null,"","","","","","","","","","","","","","","",null,null,"","","","","","","","","","","","","","","",null,"","","","","","","","","","","","","","",""]
[null,null,null,null,null,null,null,null,null,null,null,null,null,null,null,null,null,null,null,null,"","","",{"$f":"IF(U285=\"\",\"\",MEDIAN(IF(($U$25:$U$15023<>\"\")*($V$25:$V$15023=V285),$U$25:$U$15023)))","v":""},"","","",null,"","","","","","","","","","","","","","","",null,null,"","","","","","","","","","","","","","","",null,"","","","","","","","","","","","","","",""]
[null,null,null,null,null,null,null,null,null,null,null,null,null,null,null,null,null,null,null,null,"","","",{"$f":"IF(U286=\"\",\"\",MEDIAN(IF(($U$25:$U$15023<>\"\")*($V$25:$V$15023=V286),$U$25:$U$15023)))","v":""},"","","",null,"","","","","","","","","","","","","","","",null,null,"","","","","","","","","","","","","","","",null,"","","","","","","","","","","","","","",""]
[null,null,null,null,null,null,null,null,null,null,null,null,null,null,null,null,null,null,null,null,"","","",{"$f":"IF(U287=\"\",\"\",MEDIAN(IF(($U$25:$U$15023<>\"\")*($V$25:$V$15023=V287),$U$25:$U$15023)))","v":""},"","","",null,"","","","","","","","","","","","","","","",null,null,"","","","","","","","","","","","","","","",null,"","","","","","","","","","","","","","",""]
[null,null,null,null,null,null,null,null,null,null,null,null,null,null,null,null,null,null,null,null,"","","",{"$f":"IF(U288=\"\",\"\",MEDIAN(IF(($U$25:$U$15023<>\"\")*($V$25:$V$15023=V288),$U$25:$U$15023)))","v":""},"","","",null,"","","","","","","","","","","","","","","",null,null,"","","","","","","","","","","","","","","",null,"","","","","","","","","","","","","","",""]
[null,null,null,null,null,null,null,null,null,null,null,null,null,null,null,null,null,null,null,null,"","","",{"$f":"IF(U289=\"\",\"\",MEDIAN(IF(($U$25:$U$15023<>\"\")*($V$25:$V$15023=V289),$U$25:$U$15023)))","v":""},"","","",null,{"$f":"IF(D289=\"\",\"\",RANK(D289,$D$25:$R$1024,1)+(COUNT($D$25:$R$1024)+1-RANK(D289,$D$25:$R$1024,0)-RANK(D289,$D$25:$R$1024,1))/2)","v":""},{"$f":"IF(E289=\"\",\"\",RANK(E289,$D$25:$R$1024,1)+(COUNT($D$25:$R$1024)+1-RANK(E289,$D$25:$R$1024,0)-RANK(E289,$D$25:$R$1024,1))/2)","v":""},{"$f":"IF(F289=\"\",\"\",RANK(F289,$D$25:$R$1024,1)+(COUNT($D$25:$R$1024)+1-RANK(F289,$D$25:$R$1024,0)-RANK(F289,$D$25:$R$1024,1))/2)","v":""},{"$f":"IF(G289=\"\",\"\",RANK(G289,$D$25:$R$1024,1)+(COUNT($D$25:$R$1024)+1-RANK(G289,$D$25:$R$1024,0)-RANK(G289,$D$25:$R$1024,1))/2)","v":""},{"$f":"IF(H289=\"\",\"\",RANK(H289,$D$25:$R$1024,1)+(COUNT($D$25:$R$1024)+1-RANK(H289,$D$25:$R$1024,0)-RANK(H289,$D$25:$R$1024,1))/2)","v":""},{"$f":"IF(I289=\"\",\"\",RANK(I289,$D$25:$R$1024,1)+(COUNT($D$25:$R$1024)+1-RANK(I289,$D$25:$R$1024,0)-RANK(I289,$D$25:$R$1024,1))/2)","v":""},{"$f":"IF(J289=\"\",\"\",RANK(J289,$D$25:$R$1024,1)+(COUNT($D$25:$R$1024)+1-RANK(J289,$D$25:$R$1024,0)-RANK(J289,$D$25:$R$1024,1))/2)","v":""},{"$f":"IF(K289=\"\",\"\",RANK(K289,$D$25:$R$1024,1)+(COUNT($D$25:$R$1024)+1-RANK(K289,$D$25:$R$1024,0)-RANK(K289,$D$25:$R$1024,1))/2)","v":""},{"$f":"IF(L289=\"\",\"\",RANK(L289,$D$25:$R$1024,1)+(COUNT($D$25:$R$1024)+1-RANK(L289,$D$25:$R$1024,0)-RANK(L289,$D$25:$R$1024,1))/2)","v":""},{"$f":"IF(M289=\"\",\"\",RANK(M289,$D$25:$R$1024,1)+(COUNT($D$25:$R$1024)+1-RANK(M289,$D$25:$R$1024,0)-RANK(M289,$D$25:$R$1024,1))/2)","v":""},{"$f":"IF(N289=\"\",\"\",RANK(N289,$D$25:$R$1024,1)+(COUNT($D$25:$R$1024)+1-RANK(N289,$D$25:$R$1024,0)-RANK(N289,$D$25:$R$1024,1))/2)","v":""},{"$f":"IF(O289=\"\",\"\",RANK(O289,$D$25:$R$1024,1)+(COUNT($D$25:$R$1024)+1-RANK(O289,$D$25:$R$1024,0)-RANK(O289,$D$25:$R$1024,1))/2)","v":""},{"$f":"IF(P289=\"\",\"\",RANK(P289,$D$25:$R$1024,1)+(COUNT($D$25:$R$1024)+1-RANK(P289,$D$25:$R$1024,0)-RANK(P289,$D$25:$R$1024,1))/2)","v":""},{"$f":"IF(Q289=\"\",\"\",RANK(Q289,$D$25:$R$1024,1)+(COUNT($D$25:$R$1024)+1-RANK(Q289,$D$25:$R$1024,0)-RANK(Q289,$D$25:$R$1024,1))/2)","v":""},{"$f":"IF(R289=\"\",\"\",RANK(R289,$D$25:$R$1024,1)+(COUNT($D$25:$R$1024)+1-RANK(R289,$D$25:$R$1024,0)-RANK(R289,$D$25:$R$1024,1))/2)","v":""},null,null,"","","","","","","","","","","","","","","",null,"","","","","","","","","","","","","","",""]
[null,null,null,null,null,null,null,null,null,null,null,null,null,null,null,null,null,null,null,null,"","","",{"$f":"IF(U290=\"\",\"\",MEDIAN(IF(($U$25:$U$15023<>\"\")*($V$25:$V$15023=V290),$U$25:$U$15023)))","v":""},"","","",null,"","","","","","","","","","","","","","","",null,null,"","","","","","","","","","","","","","","",null,"","","","","","","","","","","","","","",""]
[null,null,null,null,null,null,null,null,null,null,null,null,null,null,null,null,null,null,null,null,"","","",{"$f":"IF(U291=\"\",\"\",MEDIAN(IF(($U$25:$U$15023<>\"\")*($V$25:$V$15023=V291),$U$25:$U$15023)))","v":""},"","","",null,"","","","","","","","","","","","","","","",null,null,"","","","","","","","","","","","","","","",null,"","","","","","","","","","","","","","",""]
[null,null,null,null,null,null,null,null,null,null,null,null,null,null,null,null,null,null,null,null,"","","",{"$f":"IF(U292=\"\",\"\",MEDIAN(IF(($U$25:$U$15023<>\"\")*($V$25:$V$15023=V292),$U$25:$U$15023)))","v":""},"","","",null,"","","","","","","","","","","","","","","",null,null,"","","","","","","","","","","","","","","",null,"","","","","","","","","","","","","","",""]
[null,null,null,null,null,null,null,null,null,null,null,null,null,null,null,null,null,null,null,null,"","","",{"$f":"IF(U293=\"\",\"\",MEDIAN(IF(($U$25:$U$15023<>\"\")*($V$25:$V$15023=V293),$U$25:$U$15023)))","v":""},"","","",null,"","","","","","","","","","","","","","","",null,null,"","","","","","","","","","","","","","","",null,"","","","","","","","","","","","","","",""]
[null,null,null,null,null,null,null,null,null,null,null,null,null,null,null,null,null,null,null,null,"","","",{"$f":"IF(U294=\"\",\"\",MEDIAN(IF(($U$25:$U$15023<>\"\")*($V$25:$V$15023=V294),$U$25:$U$15023)))","v":""},"","","",null,"","","","","","","","","","","","","","","",null,null,"","","","","","","","","","","","","","","",null,"","","","","","","","","","","","","","",""]
[null,null,null,null,null,null,null,null,null,null,null,null,null,null,null,null,null,null,null,null,"","","",{"$f":"IF(U295=\"\",\"\",MEDIAN(IF(($U$25:$U$15023<>\"\")*($V$25:$V$15023=V295),$U$25:$U$15023)))","v":""},"","","",null,"","","","","","","","","","","","","","","",null,null,"","","","","","","","","","","","","","","",null,"","","","","","","","","","","","","","",""]
[null,null,null,null,null,null,null,null,null,null,null,null,null,null,null,null,null,null,null,null,"","","",{"$f":"IF(U296=\"\",\"\",MEDIAN(IF(($U$25:$U$15023<>\"\")*($V$25:$V$15023=V296),$U$25:$U$15023)))","v":""},"","","",null,"","","","","","","","","","","","","","","",null,null,"","","","","","","","","","","","","","","",null,"","","","","","","","","","","","","","",""]
[null,null,null,null,null,null,null,null,null,null,null,null,null,null,null,null,null,null,null,null,"","","",{"$f":"IF(U297=\"\",\"\",MEDIAN(IF(($U$25:$U$15023<>\"\")*($V$25:$V$15023=V297),$U$25:$U$15023)))","v":""},"","","",null,"","","","","","","","","","","","","","","",null,null,"","","","","","","","","","","","","","","",null,"","","","","","","","","","","","","","",""]
[null,null,null,null,null,null,null,null,null,null,null,null,null,null,null,null,null,null,null,null,"","","",{"$f":"IF(U298=\"\",\"\",MEDIAN(IF(($U$25:$U$15023<>\"\")*($V$25:$V$15023=V298),$U$25:$U$15023)))","v":""},"","","",null,"","","","","","","","","","","","","","","",null,null,"","","","","","","","","","","","","","","",null,"","","","","","","","","","","","","","",""]
[null,null,null,null,null,null,null,null,null,null,null,null,null,null,null,null,null,null,null,null,"","","",{"$f":"IF(U299=\"\",\"\",MEDIAN(IF(($U$25:$U$15023<>\"\")*($V$25:$V$15023=V299),$U$25:$U$15023)))","v":""},"","","",null,"","","","","","","","","","","","","","","",null,null,"","","","","","","","","","","","","","","",null,"","","","","","","","","","","","","","",""]
[null,null,null,null,null,null,null,null,null,null,null,null,null,null,null,null,null,null,null,null,"","","",{"$f":"IF(U300=\"\",\"\",MEDIAN(IF(($U$25:$U$15023<>\"\")*($V$25:$V$15023=V300),$U$25:$U$15023)))","v":""},"","","",null,"","","","","","","","","","","","","","","",null,null,"","","","","","","","","","","","","","","",null,"","","","","","","","","","","","","","",""]
[null,null,null,null,null,null,null,null,null,null,null,null,null,null,null,null,null,null,null,null,"","","",{"$f":"IF(U301=\"\",\"\",MEDIAN(IF(($U$25:$U$15023<>\"\")*($V$25:$V$15023=V301),$U$25:$U$15023)))","v":""},"","","",null,"","","","","","","","","","","","","","","",null,null,"","","","","","","","","","","","","","","",null,"","","","","","","","","","","","","","",""]
[null,null,null,null,null,null,null,null,null,null,null,null,null,null,null,null,null,null,null,null,"","","",{"$f":"IF(U302=\"\",\"\",MEDIAN(IF(($U$25:$U$15023<>\"\")*($V$25:$V$15023=V302),$U$25:$U$15023)))","v":""},"","","",null,"","","","","","","","","","","","","","","",null,null,"","","","","","","","","","","","","","","",null,"","","","","","","","","","","","","","",""]
[null,null,null,null,null,null,null,null,null,null,null,null,null,null,null,null,null,null,null,null,"","","",{"$f":"IF(U303=\"\",\"\",MEDIAN(IF(($U$25:$U$15023<>\"\")*($V$25:$V$15023=V303),$U$25:$U$15023)))","v":""},"","","",null,"","","","","","","","","","","","","","","",null,null,"","","","","","","","","","","","","","","",null,"","","","","","","","","","","","","","",""]
[null,null,null,null,null,null,null,null,null,null,null,null,null,null,null,null,null,null,null,null,"","","",{"$f":"IF(U304=\"\",\"\",MEDIAN(IF(($U$25:$U$15023<>\"\")*($V$25:$V$15023=V304),$U$25:$U$15023)))","v":""},"","","",null,"","","","","","","","","","","","","","","",null,null,"","","","","","","","","","","","","","","",null,"","","","","","","","","","","","","","",""]
[null,null,null,null,null,null,null,null,null,null,null,null,null,null,null,null,null,null,null,null,"","","",{"$f":"IF(U305=\"\",\"\",MEDIAN(IF(($U$25:$U$15023<>\"\")*($V$25:$V$15023=V305),$U$25:$U$15023)))","v":""},"","","",null,"","","","","","","","","","","","","","","",null,null,"","","","","","","","","","","","","","","",null,"","","","","","","","","","","","","","",""]
[null,null,null,null,null,null,null,null,null,null,null,null,null,null,null,null,null,null,null,null,"","","",{"$f":"IF(U306=\"\",\"\",MEDIAN(IF(($U$25:$U$15023<>\"\")*($V$25:$V$15023=V306),$U$25:$U$15023)))","v":""},"","","",null,"","","","","","","","","","","","","","","",null,null,"","","","","","","","","","","","","","","",null,"","","","","","","","","","","","","","",""]
[null,null,null,null,null,null,null,null,null,null,null,null,null,null,null,null,null,null,null,null,"","","",{"$f":"IF(U307=\"\",\"\",MEDIAN(IF(($U$25:$U$15023<>\"\")*($V$25:$V$15023=V307),$U$25:$U$15023)))","v":""},"","","",null,"","","","","","","","","","","","","","","",null,null,"","","","","","","","","","","","","","","",null,"","","","","","","","","","","","","","",""]
[null,null,null,null,null,null,null,null,null,null,null,null,null,null,null,null,null,null,null,null,"","","",{"$f":"IF(U308=\"\",\"\",MEDIAN(IF(($U$25:$U$15023<>\"\")*($V$25:$V$15023=V308),$U$25:$U$15023)))","v":""},"","","",null,"","","","","","","","","","","","","","","",null,null,"","","","","","","","","","","","","","","",null,"","","","","","","","","","","","","","",""]
[null,null,null,null,null,null,null,null,null,null,null,null,null,null,null,null,null,null,null,null,"","","",{"$f":"IF(U309=\"\",\"\",MEDIAN(IF(($U$25:$U$15023<>\"\")*($V$25:$V$15023=V309),$U$25:$U$15023)))","v":""},"","","",null,"","","","","","","","","","","","","","","",null,null,"","","","","","","","","","","","","","","",null,"","","","","","","","","","","","","","",""]
[null,null,null,null,null,null,null,null,null,null,null,null,null,null,null,null,null,null,null,null,"","","",{"$f":"IF(U310=\"\",\"\",MEDIAN(IF(($U$25:$U$15023<>\"\")*($V$25:$V$15023=V310),$U$25:$U$15023)))","v":""},"","","",null,"","","","","","","","","","","","","","","",null,null,"","","","","","","","","","","","","","","",null,"","","","","","","","","","","","","","",""]
[null,null,null,null,null,null,null,null,null,null,null,null,null,null,null,null,null,null,null,null,"","","",{"$f":"IF(U311=\"\",\"\",MEDIAN(IF(($U$25:$U$15023<>\"\")*($V$25:$V$15023=V311),$U$25:$U$15023)))","v":""},"","","",null,"","","","","","","","","","","","","","","",null,null,"","","","","","","","","","","","","","","",null,"","","","","","","","","","","","","","",""]
[null,null,null,null,null,null,null,null,null,null,null,null,null,null,null,null,null,null,null,null,"","","",{"$f":"IF(U312=\"\",\"\",MEDIAN(IF(($U$25:$U$15023<>\"\")*($V$25:$V$15023=V312),$U$25:$U$15023)))","v":""},"","","",null,"","","","","","","","","","","","","","","",null,null,"","","","","","","","","","","","","","","",null,"","","","","","","","","","","","","","",""]
[null,null,null,null,null,null,null,null,null,null,null,null,null,null,null,null,null,null,null,null,"","","",{"$f":"IF(U313=\"\",\"\",MEDIAN(IF(($U$25:$U$15023<>\"\")*($V$25:$V$15023=V313),$U$25:$U$15023)))","v":""},"","","",null,"","","","","","","","","","","","","","","",null,null,"","","","","","","","","","","","","","","",null,"","","","","","","","","","","","","","",""]
[null,null,null,null,null,null,null,null,null,null,null,null,null,null,null,null,null,null,null,null,"","","",{"$f":"IF(U314=\"\",\"\",MEDIAN(IF(($U$25:$U$15023<>\"\")*($V$25:$V$15023=V314),$U$25:$U$15023)))","v":""},"","","",null,"","","","","","","","","","","","","","","",null,null,"","","","","","","","","","","","","","","",null,"","","","","","","","","","","","","","",""]
[null,null,null,null,null,null,null,null,null,null,null,null,null,null,null,null,null,null,null,null,"","","",{"$f":"IF(U315=\"\",\"\",MEDIAN(IF(($U$25:$U$15023<>\"\")*($V$25:$V$15023=V315),$U$25:$U$15023)))","v":""},"","","",null,"","","","","","","","","","","","","","","",null,null,"","","","","","","","","","","","","","","",null,"","","","","","","","","","","","","","",""]
[null,null,null,null,null,null,null,null,null,null,null,null,null,null,null,null,null,null,null,null,"","","",{"$f":"IF(U316=\"\",\"\",MEDIAN(IF(($U$25:$U$15023<>\"\")*($V$25:$V$15023=V316),$U$25:$U$15023)))","v":""},"","","",null,"","","","","","","","","","","","","","","",null,null,"","","","","","","","","","","","","","","",null,"","","","","","","","","","","","","","",""]
[null,null,null,null,null,null,null,null,null,null,null,null,null,null,null,null,null,null,null,null,"","","",{"$f":"IF(U317=\"\",\"\",MEDIAN(IF(($U$25:$U$15023<>\"\")*($V$25:$V$15023=V317),$U$25:$U$15023)))","v":""},"","","",null,"","","","","","","","","","","","","","","",null,null,"","","","","","","","","","","","","","","",null,"","","","","","","","","","","","","","",""]
[null,null,null,null,null,null,null,null,null,null,null,null,null,null,null,null,null,null,null,null,"","","",{"$f":"IF(U318=\"\",\"\",MEDIAN(IF(($U$25:$U$15023<>\"\")*($V$25:$V$15023=V318),$U$25:$U$15023)))","v":""},"","","",null,"","","","","","","","","","","","","","","",null,null,"","","","","","","","","","","","","","","",null,"","","","","","","","","","","","","","",""]
[null,null,null,null,null,null,null,null,null,null,null,null,null,null,null,null,null,null,null,null,"","","",{"$f":"IF(U319=\"\",\"\",MEDIAN(IF(($U$25:$U$15023<>\"\")*($V$25:$V$15023=V319),$U$25:$U$15023)))","v":""},"","","",null,"","","","","","","","","","","","","","","",null,null,"","","","","","","","","","","","","","","",null,"","","","","","","","","","","","","","",""]
[null,null,null,null,null,null,null,null,null,null,null,null,null,null,null,null,null,null,null,null,"","","",{"$f":"IF(U320=\"\",\"\",MEDIAN(IF(($U$25:$U$15023<>\"\")*($V$25:$V$15023=V320),$U$25:$U$15023)))","v":""},"","","",null,"","","","","","","","","","","","","","","",null,null,"","","","","","","","","","","","","","","",null,"","","","","","","","","","","","","","",""]
[null,null,null,null,null,null,null,null,null,null,null,null,null,null,null,null,null,null,null,null,"","","",{"$f":"IF(U321=\"\",\"\",MEDIAN(IF(($U$25:$U$15023<>\"\")*($V$25:$V$15023=V321),$U$25:$U$15023)))","v":""},"","","",null,"","","","","","","","","","","","","","","",null,null,"","","","","","","","","","","","","","","",null,"","","","","","","","","","","","","","",""]
[null,null,null,null,null,null,null,null,null,null,null,null,null,null,null,null,null,null,null,null,"","","",{"$f":"IF(U322=\"\",\"\",MEDIAN(IF(($U$25:$U$15023<>\"\")*($V$25:$V$15023=V322),$U$25:$U$15023)))","v":""},"","","",null,"","","","","","","","","","","","","","","",null,null,"","","","","","","","","","","","","","","",null,"","","","","","","","","","","","","","",""]
[null,null,null,null,null,null,null,null,null,null,null,null,null,null,null,null,null,null,null,null,"","","",{"$f":"IF(U323=\"\",\"\",MEDIAN(IF(($U$25:$U$15023<>\"\")*($V$25:$V$15023=V323),$U$25:$U$15023)))","v":""},"","","",null,"","","","","","","","","","","","","","","",null,null,"","","","","","","","","","","","","","","",null,"","","","","","","","","","","","","","",""]
[null,null,null,null,null,null,null,null,null,null,null,null,null,null,null,null,null,null,null,null,"","","",{"$f":"IF(U324=\"\",\"\",MEDIAN(IF(($U$25:$U$15023<>\"\")*($V$25:$V$15023=V324),$U$25:$U$15023)))","v":""},"","","",null,"","","","","","","","","","","","","","","",null,null,"","","","","","","","","","","","","","","",null,"","","","","","","","","","","","","","",""]
[null,null,null,null,null,null,null,null,null,null,null,null,null,null,null,null,null,null,null,null,"","","",{"$f":"IF(U325=\"\",\"\",MEDIAN(IF(($U$25:$U$15023<>\"\")*($V$25:$V$15023=V325),$U$25:$U$15023)))","v":""},"","","",null,"","","","","","","","","","","","","","","",null,null,"","","","","","","","","","","","","","","",null,"","","","","","","","","","","","","","",""]
[null,null,null,null,null,null,null,null,null,null,null,null,null,null,null,null,null,null,null,null,"","","",{"$f":"IF(U326=\"\",\"\",MEDIAN(IF(($U$25:$U$15023<>\"\")*($V$25:$V$15023=V326),$U$25:$U$15023)))","v":""},"","","",null,"","","","","","","","","","","","","","","",null,null,"","","","","","","","","","","","","","","",null,"","","","","","","","","","","","","","",""]
[null,null,null,null,null,null,null,null,null,null,null,null,null,null,null,null,null,null,null,null,"","","",{"$f":"IF(U327=\"\",\"\",MEDIAN(IF(($U$25:$U$15023<>\"\")*($V$25:$V$15023=V327),$U$25:$U$15023)))","v":""},"","","",null,"","","","","","","","","","","","","","","",null,null,"","","","","","","","","","","","","","","",null,"","","","","","","","","","","","","","",""]
[null,null,null,null,null,null,null,null,null,null,null,null,null,null,null,null,null,null,null,null,"","","",{"$f":"IF(U328=\"\",\"\",MEDIAN(IF(($U$25:$U$15023<>\"\")*($V$25:$V$15023=V328),$U$25:$U$15023)))","v":""},"","","",null,"","","","","","","","","","","","","","","",null,null,"","","","","","","","","","","","","","","",null,"","","","","","","","","","","","","","",""]
[null,null,null,null,null,null,null,null,null,null,null,null,null,null,null,null,null,null,null,null,"","","",{"$f":"IF(U329=\"\",\"\",MEDIAN(IF(($U$25:$U$15023<>\"\")*($V$25:$V$15023=V329),$U$25:$U$15023)))","v":""},"","","",null,"","","","","","","","","","","","","","","",null,null,"","","","","","","","","","","","","","","",null,"","","","","","","","","","","","","","",""]
[null,null,null,null,null,null,null,null,null,null,null,null,null,null,null,null,null,null,null,null,"","","",{"$f":"IF(U330=\"\",\"\",MEDIAN(IF(($U$25:$U$15023<>\"\")*($V$25:$V$15023=V330),$U$25:$U$15023)))","v":""},"","","",null,"","","","","","","","","","","","","","","",null,null,"","","","","","","","","","","","","","","",null,"","","","","","","","","","","","","","",""]
[null,null,null,null,null,null,null,null,null,null,null,null,null,null,null,null,null,null,null,null,"","","",{"$f":"IF(U331=\"\",\"\",MEDIAN(IF(($U$25:$U$15023<>\"\")*($V$25:$V$15023=V331),$U$25:$U$15023)))","v":""},"","","",null,"","","","","","","","","","","","","","","",null,null,"","","","","","","","","","","","","","","",null,"","","","","","","","","","","","","","",""]
[null,null,null,null,null,null,null,null,null,null,null,null,null,null,null,null,null,null,null,null,"","","",{"$f":"IF(U332=\"\",\"\",MEDIAN(IF(($U$25:$U$15023<>\"\")*($V$25:$V$15023=V332),$U$25:$U$15023)))","v":""},"","","",null,"","","","","","","","","","","","","","","",null,null,"","","","","","","","","","","","","","","",null,"","","","","","","","","","","","","","",""]
[null,null,null,null,null,null,null,null,null,null,null,null,null,null,null,null,null,null,null,null,"","","",{"$f":"IF(U333=\"\",\"\",MEDIAN(IF(($U$25:$U$15023<>\"\")*($V$25:$V$15023=V333),$U$25:$U$15023)))","v":""},"","","",null,"","","","","","","","","","","","","","","",null,null,"","","","","","","","","","","","","","","",null,"","","","","","","","","","","","","","",""]
[null,null,null,null,null,null,null,null,null,null,null,null,null,null,null,null,null,null,null,null,"","","",{"$f":"IF(U334=\"\",\"\",MEDIAN(IF(($U$25:$U$15023<>\"\")*($V$25:$V$15023=V334),$U$25:$U$15023)))","v":""},"","","",null,"","","","","","","","","","","","","","","",null,null,"","","","","","","","","","","","","","","",null,"","","","","","","","","","","","","","",""]
[null,null,null,null,null,null,null,null,null,null,null,null,null,null,null,null,null,null,null,null,"","","",{"$f":"IF(U335=\"\",\"\",MEDIAN(IF(($U$25:$U$15023<>\"\")*($V$25:$V$15023=V335),$U$25:$U$15023)))","v":""},"","","",null,"","","","","","","","","","","","","","","",null,null,"","","","","","","","","","","","","","","",null,"","","","","","","","","","","","","","",""]
[null,null,null,null,null,null,null,null,null,null,null,null,null,null,null,null,null,null,null,null,"","","",{"$f":"IF(U336=\"\",\"\",MEDIAN(IF(($U$25:$U$15023<>\"\")*($V$25:$V$15023=V336),$U$25:$U$15023)))","v":""},"","","",null,"","","","","","","","","","","","","","","",null,null,"","","","","","","","","","","","","","","",null,"","","","","","","","","","","","","","",""]
[null,null,null,null,null,null,null,null,null,null,null,null,null,null,null,null,null,null,null,null,"","","",{"$f":"IF(U337=\"\",\"\",MEDIAN(IF(($U$25:$U$15023<>\"\")*($V$25:$V$15023=V337),$U$25:$U$15023)))","v":""},"","","",null,"","","","","","","","","","","","","","","",null,null,"","","","","","","","","","","","","","","",null,"","","","","","","","","","","","","","",""]
[null,null,null,null,null,null,null,null,null,null,null,null,null,null,null,null,null,null,null,null,"","","",{"$f":"IF(U338=\"\",\"\",MEDIAN(IF(($U$25:$U$15023<>\"\")*($V$25:$V$15023=V338),$U$25:$U$15023)))","v":""},"","","",null,"","","","","","","","","","","","","","","",null,null,"","","","","","","","","","","","","","","",null,"","","","","","","","","","","","","","",""]
[null,null,null,null,null,null,null,null,null,null,null,null,null,null,null,null,null,null,null,null,"","","",{"$f":"IF(U339=\"\",\"\",MEDIAN(IF(($U$25:$U$15023<>\"\")*($V$25:$V$15023=V339),$U$25:$U$15023)))","v":""},"","","",null,"","","","","","","","","","","","","","","",null,null,"","","","","","","","","","","","","","","",null,"","","","","","","","","","","","","","",""]
[null,null,null,null,null,null,null,null,null,null,null,null,null,null,null,null,null,null,null,null,"","","",{"$f":"IF(U340=\"\",\"\",MEDIAN(IF(($U$25:$U$15023<>\"\")*($V$25:$V$15023=V340),$U$25:$U$15023)))","v":""},"","","",null,"","","","","","","","","","","","","","","",null,null,"","","","","","","","","","","","","","","",null,"","","","","","","","","","","","","","",""]
[null,null,null,null,null,null,null,null,null,null,null,null,null,null,null,null,null,null,null,null,"","","",{"$f":"IF(U341=\"\",\"\",MEDIAN(IF(($U$25:$U$15023<>\"\")*($V$25:$V$15023=V341),$U$25:$U$15023)))","v":""},"","","",null,"","","","","","","","","","","","","","","",null,null,"","","","","","","","","","","","","","","",null,"","","","","","","","","","","","","","",""]
[null,null,null,null,null,null,null,null,null,null,null,null,null,null,null,null,null,null,null,null,"","","",{"$f":"IF(U342=\"\",\"\",MEDIAN(IF(($U$25:$U$15023<>\"\")*($V$25:$V$15023=V342),$U$25:$U$15023)))","v":""},"","","",null,"","","","","","","","","","","","","","","",null,null,"","","","","","","","","","","","","","","",null,"","","","","","","","","","","","","","",""]
[null,null,null,null,null,null,null,null,null,null,null,null,null,null,null,null,null,null,null,null,"","","",{"$f":"IF(U343=\"\",\"\",MEDIAN(IF(($U$25:$U$15023<>\"\")*($V$25:$V$15023=V343),$U$25:$U$15023)))","v":""},"","","",null,"","","","","","","","","","","","","","","",null,null,"","","","","","","","","","","","","","","",null,"","","","","","","","","","","","","","",""]
[null,null,null,null,null,null,null,null,null,null,null,null,null,null,null,null,null,null,null,null,"","","",{"$f":"IF(U344=\"\",\"\",MEDIAN(IF(($U$25:$U$15023<>\"\")*($V$25:$V$15023=V344),$U$25:$U$15023)))","v":""},"","","",null,"","","","","","","","","","","","","","","",null,null,"","","","","","","","","","","","","","","",null,"","","","","","","","","","","","","","",""]
[null,null,null,null,null,null,null,null,null,null,null,null,null,null,null,null,null,null,null,null,"","","",{"$f":"IF(U345=\"\",\"\",MEDIAN(IF(($U$25:$U$15023<>\"\")*($V$25:$V$15023=V345),$U$25:$U$15023)))","v":""},"","","",null,"","","","","","","","","","","","","","","",null,null,"","","","","","","","","","","","","","","",null,"","","","","","","","","","","","","","",""]
[null,null,null,null,null,null,null,null,null,null,null,null,null,null,null,null,null,null,null,null,{"$f":"IF(A346=\"\",\"\",A346)","v":""},{"$f":"IF(B346=\"\",\"\",B346)","v":""},{"$f":"IF(U346=\"\",\"\",RANK(U346,$U$25:$U$15023,1)+(COUNT($U$25:$U$15023)+1-RANK(U346,$U$25:$U$15023,0)-RANK(U346,$U$25:$U$15023,1))/2)","v":""},{"$f":"IF(U346=\"\",\"\",MEDIAN(IF(($U$25:$U$15023<>\"\")*($V$25:$V$15023=V346),$U$25:$U$15023)))","v":""},{"$f":"IF(U346=\"\",\"\",ABS(X346-U346))","v":""},{"$f":"IF(V346=\"\",\"\",AVERAGEIF($V$25:$V$15023,V346,$Y$25:$Y$15023))","v":""},{"$f":"IF(V346=\"\",\"\",(Y346-Z346)^2)","v":""},null,"","","","","","","","","","","","","","","",null,null,{"$f":"IF(D346=\"\",\"\",ABS(D346-MEDIAN(D$25:D$1024)))","v":""},{"$f":"IF(E346=\"\",\"\",ABS(E346-MEDIAN(E$25:E$1024)))","v":""},{"$f":"IF(F346=\"\",\"\",ABS(F346-MEDIAN(F$25:F$1024)))","v":""},{"$f":"IF(G346=\"\",\"\",ABS(G346-MEDIAN(G$25:G$1024)))","v":""},{"$f":"IF(H346=\"\",\"\",ABS(H346-MEDIAN(H$25:H$1024)))","v":""},{"$f":"IF(I346=\"\",\"\",ABS(I346-MEDIAN(I$25:I$1024)))","v":""},{"$f":"IF(J346=\"\",\"\",ABS(J346-MEDIAN(J$25:J$1024)))","v":""},{"$f":"IF(K346=\"\",\"\",ABS(K346-MEDIAN(K$25:K$1024)))","v":""},{"$f":"IF(L346=\"\",\"\",ABS(L346-MEDIAN(L$25:L$1024)))","v":""},{"$f":"IF(M346=\"\",\"\",ABS(M346-MEDIAN(M$25:M$1024)))","v":""},{"$f":"IF(N346=\"\",\"\",ABS(N346-MEDIAN(N$25:N$1024)))","v":""},{"$f":"IF(O346=\"\",\"\",ABS(O346-MEDIAN(O$25:O$1024)))","v":""},{"$f":"IF(P346=\"\",\"\",ABS(P346-MEDIAN(P$25:P$1024)))","v":""},{"$f":"IF(Q346=\"\",\"\",ABS(Q346-MEDIAN(Q$25:Q$1024)))","v":""},{"$f":"IF(R346=\"\",\"\",ABS(R346-MEDIAN(R$25:R$1024)))","v":""},null,{"$f":"IF(AT346=\"\",\"\",(AT346-AT$22)^2)","v":""},{"$f":"IF(AU346=\"\",\"\",(AU346-AU$22)^2)","v":""},{"$f":"IF(AV346=\"\",\"\",(AV346-AV$22)^2)","v":""},{"$f":"IF(AW346=\"\",\"\",(AW346-AW$22)^2)","v":""},{"$f":"IF(AX346=\"\",\"\",(AX346-AX$22)^2)","v":""},{"$f":"IF(AY346=\"\",\"\",(AY346-AY$22)^2)","v":""},{"$f":"IF(AZ346=\"\",\"\",(AZ346-AZ$22)^2)","v":""},{"$f":"IF(BA346=\"\",\"\",(BA346-BA$22)^2)","v":""},{"$f":"IF(BB346=\"\",\"\",(BB346-BB$22)^2)","v":""},{"$f":"IF(BC346=\"\",\"\",(BC346-BC$22)^2)","v":""},{"$f":"IF(BD346=\"\",\"\",(BD346-BD$22)^2)","v":""},{"$f":"IF(BE346=\"\",\"\",(BE346-BE$22)^2)","v":""},{"$f":"IF(BF346=\"\",\"\",(BF346-BF$22)^2)","v":""},{"$f":"IF(BG346=\"\",\"\",(BG346-BG$22)^2)","v":""},{"$f":"IF(BH346=\"\",\"\",(BH346-BH$22)^2)","v":""}]
[null,null,null,null,null,null,null,null,null,null,null,null,null,null,null,null,null,null,null,null,"","","",{"$f":"IF(U347=\"\",\"\",MEDIAN(IF(($U$25:$U$15023<>\"\")*($V$25:$V$15023=V347),$U$25:$U$15023)))","v":""},"","","",null,"","","","","","","","","","","","","","","",null,null,"","","","","","","","","","","","","","","",null,"","","","","","","","","","","","","","",""]
[null,null,null,null,null,null,null,null,null,null,null,null,null,null,null,null,null,null,null,null,"","","",{"$f":"IF(U348=\"\",\"\",MEDIAN(IF(($U$25:$U$15023<>\"\")*($V$25:$V$15023=V348),$U$25:$U$15023)))","v":""},"","","",null,"","","","","","","","","","","","","","","",null,null,"","","","","","","","","","","","","","","",null,"","","","","","","","","","","","","","",""]
[null,null,null,null,null,null,null,null,null,null,null,null,null,null,null,null,null,null,null,null,"","","",{"$f":"IF(U349=\"\",\"\",MEDIAN(IF(($U$25:$U$15023<>\"\")*($V$25:$V$15023=V349),$U$25:$U$15023)))","v":""},"","","",null,"","","","","","","","","","","","","","","",null,null,"","","","","","","","","","","","","","","",null,"","","","","","","","","","","","","","",""]
[null,null,null,null,null,null,null,null,null,null,null,null,null,null,null,null,null,null,null,null,"","","",{"$f":"IF(U350=\"\",\"\",MEDIAN(IF(($U$25:$U$15023<>\"\")*($V$25:$V$15023=V350),$U$25:$U$15023)))","v":""},"","","",null,"","","","","","","","","","","","","","","",null,null,"","","","","","","","","","","","","","","",null,"","","","","","","","","","","","","","",""]
[null,null,null,null,null,null,null,null,null,null,null,null,null,null,null,null,null,null,null,null,"","","",{"$f":"IF(U351=\"\",\"\",MEDIAN(IF(($U$25:$U$15023<>\"\")*($V$25:$V$15023=V351),$U$25:$U$15023)))","v":""},"","","",null,"","","","","","","","","","","","","","","",null,null,"","","","","","","","","","","","","","","",null,"","","","","","","","","","","","","","",""]
[null,null,null,null,null,null,null,null,null,null,null,null,null,null,null,null,null,null,null,null,"","","",{"$f":"IF(U352=\"\",\"\",MEDIAN(IF(($U$25:$U$15023<>\"\")*($V$25:$V$15023=V352),$U$25:$U$15023)))","v":""},"","","",null,"","","","","","","","","","","","","","","",null,null,"","","","","","","","","","","","","","","",null,"","","","","","","","","","","","","","",""]
[null,null,null,null,null,null,null,null,null,null,null,null,null,null,null,null,null,null,null,null,"","","",{"$f":"IF(U353=\"\",\"\",MEDIAN(IF(($U$25:$U$15023<>\"\")*($V$25:$V$15023=V353),$U$25:$U$15023)))","v":""},"","","",null,{"$f":"IF(D353=\"\",\"\",RANK(D353,$D$25:$R$1024,1)+(COUNT($D$25:$R$1024)+1-RANK(D353,$D$25:$R$1024,0)-RANK(D353,$D$25:$R$1024,1))/2)","v":""},{"$f":"IF(E353=\"\",\"\",RANK(E353,$D$25:$R$1024,1)+(COUNT($D$25:$R$1024)+1-RANK(E353,$D$25:$R$1024,0)-RANK(E353,$D$25:$R$1024,1))/2)","v":""},{"$f":"IF(F353=\"\",\"\",RANK(F353,$D$25:$R$1024,1)+(COUNT($D$25:$R$1024)+1-RANK(F353,$D$25:$R$1024,0)-RANK(F353,$D$25:$R$1024,1))/2)","v":""},{"$f":"IF(G353=\"\",\"\",RANK(G353,$D$25:$R$1024,1)+(COUNT($D$25:$R$1024)+1-RANK(G353,$D$25:$R$1024,0)-RANK(G353,$D$25:$R$1024,1))/2)","v":""},{"$f":"IF(H353=\"\",\"\",RANK(H353,$D$25:$R$1024,1)+(COUNT($D$25:$R$1024)+1-RANK(H353,$D$25:$R$1024,0)-RANK(H353,$D$25:$R$1024,1))/2)","v":""},{"$f":"IF(I353=\"\",\"\",RANK(I353,$D$25:$R$1024,1)+(COUNT($D$25:$R$1024)+1-RANK(I353,$D$25:$R$1024,0)-RANK(I353,$D$25:$R$1024,1))/2)","v":""},{"$f":"IF(J353=\"\",\"\",RANK(J353,$D$25:$R$1024,1)+(COUNT($D$25:$R$1024)+1-RANK(J353,$D$25:$R$1024,0)-RANK(J353,$D$25:$R$1024,1))/2)","v":""},{"$f":"IF(K353=\"\",\"\",RANK(K353,$D$25:$R$1024,1)+(COUNT($D$25:$R$1024)+1-RANK(K353,$D$25:$R$1024,0)-RANK(K353,$D$25:$R$1024,1))/2)","v":""},{"$f":"IF(L353=\"\",\"\",RANK(L353,$D$25:$R$1024,1)+(COUNT($D$25:$R$1024)+1-RANK(L353,$D$25:$R$1024,0)-RANK(L353,$D$25:$R$1024,1))/2)","v":""},{"$f":"IF(M353=\"\",\"\",RANK(M353,$D$25:$R$1024,1)+(COUNT($D$25:$R$1024)+1-RANK(M353,$D$25:$R$1024,0)-RANK(M353,$D$25:$R$1024,1))/2)","v":""},{"$f":"IF(N353=\"\",\"\",RANK(N353,$D$25:$R$1024,1)+(COUNT($D$25:$R$1024)+1-RANK(N353,$D$25:$R$1024,0)-RANK(N353,$D$25:$R$1024,1))/2)","v":""},{"$f":"IF(O353=\"\",\"\",RANK(O353,$D$25:$R$1024,1)+(COUNT($D$25:$R$1024)+1-RANK(O353,$D$25:$R$1024,0)-RANK(O353,$D$25:$R$1024,1))/2)","v":""},{"$f":"IF(P353=\"\",\"\",RANK(P353,$D$25:$R$1024,1)+(COUNT($D$25:$R$1024)+1-RANK(P353,$D$25:$R$1024,0)-RANK(P353,$D$25:$R$1024,1))/2)","v":""},{"$f":"IF(Q353=\"\",\"\",RANK(Q353,$D$25:$R$1024,1)+(COUNT($D$25:$R$1024)+1-RANK(Q353,$D$25:$R$1024,0)-RANK(Q353,$D$25:$R$1024,1))/2)","v":""},{"$f":"IF(R353=\"\",\"\",RANK(R353,$D$25:$R$1024,1)+(COUNT($D$25:$R$1024)+1-RANK(R353,$D$25:$R$1024,0)-RANK(R353,$D$25:$R$1024,1))/2)","v":""},null,null,"","","","","","","","","","","","","","","",null,"","","","","","","","","","","","","","",""]
[null,null,null,null,null,null,null,null,null,null,null,null,null,null,null,null,null,null,null,null,"","","",{"$f":"IF(U354=\"\",\"\",MEDIAN(IF(($U$25:$U$15023<>\"\")*($V$25:$V$15023=V354),$U$25:$U$15023)))","v":""},"","","",null,"","","","","","","","","","","","","","","",null,null,"","","","","","","","","","","","","","","",null,"","","","","","","","","","","","","","",""]
[null,null,null,null,null,null,null,null,null,null,null,null,null,null,null,null,null,null,null,null,"","","",{"$f":"IF(U355=\"\",\"\",MEDIAN(IF(($U$25:$U$15023<>\"\")*($V$25:$V$15023=V355),$U$25:$U$15023)))","v":""},"","","",null,"","","","","","","","","","","","","","","",null,null,"","","","","","","","","","","","","","","",null,"","","","","","","","","","","","","","",""]
[null,null,null,null,null,null,null,null,null,null,null,null,null,null,null,null,null,null,null,null,"","","",{"$f":"IF(U356=\"\",\"\",MEDIAN(IF(($U$25:$U$15023<>\"\")*($V$25:$V$15023=V356),$U$25:$U$15023)))","v":""},"","","",null,"","","","","","","","","","","","","","","",null,null,"","","","","","","","","","","","","","","",null,"","","","","","","","","","","","","","",""]
[null,null,null,null,null,null,null,null,null,null,null,null,null,null,null,null,null,null,null,null,"","","",{"$f":"IF(U357=\"\",\"\",MEDIAN(IF(($U$25:$U$15023<>\"\")*($V$25:$V$15023=V357),$U$25:$U$15023)))","v":""},"","","",null,"","","","","","","","","","","","","","","",null,null,"","","","","","","","","","","","","","","",null,"","","","","","","","","","","","","","",""]
[null,null,null,null,null,null,null,null,null,null,null,null,null,null,null,null,null,null,null,null,"","","",{"$f":"IF(U358=\"\",\"\",MEDIAN(IF(($U$25:$U$15023<>\"\")*($V$25:$V$15023=V358),$U$25:$U$15023)))","v":""},"","","",null,"","","","","","","","","","","","","","","",null,null,"","","","","","","","","","","","","","","",null,"","","","","","","","","","","","","","",""]
[null,null,null,null,null,null,null,null,null,null,null,null,null,null,null,null,null,null,null,null,"","","",{"$f":"IF(U359=\"\",\"\",MEDIAN(IF(($U$25:$U$15023<>\"\")*($V$25:$V$15023=V359),$U$25:$U$15023)))","v":""},"","","",null,"","","","","","","","","","","","","","","",null,null,"","","","","","","","","","","","","","","",null,"","","","","","","","","","","","","","",""]
[null,null,null,null,null,null,null,null,null,null,null,null,null,null,null,null,null,null,null,null,"","","",{"$f":"IF(U360=\"\",\"\",MEDIAN(IF(($U$25:$U$15023<>\"\")*($V$25:$V$15023=V360),$U$25:$U$15023)))","v":""},"","","",null,"","","","","","","","","","","","","","","",null,null,"","","","","","","","","","","","","","","",null,"","","","","","","","","","","","","","",""]
[null,null,null,null,null,null,null,null,null,null,null,null,null,null,null,null,null,null,null,null,"","","",{"$f":"IF(U361=\"\",\"\",MEDIAN(IF(($U$25:$U$15023<>\"\")*($V$25:$V$15023=V361),$U$25:$U$15023)))","v":""},"","","",null,"","","","","","","","","","","","","","","",null,null,"","","","","","","","","","","","","","","",null,"","","","","","","","","","","","","","",""]
[null,null,null,null,null,null,null,null,null,null,null,null,null,null,null,null,null,null,null,null,"","","",{"$f":"IF(U362=\"\",\"\",MEDIAN(IF(($U$25:$U$15023<>\"\")*($V$25:$V$15023=V362),$U$25:$U$15023)))","v":""},"","","",null,"","","","","","","","","","","","","","","",null,null,"","","","","","","","","","","","","","","",null,"","","","","","","","","","","","","","",""]
[null,null,null,null,null,null,null,null,null,null,null,null,null,null,null,null,null,null,null,null,"","","",{"$f":"IF(U363=\"\",\"\",MEDIAN(IF(($U$25:$U$15023<>\"\")*($V$25:$V$15023=V363),$U$25:$U$15023)))","v":""},"","","",null,"","","","","","","","","","","","","","","",null,null,"","","","","","","","","","","","","","","",null,"","","","","","","","","","","","","","",""]
[null,null,null,null,null,null,null,null,null,null,null,null,null,null,null,null,null,null,null,null,"","","",{"$f":"IF(U364=\"\",\"\",MEDIAN(IF(($U$25:$U$15023<>\"\")*($V$25:$V$15023=V364),$U$25:$U$15023)))","v":""},"","","",null,"","","","","","","","","","","","","","","",null,null,"","","","","","","","","","","","","","","",null,"","","","","","","","","","","","","","",""]
[null,null,null,null,null,null,null,null,null,null,null,null,null,null,null,null,null,null,null,null,"","","",{"$f":"IF(U365=\"\",\"\",MEDIAN(IF(($U$25:$U$15023<>\"\")*($V$25:$V$15023=V365),$U$25:$U$15023)))","v":""},"","","",null,"","","","","","","","","","","","","","","",null,null,"","","","","","","","","","","","","","","",null,"","","","","","","","","","","","","","",""]
[null,null,null,null,null,null,null,null,null,null,null,null,null,null,null,null,null,null,null,null,"","","",{"$f":"IF(U366=\"\",\"\",MEDIAN(IF(($U$25:$U$15023<>\"\")*($V$25:$V$15023=V366),$U$25:$U$15023)))","v":""},"","","",null,"","","","","","","","","","","","","","","",null,null,"","","","","","","","","","","","","","","",null,"","","","","","","","","","","","","","",""]
[null,null,null,null,null,null,null,null,null,null,null,null,null,null,null,null,null,null,null,null,"","","",{"$f":"IF(U367=\"\",\"\",MEDIAN(IF(($U$25:$U$15023<>\"\")*($V$25:$V$15023=V367),$U$25:$U$15023)))","v":""},"","","",null,"","","","","","","","","","","","","","","",null,null,"","","","","","","","","","","","","","","",null,"","","","","","","","","","","","","","",""]
[null,null,null,null,null,null,null,null,null,null,null,null,null,null,null,null,null,null,null,null,"","","",{"$f":"IF(U368=\"\",\"\",MEDIAN(IF(($U$25:$U$15023<>\"\")*($V$25:$V$15023=V368),$U$25:$U$15023)))","v":""},"","","",null,"","","","","","","","","","","","","","","",null,null,"","","","","","","","","","","","","","","",null,"","","","","","","","","","","","","","",""]
[null,null,null,null,null,null,null,null,null,null,null,null,null,null,null,null,null,null,null,null,"","","",{"$f":"IF(U369=\"\",\"\",MEDIAN(IF(($U$25:$U$15023<>\"\")*($V$25:$V$15023=V369),$U$25:$U$15023)))","v":""},"","","",null,"","","","","","","","","","","","","","","",null,null,"","","","","","","","","","","","","","","",null,"","","","","","","","","","","","","","",""]
[null,null,null,null,null,null,null,null,null,null,null,null,null,null,null,null,null,null,null,null,"","","",{"$f":"IF(U370=\"\",\"\",MEDIAN(IF(($U$25:$U$15023<>\"\")*($V$25:$V$15023=V370),$U$25:$U$15023)))","v":""},"","","",null,"","","","","","","","","","","","","","","",null,null,"","","","","","","","","","","","","","","",null,"","","","","","","","","","","","","","",""]
[null,null,null,null,null,null,null,null,null,null,null,null,null,null,null,null,null,null,null,null,"","","",{"$f":"IF(U371=\"\",\"\",MEDIAN(IF(($U$25:$U$15023<>\"\")*($V$25:$V$15023=V371),$U$25:$U$15023)))","v":""},"","","",null,"","","","","","","","","","","","","","","",null,null,"","","","","","","","","","","","","","","",null,"","","","","","","","","","","","","","",""]
[null,null,null,null,null,null,null,null,null,null,null,null,null,null,null,null,null,null,null,null,"","","",{"$f":"IF(U372=\"\",\"\",MEDIAN(IF(($U$25:$U$15023<>\"\")*($V$25:$V$15023=V372),$U$25:$U$15023)))","v":""},"","","",null,"","","","","","","","","","","","","","","",null,null,"","","","","","","","","","","","","","","",null,"","","","","","","","","","","","","","",""]
[null,null,null,null,null,null,null,null,null,null,null,null,null,null,null,null,null,null,null,null,"","","",{"$f":"IF(U373=\"\",\"\",MEDIAN(IF(($U$25:$U$15023<>\"\")*($V$25:$V$15023=V373),$U$25:$U$15023)))","v":""},"","","",null,"","","","","","","","","","","","","","","",null,null,"","","","","","","","","","","","","","","",null,"","","","","","","","","","","","","","",""]
[null,null,null,null,null,null,null,null,null,null,null,null,null,null,null,null,null,null,null,null,"","","",{"$f":"IF(U374=\"\",\"\",MEDIAN(IF(($U$25:$U$15023<>\"\")*($V$25:$V$15023=V374),$U$25:$U$15023)))","v":""},"","","",null,"","","","","","","","","","","","","","","",null,null,"","","","","","","","","","","","","","","",null,"","","","","","","","","","","","","","",""]
[null,null,null,null,null,null,null,null,null,null,null,null,null,null,null,null,null,null,null,null,"","","",{"$f":"IF(U375=\"\",\"\",MEDIAN(IF(($U$25:$U$15023<>\"\")*($V$25:$V$15023=V375),$U$25:$U$15023)))","v":""},"","","",null,"","","","","","","","","","","","","","","",null,null,"","","","","","","","","","","","","","","",null,"","","","","","","","","","","","","","",""]
[null,null,null,null,null,null,null,null,null,null,null,null,null,null,null,null,null,null,null,null,"","","",{"$f":"IF(U376=\"\",\"\",MEDIAN(IF(($U$25:$U$15023<>\"\")*($V$25:$V$15023=V376),$U$25:$U$15023)))","v":""},"","","",null,"","","","","","","","","","","","","","","",null,null,"","","","","","","","","","","","","","","",null,"","","","","","","","","","","","","","",""]
[null,null,null,null,null,null,null,null,null,null,null,null,null,null,null,null,null,null,null,null,"","","",{"$f":"IF(U377=\"\",\"\",MEDIAN(IF(($U$25:$U$15023<>\"\")*($V$25:$V$15023=V377),$U$25:$U$15023)))","v":""},"","","",null,"","","","","","","","","","","","","","","",null,null,"","","","","","","","","","","","","","","",null,"","","","","","","","","","","","","","",""]
[null,null,null,null,null,null,null,null,null,null,null,null,null,null,null,null,null,null,null,null,"","","",{"$f":"IF(U378=\"\",\"\",MEDIAN(IF(($U$25:$U$15023<>\"\")*($V$25:$V$15023=V378),$U$25:$U$15023)))","v":""},"","","",null,"","","","","","","","","","","","","","","",null,null,"","","","","","","","","","","","","","","",null,"","","","","","","","","","","","","","",""]
[null,null,null,null,null,null,null,null,null,null,null,null,null,null,null,null,null,null,null,null,"","","",{"$f":"IF(U379=\"\",\"\",MEDIAN(IF(($U$25:$U$15023<>\"\")*($V$25:$V$15023=V379),$U$25:$U$15023)))","v":""},"","","",null,"","","","","","","","","","","","","","","",null,null,"","","","","","","","","","","","","","","",null,"","","","","","","","","","","","","","",""]
[null,null,null,null,null,null,null,null,null,null,null,null,null,null,null,null,null,null,null,null,"","","",{"$f":"IF(U380=\"\",\"\",MEDIAN(IF(($U$25:$U$15023<>\"\")*($V$25:$V$15023=V380),$U$25:$U$15023)))","v":""},"","","",null,"","","","","","","","","","","","","","","",null,null,"","","","","","","","","","","","","","","",null,"","","","","","","","","","","","","","",""]
[null,null,null,null,null,null,null,null,null,null,null,null,null,null,null,null,null,null,null,null,"","","",{"$f":"IF(U381=\"\",\"\",MEDIAN(IF(($U$25:$U$15023<>\"\")*($V$25:$V$15023=V381),$U$25:$U$15023)))","v":""},"","","",null,"","","","","","","","","","","","","","","",null,null,"","","","","","","","","","","","","","","",null,"","","","","","","","","","","","","","",""]
[null,null,null,null,null,null,null,null,null,null,null,null,null,null,null,null,null,null,null,null,"","","",{"$f":"IF(U382=\"\",\"\",MEDIAN(IF(($U$25:$U$15023<>\"\")*($V$25:$V$15023=V382),$U$25:$U$15023)))","v":""},"","","",null,"","","","","","","","","","","","","","","",null,null,"","","","","","","","","","","","","","","",null,"","","","","","","","","","","","","","",""]
[null,null,null,null,null,null,null,null,null,null,null,null,null,null,null,null,null,null,null,null,"","","",{"$f":"IF(U383=\"\",\"\",MEDIAN(IF(($U$25:$U$15023<>\"\")*($V$25:$V$15023=V383),$U$25:$U$15023)))","v":""},"","","",null,"","","","","","","","","","","","","","","",null,null,"","","","","","","","","","","","","","","",null,"","","","","","","","","","","","","","",""]
[null,null,null,null,null,null,null,null,null,null,null,null,null,null,null,null,null,null,null,null,"","","",{"$f":"IF(U384=\"\",\"\",MEDIAN(IF(($U$25:$U$15023<>\"\")*($V$25:$V$15023=V384),$U$25:$U$15023)))","v":""},"","","",null,"","","","","","","","","","","","","","","",null,null,"","","","","","","","","","","","","","","",null,"","","","","","","","","","","","","","",""]
[null,null,null,null,null,null,null,null,null,null,null,null,null,null,null,null,null,null,null,null,"","","",{"$f":"IF(U385=\"\",\"\",MEDIAN(IF(($U$25:$U$15023<>\"\")*($V$25:$V$15023=V385),$U$25:$U$15023)))","v":""},"","","",null,"","","","","","","","","","","","","","","",null,null,"","","","","","","","","","","","","","","",null,"","","","","","","","","","","","","","",""]
[null,null,null,null,null,null,null,null,null,null,null,null,null,null,null,null,null,null,null,null,"","","",{"$f":"IF(U386=\"\",\"\",MEDIAN(IF(($U$25:$U$15023<>\"\")*($V$25:$V$15023=V386),$U$25:$U$15023)))","v":""},"","","",null,"","","","","","","","","","","","","","","",null,null,"","","","","","","","","","","","","","","",null,"","","","","","","","","","","","","","",""]
[null,null,null,null,null,null,null,null,null,null,null,null,null,null,null,null,null,null,null,null,"","","",{"$f":"IF(U387=\"\",\"\",MEDIAN(IF(($U$25:$U$15023<>\"\")*($V$25:$V$15023=V387),$U$25:$U$15023)))","v":""},"","","",null,"","","","","","","","","","","","","","","",null,null,"","","","","","","","","","","","","","","",null,"","","","","","","","","","","","","","",""]
[null,null,null,null,null,null,null,null,null,null,null,null,null,null,null,null,null,null,null,null,"","","",{"$f":"IF(U388=\"\",\"\",MEDIAN(IF(($U$25:$U$15023<>\"\")*($V$25:$V$15023=V388),$U$25:$U$15023)))","v":""},"","","",null,"","","","","","","","","","","","","","","",null,null,"","","","","","","","","","","","","","","",null,"","","","","","","","","","","","","","",""]
[null,null,null,null,null,null,null,null,null,null,null,null,null,null,null,null,null,null,null,null,"","","",{"$f":"IF(U389=\"\",\"\",MEDIAN(IF(($U$25:$U$15023<>\"\")*($V$25:$V$15023=V389),$U$25:$U$15023)))","v":""},"","","",null,"","","","","","","","","","","","","","","",null,null,"","","","","","","","","","","","","","","",null,"","","","","","","","","","","","","","",""]
[null,null,null,null,null,null,null,null,null,null,null,null,null,null,null,null,null,null,null,null,"","","",{"$f":"IF(U390=\"\",\"\",MEDIAN(IF(($U$25:$U$15023<>\"\")*($V$25:$V$15023=V390),$U$25:$U$15023)))","v":""},"","","",null,"","","","","","","","","","","","","","","",null,null,"","","","","","","","","","","","","","","",null,"","","","","","","","","","","","","","",""]
[null,null,null,null,null,null,null,null,null,null,null,null,null,null,null,null,null,null,null,null,"","","",{"$f":"IF(U391=\"\",\"\",MEDIAN(IF(($U$25:$U$15023<>\"\")*($V$25:$V$15023=V391),$U$25:$U$15023)))","v":""},"","","",null,"","","","","","","","","","","","","","","",null,null,"","","","","","","","","","","","","","","",null,"","","","","","","","","","","","","","",""]
[null,null,null,null,null,null,null,null,null,null,null,null,null,null,null,null,null,null,null,null,"","","",{"$f":"IF(U392=\"\",\"\",MEDIAN(IF(($U$25:$U$15023<>\"\")*($V$25:$V$15023=V392),$U$25:$U$15023)))","v":""},"","","",null,"","","","","","","","","","","","","","","",null,null,"","","","","","","","","","","","","","","",null,"","","","","","","","","","","","","","",""]
[null,null,null,null,null,null,null,null,null,null,null,null,null,null,null,null,null,null,null,null,"","","",{"$f":"IF(U393=\"\",\"\",MEDIAN(IF(($U$25:$U$15023<>\"\")*($V$25:$V$15023=V393),$U$25:$U$15023)))","v":""},"","","",null,"","","","","","","","","","","","","","","",null,null,"","","","","","","","","","","","","","","",null,"","","","","","","","","","","","","","",""]
[null,null,null,null,null,null,null,null,null,null,null,null,null,null,null,null,null,null,null,null,"","","",{"$f":"IF(U394=\"\",\"\",MEDIAN(IF(($U$25:$U$15023<>\"\")*($V$25:$V$15023=V394),$U$25:$U$15023)))","v":""},"","","",null,"","","","","","","","","","","","","","","",null,null,"","","","","","","","","","","","","","","",null,"","","","","","","","","","","","","","",""]
[null,null,null,null,null,null,null,null,null,null,null,null,null,null,null,null,null,null,null,null,"","","",{"$f":"IF(U395=\"\",\"\",MEDIAN(IF(($U$25:$U$15023<>\"\")*($V$25:$V$15023=V395),$U$25:$U$15023)))","v":""},"","","",null,"","","","","","","","","","","","","","","",null,null,"","","","","","","","","","","","","","","",null,"","","","","","","","","","","","","","",""]
[null,null,null,null,null,null,null,null,null,null,null,null,null,null,null,null,null,null,null,null,"","","",{"$f":"IF(U396=\"\",\"\",MEDIAN(IF(($U$25:$U$15023<>\"\")*($V$25:$V$15023=V396),$U$25:$U$15023)))","v":""},"","","",null,"","","","","","","","","","","","","","","",null,null,"","","","","","","","","","","","","","","",null,"","","","","","","","","","","","","","",""]
[null,null,null,null,null,null,null,null,null,null,null,null,null,null,null,null,null,null,null,null,"","","",{"$f":"IF(U397=\"\",\"\",MEDIAN(IF(($U$25:$U$15023<>\"\")*($V$25:$V$15023=V397),$U$25:$U$15023)))","v":""},"","","",null,"","","","","","","","","","","","","","","",null,null,"","","","","","","","","","","","","","","",null,"","","","","","","","","","","","","","",""]
[null,null,null,null,null,null,null,null,null,null,null,null,null,null,null,null,null,null,null,null,"","","",{"$f":"IF(U398=\"\",\"\",MEDIAN(IF(($U$25:$U$15023<>\"\")*($V$25:$V$15023=V398),$U$25:$U$15023)))","v":""},"","","",null,"","","","","","","","","","","","","","","",null,null,"","","","","","","","","","","","","","","",null,"","","","","","","","","","","","","","",""]
[null,null,null,null,null,null,null,null,null,null,null,null,null,null,null,null,null,null,null,null,"","","",{"$f":"IF(U399=\"\",\"\",MEDIAN(IF(($U$25:$U$15023<>\"\")*($V$25:$V$15023=V399),$U$25:$U$15023)))","v":""},"","","",null,"","","","","","","","","","","","","","","",null,null,"","","","","","","","","","","","","","","",null,"","","","","","","","","","","","","","",""]
[null,null,null,null,null,null,null,null,null,null,null,null,null,null,null,null,null,null,null,null,"","","",{"$f":"IF(U400=\"\",\"\",MEDIAN(IF(($U$25:$U$15023<>\"\")*($V$25:$V$15023=V400),$U$25:$U$15023)))","v":""},"","","",null,"","","","","","","","","","","","","","","",null,null,"","","","","","","","","","","","","","","",null,"","","","","","","","","","","","","","",""]
[null,null,null,null,null,null,null,null,null,null,null,null,null,null,null,null,null,null,null,null,"","","",{"$f":"IF(U401=\"\",\"\",MEDIAN(IF(($U$25:$U$15023<>\"\")*($V$25:$V$15023=V401),$U$25:$U$15023)))","v":""},"","","",null,"","","","","","","","","","","","","","","",null,null,"","","","","","","","","","","","","","","",null,"","","","","","","","","","","","","","",""]
[null,null,null,null,null,null,null,null,null,null,null,null,null,null,null,null,null,null,null,null,"","","",{"$f":"IF(U402=\"\",\"\",MEDIAN(IF(($U$25:$U$15023<>\"\")*($V$25:$V$15023=V402),$U$25:$U$15023)))","v":""},"","","",null,"","","","","","","","","","","","","","","",null,null,"","","","","","","","","","","","","","","",null,"","","","","","","","","","","","","","",""]
[null,null,null,null,null,null,null,null,null,null,null,null,null,null,null,null,null,null,null,null,"","","",{"$f":"IF(U403=\"\",\"\",MEDIAN(IF(($U$25:$U$15023<>\"\")*($V$25:$V$15023=V403),$U$25:$U$15023)))","v":""},"","","",null,"","","","","","","","","","","","","","","",null,null,"","","","","","","","","","","","","","","",null,"","","","","","","","","","","","","","",""]
[null,null,null,null,null,null,null,null,null,null,null,null,null,null,null,null,null,null,null,null,"","","",{"$f":"IF(U404=\"\",\"\",MEDIAN(IF(($U$25:$U$15023<>\"\")*($V$25:$V$15023=V404),$U$25:$U$15023)))","v":""},"","","",null,"","","","","","","","","","","","","","","",null,null,"","","","","","","","","","","","","","","",null,"","","","","","","","","","","","","","",""]
[null,null,null,null,null,null,null,null,null,null,null,null,null,null,null,null,null,null,null,null,"","","",{"$f":"IF(U405=\"\",\"\",MEDIAN(IF(($U$25:$U$15023<>\"\")*($V$25:$V$15023=V405),$U$25:$U$15023)))","v":""},"","","",null,"","","","","","","","","","","","","","","",null,null,"","","","","","","","","","","","","","","",null,"","","","","","","","","","","","","","",""]
[null,null,null,null,null,null,null,null,null,null,null,null,null,null,null,null,null,null,null,null,"","","",{"$f":"IF(U406=\"\",\"\",MEDIAN(IF(($U$25:$U$15023<>\"\")*($V$25:$V$15023=V406),$U$25:$U$15023)))","v":""},"","","",null,"","","","","","","","","","","","","","","",null,null,"","","","","","","","","","","","","","","",null,"","","","","","","","","","","","","","",""]
[null,null,null,null,null,null,null,null,null,null,null,null,null,null,null,null,null,null,null,null,"","","",{"$f":"IF(U407=\"\",\"\",MEDIAN(IF(($U$25:$U$15023<>\"\")*($V$25:$V$15023=V407),$U$25:$U$15023)))","v":""},"","","",null,"","","","","","","","","","","","","","","",null,null,"","","","","","","","","","","","","","","",null,"","","","","","","","","","","","","","",""]
[null,null,null,null,null,null,null,null,null,null,null,null,null,null,null,null,null,null,null,null,"","","",{"$f":"IF(U408=\"\",\"\",MEDIAN(IF(($U$25:$U$15023<>\"\")*($V$25:$V$15023=V408),$U$25:$U$15023)))","v":""},"","","",null,"","","","","","","","","","","","","","","",null,null,"","","","","","","","","","","","","","","",null,"","","","","","","","","","","","","","",""]
[null,null,null,null,null,null,null,null,null,null,null,null,null,null,null,null,null,null,null,null,"","","",{"$f":"IF(U409=\"\",\"\",MEDIAN(IF(($U$25:$U$15023<>\"\")*($V$25:$V$15023=V409),$U$25:$U$15023)))","v":""},"","","",null,"","","","","","","","","","","","","","","",null,null,"","","","","","","","","","","","","","","",null,"","","","","","","","","","","","","","",""]
[null,null,null,null,null,null,null,null,null,null,null,null,null,null,null,null,null,null,null,null,{"$f":"IF(A410=\"\",\"\",A410)","v":""},{"$f":"IF(B410=\"\",\"\",B410)","v":""},{"$f":"IF(U410=\"\",\"\",RANK(U410,$U$25:$U$15023,1)+(COUNT($U$25:$U$15023)+1-RANK(U410,$U$25:$U$15023,0)-RANK(U410,$U$25:$U$15023,1))/2)","v":""},{"$f":"IF(U410=\"\",\"\",MEDIAN(IF(($U$25:$U$15023<>\"\")*($V$25:$V$15023=V410),$U$25:$U$15023)))","v":""},{"$f":"IF(U410=\"\",\"\",ABS(X410-U410))","v":""},{"$f":"IF(V410=\"\",\"\",AVERAGEIF($V$25:$V$15023,V410,$Y$25:$Y$15023))","v":""},{"$f":"IF(V410=\"\",\"\",(Y410-Z410)^2)","v":""},null,"","","","","","","","","","","","","","","",null,null,{"$f":"IF(D410=\"\",\"\",ABS(D410-MEDIAN(D$25:D$1024)))","v":""},{"$f":"IF(E410=\"\",\"\",ABS(E410-MEDIAN(E$25:E$1024)))","v":""},{"$f":"IF(F410=\"\",\"\",ABS(F410-MEDIAN(F$25:F$1024)))","v":""},{"$f":"IF(G410=\"\",\"\",ABS(G410-MEDIAN(G$25:G$1024)))","v":""},{"$f":"IF(H410=\"\",\"\",ABS(H410-MEDIAN(H$25:H$1024)))","v":""},{"$f":"IF(I410=\"\",\"\",ABS(I410-MEDIAN(I$25:I$1024)))","v":""},{"$f":"IF(J410=\"\",\"\",ABS(J410-MEDIAN(J$25:J$1024)))","v":""},{"$f":"IF(K410=\"\",\"\",ABS(K410-MEDIAN(K$25:K$1024)))","v":""},{"$f":"IF(L410=\"\",\"\",ABS(L410-MEDIAN(L$25:L$1024)))","v":""},{"$f":"IF(M410=\"\",\"\",ABS(M410-MEDIAN(M$25:M$1024)))","v":""},{"$f":"IF(N410=\"\",\"\",ABS(N410-MEDIAN(N$25:N$1024)))","v":""},{"$f":"IF(O410=\"\",\"\",ABS(O410-MEDIAN(O$25:O$1024)))","v":""},{"$f":"IF(P410=\"\",\"\",ABS(P410-MEDIAN(P$25:P$1024)))","v":""},{"$f":"IF(Q410=\"\",\"\",ABS(Q410-MEDIAN(Q$25:Q$1024)))","v":""},{"$f":"IF(R410=\"\",\"\",ABS(R410-MEDIAN(R$25:R$1024)))","v":""},null,{"$f":"IF(AT410=\"\",\"\",(AT410-AT$22)^2)","v":""},{"$f":"IF(AU410=\"\",\"\",(AU410-AU$22)^2)","v":""},{"$f":"IF(AV410=\"\",\"\",(AV410-AV$22)^2)","v":""},{"$f":"IF(AW410=\"\",\"\",(AW410-AW$22)^2)","v":""},{"$f":"IF(AX410=\"\",\"\",(AX410-AX$22)^2)","v":""},{"$f":"IF(AY410=\"\",\"\",(AY410-AY$22)^2)","v":""},{"$f":"IF(AZ410=\"\",\"\",(AZ410-AZ$22)^2)","v":""},{"$f":"IF(BA410=\"\",\"\",(BA410-BA$22)^2)","v":""},{"$f":"IF(BB410=\"\",\"\",(BB410-BB$22)^2)","v":""},{"$f":"IF(BC410=\"\",\"\",(BC410-BC$22)^2)","v":""},{"$f":"IF(BD410=\"\",\"\",(BD410-BD$22)^2)","v":""},{"$f":"IF(BE410=\"\",\"\",(BE410-BE$22)^2)","v":""},{"$f":"IF(BF410=\"\",\"\",(BF410-BF$22)^2)","v":""},{"$f":"IF(BG410=\"\",\"\",(BG410-BG$22)^2)","v":""},{"$f":"IF(BH410=\"\",\"\",(BH410-BH$22)^2)","v":""}]
[null,null,null,null,null,null,null,null,null,null,null,null,null,null,null,null,null,null,null,null,"","","",{"$f":"IF(U411=\"\",\"\",MEDIAN(IF(($U$25:$U$15023<>\"\")*($V$25:$V$15023=V411),$U$25:$U$15023)))","v":""},"","","",null,"","","","","","","","","","","","","","","",null,null,"","","","","","","","","","","","","","","",null,"","","","","","","","","","","","","","",""]
[null,null,null,null,null,null,null,null,null,null,null,null,null,null,null,null,null,null,null,null,"","","",{"$f":"IF(U412=\"\",\"\",MEDIAN(IF(($U$25:$U$15023<>\"\")*($V$25:$V$15023=V412),$U$25:$U$15023)))","v":""},"","","",null,"","","","","","","","","","","","","","","",null,null,"","","","","","","","","","","","","","","",null,"","","","","","","","","","","","","","",""]
[null,null,null,null,null,null,null,null,null,null,null,null,null,null,null,null,null,null,null,null,"","","",{"$f":"IF(U413=\"\",\"\",MEDIAN(IF(($U$25:$U$15023<>\"\")*($V$25:$V$15023=V413),$U$25:$U$15023)))","v":""},"","","",null,"","","","","","","","","","","","","","","",null,null,"","","","","","","","","","","","","","","",null,"","","","","","","","","","","","","","",""]
[null,null,null,null,null,null,null,null,null,null,null,null,null,null,null,null,null,null,null,null,"","","",{"$f":"IF(U414=\"\",\"\",MEDIAN(IF(($U$25:$U$15023<>\"\")*($V$25:$V$15023=V414),$U$25:$U$15023)))","v":""},"","","",null,"","","","","","","","","","","","","","","",null,null,"","","","","","","","","","","","","","","",null,"","","","","","","","","","","","","","",""]
[null,null,null,null,null,null,null,null,null,null,null,null,null,null,null,null,null,null,null,null,"","","",{"$f":"IF(U415=\"\",\"\",MEDIAN(IF(($U$25:$U$15023<>\"\")*($V$25:$V$15023=V415),$U$25:$U$15023)))","v":""},"","","",null,"","","","","","","","","","","","","","","",null,null,"","","","","","","","","","","","","","","",null,"","","","","","","","","","","","","","",""]
[null,null,null,null,null,null,null,null,null,null,null,null,null,null,null,null,null,null,null,null,"","","",{"$f":"IF(U416=\"\",\"\",MEDIAN(IF(($U$25:$U$15023<>\"\")*($V$25:$V$15023=V416),$U$25:$U$15023)))","v":""},"","","",null,"","","","","","","","","","","","","","","",null,null,"","","","","","","","","","","","","","","",null,"","","","","","","","","","","","","","",""]
[null,null,null,null,null,null,null,null,null,null,null,null,null,null,null,null,null,null,null,null,"","","",{"$f":"IF(U417=\"\",\"\",MEDIAN(IF(($U$25:$U$15023<>\"\")*($V$25:$V$15023=V417),$U$25:$U$15023)))","v":""},"","","",null,{"$f":"IF(D417=\"\",\"\",RANK(D417,$D$25:$R$1024,1)+(COUNT($D$25:$R$1024)+1-RANK(D417,$D$25:$R$1024,0)-RANK(D417,$D$25:$R$1024,1))/2)","v":""},{"$f":"IF(E417=\"\",\"\",RANK(E417,$D$25:$R$1024,1)+(COUNT($D$25:$R$1024)+1-RANK(E417,$D$25:$R$1024,0)-RANK(E417,$D$25:$R$1024,1))/2)","v":""},{"$f":"IF(F417=\"\",\"\",RANK(F417,$D$25:$R$1024,1)+(COUNT($D$25:$R$1024)+1-RANK(F417,$D$25:$R$1024,0)-RANK(F417,$D$25:$R$1024,1))/2)","v":""},{"$f":"IF(G417=\"\",\"\",RANK(G417,$D$25:$R$1024,1)+(COUNT($D$25:$R$1024)+1-RANK(G417,$D$25:$R$1024,0)-RANK(G417,$D$25:$R$1024,1))/2)","v":""},{"$f":"IF(H417=\"\",\"\",RANK(H417,$D$25:$R$1024,1)+(COUNT($D$25:$R$1024)+1-RANK(H417,$D$25:$R$1024,0)-RANK(H417,$D$25:$R$1024,1))/2)","v":""},{"$f":"IF(I417=\"\",\"\",RANK(I417,$D$25:$R$1024,1)+(COUNT($D$25:$R$1024)+1-RANK(I417,$D$25:$R$1024,0)-RANK(I417,$D$25:$R$1024,1))/2)","v":""},{"$f":"IF(J417=\"\",\"\",RANK(J417,$D$25:$R$1024,1)+(COUNT($D$25:$R$1024)+1-RANK(J417,$D$25:$R$1024,0)-RANK(J417,$D$25:$R$1024,1))/2)","v":""},{"$f":"IF(K417=\"\",\"\",RANK(K417,$D$25:$R$1024,1)+(COUNT($D$25:$R$1024)+1-RANK(K417,$D$25:$R$1024,0)-RANK(K417,$D$25:$R$1024,1))/2)","v":""},{"$f":"IF(L417=\"\",\"\",RANK(L417,$D$25:$R$1024,1)+(COUNT($D$25:$R$1024)+1-RANK(L417,$D$25:$R$1024,0)-RANK(L417,$D$25:$R$1024,1))/2)","v":""},{"$f":"IF(M417=\"\",\"\",RANK(M417,$D$25:$R$1024,1)+(COUNT($D$25:$R$1024)+1-RANK(M417,$D$25:$R$1024,0)-RANK(M417,$D$25:$R$1024,1))/2)","v":""},{"$f":"IF(N417=\"\",\"\",RANK(N417,$D$25:$R$1024,1)+(COUNT($D$25:$R$1024)+1-RANK(N417,$D$25:$R$1024,0)-RANK(N417,$D$25:$R$1024,1))/2)","v":""},{"$f":"IF(O417=\"\",\"\",RANK(O417,$D$25:$R$1024,1)+(COUNT($D$25:$R$1024)+1-RANK(O417,$D$25:$R$1024,0)-RANK(O417,$D$25:$R$1024,1))/2)","v":""},{"$f":"IF(P417=\"\",\"\",RANK(P417,$D$25:$R$1024,1)+(COUNT($D$25:$R$1024)+1-RANK(P417,$D$25:$R$1024,0)-RANK(P417,$D$25:$R$1024,1))/2)","v":""},{"$f":"IF(Q417=\"\",\"\",RANK(Q417,$D$25:$R$1024,1)+(COUNT($D$25:$R$1024)+1-RANK(Q417,$D$25:$R$1024,0)-RANK(Q417,$D$25:$R$1024,1))/2)","v":""},{"$f":"IF(R417=\"\",\"\",RANK(R417,$D$25:$R$1024,1)+(COUNT($D$25:$R$1024)+1-RANK(R417,$D$25:$R$1024,0)-RANK(R417,$D$25:$R$1024,1))/2)","v":""},null,null,"","","","","","","","","","","","","","","",null,"","","","","","","","","","","","","","",""]
[null,null,null,null,null,null,null,null,null,null,null,null,null,null,null,null,null,null,null,null,"","","",{"$f":"IF(U418=\"\",\"\",MEDIAN(IF(($U$25:$U$15023<>\"\")*($V$25:$V$15023=V418),$U$25:$U$15023)))","v":""},"","","",null,"","","","","","","","","","","","","","","",null,null,"","","","","","","","","","","","","","","",null,"","","","","","","","","","","","","","",""]
[null,null,null,null,null,null,null,null,null,null,null,null,null,null,null,null,null,null,null,null,"","","",{"$f":"IF(U419=\"\",\"\",MEDIAN(IF(($U$25:$U$15023<>\"\")*($V$25:$V$15023=V419),$U$25:$U$15023)))","v":""},"","","",null,"","","","","","","","","","","","","","","",null,null,"","","","","","","","","","","","","","","",null,"","","","","","","","","","","","","","",""]
[null,null,null,null,null,null,null,null,null,null,null,null,null,null,null,null,null,null,null,null,"","","",{"$f":"IF(U420=\"\",\"\",MEDIAN(IF(($U$25:$U$15023<>\"\")*($V$25:$V$15023=V420),$U$25:$U$15023)))","v":""},"","","",null,"","","","","","","","","","","","","","","",null,null,"","","","","","","","","","","","","","","",null,"","","","","","","","","","","","","","",""]
[null,null,null,null,null,null,null,null,null,null,null,null,null,null,null,null,null,null,null,null,"","","",{"$f":"IF(U421=\"\",\"\",MEDIAN(IF(($U$25:$U$15023<>\"\")*($V$25:$V$15023=V421),$U$25:$U$15023)))","v":""},"","","",null,"","","","","","","","","","","","","","","",null,null,"","","","","","","","","","","","","","","",null,"","","","","","","","","","","","","","",""]
[null,null,null,null,null,null,null,null,null,null,null,null,null,null,null,null,null,null,null,null,"","","",{"$f":"IF(U422=\"\",\"\",MEDIAN(IF(($U$25:$U$15023<>\"\")*($V$25:$V$15023=V422),$U$25:$U$15023)))","v":""},"","","",null,"","","","","","","","","","","","","","","",null,null,"","","","","","","","","","","","","","","",null,"","","","","","","","","","","","","","",""]
[null,null,null,null,null,null,null,null,null,null,null,null,null,null,null,null,null,null,null,null,"","","",{"$f":"IF(U423=\"\",\"\",MEDIAN(IF(($U$25:$U$15023<>\"\")*($V$25:$V$15023=V423),$U$25:$U$15023)))","v":""},"","","",null,"","","","","","","","","","","","","","","",null,null,"","","","","","","","","","","","","","","",null,"","","","","","","","","","","","","","",""]
[null,null,null,null,null,null,null,null,null,null,null,null,null,null,null,null,null,null,null,null,"","","",{"$f":"IF(U424=\"\",\"\",MEDIAN(IF(($U$25:$U$15023<>\"\")*($V$25:$V$15023=V424),$U$25:$U$15023)))","v":""},"","","",null,"","","","","","","","","","","","","","","",null,null,"","","","","","","","","","","","","","","",null,"","","","","","","","","","","","","","",""]
[null,null,null,null,null,null,null,null,null,null,null,null,null,null,null,null,null,null,null,null,"","","",{"$f":"IF(U425=\"\",\"\",MEDIAN(IF(($U$25:$U$15023<>\"\")*($V$25:$V$15023=V425),$U$25:$U$15023)))","v":""},"","","",null,"","","","","","","","","","","","","","","",null,null,"","","","","","","","","","","","","","","",null,"","","","","","","","","","","","","","",""]
[null,null,null,null,null,null,null,null,null,null,null,null,null,null,null,null,null,null,null,null,"","","",{"$f":"IF(U426=\"\",\"\",MEDIAN(IF(($U$25:$U$15023<>\"\")*($V$25:$V$15023=V426),$U$25:$U$15023)))","v":""},"","","",null,"","","","","","","","","","","","","","","",null,null,"","","","","","","","","","","","","","","",null,"","","","","","","","","","","","","","",""]
[null,null,null,null,null,null,null,null,null,null,null,null,null,null,null,null,null,null,null,null,"","","",{"$f":"IF(U427=\"\",\"\",MEDIAN(IF(($U$25:$U$15023<>\"\")*($V$25:$V$15023=V427),$U$25:$U$15023)))","v":""},"","","",null,"","","","","","","","","","","","","","","",null,null,"","","","","","","","","","","","","","","",null,"","","","","","","","","","","","","","",""]
[null,null,null,null,null,null,null,null,null,null,null,null,null,null,null,null,null,null,null,null,"","","",{"$f":"IF(U428=\"\",\"\",MEDIAN(IF(($U$25:$U$15023<>\"\")*($V$25:$V$15023=V428),$U$25:$U$15023)))","v":""},"","","",null,"","","","","","","","","","","","","","","",null,null,"","","","","","","","","","","","","","","",null,"","","","","","","","","","","","","","",""]
[null,null,null,null,null,null,null,null,null,null,null,null,null,null,null,null,null,null,null,null,"","","",{"$f":"IF(U429=\"\",\"\",MEDIAN(IF(($U$25:$U$15023<>\"\")*($V$25:$V$15023=V429),$U$25:$U$15023)))","v":""},"","","",null,"","","","","","","","","","","","","","","",null,null,"","","","","","","","","","","","","","","",null,"","","","","","","","","","","","","","",""]
[null,null,null,null,null,null,null,null,null,null,null,null,null,null,null,null,null,null,null,null,"","","",{"$f":"IF(U430=\"\",\"\",MEDIAN(IF(($U$25:$U$15023<>\"\")*($V$25:$V$15023=V430),$U$25:$U$15023)))","v":""},"","","",null,"","","","","","","","","","","","","","","",null,null,"","","","","","","","","","","","","","","",null,"","","","","","","","","","","","","","",""]
[null,null,null,null,null,null,null,null,null,null,null,null,null,null,null,null,null,null,null,null,"","","",{"$f":"IF(U431=\"\",\"\",MEDIAN(IF(($U$25:$U$15023<>\"\")*($V$25:$V$15023=V431),$U$25:$U$15023)))","v":""},"","","",null,"","","","","","","","","","","","","","","",null,null,"","","","","","","","","","","","","","","",null,"","","","","","","","","","","","","","",""]
[null,null,null,null,null,null,null,null,null,null,null,null,null,null,null,null,null,null,null,null,"","","",{"$f":"IF(U432=\"\",\"\",MEDIAN(IF(($U$25:$U$15023<>\"\")*($V$25:$V$15023=V432),$U$25:$U$15023)))","v":""},"","","",null,"","","","","","","","","","","","","","","",null,null,"","","","","","","","","","","","","","","",null,"","","","","","","","","","","","","","",""]
[null,null,null,null,null,null,null,null,null,null,null,null,null,null,null,null,null,null,null,null,"","","",{"$f":"IF(U433=\"\",\"\",MEDIAN(IF(($U$25:$U$15023<>\"\")*($V$25:$V$15023=V433),$U$25:$U$15023)))","v":""},"","","",null,"","","","","","","","","","","","","","","",null,null,"","","","","","","","","","","","","","","",null,"","","","","","","","","","","","","","",""]
[null,null,null,null,null,null,null,null,null,null,null,null,null,null,null,null,null,null,null,null,"","","",{"$f":"IF(U434=\"\",\"\",MEDIAN(IF(($U$25:$U$15023<>\"\")*($V$25:$V$15023=V434),$U$25:$U$15023)))","v":""},"","","",null,"","","","","","","","","","","","","","","",null,null,"","","","","","","","","","","","","","","",null,"","","","","","","","","","","","","","",""]
[null,null,null,null,null,null,null,null,null,null,null,null,null,null,null,null,null,null,null,null,"","","",{"$f":"IF(U435=\"\",\"\",MEDIAN(IF(($U$25:$U$15023<>\"\")*($V$25:$V$15023=V435),$U$25:$U$15023)))","v":""},"","","",null,"","","","","","","","","","","","","","","",null,null,"","","","","","","","","","","","","","","",null,"","","","","","","","","","","","","","",""]
[null,null,null,null,null,null,null,null,null,null,null,null,null,null,null,null,null,null,null,null,"","","",{"$f":"IF(U436=\"\",\"\",MEDIAN(IF(($U$25:$U$15023<>\"\")*($V$25:$V$15023=V436),$U$25:$U$15023)))","v":""},"","","",null,"","","","","","","","","","","","","","","",null,null,"","","","","","","","","","","","","","","",null,"","","","","","","","","","","","","","",""]
[null,null,null,null,null,null,null,null,null,null,null,null,null,null,null,null,null,null,null,null,"","","",{"$f":"IF(U437=\"\",\"\",MEDIAN(IF(($U$25:$U$15023<>\"\")*($V$25:$V$15023=V437),$U$25:$U$15023)))","v":""},"","","",null,"","","","","","","","","","","","","","","",null,null,"","","","","","","","","","","","","","","",null,"","","","","","","","","","","","","","",""]
[null,null,null,null,null,null,null,null,null,null,null,null,null,null,null,null,null,null,null,null,"","","",{"$f":"IF(U438=\"\",\"\",MEDIAN(IF(($U$25:$U$15023<>\"\")*($V$25:$V$15023=V438),$U$25:$U$15023)))","v":""},"","","",null,"","","","","","","","","","","","","","","",null,null,"","","","","","","","","","","","","","","",null,"","","","","","","","","","","","","","",""]
[null,null,null,null,null,null,null,null,null,null,null,null,null,null,null,null,null,null,null,null,"","","",{"$f":"IF(U439=\"\",\"\",MEDIAN(IF(($U$25:$U$15023<>\"\")*($V$25:$V$15023=V439),$U$25:$U$15023)))","v":""},"","","",null,"","","","","","","","","","","","","","","",null,null,"","","","","","","","","","","","","","","",null,"","","","","","","","","","","","","","",""]
[null,null,null,null,null,null,null,null,null,null,null,null,null,null,null,null,null,null,null,null,"","","",{"$f":"IF(U440=\"\",\"\",MEDIAN(IF(($U$25:$U$15023<>\"\")*($V$25:$V$15023=V440),$U$25:$U$15023)))","v":""},"","","",null,"","","","","","","","","","","","","","","",null,null,"","","","","","","","","","","","","","","",null,"","","","","","","","","","","","","","",""]
[null,null,null,null,null,null,null,null,null,null,null,null,null,null,null,null,null,null,null,null,"","","",{"$f":"IF(U441=\"\",\"\",MEDIAN(IF(($U$25:$U$15023<>\"\")*($V$25:$V$15023=V441),$U$25:$U$15023)))","v":""},"","","",null,"","","","","","","","","","","","","","","",null,null,"","","","","","","","","","","","","","","",null,"","","","","","","","","","","","","","",""]
[null,null,null,null,null,null,null,null,null,null,null,null,null,null,null,null,null,null,null,null,"","","",{"$f":"IF(U442=\"\",\"\",MEDIAN(IF(($U$25:$U$15023<>\"\")*($V$25:$V$15023=V442),$U$25:$U$15023)))","v":""},"","","",null,"","","","","","","","","","","","","","","",null,null,"","","","","","","","","","","","","","","",null,"","","","","","","","","","","","","","",""]
[null,null,null,null,null,null,null,null,null,null,null,null,null,null,null,null,null,null,null,null,"","","",{"$f":"IF(U443=\"\",\"\",MEDIAN(IF(($U$25:$U$15023<>\"\")*($V$25:$V$15023=V443),$U$25:$U$15023)))","v":""},"","","",null,"","","","","","","","","","","","","","","",null,null,"","","","","","","","","","","","","","","",null,"","","","","","","","","","","","","","",""]
[null,null,null,null,null,null,null,null,null,null,null,null,null,null,null,null,null,null,null,null,"","","",{"$f":"IF(U444=\"\",\"\",MEDIAN(IF(($U$25:$U$15023<>\"\")*($V$25:$V$15023=V444),$U$25:$U$15023)))","v":""},"","","",null,"","","","","","","","","","","","","","","",null,null,"","","","","","","","","","","","","","","",null,"","","","","","","","","","","","","","",""]
[null,null,null,null,null,null,null,null,null,null,null,null,null,null,null,null,null,null,null,null,"","","",{"$f":"IF(U445=\"\",\"\",MEDIAN(IF(($U$25:$U$15023<>\"\")*($V$25:$V$15023=V445),$U$25:$U$15023)))","v":""},"","","",null,"","","","","","","","","","","","","","","",null,null,"","","","","","","","","","","","","","","",null,"","","","","","","","","","","","","","",""]
[null,null,null,null,null,null,null,null,null,null,null,null,null,null,null,null,null,null,null,null,"","","",{"$f":"IF(U446=\"\",\"\",MEDIAN(IF(($U$25:$U$15023<>\"\")*($V$25:$V$15023=V446),$U$25:$U$15023)))","v":""},"","","",null,"","","","","","","","","","","","","","","",null,null,"","","","","","","","","","","","","","","",null,"","","","","","","","","","","","","","",""]
[null,null,null,null,null,null,null,null,null,null,null,null,null,null,null,null,null,null,null,null,"","","",{"$f":"IF(U447=\"\",\"\",MEDIAN(IF(($U$25:$U$15023<>\"\")*($V$25:$V$15023=V447),$U$25:$U$15023)))","v":""},"","","",null,"","","","","","","","","","","","","","","",null,null,"","","","","","","","","","","","","","","",null,"","","","","","","","","","","","","","",""]
[null,null,null,null,null,null,null,null,null,null,null,null,null,null,null,null,null,null,null,null,"","","",{"$f":"IF(U448=\"\",\"\",MEDIAN(IF(($U$25:$U$15023<>\"\")*($V$25:$V$15023=V448),$U$25:$U$15023)))","v":""},"","","",null,"","","","","","","","","","","","","","","",null,null,"","","","","","","","","","","","","","","",null,"","","","","","","","","","","","","","",""]
[null,null,null,null,null,null,null,null,null,null,null,null,null,null,null,null,null,null,null,null,"","","",{"$f":"IF(U449=\"\",\"\",MEDIAN(IF(($U$25:$U$15023<>\"\")*($V$25:$V$15023=V449),$U$25:$U$15023)))","v":""},"","","",null,"","","","","","","","","","","","","","","",null,null,"","","","","","","","","","","","","","","",null,"","","","","","","","","","","","","","",""]
[null,null,null,null,null,null,null,null,null,null,null,null,null,null,null,null,null,null,null,null,"","","",{"$f":"IF(U450=\"\",\"\",MEDIAN(IF(($U$25:$U$15023<>\"\")*($V$25:$V$15023=V450),$U$25:$U$15023)))","v":""},"","","",null,"","","","","","","","","","","","","","","",null,null,"","","","","","","","","","","","","","","",null,"","","","","","","","","","","","","","",""]
[null,null,null,null,null,null,null,null,null,null,null,null,null,null,null,null,null,null,null,null,"","","",{"$f":"IF(U451=\"\",\"\",MEDIAN(IF(($U$25:$U$15023<>\"\")*($V$25:$V$15023=V451),$U$25:$U$15023)))","v":""},"","","",null,"","","","","","","","","","","","","","","",null,null,"","","","","","","","","","","","","","","",null,"","","","","","","","","","","","","","",""]
[null,null,null,null,null,null,null,null,null,null,null,null,null,null,null,null,null,null,null,null,"","","",{"$f":"IF(U452=\"\",\"\",MEDIAN(IF(($U$25:$U$15023<>\"\")*($V$25:$V$15023=V452),$U$25:$U$15023)))","v":""},"","","",null,"","","","","","","","","","","","","","","",null,null,"","","","","","","","","","","","","","","",null,"","","","","","","","","","","","","","",""]
[null,null,null,null,null,null,null,null,null,null,null,null,null,null,null,null,null,null,null,null,"","","",{"$f":"IF(U453=\"\",\"\",MEDIAN(IF(($U$25:$U$15023<>\"\")*($V$25:$V$15023=V453),$U$25:$U$15023)))","v":""},"","","",null,"","","","","","","","","","","","","","","",null,null,"","","","","","","","","","","","","","","",null,"","","","","","","","","","","","","","",""]
[null,null,null,null,null,null,null,null,null,null,null,null,null,null,null,null,null,null,null,null,"","","",{"$f":"IF(U454=\"\",\"\",MEDIAN(IF(($U$25:$U$15023<>\"\")*($V$25:$V$15023=V454),$U$25:$U$15023)))","v":""},"","","",null,"","","","","","","","","","","","","","","",null,null,"","","","","","","","","","","","","","","",null,"","","","","","","","","","","","","","",""]
[null,null,null,null,null,null,null,null,null,null,null,null,null,null,null,null,null,null,null,null,"","","",{"$f":"IF(U455=\"\",\"\",MEDIAN(IF(($U$25:$U$15023<>\"\")*($V$25:$V$15023=V455),$U$25:$U$15023)))","v":""},"","","",null,"","","","","","","","","","","","","","","",null,null,"","","","","","","","","","","","","","","",null,"","","","","","","","","","","","","","",""]
[null,null,null,null,null,null,null,null,null,null,null,null,null,null,null,null,null,null,null,null,"","","",{"$f":"IF(U456=\"\",\"\",MEDIAN(IF(($U$25:$U$15023<>\"\")*($V$25:$V$15023=V456),$U$25:$U$15023)))","v":""},"","","",null,"","","","","","","","","","","","","","","",null,null,"","","","","","","","","","","","","","","",null,"","","","","","","","","","","","","","",""]
[null,null,null,null,null,null,null,null,null,null,null,null,null,null,null,null,null,null,null,null,"","","",{"$f":"IF(U457=\"\",\"\",MEDIAN(IF(($U$25:$U$15023<>\"\")*($V$25:$V$15023=V457),$U$25:$U$15023)))","v":""},"","","",null,"","","","","","","","","","","","","","","",null,null,"","","","","","","","","","","","","","","",null,"","","","","","","","","","","","","","",""]
[null,null,null,null,null,null,null,null,null,null,null,null,null,null,null,null,null,null,null,null,"","","",{"$f":"IF(U458=\"\",\"\",MEDIAN(IF(($U$25:$U$15023<>\"\")*($V$25:$V$15023=V458),$U$25:$U$15023)))","v":""},"","","",null,"","","","","","","","","","","","","","","",null,null,"","","","","","","","","","","","","","","",null,"","","","","","","","","","","","","","",""]
[null,null,null,null,null,null,null,null,null,null,null,null,null,null,null,null,null,null,null,null,"","","",{"$f":"IF(U459=\"\",\"\",MEDIAN(IF(($U$25:$U$15023<>\"\")*($V$25:$V$15023=V459),$U$25:$U$15023)))","v":""},"","","",null,"","","","","","","","","","","","","","","",null,null,"","","","","","","","","","","","","","","",null,"","","","","","","","","","","","","","",""]
[null,null,null,null,null,null,null,null,null,null,null,null,null,null,null,null,null,null,null,null,"","","",{"$f":"IF(U460=\"\",\"\",MEDIAN(IF(($U$25:$U$15023<>\"\")*($V$25:$V$15023=V460),$U$25:$U$15023)))","v":""},"","","",null,"","","","","","","","","","","","","","","",null,null,"","","","","","","","","","","","","","","",null,"","","","","","","","","","","","","","",""]
[null,null,null,null,null,null,null,null,null,null,null,null,null,null,null,null,null,null,null,null,"","","",{"$f":"IF(U461=\"\",\"\",MEDIAN(IF(($U$25:$U$15023<>\"\")*($V$25:$V$15023=V461),$U$25:$U$15023)))","v":""},"","","",null,"","","","","","","","","","","","","","","",null,null,"","","","","","","","","","","","","","","",null,"","","","","","","","","","","","","","",""]
[null,null,null,null,null,null,null,null,null,null,null,null,null,null,null,null,null,null,null,null,"","","",{"$f":"IF(U462=\"\",\"\",MEDIAN(IF(($U$25:$U$15023<>\"\")*($V$25:$V$15023=V462),$U$25:$U$15023)))","v":""},"","","",null,"","","","","","","","","","","","","","","",null,null,"","","","","","","","","","","","","","","",null,"","","","","","","","","","","","","","",""]
[null,null,null,null,null,null,null,null,null,null,null,null,null,null,null,null,null,null,null,null,"","","",{"$f":"IF(U463=\"\",\"\",MEDIAN(IF(($U$25:$U$15023<>\"\")*($V$25:$V$15023=V463),$U$25:$U$15023)))","v":""},"","","",null,"","","","","","","","","","","","","","","",null,null,"","","","","","","","","","","","","","","",null,"","","","","","","","","","","","","","",""]
[null,null,null,null,null,null,null,null,null,null,null,null,null,null,null,null,null,null,null,null,"","","",{"$f":"IF(U464=\"\",\"\",MEDIAN(IF(($U$25:$U$15023<>\"\")*($V$25:$V$15023=V464),$U$25:$U$15023)))","v":""},"","","",null,"","","","","","","","","","","","","","","",null,null,"","","","","","","","","","","","","","","",null,"","","","","","","","","","","","","","",""]
[null,null,null,null,null,null,null,null,null,null,null,null,null,null,null,null,null,null,null,null,"","","",{"$f":"IF(U465=\"\",\"\",MEDIAN(IF(($U$25:$U$15023<>\"\")*($V$25:$V$15023=V465),$U$25:$U$15023)))","v":""},"","","",null,"","","","","","","","","","","","","","","",null,null,"","","","","","","","","","","","","","","",null,"","","","","","","","","","","","","","",""]
[null,null,null,null,null,null,null,null,null,null,null,null,null,null,null,null,null,null,null,null,"","","",{"$f":"IF(U466=\"\",\"\",MEDIAN(IF(($U$25:$U$15023<>\"\")*($V$25:$V$15023=V466),$U$25:$U$15023)))","v":""},"","","",null,"","","","","","","","","","","","","","","",null,null,"","","","","","","","","","","","","","","",null,"","","","","","","","","","","","","","",""]
[null,null,null,null,null,null,null,null,null,null,null,null,null,null,null,null,null,null,null,null,"","","",{"$f":"IF(U467=\"\",\"\",MEDIAN(IF(($U$25:$U$15023<>\"\")*($V$25:$V$15023=V467),$U$25:$U$15023)))","v":""},"","","",null,"","","","","","","","","","","","","","","",null,null,"","","","","","","","","","","","","","","",null,"","","","","","","","","","","","","","",""]
[null,null,null,null,null,null,null,null,null,null,null,null,null,null,null,null,null,null,null,null,"","","",{"$f":"IF(U468=\"\",\"\",MEDIAN(IF(($U$25:$U$15023<>\"\")*($V$25:$V$15023=V468),$U$25:$U$15023)))","v":""},"","","",null,"","","","","","","","","","","","","","","",null,null,"","","","","","","","","","","","","","","",null,"","","","","","","","","","","","","","",""]
[null,null,null,null,null,null,null,null,null,null,null,null,null,null,null,null,null,null,null,null,"","","",{"$f":"IF(U469=\"\",\"\",MEDIAN(IF(($U$25:$U$15023<>\"\")*($V$25:$V$15023=V469),$U$25:$U$15023)))","v":""},"","","",null,"","","","","","","","","","","","","","","",null,null,"","","","","","","","","","","","","","","",null,"","","","","","","","","","","","","","",""]
[null,null,null,null,null,null,null,null,null,null,null,null,null,null,null,null,null,null,null,null,"","","",{"$f":"IF(U470=\"\",\"\",MEDIAN(IF(($U$25:$U$15023<>\"\")*($V$25:$V$15023=V470),$U$25:$U$15023)))","v":""},"","","",null,"","","","","","","","","","","","","","","",null,null,"","","","","","","","","","","","","","","",null,"","","","","","","","","","","","","","",""]
[null,null,null,null,null,null,null,null,null,null,null,null,null,null,null,null,null,null,null,null,"","","",{"$f":"IF(U471=\"\",\"\",MEDIAN(IF(($U$25:$U$15023<>\"\")*($V$25:$V$15023=V471),$U$25:$U$15023)))","v":""},"","","",null,"","","","","","","","","","","","","","","",null,null,"","","","","","","","","","","","","","","",null,"","","","","","","","","","","","","","",""]
[null,null,null,null,null,null,null,null,null,null,null,null,null,null,null,null,null,null,null,null,"","","",{"$f":"IF(U472=\"\",\"\",MEDIAN(IF(($U$25:$U$15023<>\"\")*($V$25:$V$15023=V472),$U$25:$U$15023)))","v":""},"","","",null,"","","","","","","","","","","","","","","",null,null,"","","","","","","","","","","","","","","",null,"","","","","","","","","","","","","","",""]
[null,null,null,null,null,null,null,null,null,null,null,null,null,null,null,null,null,null,null,null,"","","",{"$f":"IF(U473=\"\",\"\",MEDIAN(IF(($U$25:$U$15023<>\"\")*($V$25:$V$15023=V473),$U$25:$U$15023)))","v":""},"","","",null,"","","","","","","","","","","","","","","",null,null,"","","","","","","","","","","","","","","",null,"","","","","","","","","","","","","","",""]
[null,null,null,null,null,null,null,null,null,null,null,null,null,null,null,null,null,null,null,null,{"$f":"IF(A474=\"\",\"\",A474)","v":""},{"$f":"IF(B474=\"\",\"\",B474)","v":""},{"$f":"IF(U474=\"\",\"\",RANK(U474,$U$25:$U$15023,1)+(COUNT($U$25:$U$15023)+1-RANK(U474,$U$25:$U$15023,0)-RANK(U474,$U$25:$U$15023,1))/2)","v":""},{"$f":"IF(U474=\"\",\"\",MEDIAN(IF(($U$25:$U$15023<>\"\")*($V$25:$V$15023=V474),$U$25:$U$15023)))","v":""},{"$f":"IF(U474=\"\",\"\",ABS(X474-U474))","v":""},{"$f":"IF(V474=\"\",\"\",AVERAGEIF($V$25:$V$15023,V474,$Y$25:$Y$15023))","v":""},{"$f":"IF(V474=\"\",\"\",(Y474-Z474)^2)","v":""},null,"","","","","","","","","","","","","","","",null,null,{"$f":"IF(D474=\"\",\"\",ABS(D474-MEDIAN(D$25:D$1024)))","v":""},{"$f":"IF(E474=\"\",\"\",ABS(E474-MEDIAN(E$25:E$1024)))","v":""},{"$f":"IF(F474=\"\",\"\",ABS(F474-MEDIAN(F$25:F$1024)))","v":""},{"$f":"IF(G474=\"\",\"\",ABS(G474-MEDIAN(G$25:G$1024)))","v":""},{"$f":"IF(H474=\"\",\"\",ABS(H474-MEDIAN(H$25:H$1024)))","v":""},{"$f":"IF(I474=\"\",\"\",ABS(I474-MEDIAN(I$25:I$1024)))","v":""},{"$f":"IF(J474=\"\",\"\",ABS(J474-MEDIAN(J$25:J$1024)))","v":""},{"$f":"IF(K474=\"\",\"\",ABS(K474-MEDIAN(K$25:K$1024)))","v":""},{"$f":"IF(L474=\"\",\"\",ABS(L474-MEDIAN(L$25:L$1024)))","v":""},{"$f":"IF(M474=\"\",\"\",ABS(M474-MEDIAN(M$25:M$1024)))","v":""},{"$f":"IF(N474=\"\",\"\",ABS(N474-MEDIAN(N$25:N$1024)))","v":""},{"$f":"IF(O474=\"\",\"\",ABS(O474-MEDIAN(O$25:O$1024)))","v":""},{"$f":"IF(P474=\"\",\"\",ABS(P474-MEDIAN(P$25:P$1024)))","v":""},{"$f":"IF(Q474=\"\",\"\",ABS(Q474-MEDIAN(Q$25:Q$1024)))","v":""},{"$f":"IF(R474=\"\",\"\",ABS(R474-MEDIAN(R$25:R$1024)))","v":""},null,{"$f":"IF(AT474=\"\",\"\",(AT474-AT$22)^2)","v":""},{"$f":"IF(AU474=\"\",\"\",(AU474-AU$22)^2)","v":""},{"$f":"IF(AV474=\"\",\"\",(AV474-AV$22)^2)","v":""},{"$f":"IF(AW474=\"\",\"\",(AW474-AW$22)^2)","v":""},{"$f":"IF(AX474=\"\",\"\",(AX474-AX$22)^2)","v":""},{"$f":"IF(AY474=\"\",\"\",(AY474-AY$22)^2)","v":""},{"$f":"IF(AZ474=\"\",\"\",(AZ474-AZ$22)^2)","v":""},{"$f":"IF(BA474=\"\",\"\",(BA474-BA$22)^2)","v":""},{"$f":"IF(BB474=\"\",\"\",(BB474-BB$22)^2)","v":""},{"$f":"IF(BC474=\"\",\"\",(BC474-BC$22)^2)","v":""},{"$f":"IF(BD474=\"\",\"\",(BD474-BD$22)^2)","v":""},{"$f":"IF(BE474=\"\",\"\",(BE474-BE$22)^2)","v":""},{"$f":"IF(BF474=\"\",\"\",(BF474-BF$22)^2)","v":""},{"$f":"IF(BG474=\"\",\"\",(BG474-BG$22)^2)","v":""},{"$f":"IF(BH474=\"\",\"\",(BH474-BH$22)^2)","v":""}]
[null,null,null,null,null,null,null,null,null,null,null,null,null,null,null,null,null,null,null,null,"","","",{"$f":"IF(U475=\"\",\"\",MEDIAN(IF(($U$25:$U$15023<>\"\")*($V$25:$V$15023=V475),$U$25:$U$15023)))","v":""},"","","",null,"","","","","","","","","","","","","","","",null,null,"","","","","","","","","","","","","","","",null,"","","","","","","","","","","","","","",""]
[null,null,null,null,null,null,null,null,null,null,null,null,null,null,null,null,null,null,null,null,"","","",{"$f":"IF(U476=\"\",\"\",MEDIAN(IF(($U$25:$U$15023<>\"\")*($V$25:$V$15023=V476),$U$25:$U$15023)))","v":""},"","","",null,"","","","","","","","","","","","","","","",null,null,"","","","","","","","","","","","","","","",null,"","","","","","","","","","","","","","",""]
[null,null,null,null,null,null,null,null,null,null,null,null,null,null,null,null,null,null,null,null,"","","",{"$f":"IF(U477=\"\",\"\",MEDIAN(IF(($U$25:$U$15023<>\"\")*($V$25:$V$15023=V477),$U$25:$U$15023)))","v":""},"","","",null,"","","","","","","","","","","","","","","",null,null,"","","","","","","","","","","","","","","",null,"","","","","","","","","","","","","","",""]
[null,null,null,null,null,null,null,null,null,null,null,null,null,null,null,null,null,null,null,null,"","","",{"$f":"IF(U478=\"\",\"\",MEDIAN(IF(($U$25:$U$15023<>\"\")*($V$25:$V$15023=V478),$U$25:$U$15023)))","v":""},"","","",null,"","","","","","","","","","","","","","","",null,null,"","","","","","","","","","","","","","","",null,"","","","","","","","","","","","","","",""]
[null,null,null,null,null,null,null,null,null,null,null,null,null,null,null,null,null,null,null,null,"","","",{"$f":"IF(U479=\"\",\"\",MEDIAN(IF(($U$25:$U$15023<>\"\")*($V$25:$V$15023=V479),$U$25:$U$15023)))","v":""},"","","",null,"","","","","","","","","","","","","","","",null,null,"","","","","","","","","","","","","","","",null,"","","","","","","","","","","","","","",""]
[null,null,null,null,null,null,null,null,null,null,null,null,null,null,null,null,null,null,null,null,"","","",{"$f":"IF(U480=\"\",\"\",MEDIAN(IF(($U$25:$U$15023<>\"\")*($V$25:$V$15023=V480),$U$25:$U$15023)))","v":""},"","","",null,"","","","","","","","","","","","","","","",null,null,"","","","","","","","","","","","","","","",null,"","","","","","","","","","","","","","",""]
[null,null,null,null,null,null,null,null,null,null,null,null,null,null,null,null,null,null,null,null,"","","",{"$f":"IF(U481=\"\",\"\",MEDIAN(IF(($U$25:$U$15023<>\"\")*($V$25:$V$15023=V481),$U$25:$U$15023)))","v":""},"","","",null,{"$f":"IF(D481=\"\",\"\",RANK(D481,$D$25:$R$1024,1)+(COUNT($D$25:$R$1024)+1-RANK(D481,$D$25:$R$1024,0)-RANK(D481,$D$25:$R$1024,1))/2)","v":""},{"$f":"IF(E481=\"\",\"\",RANK(E481,$D$25:$R$1024,1)+(COUNT($D$25:$R$1024)+1-RANK(E481,$D$25:$R$1024,0)-RANK(E481,$D$25:$R$1024,1))/2)","v":""},{"$f":"IF(F481=\"\",\"\",RANK(F481,$D$25:$R$1024,1)+(COUNT($D$25:$R$1024)+1-RANK(F481,$D$25:$R$1024,0)-RANK(F481,$D$25:$R$1024,1))/2)","v":""},{"$f":"IF(G481=\"\",\"\",RANK(G481,$D$25:$R$1024,1)+(COUNT($D$25:$R$1024)+1-RANK(G481,$D$25:$R$1024,0)-RANK(G481,$D$25:$R$1024,1))/2)","v":""},{"$f":"IF(H481=\"\",\"\",RANK(H481,$D$25:$R$1024,1)+(COUNT($D$25:$R$1024)+1-RANK(H481,$D$25:$R$1024,0)-RANK(H481,$D$25:$R$1024,1))/2)","v":""},{"$f":"IF(I481=\"\",\"\",RANK(I481,$D$25:$R$1024,1)+(COUNT($D$25:$R$1024)+1-RANK(I481,$D$25:$R$1024,0)-RANK(I481,$D$25:$R$1024,1))/2)","v":""},{"$f":"IF(J481=\"\",\"\",RANK(J481,$D$25:$R$1024,1)+(COUNT($D$25:$R$1024)+1-RANK(J481,$D$25:$R$1024,0)-RANK(J481,$D$25:$R$1024,1))/2)","v":""},{"$f":"IF(K481=\"\",\"\",RANK(K481,$D$25:$R$1024,1)+(COUNT($D$25:$R$1024)+1-RANK(K481,$D$25:$R$1024,0)-RANK(K481,$D$25:$R$1024,1))/2)","v":""},{"$f":"IF(L481=\"\",\"\",RANK(L481,$D$25:$R$1024,1)+(COUNT($D$25:$R$1024)+1-RANK(L481,$D$25:$R$1024,0)-RANK(L481,$D$25:$R$1024,1))/2)","v":""},{"$f":"IF(M481=\"\",\"\",RANK(M481,$D$25:$R$1024,1)+(COUNT($D$25:$R$1024)+1-RANK(M481,$D$25:$R$1024,0)-RANK(M481,$D$25:$R$1024,1))/2)","v":""},{"$f":"IF(N481=\"\",\"\",RANK(N481,$D$25:$R$1024,1)+(COUNT($D$25:$R$1024)+1-RANK(N481,$D$25:$R$1024,0)-RANK(N481,$D$25:$R$1024,1))/2)","v":""},{"$f":"IF(O481=\"\",\"\",RANK(O481,$D$25:$R$1024,1)+(COUNT($D$25:$R$1024)+1-RANK(O481,$D$25:$R$1024,0)-RANK(O481,$D$25:$R$1024,1))/2)","v":""},{"$f":"IF(P481=\"\",\"\",RANK(P481,$D$25:$R$1024,1)+(COUNT($D$25:$R$1024)+1-RANK(P481,$D$25:$R$1024,0)-RANK(P481,$D$25:$R$1024,1))/2)","v":""},{"$f":"IF(Q481=\"\",\"\",RANK(Q481,$D$25:$R$1024,1)+(COUNT($D$25:$R$1024)+1-RANK(Q481,$D$25:$R$1024,0)-RANK(Q481,$D$25:$R$1024,1))/2)","v":""},{"$f":"IF(R481=\"\",\"\",RANK(R481,$D$25:$R$1024,1)+(COUNT($D$25:$R$1024)+1-RANK(R481,$D$25:$R$1024,0)-RANK(R481,$D$25:$R$1024,1))/2)","v":""},null,null,"","","","","","","","","","","","","","","",null,"","","","","","","","","","","","","","",""]
[null,null,null,null,null,null,null,null,null,null,null,null,null,null,null,null,null,null,null,null,"","","",{"$f":"IF(U482=\"\",\"\",MEDIAN(IF(($U$25:$U$15023<>\"\")*($V$25:$V$15023=V482),$U$25:$U$15023)))","v":""},"","","",null,"","","","","","","","","","","","","","","",null,null,"","","","","","","","","","","","","","","",null,"","","","","","","","","","","","","","",""]
[null,null,null,null,null,null,null,null,null,null,null,null,null,null,null,null,null,null,null,null,"","","",{"$f":"IF(U483=\"\",\"\",MEDIAN(IF(($U$25:$U$15023<>\"\")*($V$25:$V$15023=V483),$U$25:$U$15023)))","v":""},"","","",null,"","","","","","","","","","","","","","","",null,null,"","","","","","","","","","","","","","","",null,"","","","","","","","","","","","","","",""]
[null,null,null,null,null,null,null,null,null,null,null,null,null,null,null,null,null,null,null,null,"","","",{"$f":"IF(U484=\"\",\"\",MEDIAN(IF(($U$25:$U$15023<>\"\")*($V$25:$V$15023=V484),$U$25:$U$15023)))","v":""},"","","",null,"","","","","","","","","","","","","","","",null,null,"","","","","","","","","","","","","","","",null,"","","","","","","","","","","","","","",""]
[null,null,null,null,null,null,null,null,null,null,null,null,null,null,null,null,null,null,null,null,"","","",{"$f":"IF(U485=\"\",\"\",MEDIAN(IF(($U$25:$U$15023<>\"\")*($V$25:$V$15023=V485),$U$25:$U$15023)))","v":""},"","","",null,"","","","","","","","","","","","","","","",null,null,"","","","","","","","","","","","","","","",null,"","","","","","","","","","","","","","",""]
[null,null,null,null,null,null,null,null,null,null,null,null,null,null,null,null,null,null,null,null,"","","",{"$f":"IF(U486=\"\",\"\",MEDIAN(IF(($U$25:$U$15023<>\"\")*($V$25:$V$15023=V486),$U$25:$U$15023)))","v":""},"","","",null,"","","","","","","","","","","","","","","",null,null,"","","","","","","","","","","","","","","",null,"","","","","","","","","","","","","","",""]
[null,null,null,null,null,null,null,null,null,null,null,null,null,null,null,null,null,null,null,null,"","","",{"$f":"IF(U487=\"\",\"\",MEDIAN(IF(($U$25:$U$15023<>\"\")*($V$25:$V$15023=V487),$U$25:$U$15023)))","v":""},"","","",null,"","","","","","","","","","","","","","","",null,null,"","","","","","","","","","","","","","","",null,"","","","","","","","","","","","","","",""]
[null,null,null,null,null,null,null,null,null,null,null,null,null,null,null,null,null,null,null,null,"","","",{"$f":"IF(U488=\"\",\"\",MEDIAN(IF(($U$25:$U$15023<>\"\")*($V$25:$V$15023=V488),$U$25:$U$15023)))","v":""},"","","",null,"","","","","","","","","","","","","","","",null,null,"","","","","","","","","","","","","","","",null,"","","","","","","","","","","","","","",""]
[null,null,null,null,null,null,null,null,null,null,null,null,null,null,null,null,null,null,null,null,"","","",{"$f":"IF(U489=\"\",\"\",MEDIAN(IF(($U$25:$U$15023<>\"\")*($V$25:$V$15023=V489),$U$25:$U$15023)))","v":""},"","","",null,"","","","","","","","","","","","","","","",null,null,"","","","","","","","","","","","","","","",null,"","","","","","","","","","","","","","",""]
[null,null,null,null,null,null,null,null,null,null,null,null,null,null,null,null,null,null,null,null,"","","",{"$f":"IF(U490=\"\",\"\",MEDIAN(IF(($U$25:$U$15023<>\"\")*($V$25:$V$15023=V490),$U$25:$U$15023)))","v":""},"","","",null,"","","","","","","","","","","","","","","",null,null,"","","","","","","","","","","","","","","",null,"","","","","","","","","","","","","","",""]
[null,null,null,null,null,null,null,null,null,null,null,null,null,null,null,null,null,null,null,null,"","","",{"$f":"IF(U491=\"\",\"\",MEDIAN(IF(($U$25:$U$15023<>\"\")*($V$25:$V$15023=V491),$U$25:$U$15023)))","v":""},"","","",null,"","","","","","","","","","","","","","","",null,null,"","","","","","","","","","","","","","","",null,"","","","","","","","","","","","","","",""]
[null,null,null,null,null,null,null,null,null,null,null,null,null,null,null,null,null,null,null,null,"","","",{"$f":"IF(U492=\"\",\"\",MEDIAN(IF(($U$25:$U$15023<>\"\")*($V$25:$V$15023=V492),$U$25:$U$15023)))","v":""},"","","",null,"","","","","","","","","","","","","","","",null,null,"","","","","","","","","","","","","","","",null,"","","","","","","","","","","","","","",""]
[null,null,null,null,null,null,null,null,null,null,null,null,null,null,null,null,null,null,null,null,"","","",{"$f":"IF(U493=\"\",\"\",MEDIAN(IF(($U$25:$U$15023<>\"\")*($V$25:$V$15023=V493),$U$25:$U$15023)))","v":""},"","","",null,"","","","","","","","","","","","","","","",null,null,"","","","","","","","","","","","","","","",null,"","","","","","","","","","","","","","",""]
[null,null,null,null,null,null,null,null,null,null,null,null,null,null,null,null,null,null,null,null,"","","",{"$f":"IF(U494=\"\",\"\",MEDIAN(IF(($U$25:$U$15023<>\"\")*($V$25:$V$15023=V494),$U$25:$U$15023)))","v":""},"","","",null,"","","","","","","","","","","","","","","",null,null,"","","","","","","","","","","","","","","",null,"","","","","","","","","","","","","","",""]
[null,null,null,null,null,null,null,null,null,null,null,null,null,null,null,null,null,null,null,null,"","","",{"$f":"IF(U495=\"\",\"\",MEDIAN(IF(($U$25:$U$15023<>\"\")*($V$25:$V$15023=V495),$U$25:$U$15023)))","v":""},"","","",null,"","","","","","","","","","","","","","","",null,null,"","","","","","","","","","","","","","","",null,"","","","","","","","","","","","","","",""]
[null,null,null,null,null,null,null,null,null,null,null,null,null,null,null,null,null,null,null,null,"","","",{"$f":"IF(U496=\"\",\"\",MEDIAN(IF(($U$25:$U$15023<>\"\")*($V$25:$V$15023=V496),$U$25:$U$15023)))","v":""},"","","",null,"","","","","","","","","","","","","","","",null,null,"","","","","","","","","","","","","","","",null,"","","","","","","","","","","","","","",""]
[null,null,null,null,null,null,null,null,null,null,null,null,null,null,null,null,null,null,null,null,"","","",{"$f":"IF(U497=\"\",\"\",MEDIAN(IF(($U$25:$U$15023<>\"\")*($V$25:$V$15023=V497),$U$25:$U$15023)))","v":""},"","","",null,"","","","","","","","","","","","","","","",null,null,"","","","","","","","","","","","","","","",null,"","","","","","","","","","","","","","",""]
[null,null,null,null,null,null,null,null,null,null,null,null,null,null,null,null,null,null,null,null,"","","",{"$f":"IF(U498=\"\",\"\",MEDIAN(IF(($U$25:$U$15023<>\"\")*($V$25:$V$15023=V498),$U$25:$U$15023)))","v":""},"","","",null,"","","","","","","","","","","","","","","",null,null,"","","","","","","","","","","","","","","",null,"","","","","","","","","","","","","","",""]
[null,null,null,null,null,null,null,null,null,null,null,null,null,null,null,null,null,null,null,null,"","","",{"$f":"IF(U499=\"\",\"\",MEDIAN(IF(($U$25:$U$15023<>\"\")*($V$25:$V$15023=V499),$U$25:$U$15023)))","v":""},"","","",null,"","","","","","","","","","","","","","","",null,null,"","","","","","","","","","","","","","","",null,"","","","","","","","","","","","","","",""]
[null,null,null,null,null,null,null,null,null,null,null,null,null,null,null,null,null,null,null,null,"","","",{"$f":"IF(U500=\"\",\"\",MEDIAN(IF(($U$25:$U$15023<>\"\")*($V$25:$V$15023=V500),$U$25:$U$15023)))","v":""},"","","",null,"","","","","","","","","","","","","","","",null,null,"","","","","","","","","","","","","","","",null,"","","","","","","","","","","","","","",""]
[null,null,null,null,null,null,null,null,null,null,null,null,null,null,null,null,null,null,null,null,"","","",{"$f":"IF(U501=\"\",\"\",MEDIAN(IF(($U$25:$U$15023<>\"\")*($V$25:$V$15023=V501),$U$25:$U$15023)))","v":""},"","","",null,"","","","","","","","","","","","","","","",null,null,"","","","","","","","","","","","","","","",null,"","","","","","","","","","","","","","",""]
[null,null,null,null,null,null,null,null,null,null,null,null,null,null,null,null,null,null,null,null,"","","",{"$f":"IF(U502=\"\",\"\",MEDIAN(IF(($U$25:$U$15023<>\"\")*($V$25:$V$15023=V502),$U$25:$U$15023)))","v":""},"","","",null,"","","","","","","","","","","","","","","",null,null,"","","","","","","","","","","","","","","",null,"","","","","","","","","","","","","","",""]
[null,null,null,null,null,null,null,null,null,null,null,null,null,null,null,null,null,null,null,null,"","","",{"$f":"IF(U503=\"\",\"\",MEDIAN(IF(($U$25:$U$15023<>\"\")*($V$25:$V$15023=V503),$U$25:$U$15023)))","v":""},"","","",null,"","","","","","","","","","","","","","","",null,null,"","","","","","","","","","","","","","","",null,"","","","","","","","","","","","","","",""]
[null,null,null,null,null,null,null,null,null,null,null,null,null,null,null,null,null,null,null,null,"","","",{"$f":"IF(U504=\"\",\"\",MEDIAN(IF(($U$25:$U$15023<>\"\")*($V$25:$V$15023=V504),$U$25:$U$15023)))","v":""},"","","",null,"","","","","","","","","","","","","","","",null,null,"","","","","","","","","","","","","","","",null,"","","","","","","","","","","","","","",""]
[null,null,null,null,null,null,null,null,null,null,null,null,null,null,null,null,null,null,null,null,"","","",{"$f":"IF(U505=\"\",\"\",MEDIAN(IF(($U$25:$U$15023<>\"\")*($V$25:$V$15023=V505),$U$25:$U$15023)))","v":""},"","","",null,"","","","","","","","","","","","","","","",null,null,"","","","","","","","","","","","","","","",null,"","","","","","","","","","","","","","",""]
[null,null,null,null,null,null,null,null,null,null,null,null,null,null,null,null,null,null,null,null,"","","",{"$f":"IF(U506=\"\",\"\",MEDIAN(IF(($U$25:$U$15023<>\"\")*($V$25:$V$15023=V506),$U$25:$U$15023)))","v":""},"","","",null,"","","","","","","","","","","","","","","",null,null,"","","","","","","","","","","","","","","",null,"","","","","","","","","","","","","","",""]
[null,null,null,null,null,null,null,null,null,null,null,null,null,null,null,null,null,null,null,null,"","","",{"$f":"IF(U507=\"\",\"\",MEDIAN(IF(($U$25:$U$15023<>\"\")*($V$25:$V$15023=V507),$U$25:$U$15023)))","v":""},"","","",null,"","","","","","","","","","","","","","","",null,null,"","","","","","","","","","","","","","","",null,"","","","","","","","","","","","","","",""]
[null,null,null,null,null,null,null,null,null,null,null,null,null,null,null,null,null,null,null,null,"","","",{"$f":"IF(U508=\"\",\"\",MEDIAN(IF(($U$25:$U$15023<>\"\")*($V$25:$V$15023=V508),$U$25:$U$15023)))","v":""},"","","",null,"","","","","","","","","","","","","","","",null,null,"","","","","","","","","","","","","","","",null,"","","","","","","","","","","","","","",""]
[null,null,null,null,null,null,null,null,null,null,null,null,null,null,null,null,null,null,null,null,"","","",{"$f":"IF(U509=\"\",\"\",MEDIAN(IF(($U$25:$U$15023<>\"\")*($V$25:$V$15023=V509),$U$25:$U$15023)))","v":""},"","","",null,"","","","","","","","","","","","","","","",null,null,"","","","","","","","","","","","","","","",null,"","","","","","","","","","","","","","",""]
[null,null,null,null,null,null,null,null,null,null,null,null,null,null,null,null,null,null,null,null,"","","",{"$f":"IF(U510=\"\",\"\",MEDIAN(IF(($U$25:$U$15023<>\"\")*($V$25:$V$15023=V510),$U$25:$U$15023)))","v":""},"","","",null,"","","","","","","","","","","","","","","",null,null,"","","","","","","","","","","","","","","",null,"","","","","","","","","","","","","","",""]
[null,null,null,null,null,null,null,null,null,null,null,null,null,null,null,null,null,null,null,null,"","","",{"$f":"IF(U511=\"\",\"\",MEDIAN(IF(($U$25:$U$15023<>\"\")*($V$25:$V$15023=V511),$U$25:$U$15023)))","v":""},"","","",null,"","","","","","","","","","","","","","","",null,null,"","","","","","","","","","","","","","","",null,"","","","","","","","","","","","","","",""]
[null,null,null,null,null,null,null,null,null,null,null,null,null,null,null,null,null,null,null,null,"","","",{"$f":"IF(U512=\"\",\"\",MEDIAN(IF(($U$25:$U$15023<>\"\")*($V$25:$V$15023=V512),$U$25:$U$15023)))","v":""},"","","",null,"","","","","","","","","","","","","","","",null,null,"","","","","","","","","","","","","","","",null,"","","","","","","","","","","","","","",""]
[null,null,null,null,null,null,null,null,null,null,null,null,null,null,null,null,null,null,null,null,"","","",{"$f":"IF(U513=\"\",\"\",MEDIAN(IF(($U$25:$U$15023<>\"\")*($V$25:$V$15023=V513),$U$25:$U$15023)))","v":""},"","","",null,"","","","","","","","","","","","","","","",null,null,"","","","","","","","","","","","","","","",null,"","","","","","","","","","","","","","",""]
[null,null,null,null,null,null,null,null,null,null,null,null,null,null,null,null,null,null,null,null,"","","",{"$f":"IF(U514=\"\",\"\",MEDIAN(IF(($U$25:$U$15023<>\"\")*($V$25:$V$15023=V514),$U$25:$U$15023)))","v":""},"","","",null,"","","","","","","","","","","","","","","",null,null,"","","","","","","","","","","","","","","",null,"","","","","","","","","","","","","","",""]
[null,null,null,null,null,null,null,null,null,null,null,null,null,null,null,null,null,null,null,null,"","","",{"$f":"IF(U515=\"\",\"\",MEDIAN(IF(($U$25:$U$15023<>\"\")*($V$25:$V$15023=V515),$U$25:$U$15023)))","v":""},"","","",null,"","","","","","","","","","","","","","","",null,null,"","","","","","","","","","","","","","","",null,"","","","","","","","","","","","","","",""]
[null,null,null,null,null,null,null,null,null,null,null,null,null,null,null,null,null,null,null,null,"","","",{"$f":"IF(U516=\"\",\"\",MEDIAN(IF(($U$25:$U$15023<>\"\")*($V$25:$V$15023=V516),$U$25:$U$15023)))","v":""},"","","",null,"","","","","","","","","","","","","","","",null,null,"","","","","","","","","","","","","","","",null,"","","","","","","","","","","","","","",""]
[null,null,null,null,null,null,null,null,null,null,null,null,null,null,null,null,null,null,null,null,"","","",{"$f":"IF(U517=\"\",\"\",MEDIAN(IF(($U$25:$U$15023<>\"\")*($V$25:$V$15023=V517),$U$25:$U$15023)))","v":""},"","","",null,"","","","","","","","","","","","","","","",null,null,"","","","","","","","","","","","","","","",null,"","","","","","","","","","","","","","",""]
[null,null,null,null,null,null,null,null,null,null,null,null,null,null,null,null,null,null,null,null,"","","",{"$f":"IF(U518=\"\",\"\",MEDIAN(IF(($U$25:$U$15023<>\"\")*($V$25:$V$15023=V518),$U$25:$U$15023)))","v":""},"","","",null,"","","","","","","","","","","","","","","",null,null,"","","","","","","","","","","","","","","",null,"","","","","","","","","","","","","","",""]
[null,null,null,null,null,null,null,null,null,null,null,null,null,null,null,null,null,null,null,null,"","","",{"$f":"IF(U519=\"\",\"\",MEDIAN(IF(($U$25:$U$15023<>\"\")*($V$25:$V$15023=V519),$U$25:$U$15023)))","v":""},"","","",null,"","","","","","","","","","","","","","","",null,null,"","","","","","","","","","","","","","","",null,"","","","","","","","","","","","","","",""]
[null,null,null,null,null,null,null,null,null,null,null,null,null,null,null,null,null,null,null,null,"","","",{"$f":"IF(U520=\"\",\"\",MEDIAN(IF(($U$25:$U$15023<>\"\")*($V$25:$V$15023=V520),$U$25:$U$15023)))","v":""},"","","",null,"","","","","","","","","","","","","","","",null,null,"","","","","","","","","","","","","","","",null,"","","","","","","","","","","","","","",""]
[null,null,null,null,null,null,null,null,null,null,null,null,null,null,null,null,null,null,null,null,"","","",{"$f":"IF(U521=\"\",\"\",MEDIAN(IF(($U$25:$U$15023<>\"\")*($V$25:$V$15023=V521),$U$25:$U$15023)))","v":""},"","","",null,"","","","","","","","","","","","","","","",null,null,"","","","","","","","","","","","","","","",null,"","","","","","","","","","","","","","",""]
[null,null,null,null,null,null,null,null,null,null,null,null,null,null,null,null,null,null,null,null,"","","",{"$f":"IF(U522=\"\",\"\",MEDIAN(IF(($U$25:$U$15023<>\"\")*($V$25:$V$15023=V522),$U$25:$U$15023)))","v":""},"","","",null,"","","","","","","","","","","","","","","",null,null,"","","","","","","","","","","","","","","",null,"","","","","","","","","","","","","","",""]
[null,null,null,null,null,null,null,null,null,null,null,null,null,null,null,null,null,null,null,null,"","","",{"$f":"IF(U523=\"\",\"\",MEDIAN(IF(($U$25:$U$15023<>\"\")*($V$25:$V$15023=V523),$U$25:$U$15023)))","v":""},"","","",null,"","","","","","","","","","","","","","","",null,null,"","","","","","","","","","","","","","","",null,"","","","","","","","","","","","","","",""]
[null,null,null,null,null,null,null,null,null,null,null,null,null,null,null,null,null,null,null,null,"","","",{"$f":"IF(U524=\"\",\"\",MEDIAN(IF(($U$25:$U$15023<>\"\")*($V$25:$V$15023=V524),$U$25:$U$15023)))","v":""},"","","",null,"","","","","","","","","","","","","","","",null,null,"","","","","","","","","","","","","","","",null,"","","","","","","","","","","","","","",""]
[null,null,null,null,null,null,null,null,null,null,null,null,null,null,null,null,null,null,null,null,"","","",{"$f":"IF(U525=\"\",\"\",MEDIAN(IF(($U$25:$U$15023<>\"\")*($V$25:$V$15023=V525),$U$25:$U$15023)))","v":""},"","","",null,"","","","","","","","","","","","","","","",null,null,"","","","","","","","","","","","","","","",null,"","","","","","","","","","","","","","",""]
[null,null,null,null,null,null,null,null,null,null,null,null,null,null,null,null,null,null,null,null,"","","",{"$f":"IF(U526=\"\",\"\",MEDIAN(IF(($U$25:$U$15023<>\"\")*($V$25:$V$15023=V526),$U$25:$U$15023)))","v":""},"","","",null,"","","","","","","","","","","","","","","",null,null,"","","","","","","","","","","","","","","",null,"","","","","","","","","","","","","","",""]
[null,null,null,null,null,null,null,null,null,null,null,null,null,null,null,null,null,null,null,null,"","","",{"$f":"IF(U527=\"\",\"\",MEDIAN(IF(($U$25:$U$15023<>\"\")*($V$25:$V$15023=V527),$U$25:$U$15023)))","v":""},"","","",null,"","","","","","","","","","","","","","","",null,null,"","","","","","","","","","","","","","","",null,"","","","","","","","","","","","","","",""]
[null,null,null,null,null,null,null,null,null,null,null,null,null,null,null,null,null,null,null,null,"","","",{"$f":"IF(U528=\"\",\"\",MEDIAN(IF(($U$25:$U$15023<>\"\")*($V$25:$V$15023=V528),$U$25:$U$15023)))","v":""},"","","",null,"","","","","","","","","","","","","","","",null,null,"","","","","","","","","","","","","","","",null,"","","","","","","","","","","","","","",""]
[null,null,null,null,null,null,null,null,null,null,null,null,null,null,null,null,null,null,null,null,"","","",{"$f":"IF(U529=\"\",\"\",MEDIAN(IF(($U$25:$U$15023<>\"\")*($V$25:$V$15023=V529),$U$25:$U$15023)))","v":""},"","","",null,"","","","","","","","","","","","","","","",null,null,"","","","","","","","","","","","","","","",null,"","","","","","","","","","","","","","",""]
[null,null,null,null,null,null,null,null,null,null,null,null,null,null,null,null,null,null,null,null,"","","",{"$f":"IF(U530=\"\",\"\",MEDIAN(IF(($U$25:$U$15023<>\"\")*($V$25:$V$15023=V530),$U$25:$U$15023)))","v":""},"","","",null,"","","","","","","","","","","","","","","",null,null,"","","","","","","","","","","","","","","",null,"","","","","","","","","","","","","","",""]
[null,null,null,null,null,null,null,null,null,null,null,null,null,null,null,null,null,null,null,null,"","","",{"$f":"IF(U531=\"\",\"\",MEDIAN(IF(($U$25:$U$15023<>\"\")*($V$25:$V$15023=V531),$U$25:$U$15023)))","v":""},"","","",null,"","","","","","","","","","","","","","","",null,null,"","","","","","","","","","","","","","","",null,"","","","","","","","","","","","","","",""]
[null,null,null,null,null,null,null,null,null,null,null,null,null,null,null,null,null,null,null,null,"","","",{"$f":"IF(U532=\"\",\"\",MEDIAN(IF(($U$25:$U$15023<>\"\")*($V$25:$V$15023=V532),$U$25:$U$15023)))","v":""},"","","",null,"","","","","","","","","","","","","","","",null,null,"","","","","","","","","","","","","","","",null,"","","","","","","","","","","","","","",""]
[null,null,null,null,null,null,null,null,null,null,null,null,null,null,null,null,null,null,null,null,"","","",{"$f":"IF(U533=\"\",\"\",MEDIAN(IF(($U$25:$U$15023<>\"\")*($V$25:$V$15023=V533),$U$25:$U$15023)))","v":""},"","","",null,"","","","","","","","","","","","","","","",null,null,"","","","","","","","","","","","","","","",null,"","","","","","","","","","","","","","",""]
[null,null,null,null,null,null,null,null,null,null,null,null,null,null,null,null,null,null,null,null,"","","",{"$f":"IF(U534=\"\",\"\",MEDIAN(IF(($U$25:$U$15023<>\"\")*($V$25:$V$15023=V534),$U$25:$U$15023)))","v":""},"","","",null,"","","","","","","","","","","","","","","",null,null,"","","","","","","","","","","","","","","",null,"","","","","","","","","","","","","","",""]
[null,null,null,null,null,null,null,null,null,null,null,null,null,null,null,null,null,null,null,null,"","","",{"$f":"IF(U535=\"\",\"\",MEDIAN(IF(($U$25:$U$15023<>\"\")*($V$25:$V$15023=V535),$U$25:$U$15023)))","v":""},"","","",null,"","","","","","","","","","","","","","","",null,null,"","","","","","","","","","","","","","","",null,"","","","","","","","","","","","","","",""]
[null,null,null,null,null,null,null,null,null,null,null,null,null,null,null,null,null,null,null,null,"","","",{"$f":"IF(U536=\"\",\"\",MEDIAN(IF(($U$25:$U$15023<>\"\")*($V$25:$V$15023=V536),$U$25:$U$15023)))","v":""},"","","",null,"","","","","","","","","","","","","","","",null,null,"","","","","","","","","","","","","","","",null,"","","","","","","","","","","","","","",""]
[null,null,null,null,null,null,null,null,null,null,null,null,null,null,null,null,null,null,null,null,"","","",{"$f":"IF(U537=\"\",\"\",MEDIAN(IF(($U$25:$U$15023<>\"\")*($V$25:$V$15023=V537),$U$25:$U$15023)))","v":""},"","","",null,"","","","","","","","","","","","","","","",null,null,"","","","","","","","","","","","","","","",null,"","","","","","","","","","","","","","",""]
[null,null,null,null,null,null,null,null,null,null,null,null,null,null,null,null,null,null,null,null,{"$f":"IF(A538=\"\",\"\",A538)","v":""},{"$f":"IF(B538=\"\",\"\",B538)","v":""},{"$f":"IF(U538=\"\",\"\",RANK(U538,$U$25:$U$15023,1)+(COUNT($U$25:$U$15023)+1-RANK(U538,$U$25:$U$15023,0)-RANK(U538,$U$25:$U$15023,1))/2)","v":""},{"$f":"IF(U538=\"\",\"\",MEDIAN(IF(($U$25:$U$15023<>\"\")*($V$25:$V$15023=V538),$U$25:$U$15023)))","v":""},{"$f":"IF(U538=\"\",\"\",ABS(X538-U538))","v":""},{"$f":"IF(V538=\"\",\"\",AVERAGEIF($V$25:$V$15023,V538,$Y$25:$Y$15023))","v":""},{"$f":"IF(V538=\"\",\"\",(Y538-Z538)^2)","v":""},null,"","","","","","","","","","","","","","","",null,null,{"$f":"IF(D538=\"\",\"\",ABS(D538-MEDIAN(D$25:D$1024)))","v":""},{"$f":"IF(E538=\"\",\"\",ABS(E538-MEDIAN(E$25:E$1024)))","v":""},{"$f":"IF(F538=\"\",\"\",ABS(F538-MEDIAN(F$25:F$1024)))","v":""},{"$f":"IF(G538=\"\",\"\",ABS(G538-MEDIAN(G$25:G$1024)))","v":""},{"$f":"IF(H538=\"\",\"\",ABS(H538-MEDIAN(H$25:H$1024)))","v":""},{"$f":"IF(I538=\"\",\"\",ABS(I538-MEDIAN(I$25:I$1024)))","v":""},{"$f":"IF(J538=\"\",\"\",ABS(J538-MEDIAN(J$25:J$1024)))","v":""},{"$f":"IF(K538=\"\",\"\",ABS(K538-MEDIAN(K$25:K$1024)))","v":""},{"$f":"IF(L538=\"\",\"\",ABS(L538-MEDIAN(L$25:L$1024)))","v":""},{"$f":"IF(M538=\"\",\"\",ABS(M538-MEDIAN(M$25:M$1024)))","v":""},{"$f":"IF(N538=\"\",\"\",ABS(N538-MEDIAN(N$25:N$1024)))","v":""},{"$f":"IF(O538=\"\",\"\",ABS(O538-MEDIAN(O$25:O$1024)))","v":""},{"$f":"IF(P538=\"\",\"\",ABS(P538-MEDIAN(P$25:P$1024)))","v":""},{"$f":"IF(Q538=\"\",\"\",ABS(Q538-MEDIAN(Q$25:Q$1024)))","v":""},{"$f":"IF(R538=\"\",\"\",ABS(R538-MEDIAN(R$25:R$1024)))","v":""},null,{"$f":"IF(AT538=\"\",\"\",(AT538-AT$22)^2)","v":""},{"$f":"IF(AU538=\"\",\"\",(AU538-AU$22)^2)","v":""},{"$f":"IF(AV538=\"\",\"\",(AV538-AV$22)^2)","v":""},{"$f":"IF(AW538=\"\",\"\",(AW538-AW$22)^2)","v":""},{"$f":"IF(AX538=\"\",\"\",(AX538-AX$22)^2)","v":""},{"$f":"IF(AY538=\"\",\"\",(AY538-AY$22)^2)","v":""},{"$f":"IF(AZ538=\"\",\"\",(AZ538-AZ$22)^2)","v":""},{"$f":"IF(BA538=\"\",\"\",(BA538-BA$22)^2)","v":""},{"$f":"IF(BB538=\"\",\"\",(BB538-BB$22)^2)","v":""},{"$f":"IF(BC538=\"\",\"\",(BC538-BC$22)^2)","v":""},{"$f":"IF(BD538=\"\",\"\",(BD538-BD$22)^2)","v":""},{"$f":"IF(BE538=\"\",\"\",(BE538-BE$22)^2)","v":""},{"$f":"IF(BF538=\"\",\"\",(BF538-BF$22)^2)","v":""},{"$f":"IF(BG538=\"\",\"\",(BG538-BG$22)^2)","v":""},{"$f":"IF(BH538=\"\",\"\",(BH538-BH$22)^2)","v":""}]
[null,null,null,null,null,null,null,null,null,null,null,null,null,null,null,null,null,null,null,null,"","","",{"$f":"IF(U539=\"\",\"\",MEDIAN(IF(($U$25:$U$15023<>\"\")*($V$25:$V$15023=V539),$U$25:$U$15023)))","v":""},"","","",null,"","","","","","","","","","","","","","","",null,null,"","","","","","","","","","","","","","","",null,"","","","","","","","","","","","","","",""]
[null,null,null,null,null,null,null,null,null,null,null,null,null,null,null,null,null,null,null,null,"","","",{"$f":"IF(U540=\"\",\"\",MEDIAN(IF(($U$25:$U$15023<>\"\")*($V$25:$V$15023=V540),$U$25:$U$15023)))","v":""},"","","",null,"","","","","","","","","","","","","","","",null,null,"","","","","","","","","","","","","","","",null,"","","","","","","","","","","","","","",""]
[null,null,null,null,null,null,null,null,null,null,null,null,null,null,null,null,null,null,null,null,"","","",{"$f":"IF(U541=\"\",\"\",MEDIAN(IF(($U$25:$U$15023<>\"\")*($V$25:$V$15023=V541),$U$25:$U$15023)))","v":""},"","","",null,"","","","","","","","","","","","","","","",null,null,"","","","","","","","","","","","","","","",null,"","","","","","","","","","","","","","",""]
[null,null,null,null,null,null,null,null,null,null,null,null,null,null,null,null,null,null,null,null,"","","",{"$f":"IF(U542=\"\",\"\",MEDIAN(IF(($U$25:$U$15023<>\"\")*($V$25:$V$15023=V542),$U$25:$U$15023)))","v":""},"","","",null,"","","","","","","","","","","","","","","",null,null,"","","","","","","","","","","","","","","",null,"","","","","","","","","","","","","","",""]
[null,null,null,null,null,null,null,null,null,null,null,null,null,null,null,null,null,null,null,null,"","","",{"$f":"IF(U543=\"\",\"\",MEDIAN(IF(($U$25:$U$15023<>\"\")*($V$25:$V$15023=V543),$U$25:$U$15023)))","v":""},"","","",null,"","","","","","","","","","","","","","","",null,null,"","","","","","","","","","","","","","","",null,"","","","","","","","","","","","","","",""]
[null,null,null,null,null,null,null,null,null,null,null,null,null,null,null,null,null,null,null,null,"","","",{"$f":"IF(U544=\"\",\"\",MEDIAN(IF(($U$25:$U$15023<>\"\")*($V$25:$V$15023=V544),$U$25:$U$15023)))","v":""},"","","",null,"","","","","","","","","","","","","","","",null,null,"","","","","","","","","","","","","","","",null,"","","","","","","","","","","","","","",""]
[null,null,null,null,null,null,null,null,null,null,null,null,null,null,null,null,null,null,null,null,"","","",{"$f":"IF(U545=\"\",\"\",MEDIAN(IF(($U$25:$U$15023<>\"\")*($V$25:$V$15023=V545),$U$25:$U$15023)))","v":""},"","","",null,{"$f":"IF(D545=\"\",\"\",RANK(D545,$D$25:$R$1024,1)+(COUNT($D$25:$R$1024)+1-RANK(D545,$D$25:$R$1024,0)-RANK(D545,$D$25:$R$1024,1))/2)","v":""},{"$f":"IF(E545=\"\",\"\",RANK(E545,$D$25:$R$1024,1)+(COUNT($D$25:$R$1024)+1-RANK(E545,$D$25:$R$1024,0)-RANK(E545,$D$25:$R$1024,1))/2)","v":""},{"$f":"IF(F545=\"\",\"\",RANK(F545,$D$25:$R$1024,1)+(COUNT($D$25:$R$1024)+1-RANK(F545,$D$25:$R$1024,0)-RANK(F545,$D$25:$R$1024,1))/2)","v":""},{"$f":"IF(G545=\"\",\"\",RANK(G545,$D$25:$R$1024,1)+(COUNT($D$25:$R$1024)+1-RANK(G545,$D$25:$R$1024,0)-RANK(G545,$D$25:$R$1024,1))/2)","v":""},{"$f":"IF(H545=\"\",\"\",RANK(H545,$D$25:$R$1024,1)+(COUNT($D$25:$R$1024)+1-RANK(H545,$D$25:$R$1024,0)-RANK(H545,$D$25:$R$1024,1))/2)","v":""},{"$f":"IF(I545=\"\",\"\",RANK(I545,$D$25:$R$1024,1)+(COUNT($D$25:$R$1024)+1-RANK(I545,$D$25:$R$1024,0)-RANK(I545,$D$25:$R$1024,1))/2)","v":""},{"$f":"IF(J545=\"\",\"\",RANK(J545,$D$25:$R$1024,1)+(COUNT($D$25:$R$1024)+1-RANK(J545,$D$25:$R$1024,0)-RANK(J545,$D$25:$R$1024,1))/2)","v":""},{"$f":"IF(K545=\"\",\"\",RANK(K545,$D$25:$R$1024,1)+(COUNT($D$25:$R$1024)+1-RANK(K545,$D$25:$R$1024,0)-RANK(K545,$D$25:$R$1024,1))/2)","v":""},{"$f":"IF(L545=\"\",\"\",RANK(L545,$D$25:$R$1024,1)+(COUNT($D$25:$R$1024)+1-RANK(L545,$D$25:$R$1024,0)-RANK(L545,$D$25:$R$1024,1))/2)","v":""},{"$f":"IF(M545=\"\",\"\",RANK(M545,$D$25:$R$1024,1)+(COUNT($D$25:$R$1024)+1-RANK(M545,$D$25:$R$1024,0)-RANK(M545,$D$25:$R$1024,1))/2)","v":""},{"$f":"IF(N545=\"\",\"\",RANK(N545,$D$25:$R$1024,1)+(COUNT($D$25:$R$1024)+1-RANK(N545,$D$25:$R$1024,0)-RANK(N545,$D$25:$R$1024,1))/2)","v":""},{"$f":"IF(O545=\"\",\"\",RANK(O545,$D$25:$R$1024,1)+(COUNT($D$25:$R$1024)+1-RANK(O545,$D$25:$R$1024,0)-RANK(O545,$D$25:$R$1024,1))/2)","v":""},{"$f":"IF(P545=\"\",\"\",RANK(P545,$D$25:$R$1024,1)+(COUNT($D$25:$R$1024)+1-RANK(P545,$D$25:$R$1024,0)-RANK(P545,$D$25:$R$1024,1))/2)","v":""},{"$f":"IF(Q545=\"\",\"\",RANK(Q545,$D$25:$R$1024,1)+(COUNT($D$25:$R$1024)+1-RANK(Q545,$D$25:$R$1024,0)-RANK(Q545,$D$25:$R$1024,1))/2)","v":""},{"$f":"IF(R545=\"\",\"\",RANK(R545,$D$25:$R$1024,1)+(COUNT($D$25:$R$1024)+1-RANK(R545,$D$25:$R$1024,0)-RANK(R545,$D$25:$R$1024,1))/2)","v":""},null,null,"","","","","","","","","","","","","","","",null,"","","","","","","","","","","","","","",""]
[null,null,null,null,null,null,null,null,null,null,null,null,null,null,null,null,null,null,null,null,"","","",{"$f":"IF(U546=\"\",\"\",MEDIAN(IF(($U$25:$U$15023<>\"\")*($V$25:$V$15023=V546),$U$25:$U$15023)))","v":""},"","","",null,"","","","","","","","","","","","","","","",null,null,"","","","","","","","","","","","","","","",null,"","","","","","","","","","","","","","",""]
[null,null,null,null,null,null,null,null,null,null,null,null,null,null,null,null,null,null,null,null,"","","",{"$f":"IF(U547=\"\",\"\",MEDIAN(IF(($U$25:$U$15023<>\"\")*($V$25:$V$15023=V547),$U$25:$U$15023)))","v":""},"","","",null,"","","","","","","","","","","","","","","",null,null,"","","","","","","","","","","","","","","",null,"","","","","","","","","","","","","","",""]
[null,null,null,null,null,null,null,null,null,null,null,null,null,null,null,null,null,null,null,null,"","","",{"$f":"IF(U548=\"\",\"\",MEDIAN(IF(($U$25:$U$15023<>\"\")*($V$25:$V$15023=V548),$U$25:$U$15023)))","v":""},"","","",null,"","","","","","","","","","","","","","","",null,null,"","","","","","","","","","","","","","","",null,"","","","","","","","","","","","","","",""]
[null,null,null,null,null,null,null,null,null,null,null,null,null,null,null,null,null,null,null,null,"","","",{"$f":"IF(U549=\"\",\"\",MEDIAN(IF(($U$25:$U$15023<>\"\")*($V$25:$V$15023=V549),$U$25:$U$15023)))","v":""},"","","",null,"","","","","","","","","","","","","","","",null,null,"","","","","","","","","","","","","","","",null,"","","","","","","","","","","","","","",""]
[null,null,null,null,null,null,null,null,null,null,null,null,null,null,null,null,null,null,null,null,"","","",{"$f":"IF(U550=\"\",\"\",MEDIAN(IF(($U$25:$U$15023<>\"\")*($V$25:$V$15023=V550),$U$25:$U$15023)))","v":""},"","","",null,"","","","","","","","","","","","","","","",null,null,"","","","","","","","","","","","","","","",null,"","","","","","","","","","","","","","",""]
[null,null,null,null,null,null,null,null,null,null,null,null,null,null,null,null,null,null,null,null,"","","",{"$f":"IF(U551=\"\",\"\",MEDIAN(IF(($U$25:$U$15023<>\"\")*($V$25:$V$15023=V551),$U$25:$U$15023)))","v":""},"","","",null,"","","","","","","","","","","","","","","",null,null,"","","","","","","","","","","","","","","",null,"","","","","","","","","","","","","","",""]
[null,null,null,null,null,null,null,null,null,null,null,null,null,null,null,null,null,null,null,null,"","","",{"$f":"IF(U552=\"\",\"\",MEDIAN(IF(($U$25:$U$15023<>\"\")*($V$25:$V$15023=V552),$U$25:$U$15023)))","v":""},"","","",null,"","","","","","","","","","","","","","","",null,null,"","","","","","","","","","","","","","","",null,"","","","","","","","","","","","","","",""]
[null,null,null,null,null,null,null,null,null,null,null,null,null,null,null,null,null,null,null,null,"","","",{"$f":"IF(U553=\"\",\"\",MEDIAN(IF(($U$25:$U$15023<>\"\")*($V$25:$V$15023=V553),$U$25:$U$15023)))","v":""},"","","",null,"","","","","","","","","","","","","","","",null,null,"","","","","","","","","","","","","","","",null,"","","","","","","","","","","","","","",""]
[null,null,null,null,null,null,null,null,null,null,null,null,null,null,null,null,null,null,null,null,"","","",{"$f":"IF(U554=\"\",\"\",MEDIAN(IF(($U$25:$U$15023<>\"\")*($V$25:$V$15023=V554),$U$25:$U$15023)))","v":""},"","","",null,"","","","","","","","","","","","","","","",null,null,"","","","","","","","","","","","","","","",null,"","","","","","","","","","","","","","",""]
[null,null,null,null,null,null,null,null,null,null,null,null,null,null,null,null,null,null,null,null,"","","",{"$f":"IF(U555=\"\",\"\",MEDIAN(IF(($U$25:$U$15023<>\"\")*($V$25:$V$15023=V555),$U$25:$U$15023)))","v":""},"","","",null,"","","","","","","","","","","","","","","",null,null,"","","","","","","","","","","","","","","",null,"","","","","","","","","","","","","","",""]
[null,null,null,null,null,null,null,null,null,null,null,null,null,null,null,null,null,null,null,null,"","","",{"$f":"IF(U556=\"\",\"\",MEDIAN(IF(($U$25:$U$15023<>\"\")*($V$25:$V$15023=V556),$U$25:$U$15023)))","v":""},"","","",null,"","","","","","","","","","","","","","","",null,null,"","","","","","","","","","","","","","","",null,"","","","","","","","","","","","","","",""]
[null,null,null,null,null,null,null,null,null,null,null,null,null,null,null,null,null,null,null,null,"","","",{"$f":"IF(U557=\"\",\"\",MEDIAN(IF(($U$25:$U$15023<>\"\")*($V$25:$V$15023=V557),$U$25:$U$15023)))","v":""},"","","",null,"","","","","","","","","","","","","","","",null,null,"","","","","","","","","","","","","","","",null,"","","","","","","","","","","","","","",""]
[null,null,null,null,null,null,null,null,null,null,null,null,null,null,null,null,null,null,null,null,"","","",{"$f":"IF(U558=\"\",\"\",MEDIAN(IF(($U$25:$U$15023<>\"\")*($V$25:$V$15023=V558),$U$25:$U$15023)))","v":""},"","","",null,"","","","","","","","","","","","","","","",null,null,"","","","","","","","","","","","","","","",null,"","","","","","","","","","","","","","",""]
[null,null,null,null,null,null,null,null,null,null,null,null,null,null,null,null,null,null,null,null,"","","",{"$f":"IF(U559=\"\",\"\",MEDIAN(IF(($U$25:$U$15023<>\"\")*($V$25:$V$15023=V559),$U$25:$U$15023)))","v":""},"","","",null,"","","","","","","","","","","","","","","",null,null,"","","","","","","","","","","","","","","",null,"","","","","","","","","","","","","","",""]
[null,null,null,null,null,null,null,null,null,null,null,null,null,null,null,null,null,null,null,null,"","","",{"$f":"IF(U560=\"\",\"\",MEDIAN(IF(($U$25:$U$15023<>\"\")*($V$25:$V$15023=V560),$U$25:$U$15023)))","v":""},"","","",null,"","","","","","","","","","","","","","","",null,null,"","","","","","","","","","","","","","","",null,"","","","","","","","","","","","","","",""]
[null,null,null,null,null,null,null,null,null,null,null,null,null,null,null,null,null,null,null,null,"","","",{"$f":"IF(U561=\"\",\"\",MEDIAN(IF(($U$25:$U$15023<>\"\")*($V$25:$V$15023=V561),$U$25:$U$15023)))","v":""},"","","",null,"","","","","","","","","","","","","","","",null,null,"","","","","","","","","","","","","","","",null,"","","","","","","","","","","","","","",""]
[null,null,null,null,null,null,null,null,null,null,null,null,null,null,null,null,null,null,null,null,"","","",{"$f":"IF(U562=\"\",\"\",MEDIAN(IF(($U$25:$U$15023<>\"\")*($V$25:$V$15023=V562),$U$25:$U$15023)))","v":""},"","","",null,"","","","","","","","","","","","","","","",null,null,"","","","","","","","","","","","","","","",null,"","","","","","","","","","","","","","",""]
[null,null,null,null,null,null,null,null,null,null,null,null,null,null,null,null,null,null,null,null,"","","",{"$f":"IF(U563=\"\",\"\",MEDIAN(IF(($U$25:$U$15023<>\"\")*($V$25:$V$15023=V563),$U$25:$U$15023)))","v":""},"","","",null,"","","","","","","","","","","","","","","",null,null,"","","","","","","","","","","","","","","",null,"","","","","","","","","","","","","","",""]
[null,null,null,null,null,null,null,null,null,null,null,null,null,null,null,null,null,null,null,null,"","","",{"$f":"IF(U564=\"\",\"\",MEDIAN(IF(($U$25:$U$15023<>\"\")*($V$25:$V$15023=V564),$U$25:$U$15023)))","v":""},"","","",null,"","","","","","","","","","","","","","","",null,null,"","","","","","","","","","","","","","","",null,"","","","","","","","","","","","","","",""]
[null,null,null,null,null,null,null,null,null,null,null,null,null,null,null,null,null,null,null,null,"","","",{"$f":"IF(U565=\"\",\"\",MEDIAN(IF(($U$25:$U$15023<>\"\")*($V$25:$V$15023=V565),$U$25:$U$15023)))","v":""},"","","",null,"","","","","","","","","","","","","","","",null,null,"","","","","","","","","","","","","","","",null,"","","","","","","","","","","","","","",""]
[null,null,null,null,null,null,null,null,null,null,null,null,null,null,null,null,null,null,null,null,"","","",{"$f":"IF(U566=\"\",\"\",MEDIAN(IF(($U$25:$U$15023<>\"\")*($V$25:$V$15023=V566),$U$25:$U$15023)))","v":""},"","","",null,"","","","","","","","","","","","","","","",null,null,"","","","","","","","","","","","","","","",null,"","","","","","","","","","","","","","",""]
[null,null,null,null,null,null,null,null,null,null,null,null,null,null,null,null,null,null,null,null,"","","",{"$f":"IF(U567=\"\",\"\",MEDIAN(IF(($U$25:$U$15023<>\"\")*($V$25:$V$15023=V567),$U$25:$U$15023)))","v":""},"","","",null,"","","","","","","","","","","","","","","",null,null,"","","","","","","","","","","","","","","",null,"","","","","","","","","","","","","","",""]
[null,null,null,null,null,null,null,null,null,null,null,null,null,null,null,null,null,null,null,null,"","","",{"$f":"IF(U568=\"\",\"\",MEDIAN(IF(($U$25:$U$15023<>\"\")*($V$25:$V$15023=V568),$U$25:$U$15023)))","v":""},"","","",null,"","","","","","","","","","","","","","","",null,null,"","","","","","","","","","","","","","","",null,"","","","","","","","","","","","","","",""]
[null,null,null,null,null,null,null,null,null,null,null,null,null,null,null,null,null,null,null,null,"","","",{"$f":"IF(U569=\"\",\"\",MEDIAN(IF(($U$25:$U$15023<>\"\")*($V$25:$V$15023=V569),$U$25:$U$15023)))","v":""},"","","",null,"","","","","","","","","","","","","","","",null,null,"","","","","","","","","","","","","","","",null,"","","","","","","","","","","","","","",""]
[null,null,null,null,null,null,null,null,null,null,null,null,null,null,null,null,null,null,null,null,"","","",{"$f":"IF(U570=\"\",\"\",MEDIAN(IF(($U$25:$U$15023<>\"\")*($V$25:$V$15023=V570),$U$25:$U$15023)))","v":""},"","","",null,"","","","","","","","","","","","","","","",null,null,"","","","","","","","","","","","","","","",null,"","","","","","","","","","","","","","",""]
[null,null,null,null,null,null,null,null,null,null,null,null,null,null,null,null,null,null,null,null,"","","",{"$f":"IF(U571=\"\",\"\",MEDIAN(IF(($U$25:$U$15023<>\"\")*($V$25:$V$15023=V571),$U$25:$U$15023)))","v":""},"","","",null,"","","","","","","","","","","","","","","",null,null,"","","","","","","","","","","","","","","",null,"","","","","","","","","","","","","","",""]
[null,null,null,null,null,null,null,null,null,null,null,null,null,null,null,null,null,null,null,null,"","","",{"$f":"IF(U572=\"\",\"\",MEDIAN(IF(($U$25:$U$15023<>\"\")*($V$25:$V$15023=V572),$U$25:$U$15023)))","v":""},"","","",null,"","","","","","","","","","","","","","","",null,null,"","","","","","","","","","","","","","","",null,"","","","","","","","","","","","","","",""]
[null,null,null,null,null,null,null,null,null,null,null,null,null,null,null,null,null,null,null,null,"","","",{"$f":"IF(U573=\"\",\"\",MEDIAN(IF(($U$25:$U$15023<>\"\")*($V$25:$V$15023=V573),$U$25:$U$15023)))","v":""},"","","",null,"","","","","","","","","","","","","","","",null,null,"","","","","","","","","","","","","","","",null,"","","","","","","","","","","","","","",""]
[null,null,null,null,null,null,null,null,null,null,null,null,null,null,null,null,null,null,null,null,"","","",{"$f":"IF(U574=\"\",\"\",MEDIAN(IF(($U$25:$U$15023<>\"\")*($V$25:$V$15023=V574),$U$25:$U$15023)))","v":""},"","","",null,"","","","","","","","","","","","","","","",null,null,"","","","","","","","","","","","","","","",null,"","","","","","","","","","","","","","",""]
[null,null,null,null,null,null,null,null,null,null,null,null,null,null,null,null,null,null,null,null,"","","",{"$f":"IF(U575=\"\",\"\",MEDIAN(IF(($U$25:$U$15023<>\"\")*($V$25:$V$15023=V575),$U$25:$U$15023)))","v":""},"","","",null,"","","","","","","","","","","","","","","",null,null,"","","","","","","","","","","","","","","",null,"","","","","","","","","","","","","","",""]
[null,null,null,null,null,null,null,null,null,null,null,null,null,null,null,null,null,null,null,null,"","","",{"$f":"IF(U576=\"\",\"\",MEDIAN(IF(($U$25:$U$15023<>\"\")*($V$25:$V$15023=V576),$U$25:$U$15023)))","v":""},"","","",null,"","","","","","","","","","","","","","","",null,null,"","","","","","","","","","","","","","","",null,"","","","","","","","","","","","","","",""]
[null,null,null,null,null,null,null,null,null,null,null,null,null,null,null,null,null,null,null,null,"","","",{"$f":"IF(U577=\"\",\"\",MEDIAN(IF(($U$25:$U$15023<>\"\")*($V$25:$V$15023=V577),$U$25:$U$15023)))","v":""},"","","",null,"","","","","","","","","","","","","","","",null,null,"","","","","","","","","","","","","","","",null,"","","","","","","","","","","","","","",""]
[null,null,null,null,null,null,null,null,null,null,null,null,null,null,null,null,null,null,null,null,"","","",{"$f":"IF(U578=\"\",\"\",MEDIAN(IF(($U$25:$U$15023<>\"\")*($V$25:$V$15023=V578),$U$25:$U$15023)))","v":""},"","","",null,"","","","","","","","","","","","","","","",null,null,"","","","","","","","","","","","","","","",null,"","","","","","","","","","","","","","",""]
[null,null,null,null,null,null,null,null,null,null,null,null,null,null,null,null,null,null,null,null,"","","",{"$f":"IF(U579=\"\",\"\",MEDIAN(IF(($U$25:$U$15023<>\"\")*($V$25:$V$15023=V579),$U$25:$U$15023)))","v":""},"","","",null,"","","","","","","","","","","","","","","",null,null,"","","","","","","","","","","","","","","",null,"","","","","","","","","","","","","","",""]
[null,null,null,null,null,null,null,null,null,null,null,null,null,null,null,null,null,null,null,null,"","","",{"$f":"IF(U580=\"\",\"\",MEDIAN(IF(($U$25:$U$15023<>\"\")*($V$25:$V$15023=V580),$U$25:$U$15023)))","v":""},"","","",null,"","","","","","","","","","","","","","","",null,null,"","","","","","","","","","","","","","","",null,"","","","","","","","","","","","","","",""]
[null,null,null,null,null,null,null,null,null,null,null,null,null,null,null,null,null,null,null,null,"","","",{"$f":"IF(U581=\"\",\"\",MEDIAN(IF(($U$25:$U$15023<>\"\")*($V$25:$V$15023=V581),$U$25:$U$15023)))","v":""},"","","",null,"","","","","","","","","","","","","","","",null,null,"","","","","","","","","","","","","","","",null,"","","","","","","","","","","","","","",""]
[null,null,null,null,null,null,null,null,null,null,null,null,null,null,null,null,null,null,null,null,"","","",{"$f":"IF(U582=\"\",\"\",MEDIAN(IF(($U$25:$U$15023<>\"\")*($V$25:$V$15023=V582),$U$25:$U$15023)))","v":""},"","","",null,"","","","","","","","","","","","","","","",null,null,"","","","","","","","","","","","","","","",null,"","","","","","","","","","","","","","",""]
[null,null,null,null,null,null,null,null,null,null,null,null,null,null,null,null,null,null,null,null,"","","",{"$f":"IF(U583=\"\",\"\",MEDIAN(IF(($U$25:$U$15023<>\"\")*($V$25:$V$15023=V583),$U$25:$U$15023)))","v":""},"","","",null,"","","","","","","","","","","","","","","",null,null,"","","","","","","","","","","","","","","",null,"","","","","","","","","","","","","","",""]
[null,null,null,null,null,null,null,null,null,null,null,null,null,null,null,null,null,null,null,null,"","","",{"$f":"IF(U584=\"\",\"\",MEDIAN(IF(($U$25:$U$15023<>\"\")*($V$25:$V$15023=V584),$U$25:$U$15023)))","v":""},"","","",null,"","","","","","","","","","","","","","","",null,null,"","","","","","","","","","","","","","","",null,"","","","","","","","","","","","","","",""]
[null,null,null,null,null,null,null,null,null,null,null,null,null,null,null,null,null,null,null,null,"","","",{"$f":"IF(U585=\"\",\"\",MEDIAN(IF(($U$25:$U$15023<>\"\")*($V$25:$V$15023=V585),$U$25:$U$15023)))","v":""},"","","",null,"","","","","","","","","","","","","","","",null,null,"","","","","","","","","","","","","","","",null,"","","","","","","","","","","","","","",""]
[null,null,null,null,null,null,null,null,null,null,null,null,null,null,null,null,null,null,null,null,"","","",{"$f":"IF(U586=\"\",\"\",MEDIAN(IF(($U$25:$U$15023<>\"\")*($V$25:$V$15023=V586),$U$25:$U$15023)))","v":""},"","","",null,"","","","","","","","","","","","","","","",null,null,"","","","","","","","","","","","","","","",null,"","","","","","","","","","","","","","",""]
[null,null,null,null,null,null,null,null,null,null,null,null,null,null,null,null,null,null,null,null,"","","",{"$f":"IF(U587=\"\",\"\",MEDIAN(IF(($U$25:$U$15023<>\"\")*($V$25:$V$15023=V587),$U$25:$U$15023)))","v":""},"","","",null,"","","","","","","","","","","","","","","",null,null,"","","","","","","","","","","","","","","",null,"","","","","","","","","","","","","","",""]
[null,null,null,null,null,null,null,null,null,null,null,null,null,null,null,null,null,null,null,null,"","","",{"$f":"IF(U588=\"\",\"\",MEDIAN(IF(($U$25:$U$15023<>\"\")*($V$25:$V$15023=V588),$U$25:$U$15023)))","v":""},"","","",null,"","","","","","","","","","","","","","","",null,null,"","","","","","","","","","","","","","","",null,"","","","","","","","","","","","","","",""]
[null,null,null,null,null,null,null,null,null,null,null,null,null,null,null,null,null,null,null,null,"","","",{"$f":"IF(U589=\"\",\"\",MEDIAN(IF(($U$25:$U$15023<>\"\")*($V$25:$V$15023=V589),$U$25:$U$15023)))","v":""},"","","",null,"","","","","","","","","","","","","","","",null,null,"","","","","","","","","","","","","","","",null,"","","","","","","","","","","","","","",""]
[null,null,null,null,null,null,null,null,null,null,null,null,null,null,null,null,null,null,null,null,"","","",{"$f":"IF(U590=\"\",\"\",MEDIAN(IF(($U$25:$U$15023<>\"\")*($V$25:$V$15023=V590),$U$25:$U$15023)))","v":""},"","","",null,"","","","","","","","","","","","","","","",null,null,"","","","","","","","","","","","","","","",null,"","","","","","","","","","","","","","",""]
[null,null,null,null,null,null,null,null,null,null,null,null,null,null,null,null,null,null,null,null,"","","",{"$f":"IF(U591=\"\",\"\",MEDIAN(IF(($U$25:$U$15023<>\"\")*($V$25:$V$15023=V591),$U$25:$U$15023)))","v":""},"","","",null,"","","","","","","","","","","","","","","",null,null,"","","","","","","","","","","","","","","",null,"","","","","","","","","","","","","","",""]
[null,null,null,null,null,null,null,null,null,null,null,null,null,null,null,null,null,null,null,null,"","","",{"$f":"IF(U592=\"\",\"\",MEDIAN(IF(($U$25:$U$15023<>\"\")*($V$25:$V$15023=V592),$U$25:$U$15023)))","v":""},"","","",null,"","","","","","","","","","","","","","","",null,null,"","","","","","","","","","","","","","","",null,"","","","","","","","","","","","","","",""]
[null,null,null,null,null,null,null,null,null,null,null,null,null,null,null,null,null,null,null,null,"","","",{"$f":"IF(U593=\"\",\"\",MEDIAN(IF(($U$25:$U$15023<>\"\")*($V$25:$V$15023=V593),$U$25:$U$15023)))","v":""},"","","",null,"","","","","","","","","","","","","","","",null,null,"","","","","","","","","","","","","","","",null,"","","","","","","","","","","","","","",""]
[null,null,null,null,null,null,null,null,null,null,null,null,null,null,null,null,null,null,null,null,"","","",{"$f":"IF(U594=\"\",\"\",MEDIAN(IF(($U$25:$U$15023<>\"\")*($V$25:$V$15023=V594),$U$25:$U$15023)))","v":""},"","","",null,"","","","","","","","","","","","","","","",null,null,"","","","","","","","","","","","","","","",null,"","","","","","","","","","","","","","",""]
[null,null,null,null,null,null,null,null,null,null,null,null,null,null,null,null,null,null,null,null,"","","",{"$f":"IF(U595=\"\",\"\",MEDIAN(IF(($U$25:$U$15023<>\"\")*($V$25:$V$15023=V595),$U$25:$U$15023)))","v":""},"","","",null,"","","","","","","","","","","","","","","",null,null,"","","","","","","","","","","","","","","",null,"","","","","","","","","","","","","","",""]
[null,null,null,null,null,null,null,null,null,null,null,null,null,null,null,null,null,null,null,null,"","","",{"$f":"IF(U596=\"\",\"\",MEDIAN(IF(($U$25:$U$15023<>\"\")*($V$25:$V$15023=V596),$U$25:$U$15023)))","v":""},"","","",null,"","","","","","","","","","","","","","","",null,null,"","","","","","","","","","","","","","","",null,"","","","","","","","","","","","","","",""]
[null,null,null,null,null,null,null,null,null,null,null,null,null,null,null,null,null,null,null,null,"","","",{"$f":"IF(U597=\"\",\"\",MEDIAN(IF(($U$25:$U$15023<>\"\")*($V$25:$V$15023=V597),$U$25:$U$15023)))","v":""},"","","",null,"","","","","","","","","","","","","","","",null,null,"","","","","","","","","","","","","","","",null,"","","","","","","","","","","","","","",""]
[null,null,null,null,null,null,null,null,null,null,null,null,null,null,null,null,null,null,null,null,"","","",{"$f":"IF(U598=\"\",\"\",MEDIAN(IF(($U$25:$U$15023<>\"\")*($V$25:$V$15023=V598),$U$25:$U$15023)))","v":""},"","","",null,"","","","","","","","","","","","","","","",null,null,"","","","","","","","","","","","","","","",null,"","","","","","","","","","","","","","",""]
[null,null,null,null,null,null,null,null,null,null,null,null,null,null,null,null,null,null,null,null,"","","",{"$f":"IF(U599=\"\",\"\",MEDIAN(IF(($U$25:$U$15023<>\"\")*($V$25:$V$15023=V599),$U$25:$U$15023)))","v":""},"","","",null,"","","","","","","","","","","","","","","",null,null,"","","","","","","","","","","","","","","",null,"","","","","","","","","","","","","","",""]
[null,null,null,null,null,null,null,null,null,null,null,null,null,null,null,null,null,null,null,null,"","","",{"$f":"IF(U600=\"\",\"\",MEDIAN(IF(($U$25:$U$15023<>\"\")*($V$25:$V$15023=V600),$U$25:$U$15023)))","v":""},"","","",null,"","","","","","","","","","","","","","","",null,null,"","","","","","","","","","","","","","","",null,"","","","","","","","","","","","","","",""]
[null,null,null,null,null,null,null,null,null,null,null,null,null,null,null,null,null,null,null,null,"","","",{"$f":"IF(U601=\"\",\"\",MEDIAN(IF(($U$25:$U$15023<>\"\")*($V$25:$V$15023=V601),$U$25:$U$15023)))","v":""},"","","",null,"","","","","","","","","","","","","","","",null,null,"","","","","","","","","","","","","","","",null,"","","","","","","","","","","","","","",""]
[null,null,null,null,null,null,null,null,null,null,null,null,null,null,null,null,null,null,null,null,{"$f":"IF(A602=\"\",\"\",A602)","v":""},{"$f":"IF(B602=\"\",\"\",B602)","v":""},{"$f":"IF(U602=\"\",\"\",RANK(U602,$U$25:$U$15023,1)+(COUNT($U$25:$U$15023)+1-RANK(U602,$U$25:$U$15023,0)-RANK(U602,$U$25:$U$15023,1))/2)","v":""},{"$f":"IF(U602=\"\",\"\",MEDIAN(IF(($U$25:$U$15023<>\"\")*($V$25:$V$15023=V602),$U$25:$U$15023)))","v":""},{"$f":"IF(U602=\"\",\"\",ABS(X602-U602))","v":""},{"$f":"IF(V602=\"\",\"\",AVERAGEIF($V$25:$V$15023,V602,$Y$25:$Y$15023))","v":""},{"$f":"IF(V602=\"\",\"\",(Y602-Z602)^2)","v":""},null,"","","","","","","","","","","","","","","",null,null,{"$f":"IF(D602=\"\",\"\",ABS(D602-MEDIAN(D$25:D$1024)))","v":""},{"$f":"IF(E602=\"\",\"\",ABS(E602-MEDIAN(E$25:E$1024)))","v":""},{"$f":"IF(F602=\"\",\"\",ABS(F602-MEDIAN(F$25:F$1024)))","v":""},{"$f":"IF(G602=\"\",\"\",ABS(G602-MEDIAN(G$25:G$1024)))","v":""},{"$f":"IF(H602=\"\",\"\",ABS(H602-MEDIAN(H$25:H$1024)))","v":""},{"$f":"IF(I602=\"\",\"\",ABS(I602-MEDIAN(I$25:I$1024)))","v":""},{"$f":"IF(J602=\"\",\"\",ABS(J602-MEDIAN(J$25:J$1024)))","v":""},{"$f":"IF(K602=\"\",\"\",ABS(K602-MEDIAN(K$25:K$1024)))","v":""},{"$f":"IF(L602=\"\",\"\",ABS(L602-MEDIAN(L$25:L$1024)))","v":""},{"$f":"IF(M602=\"\",\"\",ABS(M602-MEDIAN(M$25:M$1024)))","v":""},{"$f":"IF(N602=\"\",\"\",ABS(N602-MEDIAN(N$25:N$1024)))","v":""},{"$f":"IF(O602=\"\",\"\",ABS(O602-MEDIAN(O$25:O$1024)))","v":""},{"$f":"IF(P602=\"\",\"\",ABS(P602-MEDIAN(P$25:P$1024)))","v":""},{"$f":"IF(Q602=\"\",\"\",ABS(Q602-MEDIAN(Q$25:Q$1024)))","v":""},{"$f":"IF(R602=\"\",\"\",ABS(R602-MEDIAN(R$25:R$1024)))","v":""},null,{"$f":"IF(AT602=\"\",\"\",(AT602-AT$22)^2)","v":""},{"$f":"IF(AU602=\"\",\"\",(AU602-AU$22)^2)","v":""},{"$f":"IF(AV602=\"\",\"\",(AV602-AV$22)^2)","v":""},{"$f":"IF(AW602=\"\",\"\",(AW602-AW$22)^2)","v":""},{"$f":"IF(AX602=\"\",\"\",(AX602-AX$22)^2)","v":""},{"$f":"IF(AY602=\"\",\"\",(AY602-AY$22)^2)","v":""},{"$f":"IF(AZ602=\"\",\"\",(AZ602-AZ$22)^2)","v":""},{"$f":"IF(BA602=\"\",\"\",(BA602-BA$22)^2)","v":""},{"$f":"IF(BB602=\"\",\"\",(BB602-BB$22)^2)","v":""},{"$f":"IF(BC602=\"\",\"\",(BC602-BC$22)^2)","v":""},{"$f":"IF(BD602=\"\",\"\",(BD602-BD$22)^2)","v":""},{"$f":"IF(BE602=\"\",\"\",(BE602-BE$22)^2)","v":""},{"$f":"IF(BF602=\"\",\"\",(BF602-BF$22)^2)","v":""},{"$f":"IF(BG602=\"\",\"\",(BG602-BG$22)^2)","v":""},{"$f":"IF(BH602=\"\",\"\",(BH602-BH$22)^2)","v":""}]
[null,null,null,null,null,null,null,null,null,null,null,null,null,null,null,null,null,null,null,null,"","","",{"$f":"IF(U603=\"\",\"\",MEDIAN(IF(($U$25:$U$15023<>\"\")*($V$25:$V$15023=V603),$U$25:$U$15023)))","v":""},"","","",null,"","","","","","","","","","","","","","","",null,null,"","","","","","","","","","","","","","","",null,"","","","","","","","","","","","","","",""]
[null,null,null,null,null,null,null,null,null,null,null,null,null,null,null,null,null,null,null,null,"","","",{"$f":"IF(U604=\"\",\"\",MEDIAN(IF(($U$25:$U$15023<>\"\")*($V$25:$V$15023=V604),$U$25:$U$15023)))","v":""},"","","",null,"","","","","","","","","","","","","","","",null,null,"","","","","","","","","","","","","","","",null,"","","","","","","","","","","","","","",""]
[null,null,null,null,null,null,null,null,null,null,null,null,null,null,null,null,null,null,null,null,"","","",{"$f":"IF(U605=\"\",\"\",MEDIAN(IF(($U$25:$U$15023<>\"\")*($V$25:$V$15023=V605),$U$25:$U$15023)))","v":""},"","","",null,"","","","","","","","","","","","","","","",null,null,"","","","","","","","","","","","","","","",null,"","","","","","","","","","","","","","",""]
[null,null,null,null,null,null,null,null,null,null,null,null,null,null,null,null,null,null,null,null,"","","",{"$f":"IF(U606=\"\",\"\",MEDIAN(IF(($U$25:$U$15023<>\"\")*($V$25:$V$15023=V606),$U$25:$U$15023)))","v":""},"","","",null,"","","","","","","","","","","","","","","",null,null,"","","","","","","","","","","","","","","",null,"","","","","","","","","","","","","","",""]
[null,null,null,null,null,null,null,null,null,null,null,null,null,null,null,null,null,null,null,null,"","","",{"$f":"IF(U607=\"\",\"\",MEDIAN(IF(($U$25:$U$15023<>\"\")*($V$25:$V$15023=V607),$U$25:$U$15023)))","v":""},"","","",null,"","","","","","","","","","","","","","","",null,null,"","","","","","","","","","","","","","","",null,"","","","","","","","","","","","","","",""]
[null,null,null,null,null,null,null,null,null,null,null,null,null,null,null,null,null,null,null,null,"","","",{"$f":"IF(U608=\"\",\"\",MEDIAN(IF(($U$25:$U$15023<>\"\")*($V$25:$V$15023=V608),$U$25:$U$15023)))","v":""},"","","",null,"","","","","","","","","","","","","","","",null,null,"","","","","","","","","","","","","","","",null,"","","","","","","","","","","","","","",""]
[null,null,null,null,null,null,null,null,null,null,null,null,null,null,null,null,null,null,null,null,"","","",{"$f":"IF(U609=\"\",\"\",MEDIAN(IF(($U$25:$U$15023<>\"\")*($V$25:$V$15023=V609),$U$25:$U$15023)))","v":""},"","","",null,{"$f":"IF(D609=\"\",\"\",RANK(D609,$D$25:$R$1024,1)+(COUNT($D$25:$R$1024)+1-RANK(D609,$D$25:$R$1024,0)-RANK(D609,$D$25:$R$1024,1))/2)","v":""},{"$f":"IF(E609=\"\",\"\",RANK(E609,$D$25:$R$1024,1)+(COUNT($D$25:$R$1024)+1-RANK(E609,$D$25:$R$1024,0)-RANK(E609,$D$25:$R$1024,1))/2)","v":""},{"$f":"IF(F609=\"\",\"\",RANK(F609,$D$25:$R$1024,1)+(COUNT($D$25:$R$1024)+1-RANK(F609,$D$25:$R$1024,0)-RANK(F609,$D$25:$R$1024,1))/2)","v":""},{"$f":"IF(G609=\"\",\"\",RANK(G609,$D$25:$R$1024,1)+(COUNT($D$25:$R$1024)+1-RANK(G609,$D$25:$R$1024,0)-RANK(G609,$D$25:$R$1024,1))/2)","v":""},{"$f":"IF(H609=\"\",\"\",RANK(H609,$D$25:$R$1024,1)+(COUNT($D$25:$R$1024)+1-RANK(H609,$D$25:$R$1024,0)-RANK(H609,$D$25:$R$1024,1))/2)","v":""},{"$f":"IF(I609=\"\",\"\",RANK(I609,$D$25:$R$1024,1)+(COUNT($D$25:$R$1024)+1-RANK(I609,$D$25:$R$1024,0)-RANK(I609,$D$25:$R$1024,1))/2)","v":""},{"$f":"IF(J609=\"\",\"\",RANK(J609,$D$25:$R$1024,1)+(COUNT($D$25:$R$1024)+1-RANK(J609,$D$25:$R$1024,0)-RANK(J609,$D$25:$R$1024,1))/2)","v":""},{"$f":"IF(K609=\"\",\"\",RANK(K609,$D$25:$R$1024,1)+(COUNT($D$25:$R$1024)+1-RANK(K609,$D$25:$R$1024,0)-RANK(K609,$D$25:$R$1024,1))/2)","v":""},{"$f":"IF(L609=\"\",\"\",RANK(L609,$D$25:$R$1024,1)+(COUNT($D$25:$R$1024)+1-RANK(L609,$D$25:$R$1024,0)-RANK(L609,$D$25:$R$1024,1))/2)","v":""},{"$f":"IF(M609=\"\",\"\",RANK(M609,$D$25:$R$1024,1)+(COUNT($D$25:$R$1024)+1-RANK(M609,$D$25:$R$1024,0)-RANK(M609,$D$25:$R$1024,1))/2)","v":""},{"$f":"IF(N609=\"\",\"\",RANK(N609,$D$25:$R$1024,1)+(COUNT($D$25:$R$1024)+1-RANK(N609,$D$25:$R$1024,0)-RANK(N609,$D$25:$R$1024,1))/2)","v":""},{"$f":"IF(O609=\"\",\"\",RANK(O609,$D$25:$R$1024,1)+(COUNT($D$25:$R$1024)+1-RANK(O609,$D$25:$R$1024,0)-RANK(O609,$D$25:$R$1024,1))/2)","v":""},{"$f":"IF(P609=\"\",\"\",RANK(P609,$D$25:$R$1024,1)+(COUNT($D$25:$R$1024)+1-RANK(P609,$D$25:$R$1024,0)-RANK(P609,$D$25:$R$1024,1))/2)","v":""},{"$f":"IF(Q609=\"\",\"\",RANK(Q609,$D$25:$R$1024,1)+(COUNT($D$25:$R$1024)+1-RANK(Q609,$D$25:$R$1024,0)-RANK(Q609,$D$25:$R$1024,1))/2)","v":""},{"$f":"IF(R609=\"\",\"\",RANK(R609,$D$25:$R$1024,1)+(COUNT($D$25:$R$1024)+1-RANK(R609,$D$25:$R$1024,0)-RANK(R609,$D$25:$R$1024,1))/2)","v":""},null,null,"","","","","","","","","","","","","","","",null,"","","","","","","","","","","","","","",""]
[null,null,null,null,null,null,null,null,null,null,null,null,null,null,null,null,null,null,null,null,"","","",{"$f":"IF(U610=\"\",\"\",MEDIAN(IF(($U$25:$U$15023<>\"\")*($V$25:$V$15023=V610),$U$25:$U$15023)))","v":""},"","","",null,"","","","","","","","","","","","","","","",null,null,"","","","","","","","","","","","","","","",null,"","","","","","","","","","","","","","",""]
[null,null,null,null,null,null,null,null,null,null,null,null,null,null,null,null,null,null,null,null,"","","",{"$f":"IF(U611=\"\",\"\",MEDIAN(IF(($U$25:$U$15023<>\"\")*($V$25:$V$15023=V611),$U$25:$U$15023)))","v":""},"","","",null,"","","","","","","","","","","","","","","",null,null,"","","","","","","","","","","","","","","",null,"","","","","","","","","","","","","","",""]
[null,null,null,null,null,null,null,null,null,null,null,null,null,null,null,null,null,null,null,null,"","","",{"$f":"IF(U612=\"\",\"\",MEDIAN(IF(($U$25:$U$15023<>\"\")*($V$25:$V$15023=V612),$U$25:$U$15023)))","v":""},"","","",null,"","","","","","","","","","","","","","","",null,null,"","","","","","","","","","","","","","","",null,"","","","","","","","","","","","","","",""]
[null,null,null,null,null,null,null,null,null,null,null,null,null,null,null,null,null,null,null,null,"","","",{"$f":"IF(U613=\"\",\"\",MEDIAN(IF(($U$25:$U$15023<>\"\")*($V$25:$V$15023=V613),$U$25:$U$15023)))","v":""},"","","",null,"","","","","","","","","","","","","","","",null,null,"","","","","","","","","","","","","","","",null,"","","","","","","","","","","","","","",""]
[null,null,null,null,null,null,null,null,null,null,null,null,null,null,null,null,null,null,null,null,"","","",{"$f":"IF(U614=\"\",\"\",MEDIAN(IF(($U$25:$U$15023<>\"\")*($V$25:$V$15023=V614),$U$25:$U$15023)))","v":""},"","","",null,"","","","","","","","","","","","","","","",null,null,"","","","","","","","","","","","","","","",null,"","","","","","","","","","","","","","",""]
[null,null,null,null,null,null,null,null,null,null,null,null,null,null,null,null,null,null,null,null,"","","",{"$f":"IF(U615=\"\",\"\",MEDIAN(IF(($U$25:$U$15023<>\"\")*($V$25:$V$15023=V615),$U$25:$U$15023)))","v":""},"","","",null,"","","","","","","","","","","","","","","",null,null,"","","","","","","","","","","","","","","",null,"","","","","","","","","","","","","","",""]
[null,null,null,null,null,null,null,null,null,null,null,null,null,null,null,null,null,null,null,null,"","","",{"$f":"IF(U616=\"\",\"\",MEDIAN(IF(($U$25:$U$15023<>\"\")*($V$25:$V$15023=V616),$U$25:$U$15023)))","v":""},"","","",null,"","","","","","","","","","","","","","","",null,null,"","","","","","","","","","","","","","","",null,"","","","","","","","","","","","","","",""]
[null,null,null,null,null,null,null,null,null,null,null,null,null,null,null,null,null,null,null,null,"","","",{"$f":"IF(U617=\"\",\"\",MEDIAN(IF(($U$25:$U$15023<>\"\")*($V$25:$V$15023=V617),$U$25:$U$15023)))","v":""},"","","",null,"","","","","","","","","","","","","","","",null,null,"","","","","","","","","","","","","","","",null,"","","","","","","","","","","","","","",""]
[null,null,null,null,null,null,null,null,null,null,null,null,null,null,null,null,null,null,null,null,"","","",{"$f":"IF(U618=\"\",\"\",MEDIAN(IF(($U$25:$U$15023<>\"\")*($V$25:$V$15023=V618),$U$25:$U$15023)))","v":""},"","","",null,"","","","","","","","","","","","","","","",null,null,"","","","","","","","","","","","","","","",null,"","","","","","","","","","","","","","",""]
[null,null,null,null,null,null,null,null,null,null,null,null,null,null,null,null,null,null,null,null,"","","",{"$f":"IF(U619=\"\",\"\",MEDIAN(IF(($U$25:$U$15023<>\"\")*($V$25:$V$15023=V619),$U$25:$U$15023)))","v":""},"","","",null,"","","","","","","","","","","","","","","",null,null,"","","","","","","","","","","","","","","",null,"","","","","","","","","","","","","","",""]
[null,null,null,null,null,null,null,null,null,null,null,null,null,null,null,null,null,null,null,null,"","","",{"$f":"IF(U620=\"\",\"\",MEDIAN(IF(($U$25:$U$15023<>\"\")*($V$25:$V$15023=V620),$U$25:$U$15023)))","v":""},"","","",null,"","","","","","","","","","","","","","","",null,null,"","","","","","","","","","","","","","","",null,"","","","","","","","","","","","","","",""]
[null,null,null,null,null,null,null,null,null,null,null,null,null,null,null,null,null,null,null,null,"","","",{"$f":"IF(U621=\"\",\"\",MEDIAN(IF(($U$25:$U$15023<>\"\")*($V$25:$V$15023=V621),$U$25:$U$15023)))","v":""},"","","",null,"","","","","","","","","","","","","","","",null,null,"","","","","","","","","","","","","","","",null,"","","","","","","","","","","","","","",""]
[null,null,null,null,null,null,null,null,null,null,null,null,null,null,null,null,null,null,null,null,"","","",{"$f":"IF(U622=\"\",\"\",MEDIAN(IF(($U$25:$U$15023<>\"\")*($V$25:$V$15023=V622),$U$25:$U$15023)))","v":""},"","","",null,"","","","","","","","","","","","","","","",null,null,"","","","","","","","","","","","","","","",null,"","","","","","","","","","","","","","",""]
[null,null,null,null,null,null,null,null,null,null,null,null,null,null,null,null,null,null,null,null,"","","",{"$f":"IF(U623=\"\",\"\",MEDIAN(IF(($U$25:$U$15023<>\"\")*($V$25:$V$15023=V623),$U$25:$U$15023)))","v":""},"","","",null,"","","","","","","","","","","","","","","",null,null,"","","","","","","","","","","","","","","",null,"","","","","","","","","","","","","","",""]
[null,null,null,null,null,null,null,null,null,null,null,null,null,null,null,null,null,null,null,null,"","","",{"$f":"IF(U624=\"\",\"\",MEDIAN(IF(($U$25:$U$15023<>\"\")*($V$25:$V$15023=V624),$U$25:$U$15023)))","v":""},"","","",null,"","","","","","","","","","","","","","","",null,null,"","","","","","","","","","","","","","","",null,"","","","","","","","","","","","","","",""]
[null,null,null,null,null,null,null,null,null,null,null,null,null,null,null,null,null,null,null,null,"","","",{"$f":"IF(U625=\"\",\"\",MEDIAN(IF(($U$25:$U$15023<>\"\")*($V$25:$V$15023=V625),$U$25:$U$15023)))","v":""},"","","",null,"","","","","","","","","","","","","","","",null,null,"","","","","","","","","","","","","","","",null,"","","","","","","","","","","","","","",""]
[null,null,null,null,null,null,null,null,null,null,null,null,null,null,null,null,null,null,null,null,"","","",{"$f":"IF(U626=\"\",\"\",MEDIAN(IF(($U$25:$U$15023<>\"\")*($V$25:$V$15023=V626),$U$25:$U$15023)))","v":""},"","","",null,"","","","","","","","","","","","","","","",null,null,"","","","","","","","","","","","","","","",null,"","","","","","","","","","","","","","",""]
[null,null,null,null,null,null,null,null,null,null,null,null,null,null,null,null,null,null,null,null,"","","",{"$f":"IF(U627=\"\",\"\",MEDIAN(IF(($U$25:$U$15023<>\"\")*($V$25:$V$15023=V627),$U$25:$U$15023)))","v":""},"","","",null,"","","","","","","","","","","","","","","",null,null,"","","","","","","","","","","","","","","",null,"","","","","","","","","","","","","","",""]
[null,null,null,null,null,null,null,null,null,null,null,null,null,null,null,null,null,null,null,null,"","","",{"$f":"IF(U628=\"\",\"\",MEDIAN(IF(($U$25:$U$15023<>\"\")*($V$25:$V$15023=V628),$U$25:$U$15023)))","v":""},"","","",null,"","","","","","","","","","","","","","","",null,null,"","","","","","","","","","","","","","","",null,"","","","","","","","","","","","","","",""]
[null,null,null,null,null,null,null,null,null,null,null,null,null,null,null,null,null,null,null,null,"","","",{"$f":"IF(U629=\"\",\"\",MEDIAN(IF(($U$25:$U$15023<>\"\")*($V$25:$V$15023=V629),$U$25:$U$15023)))","v":""},"","","",null,"","","","","","","","","","","","","","","",null,null,"","","","","","","","","","","","","","","",null,"","","","","","","","","","","","","","",""]
[null,null,null,null,null,null,null,null,null,null,null,null,null,null,null,null,null,null,null,null,"","","",{"$f":"IF(U630=\"\",\"\",MEDIAN(IF(($U$25:$U$15023<>\"\")*($V$25:$V$15023=V630),$U$25:$U$15023)))","v":""},"","","",null,"","","","","","","","","","","","","","","",null,null,"","","","","","","","","","","","","","","",null,"","","","","","","","","","","","","","",""]
[null,null,null,null,null,null,null,null,null,null,null,null,null,null,null,null,null,null,null,null,"","","",{"$f":"IF(U631=\"\",\"\",MEDIAN(IF(($U$25:$U$15023<>\"\")*($V$25:$V$15023=V631),$U$25:$U$15023)))","v":""},"","","",null,"","","","","","","","","","","","","","","",null,null,"","","","","","","","","","","","","","","",null,"","","","","","","","","","","","","","",""]
[null,null,null,null,null,null,null,null,null,null,null,null,null,null,null,null,null,null,null,null,"","","",{"$f":"IF(U632=\"\",\"\",MEDIAN(IF(($U$25:$U$15023<>\"\")*($V$25:$V$15023=V632),$U$25:$U$15023)))","v":""},"","","",null,"","","","","","","","","","","","","","","",null,null,"","","","","","","","","","","","","","","",null,"","","","","","","","","","","","","","",""]
[null,null,null,null,null,null,null,null,null,null,null,null,null,null,null,null,null,null,null,null,"","","",{"$f":"IF(U633=\"\",\"\",MEDIAN(IF(($U$25:$U$15023<>\"\")*($V$25:$V$15023=V633),$U$25:$U$15023)))","v":""},"","","",null,"","","","","","","","","","","","","","","",null,null,"","","","","","","","","","","","","","","",null,"","","","","","","","","","","","","","",""]
[null,null,null,null,null,null,null,null,null,null,null,null,null,null,null,null,null,null,null,null,"","","",{"$f":"IF(U634=\"\",\"\",MEDIAN(IF(($U$25:$U$15023<>\"\")*($V$25:$V$15023=V634),$U$25:$U$15023)))","v":""},"","","",null,"","","","","","","","","","","","","","","",null,null,"","","","","","","","","","","","","","","",null,"","","","","","","","","","","","","","",""]
[null,null,null,null,null,null,null,null,null,null,null,null,null,null,null,null,null,null,null,null,"","","",{"$f":"IF(U635=\"\",\"\",MEDIAN(IF(($U$25:$U$15023<>\"\")*($V$25:$V$15023=V635),$U$25:$U$15023)))","v":""},"","","",null,"","","","","","","","","","","","","","","",null,null,"","","","","","","","","","","","","","","",null,"","","","","","","","","","","","","","",""]
[null,null,null,null,null,null,null,null,null,null,null,null,null,null,null,null,null,null,null,null,"","","",{"$f":"IF(U636=\"\",\"\",MEDIAN(IF(($U$25:$U$15023<>\"\")*($V$25:$V$15023=V636),$U$25:$U$15023)))","v":""},"","","",null,"","","","","","","","","","","","","","","",null,null,"","","","","","","","","","","","","","","",null,"","","","","","","","","","","","","","",""]
[null,null,null,null,null,null,null,null,null,null,null,null,null,null,null,null,null,null,null,null,"","","",{"$f":"IF(U637=\"\",\"\",MEDIAN(IF(($U$25:$U$15023<>\"\")*($V$25:$V$15023=V637),$U$25:$U$15023)))","v":""},"","","",null,"","","","","","","","","","","","","","","",null,null,"","","","","","","","","","","","","","","",null,"","","","","","","","","","","","","","",""]
[null,null,null,null,null,null,null,null,null,null,null,null,null,null,null,null,null,null,null,null,"","","",{"$f":"IF(U638=\"\",\"\",MEDIAN(IF(($U$25:$U$15023<>\"\")*($V$25:$V$15023=V638),$U$25:$U$15023)))","v":""},"","","",null,"","","","","","","","","","","","","","","",null,null,"","","","","","","","","","","","","","","",null,"","","","","","","","","","","","","","",""]
[null,null,null,null,null,null,null,null,null,null,null,null,null,null,null,null,null,null,null,null,"","","",{"$f":"IF(U639=\"\",\"\",MEDIAN(IF(($U$25:$U$15023<>\"\")*($V$25:$V$15023=V639),$U$25:$U$15023)))","v":""},"","","",null,"","","","","","","","","","","","","","","",null,null,"","","","","","","","","","","","","","","",null,"","","","","","","","","","","","","","",""]
[null,null,null,null,null,null,null,null,null,null,null,null,null,null,null,null,null,null,null,null,"","","",{"$f":"IF(U640=\"\",\"\",MEDIAN(IF(($U$25:$U$15023<>\"\")*($V$25:$V$15023=V640),$U$25:$U$15023)))","v":""},"","","",null,"","","","","","","","","","","","","","","",null,null,"","","","","","","","","","","","","","","",null,"","","","","","","","","","","","","","",""]
[null,null,null,null,null,null,null,null,null,null,null,null,null,null,null,null,null,null,null,null,"","","",{"$f":"IF(U641=\"\",\"\",MEDIAN(IF(($U$25:$U$15023<>\"\")*($V$25:$V$15023=V641),$U$25:$U$15023)))","v":""},"","","",null,"","","","","","","","","","","","","","","",null,null,"","","","","","","","","","","","","","","",null,"","","","","","","","","","","","","","",""]
[null,null,null,null,null,null,null,null,null,null,null,null,null,null,null,null,null,null,null,null,"","","",{"$f":"IF(U642=\"\",\"\",MEDIAN(IF(($U$25:$U$15023<>\"\")*($V$25:$V$15023=V642),$U$25:$U$15023)))","v":""},"","","",null,"","","","","","","","","","","","","","","",null,null,"","","","","","","","","","","","","","","",null,"","","","","","","","","","","","","","",""]
[null,null,null,null,null,null,null,null,null,null,null,null,null,null,null,null,null,null,null,null,"","","",{"$f":"IF(U643=\"\",\"\",MEDIAN(IF(($U$25:$U$15023<>\"\")*($V$25:$V$15023=V643),$U$25:$U$15023)))","v":""},"","","",null,"","","","","","","","","","","","","","","",null,null,"","","","","","","","","","","","","","","",null,"","","","","","","","","","","","","","",""]
[null,null,null,null,null,null,null,null,null,null,null,null,null,null,null,null,null,null,null,null,"","","",{"$f":"IF(U644=\"\",\"\",MEDIAN(IF(($U$25:$U$15023<>\"\")*($V$25:$V$15023=V644),$U$25:$U$15023)))","v":""},"","","",null,"","","","","","","","","","","","","","","",null,null,"","","","","","","","","","","","","","","",null,"","","","","","","","","","","","","","",""]
[null,null,null,null,null,null,null,null,null,null,null,null,null,null,null,null,null,null,null,null,"","","",{"$f":"IF(U645=\"\",\"\",MEDIAN(IF(($U$25:$U$15023<>\"\")*($V$25:$V$15023=V645),$U$25:$U$15023)))","v":""},"","","",null,"","","","","","","","","","","","","","","",null,null,"","","","","","","","","","","","","","","",null,"","","","","","","","","","","","","","",""]
[null,null,null,null,null,null,null,null,null,null,null,null,null,null,null,null,null,null,null,null,"","","",{"$f":"IF(U646=\"\",\"\",MEDIAN(IF(($U$25:$U$15023<>\"\")*($V$25:$V$15023=V646),$U$25:$U$15023)))","v":""},"","","",null,"","","","","","","","","","","","","","","",null,null,"","","","","","","","","","","","","","","",null,"","","","","","","","","","","","","","",""]
[null,null,null,null,null,null,null,null,null,null,null,null,null,null,null,null,null,null,null,null,"","","",{"$f":"IF(U647=\"\",\"\",MEDIAN(IF(($U$25:$U$15023<>\"\")*($V$25:$V$15023=V647),$U$25:$U$15023)))","v":""},"","","",null,"","","","","","","","","","","","","","","",null,null,"","","","","","","","","","","","","","","",null,"","","","","","","","","","","","","","",""]
[null,null,null,null,null,null,null,null,null,null,null,null,null,null,null,null,null,null,null,null,"","","",{"$f":"IF(U648=\"\",\"\",MEDIAN(IF(($U$25:$U$15023<>\"\")*($V$25:$V$15023=V648),$U$25:$U$15023)))","v":""},"","","",null,"","","","","","","","","","","","","","","",null,null,"","","","","","","","","","","","","","","",null,"","","","","","","","","","","","","","",""]
[null,null,null,null,null,null,null,null,null,null,null,null,null,null,null,null,null,null,null,null,"","","",{"$f":"IF(U649=\"\",\"\",MEDIAN(IF(($U$25:$U$15023<>\"\")*($V$25:$V$15023=V649),$U$25:$U$15023)))","v":""},"","","",null,"","","","","","","","","","","","","","","",null,null,"","","","","","","","","","","","","","","",null,"","","","","","","","","","","","","","",""]
[null,null,null,null,null,null,null,null,null,null,null,null,null,null,null,null,null,null,null,null,"","","",{"$f":"IF(U650=\"\",\"\",MEDIAN(IF(($U$25:$U$15023<>\"\")*($V$25:$V$15023=V650),$U$25:$U$15023)))","v":""},"","","",null,"","","","","","","","","","","","","","","",null,null,"","","","","","","","","","","","","","","",null,"","","","","","","","","","","","","","",""]
[null,null,null,null,null,null,null,null,null,null,null,null,null,null,null,null,null,null,null,null,"","","",{"$f":"IF(U651=\"\",\"\",MEDIAN(IF(($U$25:$U$15023<>\"\")*($V$25:$V$15023=V651),$U$25:$U$15023)))","v":""},"","","",null,"","","","","","","","","","","","","","","",null,null,"","","","","","","","","","","","","","","",null,"","","","","","","","","","","","","","",""]
[null,null,null,null,null,null,null,null,null,null,null,null,null,null,null,null,null,null,null,null,"","","",{"$f":"IF(U652=\"\",\"\",MEDIAN(IF(($U$25:$U$15023<>\"\")*($V$25:$V$15023=V652),$U$25:$U$15023)))","v":""},"","","",null,"","","","","","","","","","","","","","","",null,null,"","","","","","","","","","","","","","","",null,"","","","","","","","","","","","","","",""]
[null,null,null,null,null,null,null,null,null,null,null,null,null,null,null,null,null,null,null,null,"","","",{"$f":"IF(U653=\"\",\"\",MEDIAN(IF(($U$25:$U$15023<>\"\")*($V$25:$V$15023=V653),$U$25:$U$15023)))","v":""},"","","",null,"","","","","","","","","","","","","","","",null,null,"","","","","","","","","","","","","","","",null,"","","","","","","","","","","","","","",""]
[null,null,null,null,null,null,null,null,null,null,null,null,null,null,null,null,null,null,null,null,"","","",{"$f":"IF(U654=\"\",\"\",MEDIAN(IF(($U$25:$U$15023<>\"\")*($V$25:$V$15023=V654),$U$25:$U$15023)))","v":""},"","","",null,"","","","","","","","","","","","","","","",null,null,"","","","","","","","","","","","","","","",null,"","","","","","","","","","","","","","",""]
[null,null,null,null,null,null,null,null,null,null,null,null,null,null,null,null,null,null,null,null,"","","",{"$f":"IF(U655=\"\",\"\",MEDIAN(IF(($U$25:$U$15023<>\"\")*($V$25:$V$15023=V655),$U$25:$U$15023)))","v":""},"","","",null,"","","","","","","","","","","","","","","",null,null,"","","","","","","","","","","","","","","",null,"","","","","","","","","","","","","","",""]
[null,null,null,null,null,null,null,null,null,null,null,null,null,null,null,null,null,null,null,null,"","","",{"$f":"IF(U656=\"\",\"\",MEDIAN(IF(($U$25:$U$15023<>\"\")*($V$25:$V$15023=V656),$U$25:$U$15023)))","v":""},"","","",null,"","","","","","","","","","","","","","","",null,null,"","","","","","","","","","","","","","","",null,"","","","","","","","","","","","","","",""]
[null,null,null,null,null,null,null,null,null,null,null,null,null,null,null,null,null,null,null,null,"","","",{"$f":"IF(U657=\"\",\"\",MEDIAN(IF(($U$25:$U$15023<>\"\")*($V$25:$V$15023=V657),$U$25:$U$15023)))","v":""},"","","",null,"","","","","","","","","","","","","","","",null,null,"","","","","","","","","","","","","","","",null,"","","","","","","","","","","","","","",""]
[null,null,null,null,null,null,null,null,null,null,null,null,null,null,null,null,null,null,null,null,"","","",{"$f":"IF(U658=\"\",\"\",MEDIAN(IF(($U$25:$U$15023<>\"\")*($V$25:$V$15023=V658),$U$25:$U$15023)))","v":""},"","","",null,"","","","","","","","","","","","","","","",null,null,"","","","","","","","","","","","","","","",null,"","","","","","","","","","","","","","",""]
[null,null,null,null,null,null,null,null,null,null,null,null,null,null,null,null,null,null,null,null,"","","",{"$f":"IF(U659=\"\",\"\",MEDIAN(IF(($U$25:$U$15023<>\"\")*($V$25:$V$15023=V659),$U$25:$U$15023)))","v":""},"","","",null,"","","","","","","","","","","","","","","",null,null,"","","","","","","","","","","","","","","",null,"","","","","","","","","","","","","","",""]
[null,null,null,null,null,null,null,null,null,null,null,null,null,null,null,null,null,null,null,null,"","","",{"$f":"IF(U660=\"\",\"\",MEDIAN(IF(($U$25:$U$15023<>\"\")*($V$25:$V$15023=V660),$U$25:$U$15023)))","v":""},"","","",null,"","","","","","","","","","","","","","","",null,null,"","","","","","","","","","","","","","","",null,"","","","","","","","","","","","","","",""]
[null,null,null,null,null,null,null,null,null,null,null,null,null,null,null,null,null,null,null,null,"","","",{"$f":"IF(U661=\"\",\"\",MEDIAN(IF(($U$25:$U$15023<>\"\")*($V$25:$V$15023=V661),$U$25:$U$15023)))","v":""},"","","",null,"","","","","","","","","","","","","","","",null,null,"","","","","","","","","","","","","","","",null,"","","","","","","","","","","","","","",""]
[null,null,null,null,null,null,null,null,null,null,null,null,null,null,null,null,null,null,null,null,"","","",{"$f":"IF(U662=\"\",\"\",MEDIAN(IF(($U$25:$U$15023<>\"\")*($V$25:$V$15023=V662),$U$25:$U$15023)))","v":""},"","","",null,"","","","","","","","","","","","","","","",null,null,"","","","","","","","","","","","","","","",null,"","","","","","","","","","","","","","",""]
[null,null,null,null,null,null,null,null,null,null,null,null,null,null,null,null,null,null,null,null,"","","",{"$f":"IF(U663=\"\",\"\",MEDIAN(IF(($U$25:$U$15023<>\"\")*($V$25:$V$15023=V663),$U$25:$U$15023)))","v":""},"","","",null,"","","","","","","","","","","","","","","",null,null,"","","","","","","","","","","","","","","",null,"","","","","","","","","","","","","","",""]
[null,null,null,null,null,null,null,null,null,null,null,null,null,null,null,null,null,null,null,null,"","","",{"$f":"IF(U664=\"\",\"\",MEDIAN(IF(($U$25:$U$15023<>\"\")*($V$25:$V$15023=V664),$U$25:$U$15023)))","v":""},"","","",null,"","","","","","","","","","","","","","","",null,null,"","","","","","","","","","","","","","","",null,"","","","","","","","","","","","","","",""]
[null,null,null,null,null,null,null,null,null,null,null,null,null,null,null,null,null,null,null,null,"","","",{"$f":"IF(U665=\"\",\"\",MEDIAN(IF(($U$25:$U$15023<>\"\")*($V$25:$V$15023=V665),$U$25:$U$15023)))","v":""},"","","",null,"","","","","","","","","","","","","","","",null,null,"","","","","","","","","","","","","","","",null,"","","","","","","","","","","","","","",""]
[null,null,null,null,null,null,null,null,null,null,null,null,null,null,null,null,null,null,null,null,{"$f":"IF(A666=\"\",\"\",A666)","v":""},{"$f":"IF(B666=\"\",\"\",B666)","v":""},{"$f":"IF(U666=\"\",\"\",RANK(U666,$U$25:$U$15023,1)+(COUNT($U$25:$U$15023)+1-RANK(U666,$U$25:$U$15023,0)-RANK(U666,$U$25:$U$15023,1))/2)","v":""},{"$f":"IF(U666=\"\",\"\",MEDIAN(IF(($U$25:$U$15023<>\"\")*($V$25:$V$15023=V666),$U$25:$U$15023)))","v":""},{"$f":"IF(U666=\"\",\"\",ABS(X666-U666))","v":""},{"$f":"IF(V666=\"\",\"\",AVERAGEIF($V$25:$V$15023,V666,$Y$25:$Y$15023))","v":""},{"$f":"IF(V666=\"\",\"\",(Y666-Z666)^2)","v":""},null,"","","","","","","","","","","","","","","",null,null,{"$f":"IF(D666=\"\",\"\",ABS(D666-MEDIAN(D$25:D$1024)))","v":""},{"$f":"IF(E666=\"\",\"\",ABS(E666-MEDIAN(E$25:E$1024)))","v":""},{"$f":"IF(F666=\"\",\"\",ABS(F666-MEDIAN(F$25:F$1024)))","v":""},{"$f":"IF(G666=\"\",\"\",ABS(G666-MEDIAN(G$25:G$1024)))","v":""},{"$f":"IF(H666=\"\",\"\",ABS(H666-MEDIAN(H$25:H$1024)))","v":""},{"$f":"IF(I666=\"\",\"\",ABS(I666-MEDIAN(I$25:I$1024)))","v":""},{"$f":"IF(J666=\"\",\"\",ABS(J666-MEDIAN(J$25:J$1024)))","v":""},{"$f":"IF(K666=\"\",\"\",ABS(K666-MEDIAN(K$25:K$1024)))","v":""},{"$f":"IF(L666=\"\",\"\",ABS(L666-MEDIAN(L$25:L$1024)))","v":""},{"$f":"IF(M666=\"\",\"\",ABS(M666-MEDIAN(M$25:M$1024)))","v":""},{"$f":"IF(N666=\"\",\"\",ABS(N666-MEDIAN(N$25:N$1024)))","v":""},{"$f":"IF(O666=\"\",\"\",ABS(O666-MEDIAN(O$25:O$1024)))","v":""},{"$f":"IF(P666=\"\",\"\",ABS(P666-MEDIAN(P$25:P$1024)))","v":""},{"$f":"IF(Q666=\"\",\"\",ABS(Q666-MEDIAN(Q$25:Q$1024)))","v":""},{"$f":"IF(R666=\"\",\"\",ABS(R666-MEDIAN(R$25:R$1024)))","v":""},null,{"$f":"IF(AT666=\"\",\"\",(AT666-AT$22)^2)","v":""},{"$f":"IF(AU666=\"\",\"\",(AU666-AU$22)^2)","v":""},{"$f":"IF(AV666=\"\",\"\",(AV666-AV$22)^2)","v":""},{"$f":"IF(AW666=\"\",\"\",(AW666-AW$22)^2)","v":""},{"$f":"IF(AX666=\"\",\"\",(AX666-AX$22)^2)","v":""},{"$f":"IF(AY666=\"\",\"\",(AY666-AY$22)^2)","v":""},{"$f":"IF(AZ666=\"\",\"\",(AZ666-AZ$22)^2)","v":""},{"$f":"IF(BA666=\"\",\"\",(BA666-BA$22)^2)","v":""},{"$f":"IF(BB666=\"\",\"\",(BB666-BB$22)^2)","v":""},{"$f":"IF(BC666=\"\",\"\",(BC666-BC$22)^2)","v":""},{"$f":"IF(BD666=\"\",\"\",(BD666-BD$22)^2)","v":""},{"$f":"IF(BE666=\"\",\"\",(BE666-BE$22)^2)","v":""},{"$f":"IF(BF666=\"\",\"\",(BF666-BF$22)^2)","v":""},{"$f":"IF(BG666=\"\",\"\",(BG666-BG$22)^2)","v":""},{"$f":"IF(BH666=\"\",\"\",(BH666-BH$22)^2)","v":""}]
[null,null,null,null,null,null,null,null,null,null,null,null,null,null,null,null,null,null,null,null,"","","",{"$f":"IF(U667=\"\",\"\",MEDIAN(IF(($U$25:$U$15023<>\"\")*($V$25:$V$15023=V667),$U$25:$U$15023)))","v":""},"","","",null,"","","","","","","","","","","","","","","",null,null,"","","","","","","","","","","","","","","",null,"","","","","","","","","","","","","","",""]
[null,null,null,null,null,null,null,null,null,null,null,null,null,null,null,null,null,null,null,null,"","","",{"$f":"IF(U668=\"\",\"\",MEDIAN(IF(($U$25:$U$15023<>\"\")*($V$25:$V$15023=V668),$U$25:$U$15023)))","v":""},"","","",null,"","","","","","","","","","","","","","","",null,null,"","","","","","","","","","","","","","","",null,"","","","","","","","","","","","","","",""]
[null,null,null,null,null,null,null,null,null,null,null,null,null,null,null,null,null,null,null,null,"","","",{"$f":"IF(U669=\"\",\"\",MEDIAN(IF(($U$25:$U$15023<>\"\")*($V$25:$V$15023=V669),$U$25:$U$15023)))","v":""},"","","",null,"","","","","","","","","","","","","","","",null,null,"","","","","","","","","","","","","","","",null,"","","","","","","","","","","","","","",""]
[null,null,null,null,null,null,null,null,null,null,null,null,null,null,null,null,null,null,null,null,"","","",{"$f":"IF(U670=\"\",\"\",MEDIAN(IF(($U$25:$U$15023<>\"\")*($V$25:$V$15023=V670),$U$25:$U$15023)))","v":""},"","","",null,"","","","","","","","","","","","","","","",null,null,"","","","","","","","","","","","","","","",null,"","","","","","","","","","","","","","",""]
[null,null,null,null,null,null,null,null,null,null,null,null,null,null,null,null,null,null,null,null,"","","",{"$f":"IF(U671=\"\",\"\",MEDIAN(IF(($U$25:$U$15023<>\"\")*($V$25:$V$15023=V671),$U$25:$U$15023)))","v":""},"","","",null,"","","","","","","","","","","","","","","",null,null,"","","","","","","","","","","","","","","",null,"","","","","","","","","","","","","","",""]
[null,null,null,null,null,null,null,null,null,null,null,null,null,null,null,null,null,null,null,null,"","","",{"$f":"IF(U672=\"\",\"\",MEDIAN(IF(($U$25:$U$15023<>\"\")*($V$25:$V$15023=V672),$U$25:$U$15023)))","v":""},"","","",null,"","","","","","","","","","","","","","","",null,null,"","","","","","","","","","","","","","","",null,"","","","","","","","","","","","","","",""]
[null,null,null,null,null,null,null,null,null,null,null,null,null,null,null,null,null,null,null,null,"","","",{"$f":"IF(U673=\"\",\"\",MEDIAN(IF(($U$25:$U$15023<>\"\")*($V$25:$V$15023=V673),$U$25:$U$15023)))","v":""},"","","",null,{"$f":"IF(D673=\"\",\"\",RANK(D673,$D$25:$R$1024,1)+(COUNT($D$25:$R$1024)+1-RANK(D673,$D$25:$R$1024,0)-RANK(D673,$D$25:$R$1024,1))/2)","v":""},{"$f":"IF(E673=\"\",\"\",RANK(E673,$D$25:$R$1024,1)+(COUNT($D$25:$R$1024)+1-RANK(E673,$D$25:$R$1024,0)-RANK(E673,$D$25:$R$1024,1))/2)","v":""},{"$f":"IF(F673=\"\",\"\",RANK(F673,$D$25:$R$1024,1)+(COUNT($D$25:$R$1024)+1-RANK(F673,$D$25:$R$1024,0)-RANK(F673,$D$25:$R$1024,1))/2)","v":""},{"$f":"IF(G673=\"\",\"\",RANK(G673,$D$25:$R$1024,1)+(COUNT($D$25:$R$1024)+1-RANK(G673,$D$25:$R$1024,0)-RANK(G673,$D$25:$R$1024,1))/2)","v":""},{"$f":"IF(H673=\"\",\"\",RANK(H673,$D$25:$R$1024,1)+(COUNT($D$25:$R$1024)+1-RANK(H673,$D$25:$R$1024,0)-RANK(H673,$D$25:$R$1024,1))/2)","v":""},{"$f":"IF(I673=\"\",\"\",RANK(I673,$D$25:$R$1024,1)+(COUNT($D$25:$R$1024)+1-RANK(I673,$D$25:$R$1024,0)-RANK(I673,$D$25:$R$1024,1))/2)","v":""},{"$f":"IF(J673=\"\",\"\",RANK(J673,$D$25:$R$1024,1)+(COUNT($D$25:$R$1024)+1-RANK(J673,$D$25:$R$1024,0)-RANK(J673,$D$25:$R$1024,1))/2)","v":""},{"$f":"IF(K673=\"\",\"\",RANK(K673,$D$25:$R$1024,1)+(COUNT($D$25:$R$1024)+1-RANK(K673,$D$25:$R$1024,0)-RANK(K673,$D$25:$R$1024,1))/2)","v":""},{"$f":"IF(L673=\"\",\"\",RANK(L673,$D$25:$R$1024,1)+(COUNT($D$25:$R$1024)+1-RANK(L673,$D$25:$R$1024,0)-RANK(L673,$D$25:$R$1024,1))/2)","v":""},{"$f":"IF(M673=\"\",\"\",RANK(M673,$D$25:$R$1024,1)+(COUNT($D$25:$R$1024)+1-RANK(M673,$D$25:$R$1024,0)-RANK(M673,$D$25:$R$1024,1))/2)","v":""},{"$f":"IF(N673=\"\",\"\",RANK(N673,$D$25:$R$1024,1)+(COUNT($D$25:$R$1024)+1-RANK(N673,$D$25:$R$1024,0)-RANK(N673,$D$25:$R$1024,1))/2)","v":""},{"$f":"IF(O673=\"\",\"\",RANK(O673,$D$25:$R$1024,1)+(COUNT($D$25:$R$1024)+1-RANK(O673,$D$25:$R$1024,0)-RANK(O673,$D$25:$R$1024,1))/2)","v":""},{"$f":"IF(P673=\"\",\"\",RANK(P673,$D$25:$R$1024,1)+(COUNT($D$25:$R$1024)+1-RANK(P673,$D$25:$R$1024,0)-RANK(P673,$D$25:$R$1024,1))/2)","v":""},{"$f":"IF(Q673=\"\",\"\",RANK(Q673,$D$25:$R$1024,1)+(COUNT($D$25:$R$1024)+1-RANK(Q673,$D$25:$R$1024,0)-RANK(Q673,$D$25:$R$1024,1))/2)","v":""},{"$f":"IF(R673=\"\",\"\",RANK(R673,$D$25:$R$1024,1)+(COUNT($D$25:$R$1024)+1-RANK(R673,$D$25:$R$1024,0)-RANK(R673,$D$25:$R$1024,1))/2)","v":""},null,null,"","","","","","","","","","","","","","","",null,"","","","","","","","","","","","","","",""]
[null,null,null,null,null,null,null,null,null,null,null,null,null,null,null,null,null,null,null,null,"","","",{"$f":"IF(U674=\"\",\"\",MEDIAN(IF(($U$25:$U$15023<>\"\")*($V$25:$V$15023=V674),$U$25:$U$15023)))","v":""},"","","",null,"","","","","","","","","","","","","","","",null,null,"","","","","","","","","","","","","","","",null,"","","","","","","","","","","","","","",""]
[null,null,null,null,null,null,null,null,null,null,null,null,null,null,null,null,null,null,null,null,"","","",{"$f":"IF(U675=\"\",\"\",MEDIAN(IF(($U$25:$U$15023<>\"\")*($V$25:$V$15023=V675),$U$25:$U$15023)))","v":""},"","","",null,"","","","","","","","","","","","","","","",null,null,"","","","","","","","","","","","","","","",null,"","","","","","","","","","","","","","",""]
[null,null,null,null,null,null,null,null,null,null,null,null,null,null,null,null,null,null,null,null,"","","",{"$f":"IF(U676=\"\",\"\",MEDIAN(IF(($U$25:$U$15023<>\"\")*($V$25:$V$15023=V676),$U$25:$U$15023)))","v":""},"","","",null,"","","","","","","","","","","","","","","",null,null,"","","","","","","","","","","","","","","",null,"","","","","","","","","","","","","","",""]
[null,null,null,null,null,null,null,null,null,null,null,null,null,null,null,null,null,null,null,null,"","","",{"$f":"IF(U677=\"\",\"\",MEDIAN(IF(($U$25:$U$15023<>\"\")*($V$25:$V$15023=V677),$U$25:$U$15023)))","v":""},"","","",null,"","","","","","","","","","","","","","","",null,null,"","","","","","","","","","","","","","","",null,"","","","","","","","","","","","","","",""]
[null,null,null,null,null,null,null,null,null,null,null,null,null,null,null,null,null,null,null,null,"","","",{"$f":"IF(U678=\"\",\"\",MEDIAN(IF(($U$25:$U$15023<>\"\")*($V$25:$V$15023=V678),$U$25:$U$15023)))","v":""},"","","",null,"","","","","","","","","","","","","","","",null,null,"","","","","","","","","","","","","","","",null,"","","","","","","","","","","","","","",""]
[null,null,null,null,null,null,null,null,null,null,null,null,null,null,null,null,null,null,null,null,"","","",{"$f":"IF(U679=\"\",\"\",MEDIAN(IF(($U$25:$U$15023<>\"\")*($V$25:$V$15023=V679),$U$25:$U$15023)))","v":""},"","","",null,"","","","","","","","","","","","","","","",null,null,"","","","","","","","","","","","","","","",null,"","","","","","","","","","","","","","",""]
[null,null,null,null,null,null,null,null,null,null,null,null,null,null,null,null,null,null,null,null,"","","",{"$f":"IF(U680=\"\",\"\",MEDIAN(IF(($U$25:$U$15023<>\"\")*($V$25:$V$15023=V680),$U$25:$U$15023)))","v":""},"","","",null,"","","","","","","","","","","","","","","",null,null,"","","","","","","","","","","","","","","",null,"","","","","","","","","","","","","","",""]
[null,null,null,null,null,null,null,null,null,null,null,null,null,null,null,null,null,null,null,null,"","","",{"$f":"IF(U681=\"\",\"\",MEDIAN(IF(($U$25:$U$15023<>\"\")*($V$25:$V$15023=V681),$U$25:$U$15023)))","v":""},"","","",null,"","","","","","","","","","","","","","","",null,null,"","","","","","","","","","","","","","","",null,"","","","","","","","","","","","","","",""]
[null,null,null,null,null,null,null,null,null,null,null,null,null,null,null,null,null,null,null,null,"","","",{"$f":"IF(U682=\"\",\"\",MEDIAN(IF(($U$25:$U$15023<>\"\")*($V$25:$V$15023=V682),$U$25:$U$15023)))","v":""},"","","",null,"","","","","","","","","","","","","","","",null,null,"","","","","","","","","","","","","","","",null,"","","","","","","","","","","","","","",""]
[null,null,null,null,null,null,null,null,null,null,null,null,null,null,null,null,null,null,null,null,"","","",{"$f":"IF(U683=\"\",\"\",MEDIAN(IF(($U$25:$U$15023<>\"\")*($V$25:$V$15023=V683),$U$25:$U$15023)))","v":""},"","","",null,"","","","","","","","","","","","","","","",null,null,"","","","","","","","","","","","","","","",null,"","","","","","","","","","","","","","",""]
[null,null,null,null,null,null,null,null,null,null,null,null,null,null,null,null,null,null,null,null,"","","",{"$f":"IF(U684=\"\",\"\",MEDIAN(IF(($U$25:$U$15023<>\"\")*($V$25:$V$15023=V684),$U$25:$U$15023)))","v":""},"","","",null,"","","","","","","","","","","","","","","",null,null,"","","","","","","","","","","","","","","",null,"","","","","","","","","","","","","","",""]
[null,null,null,null,null,null,null,null,null,null,null,null,null,null,null,null,null,null,null,null,"","","",{"$f":"IF(U685=\"\",\"\",MEDIAN(IF(($U$25:$U$15023<>\"\")*($V$25:$V$15023=V685),$U$25:$U$15023)))","v":""},"","","",null,"","","","","","","","","","","","","","","",null,null,"","","","","","","","","","","","","","","",null,"","","","","","","","","","","","","","",""]
[null,null,null,null,null,null,null,null,null,null,null,null,null,null,null,null,null,null,null,null,"","","",{"$f":"IF(U686=\"\",\"\",MEDIAN(IF(($U$25:$U$15023<>\"\")*($V$25:$V$15023=V686),$U$25:$U$15023)))","v":""},"","","",null,"","","","","","","","","","","","","","","",null,null,"","","","","","","","","","","","","","","",null,"","","","","","","","","","","","","","",""]
[null,null,null,null,null,null,null,null,null,null,null,null,null,null,null,null,null,null,null,null,"","","",{"$f":"IF(U687=\"\",\"\",MEDIAN(IF(($U$25:$U$15023<>\"\")*($V$25:$V$15023=V687),$U$25:$U$15023)))","v":""},"","","",null,"","","","","","","","","","","","","","","",null,null,"","","","","","","","","","","","","","","",null,"","","","","","","","","","","","","","",""]
[null,null,null,null,null,null,null,null,null,null,null,null,null,null,null,null,null,null,null,null,"","","",{"$f":"IF(U688=\"\",\"\",MEDIAN(IF(($U$25:$U$15023<>\"\")*($V$25:$V$15023=V688),$U$25:$U$15023)))","v":""},"","","",null,"","","","","","","","","","","","","","","",null,null,"","","","","","","","","","","","","","","",null,"","","","","","","","","","","","","","",""]
[null,null,null,null,null,null,null,null,null,null,null,null,null,null,null,null,null,null,null,null,"","","",{"$f":"IF(U689=\"\",\"\",MEDIAN(IF(($U$25:$U$15023<>\"\")*($V$25:$V$15023=V689),$U$25:$U$15023)))","v":""},"","","",null,"","","","","","","","","","","","","","","",null,null,"","","","","","","","","","","","","","","",null,"","","","","","","","","","","","","","",""]
[null,null,null,null,null,null,null,null,null,null,null,null,null,null,null,null,null,null,null,null,"","","",{"$f":"IF(U690=\"\",\"\",MEDIAN(IF(($U$25:$U$15023<>\"\")*($V$25:$V$15023=V690),$U$25:$U$15023)))","v":""},"","","",null,"","","","","","","","","","","","","","","",null,null,"","","","","","","","","","","","","","","",null,"","","","","","","","","","","","","","",""]
[null,null,null,null,null,null,null,null,null,null,null,null,null,null,null,null,null,null,null,null,"","","",{"$f":"IF(U691=\"\",\"\",MEDIAN(IF(($U$25:$U$15023<>\"\")*($V$25:$V$15023=V691),$U$25:$U$15023)))","v":""},"","","",null,"","","","","","","","","","","","","","","",null,null,"","","","","","","","","","","","","","","",null,"","","","","","","","","","","","","","",""]
[null,null,null,null,null,null,null,null,null,null,null,null,null,null,null,null,null,null,null,null,"","","",{"$f":"IF(U692=\"\",\"\",MEDIAN(IF(($U$25:$U$15023<>\"\")*($V$25:$V$15023=V692),$U$25:$U$15023)))","v":""},"","","",null,"","","","","","","","","","","","","","","",null,null,"","","","","","","","","","","","","","","",null,"","","","","","","","","","","","","","",""]
[null,null,null,null,null,null,null,null,null,null,null,null,null,null,null,null,null,null,null,null,"","","",{"$f":"IF(U693=\"\",\"\",MEDIAN(IF(($U$25:$U$15023<>\"\")*($V$25:$V$15023=V693),$U$25:$U$15023)))","v":""},"","","",null,"","","","","","","","","","","","","","","",null,null,"","","","","","","","","","","","","","","",null,"","","","","","","","","","","","","","",""]
[null,null,null,null,null,null,null,null,null,null,null,null,null,null,null,null,null,null,null,null,"","","",{"$f":"IF(U694=\"\",\"\",MEDIAN(IF(($U$25:$U$15023<>\"\")*($V$25:$V$15023=V694),$U$25:$U$15023)))","v":""},"","","",null,"","","","","","","","","","","","","","","",null,null,"","","","","","","","","","","","","","","",null,"","","","","","","","","","","","","","",""]
[null,null,null,null,null,null,null,null,null,null,null,null,null,null,null,null,null,null,null,null,"","","",{"$f":"IF(U695=\"\",\"\",MEDIAN(IF(($U$25:$U$15023<>\"\")*($V$25:$V$15023=V695),$U$25:$U$15023)))","v":""},"","","",null,"","","","","","","","","","","","","","","",null,null,"","","","","","","","","","","","","","","",null,"","","","","","","","","","","","","","",""]
[null,null,null,null,null,null,null,null,null,null,null,null,null,null,null,null,null,null,null,null,"","","",{"$f":"IF(U696=\"\",\"\",MEDIAN(IF(($U$25:$U$15023<>\"\")*($V$25:$V$15023=V696),$U$25:$U$15023)))","v":""},"","","",null,"","","","","","","","","","","","","","","",null,null,"","","","","","","","","","","","","","","",null,"","","","","","","","","","","","","","",""]
[null,null,null,null,null,null,null,null,null,null,null,null,null,null,null,null,null,null,null,null,"","","",{"$f":"IF(U697=\"\",\"\",MEDIAN(IF(($U$25:$U$15023<>\"\")*($V$25:$V$15023=V697),$U$25:$U$15023)))","v":""},"","","",null,"","","","","","","","","","","","","","","",null,null,"","","","","","","","","","","","","","","",null,"","","","","","","","","","","","","","",""]
[null,null,null,null,null,null,null,null,null,null,null,null,null,null,null,null,null,null,null,null,"","","",{"$f":"IF(U698=\"\",\"\",MEDIAN(IF(($U$25:$U$15023<>\"\")*($V$25:$V$15023=V698),$U$25:$U$15023)))","v":""},"","","",null,"","","","","","","","","","","","","","","",null,null,"","","","","","","","","","","","","","","",null,"","","","","","","","","","","","","","",""]
[null,null,null,null,null,null,null,null,null,null,null,null,null,null,null,null,null,null,null,null,"","","",{"$f":"IF(U699=\"\",\"\",MEDIAN(IF(($U$25:$U$15023<>\"\")*($V$25:$V$15023=V699),$U$25:$U$15023)))","v":""},"","","",null,"","","","","","","","","","","","","","","",null,null,"","","","","","","","","","","","","","","",null,"","","","","","","","","","","","","","",""]
[null,null,null,null,null,null,null,null,null,null,null,null,null,null,null,null,null,null,null,null,"","","",{"$f":"IF(U700=\"\",\"\",MEDIAN(IF(($U$25:$U$15023<>\"\")*($V$25:$V$15023=V700),$U$25:$U$15023)))","v":""},"","","",null,"","","","","","","","","","","","","","","",null,null,"","","","","","","","","","","","","","","",null,"","","","","","","","","","","","","","",""]
[null,null,null,null,null,null,null,null,null,null,null,null,null,null,null,null,null,null,null,null,"","","",{"$f":"IF(U701=\"\",\"\",MEDIAN(IF(($U$25:$U$15023<>\"\")*($V$25:$V$15023=V701),$U$25:$U$15023)))","v":""},"","","",null,"","","","","","","","","","","","","","","",null,null,"","","","","","","","","","","","","","","",null,"","","","","","","","","","","","","","",""]
[null,null,null,null,null,null,null,null,null,null,null,null,null,null,null,null,null,null,null,null,"","","",{"$f":"IF(U702=\"\",\"\",MEDIAN(IF(($U$25:$U$15023<>\"\")*($V$25:$V$15023=V702),$U$25:$U$15023)))","v":""},"","","",null,"","","","","","","","","","","","","","","",null,null,"","","","","","","","","","","","","","","",null,"","","","","","","","","","","","","","",""]
[null,null,null,null,null,null,null,null,null,null,null,null,null,null,null,null,null,null,null,null,"","","",{"$f":"IF(U703=\"\",\"\",MEDIAN(IF(($U$25:$U$15023<>\"\")*($V$25:$V$15023=V703),$U$25:$U$15023)))","v":""},"","","",null,"","","","","","","","","","","","","","","",null,null,"","","","","","","","","","","","","","","",null,"","","","","","","","","","","","","","",""]
[null,null,null,null,null,null,null,null,null,null,null,null,null,null,null,null,null,null,null,null,"","","",{"$f":"IF(U704=\"\",\"\",MEDIAN(IF(($U$25:$U$15023<>\"\")*($V$25:$V$15023=V704),$U$25:$U$15023)))","v":""},"","","",null,"","","","","","","","","","","","","","","",null,null,"","","","","","","","","","","","","","","",null,"","","","","","","","","","","","","","",""]
[null,null,null,null,null,null,null,null,null,null,null,null,null,null,null,null,null,null,null,null,"","","",{"$f":"IF(U705=\"\",\"\",MEDIAN(IF(($U$25:$U$15023<>\"\")*($V$25:$V$15023=V705),$U$25:$U$15023)))","v":""},"","","",null,"","","","","","","","","","","","","","","",null,null,"","","","","","","","","","","","","","","",null,"","","","","","","","","","","","","","",""]
[null,null,null,null,null,null,null,null,null,null,null,null,null,null,null,null,null,null,null,null,"","","",{"$f":"IF(U706=\"\",\"\",MEDIAN(IF(($U$25:$U$15023<>\"\")*($V$25:$V$15023=V706),$U$25:$U$15023)))","v":""},"","","",null,"","","","","","","","","","","","","","","",null,null,"","","","","","","","","","","","","","","",null,"","","","","","","","","","","","","","",""]
[null,null,null,null,null,null,null,null,null,null,null,null,null,null,null,null,null,null,null,null,"","","",{"$f":"IF(U707=\"\",\"\",MEDIAN(IF(($U$25:$U$15023<>\"\")*($V$25:$V$15023=V707),$U$25:$U$15023)))","v":""},"","","",null,"","","","","","","","","","","","","","","",null,null,"","","","","","","","","","","","","","","",null,"","","","","","","","","","","","","","",""]
[null,null,null,null,null,null,null,null,null,null,null,null,null,null,null,null,null,null,null,null,"","","",{"$f":"IF(U708=\"\",\"\",MEDIAN(IF(($U$25:$U$15023<>\"\")*($V$25:$V$15023=V708),$U$25:$U$15023)))","v":""},"","","",null,"","","","","","","","","","","","","","","",null,null,"","","","","","","","","","","","","","","",null,"","","","","","","","","","","","","","",""]
[null,null,null,null,null,null,null,null,null,null,null,null,null,null,null,null,null,null,null,null,"","","",{"$f":"IF(U709=\"\",\"\",MEDIAN(IF(($U$25:$U$15023<>\"\")*($V$25:$V$15023=V709),$U$25:$U$15023)))","v":""},"","","",null,"","","","","","","","","","","","","","","",null,null,"","","","","","","","","","","","","","","",null,"","","","","","","","","","","","","","",""]
[null,null,null,null,null,null,null,null,null,null,null,null,null,null,null,null,null,null,null,null,"","","",{"$f":"IF(U710=\"\",\"\",MEDIAN(IF(($U$25:$U$15023<>\"\")*($V$25:$V$15023=V710),$U$25:$U$15023)))","v":""},"","","",null,"","","","","","","","","","","","","","","",null,null,"","","","","","","","","","","","","","","",null,"","","","","","","","","","","","","","",""]
[null,null,null,null,null,null,null,null,null,null,null,null,null,null,null,null,null,null,null,null,"","","",{"$f":"IF(U711=\"\",\"\",MEDIAN(IF(($U$25:$U$15023<>\"\")*($V$25:$V$15023=V711),$U$25:$U$15023)))","v":""},"","","",null,"","","","","","","","","","","","","","","",null,null,"","","","","","","","","","","","","","","",null,"","","","","","","","","","","","","","",""]
[null,null,null,null,null,null,null,null,null,null,null,null,null,null,null,null,null,null,null,null,"","","",{"$f":"IF(U712=\"\",\"\",MEDIAN(IF(($U$25:$U$15023<>\"\")*($V$25:$V$15023=V712),$U$25:$U$15023)))","v":""},"","","",null,"","","","","","","","","","","","","","","",null,null,"","","","","","","","","","","","","","","",null,"","","","","","","","","","","","","","",""]
[null,null,null,null,null,null,null,null,null,null,null,null,null,null,null,null,null,null,null,null,"","","",{"$f":"IF(U713=\"\",\"\",MEDIAN(IF(($U$25:$U$15023<>\"\")*($V$25:$V$15023=V713),$U$25:$U$15023)))","v":""},"","","",null,"","","","","","","","","","","","","","","",null,null,"","","","","","","","","","","","","","","",null,"","","","","","","","","","","","","","",""]
[null,null,null,null,null,null,null,null,null,null,null,null,null,null,null,null,null,null,null,null,"","","",{"$f":"IF(U714=\"\",\"\",MEDIAN(IF(($U$25:$U$15023<>\"\")*($V$25:$V$15023=V714),$U$25:$U$15023)))","v":""},"","","",null,"","","","","","","","","","","","","","","",null,null,"","","","","","","","","","","","","","","",null,"","","","","","","","","","","","","","",""]
[null,null,null,null,null,null,null,null,null,null,null,null,null,null,null,null,null,null,null,null,"","","",{"$f":"IF(U715=\"\",\"\",MEDIAN(IF(($U$25:$U$15023<>\"\")*($V$25:$V$15023=V715),$U$25:$U$15023)))","v":""},"","","",null,"","","","","","","","","","","","","","","",null,null,"","","","","","","","","","","","","","","",null,"","","","","","","","","","","","","","",""]
[null,null,null,null,null,null,null,null,null,null,null,null,null,null,null,null,null,null,null,null,"","","",{"$f":"IF(U716=\"\",\"\",MEDIAN(IF(($U$25:$U$15023<>\"\")*($V$25:$V$15023=V716),$U$25:$U$15023)))","v":""},"","","",null,"","","","","","","","","","","","","","","",null,null,"","","","","","","","","","","","","","","",null,"","","","","","","","","","","","","","",""]
[null,null,null,null,null,null,null,null,null,null,null,null,null,null,null,null,null,null,null,null,"","","",{"$f":"IF(U717=\"\",\"\",MEDIAN(IF(($U$25:$U$15023<>\"\")*($V$25:$V$15023=V717),$U$25:$U$15023)))","v":""},"","","",null,"","","","","","","","","","","","","","","",null,null,"","","","","","","","","","","","","","","",null,"","","","","","","","","","","","","","",""]
[null,null,null,null,null,null,null,null,null,null,null,null,null,null,null,null,null,null,null,null,"","","",{"$f":"IF(U718=\"\",\"\",MEDIAN(IF(($U$25:$U$15023<>\"\")*($V$25:$V$15023=V718),$U$25:$U$15023)))","v":""},"","","",null,"","","","","","","","","","","","","","","",null,null,"","","","","","","","","","","","","","","",null,"","","","","","","","","","","","","","",""]
[null,null,null,null,null,null,null,null,null,null,null,null,null,null,null,null,null,null,null,null,"","","",{"$f":"IF(U719=\"\",\"\",MEDIAN(IF(($U$25:$U$15023<>\"\")*($V$25:$V$15023=V719),$U$25:$U$15023)))","v":""},"","","",null,"","","","","","","","","","","","","","","",null,null,"","","","","","","","","","","","","","","",null,"","","","","","","","","","","","","","",""]
[null,null,null,null,null,null,null,null,null,null,null,null,null,null,null,null,null,null,null,null,"","","",{"$f":"IF(U720=\"\",\"\",MEDIAN(IF(($U$25:$U$15023<>\"\")*($V$25:$V$15023=V720),$U$25:$U$15023)))","v":""},"","","",null,"","","","","","","","","","","","","","","",null,null,"","","","","","","","","","","","","","","",null,"","","","","","","","","","","","","","",""]
[null,null,null,null,null,null,null,null,null,null,null,null,null,null,null,null,null,null,null,null,"","","",{"$f":"IF(U721=\"\",\"\",MEDIAN(IF(($U$25:$U$15023<>\"\")*($V$25:$V$15023=V721),$U$25:$U$15023)))","v":""},"","","",null,"","","","","","","","","","","","","","","",null,null,"","","","","","","","","","","","","","","",null,"","","","","","","","","","","","","","",""]
[null,null,null,null,null,null,null,null,null,null,null,null,null,null,null,null,null,null,null,null,"","","",{"$f":"IF(U722=\"\",\"\",MEDIAN(IF(($U$25:$U$15023<>\"\")*($V$25:$V$15023=V722),$U$25:$U$15023)))","v":""},"","","",null,"","","","","","","","","","","","","","","",null,null,"","","","","","","","","","","","","","","",null,"","","","","","","","","","","","","","",""]
[null,null,null,null,null,null,null,null,null,null,null,null,null,null,null,null,null,null,null,null,"","","",{"$f":"IF(U723=\"\",\"\",MEDIAN(IF(($U$25:$U$15023<>\"\")*($V$25:$V$15023=V723),$U$25:$U$15023)))","v":""},"","","",null,"","","","","","","","","","","","","","","",null,null,"","","","","","","","","","","","","","","",null,"","","","","","","","","","","","","","",""]
[null,null,null,null,null,null,null,null,null,null,null,null,null,null,null,null,null,null,null,null,"","","",{"$f":"IF(U724=\"\",\"\",MEDIAN(IF(($U$25:$U$15023<>\"\")*($V$25:$V$15023=V724),$U$25:$U$15023)))","v":""},"","","",null,"","","","","","","","","","","","","","","",null,null,"","","","","","","","","","","","","","","",null,"","","","","","","","","","","","","","",""]
[null,null,null,null,null,null,null,null,null,null,null,null,null,null,null,null,null,null,null,null,"","","",{"$f":"IF(U725=\"\",\"\",MEDIAN(IF(($U$25:$U$15023<>\"\")*($V$25:$V$15023=V725),$U$25:$U$15023)))","v":""},"","","",null,"","","","","","","","","","","","","","","",null,null,"","","","","","","","","","","","","","","",null,"","","","","","","","","","","","","","",""]
[null,null,null,null,null,null,null,null,null,null,null,null,null,null,null,null,null,null,null,null,"","","",{"$f":"IF(U726=\"\",\"\",MEDIAN(IF(($U$25:$U$15023<>\"\")*($V$25:$V$15023=V726),$U$25:$U$15023)))","v":""},"","","",null,"","","","","","","","","","","","","","","",null,null,"","","","","","","","","","","","","","","",null,"","","","","","","","","","","","","","",""]
[null,null,null,null,null,null,null,null,null,null,null,null,null,null,null,null,null,null,null,null,"","","",{"$f":"IF(U727=\"\",\"\",MEDIAN(IF(($U$25:$U$15023<>\"\")*($V$25:$V$15023=V727),$U$25:$U$15023)))","v":""},"","","",null,"","","","","","","","","","","","","","","",null,null,"","","","","","","","","","","","","","","",null,"","","","","","","","","","","","","","",""]
[null,null,null,null,null,null,null,null,null,null,null,null,null,null,null,null,null,null,null,null,"","","",{"$f":"IF(U728=\"\",\"\",MEDIAN(IF(($U$25:$U$15023<>\"\")*($V$25:$V$15023=V728),$U$25:$U$15023)))","v":""},"","","",null,"","","","","","","","","","","","","","","",null,null,"","","","","","","","","","","","","","","",null,"","","","","","","","","","","","","","",""]
[null,null,null,null,null,null,null,null,null,null,null,null,null,null,null,null,null,null,null,null,"","","",{"$f":"IF(U729=\"\",\"\",MEDIAN(IF(($U$25:$U$15023<>\"\")*($V$25:$V$15023=V729),$U$25:$U$15023)))","v":""},"","","",null,"","","","","","","","","","","","","","","",null,null,"","","","","","","","","","","","","","","",null,"","","","","","","","","","","","","","",""]
[null,null,null,null,null,null,null,null,null,null,null,null,null,null,null,null,null,null,null,null,{"$f":"IF(A730=\"\",\"\",A730)","v":""},{"$f":"IF(B730=\"\",\"\",B730)","v":""},{"$f":"IF(U730=\"\",\"\",RANK(U730,$U$25:$U$15023,1)+(COUNT($U$25:$U$15023)+1-RANK(U730,$U$25:$U$15023,0)-RANK(U730,$U$25:$U$15023,1))/2)","v":""},{"$f":"IF(U730=\"\",\"\",MEDIAN(IF(($U$25:$U$15023<>\"\")*($V$25:$V$15023=V730),$U$25:$U$15023)))","v":""},{"$f":"IF(U730=\"\",\"\",ABS(X730-U730))","v":""},{"$f":"IF(V730=\"\",\"\",AVERAGEIF($V$25:$V$15023,V730,$Y$25:$Y$15023))","v":""},{"$f":"IF(V730=\"\",\"\",(Y730-Z730)^2)","v":""},null,"","","","","","","","","","","","","","","",null,null,{"$f":"IF(D730=\"\",\"\",ABS(D730-MEDIAN(D$25:D$1024)))","v":""},{"$f":"IF(E730=\"\",\"\",ABS(E730-MEDIAN(E$25:E$1024)))","v":""},{"$f":"IF(F730=\"\",\"\",ABS(F730-MEDIAN(F$25:F$1024)))","v":""},{"$f":"IF(G730=\"\",\"\",ABS(G730-MEDIAN(G$25:G$1024)))","v":""},{"$f":"IF(H730=\"\",\"\",ABS(H730-MEDIAN(H$25:H$1024)))","v":""},{"$f":"IF(I730=\"\",\"\",ABS(I730-MEDIAN(I$25:I$1024)))","v":""},{"$f":"IF(J730=\"\",\"\",ABS(J730-MEDIAN(J$25:J$1024)))","v":""},{"$f":"IF(K730=\"\",\"\",ABS(K730-MEDIAN(K$25:K$1024)))","v":""},{"$f":"IF(L730=\"\",\"\",ABS(L730-MEDIAN(L$25:L$1024)))","v":""},{"$f":"IF(M730=\"\",\"\",ABS(M730-MEDIAN(M$25:M$1024)))","v":""},{"$f":"IF(N730=\"\",\"\",ABS(N730-MEDIAN(N$25:N$1024)))","v":""},{"$f":"IF(O730=\"\",\"\",ABS(O730-MEDIAN(O$25:O$1024)))","v":""},{"$f":"IF(P730=\"\",\"\",ABS(P730-MEDIAN(P$25:P$1024)))","v":""},{"$f":"IF(Q730=\"\",\"\",ABS(Q730-MEDIAN(Q$25:Q$1024)))","v":""},{"$f":"IF(R730=\"\",\"\",ABS(R730-MEDIAN(R$25:R$1024)))","v":""},null,{"$f":"IF(AT730=\"\",\"\",(AT730-AT$22)^2)","v":""},{"$f":"IF(AU730=\"\",\"\",(AU730-AU$22)^2)","v":""},{"$f":"IF(AV730=\"\",\"\",(AV730-AV$22)^2)","v":""},{"$f":"IF(AW730=\"\",\"\",(AW730-AW$22)^2)","v":""},{"$f":"IF(AX730=\"\",\"\",(AX730-AX$22)^2)","v":""},{"$f":"IF(AY730=\"\",\"\",(AY730-AY$22)^2)","v":""},{"$f":"IF(AZ730=\"\",\"\",(AZ730-AZ$22)^2)","v":""},{"$f":"IF(BA730=\"\",\"\",(BA730-BA$22)^2)","v":""},{"$f":"IF(BB730=\"\",\"\",(BB730-BB$22)^2)","v":""},{"$f":"IF(BC730=\"\",\"\",(BC730-BC$22)^2)","v":""},{"$f":"IF(BD730=\"\",\"\",(BD730-BD$22)^2)","v":""},{"$f":"IF(BE730=\"\",\"\",(BE730-BE$22)^2)","v":""},{"$f":"IF(BF730=\"\",\"\",(BF730-BF$22)^2)","v":""},{"$f":"IF(BG730=\"\",\"\",(BG730-BG$22)^2)","v":""},{"$f":"IF(BH730=\"\",\"\",(BH730-BH$22)^2)","v":""}]
[null,null,null,null,null,null,null,null,null,null,null,null,null,null,null,null,null,null,null,null,"","","",{"$f":"IF(U731=\"\",\"\",MEDIAN(IF(($U$25:$U$15023<>\"\")*($V$25:$V$15023=V731),$U$25:$U$15023)))","v":""},"","","",null,"","","","","","","","","","","","","","","",null,null,"","","","","","","","","","","","","","","",null,"","","","","","","","","","","","","","",""]
[null,null,null,null,null,null,null,null,null,null,null,null,null,null,null,null,null,null,null,null,"","","",{"$f":"IF(U732=\"\",\"\",MEDIAN(IF(($U$25:$U$15023<>\"\")*($V$25:$V$15023=V732),$U$25:$U$15023)))","v":""},"","","",null,"","","","","","","","","","","","","","","",null,null,"","","","","","","","","","","","","","","",null,"","","","","","","","","","","","","","",""]
[null,null,null,null,null,null,null,null,null,null,null,null,null,null,null,null,null,null,null,null,"","","",{"$f":"IF(U733=\"\",\"\",MEDIAN(IF(($U$25:$U$15023<>\"\")*($V$25:$V$15023=V733),$U$25:$U$15023)))","v":""},"","","",null,"","","","","","","","","","","","","","","",null,null,"","","","","","","","","","","","","","","",null,"","","","","","","","","","","","","","",""]
[null,null,null,null,null,null,null,null,null,null,null,null,null,null,null,null,null,null,null,null,"","","",{"$f":"IF(U734=\"\",\"\",MEDIAN(IF(($U$25:$U$15023<>\"\")*($V$25:$V$15023=V734),$U$25:$U$15023)))","v":""},"","","",null,"","","","","","","","","","","","","","","",null,null,"","","","","","","","","","","","","","","",null,"","","","","","","","","","","","","","",""]
[null,null,null,null,null,null,null,null,null,null,null,null,null,null,null,null,null,null,null,null,"","","",{"$f":"IF(U735=\"\",\"\",MEDIAN(IF(($U$25:$U$15023<>\"\")*($V$25:$V$15023=V735),$U$25:$U$15023)))","v":""},"","","",null,"","","","","","","","","","","","","","","",null,null,"","","","","","","","","","","","","","","",null,"","","","","","","","","","","","","","",""]
[null,null,null,null,null,null,null,null,null,null,null,null,null,null,null,null,null,null,null,null,"","","",{"$f":"IF(U736=\"\",\"\",MEDIAN(IF(($U$25:$U$15023<>\"\")*($V$25:$V$15023=V736),$U$25:$U$15023)))","v":""},"","","",null,"","","","","","","","","","","","","","","",null,null,"","","","","","","","","","","","","","","",null,"","","","","","","","","","","","","","",""]
[null,null,null,null,null,null,null,null,null,null,null,null,null,null,null,null,null,null,null,null,"","","",{"$f":"IF(U737=\"\",\"\",MEDIAN(IF(($U$25:$U$15023<>\"\")*($V$25:$V$15023=V737),$U$25:$U$15023)))","v":""},"","","",null,{"$f":"IF(D737=\"\",\"\",RANK(D737,$D$25:$R$1024,1)+(COUNT($D$25:$R$1024)+1-RANK(D737,$D$25:$R$1024,0)-RANK(D737,$D$25:$R$1024,1))/2)","v":""},{"$f":"IF(E737=\"\",\"\",RANK(E737,$D$25:$R$1024,1)+(COUNT($D$25:$R$1024)+1-RANK(E737,$D$25:$R$1024,0)-RANK(E737,$D$25:$R$1024,1))/2)","v":""},{"$f":"IF(F737=\"\",\"\",RANK(F737,$D$25:$R$1024,1)+(COUNT($D$25:$R$1024)+1-RANK(F737,$D$25:$R$1024,0)-RANK(F737,$D$25:$R$1024,1))/2)","v":""},{"$f":"IF(G737=\"\",\"\",RANK(G737,$D$25:$R$1024,1)+(COUNT($D$25:$R$1024)+1-RANK(G737,$D$25:$R$1024,0)-RANK(G737,$D$25:$R$1024,1))/2)","v":""},{"$f":"IF(H737=\"\",\"\",RANK(H737,$D$25:$R$1024,1)+(COUNT($D$25:$R$1024)+1-RANK(H737,$D$25:$R$1024,0)-RANK(H737,$D$25:$R$1024,1))/2)","v":""},{"$f":"IF(I737=\"\",\"\",RANK(I737,$D$25:$R$1024,1)+(COUNT($D$25:$R$1024)+1-RANK(I737,$D$25:$R$1024,0)-RANK(I737,$D$25:$R$1024,1))/2)","v":""},{"$f":"IF(J737=\"\",\"\",RANK(J737,$D$25:$R$1024,1)+(COUNT($D$25:$R$1024)+1-RANK(J737,$D$25:$R$1024,0)-RANK(J737,$D$25:$R$1024,1))/2)","v":""},{"$f":"IF(K737=\"\",\"\",RANK(K737,$D$25:$R$1024,1)+(COUNT($D$25:$R$1024)+1-RANK(K737,$D$25:$R$1024,0)-RANK(K737,$D$25:$R$1024,1))/2)","v":""},{"$f":"IF(L737=\"\",\"\",RANK(L737,$D$25:$R$1024,1)+(COUNT($D$25:$R$1024)+1-RANK(L737,$D$25:$R$1024,0)-RANK(L737,$D$25:$R$1024,1))/2)","v":""},{"$f":"IF(M737=\"\",\"\",RANK(M737,$D$25:$R$1024,1)+(COUNT($D$25:$R$1024)+1-RANK(M737,$D$25:$R$1024,0)-RANK(M737,$D$25:$R$1024,1))/2)","v":""},{"$f":"IF(N737=\"\",\"\",RANK(N737,$D$25:$R$1024,1)+(COUNT($D$25:$R$1024)+1-RANK(N737,$D$25:$R$1024,0)-RANK(N737,$D$25:$R$1024,1))/2)","v":""},{"$f":"IF(O737=\"\",\"\",RANK(O737,$D$25:$R$1024,1)+(COUNT($D$25:$R$1024)+1-RANK(O737,$D$25:$R$1024,0)-RANK(O737,$D$25:$R$1024,1))/2)","v":""},{"$f":"IF(P737=\"\",\"\",RANK(P737,$D$25:$R$1024,1)+(COUNT($D$25:$R$1024)+1-RANK(P737,$D$25:$R$1024,0)-RANK(P737,$D$25:$R$1024,1))/2)","v":""},{"$f":"IF(Q737=\"\",\"\",RANK(Q737,$D$25:$R$1024,1)+(COUNT($D$25:$R$1024)+1-RANK(Q737,$D$25:$R$1024,0)-RANK(Q737,$D$25:$R$1024,1))/2)","v":""},{"$f":"IF(R737=\"\",\"\",RANK(R737,$D$25:$R$1024,1)+(COUNT($D$25:$R$1024)+1-RANK(R737,$D$25:$R$1024,0)-RANK(R737,$D$25:$R$1024,1))/2)","v":""},null,null,"","","","","","","","","","","","","","","",null,"","","","","","","","","","","","","","",""]
[null,null,null,null,null,null,null,null,null,null,null,null,null,null,null,null,null,null,null,null,"","","",{"$f":"IF(U738=\"\",\"\",MEDIAN(IF(($U$25:$U$15023<>\"\")*($V$25:$V$15023=V738),$U$25:$U$15023)))","v":""},"","","",null,"","","","","","","","","","","","","","","",null,null,"","","","","","","","","","","","","","","",null,"","","","","","","","","","","","","","",""]
[null,null,null,null,null,null,null,null,null,null,null,null,null,null,null,null,null,null,null,null,"","","",{"$f":"IF(U739=\"\",\"\",MEDIAN(IF(($U$25:$U$15023<>\"\")*($V$25:$V$15023=V739),$U$25:$U$15023)))","v":""},"","","",null,"","","","","","","","","","","","","","","",null,null,"","","","","","","","","","","","","","","",null,"","","","","","","","","","","","","","",""]
[null,null,null,null,null,null,null,null,null,null,null,null,null,null,null,null,null,null,null,null,"","","",{"$f":"IF(U740=\"\",\"\",MEDIAN(IF(($U$25:$U$15023<>\"\")*($V$25:$V$15023=V740),$U$25:$U$15023)))","v":""},"","","",null,"","","","","","","","","","","","","","","",null,null,"","","","","","","","","","","","","","","",null,"","","","","","","","","","","","","","",""]
[null,null,null,null,null,null,null,null,null,null,null,null,null,null,null,null,null,null,null,null,"","","",{"$f":"IF(U741=\"\",\"\",MEDIAN(IF(($U$25:$U$15023<>\"\")*($V$25:$V$15023=V741),$U$25:$U$15023)))","v":""},"","","",null,"","","","","","","","","","","","","","","",null,null,"","","","","","","","","","","","","","","",null,"","","","","","","","","","","","","","",""]
[null,null,null,null,null,null,null,null,null,null,null,null,null,null,null,null,null,null,null,null,"","","",{"$f":"IF(U742=\"\",\"\",MEDIAN(IF(($U$25:$U$15023<>\"\")*($V$25:$V$15023=V742),$U$25:$U$15023)))","v":""},"","","",null,"","","","","","","","","","","","","","","",null,null,"","","","","","","","","","","","","","","",null,"","","","","","","","","","","","","","",""]
[null,null,null,null,null,null,null,null,null,null,null,null,null,null,null,null,null,null,null,null,"","","",{"$f":"IF(U743=\"\",\"\",MEDIAN(IF(($U$25:$U$15023<>\"\")*($V$25:$V$15023=V743),$U$25:$U$15023)))","v":""},"","","",null,"","","","","","","","","","","","","","","",null,null,"","","","","","","","","","","","","","","",null,"","","","","","","","","","","","","","",""]
[null,null,null,null,null,null,null,null,null,null,null,null,null,null,null,null,null,null,null,null,"","","",{"$f":"IF(U744=\"\",\"\",MEDIAN(IF(($U$25:$U$15023<>\"\")*($V$25:$V$15023=V744),$U$25:$U$15023)))","v":""},"","","",null,"","","","","","","","","","","","","","","",null,null,"","","","","","","","","","","","","","","",null,"","","","","","","","","","","","","","",""]
[null,null,null,null,null,null,null,null,null,null,null,null,null,null,null,null,null,null,null,null,"","","",{"$f":"IF(U745=\"\",\"\",MEDIAN(IF(($U$25:$U$15023<>\"\")*($V$25:$V$15023=V745),$U$25:$U$15023)))","v":""},"","","",null,"","","","","","","","","","","","","","","",null,null,"","","","","","","","","","","","","","","",null,"","","","","","","","","","","","","","",""]
[null,null,null,null,null,null,null,null,null,null,null,null,null,null,null,null,null,null,null,null,"","","",{"$f":"IF(U746=\"\",\"\",MEDIAN(IF(($U$25:$U$15023<>\"\")*($V$25:$V$15023=V746),$U$25:$U$15023)))","v":""},"","","",null,"","","","","","","","","","","","","","","",null,null,"","","","","","","","","","","","","","","",null,"","","","","","","","","","","","","","",""]
[null,null,null,null,null,null,null,null,null,null,null,null,null,null,null,null,null,null,null,null,"","","",{"$f":"IF(U747=\"\",\"\",MEDIAN(IF(($U$25:$U$15023<>\"\")*($V$25:$V$15023=V747),$U$25:$U$15023)))","v":""},"","","",null,"","","","","","","","","","","","","","","",null,null,"","","","","","","","","","","","","","","",null,"","","","","","","","","","","","","","",""]
[null,null,null,null,null,null,null,null,null,null,null,null,null,null,null,null,null,null,null,null,"","","",{"$f":"IF(U748=\"\",\"\",MEDIAN(IF(($U$25:$U$15023<>\"\")*($V$25:$V$15023=V748),$U$25:$U$15023)))","v":""},"","","",null,"","","","","","","","","","","","","","","",null,null,"","","","","","","","","","","","","","","",null,"","","","","","","","","","","","","","",""]
[null,null,null,null,null,null,null,null,null,null,null,null,null,null,null,null,null,null,null,null,"","","",{"$f":"IF(U749=\"\",\"\",MEDIAN(IF(($U$25:$U$15023<>\"\")*($V$25:$V$15023=V749),$U$25:$U$15023)))","v":""},"","","",null,"","","","","","","","","","","","","","","",null,null,"","","","","","","","","","","","","","","",null,"","","","","","","","","","","","","","",""]
[null,null,null,null,null,null,null,null,null,null,null,null,null,null,null,null,null,null,null,null,"","","",{"$f":"IF(U750=\"\",\"\",MEDIAN(IF(($U$25:$U$15023<>\"\")*($V$25:$V$15023=V750),$U$25:$U$15023)))","v":""},"","","",null,"","","","","","","","","","","","","","","",null,null,"","","","","","","","","","","","","","","",null,"","","","","","","","","","","","","","",""]
[null,null,null,null,null,null,null,null,null,null,null,null,null,null,null,null,null,null,null,null,"","","",{"$f":"IF(U751=\"\",\"\",MEDIAN(IF(($U$25:$U$15023<>\"\")*($V$25:$V$15023=V751),$U$25:$U$15023)))","v":""},"","","",null,"","","","","","","","","","","","","","","",null,null,"","","","","","","","","","","","","","","",null,"","","","","","","","","","","","","","",""]
[null,null,null,null,null,null,null,null,null,null,null,null,null,null,null,null,null,null,null,null,"","","",{"$f":"IF(U752=\"\",\"\",MEDIAN(IF(($U$25:$U$15023<>\"\")*($V$25:$V$15023=V752),$U$25:$U$15023)))","v":""},"","","",null,"","","","","","","","","","","","","","","",null,null,"","","","","","","","","","","","","","","",null,"","","","","","","","","","","","","","",""]
[null,null,null,null,null,null,null,null,null,null,null,null,null,null,null,null,null,null,null,null,"","","",{"$f":"IF(U753=\"\",\"\",MEDIAN(IF(($U$25:$U$15023<>\"\")*($V$25:$V$15023=V753),$U$25:$U$15023)))","v":""},"","","",null,"","","","","","","","","","","","","","","",null,null,"","","","","","","","","","","","","","","",null,"","","","","","","","","","","","","","",""]
[null,null,null,null,null,null,null,null,null,null,null,null,null,null,null,null,null,null,null,null,"","","",{"$f":"IF(U754=\"\",\"\",MEDIAN(IF(($U$25:$U$15023<>\"\")*($V$25:$V$15023=V754),$U$25:$U$15023)))","v":""},"","","",null,"","","","","","","","","","","","","","","",null,null,"","","","","","","","","","","","","","","",null,"","","","","","","","","","","","","","",""]
[null,null,null,null,null,null,null,null,null,null,null,null,null,null,null,null,null,null,null,null,"","","",{"$f":"IF(U755=\"\",\"\",MEDIAN(IF(($U$25:$U$15023<>\"\")*($V$25:$V$15023=V755),$U$25:$U$15023)))","v":""},"","","",null,"","","","","","","","","","","","","","","",null,null,"","","","","","","","","","","","","","","",null,"","","","","","","","","","","","","","",""]
[null,null,null,null,null,null,null,null,null,null,null,null,null,null,null,null,null,null,null,null,"","","",{"$f":"IF(U756=\"\",\"\",MEDIAN(IF(($U$25:$U$15023<>\"\")*($V$25:$V$15023=V756),$U$25:$U$15023)))","v":""},"","","",null,"","","","","","","","","","","","","","","",null,null,"","","","","","","","","","","","","","","",null,"","","","","","","","","","","","","","",""]
[null,null,null,null,null,null,null,null,null,null,null,null,null,null,null,null,null,null,null,null,"","","",{"$f":"IF(U757=\"\",\"\",MEDIAN(IF(($U$25:$U$15023<>\"\")*($V$25:$V$15023=V757),$U$25:$U$15023)))","v":""},"","","",null,"","","","","","","","","","","","","","","",null,null,"","","","","","","","","","","","","","","",null,"","","","","","","","","","","","","","",""]
[null,null,null,null,null,null,null,null,null,null,null,null,null,null,null,null,null,null,null,null,"","","",{"$f":"IF(U758=\"\",\"\",MEDIAN(IF(($U$25:$U$15023<>\"\")*($V$25:$V$15023=V758),$U$25:$U$15023)))","v":""},"","","",null,"","","","","","","","","","","","","","","",null,null,"","","","","","","","","","","","","","","",null,"","","","","","","","","","","","","","",""]
[null,null,null,null,null,null,null,null,null,null,null,null,null,null,null,null,null,null,null,null,"","","",{"$f":"IF(U759=\"\",\"\",MEDIAN(IF(($U$25:$U$15023<>\"\")*($V$25:$V$15023=V759),$U$25:$U$15023)))","v":""},"","","",null,"","","","","","","","","","","","","","","",null,null,"","","","","","","","","","","","","","","",null,"","","","","","","","","","","","","","",""]
[null,null,null,null,null,null,null,null,null,null,null,null,null,null,null,null,null,null,null,null,"","","",{"$f":"IF(U760=\"\",\"\",MEDIAN(IF(($U$25:$U$15023<>\"\")*($V$25:$V$15023=V760),$U$25:$U$15023)))","v":""},"","","",null,"","","","","","","","","","","","","","","",null,null,"","","","","","","","","","","","","","","",null,"","","","","","","","","","","","","","",""]
[null,null,null,null,null,null,null,null,null,null,null,null,null,null,null,null,null,null,null,null,"","","",{"$f":"IF(U761=\"\",\"\",MEDIAN(IF(($U$25:$U$15023<>\"\")*($V$25:$V$15023=V761),$U$25:$U$15023)))","v":""},"","","",null,"","","","","","","","","","","","","","","",null,null,"","","","","","","","","","","","","","","",null,"","","","","","","","","","","","","","",""]
[null,null,null,null,null,null,null,null,null,null,null,null,null,null,null,null,null,null,null,null,"","","",{"$f":"IF(U762=\"\",\"\",MEDIAN(IF(($U$25:$U$15023<>\"\")*($V$25:$V$15023=V762),$U$25:$U$15023)))","v":""},"","","",null,"","","","","","","","","","","","","","","",null,null,"","","","","","","","","","","","","","","",null,"","","","","","","","","","","","","","",""]
[null,null,null,null,null,null,null,null,null,null,null,null,null,null,null,null,null,null,null,null,"","","",{"$f":"IF(U763=\"\",\"\",MEDIAN(IF(($U$25:$U$15023<>\"\")*($V$25:$V$15023=V763),$U$25:$U$15023)))","v":""},"","","",null,"","","","","","","","","","","","","","","",null,null,"","","","","","","","","","","","","","","",null,"","","","","","","","","","","","","","",""]
[null,null,null,null,null,null,null,null,null,null,null,null,null,null,null,null,null,null,null,null,"","","",{"$f":"IF(U764=\"\",\"\",MEDIAN(IF(($U$25:$U$15023<>\"\")*($V$25:$V$15023=V764),$U$25:$U$15023)))","v":""},"","","",null,"","","","","","","","","","","","","","","",null,null,"","","","","","","","","","","","","","","",null,"","","","","","","","","","","","","","",""]
[null,null,null,null,null,null,null,null,null,null,null,null,null,null,null,null,null,null,null,null,"","","",{"$f":"IF(U765=\"\",\"\",MEDIAN(IF(($U$25:$U$15023<>\"\")*($V$25:$V$15023=V765),$U$25:$U$15023)))","v":""},"","","",null,"","","","","","","","","","","","","","","",null,null,"","","","","","","","","","","","","","","",null,"","","","","","","","","","","","","","",""]
[null,null,null,null,null,null,null,null,null,null,null,null,null,null,null,null,null,null,null,null,"","","",{"$f":"IF(U766=\"\",\"\",MEDIAN(IF(($U$25:$U$15023<>\"\")*($V$25:$V$15023=V766),$U$25:$U$15023)))","v":""},"","","",null,"","","","","","","","","","","","","","","",null,null,"","","","","","","","","","","","","","","",null,"","","","","","","","","","","","","","",""]
[null,null,null,null,null,null,null,null,null,null,null,null,null,null,null,null,null,null,null,null,"","","",{"$f":"IF(U767=\"\",\"\",MEDIAN(IF(($U$25:$U$15023<>\"\")*($V$25:$V$15023=V767),$U$25:$U$15023)))","v":""},"","","",null,"","","","","","","","","","","","","","","",null,null,"","","","","","","","","","","","","","","",null,"","","","","","","","","","","","","","",""]
[null,null,null,null,null,null,null,null,null,null,null,null,null,null,null,null,null,null,null,null,"","","",{"$f":"IF(U768=\"\",\"\",MEDIAN(IF(($U$25:$U$15023<>\"\")*($V$25:$V$15023=V768),$U$25:$U$15023)))","v":""},"","","",null,"","","","","","","","","","","","","","","",null,null,"","","","","","","","","","","","","","","",null,"","","","","","","","","","","","","","",""]
[null,null,null,null,null,null,null,null,null,null,null,null,null,null,null,null,null,null,null,null,"","","",{"$f":"IF(U769=\"\",\"\",MEDIAN(IF(($U$25:$U$15023<>\"\")*($V$25:$V$15023=V769),$U$25:$U$15023)))","v":""},"","","",null,"","","","","","","","","","","","","","","",null,null,"","","","","","","","","","","","","","","",null,"","","","","","","","","","","","","","",""]
[null,null,null,null,null,null,null,null,null,null,null,null,null,null,null,null,null,null,null,null,"","","",{"$f":"IF(U770=\"\",\"\",MEDIAN(IF(($U$25:$U$15023<>\"\")*($V$25:$V$15023=V770),$U$25:$U$15023)))","v":""},"","","",null,"","","","","","","","","","","","","","","",null,null,"","","","","","","","","","","","","","","",null,"","","","","","","","","","","","","","",""]
[null,null,null,null,null,null,null,null,null,null,null,null,null,null,null,null,null,null,null,null,"","","",{"$f":"IF(U771=\"\",\"\",MEDIAN(IF(($U$25:$U$15023<>\"\")*($V$25:$V$15023=V771),$U$25:$U$15023)))","v":""},"","","",null,"","","","","","","","","","","","","","","",null,null,"","","","","","","","","","","","","","","",null,"","","","","","","","","","","","","","",""]
[null,null,null,null,null,null,null,null,null,null,null,null,null,null,null,null,null,null,null,null,"","","",{"$f":"IF(U772=\"\",\"\",MEDIAN(IF(($U$25:$U$15023<>\"\")*($V$25:$V$15023=V772),$U$25:$U$15023)))","v":""},"","","",null,"","","","","","","","","","","","","","","",null,null,"","","","","","","","","","","","","","","",null,"","","","","","","","","","","","","","",""]
[null,null,null,null,null,null,null,null,null,null,null,null,null,null,null,null,null,null,null,null,"","","",{"$f":"IF(U773=\"\",\"\",MEDIAN(IF(($U$25:$U$15023<>\"\")*($V$25:$V$15023=V773),$U$25:$U$15023)))","v":""},"","","",null,"","","","","","","","","","","","","","","",null,null,"","","","","","","","","","","","","","","",null,"","","","","","","","","","","","","","",""]
[null,null,null,null,null,null,null,null,null,null,null,null,null,null,null,null,null,null,null,null,"","","",{"$f":"IF(U774=\"\",\"\",MEDIAN(IF(($U$25:$U$15023<>\"\")*($V$25:$V$15023=V774),$U$25:$U$15023)))","v":""},"","","",null,"","","","","","","","","","","","","","","",null,null,"","","","","","","","","","","","","","","",null,"","","","","","","","","","","","","","",""]
[null,null,null,null,null,null,null,null,null,null,null,null,null,null,null,null,null,null,null,null,"","","",{"$f":"IF(U775=\"\",\"\",MEDIAN(IF(($U$25:$U$15023<>\"\")*($V$25:$V$15023=V775),$U$25:$U$15023)))","v":""},"","","",null,"","","","","","","","","","","","","","","",null,null,"","","","","","","","","","","","","","","",null,"","","","","","","","","","","","","","",""]
[null,null,null,null,null,null,null,null,null,null,null,null,null,null,null,null,null,null,null,null,"","","",{"$f":"IF(U776=\"\",\"\",MEDIAN(IF(($U$25:$U$15023<>\"\")*($V$25:$V$15023=V776),$U$25:$U$15023)))","v":""},"","","",null,"","","","","","","","","","","","","","","",null,null,"","","","","","","","","","","","","","","",null,"","","","","","","","","","","","","","",""]
[null,null,null,null,null,null,null,null,null,null,null,null,null,null,null,null,null,null,null,null,"","","",{"$f":"IF(U777=\"\",\"\",MEDIAN(IF(($U$25:$U$15023<>\"\")*($V$25:$V$15023=V777),$U$25:$U$15023)))","v":""},"","","",null,"","","","","","","","","","","","","","","",null,null,"","","","","","","","","","","","","","","",null,"","","","","","","","","","","","","","",""]
[null,null,null,null,null,null,null,null,null,null,null,null,null,null,null,null,null,null,null,null,"","","",{"$f":"IF(U778=\"\",\"\",MEDIAN(IF(($U$25:$U$15023<>\"\")*($V$25:$V$15023=V778),$U$25:$U$15023)))","v":""},"","","",null,"","","","","","","","","","","","","","","",null,null,"","","","","","","","","","","","","","","",null,"","","","","","","","","","","","","","",""]
[null,null,null,null,null,null,null,null,null,null,null,null,null,null,null,null,null,null,null,null,"","","",{"$f":"IF(U779=\"\",\"\",MEDIAN(IF(($U$25:$U$15023<>\"\")*($V$25:$V$15023=V779),$U$25:$U$15023)))","v":""},"","","",null,"","","","","","","","","","","","","","","",null,null,"","","","","","","","","","","","","","","",null,"","","","","","","","","","","","","","",""]
[null,null,null,null,null,null,null,null,null,null,null,null,null,null,null,null,null,null,null,null,"","","",{"$f":"IF(U780=\"\",\"\",MEDIAN(IF(($U$25:$U$15023<>\"\")*($V$25:$V$15023=V780),$U$25:$U$15023)))","v":""},"","","",null,"","","","","","","","","","","","","","","",null,null,"","","","","","","","","","","","","","","",null,"","","","","","","","","","","","","","",""]
[null,null,null,null,null,null,null,null,null,null,null,null,null,null,null,null,null,null,null,null,"","","",{"$f":"IF(U781=\"\",\"\",MEDIAN(IF(($U$25:$U$15023<>\"\")*($V$25:$V$15023=V781),$U$25:$U$15023)))","v":""},"","","",null,"","","","","","","","","","","","","","","",null,null,"","","","","","","","","","","","","","","",null,"","","","","","","","","","","","","","",""]
[null,null,null,null,null,null,null,null,null,null,null,null,null,null,null,null,null,null,null,null,"","","",{"$f":"IF(U782=\"\",\"\",MEDIAN(IF(($U$25:$U$15023<>\"\")*($V$25:$V$15023=V782),$U$25:$U$15023)))","v":""},"","","",null,"","","","","","","","","","","","","","","",null,null,"","","","","","","","","","","","","","","",null,"","","","","","","","","","","","","","",""]
[null,null,null,null,null,null,null,null,null,null,null,null,null,null,null,null,null,null,null,null,"","","",{"$f":"IF(U783=\"\",\"\",MEDIAN(IF(($U$25:$U$15023<>\"\")*($V$25:$V$15023=V783),$U$25:$U$15023)))","v":""},"","","",null,"","","","","","","","","","","","","","","",null,null,"","","","","","","","","","","","","","","",null,"","","","","","","","","","","","","","",""]
[null,null,null,null,null,null,null,null,null,null,null,null,null,null,null,null,null,null,null,null,"","","",{"$f":"IF(U784=\"\",\"\",MEDIAN(IF(($U$25:$U$15023<>\"\")*($V$25:$V$15023=V784),$U$25:$U$15023)))","v":""},"","","",null,"","","","","","","","","","","","","","","",null,null,"","","","","","","","","","","","","","","",null,"","","","","","","","","","","","","","",""]
[null,null,null,null,null,null,null,null,null,null,null,null,null,null,null,null,null,null,null,null,"","","",{"$f":"IF(U785=\"\",\"\",MEDIAN(IF(($U$25:$U$15023<>\"\")*($V$25:$V$15023=V785),$U$25:$U$15023)))","v":""},"","","",null,"","","","","","","","","","","","","","","",null,null,"","","","","","","","","","","","","","","",null,"","","","","","","","","","","","","","",""]
[null,null,null,null,null,null,null,null,null,null,null,null,null,null,null,null,null,null,null,null,"","","",{"$f":"IF(U786=\"\",\"\",MEDIAN(IF(($U$25:$U$15023<>\"\")*($V$25:$V$15023=V786),$U$25:$U$15023)))","v":""},"","","",null,"","","","","","","","","","","","","","","",null,null,"","","","","","","","","","","","","","","",null,"","","","","","","","","","","","","","",""]
[null,null,null,null,null,null,null,null,null,null,null,null,null,null,null,null,null,null,null,null,"","","",{"$f":"IF(U787=\"\",\"\",MEDIAN(IF(($U$25:$U$15023<>\"\")*($V$25:$V$15023=V787),$U$25:$U$15023)))","v":""},"","","",null,"","","","","","","","","","","","","","","",null,null,"","","","","","","","","","","","","","","",null,"","","","","","","","","","","","","","",""]
[null,null,null,null,null,null,null,null,null,null,null,null,null,null,null,null,null,null,null,null,"","","",{"$f":"IF(U788=\"\",\"\",MEDIAN(IF(($U$25:$U$15023<>\"\")*($V$25:$V$15023=V788),$U$25:$U$15023)))","v":""},"","","",null,"","","","","","","","","","","","","","","",null,null,"","","","","","","","","","","","","","","",null,"","","","","","","","","","","","","","",""]
[null,null,null,null,null,null,null,null,null,null,null,null,null,null,null,null,null,null,null,null,"","","",{"$f":"IF(U789=\"\",\"\",MEDIAN(IF(($U$25:$U$15023<>\"\")*($V$25:$V$15023=V789),$U$25:$U$15023)))","v":""},"","","",null,"","","","","","","","","","","","","","","",null,null,"","","","","","","","","","","","","","","",null,"","","","","","","","","","","","","","",""]
[null,null,null,null,null,null,null,null,null,null,null,null,null,null,null,null,null,null,null,null,"","","",{"$f":"IF(U790=\"\",\"\",MEDIAN(IF(($U$25:$U$15023<>\"\")*($V$25:$V$15023=V790),$U$25:$U$15023)))","v":""},"","","",null,"","","","","","","","","","","","","","","",null,null,"","","","","","","","","","","","","","","",null,"","","","","","","","","","","","","","",""]
[null,null,null,null,null,null,null,null,null,null,null,null,null,null,null,null,null,null,null,null,"","","",{"$f":"IF(U791=\"\",\"\",MEDIAN(IF(($U$25:$U$15023<>\"\")*($V$25:$V$15023=V791),$U$25:$U$15023)))","v":""},"","","",null,"","","","","","","","","","","","","","","",null,null,"","","","","","","","","","","","","","","",null,"","","","","","","","","","","","","","",""]
[null,null,null,null,null,null,null,null,null,null,null,null,null,null,null,null,null,null,null,null,"","","",{"$f":"IF(U792=\"\",\"\",MEDIAN(IF(($U$25:$U$15023<>\"\")*($V$25:$V$15023=V792),$U$25:$U$15023)))","v":""},"","","",null,"","","","","","","","","","","","","","","",null,null,"","","","","","","","","","","","","","","",null,"","","","","","","","","","","","","","",""]
[null,null,null,null,null,null,null,null,null,null,null,null,null,null,null,null,null,null,null,null,"","","",{"$f":"IF(U793=\"\",\"\",MEDIAN(IF(($U$25:$U$15023<>\"\")*($V$25:$V$15023=V793),$U$25:$U$15023)))","v":""},"","","",null,"","","","","","","","","","","","","","","",null,null,"","","","","","","","","","","","","","","",null,"","","","","","","","","","","","","","",""]
[null,null,null,null,null,null,null,null,null,null,null,null,null,null,null,null,null,null,null,null,{"$f":"IF(A794=\"\",\"\",A794)","v":""},{"$f":"IF(B794=\"\",\"\",B794)","v":""},{"$f":"IF(U794=\"\",\"\",RANK(U794,$U$25:$U$15023,1)+(COUNT($U$25:$U$15023)+1-RANK(U794,$U$25:$U$15023,0)-RANK(U794,$U$25:$U$15023,1))/2)","v":""},{"$f":"IF(U794=\"\",\"\",MEDIAN(IF(($U$25:$U$15023<>\"\")*($V$25:$V$15023=V794),$U$25:$U$15023)))","v":""},{"$f":"IF(U794=\"\",\"\",ABS(X794-U794))","v":""},{"$f":"IF(V794=\"\",\"\",AVERAGEIF($V$25:$V$15023,V794,$Y$25:$Y$15023))","v":""},{"$f":"IF(V794=\"\",\"\",(Y794-Z794)^2)","v":""},null,"","","","","","","","","","","","","","","",null,null,{"$f":"IF(D794=\"\",\"\",ABS(D794-MEDIAN(D$25:D$1024)))","v":""},{"$f":"IF(E794=\"\",\"\",ABS(E794-MEDIAN(E$25:E$1024)))","v":""},{"$f":"IF(F794=\"\",\"\",ABS(F794-MEDIAN(F$25:F$1024)))","v":""},{"$f":"IF(G794=\"\",\"\",ABS(G794-MEDIAN(G$25:G$1024)))","v":""},{"$f":"IF(H794=\"\",\"\",ABS(H794-MEDIAN(H$25:H$1024)))","v":""},{"$f":"IF(I794=\"\",\"\",ABS(I794-MEDIAN(I$25:I$1024)))","v":""},{"$f":"IF(J794=\"\",\"\",ABS(J794-MEDIAN(J$25:J$1024)))","v":""},{"$f":"IF(K794=\"\",\"\",ABS(K794-MEDIAN(K$25:K$1024)))","v":""},{"$f":"IF(L794=\"\",\"\",ABS(L794-MEDIAN(L$25:L$1024)))","v":""},{"$f":"IF(M794=\"\",\"\",ABS(M794-MEDIAN(M$25:M$1024)))","v":""},{"$f":"IF(N794=\"\",\"\",ABS(N794-MEDIAN(N$25:N$1024)))","v":""},{"$f":"IF(O794=\"\",\"\",ABS(O794-MEDIAN(O$25:O$1024)))","v":""},{"$f":"IF(P794=\"\",\"\",ABS(P794-MEDIAN(P$25:P$1024)))","v":""},{"$f":"IF(Q794=\"\",\"\",ABS(Q794-MEDIAN(Q$25:Q$1024)))","v":""},{"$f":"IF(R794=\"\",\"\",ABS(R794-MEDIAN(R$25:R$1024)))","v":""},null,{"$f":"IF(AT794=\"\",\"\",(AT794-AT$22)^2)","v":""},{"$f":"IF(AU794=\"\",\"\",(AU794-AU$22)^2)","v":""},{"$f":"IF(AV794=\"\",\"\",(AV794-AV$22)^2)","v":""},{"$f":"IF(AW794=\"\",\"\",(AW794-AW$22)^2)","v":""},{"$f":"IF(AX794=\"\",\"\",(AX794-AX$22)^2)","v":""},{"$f":"IF(AY794=\"\",\"\",(AY794-AY$22)^2)","v":""},{"$f":"IF(AZ794=\"\",\"\",(AZ794-AZ$22)^2)","v":""},{"$f":"IF(BA794=\"\",\"\",(BA794-BA$22)^2)","v":""},{"$f":"IF(BB794=\"\",\"\",(BB794-BB$22)^2)","v":""},{"$f":"IF(BC794=\"\",\"\",(BC794-BC$22)^2)","v":""},{"$f":"IF(BD794=\"\",\"\",(BD794-BD$22)^2)","v":""},{"$f":"IF(BE794=\"\",\"\",(BE794-BE$22)^2)","v":""},{"$f":"IF(BF794=\"\",\"\",(BF794-BF$22)^2)","v":""},{"$f":"IF(BG794=\"\",\"\",(BG794-BG$22)^2)","v":""},{"$f":"IF(BH794=\"\",\"\",(BH794-BH$22)^2)","v":""}]
[null,null,null,null,null,null,null,null,null,null,null,null,null,null,null,null,null,null,null,null,"","","",{"$f":"IF(U795=\"\",\"\",MEDIAN(IF(($U$25:$U$15023<>\"\")*($V$25:$V$15023=V795),$U$25:$U$15023)))","v":""},"","","",null,"","","","","","","","","","","","","","","",null,null,"","","","","","","","","","","","","","","",null,"","","","","","","","","","","","","","",""]
[null,null,null,null,null,null,null,null,null,null,null,null,null,null,null,null,null,null,null,null,"","","",{"$f":"IF(U796=\"\",\"\",MEDIAN(IF(($U$25:$U$15023<>\"\")*($V$25:$V$15023=V796),$U$25:$U$15023)))","v":""},"","","",null,"","","","","","","","","","","","","","","",null,null,"","","","","","","","","","","","","","","",null,"","","","","","","","","","","","","","",""]
[null,null,null,null,null,null,null,null,null,null,null,null,null,null,null,null,null,null,null,null,"","","",{"$f":"IF(U797=\"\",\"\",MEDIAN(IF(($U$25:$U$15023<>\"\")*($V$25:$V$15023=V797),$U$25:$U$15023)))","v":""},"","","",null,"","","","","","","","","","","","","","","",null,null,"","","","","","","","","","","","","","","",null,"","","","","","","","","","","","","","",""]
[null,null,null,null,null,null,null,null,null,null,null,null,null,null,null,null,null,null,null,null,"","","",{"$f":"IF(U798=\"\",\"\",MEDIAN(IF(($U$25:$U$15023<>\"\")*($V$25:$V$15023=V798),$U$25:$U$15023)))","v":""},"","","",null,"","","","","","","","","","","","","","","",null,null,"","","","","","","","","","","","","","","",null,"","","","","","","","","","","","","","",""]
[null,null,null,null,null,null,null,null,null,null,null,null,null,null,null,null,null,null,null,null,"","","",{"$f":"IF(U799=\"\",\"\",MEDIAN(IF(($U$25:$U$15023<>\"\")*($V$25:$V$15023=V799),$U$25:$U$15023)))","v":""},"","","",null,"","","","","","","","","","","","","","","",null,null,"","","","","","","","","","","","","","","",null,"","","","","","","","","","","","","","",""]
[null,null,null,null,null,null,null,null,null,null,null,null,null,null,null,null,null,null,null,null,"","","",{"$f":"IF(U800=\"\",\"\",MEDIAN(IF(($U$25:$U$15023<>\"\")*($V$25:$V$15023=V800),$U$25:$U$15023)))","v":""},"","","",null,"","","","","","","","","","","","","","","",null,null,"","","","","","","","","","","","","","","",null,"","","","","","","","","","","","","","",""]
[null,null,null,null,null,null,null,null,null,null,null,null,null,null,null,null,null,null,null,null,"","","",{"$f":"IF(U801=\"\",\"\",MEDIAN(IF(($U$25:$U$15023<>\"\")*($V$25:$V$15023=V801),$U$25:$U$15023)))","v":""},"","","",null,{"$f":"IF(D801=\"\",\"\",RANK(D801,$D$25:$R$1024,1)+(COUNT($D$25:$R$1024)+1-RANK(D801,$D$25:$R$1024,0)-RANK(D801,$D$25:$R$1024,1))/2)","v":""},{"$f":"IF(E801=\"\",\"\",RANK(E801,$D$25:$R$1024,1)+(COUNT($D$25:$R$1024)+1-RANK(E801,$D$25:$R$1024,0)-RANK(E801,$D$25:$R$1024,1))/2)","v":""},{"$f":"IF(F801=\"\",\"\",RANK(F801,$D$25:$R$1024,1)+(COUNT($D$25:$R$1024)+1-RANK(F801,$D$25:$R$1024,0)-RANK(F801,$D$25:$R$1024,1))/2)","v":""},{"$f":"IF(G801=\"\",\"\",RANK(G801,$D$25:$R$1024,1)+(COUNT($D$25:$R$1024)+1-RANK(G801,$D$25:$R$1024,0)-RANK(G801,$D$25:$R$1024,1))/2)","v":""},{"$f":"IF(H801=\"\",\"\",RANK(H801,$D$25:$R$1024,1)+(COUNT($D$25:$R$1024)+1-RANK(H801,$D$25:$R$1024,0)-RANK(H801,$D$25:$R$1024,1))/2)","v":""},{"$f":"IF(I801=\"\",\"\",RANK(I801,$D$25:$R$1024,1)+(COUNT($D$25:$R$1024)+1-RANK(I801,$D$25:$R$1024,0)-RANK(I801,$D$25:$R$1024,1))/2)","v":""},{"$f":"IF(J801=\"\",\"\",RANK(J801,$D$25:$R$1024,1)+(COUNT($D$25:$R$1024)+1-RANK(J801,$D$25:$R$1024,0)-RANK(J801,$D$25:$R$1024,1))/2)","v":""},{"$f":"IF(K801=\"\",\"\",RANK(K801,$D$25:$R$1024,1)+(COUNT($D$25:$R$1024)+1-RANK(K801,$D$25:$R$1024,0)-RANK(K801,$D$25:$R$1024,1))/2)","v":""},{"$f":"IF(L801=\"\",\"\",RANK(L801,$D$25:$R$1024,1)+(COUNT($D$25:$R$1024)+1-RANK(L801,$D$25:$R$1024,0)-RANK(L801,$D$25:$R$1024,1))/2)","v":""},{"$f":"IF(M801=\"\",\"\",RANK(M801,$D$25:$R$1024,1)+(COUNT($D$25:$R$1024)+1-RANK(M801,$D$25:$R$1024,0)-RANK(M801,$D$25:$R$1024,1))/2)","v":""},{"$f":"IF(N801=\"\",\"\",RANK(N801,$D$25:$R$1024,1)+(COUNT($D$25:$R$1024)+1-RANK(N801,$D$25:$R$1024,0)-RANK(N801,$D$25:$R$1024,1))/2)","v":""},{"$f":"IF(O801=\"\",\"\",RANK(O801,$D$25:$R$1024,1)+(COUNT($D$25:$R$1024)+1-RANK(O801,$D$25:$R$1024,0)-RANK(O801,$D$25:$R$1024,1))/2)","v":""},{"$f":"IF(P801=\"\",\"\",RANK(P801,$D$25:$R$1024,1)+(COUNT($D$25:$R$1024)+1-RANK(P801,$D$25:$R$1024,0)-RANK(P801,$D$25:$R$1024,1))/2)","v":""},{"$f":"IF(Q801=\"\",\"\",RANK(Q801,$D$25:$R$1024,1)+(COUNT($D$25:$R$1024)+1-RANK(Q801,$D$25:$R$1024,0)-RANK(Q801,$D$25:$R$1024,1))/2)","v":""},{"$f":"IF(R801=\"\",\"\",RANK(R801,$D$25:$R$1024,1)+(COUNT($D$25:$R$1024)+1-RANK(R801,$D$25:$R$1024,0)-RANK(R801,$D$25:$R$1024,1))/2)","v":""},null,null,"","","","","","","","","","","","","","","",null,"","","","","","","","","","","","","","",""]
[null,null,null,null,null,null,null,null,null,null,null,null,null,null,null,null,null,null,null,null,"","","",{"$f":"IF(U802=\"\",\"\",MEDIAN(IF(($U$25:$U$15023<>\"\")*($V$25:$V$15023=V802),$U$25:$U$15023)))","v":""},"","","",null,"","","","","","","","","","","","","","","",null,null,"","","","","","","","","","","","","","","",null,"","","","","","","","","","","","","","",""]
[null,null,null,null,null,null,null,null,null,null,null,null,null,null,null,null,null,null,null,null,"","","",{"$f":"IF(U803=\"\",\"\",MEDIAN(IF(($U$25:$U$15023<>\"\")*($V$25:$V$15023=V803),$U$25:$U$15023)))","v":""},"","","",null,"","","","","","","","","","","","","","","",null,null,"","","","","","","","","","","","","","","",null,"","","","","","","","","","","","","","",""]
[null,null,null,null,null,null,null,null,null,null,null,null,null,null,null,null,null,null,null,null,"","","",{"$f":"IF(U804=\"\",\"\",MEDIAN(IF(($U$25:$U$15023<>\"\")*($V$25:$V$15023=V804),$U$25:$U$15023)))","v":""},"","","",null,"","","","","","","","","","","","","","","",null,null,"","","","","","","","","","","","","","","",null,"","","","","","","","","","","","","","",""]
[null,null,null,null,null,null,null,null,null,null,null,null,null,null,null,null,null,null,null,null,"","","",{"$f":"IF(U805=\"\",\"\",MEDIAN(IF(($U$25:$U$15023<>\"\")*($V$25:$V$15023=V805),$U$25:$U$15023)))","v":""},"","","",null,"","","","","","","","","","","","","","","",null,null,"","","","","","","","","","","","","","","",null,"","","","","","","","","","","","","","",""]
[null,null,null,null,null,null,null,null,null,null,null,null,null,null,null,null,null,null,null,null,"","","",{"$f":"IF(U806=\"\",\"\",MEDIAN(IF(($U$25:$U$15023<>\"\")*($V$25:$V$15023=V806),$U$25:$U$15023)))","v":""},"","","",null,"","","","","","","","","","","","","","","",null,null,"","","","","","","","","","","","","","","",null,"","","","","","","","","","","","","","",""]
[null,null,null,null,null,null,null,null,null,null,null,null,null,null,null,null,null,null,null,null,"","","",{"$f":"IF(U807=\"\",\"\",MEDIAN(IF(($U$25:$U$15023<>\"\")*($V$25:$V$15023=V807),$U$25:$U$15023)))","v":""},"","","",null,"","","","","","","","","","","","","","","",null,null,"","","","","","","","","","","","","","","",null,"","","","","","","","","","","","","","",""]
[null,null,null,null,null,null,null,null,null,null,null,null,null,null,null,null,null,null,null,null,"","","",{"$f":"IF(U808=\"\",\"\",MEDIAN(IF(($U$25:$U$15023<>\"\")*($V$25:$V$15023=V808),$U$25:$U$15023)))","v":""},"","","",null,"","","","","","","","","","","","","","","",null,null,"","","","","","","","","","","","","","","",null,"","","","","","","","","","","","","","",""]
[null,null,null,null,null,null,null,null,null,null,null,null,null,null,null,null,null,null,null,null,"","","",{"$f":"IF(U809=\"\",\"\",MEDIAN(IF(($U$25:$U$15023<>\"\")*($V$25:$V$15023=V809),$U$25:$U$15023)))","v":""},"","","",null,"","","","","","","","","","","","","","","",null,null,"","","","","","","","","","","","","","","",null,"","","","","","","","","","","","","","",""]
[null,null,null,null,null,null,null,null,null,null,null,null,null,null,null,null,null,null,null,null,"","","",{"$f":"IF(U810=\"\",\"\",MEDIAN(IF(($U$25:$U$15023<>\"\")*($V$25:$V$15023=V810),$U$25:$U$15023)))","v":""},"","","",null,"","","","","","","","","","","","","","","",null,null,"","","","","","","","","","","","","","","",null,"","","","","","","","","","","","","","",""]
[null,null,null,null,null,null,null,null,null,null,null,null,null,null,null,null,null,null,null,null,"","","",{"$f":"IF(U811=\"\",\"\",MEDIAN(IF(($U$25:$U$15023<>\"\")*($V$25:$V$15023=V811),$U$25:$U$15023)))","v":""},"","","",null,"","","","","","","","","","","","","","","",null,null,"","","","","","","","","","","","","","","",null,"","","","","","","","","","","","","","",""]
[null,null,null,null,null,null,null,null,null,null,null,null,null,null,null,null,null,null,null,null,"","","",{"$f":"IF(U812=\"\",\"\",MEDIAN(IF(($U$25:$U$15023<>\"\")*($V$25:$V$15023=V812),$U$25:$U$15023)))","v":""},"","","",null,"","","","","","","","","","","","","","","",null,null,"","","","","","","","","","","","","","","",null,"","","","","","","","","","","","","","",""]
[null,null,null,null,null,null,null,null,null,null,null,null,null,null,null,null,null,null,null,null,"","","",{"$f":"IF(U813=\"\",\"\",MEDIAN(IF(($U$25:$U$15023<>\"\")*($V$25:$V$15023=V813),$U$25:$U$15023)))","v":""},"","","",null,"","","","","","","","","","","","","","","",null,null,"","","","","","","","","","","","","","","",null,"","","","","","","","","","","","","","",""]
[null,null,null,null,null,null,null,null,null,null,null,null,null,null,null,null,null,null,null,null,"","","",{"$f":"IF(U814=\"\",\"\",MEDIAN(IF(($U$25:$U$15023<>\"\")*($V$25:$V$15023=V814),$U$25:$U$15023)))","v":""},"","","",null,"","","","","","","","","","","","","","","",null,null,"","","","","","","","","","","","","","","",null,"","","","","","","","","","","","","","",""]
[null,null,null,null,null,null,null,null,null,null,null,null,null,null,null,null,null,null,null,null,"","","",{"$f":"IF(U815=\"\",\"\",MEDIAN(IF(($U$25:$U$15023<>\"\")*($V$25:$V$15023=V815),$U$25:$U$15023)))","v":""},"","","",null,"","","","","","","","","","","","","","","",null,null,"","","","","","","","","","","","","","","",null,"","","","","","","","","","","","","","",""]
[null,null,null,null,null,null,null,null,null,null,null,null,null,null,null,null,null,null,null,null,"","","",{"$f":"IF(U816=\"\",\"\",MEDIAN(IF(($U$25:$U$15023<>\"\")*($V$25:$V$15023=V816),$U$25:$U$15023)))","v":""},"","","",null,"","","","","","","","","","","","","","","",null,null,"","","","","","","","","","","","","","","",null,"","","","","","","","","","","","","","",""]
[null,null,null,null,null,null,null,null,null,null,null,null,null,null,null,null,null,null,null,null,"","","",{"$f":"IF(U817=\"\",\"\",MEDIAN(IF(($U$25:$U$15023<>\"\")*($V$25:$V$15023=V817),$U$25:$U$15023)))","v":""},"","","",null,"","","","","","","","","","","","","","","",null,null,"","","","","","","","","","","","","","","",null,"","","","","","","","","","","","","","",""]
[null,null,null,null,null,null,null,null,null,null,null,null,null,null,null,null,null,null,null,null,"","","",{"$f":"IF(U818=\"\",\"\",MEDIAN(IF(($U$25:$U$15023<>\"\")*($V$25:$V$15023=V818),$U$25:$U$15023)))","v":""},"","","",null,"","","","","","","","","","","","","","","",null,null,"","","","","","","","","","","","","","","",null,"","","","","","","","","","","","","","",""]
[null,null,null,null,null,null,null,null,null,null,null,null,null,null,null,null,null,null,null,null,"","","",{"$f":"IF(U819=\"\",\"\",MEDIAN(IF(($U$25:$U$15023<>\"\")*($V$25:$V$15023=V819),$U$25:$U$15023)))","v":""},"","","",null,"","","","","","","","","","","","","","","",null,null,"","","","","","","","","","","","","","","",null,"","","","","","","","","","","","","","",""]
[null,null,null,null,null,null,null,null,null,null,null,null,null,null,null,null,null,null,null,null,"","","",{"$f":"IF(U820=\"\",\"\",MEDIAN(IF(($U$25:$U$15023<>\"\")*($V$25:$V$15023=V820),$U$25:$U$15023)))","v":""},"","","",null,"","","","","","","","","","","","","","","",null,null,"","","","","","","","","","","","","","","",null,"","","","","","","","","","","","","","",""]
[null,null,null,null,null,null,null,null,null,null,null,null,null,null,null,null,null,null,null,null,"","","",{"$f":"IF(U821=\"\",\"\",MEDIAN(IF(($U$25:$U$15023<>\"\")*($V$25:$V$15023=V821),$U$25:$U$15023)))","v":""},"","","",null,"","","","","","","","","","","","","","","",null,null,"","","","","","","","","","","","","","","",null,"","","","","","","","","","","","","","",""]
[null,null,null,null,null,null,null,null,null,null,null,null,null,null,null,null,null,null,null,null,"","","",{"$f":"IF(U822=\"\",\"\",MEDIAN(IF(($U$25:$U$15023<>\"\")*($V$25:$V$15023=V822),$U$25:$U$15023)))","v":""},"","","",null,"","","","","","","","","","","","","","","",null,null,"","","","","","","","","","","","","","","",null,"","","","","","","","","","","","","","",""]
[null,null,null,null,null,null,null,null,null,null,null,null,null,null,null,null,null,null,null,null,"","","",{"$f":"IF(U823=\"\",\"\",MEDIAN(IF(($U$25:$U$15023<>\"\")*($V$25:$V$15023=V823),$U$25:$U$15023)))","v":""},"","","",null,"","","","","","","","","","","","","","","",null,null,"","","","","","","","","","","","","","","",null,"","","","","","","","","","","","","","",""]
[null,null,null,null,null,null,null,null,null,null,null,null,null,null,null,null,null,null,null,null,"","","",{"$f":"IF(U824=\"\",\"\",MEDIAN(IF(($U$25:$U$15023<>\"\")*($V$25:$V$15023=V824),$U$25:$U$15023)))","v":""},"","","",null,"","","","","","","","","","","","","","","",null,null,"","","","","","","","","","","","","","","",null,"","","","","","","","","","","","","","",""]
[null,null,null,null,null,null,null,null,null,null,null,null,null,null,null,null,null,null,null,null,"","","",{"$f":"IF(U825=\"\",\"\",MEDIAN(IF(($U$25:$U$15023<>\"\")*($V$25:$V$15023=V825),$U$25:$U$15023)))","v":""},"","","",null,"","","","","","","","","","","","","","","",null,null,"","","","","","","","","","","","","","","",null,"","","","","","","","","","","","","","",""]
[null,null,null,null,null,null,null,null,null,null,null,null,null,null,null,null,null,null,null,null,"","","",{"$f":"IF(U826=\"\",\"\",MEDIAN(IF(($U$25:$U$15023<>\"\")*($V$25:$V$15023=V826),$U$25:$U$15023)))","v":""},"","","",null,"","","","","","","","","","","","","","","",null,null,"","","","","","","","","","","","","","","",null,"","","","","","","","","","","","","","",""]
[null,null,null,null,null,null,null,null,null,null,null,null,null,null,null,null,null,null,null,null,"","","",{"$f":"IF(U827=\"\",\"\",MEDIAN(IF(($U$25:$U$15023<>\"\")*($V$25:$V$15023=V827),$U$25:$U$15023)))","v":""},"","","",null,"","","","","","","","","","","","","","","",null,null,"","","","","","","","","","","","","","","",null,"","","","","","","","","","","","","","",""]
[null,null,null,null,null,null,null,null,null,null,null,null,null,null,null,null,null,null,null,null,"","","",{"$f":"IF(U828=\"\",\"\",MEDIAN(IF(($U$25:$U$15023<>\"\")*($V$25:$V$15023=V828),$U$25:$U$15023)))","v":""},"","","",null,"","","","","","","","","","","","","","","",null,null,"","","","","","","","","","","","","","","",null,"","","","","","","","","","","","","","",""]
[null,null,null,null,null,null,null,null,null,null,null,null,null,null,null,null,null,null,null,null,"","","",{"$f":"IF(U829=\"\",\"\",MEDIAN(IF(($U$25:$U$15023<>\"\")*($V$25:$V$15023=V829),$U$25:$U$15023)))","v":""},"","","",null,"","","","","","","","","","","","","","","",null,null,"","","","","","","","","","","","","","","",null,"","","","","","","","","","","","","","",""]
[null,null,null,null,null,null,null,null,null,null,null,null,null,null,null,null,null,null,null,null,"","","",{"$f":"IF(U830=\"\",\"\",MEDIAN(IF(($U$25:$U$15023<>\"\")*($V$25:$V$15023=V830),$U$25:$U$15023)))","v":""},"","","",null,"","","","","","","","","","","","","","","",null,null,"","","","","","","","","","","","","","","",null,"","","","","","","","","","","","","","",""]
[null,null,null,null,null,null,null,null,null,null,null,null,null,null,null,null,null,null,null,null,"","","",{"$f":"IF(U831=\"\",\"\",MEDIAN(IF(($U$25:$U$15023<>\"\")*($V$25:$V$15023=V831),$U$25:$U$15023)))","v":""},"","","",null,"","","","","","","","","","","","","","","",null,null,"","","","","","","","","","","","","","","",null,"","","","","","","","","","","","","","",""]
[null,null,null,null,null,null,null,null,null,null,null,null,null,null,null,null,null,null,null,null,"","","",{"$f":"IF(U832=\"\",\"\",MEDIAN(IF(($U$25:$U$15023<>\"\")*($V$25:$V$15023=V832),$U$25:$U$15023)))","v":""},"","","",null,"","","","","","","","","","","","","","","",null,null,"","","","","","","","","","","","","","","",null,"","","","","","","","","","","","","","",""]
[null,null,null,null,null,null,null,null,null,null,null,null,null,null,null,null,null,null,null,null,"","","",{"$f":"IF(U833=\"\",\"\",MEDIAN(IF(($U$25:$U$15023<>\"\")*($V$25:$V$15023=V833),$U$25:$U$15023)))","v":""},"","","",null,"","","","","","","","","","","","","","","",null,null,"","","","","","","","","","","","","","","",null,"","","","","","","","","","","","","","",""]
[null,null,null,null,null,null,null,null,null,null,null,null,null,null,null,null,null,null,null,null,"","","",{"$f":"IF(U834=\"\",\"\",MEDIAN(IF(($U$25:$U$15023<>\"\")*($V$25:$V$15023=V834),$U$25:$U$15023)))","v":""},"","","",null,"","","","","","","","","","","","","","","",null,null,"","","","","","","","","","","","","","","",null,"","","","","","","","","","","","","","",""]
[null,null,null,null,null,null,null,null,null,null,null,null,null,null,null,null,null,null,null,null,"","","",{"$f":"IF(U835=\"\",\"\",MEDIAN(IF(($U$25:$U$15023<>\"\")*($V$25:$V$15023=V835),$U$25:$U$15023)))","v":""},"","","",null,"","","","","","","","","","","","","","","",null,null,"","","","","","","","","","","","","","","",null,"","","","","","","","","","","","","","",""]
[null,null,null,null,null,null,null,null,null,null,null,null,null,null,null,null,null,null,null,null,"","","",{"$f":"IF(U836=\"\",\"\",MEDIAN(IF(($U$25:$U$15023<>\"\")*($V$25:$V$15023=V836),$U$25:$U$15023)))","v":""},"","","",null,"","","","","","","","","","","","","","","",null,null,"","","","","","","","","","","","","","","",null,"","","","","","","","","","","","","","",""]
[null,null,null,null,null,null,null,null,null,null,null,null,null,null,null,null,null,null,null,null,"","","",{"$f":"IF(U837=\"\",\"\",MEDIAN(IF(($U$25:$U$15023<>\"\")*($V$25:$V$15023=V837),$U$25:$U$15023)))","v":""},"","","",null,"","","","","","","","","","","","","","","",null,null,"","","","","","","","","","","","","","","",null,"","","","","","","","","","","","","","",""]
[null,null,null,null,null,null,null,null,null,null,null,null,null,null,null,null,null,null,null,null,"","","",{"$f":"IF(U838=\"\",\"\",MEDIAN(IF(($U$25:$U$15023<>\"\")*($V$25:$V$15023=V838),$U$25:$U$15023)))","v":""},"","","",null,"","","","","","","","","","","","","","","",null,null,"","","","","","","","","","","","","","","",null,"","","","","","","","","","","","","","",""]
[null,null,null,null,null,null,null,null,null,null,null,null,null,null,null,null,null,null,null,null,"","","",{"$f":"IF(U839=\"\",\"\",MEDIAN(IF(($U$25:$U$15023<>\"\")*($V$25:$V$15023=V839),$U$25:$U$15023)))","v":""},"","","",null,"","","","","","","","","","","","","","","",null,null,"","","","","","","","","","","","","","","",null,"","","","","","","","","","","","","","",""]
[null,null,null,null,null,null,null,null,null,null,null,null,null,null,null,null,null,null,null,null,"","","",{"$f":"IF(U840=\"\",\"\",MEDIAN(IF(($U$25:$U$15023<>\"\")*($V$25:$V$15023=V840),$U$25:$U$15023)))","v":""},"","","",null,"","","","","","","","","","","","","","","",null,null,"","","","","","","","","","","","","","","",null,"","","","","","","","","","","","","","",""]
[null,null,null,null,null,null,null,null,null,null,null,null,null,null,null,null,null,null,null,null,"","","",{"$f":"IF(U841=\"\",\"\",MEDIAN(IF(($U$25:$U$15023<>\"\")*($V$25:$V$15023=V841),$U$25:$U$15023)))","v":""},"","","",null,"","","","","","","","","","","","","","","",null,null,"","","","","","","","","","","","","","","",null,"","","","","","","","","","","","","","",""]
[null,null,null,null,null,null,null,null,null,null,null,null,null,null,null,null,null,null,null,null,"","","",{"$f":"IF(U842=\"\",\"\",MEDIAN(IF(($U$25:$U$15023<>\"\")*($V$25:$V$15023=V842),$U$25:$U$15023)))","v":""},"","","",null,"","","","","","","","","","","","","","","",null,null,"","","","","","","","","","","","","","","",null,"","","","","","","","","","","","","","",""]
[null,null,null,null,null,null,null,null,null,null,null,null,null,null,null,null,null,null,null,null,"","","",{"$f":"IF(U843=\"\",\"\",MEDIAN(IF(($U$25:$U$15023<>\"\")*($V$25:$V$15023=V843),$U$25:$U$15023)))","v":""},"","","",null,"","","","","","","","","","","","","","","",null,null,"","","","","","","","","","","","","","","",null,"","","","","","","","","","","","","","",""]
[null,null,null,null,null,null,null,null,null,null,null,null,null,null,null,null,null,null,null,null,"","","",{"$f":"IF(U844=\"\",\"\",MEDIAN(IF(($U$25:$U$15023<>\"\")*($V$25:$V$15023=V844),$U$25:$U$15023)))","v":""},"","","",null,"","","","","","","","","","","","","","","",null,null,"","","","","","","","","","","","","","","",null,"","","","","","","","","","","","","","",""]
[null,null,null,null,null,null,null,null,null,null,null,null,null,null,null,null,null,null,null,null,"","","",{"$f":"IF(U845=\"\",\"\",MEDIAN(IF(($U$25:$U$15023<>\"\")*($V$25:$V$15023=V845),$U$25:$U$15023)))","v":""},"","","",null,"","","","","","","","","","","","","","","",null,null,"","","","","","","","","","","","","","","",null,"","","","","","","","","","","","","","",""]
[null,null,null,null,null,null,null,null,null,null,null,null,null,null,null,null,null,null,null,null,"","","",{"$f":"IF(U846=\"\",\"\",MEDIAN(IF(($U$25:$U$15023<>\"\")*($V$25:$V$15023=V846),$U$25:$U$15023)))","v":""},"","","",null,"","","","","","","","","","","","","","","",null,null,"","","","","","","","","","","","","","","",null,"","","","","","","","","","","","","","",""]
[null,null,null,null,null,null,null,null,null,null,null,null,null,null,null,null,null,null,null,null,"","","",{"$f":"IF(U847=\"\",\"\",MEDIAN(IF(($U$25:$U$15023<>\"\")*($V$25:$V$15023=V847),$U$25:$U$15023)))","v":""},"","","",null,"","","","","","","","","","","","","","","",null,null,"","","","","","","","","","","","","","","",null,"","","","","","","","","","","","","","",""]
[null,null,null,null,null,null,null,null,null,null,null,null,null,null,null,null,null,null,null,null,"","","",{"$f":"IF(U848=\"\",\"\",MEDIAN(IF(($U$25:$U$15023<>\"\")*($V$25:$V$15023=V848),$U$25:$U$15023)))","v":""},"","","",null,"","","","","","","","","","","","","","","",null,null,"","","","","","","","","","","","","","","",null,"","","","","","","","","","","","","","",""]
[null,null,null,null,null,null,null,null,null,null,null,null,null,null,null,null,null,null,null,null,"","","",{"$f":"IF(U849=\"\",\"\",MEDIAN(IF(($U$25:$U$15023<>\"\")*($V$25:$V$15023=V849),$U$25:$U$15023)))","v":""},"","","",null,"","","","","","","","","","","","","","","",null,null,"","","","","","","","","","","","","","","",null,"","","","","","","","","","","","","","",""]
[null,null,null,null,null,null,null,null,null,null,null,null,null,null,null,null,null,null,null,null,"","","",{"$f":"IF(U850=\"\",\"\",MEDIAN(IF(($U$25:$U$15023<>\"\")*($V$25:$V$15023=V850),$U$25:$U$15023)))","v":""},"","","",null,"","","","","","","","","","","","","","","",null,null,"","","","","","","","","","","","","","","",null,"","","","","","","","","","","","","","",""]
[null,null,null,null,null,null,null,null,null,null,null,null,null,null,null,null,null,null,null,null,"","","",{"$f":"IF(U851=\"\",\"\",MEDIAN(IF(($U$25:$U$15023<>\"\")*($V$25:$V$15023=V851),$U$25:$U$15023)))","v":""},"","","",null,"","","","","","","","","","","","","","","",null,null,"","","","","","","","","","","","","","","",null,"","","","","","","","","","","","","","",""]
[null,null,null,null,null,null,null,null,null,null,null,null,null,null,null,null,null,null,null,null,"","","",{"$f":"IF(U852=\"\",\"\",MEDIAN(IF(($U$25:$U$15023<>\"\")*($V$25:$V$15023=V852),$U$25:$U$15023)))","v":""},"","","",null,"","","","","","","","","","","","","","","",null,null,"","","","","","","","","","","","","","","",null,"","","","","","","","","","","","","","",""]
[null,null,null,null,null,null,null,null,null,null,null,null,null,null,null,null,null,null,null,null,"","","",{"$f":"IF(U853=\"\",\"\",MEDIAN(IF(($U$25:$U$15023<>\"\")*($V$25:$V$15023=V853),$U$25:$U$15023)))","v":""},"","","",null,"","","","","","","","","","","","","","","",null,null,"","","","","","","","","","","","","","","",null,"","","","","","","","","","","","","","",""]
[null,null,null,null,null,null,null,null,null,null,null,null,null,null,null,null,null,null,null,null,"","","",{"$f":"IF(U854=\"\",\"\",MEDIAN(IF(($U$25:$U$15023<>\"\")*($V$25:$V$15023=V854),$U$25:$U$15023)))","v":""},"","","",null,"","","","","","","","","","","","","","","",null,null,"","","","","","","","","","","","","","","",null,"","","","","","","","","","","","","","",""]
[null,null,null,null,null,null,null,null,null,null,null,null,null,null,null,null,null,null,null,null,"","","",{"$f":"IF(U855=\"\",\"\",MEDIAN(IF(($U$25:$U$15023<>\"\")*($V$25:$V$15023=V855),$U$25:$U$15023)))","v":""},"","","",null,"","","","","","","","","","","","","","","",null,null,"","","","","","","","","","","","","","","",null,"","","","","","","","","","","","","","",""]
[null,null,null,null,null,null,null,null,null,null,null,null,null,null,null,null,null,null,null,null,"","","",{"$f":"IF(U856=\"\",\"\",MEDIAN(IF(($U$25:$U$15023<>\"\")*($V$25:$V$15023=V856),$U$25:$U$15023)))","v":""},"","","",null,"","","","","","","","","","","","","","","",null,null,"","","","","","","","","","","","","","","",null,"","","","","","","","","","","","","","",""]
[null,null,null,null,null,null,null,null,null,null,null,null,null,null,null,null,null,null,null,null,"","","",{"$f":"IF(U857=\"\",\"\",MEDIAN(IF(($U$25:$U$15023<>\"\")*($V$25:$V$15023=V857),$U$25:$U$15023)))","v":""},"","","",null,"","","","","","","","","","","","","","","",null,null,"","","","","","","","","","","","","","","",null,"","","","","","","","","","","","","","",""]
[null,null,null,null,null,null,null,null,null,null,null,null,null,null,null,null,null,null,null,null,{"$f":"IF(A858=\"\",\"\",A858)","v":""},{"$f":"IF(B858=\"\",\"\",B858)","v":""},{"$f":"IF(U858=\"\",\"\",RANK(U858,$U$25:$U$15023,1)+(COUNT($U$25:$U$15023)+1-RANK(U858,$U$25:$U$15023,0)-RANK(U858,$U$25:$U$15023,1))/2)","v":""},{"$f":"IF(U858=\"\",\"\",MEDIAN(IF(($U$25:$U$15023<>\"\")*($V$25:$V$15023=V858),$U$25:$U$15023)))","v":""},{"$f":"IF(U858=\"\",\"\",ABS(X858-U858))","v":""},{"$f":"IF(V858=\"\",\"\",AVERAGEIF($V$25:$V$15023,V858,$Y$25:$Y$15023))","v":""},{"$f":"IF(V858=\"\",\"\",(Y858-Z858)^2)","v":""},null,"","","","","","","","","","","","","","","",null,null,{"$f":"IF(D858=\"\",\"\",ABS(D858-MEDIAN(D$25:D$1024)))","v":""},{"$f":"IF(E858=\"\",\"\",ABS(E858-MEDIAN(E$25:E$1024)))","v":""},{"$f":"IF(F858=\"\",\"\",ABS(F858-MEDIAN(F$25:F$1024)))","v":""},{"$f":"IF(G858=\"\",\"\",ABS(G858-MEDIAN(G$25:G$1024)))","v":""},{"$f":"IF(H858=\"\",\"\",ABS(H858-MEDIAN(H$25:H$1024)))","v":""},{"$f":"IF(I858=\"\",\"\",ABS(I858-MEDIAN(I$25:I$1024)))","v":""},{"$f":"IF(J858=\"\",\"\",ABS(J858-MEDIAN(J$25:J$1024)))","v":""},{"$f":"IF(K858=\"\",\"\",ABS(K858-MEDIAN(K$25:K$1024)))","v":""},{"$f":"IF(L858=\"\",\"\",ABS(L858-MEDIAN(L$25:L$1024)))","v":""},{"$f":"IF(M858=\"\",\"\",ABS(M858-MEDIAN(M$25:M$1024)))","v":""},{"$f":"IF(N858=\"\",\"\",ABS(N858-MEDIAN(N$25:N$1024)))","v":""},{"$f":"IF(O858=\"\",\"\",ABS(O858-MEDIAN(O$25:O$1024)))","v":""},{"$f":"IF(P858=\"\",\"\",ABS(P858-MEDIAN(P$25:P$1024)))","v":""},{"$f":"IF(Q858=\"\",\"\",ABS(Q858-MEDIAN(Q$25:Q$1024)))","v":""},{"$f":"IF(R858=\"\",\"\",ABS(R858-MEDIAN(R$25:R$1024)))","v":""},null,{"$f":"IF(AT858=\"\",\"\",(AT858-AT$22)^2)","v":""},{"$f":"IF(AU858=\"\",\"\",(AU858-AU$22)^2)","v":""},{"$f":"IF(AV858=\"\",\"\",(AV858-AV$22)^2)","v":""},{"$f":"IF(AW858=\"\",\"\",(AW858-AW$22)^2)","v":""},{"$f":"IF(AX858=\"\",\"\",(AX858-AX$22)^2)","v":""},{"$f":"IF(AY858=\"\",\"\",(AY858-AY$22)^2)","v":""},{"$f":"IF(AZ858=\"\",\"\",(AZ858-AZ$22)^2)","v":""},{"$f":"IF(BA858=\"\",\"\",(BA858-BA$22)^2)","v":""},{"$f":"IF(BB858=\"\",\"\",(BB858-BB$22)^2)","v":""},{"$f":"IF(BC858=\"\",\"\",(BC858-BC$22)^2)","v":""},{"$f":"IF(BD858=\"\",\"\",(BD858-BD$22)^2)","v":""},{"$f":"IF(BE858=\"\",\"\",(BE858-BE$22)^2)","v":""},{"$f":"IF(BF858=\"\",\"\",(BF858-BF$22)^2)","v":""},{"$f":"IF(BG858=\"\",\"\",(BG858-BG$22)^2)","v":""},{"$f":"IF(BH858=\"\",\"\",(BH858-BH$22)^2)","v":""}]
[null,null,null,null,null,null,null,null,null,null,null,null,null,null,null,null,null,null,null,null,"","","",{"$f":"IF(U859=\"\",\"\",MEDIAN(IF(($U$25:$U$15023<>\"\")*($V$25:$V$15023=V859),$U$25:$U$15023)))","v":""},"","","",null,"","","","","","","","","","","","","","","",null,null,"","","","","","","","","","","","","","","",null,"","","","","","","","","","","","","","",""]
[null,null,null,null,null,null,null,null,null,null,null,null,null,null,null,null,null,null,null,null,"","","",{"$f":"IF(U860=\"\",\"\",MEDIAN(IF(($U$25:$U$15023<>\"\")*($V$25:$V$15023=V860),$U$25:$U$15023)))","v":""},"","","",null,"","","","","","","","","","","","","","","",null,null,"","","","","","","","","","","","","","","",null,"","","","","","","","","","","","","","",""]
[null,null,null,null,null,null,null,null,null,null,null,null,null,null,null,null,null,null,null,null,"","","",{"$f":"IF(U861=\"\",\"\",MEDIAN(IF(($U$25:$U$15023<>\"\")*($V$25:$V$15023=V861),$U$25:$U$15023)))","v":""},"","","",null,"","","","","","","","","","","","","","","",null,null,"","","","","","","","","","","","","","","",null,"","","","","","","","","","","","","","",""]
[null,null,null,null,null,null,null,null,null,null,null,null,null,null,null,null,null,null,null,null,"","","",{"$f":"IF(U862=\"\",\"\",MEDIAN(IF(($U$25:$U$15023<>\"\")*($V$25:$V$15023=V862),$U$25:$U$15023)))","v":""},"","","",null,"","","","","","","","","","","","","","","",null,null,"","","","","","","","","","","","","","","",null,"","","","","","","","","","","","","","",""]
[null,null,null,null,null,null,null,null,null,null,null,null,null,null,null,null,null,null,null,null,"","","",{"$f":"IF(U863=\"\",\"\",MEDIAN(IF(($U$25:$U$15023<>\"\")*($V$25:$V$15023=V863),$U$25:$U$15023)))","v":""},"","","",null,"","","","","","","","","","","","","","","",null,null,"","","","","","","","","","","","","","","",null,"","","","","","","","","","","","","","",""]
[null,null,null,null,null,null,null,null,null,null,null,null,null,null,null,null,null,null,null,null,"","","",{"$f":"IF(U864=\"\",\"\",MEDIAN(IF(($U$25:$U$15023<>\"\")*($V$25:$V$15023=V864),$U$25:$U$15023)))","v":""},"","","",null,"","","","","","","","","","","","","","","",null,null,"","","","","","","","","","","","","","","",null,"","","","","","","","","","","","","","",""]
[null,null,null,null,null,null,null,null,null,null,null,null,null,null,null,null,null,null,null,null,"","","",{"$f":"IF(U865=\"\",\"\",MEDIAN(IF(($U$25:$U$15023<>\"\")*($V$25:$V$15023=V865),$U$25:$U$15023)))","v":""},"","","",null,{"$f":"IF(D865=\"\",\"\",RANK(D865,$D$25:$R$1024,1)+(COUNT($D$25:$R$1024)+1-RANK(D865,$D$25:$R$1024,0)-RANK(D865,$D$25:$R$1024,1))/2)","v":""},{"$f":"IF(E865=\"\",\"\",RANK(E865,$D$25:$R$1024,1)+(COUNT($D$25:$R$1024)+1-RANK(E865,$D$25:$R$1024,0)-RANK(E865,$D$25:$R$1024,1))/2)","v":""},{"$f":"IF(F865=\"\",\"\",RANK(F865,$D$25:$R$1024,1)+(COUNT($D$25:$R$1024)+1-RANK(F865,$D$25:$R$1024,0)-RANK(F865,$D$25:$R$1024,1))/2)","v":""},{"$f":"IF(G865=\"\",\"\",RANK(G865,$D$25:$R$1024,1)+(COUNT($D$25:$R$1024)+1-RANK(G865,$D$25:$R$1024,0)-RANK(G865,$D$25:$R$1024,1))/2)","v":""},{"$f":"IF(H865=\"\",\"\",RANK(H865,$D$25:$R$1024,1)+(COUNT($D$25:$R$1024)+1-RANK(H865,$D$25:$R$1024,0)-RANK(H865,$D$25:$R$1024,1))/2)","v":""},{"$f":"IF(I865=\"\",\"\",RANK(I865,$D$25:$R$1024,1)+(COUNT($D$25:$R$1024)+1-RANK(I865,$D$25:$R$1024,0)-RANK(I865,$D$25:$R$1024,1))/2)","v":""},{"$f":"IF(J865=\"\",\"\",RANK(J865,$D$25:$R$1024,1)+(COUNT($D$25:$R$1024)+1-RANK(J865,$D$25:$R$1024,0)-RANK(J865,$D$25:$R$1024,1))/2)","v":""},{"$f":"IF(K865=\"\",\"\",RANK(K865,$D$25:$R$1024,1)+(COUNT($D$25:$R$1024)+1-RANK(K865,$D$25:$R$1024,0)-RANK(K865,$D$25:$R$1024,1))/2)","v":""},{"$f":"IF(L865=\"\",\"\",RANK(L865,$D$25:$R$1024,1)+(COUNT($D$25:$R$1024)+1-RANK(L865,$D$25:$R$1024,0)-RANK(L865,$D$25:$R$1024,1))/2)","v":""},{"$f":"IF(M865=\"\",\"\",RANK(M865,$D$25:$R$1024,1)+(COUNT($D$25:$R$1024)+1-RANK(M865,$D$25:$R$1024,0)-RANK(M865,$D$25:$R$1024,1))/2)","v":""},{"$f":"IF(N865=\"\",\"\",RANK(N865,$D$25:$R$1024,1)+(COUNT($D$25:$R$1024)+1-RANK(N865,$D$25:$R$1024,0)-RANK(N865,$D$25:$R$1024,1))/2)","v":""},{"$f":"IF(O865=\"\",\"\",RANK(O865,$D$25:$R$1024,1)+(COUNT($D$25:$R$1024)+1-RANK(O865,$D$25:$R$1024,0)-RANK(O865,$D$25:$R$1024,1))/2)","v":""},{"$f":"IF(P865=\"\",\"\",RANK(P865,$D$25:$R$1024,1)+(COUNT($D$25:$R$1024)+1-RANK(P865,$D$25:$R$1024,0)-RANK(P865,$D$25:$R$1024,1))/2)","v":""},{"$f":"IF(Q865=\"\",\"\",RANK(Q865,$D$25:$R$1024,1)+(COUNT($D$25:$R$1024)+1-RANK(Q865,$D$25:$R$1024,0)-RANK(Q865,$D$25:$R$1024,1))/2)","v":""},{"$f":"IF(R865=\"\",\"\",RANK(R865,$D$25:$R$1024,1)+(COUNT($D$25:$R$1024)+1-RANK(R865,$D$25:$R$1024,0)-RANK(R865,$D$25:$R$1024,1))/2)","v":""},null,null,"","","","","","","","","","","","","","","",null,"","","","","","","","","","","","","","",""]
[null,null,null,null,null,null,null,null,null,null,null,null,null,null,null,null,null,null,null,null,"","","",{"$f":"IF(U866=\"\",\"\",MEDIAN(IF(($U$25:$U$15023<>\"\")*($V$25:$V$15023=V866),$U$25:$U$15023)))","v":""},"","","",null,"","","","","","","","","","","","","","","",null,null,"","","","","","","","","","","","","","","",null,"","","","","","","","","","","","","","",""]
[null,null,null,null,null,null,null,null,null,null,null,null,null,null,null,null,null,null,null,null,"","","",{"$f":"IF(U867=\"\",\"\",MEDIAN(IF(($U$25:$U$15023<>\"\")*($V$25:$V$15023=V867),$U$25:$U$15023)))","v":""},"","","",null,"","","","","","","","","","","","","","","",null,null,"","","","","","","","","","","","","","","",null,"","","","","","","","","","","","","","",""]
[null,null,null,null,null,null,null,null,null,null,null,null,null,null,null,null,null,null,null,null,"","","",{"$f":"IF(U868=\"\",\"\",MEDIAN(IF(($U$25:$U$15023<>\"\")*($V$25:$V$15023=V868),$U$25:$U$15023)))","v":""},"","","",null,"","","","","","","","","","","","","","","",null,null,"","","","","","","","","","","","","","","",null,"","","","","","","","","","","","","","",""]
[null,null,null,null,null,null,null,null,null,null,null,null,null,null,null,null,null,null,null,null,"","","",{"$f":"IF(U869=\"\",\"\",MEDIAN(IF(($U$25:$U$15023<>\"\")*($V$25:$V$15023=V869),$U$25:$U$15023)))","v":""},"","","",null,"","","","","","","","","","","","","","","",null,null,"","","","","","","","","","","","","","","",null,"","","","","","","","","","","","","","",""]
[null,null,null,null,null,null,null,null,null,null,null,null,null,null,null,null,null,null,null,null,"","","",{"$f":"IF(U870=\"\",\"\",MEDIAN(IF(($U$25:$U$15023<>\"\")*($V$25:$V$15023=V870),$U$25:$U$15023)))","v":""},"","","",null,"","","","","","","","","","","","","","","",null,null,"","","","","","","","","","","","","","","",null,"","","","","","","","","","","","","","",""]
[null,null,null,null,null,null,null,null,null,null,null,null,null,null,null,null,null,null,null,null,"","","",{"$f":"IF(U871=\"\",\"\",MEDIAN(IF(($U$25:$U$15023<>\"\")*($V$25:$V$15023=V871),$U$25:$U$15023)))","v":""},"","","",null,"","","","","","","","","","","","","","","",null,null,"","","","","","","","","","","","","","","",null,"","","","","","","","","","","","","","",""]
[null,null,null,null,null,null,null,null,null,null,null,null,null,null,null,null,null,null,null,null,"","","",{"$f":"IF(U872=\"\",\"\",MEDIAN(IF(($U$25:$U$15023<>\"\")*($V$25:$V$15023=V872),$U$25:$U$15023)))","v":""},"","","",null,"","","","","","","","","","","","","","","",null,null,"","","","","","","","","","","","","","","",null,"","","","","","","","","","","","","","",""]
[null,null,null,null,null,null,null,null,null,null,null,null,null,null,null,null,null,null,null,null,"","","",{"$f":"IF(U873=\"\",\"\",MEDIAN(IF(($U$25:$U$15023<>\"\")*($V$25:$V$15023=V873),$U$25:$U$15023)))","v":""},"","","",null,"","","","","","","","","","","","","","","",null,null,"","","","","","","","","","","","","","","",null,"","","","","","","","","","","","","","",""]
[null,null,null,null,null,null,null,null,null,null,null,null,null,null,null,null,null,null,null,null,"","","",{"$f":"IF(U874=\"\",\"\",MEDIAN(IF(($U$25:$U$15023<>\"\")*($V$25:$V$15023=V874),$U$25:$U$15023)))","v":""},"","","",null,"","","","","","","","","","","","","","","",null,null,"","","","","","","","","","","","","","","",null,"","","","","","","","","","","","","","",""]
[null,null,null,null,null,null,null,null,null,null,null,null,null,null,null,null,null,null,null,null,"","","",{"$f":"IF(U875=\"\",\"\",MEDIAN(IF(($U$25:$U$15023<>\"\")*($V$25:$V$15023=V875),$U$25:$U$15023)))","v":""},"","","",null,"","","","","","","","","","","","","","","",null,null,"","","","","","","","","","","","","","","",null,"","","","","","","","","","","","","","",""]
[null,null,null,null,null,null,null,null,null,null,null,null,null,null,null,null,null,null,null,null,"","","",{"$f":"IF(U876=\"\",\"\",MEDIAN(IF(($U$25:$U$15023<>\"\")*($V$25:$V$15023=V876),$U$25:$U$15023)))","v":""},"","","",null,"","","","","","","","","","","","","","","",null,null,"","","","","","","","","","","","","","","",null,"","","","","","","","","","","","","","",""]
[null,null,null,null,null,null,null,null,null,null,null,null,null,null,null,null,null,null,null,null,"","","",{"$f":"IF(U877=\"\",\"\",MEDIAN(IF(($U$25:$U$15023<>\"\")*($V$25:$V$15023=V877),$U$25:$U$15023)))","v":""},"","","",null,"","","","","","","","","","","","","","","",null,null,"","","","","","","","","","","","","","","",null,"","","","","","","","","","","","","","",""]
[null,null,null,null,null,null,null,null,null,null,null,null,null,null,null,null,null,null,null,null,"","","",{"$f":"IF(U878=\"\",\"\",MEDIAN(IF(($U$25:$U$15023<>\"\")*($V$25:$V$15023=V878),$U$25:$U$15023)))","v":""},"","","",null,"","","","","","","","","","","","","","","",null,null,"","","","","","","","","","","","","","","",null,"","","","","","","","","","","","","","",""]
[null,null,null,null,null,null,null,null,null,null,null,null,null,null,null,null,null,null,null,null,"","","",{"$f":"IF(U879=\"\",\"\",MEDIAN(IF(($U$25:$U$15023<>\"\")*($V$25:$V$15023=V879),$U$25:$U$15023)))","v":""},"","","",null,"","","","","","","","","","","","","","","",null,null,"","","","","","","","","","","","","","","",null,"","","","","","","","","","","","","","",""]
[null,null,null,null,null,null,null,null,null,null,null,null,null,null,null,null,null,null,null,null,"","","",{"$f":"IF(U880=\"\",\"\",MEDIAN(IF(($U$25:$U$15023<>\"\")*($V$25:$V$15023=V880),$U$25:$U$15023)))","v":""},"","","",null,"","","","","","","","","","","","","","","",null,null,"","","","","","","","","","","","","","","",null,"","","","","","","","","","","","","","",""]
[null,null,null,null,null,null,null,null,null,null,null,null,null,null,null,null,null,null,null,null,"","","",{"$f":"IF(U881=\"\",\"\",MEDIAN(IF(($U$25:$U$15023<>\"\")*($V$25:$V$15023=V881),$U$25:$U$15023)))","v":""},"","","",null,"","","","","","","","","","","","","","","",null,null,"","","","","","","","","","","","","","","",null,"","","","","","","","","","","","","","",""]
[null,null,null,null,null,null,null,null,null,null,null,null,null,null,null,null,null,null,null,null,"","","",{"$f":"IF(U882=\"\",\"\",MEDIAN(IF(($U$25:$U$15023<>\"\")*($V$25:$V$15023=V882),$U$25:$U$15023)))","v":""},"","","",null,"","","","","","","","","","","","","","","",null,null,"","","","","","","","","","","","","","","",null,"","","","","","","","","","","","","","",""]
[null,null,null,null,null,null,null,null,null,null,null,null,null,null,null,null,null,null,null,null,"","","",{"$f":"IF(U883=\"\",\"\",MEDIAN(IF(($U$25:$U$15023<>\"\")*($V$25:$V$15023=V883),$U$25:$U$15023)))","v":""},"","","",null,"","","","","","","","","","","","","","","",null,null,"","","","","","","","","","","","","","","",null,"","","","","","","","","","","","","","",""]
[null,null,null,null,null,null,null,null,null,null,null,null,null,null,null,null,null,null,null,null,"","","",{"$f":"IF(U884=\"\",\"\",MEDIAN(IF(($U$25:$U$15023<>\"\")*($V$25:$V$15023=V884),$U$25:$U$15023)))","v":""},"","","",null,"","","","","","","","","","","","","","","",null,null,"","","","","","","","","","","","","","","",null,"","","","","","","","","","","","","","",""]
[null,null,null,null,null,null,null,null,null,null,null,null,null,null,null,null,null,null,null,null,"","","",{"$f":"IF(U885=\"\",\"\",MEDIAN(IF(($U$25:$U$15023<>\"\")*($V$25:$V$15023=V885),$U$25:$U$15023)))","v":""},"","","",null,"","","","","","","","","","","","","","","",null,null,"","","","","","","","","","","","","","","",null,"","","","","","","","","","","","","","",""]
[null,null,null,null,null,null,null,null,null,null,null,null,null,null,null,null,null,null,null,null,"","","",{"$f":"IF(U886=\"\",\"\",MEDIAN(IF(($U$25:$U$15023<>\"\")*($V$25:$V$15023=V886),$U$25:$U$15023)))","v":""},"","","",null,"","","","","","","","","","","","","","","",null,null,"","","","","","","","","","","","","","","",null,"","","","","","","","","","","","","","",""]
[null,null,null,null,null,null,null,null,null,null,null,null,null,null,null,null,null,null,null,null,"","","",{"$f":"IF(U887=\"\",\"\",MEDIAN(IF(($U$25:$U$15023<>\"\")*($V$25:$V$15023=V887),$U$25:$U$15023)))","v":""},"","","",null,"","","","","","","","","","","","","","","",null,null,"","","","","","","","","","","","","","","",null,"","","","","","","","","","","","","","",""]
[null,null,null,null,null,null,null,null,null,null,null,null,null,null,null,null,null,null,null,null,"","","",{"$f":"IF(U888=\"\",\"\",MEDIAN(IF(($U$25:$U$15023<>\"\")*($V$25:$V$15023=V888),$U$25:$U$15023)))","v":""},"","","",null,"","","","","","","","","","","","","","","",null,null,"","","","","","","","","","","","","","","",null,"","","","","","","","","","","","","","",""]
[null,null,null,null,null,null,null,null,null,null,null,null,null,null,null,null,null,null,null,null,"","","",{"$f":"IF(U889=\"\",\"\",MEDIAN(IF(($U$25:$U$15023<>\"\")*($V$25:$V$15023=V889),$U$25:$U$15023)))","v":""},"","","",null,"","","","","","","","","","","","","","","",null,null,"","","","","","","","","","","","","","","",null,"","","","","","","","","","","","","","",""]
[null,null,null,null,null,null,null,null,null,null,null,null,null,null,null,null,null,null,null,null,"","","",{"$f":"IF(U890=\"\",\"\",MEDIAN(IF(($U$25:$U$15023<>\"\")*($V$25:$V$15023=V890),$U$25:$U$15023)))","v":""},"","","",null,"","","","","","","","","","","","","","","",null,null,"","","","","","","","","","","","","","","",null,"","","","","","","","","","","","","","",""]
[null,null,null,null,null,null,null,null,null,null,null,null,null,null,null,null,null,null,null,null,"","","",{"$f":"IF(U891=\"\",\"\",MEDIAN(IF(($U$25:$U$15023<>\"\")*($V$25:$V$15023=V891),$U$25:$U$15023)))","v":""},"","","",null,"","","","","","","","","","","","","","","",null,null,"","","","","","","","","","","","","","","",null,"","","","","","","","","","","","","","",""]
[null,null,null,null,null,null,null,null,null,null,null,null,null,null,null,null,null,null,null,null,"","","",{"$f":"IF(U892=\"\",\"\",MEDIAN(IF(($U$25:$U$15023<>\"\")*($V$25:$V$15023=V892),$U$25:$U$15023)))","v":""},"","","",null,"","","","","","","","","","","","","","","",null,null,"","","","","","","","","","","","","","","",null,"","","","","","","","","","","","","","",""]
[null,null,null,null,null,null,null,null,null,null,null,null,null,null,null,null,null,null,null,null,"","","",{"$f":"IF(U893=\"\",\"\",MEDIAN(IF(($U$25:$U$15023<>\"\")*($V$25:$V$15023=V893),$U$25:$U$15023)))","v":""},"","","",null,"","","","","","","","","","","","","","","",null,null,"","","","","","","","","","","","","","","",null,"","","","","","","","","","","","","","",""]
[null,null,null,null,null,null,null,null,null,null,null,null,null,null,null,null,null,null,null,null,"","","",{"$f":"IF(U894=\"\",\"\",MEDIAN(IF(($U$25:$U$15023<>\"\")*($V$25:$V$15023=V894),$U$25:$U$15023)))","v":""},"","","",null,"","","","","","","","","","","","","","","",null,null,"","","","","","","","","","","","","","","",null,"","","","","","","","","","","","","","",""]
[null,null,null,null,null,null,null,null,null,null,null,null,null,null,null,null,null,null,null,null,"","","",{"$f":"IF(U895=\"\",\"\",MEDIAN(IF(($U$25:$U$15023<>\"\")*($V$25:$V$15023=V895),$U$25:$U$15023)))","v":""},"","","",null,"","","","","","","","","","","","","","","",null,null,"","","","","","","","","","","","","","","",null,"","","","","","","","","","","","","","",""]
[null,null,null,null,null,null,null,null,null,null,null,null,null,null,null,null,null,null,null,null,"","","",{"$f":"IF(U896=\"\",\"\",MEDIAN(IF(($U$25:$U$15023<>\"\")*($V$25:$V$15023=V896),$U$25:$U$15023)))","v":""},"","","",null,"","","","","","","","","","","","","","","",null,null,"","","","","","","","","","","","","","","",null,"","","","","","","","","","","","","","",""]
[null,null,null,null,null,null,null,null,null,null,null,null,null,null,null,null,null,null,null,null,"","","",{"$f":"IF(U897=\"\",\"\",MEDIAN(IF(($U$25:$U$15023<>\"\")*($V$25:$V$15023=V897),$U$25:$U$15023)))","v":""},"","","",null,"","","","","","","","","","","","","","","",null,null,"","","","","","","","","","","","","","","",null,"","","","","","","","","","","","","","",""]
[null,null,null,null,null,null,null,null,null,null,null,null,null,null,null,null,null,null,null,null,"","","",{"$f":"IF(U898=\"\",\"\",MEDIAN(IF(($U$25:$U$15023<>\"\")*($V$25:$V$15023=V898),$U$25:$U$15023)))","v":""},"","","",null,"","","","","","","","","","","","","","","",null,null,"","","","","","","","","","","","","","","",null,"","","","","","","","","","","","","","",""]
[null,null,null,null,null,null,null,null,null,null,null,null,null,null,null,null,null,null,null,null,"","","",{"$f":"IF(U899=\"\",\"\",MEDIAN(IF(($U$25:$U$15023<>\"\")*($V$25:$V$15023=V899),$U$25:$U$15023)))","v":""},"","","",null,"","","","","","","","","","","","","","","",null,null,"","","","","","","","","","","","","","","",null,"","","","","","","","","","","","","","",""]
[null,null,null,null,null,null,null,null,null,null,null,null,null,null,null,null,null,null,null,null,"","","",{"$f":"IF(U900=\"\",\"\",MEDIAN(IF(($U$25:$U$15023<>\"\")*($V$25:$V$15023=V900),$U$25:$U$15023)))","v":""},"","","",null,"","","","","","","","","","","","","","","",null,null,"","","","","","","","","","","","","","","",null,"","","","","","","","","","","","","","",""]
[null,null,null,null,null,null,null,null,null,null,null,null,null,null,null,null,null,null,null,null,"","","",{"$f":"IF(U901=\"\",\"\",MEDIAN(IF(($U$25:$U$15023<>\"\")*($V$25:$V$15023=V901),$U$25:$U$15023)))","v":""},"","","",null,"","","","","","","","","","","","","","","",null,null,"","","","","","","","","","","","","","","",null,"","","","","","","","","","","","","","",""]
[null,null,null,null,null,null,null,null,null,null,null,null,null,null,null,null,null,null,null,null,"","","",{"$f":"IF(U902=\"\",\"\",MEDIAN(IF(($U$25:$U$15023<>\"\")*($V$25:$V$15023=V902),$U$25:$U$15023)))","v":""},"","","",null,"","","","","","","","","","","","","","","",null,null,"","","","","","","","","","","","","","","",null,"","","","","","","","","","","","","","",""]
[null,null,null,null,null,null,null,null,null,null,null,null,null,null,null,null,null,null,null,null,"","","",{"$f":"IF(U903=\"\",\"\",MEDIAN(IF(($U$25:$U$15023<>\"\")*($V$25:$V$15023=V903),$U$25:$U$15023)))","v":""},"","","",null,"","","","","","","","","","","","","","","",null,null,"","","","","","","","","","","","","","","",null,"","","","","","","","","","","","","","",""]
[null,null,null,null,null,null,null,null,null,null,null,null,null,null,null,null,null,null,null,null,"","","",{"$f":"IF(U904=\"\",\"\",MEDIAN(IF(($U$25:$U$15023<>\"\")*($V$25:$V$15023=V904),$U$25:$U$15023)))","v":""},"","","",null,"","","","","","","","","","","","","","","",null,null,"","","","","","","","","","","","","","","",null,"","","","","","","","","","","","","","",""]
[null,null,null,null,null,null,null,null,null,null,null,null,null,null,null,null,null,null,null,null,"","","",{"$f":"IF(U905=\"\",\"\",MEDIAN(IF(($U$25:$U$15023<>\"\")*($V$25:$V$15023=V905),$U$25:$U$15023)))","v":""},"","","",null,"","","","","","","","","","","","","","","",null,null,"","","","","","","","","","","","","","","",null,"","","","","","","","","","","","","","",""]
[null,null,null,null,null,null,null,null,null,null,null,null,null,null,null,null,null,null,null,null,"","","",{"$f":"IF(U906=\"\",\"\",MEDIAN(IF(($U$25:$U$15023<>\"\")*($V$25:$V$15023=V906),$U$25:$U$15023)))","v":""},"","","",null,"","","","","","","","","","","","","","","",null,null,"","","","","","","","","","","","","","","",null,"","","","","","","","","","","","","","",""]
[null,null,null,null,null,null,null,null,null,null,null,null,null,null,null,null,null,null,null,null,"","","",{"$f":"IF(U907=\"\",\"\",MEDIAN(IF(($U$25:$U$15023<>\"\")*($V$25:$V$15023=V907),$U$25:$U$15023)))","v":""},"","","",null,"","","","","","","","","","","","","","","",null,null,"","","","","","","","","","","","","","","",null,"","","","","","","","","","","","","","",""]
[null,null,null,null,null,null,null,null,null,null,null,null,null,null,null,null,null,null,null,null,"","","",{"$f":"IF(U908=\"\",\"\",MEDIAN(IF(($U$25:$U$15023<>\"\")*($V$25:$V$15023=V908),$U$25:$U$15023)))","v":""},"","","",null,"","","","","","","","","","","","","","","",null,null,"","","","","","","","","","","","","","","",null,"","","","","","","","","","","","","","",""]
[null,null,null,null,null,null,null,null,null,null,null,null,null,null,null,null,null,null,null,null,"","","",{"$f":"IF(U909=\"\",\"\",MEDIAN(IF(($U$25:$U$15023<>\"\")*($V$25:$V$15023=V909),$U$25:$U$15023)))","v":""},"","","",null,"","","","","","","","","","","","","","","",null,null,"","","","","","","","","","","","","","","",null,"","","","","","","","","","","","","","",""]
[null,null,null,null,null,null,null,null,null,null,null,null,null,null,null,null,null,null,null,null,"","","",{"$f":"IF(U910=\"\",\"\",MEDIAN(IF(($U$25:$U$15023<>\"\")*($V$25:$V$15023=V910),$U$25:$U$15023)))","v":""},"","","",null,"","","","","","","","","","","","","","","",null,null,"","","","","","","","","","","","","","","",null,"","","","","","","","","","","","","","",""]
[null,null,null,null,null,null,null,null,null,null,null,null,null,null,null,null,null,null,null,null,"","","",{"$f":"IF(U911=\"\",\"\",MEDIAN(IF(($U$25:$U$15023<>\"\")*($V$25:$V$15023=V911),$U$25:$U$15023)))","v":""},"","","",null,"","","","","","","","","","","","","","","",null,null,"","","","","","","","","","","","","","","",null,"","","","","","","","","","","","","","",""]
[null,null,null,null,null,null,null,null,null,null,null,null,null,null,null,null,null,null,null,null,"","","",{"$f":"IF(U912=\"\",\"\",MEDIAN(IF(($U$25:$U$15023<>\"\")*($V$25:$V$15023=V912),$U$25:$U$15023)))","v":""},"","","",null,"","","","","","","","","","","","","","","",null,null,"","","","","","","","","","","","","","","",null,"","","","","","","","","","","","","","",""]
[null,null,null,null,null,null,null,null,null,null,null,null,null,null,null,null,null,null,null,null,"","","",{"$f":"IF(U913=\"\",\"\",MEDIAN(IF(($U$25:$U$15023<>\"\")*($V$25:$V$15023=V913),$U$25:$U$15023)))","v":""},"","","",null,"","","","","","","","","","","","","","","",null,null,"","","","","","","","","","","","","","","",null,"","","","","","","","","","","","","","",""]
[null,null,null,null,null,null,null,null,null,null,null,null,null,null,null,null,null,null,null,null,"","","",{"$f":"IF(U914=\"\",\"\",MEDIAN(IF(($U$25:$U$15023<>\"\")*($V$25:$V$15023=V914),$U$25:$U$15023)))","v":""},"","","",null,"","","","","","","","","","","","","","","",null,null,"","","","","","","","","","","","","","","",null,"","","","","","","","","","","","","","",""]
[null,null,null,null,null,null,null,null,null,null,null,null,null,null,null,null,null,null,null,null,"","","",{"$f":"IF(U915=\"\",\"\",MEDIAN(IF(($U$25:$U$15023<>\"\")*($V$25:$V$15023=V915),$U$25:$U$15023)))","v":""},"","","",null,"","","","","","","","","","","","","","","",null,null,"","","","","","","","","","","","","","","",null,"","","","","","","","","","","","","","",""]
[null,null,null,null,null,null,null,null,null,null,null,null,null,null,null,null,null,null,null,null,"","","",{"$f":"IF(U916=\"\",\"\",MEDIAN(IF(($U$25:$U$15023<>\"\")*($V$25:$V$15023=V916),$U$25:$U$15023)))","v":""},"","","",null,"","","","","","","","","","","","","","","",null,null,"","","","","","","","","","","","","","","",null,"","","","","","","","","","","","","","",""]
[null,null,null,null,null,null,null,null,null,null,null,null,null,null,null,null,null,null,null,null,"","","",{"$f":"IF(U917=\"\",\"\",MEDIAN(IF(($U$25:$U$15023<>\"\")*($V$25:$V$15023=V917),$U$25:$U$15023)))","v":""},"","","",null,"","","","","","","","","","","","","","","",null,null,"","","","","","","","","","","","","","","",null,"","","","","","","","","","","","","","",""]
[null,null,null,null,null,null,null,null,null,null,null,null,null,null,null,null,null,null,null,null,"","","",{"$f":"IF(U918=\"\",\"\",MEDIAN(IF(($U$25:$U$15023<>\"\")*($V$25:$V$15023=V918),$U$25:$U$15023)))","v":""},"","","",null,"","","","","","","","","","","","","","","",null,null,"","","","","","","","","","","","","","","",null,"","","","","","","","","","","","","","",""]
[null,null,null,null,null,null,null,null,null,null,null,null,null,null,null,null,null,null,null,null,"","","",{"$f":"IF(U919=\"\",\"\",MEDIAN(IF(($U$25:$U$15023<>\"\")*($V$25:$V$15023=V919),$U$25:$U$15023)))","v":""},"","","",null,"","","","","","","","","","","","","","","",null,null,"","","","","","","","","","","","","","","",null,"","","","","","","","","","","","","","",""]
[null,null,null,null,null,null,null,null,null,null,null,null,null,null,null,null,null,null,null,null,"","","",{"$f":"IF(U920=\"\",\"\",MEDIAN(IF(($U$25:$U$15023<>\"\")*($V$25:$V$15023=V920),$U$25:$U$15023)))","v":""},"","","",null,"","","","","","","","","","","","","","","",null,null,"","","","","","","","","","","","","","","",null,"","","","","","","","","","","","","","",""]
[null,null,null,null,null,null,null,null,null,null,null,null,null,null,null,null,null,null,null,null,"","","",{"$f":"IF(U921=\"\",\"\",MEDIAN(IF(($U$25:$U$15023<>\"\")*($V$25:$V$15023=V921),$U$25:$U$15023)))","v":""},"","","",null,"","","","","","","","","","","","","","","",null,null,"","","","","","","","","","","","","","","",null,"","","","","","","","","","","","","","",""]
[null,null,null,null,null,null,null,null,null,null,null,null,null,null,null,null,null,null,null,null,{"$f":"IF(A922=\"\",\"\",A922)","v":""},{"$f":"IF(B922=\"\",\"\",B922)","v":""},{"$f":"IF(U922=\"\",\"\",RANK(U922,$U$25:$U$15023,1)+(COUNT($U$25:$U$15023)+1-RANK(U922,$U$25:$U$15023,0)-RANK(U922,$U$25:$U$15023,1))/2)","v":""},{"$f":"IF(U922=\"\",\"\",MEDIAN(IF(($U$25:$U$15023<>\"\")*($V$25:$V$15023=V922),$U$25:$U$15023)))","v":""},{"$f":"IF(U922=\"\",\"\",ABS(X922-U922))","v":""},{"$f":"IF(V922=\"\",\"\",AVERAGEIF($V$25:$V$15023,V922,$Y$25:$Y$15023))","v":""},{"$f":"IF(V922=\"\",\"\",(Y922-Z922)^2)","v":""},null,"","","","","","","","","","","","","","","",null,null,{"$f":"IF(D922=\"\",\"\",ABS(D922-MEDIAN(D$25:D$1024)))","v":""},{"$f":"IF(E922=\"\",\"\",ABS(E922-MEDIAN(E$25:E$1024)))","v":""},{"$f":"IF(F922=\"\",\"\",ABS(F922-MEDIAN(F$25:F$1024)))","v":""},{"$f":"IF(G922=\"\",\"\",ABS(G922-MEDIAN(G$25:G$1024)))","v":""},{"$f":"IF(H922=\"\",\"\",ABS(H922-MEDIAN(H$25:H$1024)))","v":""},{"$f":"IF(I922=\"\",\"\",ABS(I922-MEDIAN(I$25:I$1024)))","v":""},{"$f":"IF(J922=\"\",\"\",ABS(J922-MEDIAN(J$25:J$1024)))","v":""},{"$f":"IF(K922=\"\",\"\",ABS(K922-MEDIAN(K$25:K$1024)))","v":""},{"$f":"IF(L922=\"\",\"\",ABS(L922-MEDIAN(L$25:L$1024)))","v":""},{"$f":"IF(M922=\"\",\"\",ABS(M922-MEDIAN(M$25:M$1024)))","v":""},{"$f":"IF(N922=\"\",\"\",ABS(N922-MEDIAN(N$25:N$1024)))","v":""},{"$f":"IF(O922=\"\",\"\",ABS(O922-MEDIAN(O$25:O$1024)))","v":""},{"$f":"IF(P922=\"\",\"\",ABS(P922-MEDIAN(P$25:P$1024)))","v":""},{"$f":"IF(Q922=\"\",\"\",ABS(Q922-MEDIAN(Q$25:Q$1024)))","v":""},{"$f":"IF(R922=\"\",\"\",ABS(R922-MEDIAN(R$25:R$1024)))","v":""},null,{"$f":"IF(AT922=\"\",\"\",(AT922-AT$22)^2)","v":""},{"$f":"IF(AU922=\"\",\"\",(AU922-AU$22)^2)","v":""},{"$f":"IF(AV922=\"\",\"\",(AV922-AV$22)^2)","v":""},{"$f":"IF(AW922=\"\",\"\",(AW922-AW$22)^2)","v":""},{"$f":"IF(AX922=\"\",\"\",(AX922-AX$22)^2)","v":""},{"$f":"IF(AY922=\"\",\"\",(AY922-AY$22)^2)","v":""},{"$f":"IF(AZ922=\"\",\"\",(AZ922-AZ$22)^2)","v":""},{"$f":"IF(BA922=\"\",\"\",(BA922-BA$22)^2)","v":""},{"$f":"IF(BB922=\"\",\"\",(BB922-BB$22)^2)","v":""},{"$f":"IF(BC922=\"\",\"\",(BC922-BC$22)^2)","v":""},{"$f":"IF(BD922=\"\",\"\",(BD922-BD$22)^2)","v":""},{"$f":"IF(BE922=\"\",\"\",(BE922-BE$22)^2)","v":""},{"$f":"IF(BF922=\"\",\"\",(BF922-BF$22)^2)","v":""},{"$f":"IF(BG922=\"\",\"\",(BG922-BG$22)^2)","v":""},{"$f":"IF(BH922=\"\",\"\",(BH922-BH$22)^2)","v":""}]
[null,null,null,null,null,null,null,null,null,null,null,null,null,null,null,null,null,null,null,null,"","","",{"$f":"IF(U923=\"\",\"\",MEDIAN(IF(($U$25:$U$15023<>\"\")*($V$25:$V$15023=V923),$U$25:$U$15023)))","v":""},"","","",null,"","","","","","","","","","","","","","","",null,null,"","","","","","","","","","","","","","","",null,"","","","","","","","","","","","","","",""]
[null,null,null,null,null,null,null,null,null,null,null,null,null,null,null,null,null,null,null,null,"","","",{"$f":"IF(U924=\"\",\"\",MEDIAN(IF(($U$25:$U$15023<>\"\")*($V$25:$V$15023=V924),$U$25:$U$15023)))","v":""},"","","",null,"","","","","","","","","","","","","","","",null,null,"","","","","","","","","","","","","","","",null,"","","","","","","","","","","","","","",""]
[null,null,null,null,null,null,null,null,null,null,null,null,null,null,null,null,null,null,null,null,"","","",{"$f":"IF(U925=\"\",\"\",MEDIAN(IF(($U$25:$U$15023<>\"\")*($V$25:$V$15023=V925),$U$25:$U$15023)))","v":""},"","","",null,"","","","","","","","","","","","","","","",null,null,"","","","","","","","","","","","","","","",null,"","","","","","","","","","","","","","",""]
[null,null,null,null,null,null,null,null,null,null,null,null,null,null,null,null,null,null,null,null,"","","",{"$f":"IF(U926=\"\",\"\",MEDIAN(IF(($U$25:$U$15023<>\"\")*($V$25:$V$15023=V926),$U$25:$U$15023)))","v":""},"","","",null,"","","","","","","","","","","","","","","",null,null,"","","","","","","","","","","","","","","",null,"","","","","","","","","","","","","","",""]
[null,null,null,null,null,null,null,null,null,null,null,null,null,null,null,null,null,null,null,null,"","","",{"$f":"IF(U927=\"\",\"\",MEDIAN(IF(($U$25:$U$15023<>\"\")*($V$25:$V$15023=V927),$U$25:$U$15023)))","v":""},"","","",null,"","","","","","","","","","","","","","","",null,null,"","","","","","","","","","","","","","","",null,"","","","","","","","","","","","","","",""]
[null,null,null,null,null,null,null,null,null,null,null,null,null,null,null,null,null,null,null,null,"","","",{"$f":"IF(U928=\"\",\"\",MEDIAN(IF(($U$25:$U$15023<>\"\")*($V$25:$V$15023=V928),$U$25:$U$15023)))","v":""},"","","",null,"","","","","","","","","","","","","","","",null,null,"","","","","","","","","","","","","","","",null,"","","","","","","","","","","","","","",""]
[null,null,null,null,null,null,null,null,null,null,null,null,null,null,null,null,null,null,null,null,"","","",{"$f":"IF(U929=\"\",\"\",MEDIAN(IF(($U$25:$U$15023<>\"\")*($V$25:$V$15023=V929),$U$25:$U$15023)))","v":""},"","","",null,{"$f":"IF(D929=\"\",\"\",RANK(D929,$D$25:$R$1024,1)+(COUNT($D$25:$R$1024)+1-RANK(D929,$D$25:$R$1024,0)-RANK(D929,$D$25:$R$1024,1))/2)","v":""},{"$f":"IF(E929=\"\",\"\",RANK(E929,$D$25:$R$1024,1)+(COUNT($D$25:$R$1024)+1-RANK(E929,$D$25:$R$1024,0)-RANK(E929,$D$25:$R$1024,1))/2)","v":""},{"$f":"IF(F929=\"\",\"\",RANK(F929,$D$25:$R$1024,1)+(COUNT($D$25:$R$1024)+1-RANK(F929,$D$25:$R$1024,0)-RANK(F929,$D$25:$R$1024,1))/2)","v":""},{"$f":"IF(G929=\"\",\"\",RANK(G929,$D$25:$R$1024,1)+(COUNT($D$25:$R$1024)+1-RANK(G929,$D$25:$R$1024,0)-RANK(G929,$D$25:$R$1024,1))/2)","v":""},{"$f":"IF(H929=\"\",\"\",RANK(H929,$D$25:$R$1024,1)+(COUNT($D$25:$R$1024)+1-RANK(H929,$D$25:$R$1024,0)-RANK(H929,$D$25:$R$1024,1))/2)","v":""},{"$f":"IF(I929=\"\",\"\",RANK(I929,$D$25:$R$1024,1)+(COUNT($D$25:$R$1024)+1-RANK(I929,$D$25:$R$1024,0)-RANK(I929,$D$25:$R$1024,1))/2)","v":""},{"$f":"IF(J929=\"\",\"\",RANK(J929,$D$25:$R$1024,1)+(COUNT($D$25:$R$1024)+1-RANK(J929,$D$25:$R$1024,0)-RANK(J929,$D$25:$R$1024,1))/2)","v":""},{"$f":"IF(K929=\"\",\"\",RANK(K929,$D$25:$R$1024,1)+(COUNT($D$25:$R$1024)+1-RANK(K929,$D$25:$R$1024,0)-RANK(K929,$D$25:$R$1024,1))/2)","v":""},{"$f":"IF(L929=\"\",\"\",RANK(L929,$D$25:$R$1024,1)+(COUNT($D$25:$R$1024)+1-RANK(L929,$D$25:$R$1024,0)-RANK(L929,$D$25:$R$1024,1))/2)","v":""},{"$f":"IF(M929=\"\",\"\",RANK(M929,$D$25:$R$1024,1)+(COUNT($D$25:$R$1024)+1-RANK(M929,$D$25:$R$1024,0)-RANK(M929,$D$25:$R$1024,1))/2)","v":""},{"$f":"IF(N929=\"\",\"\",RANK(N929,$D$25:$R$1024,1)+(COUNT($D$25:$R$1024)+1-RANK(N929,$D$25:$R$1024,0)-RANK(N929,$D$25:$R$1024,1))/2)","v":""},{"$f":"IF(O929=\"\",\"\",RANK(O929,$D$25:$R$1024,1)+(COUNT($D$25:$R$1024)+1-RANK(O929,$D$25:$R$1024,0)-RANK(O929,$D$25:$R$1024,1))/2)","v":""},{"$f":"IF(P929=\"\",\"\",RANK(P929,$D$25:$R$1024,1)+(COUNT($D$25:$R$1024)+1-RANK(P929,$D$25:$R$1024,0)-RANK(P929,$D$25:$R$1024,1))/2)","v":""},{"$f":"IF(Q929=\"\",\"\",RANK(Q929,$D$25:$R$1024,1)+(COUNT($D$25:$R$1024)+1-RANK(Q929,$D$25:$R$1024,0)-RANK(Q929,$D$25:$R$1024,1))/2)","v":""},{"$f":"IF(R929=\"\",\"\",RANK(R929,$D$25:$R$1024,1)+(COUNT($D$25:$R$1024)+1-RANK(R929,$D$25:$R$1024,0)-RANK(R929,$D$25:$R$1024,1))/2)","v":""},null,null,"","","","","","","","","","","","","","","",null,"","","","","","","","","","","","","","",""]
[null,null,null,null,null,null,null,null,null,null,null,null,null,null,null,null,null,null,null,null,"","","",{"$f":"IF(U930=\"\",\"\",MEDIAN(IF(($U$25:$U$15023<>\"\")*($V$25:$V$15023=V930),$U$25:$U$15023)))","v":""},"","","",null,"","","","","","","","","","","","","","","",null,null,"","","","","","","","","","","","","","","",null,"","","","","","","","","","","","","","",""]
[null,null,null,null,null,null,null,null,null,null,null,null,null,null,null,null,null,null,null,null,"","","",{"$f":"IF(U931=\"\",\"\",MEDIAN(IF(($U$25:$U$15023<>\"\")*($V$25:$V$15023=V931),$U$25:$U$15023)))","v":""},"","","",null,"","","","","","","","","","","","","","","",null,null,"","","","","","","","","","","","","","","",null,"","","","","","","","","","","","","","",""]
[null,null,null,null,null,null,null,null,null,null,null,null,null,null,null,null,null,null,null,null,"","","",{"$f":"IF(U932=\"\",\"\",MEDIAN(IF(($U$25:$U$15023<>\"\")*($V$25:$V$15023=V932),$U$25:$U$15023)))","v":""},"","","",null,"","","","","","","","","","","","","","","",null,null,"","","","","","","","","","","","","","","",null,"","","","","","","","","","","","","","",""]
[null,null,null,null,null,null,null,null,null,null,null,null,null,null,null,null,null,null,null,null,"","","",{"$f":"IF(U933=\"\",\"\",MEDIAN(IF(($U$25:$U$15023<>\"\")*($V$25:$V$15023=V933),$U$25:$U$15023)))","v":""},"","","",null,"","","","","","","","","","","","","","","",null,null,"","","","","","","","","","","","","","","",null,"","","","","","","","","","","","","","",""]
[null,null,null,null,null,null,null,null,null,null,null,null,null,null,null,null,null,null,null,null,"","","",{"$f":"IF(U934=\"\",\"\",MEDIAN(IF(($U$25:$U$15023<>\"\")*($V$25:$V$15023=V934),$U$25:$U$15023)))","v":""},"","","",null,"","","","","","","","","","","","","","","",null,null,"","","","","","","","","","","","","","","",null,"","","","","","","","","","","","","","",""]
[null,null,null,null,null,null,null,null,null,null,null,null,null,null,null,null,null,null,null,null,"","","",{"$f":"IF(U935=\"\",\"\",MEDIAN(IF(($U$25:$U$15023<>\"\")*($V$25:$V$15023=V935),$U$25:$U$15023)))","v":""},"","","",null,"","","","","","","","","","","","","","","",null,null,"","","","","","","","","","","","","","","",null,"","","","","","","","","","","","","","",""]
[null,null,null,null,null,null,null,null,null,null,null,null,null,null,null,null,null,null,null,null,"","","",{"$f":"IF(U936=\"\",\"\",MEDIAN(IF(($U$25:$U$15023<>\"\")*($V$25:$V$15023=V936),$U$25:$U$15023)))","v":""},"","","",null,"","","","","","","","","","","","","","","",null,null,"","","","","","","","","","","","","","","",null,"","","","","","","","","","","","","","",""]
[null,null,null,null,null,null,null,null,null,null,null,null,null,null,null,null,null,null,null,null,"","","",{"$f":"IF(U937=\"\",\"\",MEDIAN(IF(($U$25:$U$15023<>\"\")*($V$25:$V$15023=V937),$U$25:$U$15023)))","v":""},"","","",null,"","","","","","","","","","","","","","","",null,null,"","","","","","","","","","","","","","","",null,"","","","","","","","","","","","","","",""]
[null,null,null,null,null,null,null,null,null,null,null,null,null,null,null,null,null,null,null,null,"","","",{"$f":"IF(U938=\"\",\"\",MEDIAN(IF(($U$25:$U$15023<>\"\")*($V$25:$V$15023=V938),$U$25:$U$15023)))","v":""},"","","",null,"","","","","","","","","","","","","","","",null,null,"","","","","","","","","","","","","","","",null,"","","","","","","","","","","","","","",""]
[null,null,null,null,null,null,null,null,null,null,null,null,null,null,null,null,null,null,null,null,"","","",{"$f":"IF(U939=\"\",\"\",MEDIAN(IF(($U$25:$U$15023<>\"\")*($V$25:$V$15023=V939),$U$25:$U$15023)))","v":""},"","","",null,"","","","","","","","","","","","","","","",null,null,"","","","","","","","","","","","","","","",null,"","","","","","","","","","","","","","",""]
[null,null,null,null,null,null,null,null,null,null,null,null,null,null,null,null,null,null,null,null,"","","",{"$f":"IF(U940=\"\",\"\",MEDIAN(IF(($U$25:$U$15023<>\"\")*($V$25:$V$15023=V940),$U$25:$U$15023)))","v":""},"","","",null,"","","","","","","","","","","","","","","",null,null,"","","","","","","","","","","","","","","",null,"","","","","","","","","","","","","","",""]
[null,null,null,null,null,null,null,null,null,null,null,null,null,null,null,null,null,null,null,null,"","","",{"$f":"IF(U941=\"\",\"\",MEDIAN(IF(($U$25:$U$15023<>\"\")*($V$25:$V$15023=V941),$U$25:$U$15023)))","v":""},"","","",null,"","","","","","","","","","","","","","","",null,null,"","","","","","","","","","","","","","","",null,"","","","","","","","","","","","","","",""]
[null,null,null,null,null,null,null,null,null,null,null,null,null,null,null,null,null,null,null,null,"","","",{"$f":"IF(U942=\"\",\"\",MEDIAN(IF(($U$25:$U$15023<>\"\")*($V$25:$V$15023=V942),$U$25:$U$15023)))","v":""},"","","",null,"","","","","","","","","","","","","","","",null,null,"","","","","","","","","","","","","","","",null,"","","","","","","","","","","","","","",""]
[null,null,null,null,null,null,null,null,null,null,null,null,null,null,null,null,null,null,null,null,"","","",{"$f":"IF(U943=\"\",\"\",MEDIAN(IF(($U$25:$U$15023<>\"\")*($V$25:$V$15023=V943),$U$25:$U$15023)))","v":""},"","","",null,"","","","","","","","","","","","","","","",null,null,"","","","","","","","","","","","","","","",null,"","","","","","","","","","","","","","",""]
[null,null,null,null,null,null,null,null,null,null,null,null,null,null,null,null,null,null,null,null,"","","",{"$f":"IF(U944=\"\",\"\",MEDIAN(IF(($U$25:$U$15023<>\"\")*($V$25:$V$15023=V944),$U$25:$U$15023)))","v":""},"","","",null,"","","","","","","","","","","","","","","",null,null,"","","","","","","","","","","","","","","",null,"","","","","","","","","","","","","","",""]
[null,null,null,null,null,null,null,null,null,null,null,null,null,null,null,null,null,null,null,null,"","","",{"$f":"IF(U945=\"\",\"\",MEDIAN(IF(($U$25:$U$15023<>\"\")*($V$25:$V$15023=V945),$U$25:$U$15023)))","v":""},"","","",null,"","","","","","","","","","","","","","","",null,null,"","","","","","","","","","","","","","","",null,"","","","","","","","","","","","","","",""]
[null,null,null,null,null,null,null,null,null,null,null,null,null,null,null,null,null,null,null,null,"","","",{"$f":"IF(U946=\"\",\"\",MEDIAN(IF(($U$25:$U$15023<>\"\")*($V$25:$V$15023=V946),$U$25:$U$15023)))","v":""},"","","",null,"","","","","","","","","","","","","","","",null,null,"","","","","","","","","","","","","","","",null,"","","","","","","","","","","","","","",""]
[null,null,null,null,null,null,null,null,null,null,null,null,null,null,null,null,null,null,null,null,"","","",{"$f":"IF(U947=\"\",\"\",MEDIAN(IF(($U$25:$U$15023<>\"\")*($V$25:$V$15023=V947),$U$25:$U$15023)))","v":""},"","","",null,"","","","","","","","","","","","","","","",null,null,"","","","","","","","","","","","","","","",null,"","","","","","","","","","","","","","",""]
[null,null,null,null,null,null,null,null,null,null,null,null,null,null,null,null,null,null,null,null,"","","",{"$f":"IF(U948=\"\",\"\",MEDIAN(IF(($U$25:$U$15023<>\"\")*($V$25:$V$15023=V948),$U$25:$U$15023)))","v":""},"","","",null,"","","","","","","","","","","","","","","",null,null,"","","","","","","","","","","","","","","",null,"","","","","","","","","","","","","","",""]
[null,null,null,null,null,null,null,null,null,null,null,null,null,null,null,null,null,null,null,null,"","","",{"$f":"IF(U949=\"\",\"\",MEDIAN(IF(($U$25:$U$15023<>\"\")*($V$25:$V$15023=V949),$U$25:$U$15023)))","v":""},"","","",null,"","","","","","","","","","","","","","","",null,null,"","","","","","","","","","","","","","","",null,"","","","","","","","","","","","","","",""]
[null,null,null,null,null,null,null,null,null,null,null,null,null,null,null,null,null,null,null,null,"","","",{"$f":"IF(U950=\"\",\"\",MEDIAN(IF(($U$25:$U$15023<>\"\")*($V$25:$V$15023=V950),$U$25:$U$15023)))","v":""},"","","",null,"","","","","","","","","","","","","","","",null,null,"","","","","","","","","","","","","","","",null,"","","","","","","","","","","","","","",""]
[null,null,null,null,null,null,null,null,null,null,null,null,null,null,null,null,null,null,null,null,"","","",{"$f":"IF(U951=\"\",\"\",MEDIAN(IF(($U$25:$U$15023<>\"\")*($V$25:$V$15023=V951),$U$25:$U$15023)))","v":""},"","","",null,"","","","","","","","","","","","","","","",null,null,"","","","","","","","","","","","","","","",null,"","","","","","","","","","","","","","",""]
[null,null,null,null,null,null,null,null,null,null,null,null,null,null,null,null,null,null,null,null,"","","",{"$f":"IF(U952=\"\",\"\",MEDIAN(IF(($U$25:$U$15023<>\"\")*($V$25:$V$15023=V952),$U$25:$U$15023)))","v":""},"","","",null,"","","","","","","","","","","","","","","",null,null,"","","","","","","","","","","","","","","",null,"","","","","","","","","","","","","","",""]
[null,null,null,null,null,null,null,null,null,null,null,null,null,null,null,null,null,null,null,null,"","","",{"$f":"IF(U953=\"\",\"\",MEDIAN(IF(($U$25:$U$15023<>\"\")*($V$25:$V$15023=V953),$U$25:$U$15023)))","v":""},"","","",null,"","","","","","","","","","","","","","","",null,null,"","","","","","","","","","","","","","","",null,"","","","","","","","","","","","","","",""]
[null,null,null,null,null,null,null,null,null,null,null,null,null,null,null,null,null,null,null,null,"","","",{"$f":"IF(U954=\"\",\"\",MEDIAN(IF(($U$25:$U$15023<>\"\")*($V$25:$V$15023=V954),$U$25:$U$15023)))","v":""},"","","",null,"","","","","","","","","","","","","","","",null,null,"","","","","","","","","","","","","","","",null,"","","","","","","","","","","","","","",""]
[null,null,null,null,null,null,null,null,null,null,null,null,null,null,null,null,null,null,null,null,"","","",{"$f":"IF(U955=\"\",\"\",MEDIAN(IF(($U$25:$U$15023<>\"\")*($V$25:$V$15023=V955),$U$25:$U$15023)))","v":""},"","","",null,"","","","","","","","","","","","","","","",null,null,"","","","","","","","","","","","","","","",null,"","","","","","","","","","","","","","",""]
[null,null,null,null,null,null,null,null,null,null,null,null,null,null,null,null,null,null,null,null,"","","",{"$f":"IF(U956=\"\",\"\",MEDIAN(IF(($U$25:$U$15023<>\"\")*($V$25:$V$15023=V956),$U$25:$U$15023)))","v":""},"","","",null,"","","","","","","","","","","","","","","",null,null,"","","","","","","","","","","","","","","",null,"","","","","","","","","","","","","","",""]
[null,null,null,null,null,null,null,null,null,null,null,null,null,null,null,null,null,null,null,null,"","","",{"$f":"IF(U957=\"\",\"\",MEDIAN(IF(($U$25:$U$15023<>\"\")*($V$25:$V$15023=V957),$U$25:$U$15023)))","v":""},"","","",null,"","","","","","","","","","","","","","","",null,null,"","","","","","","","","","","","","","","",null,"","","","","","","","","","","","","","",""]
[null,null,null,null,null,null,null,null,null,null,null,null,null,null,null,null,null,null,null,null,"","","",{"$f":"IF(U958=\"\",\"\",MEDIAN(IF(($U$25:$U$15023<>\"\")*($V$25:$V$15023=V958),$U$25:$U$15023)))","v":""},"","","",null,"","","","","","","","","","","","","","","",null,null,"","","","","","","","","","","","","","","",null,"","","","","","","","","","","","","","",""]
[null,null,null,null,null,null,null,null,null,null,null,null,null,null,null,null,null,null,null,null,"","","",{"$f":"IF(U959=\"\",\"\",MEDIAN(IF(($U$25:$U$15023<>\"\")*($V$25:$V$15023=V959),$U$25:$U$15023)))","v":""},"","","",null,"","","","","","","","","","","","","","","",null,null,"","","","","","","","","","","","","","","",null,"","","","","","","","","","","","","","",""]
[null,null,null,null,null,null,null,null,null,null,null,null,null,null,null,null,null,null,null,null,"","","",{"$f":"IF(U960=\"\",\"\",MEDIAN(IF(($U$25:$U$15023<>\"\")*($V$25:$V$15023=V960),$U$25:$U$15023)))","v":""},"","","",null,"","","","","","","","","","","","","","","",null,null,"","","","","","","","","","","","","","","",null,"","","","","","","","","","","","","","",""]
[null,null,null,null,null,null,null,null,null,null,null,null,null,null,null,null,null,null,null,null,"","","",{"$f":"IF(U961=\"\",\"\",MEDIAN(IF(($U$25:$U$15023<>\"\")*($V$25:$V$15023=V961),$U$25:$U$15023)))","v":""},"","","",null,"","","","","","","","","","","","","","","",null,null,"","","","","","","","","","","","","","","",null,"","","","","","","","","","","","","","",""]
[null,null,null,null,null,null,null,null,null,null,null,null,null,null,null,null,null,null,null,null,"","","",{"$f":"IF(U962=\"\",\"\",MEDIAN(IF(($U$25:$U$15023<>\"\")*($V$25:$V$15023=V962),$U$25:$U$15023)))","v":""},"","","",null,"","","","","","","","","","","","","","","",null,null,"","","","","","","","","","","","","","","",null,"","","","","","","","","","","","","","",""]
[null,null,null,null,null,null,null,null,null,null,null,null,null,null,null,null,null,null,null,null,"","","",{"$f":"IF(U963=\"\",\"\",MEDIAN(IF(($U$25:$U$15023<>\"\")*($V$25:$V$15023=V963),$U$25:$U$15023)))","v":""},"","","",null,"","","","","","","","","","","","","","","",null,null,"","","","","","","","","","","","","","","",null,"","","","","","","","","","","","","","",""]
[null,null,null,null,null,null,null,null,null,null,null,null,null,null,null,null,null,null,null,null,"","","",{"$f":"IF(U964=\"\",\"\",MEDIAN(IF(($U$25:$U$15023<>\"\")*($V$25:$V$15023=V964),$U$25:$U$15023)))","v":""},"","","",null,"","","","","","","","","","","","","","","",null,null,"","","","","","","","","","","","","","","",null,"","","","","","","","","","","","","","",""]
[null,null,null,null,null,null,null,null,null,null,null,null,null,null,null,null,null,null,null,null,"","","",{"$f":"IF(U965=\"\",\"\",MEDIAN(IF(($U$25:$U$15023<>\"\")*($V$25:$V$15023=V965),$U$25:$U$15023)))","v":""},"","","",null,"","","","","","","","","","","","","","","",null,null,"","","","","","","","","","","","","","","",null,"","","","","","","","","","","","","","",""]
[null,null,null,null,null,null,null,null,null,null,null,null,null,null,null,null,null,null,null,null,"","","",{"$f":"IF(U966=\"\",\"\",MEDIAN(IF(($U$25:$U$15023<>\"\")*($V$25:$V$15023=V966),$U$25:$U$15023)))","v":""},"","","",null,"","","","","","","","","","","","","","","",null,null,"","","","","","","","","","","","","","","",null,"","","","","","","","","","","","","","",""]
[null,null,null,null,null,null,null,null,null,null,null,null,null,null,null,null,null,null,null,null,"","","",{"$f":"IF(U967=\"\",\"\",MEDIAN(IF(($U$25:$U$15023<>\"\")*($V$25:$V$15023=V967),$U$25:$U$15023)))","v":""},"","","",null,"","","","","","","","","","","","","","","",null,null,"","","","","","","","","","","","","","","",null,"","","","","","","","","","","","","","",""]
[null,null,null,null,null,null,null,null,null,null,null,null,null,null,null,null,null,null,null,null,"","","",{"$f":"IF(U968=\"\",\"\",MEDIAN(IF(($U$25:$U$15023<>\"\")*($V$25:$V$15023=V968),$U$25:$U$15023)))","v":""},"","","",null,"","","","","","","","","","","","","","","",null,null,"","","","","","","","","","","","","","","",null,"","","","","","","","","","","","","","",""]
[null,null,null,null,null,null,null,null,null,null,null,null,null,null,null,null,null,null,null,null,"","","",{"$f":"IF(U969=\"\",\"\",MEDIAN(IF(($U$25:$U$15023<>\"\")*($V$25:$V$15023=V969),$U$25:$U$15023)))","v":""},"","","",null,"","","","","","","","","","","","","","","",null,null,"","","","","","","","","","","","","","","",null,"","","","","","","","","","","","","","",""]
[null,null,null,null,null,null,null,null,null,null,null,null,null,null,null,null,null,null,null,null,"","","",{"$f":"IF(U970=\"\",\"\",MEDIAN(IF(($U$25:$U$15023<>\"\")*($V$25:$V$15023=V970),$U$25:$U$15023)))","v":""},"","","",null,"","","","","","","","","","","","","","","",null,null,"","","","","","","","","","","","","","","",null,"","","","","","","","","","","","","","",""]
[null,null,null,null,null,null,null,null,null,null,null,null,null,null,null,null,null,null,null,null,"","","",{"$f":"IF(U971=\"\",\"\",MEDIAN(IF(($U$25:$U$15023<>\"\")*($V$25:$V$15023=V971),$U$25:$U$15023)))","v":""},"","","",null,"","","","","","","","","","","","","","","",null,null,"","","","","","","","","","","","","","","",null,"","","","","","","","","","","","","","",""]
[null,null,null,null,null,null,null,null,null,null,null,null,null,null,null,null,null,null,null,null,"","","",{"$f":"IF(U972=\"\",\"\",MEDIAN(IF(($U$25:$U$15023<>\"\")*($V$25:$V$15023=V972),$U$25:$U$15023)))","v":""},"","","",null,"","","","","","","","","","","","","","","",null,null,"","","","","","","","","","","","","","","",null,"","","","","","","","","","","","","","",""]
[null,null,null,null,null,null,null,null,null,null,null,null,null,null,null,null,null,null,null,null,"","","",{"$f":"IF(U973=\"\",\"\",MEDIAN(IF(($U$25:$U$15023<>\"\")*($V$25:$V$15023=V973),$U$25:$U$15023)))","v":""},"","","",null,"","","","","","","","","","","","","","","",null,null,"","","","","","","","","","","","","","","",null,"","","","","","","","","","","","","","",""]
[null,null,null,null,null,null,null,null,null,null,null,null,null,null,null,null,null,null,null,null,"","","",{"$f":"IF(U974=\"\",\"\",MEDIAN(IF(($U$25:$U$15023<>\"\")*($V$25:$V$15023=V974),$U$25:$U$15023)))","v":""},"","","",null,"","","","","","","","","","","","","","","",null,null,"","","","","","","","","","","","","","","",null,"","","","","","","","","","","","","","",""]
[null,null,null,null,null,null,null,null,null,null,null,null,null,null,null,null,null,null,null,null,"","","",{"$f":"IF(U975=\"\",\"\",MEDIAN(IF(($U$25:$U$15023<>\"\")*($V$25:$V$15023=V975),$U$25:$U$15023)))","v":""},"","","",null,"","","","","","","","","","","","","","","",null,null,"","","","","","","","","","","","","","","",null,"","","","","","","","","","","","","","",""]
[null,null,null,null,null,null,null,null,null,null,null,null,null,null,null,null,null,null,null,null,"","","",{"$f":"IF(U976=\"\",\"\",MEDIAN(IF(($U$25:$U$15023<>\"\")*($V$25:$V$15023=V976),$U$25:$U$15023)))","v":""},"","","",null,"","","","","","","","","","","","","","","",null,null,"","","","","","","","","","","","","","","",null,"","","","","","","","","","","","","","",""]
[null,null,null,null,null,null,null,null,null,null,null,null,null,null,null,null,null,null,null,null,"","","",{"$f":"IF(U977=\"\",\"\",MEDIAN(IF(($U$25:$U$15023<>\"\")*($V$25:$V$15023=V977),$U$25:$U$15023)))","v":""},"","","",null,"","","","","","","","","","","","","","","",null,null,"","","","","","","","","","","","","","","",null,"","","","","","","","","","","","","","",""]
[null,null,null,null,null,null,null,null,null,null,null,null,null,null,null,null,null,null,null,null,"","","",{"$f":"IF(U978=\"\",\"\",MEDIAN(IF(($U$25:$U$15023<>\"\")*($V$25:$V$15023=V978),$U$25:$U$15023)))","v":""},"","","",null,"","","","","","","","","","","","","","","",null,null,"","","","","","","","","","","","","","","",null,"","","","","","","","","","","","","","",""]
[null,null,null,null,null,null,null,null,null,null,null,null,null,null,null,null,null,null,null,null,"","","",{"$f":"IF(U979=\"\",\"\",MEDIAN(IF(($U$25:$U$15023<>\"\")*($V$25:$V$15023=V979),$U$25:$U$15023)))","v":""},"","","",null,"","","","","","","","","","","","","","","",null,null,"","","","","","","","","","","","","","","",null,"","","","","","","","","","","","","","",""]
[null,null,null,null,null,null,null,null,null,null,null,null,null,null,null,null,null,null,null,null,"","","",{"$f":"IF(U980=\"\",\"\",MEDIAN(IF(($U$25:$U$15023<>\"\")*($V$25:$V$15023=V980),$U$25:$U$15023)))","v":""},"","","",null,"","","","","","","","","","","","","","","",null,null,"","","","","","","","","","","","","","","",null,"","","","","","","","","","","","","","",""]
[null,null,null,null,null,null,null,null,null,null,null,null,null,null,null,null,null,null,null,null,"","","",{"$f":"IF(U981=\"\",\"\",MEDIAN(IF(($U$25:$U$15023<>\"\")*($V$25:$V$15023=V981),$U$25:$U$15023)))","v":""},"","","",null,"","","","","","","","","","","","","","","",null,null,"","","","","","","","","","","","","","","",null,"","","","","","","","","","","","","","",""]
[null,null,null,null,null,null,null,null,null,null,null,null,null,null,null,null,null,null,null,null,"","","",{"$f":"IF(U982=\"\",\"\",MEDIAN(IF(($U$25:$U$15023<>\"\")*($V$25:$V$15023=V982),$U$25:$U$15023)))","v":""},"","","",null,"","","","","","","","","","","","","","","",null,null,"","","","","","","","","","","","","","","",null,"","","","","","","","","","","","","","",""]
[null,null,null,null,null,null,null,null,null,null,null,null,null,null,null,null,null,null,null,null,"","","",{"$f":"IF(U983=\"\",\"\",MEDIAN(IF(($U$25:$U$15023<>\"\")*($V$25:$V$15023=V983),$U$25:$U$15023)))","v":""},"","","",null,"","","","","","","","","","","","","","","",null,null,"","","","","","","","","","","","","","","",null,"","","","","","","","","","","","","","",""]
[null,null,null,null,null,null,null,null,null,null,null,null,null,null,null,null,null,null,null,null,"","","",{"$f":"IF(U984=\"\",\"\",MEDIAN(IF(($U$25:$U$15023<>\"\")*($V$25:$V$15023=V984),$U$25:$U$15023)))","v":""},"","","",null,"","","","","","","","","","","","","","","",null,null,"","","","","","","","","","","","","","","",null,"","","","","","","","","","","","","","",""]
[null,null,null,null,null,null,null,null,null,null,null,null,null,null,null,null,null,null,null,null,"","","",{"$f":"IF(U985=\"\",\"\",MEDIAN(IF(($U$25:$U$15023<>\"\")*($V$25:$V$15023=V985),$U$25:$U$15023)))","v":""},"","","",null,"","","","","","","","","","","","","","","",null,null,"","","","","","","","","","","","","","","",null,"","","","","","","","","","","","","","",""]
[null,null,null,null,null,null,null,null,null,null,null,null,null,null,null,null,null,null,null,null,{"$f":"IF(A986=\"\",\"\",A986)","v":""},{"$f":"IF(B986=\"\",\"\",B986)","v":""},{"$f":"IF(U986=\"\",\"\",RANK(U986,$U$25:$U$15023,1)+(COUNT($U$25:$U$15023)+1-RANK(U986,$U$25:$U$15023,0)-RANK(U986,$U$25:$U$15023,1))/2)","v":""},{"$f":"IF(U986=\"\",\"\",MEDIAN(IF(($U$25:$U$15023<>\"\")*($V$25:$V$15023=V986),$U$25:$U$15023)))","v":""},{"$f":"IF(U986=\"\",\"\",ABS(X986-U986))","v":""},{"$f":"IF(V986=\"\",\"\",AVERAGEIF($V$25:$V$15023,V986,$Y$25:$Y$15023))","v":""},{"$f":"IF(V986=\"\",\"\",(Y986-Z986)^2)","v":""},null,"","","","","","","","","","","","","","","",null,null,{"$f":"IF(D986=\"\",\"\",ABS(D986-MEDIAN(D$25:D$1024)))","v":""},{"$f":"IF(E986=\"\",\"\",ABS(E986-MEDIAN(E$25:E$1024)))","v":""},{"$f":"IF(F986=\"\",\"\",ABS(F986-MEDIAN(F$25:F$1024)))","v":""},{"$f":"IF(G986=\"\",\"\",ABS(G986-MEDIAN(G$25:G$1024)))","v":""},{"$f":"IF(H986=\"\",\"\",ABS(H986-MEDIAN(H$25:H$1024)))","v":""},{"$f":"IF(I986=\"\",\"\",ABS(I986-MEDIAN(I$25:I$1024)))","v":""},{"$f":"IF(J986=\"\",\"\",ABS(J986-MEDIAN(J$25:J$1024)))","v":""},{"$f":"IF(K986=\"\",\"\",ABS(K986-MEDIAN(K$25:K$1024)))","v":""},{"$f":"IF(L986=\"\",\"\",ABS(L986-MEDIAN(L$25:L$1024)))","v":""},{"$f":"IF(M986=\"\",\"\",ABS(M986-MEDIAN(M$25:M$1024)))","v":""},{"$f":"IF(N986=\"\",\"\",ABS(N986-MEDIAN(N$25:N$1024)))","v":""},{"$f":"IF(O986=\"\",\"\",ABS(O986-MEDIAN(O$25:O$1024)))","v":""},{"$f":"IF(P986=\"\",\"\",ABS(P986-MEDIAN(P$25:P$1024)))","v":""},{"$f":"IF(Q986=\"\",\"\",ABS(Q986-MEDIAN(Q$25:Q$1024)))","v":""},{"$f":"IF(R986=\"\",\"\",ABS(R986-MEDIAN(R$25:R$1024)))","v":""},null,{"$f":"IF(AT986=\"\",\"\",(AT986-AT$22)^2)","v":""},{"$f":"IF(AU986=\"\",\"\",(AU986-AU$22)^2)","v":""},{"$f":"IF(AV986=\"\",\"\",(AV986-AV$22)^2)","v":""},{"$f":"IF(AW986=\"\",\"\",(AW986-AW$22)^2)","v":""},{"$f":"IF(AX986=\"\",\"\",(AX986-AX$22)^2)","v":""},{"$f":"IF(AY986=\"\",\"\",(AY986-AY$22)^2)","v":""},{"$f":"IF(AZ986=\"\",\"\",(AZ986-AZ$22)^2)","v":""},{"$f":"IF(BA986=\"\",\"\",(BA986-BA$22)^2)","v":""},{"$f":"IF(BB986=\"\",\"\",(BB986-BB$22)^2)","v":""},{"$f":"IF(BC986=\"\",\"\",(BC986-BC$22)^2)","v":""},{"$f":"IF(BD986=\"\",\"\",(BD986-BD$22)^2)","v":""},{"$f":"IF(BE986=\"\",\"\",(BE986-BE$22)^2)","v":""},{"$f":"IF(BF986=\"\",\"\",(BF986-BF$22)^2)","v":""},{"$f":"IF(BG986=\"\",\"\",(BG986-BG$22)^2)","v":""},{"$f":"IF(BH986=\"\",\"\",(BH986-BH$22)^2)","v":""}]
[null,null,null,null,null,null,null,null,null,null,null,null,null,null,null,null,null,null,null,null,"","","",{"$f":"IF(U987=\"\",\"\",MEDIAN(IF(($U$25:$U$15023<>\"\")*($V$25:$V$15023=V987),$U$25:$U$15023)))","v":""},"","","",null,"","","","","","","","","","","","","","","",null,null,"","","","","","","","","","","","","","","",null,"","","","","","","","","","","","","","",""]
[null,null,null,null,null,null,null,null,null,null,null,null,null,null,null,null,null,null,null,null,"","","",{"$f":"IF(U988=\"\",\"\",MEDIAN(IF(($U$25:$U$15023<>\"\")*($V$25:$V$15023=V988),$U$25:$U$15023)))","v":""},"","","",null,"","","","","","","","","","","","","","","",null,null,"","","","","","","","","","","","","","","",null,"","","","","","","","","","","","","","",""]
[null,null,null,null,null,null,null,null,null,null,null,null,null,null,null,null,null,null,null,null,"","","",{"$f":"IF(U989=\"\",\"\",MEDIAN(IF(($U$25:$U$15023<>\"\")*($V$25:$V$15023=V989),$U$25:$U$15023)))","v":""},"","","",null,"","","","","","","","","","","","","","","",null,null,"","","","","","","","","","","","","","","",null,"","","","","","","","","","","","","","",""]
[null,null,null,null,null,null,null,null,null,null,null,null,null,null,null,null,null,null,null,null,"","","",{"$f":"IF(U990=\"\",\"\",MEDIAN(IF(($U$25:$U$15023<>\"\")*($V$25:$V$15023=V990),$U$25:$U$15023)))","v":""},"","","",null,"","","","","","","","","","","","","","","",null,null,"","","","","","","","","","","","","","","",null,"","","","","","","","","","","","","","",""]
[null,null,null,null,null,null,null,null,null,null,null,null,null,null,null,null,null,null,null,null,"","","",{"$f":"IF(U991=\"\",\"\",MEDIAN(IF(($U$25:$U$15023<>\"\")*($V$25:$V$15023=V991),$U$25:$U$15023)))","v":""},"","","",null,"","","","","","","","","","","","","","","",null,null,"","","","","","","","","","","","","","","",null,"","","","","","","","","","","","","","",""]
[null,null,null,null,null,null,null,null,null,null,null,null,null,null,null,null,null,null,null,null,"","","",{"$f":"IF(U992=\"\",\"\",MEDIAN(IF(($U$25:$U$15023<>\"\")*($V$25:$V$15023=V992),$U$25:$U$15023)))","v":""},"","","",null,"","","","","","","","","","","","","","","",null,null,"","","","","","","","","","","","","","","",null,"","","","","","","","","","","","","","",""]
[null,null,null,null,null,null,null,null,null,null,null,null,null,null,null,null,null,null,null,null,"","","",{"$f":"IF(U993=\"\",\"\",MEDIAN(IF(($U$25:$U$15023<>\"\")*($V$25:$V$15023=V993),$U$25:$U$15023)))","v":""},"","","",null,{"$f":"IF(D993=\"\",\"\",RANK(D993,$D$25:$R$1024,1)+(COUNT($D$25:$R$1024)+1-RANK(D993,$D$25:$R$1024,0)-RANK(D993,$D$25:$R$1024,1))/2)","v":""},{"$f":"IF(E993=\"\",\"\",RANK(E993,$D$25:$R$1024,1)+(COUNT($D$25:$R$1024)+1-RANK(E993,$D$25:$R$1024,0)-RANK(E993,$D$25:$R$1024,1))/2)","v":""},{"$f":"IF(F993=\"\",\"\",RANK(F993,$D$25:$R$1024,1)+(COUNT($D$25:$R$1024)+1-RANK(F993,$D$25:$R$1024,0)-RANK(F993,$D$25:$R$1024,1))/2)","v":""},{"$f":"IF(G993=\"\",\"\",RANK(G993,$D$25:$R$1024,1)+(COUNT($D$25:$R$1024)+1-RANK(G993,$D$25:$R$1024,0)-RANK(G993,$D$25:$R$1024,1))/2)","v":""},{"$f":"IF(H993=\"\",\"\",RANK(H993,$D$25:$R$1024,1)+(COUNT($D$25:$R$1024)+1-RANK(H993,$D$25:$R$1024,0)-RANK(H993,$D$25:$R$1024,1))/2)","v":""},{"$f":"IF(I993=\"\",\"\",RANK(I993,$D$25:$R$1024,1)+(COUNT($D$25:$R$1024)+1-RANK(I993,$D$25:$R$1024,0)-RANK(I993,$D$25:$R$1024,1))/2)","v":""},{"$f":"IF(J993=\"\",\"\",RANK(J993,$D$25:$R$1024,1)+(COUNT($D$25:$R$1024)+1-RANK(J993,$D$25:$R$1024,0)-RANK(J993,$D$25:$R$1024,1))/2)","v":""},{"$f":"IF(K993=\"\",\"\",RANK(K993,$D$25:$R$1024,1)+(COUNT($D$25:$R$1024)+1-RANK(K993,$D$25:$R$1024,0)-RANK(K993,$D$25:$R$1024,1))/2)","v":""},{"$f":"IF(L993=\"\",\"\",RANK(L993,$D$25:$R$1024,1)+(COUNT($D$25:$R$1024)+1-RANK(L993,$D$25:$R$1024,0)-RANK(L993,$D$25:$R$1024,1))/2)","v":""},{"$f":"IF(M993=\"\",\"\",RANK(M993,$D$25:$R$1024,1)+(COUNT($D$25:$R$1024)+1-RANK(M993,$D$25:$R$1024,0)-RANK(M993,$D$25:$R$1024,1))/2)","v":""},{"$f":"IF(N993=\"\",\"\",RANK(N993,$D$25:$R$1024,1)+(COUNT($D$25:$R$1024)+1-RANK(N993,$D$25:$R$1024,0)-RANK(N993,$D$25:$R$1024,1))/2)","v":""},{"$f":"IF(O993=\"\",\"\",RANK(O993,$D$25:$R$1024,1)+(COUNT($D$25:$R$1024)+1-RANK(O993,$D$25:$R$1024,0)-RANK(O993,$D$25:$R$1024,1))/2)","v":""},{"$f":"IF(P993=\"\",\"\",RANK(P993,$D$25:$R$1024,1)+(COUNT($D$25:$R$1024)+1-RANK(P993,$D$25:$R$1024,0)-RANK(P993,$D$25:$R$1024,1))/2)","v":""},{"$f":"IF(Q993=\"\",\"\",RANK(Q993,$D$25:$R$1024,1)+(COUNT($D$25:$R$1024)+1-RANK(Q993,$D$25:$R$1024,0)-RANK(Q993,$D$25:$R$1024,1))/2)","v":""},{"$f":"IF(R993=\"\",\"\",RANK(R993,$D$25:$R$1024,1)+(COUNT($D$25:$R$1024)+1-RANK(R993,$D$25:$R$1024,0)-RANK(R993,$D$25:$R$1024,1))/2)","v":""},null,null,"","","","","","","","","","","","","","","",null,"","","","","","","","","","","","","","",""]
[null,null,null,null,null,null,null,null,null,null,null,null,null,null,null,null,null,null,null,null,"","","",{"$f":"IF(U994=\"\",\"\",MEDIAN(IF(($U$25:$U$15023<>\"\")*($V$25:$V$15023=V994),$U$25:$U$15023)))","v":""},"","","",null,"","","","","","","","","","","","","","","",null,null,"","","","","","","","","","","","","","","",null,"","","","","","","","","","","","","","",""]
[null,null,null,null,null,null,null,null,null,null,null,null,null,null,null,null,null,null,null,null,"","","",{"$f":"IF(U995=\"\",\"\",MEDIAN(IF(($U$25:$U$15023<>\"\")*($V$25:$V$15023=V995),$U$25:$U$15023)))","v":""},"","","",null,"","","","","","","","","","","","","","","",null,null,"","","","","","","","","","","","","","","",null,"","","","","","","","","","","","","","",""]
[null,null,null,null,null,null,null,null,null,null,null,null,null,null,null,null,null,null,null,null,"","","",{"$f":"IF(U996=\"\",\"\",MEDIAN(IF(($U$25:$U$15023<>\"\")*($V$25:$V$15023=V996),$U$25:$U$15023)))","v":""},"","","",null,"","","","","","","","","","","","","","","",null,null,"","","","","","","","","","","","","","","",null,"","","","","","","","","","","","","","",""]
[null,null,null,null,null,null,null,null,null,null,null,null,null,null,null,null,null,null,null,null,"","","",{"$f":"IF(U997=\"\",\"\",MEDIAN(IF(($U$25:$U$15023<>\"\")*($V$25:$V$15023=V997),$U$25:$U$15023)))","v":""},"","","",null,"","","","","","","","","","","","","","","",null,null,"","","","","","","","","","","","","","","",null,"","","","","","","","","","","","","","",""]
[null,null,null,null,null,null,null,null,null,null,null,null,null,null,null,null,null,null,null,null,"","","",{"$f":"IF(U998=\"\",\"\",MEDIAN(IF(($U$25:$U$15023<>\"\")*($V$25:$V$15023=V998),$U$25:$U$15023)))","v":""},"","","",null,"","","","","","","","","","","","","","","",null,null,"","","","","","","","","","","","","","","",null,"","","","","","","","","","","","","","",""]
[null,null,null,null,null,null,null,null,null,null,null,null,null,null,null,null,null,null,null,null,"","","",{"$f":"IF(U999=\"\",\"\",MEDIAN(IF(($U$25:$U$15023<>\"\")*($V$25:$V$15023=V999),$U$25:$U$15023)))","v":""},"","","",null,"","","","","","","","","","","","","","","",null,null,"","","","","","","","","","","","","","","",null,"","","","","","","","","","","","","","",""]
[null,null,null,null,null,null,null,null,null,null,null,null,null,null,null,null,null,null,null,null,"","","",{"$f":"IF(U1000=\"\",\"\",MEDIAN(IF(($U$25:$U$15023<>\"\")*($V$25:$V$15023=V1000),$U$25:$U$15023)))","v":""},"","","",null,"","","","","","","","","","","","","","","",null,null,"","","","","","","","","","","","","","","",null,"","","","","","","","","","","","","","",""]
[null,null,null,null,null,null,null,null,null,null,null,null,null,null,null,null,null,null,null,null,"","","",{"$f":"IF(U1001=\"\",\"\",MEDIAN(IF(($U$25:$U$15023<>\"\")*($V$25:$V$15023=V1001),$U$25:$U$15023)))","v":""},"","","",null,"","","","","","","","","","","","","","","",null,null,"","","","","","","","","","","","","","","",null,"","","","","","","","","","","","","","",""]
[null,null,null,null,null,null,null,null,null,null,null,null,null,null,null,null,null,null,null,null,"","","",{"$f":"IF(U1002=\"\",\"\",MEDIAN(IF(($U$25:$U$15023<>\"\")*($V$25:$V$15023=V1002),$U$25:$U$15023)))","v":""},"","","",null,"","","","","","","","","","","","","","","",null,null,"","","","","","","","","","","","","","","",null,"","","","","","","","","","","","","","",""]
[null,null,null,null,null,null,null,null,null,null,null,null,null,null,null,null,null,null,null,null,"","","",{"$f":"IF(U1003=\"\",\"\",MEDIAN(IF(($U$25:$U$15023<>\"\")*($V$25:$V$15023=V1003),$U$25:$U$15023)))","v":""},"","","",null,"","","","","","","","","","","","","","","",null,null,"","","","","","","","","","","","","","","",null,"","","","","","","","","","","","","","",""]
[null,null,null,null,null,null,null,null,null,null,null,null,null,null,null,null,null,null,null,null,"","","",{"$f":"IF(U1004=\"\",\"\",MEDIAN(IF(($U$25:$U$15023<>\"\")*($V$25:$V$15023=V1004),$U$25:$U$15023)))","v":""},"","","",null,"","","","","","","","","","","","","","","",null,null,"","","","","","","","","","","","","","","",null,"","","","","","","","","","","","","","",""]
[null,null,null,null,null,null,null,null,null,null,null,null,null,null,null,null,null,null,null,null,"","","",{"$f":"IF(U1005=\"\",\"\",MEDIAN(IF(($U$25:$U$15023<>\"\")*($V$25:$V$15023=V1005),$U$25:$U$15023)))","v":""},"","","",null,"","","","","","","","","","","","","","","",null,null,"","","","","","","","","","","","","","","",null,"","","","","","","","","","","","","","",""]
[null,null,null,null,null,null,null,null,null,null,null,null,null,null,null,null,null,null,null,null,"","","",{"$f":"IF(U1006=\"\",\"\",MEDIAN(IF(($U$25:$U$15023<>\"\")*($V$25:$V$15023=V1006),$U$25:$U$15023)))","v":""},"","","",null,"","","","","","","","","","","","","","","",null,null,"","","","","","","","","","","","","","","",null,"","","","","","","","","","","","","","",""]
[null,null,null,null,null,null,null,null,null,null,null,null,null,null,null,null,null,null,null,null,"","","",{"$f":"IF(U1007=\"\",\"\",MEDIAN(IF(($U$25:$U$15023<>\"\")*($V$25:$V$15023=V1007),$U$25:$U$15023)))","v":""},"","","",null,"","","","","","","","","","","","","","","",null,null,"","","","","","","","","","","","","","","",null,"","","","","","","","","","","","","","",""]
[null,null,null,null,null,null,null,null,null,null,null,null,null,null,null,null,null,null,null,null,"","","",{"$f":"IF(U1008=\"\",\"\",MEDIAN(IF(($U$25:$U$15023<>\"\")*($V$25:$V$15023=V1008),$U$25:$U$15023)))","v":""},"","","",null,"","","","","","","","","","","","","","","",null,null,"","","","","","","","","","","","","","","",null,"","","","","","","","","","","","","","",""]
[null,null,null,null,null,null,null,null,null,null,null,null,null,null,null,null,null,null,null,null,"","","",{"$f":"IF(U1009=\"\",\"\",MEDIAN(IF(($U$25:$U$15023<>\"\")*($V$25:$V$15023=V1009),$U$25:$U$15023)))","v":""},"","","",null,"","","","","","","","","","","","","","","",null,null,"","","","","","","","","","","","","","","",null,"","","","","","","","","","","","","","",""]
[null,null,null,null,null,null,null,null,null,null,null,null,null,null,null,null,null,null,null,null,"","","",{"$f":"IF(U1010=\"\",\"\",MEDIAN(IF(($U$25:$U$15023<>\"\")*($V$25:$V$15023=V1010),$U$25:$U$15023)))","v":""},"","","",null,"","","","","","","","","","","","","","","",null,null,"","","","","","","","","","","","","","","",null,"","","","","","","","","","","","","","",""]
[null,null,null,null,null,null,null,null,null,null,null,null,null,null,null,null,null,null,null,null,"","","",{"$f":"IF(U1011=\"\",\"\",MEDIAN(IF(($U$25:$U$15023<>\"\")*($V$25:$V$15023=V1011),$U$25:$U$15023)))","v":""},"","","",null,"","","","","","","","","","","","","","","",null,null,"","","","","","","","","","","","","","","",null,"","","","","","","","","","","","","","",""]
[null,null,null,null,null,null,null,null,null,null,null,null,null,null,null,null,null,null,null,null,"","","",{"$f":"IF(U1012=\"\",\"\",MEDIAN(IF(($U$25:$U$15023<>\"\")*($V$25:$V$15023=V1012),$U$25:$U$15023)))","v":""},"","","",null,"","","","","","","","","","","","","","","",null,null,"","","","","","","","","","","","","","","",null,"","","","","","","","","","","","","","",""]
[null,null,null,null,null,null,null,null,null,null,null,null,null,null,null,null,null,null,null,null,"","","",{"$f":"IF(U1013=\"\",\"\",MEDIAN(IF(($U$25:$U$15023<>\"\")*($V$25:$V$15023=V1013),$U$25:$U$15023)))","v":""},"","","",null,"","","","","","","","","","","","","","","",null,null,"","","","","","","","","","","","","","","",null,"","","","","","","","","","","","","","",""]
[null,null,null,null,null,null,null,null,null,null,null,null,null,null,null,null,null,null,null,null,"","","",{"$f":"IF(U1014=\"\",\"\",MEDIAN(IF(($U$25:$U$15023<>\"\")*($V$25:$V$15023=V1014),$U$25:$U$15023)))","v":""},"","","",null,"","","","","","","","","","","","","","","",null,null,"","","","","","","","","","","","","","","",null,"","","","","","","","","","","","","","",""]
[null,null,null,null,null,null,null,null,null,null,null,null,null,null,null,null,null,null,null,null,"","","",{"$f":"IF(U1015=\"\",\"\",MEDIAN(IF(($U$25:$U$15023<>\"\")*($V$25:$V$15023=V1015),$U$25:$U$15023)))","v":""},"","","",null,"","","","","","","","","","","","","","","",null,null,"","","","","","","","","","","","","","","",null,"","","","","","","","","","","","","","",""]
[null,null,null,null,null,null,null,null,null,null,null,null,null,null,null,null,null,null,null,null,"","","",{"$f":"IF(U1016=\"\",\"\",MEDIAN(IF(($U$25:$U$15023<>\"\")*($V$25:$V$15023=V1016),$U$25:$U$15023)))","v":""},"","","",null,"","","","","","","","","","","","","","","",null,null,"","","","","","","","","","","","","","","",null,"","","","","","","","","","","","","","",""]
[null,null,null,null,null,null,null,null,null,null,null,null,null,null,null,null,null,null,null,null,"","","",{"$f":"IF(U1017=\"\",\"\",MEDIAN(IF(($U$25:$U$15023<>\"\")*($V$25:$V$15023=V1017),$U$25:$U$15023)))","v":""},"","","",null,"","","","","","","","","","","","","","","",null,null,"","","","","","","","","","","","","","","",null,"","","","","","","","","","","","","","",""]
[null,null,null,null,null,null,null,null,null,null,null,null,null,null,null,null,null,null,null,null,"","","",{"$f":"IF(U1018=\"\",\"\",MEDIAN(IF(($U$25:$U$15023<>\"\")*($V$25:$V$15023=V1018),$U$25:$U$15023)))","v":""},"","","",null,"","","","","","","","","","","","","","","",null,null,"","","","","","","","","","","","","","","",null,"","","","","","","","","","","","","","",""]
[null,null,null,null,null,null,null,null,null,null,null,null,null,null,null,null,null,null,null,null,"","","",{"$f":"IF(U1019=\"\",\"\",MEDIAN(IF(($U$25:$U$15023<>\"\")*($V$25:$V$15023=V1019),$U$25:$U$15023)))","v":""},"","","",null,"","","","","","","","","","","","","","","",null,null,"","","","","","","","","","","","","","","",null,"","","","","","","","","","","","","","",""]
[null,null,null,null,null,null,null,null,null,null,null,null,null,null,null,null,null,null,null,null,"","","",{"$f":"IF(U1020=\"\",\"\",MEDIAN(IF(($U$25:$U$15023<>\"\")*($V$25:$V$15023=V1020),$U$25:$U$15023)))","v":""},"","","",null,"","","","","","","","","","","","","","","",null,null,"","","","","","","","","","","","","","","",null,"","","","","","","","","","","","","","",""]
[null,null,null,null,null,null,null,null,null,null,null,null,null,null,null,null,null,null,null,null,"","","",{"$f":"IF(U1021=\"\",\"\",MEDIAN(IF(($U$25:$U$15023<>\"\")*($V$25:$V$15023=V1021),$U$25:$U$15023)))","v":""},"","","",null,"","","","","","","","","","","","","","","",null,null,"","","","","","","","","","","","","","","",null,"","","","","","","","","","","","","","",""]
[null,null,null,null,null,null,null,null,null,null,null,null,null,null,null,null,null,null,null,null,"","","",{"$f":"IF(U1022=\"\",\"\",MEDIAN(IF(($U$25:$U$15023<>\"\")*($V$25:$V$15023=V1022),$U$25:$U$15023)))","v":""},"","","",null,"","","","","","","","","","","","","","","",null,null,"","","","","","","","","","","","","","","",null,"","","","","","","","","","","","","","",""]
[null,null,null,null,null,null,null,null,null,null,null,null,null,null,null,null,null,null,null,null,"","","",{"$f":"IF(U1023=\"\",\"\",MEDIAN(IF(($U$25:$U$15023<>\"\")*($V$25:$V$15023=V1023),$U$25:$U$15023)))","v":""},"","","",null,"","","","","","","","","","","","","","","",null,null,"","","","","","","","","","","","","","","",null,"","","","","","","","","","","","","","",""]
[null,null,null,null,null,null,null,null,null,null,null,null,null,null,null,null,null,null,null,null,"","","",{"$f":"IF(U1024=\"\",\"\",MEDIAN(IF(($U$25:$U$15023<>\"\")*($V$25:$V$15023=V1024),$U$25:$U$15023)))","v":""},"","","",null,"","","","","","","","","","","","","","","",null,null,"","","","","","","","","","","","","","","",null,"","","","","","","","","","","","","","",""]
[null,null,null,null,null,null,null,null,null,null,null,null,null,null,null,null,null,null,null,null,"","","",{"$f":"IF(U1025=\"\",\"\",MEDIAN(IF(($U$25:$U$15023<>\"\")*($V$25:$V$15023=V1025),$U$25:$U$15023)))","v":""},"","","",null,"","","","","","","","","","","","","","",""]
[null,null,null,null,null,null,null,null,null,null,null,null,null,null,null,null,null,null,null,null,"","","",{"$f":"IF(U1026=\"\",\"\",MEDIAN(IF(($U$25:$U$15023<>\"\")*($V$25:$V$15023=V1026),$U$25:$U$15023)))","v":""},"","","",null,"","","","","","","","","","","","","","",""]
[null,null,null,null,null,null,null,null,null,null,null,null,null,null,null,null,null,null,null,null,"","","",{"$f":"IF(U1027=\"\",\"\",MEDIAN(IF(($U$25:$U$15023<>\"\")*($V$25:$V$15023=V1027),$U$25:$U$15023)))","v":""},"","","",null,"","","","","","","","","","","","","","",""]
[null,null,null,null,null,null,null,null,null,null,null,null,null,null,null,null,null,null,null,null,"","","",{"$f":"IF(U1028=\"\",\"\",MEDIAN(IF(($U$25:$U$15023<>\"\")*($V$25:$V$15023=V1028),$U$25:$U$15023)))","v":""},"","","",null,"","","","","","","","","","","","","","",""]
[null,null,null,null,null,null,null,null,null,null,null,null,null,null,null,null,null,null,null,null,"","","",{"$f":"IF(U1029=\"\",\"\",MEDIAN(IF(($U$25:$U$15023<>\"\")*($V$25:$V$15023=V1029),$U$25:$U$15023)))","v":""},"","","",null,"","","","","","","","","","","","","","",""]
[null,null,null,null,null,null,null,null,null,null,null,null,null,null,null,null,null,null,null,null,"","","",{"$f":"IF(U1030=\"\",\"\",MEDIAN(IF(($U$25:$U$15023<>\"\")*($V$25:$V$15023=V1030),$U$25:$U$15023)))","v":""},"","","",null,"","","","","","","","","","","","","","",""]
[null,null,null,null,null,null,null,null,null,null,null,null,null,null,null,null,null,null,null,null,"","","",{"$f":"IF(U1031=\"\",\"\",MEDIAN(IF(($U$25:$U$15023<>\"\")*($V$25:$V$15023=V1031),$U$25:$U$15023)))","v":""},"","","",null,"","","","","","","","","","","","","","",""]
[null,null,null,null,null,null,null,null,null,null,null,null,null,null,null,null,null,null,null,null,"","","",{"$f":"IF(U1032=\"\",\"\",MEDIAN(IF(($U$25:$U$15023<>\"\")*($V$25:$V$15023=V1032),$U$25:$U$15023)))","v":""},"","","",null,"","","","","","","","","","","","","","",""]
[null,null,null,null,null,null,null,null,null,null,null,null,null,null,null,null,null,null,null,null,"","","",{"$f":"IF(U1033=\"\",\"\",MEDIAN(IF(($U$25:$U$15023<>\"\")*($V$25:$V$15023=V1033),$U$25:$U$15023)))","v":""},"","","",null,"","","","","","","","","","","","","","",""]
[null,null,null,null,null,null,null,null,null,null,null,null,null,null,null,null,null,null,null,null,"","","",{"$f":"IF(U1034=\"\",\"\",MEDIAN(IF(($U$25:$U$15023<>\"\")*($V$25:$V$15023=V1034),$U$25:$U$15023)))","v":""},"","","",null,"","","","","","","","","","","","","","",""]
[null,null,null,null,null,null,null,null,null,null,null,null,null,null,null,null,null,null,null,null,"","","",{"$f":"IF(U1035=\"\",\"\",MEDIAN(IF(($U$25:$U$15023<>\"\")*($V$25:$V$15023=V1035),$U$25:$U$15023)))","v":""},"","","",null,"","","","","","","","","","","","","","",""]
[null,null,null,null,null,null,null,null,null,null,null,null,null,null,null,null,null,null,null,null,"","","",{"$f":"IF(U1036=\"\",\"\",MEDIAN(IF(($U$25:$U$15023<>\"\")*($V$25:$V$15023=V1036),$U$25:$U$15023)))","v":""},"","","",null,"","","","","","","","","","","","","","",""]
[null,null,null,null,null,null,null,null,null,null,null,null,null,null,null,null,null,null,null,null,"","","",{"$f":"IF(U1037=\"\",\"\",MEDIAN(IF(($U$25:$U$15023<>\"\")*($V$25:$V$15023=V1037),$U$25:$U$15023)))","v":""},"","","",null,"","","","","","","","","","","","","","",""]
[null,null,null,null,null,null,null,null,null,null,null,null,null,null,null,null,null,null,null,null,"","","",{"$f":"IF(U1038=\"\",\"\",MEDIAN(IF(($U$25:$U$15023<>\"\")*($V$25:$V$15023=V1038),$U$25:$U$15023)))","v":""},"","","",null,"","","","","","","","","","","","","","",""]
[null,null,null,null,null,null,null,null,null,null,null,null,null,null,null,null,null,null,null,null,"","","",{"$f":"IF(U1039=\"\",\"\",MEDIAN(IF(($U$25:$U$15023<>\"\")*($V$25:$V$15023=V1039),$U$25:$U$15023)))","v":""},"","","",null,"","","","","","","","","","","","","","",""]
[null,null,null,null,null,null,null,null,null,null,null,null,null,null,null,null,null,null,null,null,"","","",{"$f":"IF(U1040=\"\",\"\",MEDIAN(IF(($U$25:$U$15023<>\"\")*($V$25:$V$15023=V1040),$U$25:$U$15023)))","v":""},"","","",null,"","","","","","","","","","","","","","",""]
[null,null,null,null,null,null,null,null,null,null,null,null,null,null,null,null,null,null,null,null,"","","",{"$f":"IF(U1041=\"\",\"\",MEDIAN(IF(($U$25:$U$15023<>\"\")*($V$25:$V$15023=V1041),$U$25:$U$15023)))","v":""},"","","",null,"","","","","","","","","","","","","","",""]
[null,null,null,null,null,null,null,null,null,null,null,null,null,null,null,null,null,null,null,null,"","","",{"$f":"IF(U1042=\"\",\"\",MEDIAN(IF(($U$25:$U$15023<>\"\")*($V$25:$V$15023=V1042),$U$25:$U$15023)))","v":""},"","","",null,"","","","","","","","","","","","","","",""]
[null,null,null,null,null,null,null,null,null,null,null,null,null,null,null,null,null,null,null,null,"","","",{"$f":"IF(U1043=\"\",\"\",MEDIAN(IF(($U$25:$U$15023<>\"\")*($V$25:$V$15023=V1043),$U$25:$U$15023)))","v":""},"","","",null,"","","","","","","","","","","","","","",""]
[null,null,null,null,null,null,null,null,null,null,null,null,null,null,null,null,null,null,null,null,"","","",{"$f":"IF(U1044=\"\",\"\",MEDIAN(IF(($U$25:$U$15023<>\"\")*($V$25:$V$15023=V1044),$U$25:$U$15023)))","v":""},"","","",null,"","","","","","","","","","","","","","",""]
[null,null,null,null,null,null,null,null,null,null,null,null,null,null,null,null,null,null,null,null,"","","",{"$f":"IF(U1045=\"\",\"\",MEDIAN(IF(($U$25:$U$15023<>\"\")*($V$25:$V$15023=V1045),$U$25:$U$15023)))","v":""},"","","",null,"","","","","","","","","","","","","","",""]
[null,null,null,null,null,null,null,null,null,null,null,null,null,null,null,null,null,null,null,null,"","","",{"$f":"IF(U1046=\"\",\"\",MEDIAN(IF(($U$25:$U$15023<>\"\")*($V$25:$V$15023=V1046),$U$25:$U$15023)))","v":""},"","","",null,"","","","","","","","","","","","","","",""]
[null,null,null,null,null,null,null,null,null,null,null,null,null,null,null,null,null,null,null,null,"","","",{"$f":"IF(U1047=\"\",\"\",MEDIAN(IF(($U$25:$U$15023<>\"\")*($V$25:$V$15023=V1047),$U$25:$U$15023)))","v":""},"","","",null,"","","","","","","","","","","","","","",""]
[null,null,null,null,null,null,null,null,null,null,null,null,null,null,null,null,null,null,null,null,"","","",{"$f":"IF(U1048=\"\",\"\",MEDIAN(IF(($U$25:$U$15023<>\"\")*($V$25:$V$15023=V1048),$U$25:$U$15023)))","v":""},"","","",null,"","","","","","","","","","","","","","",""]
[null,null,null,null,null,null,null,null,null,null,null,null,null,null,null,null,null,null,null,null,"","","",{"$f":"IF(U1049=\"\",\"\",MEDIAN(IF(($U$25:$U$15023<>\"\")*($V$25:$V$15023=V1049),$U$25:$U$15023)))","v":""},"","","",null,"","","","","","","","","","","","","","",""]
[null,null,null,null,null,null,null,null,null,null,null,null,null,null,null,null,null,null,null,null,{"$f":"IF(A1050=\"\",\"\",A1050)","v":""},{"$f":"IF(B1050=\"\",\"\",B1050)","v":""},{"$f":"IF(U1050=\"\",\"\",RANK(U1050,$U$25:$U$15023,1)+(COUNT($U$25:$U$15023)+1-RANK(U1050,$U$25:$U$15023,0)-RANK(U1050,$U$25:$U$15023,1))/2)","v":""},{"$f":"IF(U1050=\"\",\"\",MEDIAN(IF(($U$25:$U$15023<>\"\")*($V$25:$V$15023=V1050),$U$25:$U$15023)))","v":""},{"$f":"IF(U1050=\"\",\"\",ABS(X1050-U1050))","v":""},{"$f":"IF(V1050=\"\",\"\",AVERAGEIF($V$25:$V$15023,V1050,$Y$25:$Y$15023))","v":""},{"$f":"IF(V1050=\"\",\"\",(Y1050-Z1050)^2)","v":""},null,"","","","","","","","","","","","","","",""]
[null,null,null,null,null,null,null,null,null,null,null,null,null,null,null,null,null,null,null,null,"","","",{"$f":"IF(U1051=\"\",\"\",MEDIAN(IF(($U$25:$U$15023<>\"\")*($V$25:$V$15023=V1051),$U$25:$U$15023)))","v":""},"","","",null,"","","","","","","","","","","","","","",""]
[null,null,null,null,null,null,null,null,null,null,null,null,null,null,null,null,null,null,null,null,"","","",{"$f":"IF(U1052=\"\",\"\",MEDIAN(IF(($U$25:$U$15023<>\"\")*($V$25:$V$15023=V1052),$U$25:$U$15023)))","v":""},"","","",null,"","","","","","","","","","","","","","",""]
[null,null,null,null,null,null,null,null,null,null,null,null,null,null,null,null,null,null,null,null,"","","",{"$f":"IF(U1053=\"\",\"\",MEDIAN(IF(($U$25:$U$15023<>\"\")*($V$25:$V$15023=V1053),$U$25:$U$15023)))","v":""},"","","",null,"","","","","","","","","","","","","","",""]
[null,null,null,null,null,null,null,null,null,null,null,null,null,null,null,null,null,null,null,null,"","","",{"$f":"IF(U1054=\"\",\"\",MEDIAN(IF(($U$25:$U$15023<>\"\")*($V$25:$V$15023=V1054),$U$25:$U$15023)))","v":""},"","","",null,"","","","","","","","","","","","","","",""]
[null,null,null,null,null,null,null,null,null,null,null,null,null,null,null,null,null,null,null,null,"","","",{"$f":"IF(U1055=\"\",\"\",MEDIAN(IF(($U$25:$U$15023<>\"\")*($V$25:$V$15023=V1055),$U$25:$U$15023)))","v":""},"","","",null,"","","","","","","","","","","","","","",""]
[null,null,null,null,null,null,null,null,null,null,null,null,null,null,null,null,null,null,null,null,"","","",{"$f":"IF(U1056=\"\",\"\",MEDIAN(IF(($U$25:$U$15023<>\"\")*($V$25:$V$15023=V1056),$U$25:$U$15023)))","v":""},"","","",null,"","","","","","","","","","","","","","",""]
[null,null,null,null,null,null,null,null,null,null,null,null,null,null,null,null,null,null,null,null,"","","",{"$f":"IF(U1057=\"\",\"\",MEDIAN(IF(($U$25:$U$15023<>\"\")*($V$25:$V$15023=V1057),$U$25:$U$15023)))","v":""},"","","",null,{"$f":"IF(D1057=\"\",\"\",RANK(D1057,$D$25:$R$1024,1)+(COUNT($D$25:$R$1024)+1-RANK(D1057,$D$25:$R$1024,0)-RANK(D1057,$D$25:$R$1024,1))/2)","v":""},{"$f":"IF(E1057=\"\",\"\",RANK(E1057,$D$25:$R$1024,1)+(COUNT($D$25:$R$1024)+1-RANK(E1057,$D$25:$R$1024,0)-RANK(E1057,$D$25:$R$1024,1))/2)","v":""},{"$f":"IF(F1057=\"\",\"\",RANK(F1057,$D$25:$R$1024,1)+(COUNT($D$25:$R$1024)+1-RANK(F1057,$D$25:$R$1024,0)-RANK(F1057,$D$25:$R$1024,1))/2)","v":""},{"$f":"IF(G1057=\"\",\"\",RANK(G1057,$D$25:$R$1024,1)+(COUNT($D$25:$R$1024)+1-RANK(G1057,$D$25:$R$1024,0)-RANK(G1057,$D$25:$R$1024,1))/2)","v":""},{"$f":"IF(H1057=\"\",\"\",RANK(H1057,$D$25:$R$1024,1)+(COUNT($D$25:$R$1024)+1-RANK(H1057,$D$25:$R$1024,0)-RANK(H1057,$D$25:$R$1024,1))/2)","v":""},{"$f":"IF(I1057=\"\",\"\",RANK(I1057,$D$25:$R$1024,1)+(COUNT($D$25:$R$1024)+1-RANK(I1057,$D$25:$R$1024,0)-RANK(I1057,$D$25:$R$1024,1))/2)","v":""},{"$f":"IF(J1057=\"\",\"\",RANK(J1057,$D$25:$R$1024,1)+(COUNT($D$25:$R$1024)+1-RANK(J1057,$D$25:$R$1024,0)-RANK(J1057,$D$25:$R$1024,1))/2)","v":""},{"$f":"IF(K1057=\"\",\"\",RANK(K1057,$D$25:$R$1024,1)+(COUNT($D$25:$R$1024)+1-RANK(K1057,$D$25:$R$1024,0)-RANK(K1057,$D$25:$R$1024,1))/2)","v":""},{"$f":"IF(L1057=\"\",\"\",RANK(L1057,$D$25:$R$1024,1)+(COUNT($D$25:$R$1024)+1-RANK(L1057,$D$25:$R$1024,0)-RANK(L1057,$D$25:$R$1024,1))/2)","v":""},{"$f":"IF(M1057=\"\",\"\",RANK(M1057,$D$25:$R$1024,1)+(COUNT($D$25:$R$1024)+1-RANK(M1057,$D$25:$R$1024,0)-RANK(M1057,$D$25:$R$1024,1))/2)","v":""},{"$f":"IF(N1057=\"\",\"\",RANK(N1057,$D$25:$R$1024,1)+(COUNT($D$25:$R$1024)+1-RANK(N1057,$D$25:$R$1024,0)-RANK(N1057,$D$25:$R$1024,1))/2)","v":""},{"$f":"IF(O1057=\"\",\"\",RANK(O1057,$D$25:$R$1024,1)+(COUNT($D$25:$R$1024)+1-RANK(O1057,$D$25:$R$1024,0)-RANK(O1057,$D$25:$R$1024,1))/2)","v":""},{"$f":"IF(P1057=\"\",\"\",RANK(P1057,$D$25:$R$1024,1)+(COUNT($D$25:$R$1024)+1-RANK(P1057,$D$25:$R$1024,0)-RANK(P1057,$D$25:$R$1024,1))/2)","v":""},{"$f":"IF(Q1057=\"\",\"\",RANK(Q1057,$D$25:$R$1024,1)+(COUNT($D$25:$R$1024)+1-RANK(Q1057,$D$25:$R$1024,0)-RANK(Q1057,$D$25:$R$1024,1))/2)","v":""},{"$f":"IF(R1057=\"\",\"\",RANK(R1057,$D$25:$R$1024,1)+(COUNT($D$25:$R$1024)+1-RANK(R1057,$D$25:$R$1024,0)-RANK(R1057,$D$25:$R$1024,1))/2)","v":""}]
[null,null,null,null,null,null,null,null,null,null,null,null,null,null,null,null,null,null,null,null,"","","",{"$f":"IF(U1058=\"\",\"\",MEDIAN(IF(($U$25:$U$15023<>\"\")*($V$25:$V$15023=V1058),$U$25:$U$15023)))","v":""},"","","",null,"","","","","","","","","","","","","","",""]
[null,null,null,null,null,null,null,null,null,null,null,null,null,null,null,null,null,null,null,null,"","","",{"$f":"IF(U1059=\"\",\"\",MEDIAN(IF(($U$25:$U$15023<>\"\")*($V$25:$V$15023=V1059),$U$25:$U$15023)))","v":""},"","","",null,"","","","","","","","","","","","","","",""]
[null,null,null,null,null,null,null,null,null,null,null,null,null,null,null,null,null,null,null,null,"","","",{"$f":"IF(U1060=\"\",\"\",MEDIAN(IF(($U$25:$U$15023<>\"\")*($V$25:$V$15023=V1060),$U$25:$U$15023)))","v":""},"","","",null,"","","","","","","","","","","","","","",""]
[null,null,null,null,null,null,null,null,null,null,null,null,null,null,null,null,null,null,null,null,"","","",{"$f":"IF(U1061=\"\",\"\",MEDIAN(IF(($U$25:$U$15023<>\"\")*($V$25:$V$15023=V1061),$U$25:$U$15023)))","v":""},"","","",null,"","","","","","","","","","","","","","",""]
[null,null,null,null,null,null,null,null,null,null,null,null,null,null,null,null,null,null,null,null,"","","",{"$f":"IF(U1062=\"\",\"\",MEDIAN(IF(($U$25:$U$15023<>\"\")*($V$25:$V$15023=V1062),$U$25:$U$15023)))","v":""},"","","",null,"","","","","","","","","","","","","","",""]
[null,null,null,null,null,null,null,null,null,null,null,null,null,null,null,null,null,null,null,null,"","","",{"$f":"IF(U1063=\"\",\"\",MEDIAN(IF(($U$25:$U$15023<>\"\")*($V$25:$V$15023=V1063),$U$25:$U$15023)))","v":""},"","","",null,"","","","","","","","","","","","","","",""]
[null,null,null,null,null,null,null,null,null,null,null,null,null,null,null,null,null,null,null,null,"","","",{"$f":"IF(U1064=\"\",\"\",MEDIAN(IF(($U$25:$U$15023<>\"\")*($V$25:$V$15023=V1064),$U$25:$U$15023)))","v":""},"","","",null,"","","","","","","","","","","","","","",""]
[null,null,null,null,null,null,null,null,null,null,null,null,null,null,null,null,null,null,null,null,"","","",{"$f":"IF(U1065=\"\",\"\",MEDIAN(IF(($U$25:$U$15023<>\"\")*($V$25:$V$15023=V1065),$U$25:$U$15023)))","v":""},"","","",null,"","","","","","","","","","","","","","",""]
[null,null,null,null,null,null,null,null,null,null,null,null,null,null,null,null,null,null,null,null,"","","",{"$f":"IF(U1066=\"\",\"\",MEDIAN(IF(($U$25:$U$15023<>\"\")*($V$25:$V$15023=V1066),$U$25:$U$15023)))","v":""},"","","",null,"","","","","","","","","","","","","","",""]
[null,null,null,null,null,null,null,null,null,null,null,null,null,null,null,null,null,null,null,null,"","","",{"$f":"IF(U1067=\"\",\"\",MEDIAN(IF(($U$25:$U$15023<>\"\")*($V$25:$V$15023=V1067),$U$25:$U$15023)))","v":""},"","","",null,"","","","","","","","","","","","","","",""]
[null,null,null,null,null,null,null,null,null,null,null,null,null,null,null,null,null,null,null,null,"","","",{"$f":"IF(U1068=\"\",\"\",MEDIAN(IF(($U$25:$U$15023<>\"\")*($V$25:$V$15023=V1068),$U$25:$U$15023)))","v":""},"","","",null,"","","","","","","","","","","","","","",""]
[null,null,null,null,null,null,null,null,null,null,null,null,null,null,null,null,null,null,null,null,"","","",{"$f":"IF(U1069=\"\",\"\",MEDIAN(IF(($U$25:$U$15023<>\"\")*($V$25:$V$15023=V1069),$U$25:$U$15023)))","v":""},"","","",null,"","","","","","","","","","","","","","",""]
[null,null,null,null,null,null,null,null,null,null,null,null,null,null,null,null,null,null,null,null,"","","",{"$f":"IF(U1070=\"\",\"\",MEDIAN(IF(($U$25:$U$15023<>\"\")*($V$25:$V$15023=V1070),$U$25:$U$15023)))","v":""},"","","",null,"","","","","","","","","","","","","","",""]
[null,null,null,null,null,null,null,null,null,null,null,null,null,null,null,null,null,null,null,null,"","","",{"$f":"IF(U1071=\"\",\"\",MEDIAN(IF(($U$25:$U$15023<>\"\")*($V$25:$V$15023=V1071),$U$25:$U$15023)))","v":""},"","","",null,"","","","","","","","","","","","","","",""]
[null,null,null,null,null,null,null,null,null,null,null,null,null,null,null,null,null,null,null,null,"","","",{"$f":"IF(U1072=\"\",\"\",MEDIAN(IF(($U$25:$U$15023<>\"\")*($V$25:$V$15023=V1072),$U$25:$U$15023)))","v":""},"","","",null,"","","","","","","","","","","","","","",""]
[null,null,null,null,null,null,null,null,null,null,null,null,null,null,null,null,null,null,null,null,"","","",{"$f":"IF(U1073=\"\",\"\",MEDIAN(IF(($U$25:$U$15023<>\"\")*($V$25:$V$15023=V1073),$U$25:$U$15023)))","v":""},"","","",null,"","","","","","","","","","","","","","",""]
[null,null,null,null,null,null,null,null,null,null,null,null,null,null,null,null,null,null,null,null,"","","",{"$f":"IF(U1074=\"\",\"\",MEDIAN(IF(($U$25:$U$15023<>\"\")*($V$25:$V$15023=V1074),$U$25:$U$15023)))","v":""},"","","",null,"","","","","","","","","","","","","","",""]
[null,null,null,null,null,null,null,null,null,null,null,null,null,null,null,null,null,null,null,null,"","","",{"$f":"IF(U1075=\"\",\"\",MEDIAN(IF(($U$25:$U$15023<>\"\")*($V$25:$V$15023=V1075),$U$25:$U$15023)))","v":""},"","","",null,"","","","","","","","","","","","","","",""]
[null,null,null,null,null,null,null,null,null,null,null,null,null,null,null,null,null,null,null,null,"","","",{"$f":"IF(U1076=\"\",\"\",MEDIAN(IF(($U$25:$U$15023<>\"\")*($V$25:$V$15023=V1076),$U$25:$U$15023)))","v":""},"","","",null,"","","","","","","","","","","","","","",""]
[null,null,null,null,null,null,null,null,null,null,null,null,null,null,null,null,null,null,null,null,"","","",{"$f":"IF(U1077=\"\",\"\",MEDIAN(IF(($U$25:$U$15023<>\"\")*($V$25:$V$15023=V1077),$U$25:$U$15023)))","v":""},"","","",null,"","","","","","","","","","","","","","",""]
[null,null,null,null,null,null,null,null,null,null,null,null,null,null,null,null,null,null,null,null,"","","",{"$f":"IF(U1078=\"\",\"\",MEDIAN(IF(($U$25:$U$15023<>\"\")*($V$25:$V$15023=V1078),$U$25:$U$15023)))","v":""},"","","",null,"","","","","","","","","","","","","","",""]
[null,null,null,null,null,null,null,null,null,null,null,null,null,null,null,null,null,null,null,null,"","","",{"$f":"IF(U1079=\"\",\"\",MEDIAN(IF(($U$25:$U$15023<>\"\")*($V$25:$V$15023=V1079),$U$25:$U$15023)))","v":""},"","","",null,"","","","","","","","","","","","","","",""]
[null,null,null,null,null,null,null,null,null,null,null,null,null,null,null,null,null,null,null,null,"","","",{"$f":"IF(U1080=\"\",\"\",MEDIAN(IF(($U$25:$U$15023<>\"\")*($V$25:$V$15023=V1080),$U$25:$U$15023)))","v":""},"","","",null,"","","","","","","","","","","","","","",""]
[null,null,null,null,null,null,null,null,null,null,null,null,null,null,null,null,null,null,null,null,"","","",{"$f":"IF(U1081=\"\",\"\",MEDIAN(IF(($U$25:$U$15023<>\"\")*($V$25:$V$15023=V1081),$U$25:$U$15023)))","v":""},"","","",null,"","","","","","","","","","","","","","",""]
[null,null,null,null,null,null,null,null,null,null,null,null,null,null,null,null,null,null,null,null,"","","",{"$f":"IF(U1082=\"\",\"\",MEDIAN(IF(($U$25:$U$15023<>\"\")*($V$25:$V$15023=V1082),$U$25:$U$15023)))","v":""},"","","",null,"","","","","","","","","","","","","","",""]
[null,null,null,null,null,null,null,null,null,null,null,null,null,null,null,null,null,null,null,null,"","","",{"$f":"IF(U1083=\"\",\"\",MEDIAN(IF(($U$25:$U$15023<>\"\")*($V$25:$V$15023=V1083),$U$25:$U$15023)))","v":""},"","","",null,"","","","","","","","","","","","","","",""]
[null,null,null,null,null,null,null,null,null,null,null,null,null,null,null,null,null,null,null,null,"","","",{"$f":"IF(U1084=\"\",\"\",MEDIAN(IF(($U$25:$U$15023<>\"\")*($V$25:$V$15023=V1084),$U$25:$U$15023)))","v":""},"","","",null,"","","","","","","","","","","","","","",""]
[null,null,null,null,null,null,null,null,null,null,null,null,null,null,null,null,null,null,null,null,"","","",{"$f":"IF(U1085=\"\",\"\",MEDIAN(IF(($U$25:$U$15023<>\"\")*($V$25:$V$15023=V1085),$U$25:$U$15023)))","v":""},"","","",null,"","","","","","","","","","","","","","",""]
[null,null,null,null,null,null,null,null,null,null,null,null,null,null,null,null,null,null,null,null,"","","",{"$f":"IF(U1086=\"\",\"\",MEDIAN(IF(($U$25:$U$15023<>\"\")*($V$25:$V$15023=V1086),$U$25:$U$15023)))","v":""},"","","",null,"","","","","","","","","","","","","","",""]
[null,null,null,null,null,null,null,null,null,null,null,null,null,null,null,null,null,null,null,null,"","","",{"$f":"IF(U1087=\"\",\"\",MEDIAN(IF(($U$25:$U$15023<>\"\")*($V$25:$V$15023=V1087),$U$25:$U$15023)))","v":""},"","","",null,"","","","","","","","","","","","","","",""]
[null,null,null,null,null,null,null,null,null,null,null,null,null,null,null,null,null,null,null,null,"","","",{"$f":"IF(U1088=\"\",\"\",MEDIAN(IF(($U$25:$U$15023<>\"\")*($V$25:$V$15023=V1088),$U$25:$U$15023)))","v":""},"","","",null,"","","","","","","","","","","","","","",""]
[null,null,null,null,null,null,null,null,null,null,null,null,null,null,null,null,null,null,null,null,"","","",{"$f":"IF(U1089=\"\",\"\",MEDIAN(IF(($U$25:$U$15023<>\"\")*($V$25:$V$15023=V1089),$U$25:$U$15023)))","v":""},"","",""]
[null,null,null,null,null,null,null,null,null,null,null,null,null,null,null,null,null,null,null,null,"","","",{"$f":"IF(U1090=\"\",\"\",MEDIAN(IF(($U$25:$U$15023<>\"\")*($V$25:$V$15023=V1090),$U$25:$U$15023)))","v":""},"","",""]
[null,null,null,null,null,null,null,null,null,null,null,null,null,null,null,null,null,null,null,null,"","","",{"$f":"IF(U1091=\"\",\"\",MEDIAN(IF(($U$25:$U$15023<>\"\")*($V$25:$V$15023=V1091),$U$25:$U$15023)))","v":""},"","",""]
[null,null,null,null,null,null,null,null,null,null,null,null,null,null,null,null,null,null,null,null,"","","",{"$f":"IF(U1092=\"\",\"\",MEDIAN(IF(($U$25:$U$15023<>\"\")*($V$25:$V$15023=V1092),$U$25:$U$15023)))","v":""},"","",""]
[null,null,null,null,null,null,null,null,null,null,null,null,null,null,null,null,null,null,null,null,"","","",{"$f":"IF(U1093=\"\",\"\",MEDIAN(IF(($U$25:$U$15023<>\"\")*($V$25:$V$15023=V1093),$U$25:$U$15023)))","v":""},"","",""]
[null,null,null,null,null,null,null,null,null,null,null,null,null,null,null,null,null,null,null,null,"","","",{"$f":"IF(U1094=\"\",\"\",MEDIAN(IF(($U$25:$U$15023<>\"\")*($V$25:$V$15023=V1094),$U$25:$U$15023)))","v":""},"","",""]
[null,null,null,null,null,null,null,null,null,null,null,null,null,null,null,null,null,null,null,null,"","","",{"$f":"IF(U1095=\"\",\"\",MEDIAN(IF(($U$25:$U$15023<>\"\")*($V$25:$V$15023=V1095),$U$25:$U$15023)))","v":""},"","",""]
[null,null,null,null,null,null,null,null,null,null,null,null,null,null,null,null,null,null,null,null,"","","",{"$f":"IF(U1096=\"\",\"\",MEDIAN(IF(($U$25:$U$15023<>\"\")*($V$25:$V$15023=V1096),$U$25:$U$15023)))","v":""},"","",""]
[null,null,null,null,null,null,null,null,null,null,null,null,null,null,null,null,null,null,null,null,"","","",{"$f":"IF(U1097=\"\",\"\",MEDIAN(IF(($U$25:$U$15023<>\"\")*($V$25:$V$15023=V1097),$U$25:$U$15023)))","v":""},"","",""]
[null,null,null,null,null,null,null,null,null,null,null,null,null,null,null,null,null,null,null,null,"","","",{"$f":"IF(U1098=\"\",\"\",MEDIAN(IF(($U$25:$U$15023<>\"\")*($V$25:$V$15023=V1098),$U$25:$U$15023)))","v":""},"","",""]
[null,null,null,null,null,null,null,null,null,null,null,null,null,null,null,null,null,null,null,null,"","","",{"$f":"IF(U1099=\"\",\"\",MEDIAN(IF(($U$25:$U$15023<>\"\")*($V$25:$V$15023=V1099),$U$25:$U$15023)))","v":""},"","",""]
[null,null,null,null,null,null,null,null,null,null,null,null,null,null,null,null,null,null,null,null,"","","",{"$f":"IF(U1100=\"\",\"\",MEDIAN(IF(($U$25:$U$15023<>\"\")*($V$25:$V$15023=V1100),$U$25:$U$15023)))","v":""},"","",""]
[null,null,null,null,null,null,null,null,null,null,null,null,null,null,null,null,null,null,null,null,"","","",{"$f":"IF(U1101=\"\",\"\",MEDIAN(IF(($U$25:$U$15023<>\"\")*($V$25:$V$15023=V1101),$U$25:$U$15023)))","v":""},"","",""]
[null,null,null,null,null,null,null,null,null,null,null,null,null,null,null,null,null,null,null,null,"","","",{"$f":"IF(U1102=\"\",\"\",MEDIAN(IF(($U$25:$U$15023<>\"\")*($V$25:$V$15023=V1102),$U$25:$U$15023)))","v":""},"","",""]
[null,null,null,null,null,null,null,null,null,null,null,null,null,null,null,null,null,null,null,null,"","","",{"$f":"IF(U1103=\"\",\"\",MEDIAN(IF(($U$25:$U$15023<>\"\")*($V$25:$V$15023=V1103),$U$25:$U$15023)))","v":""},"","",""]
[null,null,null,null,null,null,null,null,null,null,null,null,null,null,null,null,null,null,null,null,"","","",{"$f":"IF(U1104=\"\",\"\",MEDIAN(IF(($U$25:$U$15023<>\"\")*($V$25:$V$15023=V1104),$U$25:$U$15023)))","v":""},"","",""]
[null,null,null,null,null,null,null,null,null,null,null,null,null,null,null,null,null,null,null,null,"","","",{"$f":"IF(U1105=\"\",\"\",MEDIAN(IF(($U$25:$U$15023<>\"\")*($V$25:$V$15023=V1105),$U$25:$U$15023)))","v":""},"","",""]
[null,null,null,null,null,null,null,null,null,null,null,null,null,null,null,null,null,null,null,null,"","","",{"$f":"IF(U1106=\"\",\"\",MEDIAN(IF(($U$25:$U$15023<>\"\")*($V$25:$V$15023=V1106),$U$25:$U$15023)))","v":""},"","",""]
[null,null,null,null,null,null,null,null,null,null,null,null,null,null,null,null,null,null,null,null,"","","",{"$f":"IF(U1107=\"\",\"\",MEDIAN(IF(($U$25:$U$15023<>\"\")*($V$25:$V$15023=V1107),$U$25:$U$15023)))","v":""},"","",""]
[null,null,null,null,null,null,null,null,null,null,null,null,null,null,null,null,null,null,null,null,"","","",{"$f":"IF(U1108=\"\",\"\",MEDIAN(IF(($U$25:$U$15023<>\"\")*($V$25:$V$15023=V1108),$U$25:$U$15023)))","v":""},"","",""]
[null,null,null,null,null,null,null,null,null,null,null,null,null,null,null,null,null,null,null,null,"","","",{"$f":"IF(U1109=\"\",\"\",MEDIAN(IF(($U$25:$U$15023<>\"\")*($V$25:$V$15023=V1109),$U$25:$U$15023)))","v":""},"","",""]
[null,null,null,null,null,null,null,null,null,null,null,null,null,null,null,null,null,null,null,null,"","","",{"$f":"IF(U1110=\"\",\"\",MEDIAN(IF(($U$25:$U$15023<>\"\")*($V$25:$V$15023=V1110),$U$25:$U$15023)))","v":""},"","",""]
[null,null,null,null,null,null,null,null,null,null,null,null,null,null,null,null,null,null,null,null,"","","",{"$f":"IF(U1111=\"\",\"\",MEDIAN(IF(($U$25:$U$15023<>\"\")*($V$25:$V$15023=V1111),$U$25:$U$15023)))","v":""},"","",""]
[null,null,null,null,null,null,null,null,null,null,null,null,null,null,null,null,null,null,null,null,"","","",{"$f":"IF(U1112=\"\",\"\",MEDIAN(IF(($U$25:$U$15023<>\"\")*($V$25:$V$15023=V1112),$U$25:$U$15023)))","v":""},"","",""]
[null,null,null,null,null,null,null,null,null,null,null,null,null,null,null,null,null,null,null,null,"","","",{"$f":"IF(U1113=\"\",\"\",MEDIAN(IF(($U$25:$U$15023<>\"\")*($V$25:$V$15023=V1113),$U$25:$U$15023)))","v":""},"","",""]
[null,null,null,null,null,null,null,null,null,null,null,null,null,null,null,null,null,null,null,null,{"$f":"IF(A1114=\"\",\"\",A1114)","v":""},{"$f":"IF(B1114=\"\",\"\",B1114)","v":""},{"$f":"IF(U1114=\"\",\"\",RANK(U1114,$U$25:$U$15023,1)+(COUNT($U$25:$U$15023)+1-RANK(U1114,$U$25:$U$15023,0)-RANK(U1114,$U$25:$U$15023,1))/2)","v":""},{"$f":"IF(U1114=\"\",\"\",MEDIAN(IF(($U$25:$U$15023<>\"\")*($V$25:$V$15023=V1114),$U$25:$U$15023)))","v":""},{"$f":"IF(U1114=\"\",\"\",ABS(X1114-U1114))","v":""},{"$f":"IF(V1114=\"\",\"\",AVERAGEIF($V$25:$V$15023,V1114,$Y$25:$Y$15023))","v":""},{"$f":"IF(V1114=\"\",\"\",(Y1114-Z1114)^2)","v":""}]
[null,null,null,null,null,null,null,null,null,null,null,null,null,null,null,null,null,null,null,null,"","","",{"$f":"IF(U1115=\"\",\"\",MEDIAN(IF(($U$25:$U$15023<>\"\")*($V$25:$V$15023=V1115),$U$25:$U$15023)))","v":""},"","",""]
[null,null,null,null,null,null,null,null,null,null,null,null,null,null,null,null,null,null,null,null,"","","",{"$f":"IF(U1116=\"\",\"\",MEDIAN(IF(($U$25:$U$15023<>\"\")*($V$25:$V$15023=V1116),$U$25:$U$15023)))","v":""},"","",""]
[null,null,null,null,null,null,null,null,null,null,null,null,null,null,null,null,null,null,null,null,"","","",{"$f":"IF(U1117=\"\",\"\",MEDIAN(IF(($U$25:$U$15023<>\"\")*($V$25:$V$15023=V1117),$U$25:$U$15023)))","v":""},"","",""]
[null,null,null,null,null,null,null,null,null,null,null,null,null,null,null,null,null,null,null,null,"","","",{"$f":"IF(U1118=\"\",\"\",MEDIAN(IF(($U$25:$U$15023<>\"\")*($V$25:$V$15023=V1118),$U$25:$U$15023)))","v":""},"","",""]
[null,null,null,null,null,null,null,null,null,null,null,null,null,null,null,null,null,null,null,null,"","","",{"$f":"IF(U1119=\"\",\"\",MEDIAN(IF(($U$25:$U$15023<>\"\")*($V$25:$V$15023=V1119),$U$25:$U$15023)))","v":""},"","",""]
[null,null,null,null,null,null,null,null,null,null,null,null,null,null,null,null,null,null,null,null,"","","",{"$f":"IF(U1120=\"\",\"\",MEDIAN(IF(($U$25:$U$15023<>\"\")*($V$25:$V$15023=V1120),$U$25:$U$15023)))","v":""},"","",""]
[null,null,null,null,null,null,null,null,null,null,null,null,null,null,null,null,null,null,null,null,"","","",{"$f":"IF(U1121=\"\",\"\",MEDIAN(IF(($U$25:$U$15023<>\"\")*($V$25:$V$15023=V1121),$U$25:$U$15023)))","v":""},"","",""]
[null,null,null,null,null,null,null,null,null,null,null,null,null,null,null,null,null,null,null,null,"","","",{"$f":"IF(U1122=\"\",\"\",MEDIAN(IF(($U$25:$U$15023<>\"\")*($V$25:$V$15023=V1122),$U$25:$U$15023)))","v":""},"","",""]
[null,null,null,null,null,null,null,null,null,null,null,null,null,null,null,null,null,null,null,null,"","","",{"$f":"IF(U1123=\"\",\"\",MEDIAN(IF(($U$25:$U$15023<>\"\")*($V$25:$V$15023=V1123),$U$25:$U$15023)))","v":""},"","",""]
[null,null,null,null,null,null,null,null,null,null,null,null,null,null,null,null,null,null,null,null,"","","",{"$f":"IF(U1124=\"\",\"\",MEDIAN(IF(($U$25:$U$15023<>\"\")*($V$25:$V$15023=V1124),$U$25:$U$15023)))","v":""},"","",""]
[null,null,null,null,null,null,null,null,null,null,null,null,null,null,null,null,null,null,null,null,"","","",{"$f":"IF(U1125=\"\",\"\",MEDIAN(IF(($U$25:$U$15023<>\"\")*($V$25:$V$15023=V1125),$U$25:$U$15023)))","v":""},"","",""]
[null,null,null,null,null,null,null,null,null,null,null,null,null,null,null,null,null,null,null,null,"","","",{"$f":"IF(U1126=\"\",\"\",MEDIAN(IF(($U$25:$U$15023<>\"\")*($V$25:$V$15023=V1126),$U$25:$U$15023)))","v":""},"","",""]
[null,null,null,null,null,null,null,null,null,null,null,null,null,null,null,null,null,null,null,null,"","","",{"$f":"IF(U1127=\"\",\"\",MEDIAN(IF(($U$25:$U$15023<>\"\")*($V$25:$V$15023=V1127),$U$25:$U$15023)))","v":""},"","",""]
[null,null,null,null,null,null,null,null,null,null,null,null,null,null,null,null,null,null,null,null,"","","",{"$f":"IF(U1128=\"\",\"\",MEDIAN(IF(($U$25:$U$15023<>\"\")*($V$25:$V$15023=V1128),$U$25:$U$15023)))","v":""},"","",""]
[null,null,null,null,null,null,null,null,null,null,null,null,null,null,null,null,null,null,null,null,"","","",{"$f":"IF(U1129=\"\",\"\",MEDIAN(IF(($U$25:$U$15023<>\"\")*($V$25:$V$15023=V1129),$U$25:$U$15023)))","v":""},"","",""]
[null,null,null,null,null,null,null,null,null,null,null,null,null,null,null,null,null,null,null,null,"","","",{"$f":"IF(U1130=\"\",\"\",MEDIAN(IF(($U$25:$U$15023<>\"\")*($V$25:$V$15023=V1130),$U$25:$U$15023)))","v":""},"","",""]
[null,null,null,null,null,null,null,null,null,null,null,null,null,null,null,null,null,null,null,null,"","","",{"$f":"IF(U1131=\"\",\"\",MEDIAN(IF(($U$25:$U$15023<>\"\")*($V$25:$V$15023=V1131),$U$25:$U$15023)))","v":""},"","",""]
[null,null,null,null,null,null,null,null,null,null,null,null,null,null,null,null,null,null,null,null,"","","",{"$f":"IF(U1132=\"\",\"\",MEDIAN(IF(($U$25:$U$15023<>\"\")*($V$25:$V$15023=V1132),$U$25:$U$15023)))","v":""},"","",""]
[null,null,null,null,null,null,null,null,null,null,null,null,null,null,null,null,null,null,null,null,"","","",{"$f":"IF(U1133=\"\",\"\",MEDIAN(IF(($U$25:$U$15023<>\"\")*($V$25:$V$15023=V1133),$U$25:$U$15023)))","v":""},"","",""]
[null,null,null,null,null,null,null,null,null,null,null,null,null,null,null,null,null,null,null,null,"","","",{"$f":"IF(U1134=\"\",\"\",MEDIAN(IF(($U$25:$U$15023<>\"\")*($V$25:$V$15023=V1134),$U$25:$U$15023)))","v":""},"","",""]
[null,null,null,null,null,null,null,null,null,null,null,null,null,null,null,null,null,null,null,null,"","","",{"$f":"IF(U1135=\"\",\"\",MEDIAN(IF(($U$25:$U$15023<>\"\")*($V$25:$V$15023=V1135),$U$25:$U$15023)))","v":""},"","",""]
[null,null,null,null,null,null,null,null,null,null,null,null,null,null,null,null,null,null,null,null,"","","",{"$f":"IF(U1136=\"\",\"\",MEDIAN(IF(($U$25:$U$15023<>\"\")*($V$25:$V$15023=V1136),$U$25:$U$15023)))","v":""},"","",""]
[null,null,null,null,null,null,null,null,null,null,null,null,null,null,null,null,null,null,null,null,"","","",{"$f":"IF(U1137=\"\",\"\",MEDIAN(IF(($U$25:$U$15023<>\"\")*($V$25:$V$15023=V1137),$U$25:$U$15023)))","v":""},"","",""]
[null,null,null,null,null,null,null,null,null,null,null,null,null,null,null,null,null,null,null,null,"","","",{"$f":"IF(U1138=\"\",\"\",MEDIAN(IF(($U$25:$U$15023<>\"\")*($V$25:$V$15023=V1138),$U$25:$U$15023)))","v":""},"","",""]
[null,null,null,null,null,null,null,null,null,null,null,null,null,null,null,null,null,null,null,null,"","","",{"$f":"IF(U1139=\"\",\"\",MEDIAN(IF(($U$25:$U$15023<>\"\")*($V$25:$V$15023=V1139),$U$25:$U$15023)))","v":""},"","",""]
[null,null,null,null,null,null,null,null,null,null,null,null,null,null,null,null,null,null,null,null,"","","",{"$f":"IF(U1140=\"\",\"\",MEDIAN(IF(($U$25:$U$15023<>\"\")*($V$25:$V$15023=V1140),$U$25:$U$15023)))","v":""},"","",""]
[null,null,null,null,null,null,null,null,null,null,null,null,null,null,null,null,null,null,null,null,"","","",{"$f":"IF(U1141=\"\",\"\",MEDIAN(IF(($U$25:$U$15023<>\"\")*($V$25:$V$15023=V1141),$U$25:$U$15023)))","v":""},"","",""]
[null,null,null,null,null,null,null,null,null,null,null,null,null,null,null,null,null,null,null,null,"","","",{"$f":"IF(U1142=\"\",\"\",MEDIAN(IF(($U$25:$U$15023<>\"\")*($V$25:$V$15023=V1142),$U$25:$U$15023)))","v":""},"","",""]
[null,null,null,null,null,null,null,null,null,null,null,null,null,null,null,null,null,null,null,null,"","","",{"$f":"IF(U1143=\"\",\"\",MEDIAN(IF(($U$25:$U$15023<>\"\")*($V$25:$V$15023=V1143),$U$25:$U$15023)))","v":""},"","",""]
[null,null,null,null,null,null,null,null,null,null,null,null,null,null,null,null,null,null,null,null,"","","",{"$f":"IF(U1144=\"\",\"\",MEDIAN(IF(($U$25:$U$15023<>\"\")*($V$25:$V$15023=V1144),$U$25:$U$15023)))","v":""},"","",""]
[null,null,null,null,null,null,null,null,null,null,null,null,null,null,null,null,null,null,null,null,"","","",{"$f":"IF(U1145=\"\",\"\",MEDIAN(IF(($U$25:$U$15023<>\"\")*($V$25:$V$15023=V1145),$U$25:$U$15023)))","v":""},"","",""]
[null,null,null,null,null,null,null,null,null,null,null,null,null,null,null,null,null,null,null,null,"","","",{"$f":"IF(U1146=\"\",\"\",MEDIAN(IF(($U$25:$U$15023<>\"\")*($V$25:$V$15023=V1146),$U$25:$U$15023)))","v":""},"","",""]
[null,null,null,null,null,null,null,null,null,null,null,null,null,null,null,null,null,null,null,null,"","","",{"$f":"IF(U1147=\"\",\"\",MEDIAN(IF(($U$25:$U$15023<>\"\")*($V$25:$V$15023=V1147),$U$25:$U$15023)))","v":""},"","",""]
[null,null,null,null,null,null,null,null,null,null,null,null,null,null,null,null,null,null,null,null,"","","",{"$f":"IF(U1148=\"\",\"\",MEDIAN(IF(($U$25:$U$15023<>\"\")*($V$25:$V$15023=V1148),$U$25:$U$15023)))","v":""},"","",""]
[null,null,null,null,null,null,null,null,null,null,null,null,null,null,null,null,null,null,null,null,"","","",{"$f":"IF(U1149=\"\",\"\",MEDIAN(IF(($U$25:$U$15023<>\"\")*($V$25:$V$15023=V1149),$U$25:$U$15023)))","v":""},"","",""]
[null,null,null,null,null,null,null,null,null,null,null,null,null,null,null,null,null,null,null,null,"","","",{"$f":"IF(U1150=\"\",\"\",MEDIAN(IF(($U$25:$U$15023<>\"\")*($V$25:$V$15023=V1150),$U$25:$U$15023)))","v":""},"","",""]
[null,null,null,null,null,null,null,null,null,null,null,null,null,null,null,null,null,null,null,null,"","","",{"$f":"IF(U1151=\"\",\"\",MEDIAN(IF(($U$25:$U$15023<>\"\")*($V$25:$V$15023=V1151),$U$25:$U$15023)))","v":""},"","",""]
[null,null,null,null,null,null,null,null,null,null,null,null,null,null,null,null,null,null,null,null,"","","",{"$f":"IF(U1152=\"\",\"\",MEDIAN(IF(($U$25:$U$15023<>\"\")*($V$25:$V$15023=V1152),$U$25:$U$15023)))","v":""},"","",""]
[null,null,null,null,null,null,null,null,null,null,null,null,null,null,null,null,null,null,null,null,"","","",{"$f":"IF(U1153=\"\",\"\",MEDIAN(IF(($U$25:$U$15023<>\"\")*($V$25:$V$15023=V1153),$U$25:$U$15023)))","v":""},"","",""]
[null,null,null,null,null,null,null,null,null,null,null,null,null,null,null,null,null,null,null,null,"","","",{"$f":"IF(U1154=\"\",\"\",MEDIAN(IF(($U$25:$U$15023<>\"\")*($V$25:$V$15023=V1154),$U$25:$U$15023)))","v":""},"","",""]
[null,null,null,null,null,null,null,null,null,null,null,null,null,null,null,null,null,null,null,null,"","","",{"$f":"IF(U1155=\"\",\"\",MEDIAN(IF(($U$25:$U$15023<>\"\")*($V$25:$V$15023=V1155),$U$25:$U$15023)))","v":""},"","",""]
[null,null,null,null,null,null,null,null,null,null,null,null,null,null,null,null,null,null,null,null,"","","",{"$f":"IF(U1156=\"\",\"\",MEDIAN(IF(($U$25:$U$15023<>\"\")*($V$25:$V$15023=V1156),$U$25:$U$15023)))","v":""},"","",""]
[null,null,null,null,null,null,null,null,null,null,null,null,null,null,null,null,null,null,null,null,"","","",{"$f":"IF(U1157=\"\",\"\",MEDIAN(IF(($U$25:$U$15023<>\"\")*($V$25:$V$15023=V1157),$U$25:$U$15023)))","v":""},"","",""]
[null,null,null,null,null,null,null,null,null,null,null,null,null,null,null,null,null,null,null,null,"","","",{"$f":"IF(U1158=\"\",\"\",MEDIAN(IF(($U$25:$U$15023<>\"\")*($V$25:$V$15023=V1158),$U$25:$U$15023)))","v":""},"","",""]
[null,null,null,null,null,null,null,null,null,null,null,null,null,null,null,null,null,null,null,null,"","","",{"$f":"IF(U1159=\"\",\"\",MEDIAN(IF(($U$25:$U$15023<>\"\")*($V$25:$V$15023=V1159),$U$25:$U$15023)))","v":""},"","",""]
[null,null,null,null,null,null,null,null,null,null,null,null,null,null,null,null,null,null,null,null,"","","",{"$f":"IF(U1160=\"\",\"\",MEDIAN(IF(($U$25:$U$15023<>\"\")*($V$25:$V$15023=V1160),$U$25:$U$15023)))","v":""},"","",""]
[null,null,null,null,null,null,null,null,null,null,null,null,null,null,null,null,null,null,null,null,"","","",{"$f":"IF(U1161=\"\",\"\",MEDIAN(IF(($U$25:$U$15023<>\"\")*($V$25:$V$15023=V1161),$U$25:$U$15023)))","v":""},"","",""]
[null,null,null,null,null,null,null,null,null,null,null,null,null,null,null,null,null,null,null,null,"","","",{"$f":"IF(U1162=\"\",\"\",MEDIAN(IF(($U$25:$U$15023<>\"\")*($V$25:$V$15023=V1162),$U$25:$U$15023)))","v":""},"","",""]
[null,null,null,null,null,null,null,null,null,null,null,null,null,null,null,null,null,null,null,null,"","","",{"$f":"IF(U1163=\"\",\"\",MEDIAN(IF(($U$25:$U$15023<>\"\")*($V$25:$V$15023=V1163),$U$25:$U$15023)))","v":""},"","",""]
[null,null,null,null,null,null,null,null,null,null,null,null,null,null,null,null,null,null,null,null,"","","",{"$f":"IF(U1164=\"\",\"\",MEDIAN(IF(($U$25:$U$15023<>\"\")*($V$25:$V$15023=V1164),$U$25:$U$15023)))","v":""},"","",""]
[null,null,null,null,null,null,null,null,null,null,null,null,null,null,null,null,null,null,null,null,"","","",{"$f":"IF(U1165=\"\",\"\",MEDIAN(IF(($U$25:$U$15023<>\"\")*($V$25:$V$15023=V1165),$U$25:$U$15023)))","v":""},"","",""]
[null,null,null,null,null,null,null,null,null,null,null,null,null,null,null,null,null,null,null,null,"","","",{"$f":"IF(U1166=\"\",\"\",MEDIAN(IF(($U$25:$U$15023<>\"\")*($V$25:$V$15023=V1166),$U$25:$U$15023)))","v":""},"","",""]
[null,null,null,null,null,null,null,null,null,null,null,null,null,null,null,null,null,null,null,null,"","","",{"$f":"IF(U1167=\"\",\"\",MEDIAN(IF(($U$25:$U$15023<>\"\")*($V$25:$V$15023=V1167),$U$25:$U$15023)))","v":""},"","",""]
[null,null,null,null,null,null,null,null,null,null,null,null,null,null,null,null,null,null,null,null,"","","",{"$f":"IF(U1168=\"\",\"\",MEDIAN(IF(($U$25:$U$15023<>\"\")*($V$25:$V$15023=V1168),$U$25:$U$15023)))","v":""},"","",""]
[null,null,null,null,null,null,null,null,null,null,null,null,null,null,null,null,null,null,null,null,"","","",{"$f":"IF(U1169=\"\",\"\",MEDIAN(IF(($U$25:$U$15023<>\"\")*($V$25:$V$15023=V1169),$U$25:$U$15023)))","v":""},"","",""]
[null,null,null,null,null,null,null,null,null,null,null,null,null,null,null,null,null,null,null,null,"","","",{"$f":"IF(U1170=\"\",\"\",MEDIAN(IF(($U$25:$U$15023<>\"\")*($V$25:$V$15023=V1170),$U$25:$U$15023)))","v":""},"","",""]
[null,null,null,null,null,null,null,null,null,null,null,null,null,null,null,null,null,null,null,null,"","","",{"$f":"IF(U1171=\"\",\"\",MEDIAN(IF(($U$25:$U$15023<>\"\")*($V$25:$V$15023=V1171),$U$25:$U$15023)))","v":""},"","",""]
[null,null,null,null,null,null,null,null,null,null,null,null,null,null,null,null,null,null,null,null,"","","",{"$f":"IF(U1172=\"\",\"\",MEDIAN(IF(($U$25:$U$15023<>\"\")*($V$25:$V$15023=V1172),$U$25:$U$15023)))","v":""},"","",""]
[null,null,null,null,null,null,null,null,null,null,null,null,null,null,null,null,null,null,null,null,"","","",{"$f":"IF(U1173=\"\",\"\",MEDIAN(IF(($U$25:$U$15023<>\"\")*($V$25:$V$15023=V1173),$U$25:$U$15023)))","v":""},"","",""]
[null,null,null,null,null,null,null,null,null,null,null,null,null,null,null,null,null,null,null,null,"","","",{"$f":"IF(U1174=\"\",\"\",MEDIAN(IF(($U$25:$U$15023<>\"\")*($V$25:$V$15023=V1174),$U$25:$U$15023)))","v":""},"","",""]
[null,null,null,null,null,null,null,null,null,null,null,null,null,null,null,null,null,null,null,null,"","","",{"$f":"IF(U1175=\"\",\"\",MEDIAN(IF(($U$25:$U$15023<>\"\")*($V$25:$V$15023=V1175),$U$25:$U$15023)))","v":""},"","",""]
[null,null,null,null,null,null,null,null,null,null,null,null,null,null,null,null,null,null,null,null,"","","",{"$f":"IF(U1176=\"\",\"\",MEDIAN(IF(($U$25:$U$15023<>\"\")*($V$25:$V$15023=V1176),$U$25:$U$15023)))","v":""},"","",""]
[null,null,null,null,null,null,null,null,null,null,null,null,null,null,null,null,null,null,null,null,"","","",{"$f":"IF(U1177=\"\",\"\",MEDIAN(IF(($U$25:$U$15023<>\"\")*($V$25:$V$15023=V1177),$U$25:$U$15023)))","v":""},"","",""]
[null,null,null,null,null,null,null,null,null,null,null,null,null,null,null,null,null,null,null,null,{"$f":"IF(A1178=\"\",\"\",A1178)","v":""},{"$f":"IF(B1178=\"\",\"\",B1178)","v":""},{"$f":"IF(U1178=\"\",\"\",RANK(U1178,$U$25:$U$15023,1)+(COUNT($U$25:$U$15023)+1-RANK(U1178,$U$25:$U$15023,0)-RANK(U1178,$U$25:$U$15023,1))/2)","v":""},{"$f":"IF(U1178=\"\",\"\",MEDIAN(IF(($U$25:$U$15023<>\"\")*($V$25:$V$15023=V1178),$U$25:$U$15023)))","v":""},{"$f":"IF(U1178=\"\",\"\",ABS(X1178-U1178))","v":""},{"$f":"IF(V1178=\"\",\"\",AVERAGEIF($V$25:$V$15023,V1178,$Y$25:$Y$15023))","v":""},{"$f":"IF(V1178=\"\",\"\",(Y1178-Z1178)^2)","v":""}]
[null,null,null,null,null,null,null,null,null,null,null,null,null,null,null,null,null,null,null,null,"","","",{"$f":"IF(U1179=\"\",\"\",MEDIAN(IF(($U$25:$U$15023<>\"\")*($V$25:$V$15023=V1179),$U$25:$U$15023)))","v":""},"","",""]
[null,null,null,null,null,null,null,null,null,null,null,null,null,null,null,null,null,null,null,null,"","","",{"$f":"IF(U1180=\"\",\"\",MEDIAN(IF(($U$25:$U$15023<>\"\")*($V$25:$V$15023=V1180),$U$25:$U$15023)))","v":""},"","",""]
[null,null,null,null,null,null,null,null,null,null,null,null,null,null,null,null,null,null,null,null,"","","",{"$f":"IF(U1181=\"\",\"\",MEDIAN(IF(($U$25:$U$15023<>\"\")*($V$25:$V$15023=V1181),$U$25:$U$15023)))","v":""},"","",""]
[null,null,null,null,null,null,null,null,null,null,null,null,null,null,null,null,null,null,null,null,"","","",{"$f":"IF(U1182=\"\",\"\",MEDIAN(IF(($U$25:$U$15023<>\"\")*($V$25:$V$15023=V1182),$U$25:$U$15023)))","v":""},"","",""]
[null,null,null,null,null,null,null,null,null,null,null,null,null,null,null,null,null,null,null,null,"","","",{"$f":"IF(U1183=\"\",\"\",MEDIAN(IF(($U$25:$U$15023<>\"\")*($V$25:$V$15023=V1183),$U$25:$U$15023)))","v":""},"","",""]
[null,null,null,null,null,null,null,null,null,null,null,null,null,null,null,null,null,null,null,null,"","","",{"$f":"IF(U1184=\"\",\"\",MEDIAN(IF(($U$25:$U$15023<>\"\")*($V$25:$V$15023=V1184),$U$25:$U$15023)))","v":""},"","",""]
[null,null,null,null,null,null,null,null,null,null,null,null,null,null,null,null,null,null,null,null,"","","",{"$f":"IF(U1185=\"\",\"\",MEDIAN(IF(($U$25:$U$15023<>\"\")*($V$25:$V$15023=V1185),$U$25:$U$15023)))","v":""},"","",""]
[null,null,null,null,null,null,null,null,null,null,null,null,null,null,null,null,null,null,null,null,"","","",{"$f":"IF(U1186=\"\",\"\",MEDIAN(IF(($U$25:$U$15023<>\"\")*($V$25:$V$15023=V1186),$U$25:$U$15023)))","v":""},"","",""]
[null,null,null,null,null,null,null,null,null,null,null,null,null,null,null,null,null,null,null,null,"","","",{"$f":"IF(U1187=\"\",\"\",MEDIAN(IF(($U$25:$U$15023<>\"\")*($V$25:$V$15023=V1187),$U$25:$U$15023)))","v":""},"","",""]
[null,null,null,null,null,null,null,null,null,null,null,null,null,null,null,null,null,null,null,null,"","","",{"$f":"IF(U1188=\"\",\"\",MEDIAN(IF(($U$25:$U$15023<>\"\")*($V$25:$V$15023=V1188),$U$25:$U$15023)))","v":""},"","",""]
[null,null,null,null,null,null,null,null,null,null,null,null,null,null,null,null,null,null,null,null,"","","",{"$f":"IF(U1189=\"\",\"\",MEDIAN(IF(($U$25:$U$15023<>\"\")*($V$25:$V$15023=V1189),$U$25:$U$15023)))","v":""},"","",""]
[null,null,null,null,null,null,null,null,null,null,null,null,null,null,null,null,null,null,null,null,"","","",{"$f":"IF(U1190=\"\",\"\",MEDIAN(IF(($U$25:$U$15023<>\"\")*($V$25:$V$15023=V1190),$U$25:$U$15023)))","v":""},"","",""]
[null,null,null,null,null,null,null,null,null,null,null,null,null,null,null,null,null,null,null,null,"","","",{"$f":"IF(U1191=\"\",\"\",MEDIAN(IF(($U$25:$U$15023<>\"\")*($V$25:$V$15023=V1191),$U$25:$U$15023)))","v":""},"","",""]
[null,null,null,null,null,null,null,null,null,null,null,null,null,null,null,null,null,null,null,null,"","","",{"$f":"IF(U1192=\"\",\"\",MEDIAN(IF(($U$25:$U$15023<>\"\")*($V$25:$V$15023=V1192),$U$25:$U$15023)))","v":""},"","",""]
[null,null,null,null,null,null,null,null,null,null,null,null,null,null,null,null,null,null,null,null,"","","",{"$f":"IF(U1193=\"\",\"\",MEDIAN(IF(($U$25:$U$15023<>\"\")*($V$25:$V$15023=V1193),$U$25:$U$15023)))","v":""},"","",""]
[null,null,null,null,null,null,null,null,null,null,null,null,null,null,null,null,null,null,null,null,"","","",{"$f":"IF(U1194=\"\",\"\",MEDIAN(IF(($U$25:$U$15023<>\"\")*($V$25:$V$15023=V1194),$U$25:$U$15023)))","v":""},"","",""]
[null,null,null,null,null,null,null,null,null,null,null,null,null,null,null,null,null,null,null,null,"","","",{"$f":"IF(U1195=\"\",\"\",MEDIAN(IF(($U$25:$U$15023<>\"\")*($V$25:$V$15023=V1195),$U$25:$U$15023)))","v":""},"","",""]
[null,null,null,null,null,null,null,null,null,null,null,null,null,null,null,null,null,null,null,null,"","","",{"$f":"IF(U1196=\"\",\"\",MEDIAN(IF(($U$25:$U$15023<>\"\")*($V$25:$V$15023=V1196),$U$25:$U$15023)))","v":""},"","",""]
[null,null,null,null,null,null,null,null,null,null,null,null,null,null,null,null,null,null,null,null,"","","",{"$f":"IF(U1197=\"\",\"\",MEDIAN(IF(($U$25:$U$15023<>\"\")*($V$25:$V$15023=V1197),$U$25:$U$15023)))","v":""},"","",""]
[null,null,null,null,null,null,null,null,null,null,null,null,null,null,null,null,null,null,null,null,"","","",{"$f":"IF(U1198=\"\",\"\",MEDIAN(IF(($U$25:$U$15023<>\"\")*($V$25:$V$15023=V1198),$U$25:$U$15023)))","v":""},"","",""]
[null,null,null,null,null,null,null,null,null,null,null,null,null,null,null,null,null,null,null,null,"","","",{"$f":"IF(U1199=\"\",\"\",MEDIAN(IF(($U$25:$U$15023<>\"\")*($V$25:$V$15023=V1199),$U$25:$U$15023)))","v":""},"","",""]
[null,null,null,null,null,null,null,null,null,null,null,null,null,null,null,null,null,null,null,null,"","","",{"$f":"IF(U1200=\"\",\"\",MEDIAN(IF(($U$25:$U$15023<>\"\")*($V$25:$V$15023=V1200),$U$25:$U$15023)))","v":""},"","",""]
[null,null,null,null,null,null,null,null,null,null,null,null,null,null,null,null,null,null,null,null,"","","",{"$f":"IF(U1201=\"\",\"\",MEDIAN(IF(($U$25:$U$15023<>\"\")*($V$25:$V$15023=V1201),$U$25:$U$15023)))","v":""},"","",""]
[null,null,null,null,null,null,null,null,null,null,null,null,null,null,null,null,null,null,null,null,"","","",{"$f":"IF(U1202=\"\",\"\",MEDIAN(IF(($U$25:$U$15023<>\"\")*($V$25:$V$15023=V1202),$U$25:$U$15023)))","v":""},"","",""]
[null,null,null,null,null,null,null,null,null,null,null,null,null,null,null,null,null,null,null,null,"","","",{"$f":"IF(U1203=\"\",\"\",MEDIAN(IF(($U$25:$U$15023<>\"\")*($V$25:$V$15023=V1203),$U$25:$U$15023)))","v":""},"","",""]
[null,null,null,null,null,null,null,null,null,null,null,null,null,null,null,null,null,null,null,null,"","","",{"$f":"IF(U1204=\"\",\"\",MEDIAN(IF(($U$25:$U$15023<>\"\")*($V$25:$V$15023=V1204),$U$25:$U$15023)))","v":""},"","",""]
[null,null,null,null,null,null,null,null,null,null,null,null,null,null,null,null,null,null,null,null,"","","",{"$f":"IF(U1205=\"\",\"\",MEDIAN(IF(($U$25:$U$15023<>\"\")*($V$25:$V$15023=V1205),$U$25:$U$15023)))","v":""},"","",""]
[null,null,null,null,null,null,null,null,null,null,null,null,null,null,null,null,null,null,null,null,"","","",{"$f":"IF(U1206=\"\",\"\",MEDIAN(IF(($U$25:$U$15023<>\"\")*($V$25:$V$15023=V1206),$U$25:$U$15023)))","v":""},"","",""]
[null,null,null,null,null,null,null,null,null,null,null,null,null,null,null,null,null,null,null,null,"","","",{"$f":"IF(U1207=\"\",\"\",MEDIAN(IF(($U$25:$U$15023<>\"\")*($V$25:$V$15023=V1207),$U$25:$U$15023)))","v":""},"","",""]
[null,null,null,null,null,null,null,null,null,null,null,null,null,null,null,null,null,null,null,null,"","","",{"$f":"IF(U1208=\"\",\"\",MEDIAN(IF(($U$25:$U$15023<>\"\")*($V$25:$V$15023=V1208),$U$25:$U$15023)))","v":""},"","",""]
[null,null,null,null,null,null,null,null,null,null,null,null,null,null,null,null,null,null,null,null,"","","",{"$f":"IF(U1209=\"\",\"\",MEDIAN(IF(($U$25:$U$15023<>\"\")*($V$25:$V$15023=V1209),$U$25:$U$15023)))","v":""},"","",""]
[null,null,null,null,null,null,null,null,null,null,null,null,null,null,null,null,null,null,null,null,"","","",{"$f":"IF(U1210=\"\",\"\",MEDIAN(IF(($U$25:$U$15023<>\"\")*($V$25:$V$15023=V1210),$U$25:$U$15023)))","v":""},"","",""]
[null,null,null,null,null,null,null,null,null,null,null,null,null,null,null,null,null,null,null,null,"","","",{"$f":"IF(U1211=\"\",\"\",MEDIAN(IF(($U$25:$U$15023<>\"\")*($V$25:$V$15023=V1211),$U$25:$U$15023)))","v":""},"","",""]
[null,null,null,null,null,null,null,null,null,null,null,null,null,null,null,null,null,null,null,null,"","","",{"$f":"IF(U1212=\"\",\"\",MEDIAN(IF(($U$25:$U$15023<>\"\")*($V$25:$V$15023=V1212),$U$25:$U$15023)))","v":""},"","",""]
[null,null,null,null,null,null,null,null,null,null,null,null,null,null,null,null,null,null,null,null,"","","",{"$f":"IF(U1213=\"\",\"\",MEDIAN(IF(($U$25:$U$15023<>\"\")*($V$25:$V$15023=V1213),$U$25:$U$15023)))","v":""},"","",""]
[null,null,null,null,null,null,null,null,null,null,null,null,null,null,null,null,null,null,null,null,"","","",{"$f":"IF(U1214=\"\",\"\",MEDIAN(IF(($U$25:$U$15023<>\"\")*($V$25:$V$15023=V1214),$U$25:$U$15023)))","v":""},"","",""]
[null,null,null,null,null,null,null,null,null,null,null,null,null,null,null,null,null,null,null,null,"","","",{"$f":"IF(U1215=\"\",\"\",MEDIAN(IF(($U$25:$U$15023<>\"\")*($V$25:$V$15023=V1215),$U$25:$U$15023)))","v":""},"","",""]
[null,null,null,null,null,null,null,null,null,null,null,null,null,null,null,null,null,null,null,null,"","","",{"$f":"IF(U1216=\"\",\"\",MEDIAN(IF(($U$25:$U$15023<>\"\")*($V$25:$V$15023=V1216),$U$25:$U$15023)))","v":""},"","",""]
[null,null,null,null,null,null,null,null,null,null,null,null,null,null,null,null,null,null,null,null,"","","",{"$f":"IF(U1217=\"\",\"\",MEDIAN(IF(($U$25:$U$15023<>\"\")*($V$25:$V$15023=V1217),$U$25:$U$15023)))","v":""},"","",""]
[null,null,null,null,null,null,null,null,null,null,null,null,null,null,null,null,null,null,null,null,"","","",{"$f":"IF(U1218=\"\",\"\",MEDIAN(IF(($U$25:$U$15023<>\"\")*($V$25:$V$15023=V1218),$U$25:$U$15023)))","v":""},"","",""]
[null,null,null,null,null,null,null,null,null,null,null,null,null,null,null,null,null,null,null,null,"","","",{"$f":"IF(U1219=\"\",\"\",MEDIAN(IF(($U$25:$U$15023<>\"\")*($V$25:$V$15023=V1219),$U$25:$U$15023)))","v":""},"","",""]
[null,null,null,null,null,null,null,null,null,null,null,null,null,null,null,null,null,null,null,null,"","","",{"$f":"IF(U1220=\"\",\"\",MEDIAN(IF(($U$25:$U$15023<>\"\")*($V$25:$V$15023=V1220),$U$25:$U$15023)))","v":""},"","",""]
[null,null,null,null,null,null,null,null,null,null,null,null,null,null,null,null,null,null,null,null,"","","",{"$f":"IF(U1221=\"\",\"\",MEDIAN(IF(($U$25:$U$15023<>\"\")*($V$25:$V$15023=V1221),$U$25:$U$15023)))","v":""},"","",""]
[null,null,null,null,null,null,null,null,null,null,null,null,null,null,null,null,null,null,null,null,"","","",{"$f":"IF(U1222=\"\",\"\",MEDIAN(IF(($U$25:$U$15023<>\"\")*($V$25:$V$15023=V1222),$U$25:$U$15023)))","v":""},"","",""]
[null,null,null,null,null,null,null,null,null,null,null,null,null,null,null,null,null,null,null,null,"","","",{"$f":"IF(U1223=\"\",\"\",MEDIAN(IF(($U$25:$U$15023<>\"\")*($V$25:$V$15023=V1223),$U$25:$U$15023)))","v":""},"","",""]
[null,null,null,null,null,null,null,null,null,null,null,null,null,null,null,null,null,null,null,null,"","","",{"$f":"IF(U1224=\"\",\"\",MEDIAN(IF(($U$25:$U$15023<>\"\")*($V$25:$V$15023=V1224),$U$25:$U$15023)))","v":""},"","",""]
[null,null,null,null,null,null,null,null,null,null,null,null,null,null,null,null,null,null,null,null,"","","",{"$f":"IF(U1225=\"\",\"\",MEDIAN(IF(($U$25:$U$15023<>\"\")*($V$25:$V$15023=V1225),$U$25:$U$15023)))","v":""},"","",""]
[null,null,null,null,null,null,null,null,null,null,null,null,null,null,null,null,null,null,null,null,"","","",{"$f":"IF(U1226=\"\",\"\",MEDIAN(IF(($U$25:$U$15023<>\"\")*($V$25:$V$15023=V1226),$U$25:$U$15023)))","v":""},"","",""]
[null,null,null,null,null,null,null,null,null,null,null,null,null,null,null,null,null,null,null,null,"","","",{"$f":"IF(U1227=\"\",\"\",MEDIAN(IF(($U$25:$U$15023<>\"\")*($V$25:$V$15023=V1227),$U$25:$U$15023)))","v":""},"","",""]
[null,null,null,null,null,null,null,null,null,null,null,null,null,null,null,null,null,null,null,null,"","","",{"$f":"IF(U1228=\"\",\"\",MEDIAN(IF(($U$25:$U$15023<>\"\")*($V$25:$V$15023=V1228),$U$25:$U$15023)))","v":""},"","",""]
[null,null,null,null,null,null,null,null,null,null,null,null,null,null,null,null,null,null,null,null,"","","",{"$f":"IF(U1229=\"\",\"\",MEDIAN(IF(($U$25:$U$15023<>\"\")*($V$25:$V$15023=V1229),$U$25:$U$15023)))","v":""},"","",""]
[null,null,null,null,null,null,null,null,null,null,null,null,null,null,null,null,null,null,null,null,"","","",{"$f":"IF(U1230=\"\",\"\",MEDIAN(IF(($U$25:$U$15023<>\"\")*($V$25:$V$15023=V1230),$U$25:$U$15023)))","v":""},"","",""]
[null,null,null,null,null,null,null,null,null,null,null,null,null,null,null,null,null,null,null,null,"","","",{"$f":"IF(U1231=\"\",\"\",MEDIAN(IF(($U$25:$U$15023<>\"\")*($V$25:$V$15023=V1231),$U$25:$U$15023)))","v":""},"","",""]
[null,null,null,null,null,null,null,null,null,null,null,null,null,null,null,null,null,null,null,null,"","","",{"$f":"IF(U1232=\"\",\"\",MEDIAN(IF(($U$25:$U$15023<>\"\")*($V$25:$V$15023=V1232),$U$25:$U$15023)))","v":""},"","",""]
[null,null,null,null,null,null,null,null,null,null,null,null,null,null,null,null,null,null,null,null,"","","",{"$f":"IF(U1233=\"\",\"\",MEDIAN(IF(($U$25:$U$15023<>\"\")*($V$25:$V$15023=V1233),$U$25:$U$15023)))","v":""},"","",""]
[null,null,null,null,null,null,null,null,null,null,null,null,null,null,null,null,null,null,null,null,"","","",{"$f":"IF(U1234=\"\",\"\",MEDIAN(IF(($U$25:$U$15023<>\"\")*($V$25:$V$15023=V1234),$U$25:$U$15023)))","v":""},"","",""]
[null,null,null,null,null,null,null,null,null,null,null,null,null,null,null,null,null,null,null,null,"","","",{"$f":"IF(U1235=\"\",\"\",MEDIAN(IF(($U$25:$U$15023<>\"\")*($V$25:$V$15023=V1235),$U$25:$U$15023)))","v":""},"","",""]
[null,null,null,null,null,null,null,null,null,null,null,null,null,null,null,null,null,null,null,null,"","","",{"$f":"IF(U1236=\"\",\"\",MEDIAN(IF(($U$25:$U$15023<>\"\")*($V$25:$V$15023=V1236),$U$25:$U$15023)))","v":""},"","",""]
[null,null,null,null,null,null,null,null,null,null,null,null,null,null,null,null,null,null,null,null,"","","",{"$f":"IF(U1237=\"\",\"\",MEDIAN(IF(($U$25:$U$15023<>\"\")*($V$25:$V$15023=V1237),$U$25:$U$15023)))","v":""},"","",""]
[null,null,null,null,null,null,null,null,null,null,null,null,null,null,null,null,null,null,null,null,"","","",{"$f":"IF(U1238=\"\",\"\",MEDIAN(IF(($U$25:$U$15023<>\"\")*($V$25:$V$15023=V1238),$U$25:$U$15023)))","v":""},"","",""]
[null,null,null,null,null,null,null,null,null,null,null,null,null,null,null,null,null,null,null,null,"","","",{"$f":"IF(U1239=\"\",\"\",MEDIAN(IF(($U$25:$U$15023<>\"\")*($V$25:$V$15023=V1239),$U$25:$U$15023)))","v":""},"","",""]
[null,null,null,null,null,null,null,null,null,null,null,null,null,null,null,null,null,null,null,null,"","","",{"$f":"IF(U1240=\"\",\"\",MEDIAN(IF(($U$25:$U$15023<>\"\")*($V$25:$V$15023=V1240),$U$25:$U$15023)))","v":""},"","",""]
[null,null,null,null,null,null,null,null,null,null,null,null,null,null,null,null,null,null,null,null,"","","",{"$f":"IF(U1241=\"\",\"\",MEDIAN(IF(($U$25:$U$15023<>\"\")*($V$25:$V$15023=V1241),$U$25:$U$15023)))","v":""},"","",""]
[null,null,null,null,null,null,null,null,null,null,null,null,null,null,null,null,null,null,null,null,{"$f":"IF(A1242=\"\",\"\",A1242)","v":""},{"$f":"IF(B1242=\"\",\"\",B1242)","v":""},{"$f":"IF(U1242=\"\",\"\",RANK(U1242,$U$25:$U$15023,1)+(COUNT($U$25:$U$15023)+1-RANK(U1242,$U$25:$U$15023,0)-RANK(U1242,$U$25:$U$15023,1))/2)","v":""},{"$f":"IF(U1242=\"\",\"\",MEDIAN(IF(($U$25:$U$15023<>\"\")*($V$25:$V$15023=V1242),$U$25:$U$15023)))","v":""},{"$f":"IF(U1242=\"\",\"\",ABS(X1242-U1242))","v":""},{"$f":"IF(V1242=\"\",\"\",AVERAGEIF($V$25:$V$15023,V1242,$Y$25:$Y$15023))","v":""},{"$f":"IF(V1242=\"\",\"\",(Y1242-Z1242)^2)","v":""}]
[null,null,null,null,null,null,null,null,null,null,null,null,null,null,null,null,null,null,null,null,"","","",{"$f":"IF(U1243=\"\",\"\",MEDIAN(IF(($U$25:$U$15023<>\"\")*($V$25:$V$15023=V1243),$U$25:$U$15023)))","v":""},"","",""]
[null,null,null,null,null,null,null,null,null,null,null,null,null,null,null,null,null,null,null,null,"","","",{"$f":"IF(U1244=\"\",\"\",MEDIAN(IF(($U$25:$U$15023<>\"\")*($V$25:$V$15023=V1244),$U$25:$U$15023)))","v":""},"","",""]
[null,null,null,null,null,null,null,null,null,null,null,null,null,null,null,null,null,null,null,null,"","","",{"$f":"IF(U1245=\"\",\"\",MEDIAN(IF(($U$25:$U$15023<>\"\")*($V$25:$V$15023=V1245),$U$25:$U$15023)))","v":""},"","",""]
[null,null,null,null,null,null,null,null,null,null,null,null,null,null,null,null,null,null,null,null,"","","",{"$f":"IF(U1246=\"\",\"\",MEDIAN(IF(($U$25:$U$15023<>\"\")*($V$25:$V$15023=V1246),$U$25:$U$15023)))","v":""},"","",""]
[null,null,null,null,null,null,null,null,null,null,null,null,null,null,null,null,null,null,null,null,"","","",{"$f":"IF(U1247=\"\",\"\",MEDIAN(IF(($U$25:$U$15023<>\"\")*($V$25:$V$15023=V1247),$U$25:$U$15023)))","v":""},"","",""]
[null,null,null,null,null,null,null,null,null,null,null,null,null,null,null,null,null,null,null,null,"","","",{"$f":"IF(U1248=\"\",\"\",MEDIAN(IF(($U$25:$U$15023<>\"\")*($V$25:$V$15023=V1248),$U$25:$U$15023)))","v":""},"","",""]
[null,null,null,null,null,null,null,null,null,null,null,null,null,null,null,null,null,null,null,null,"","","",{"$f":"IF(U1249=\"\",\"\",MEDIAN(IF(($U$25:$U$15023<>\"\")*($V$25:$V$15023=V1249),$U$25:$U$15023)))","v":""},"","",""]
[null,null,null,null,null,null,null,null,null,null,null,null,null,null,null,null,null,null,null,null,"","","",{"$f":"IF(U1250=\"\",\"\",MEDIAN(IF(($U$25:$U$15023<>\"\")*($V$25:$V$15023=V1250),$U$25:$U$15023)))","v":""},"","",""]
[null,null,null,null,null,null,null,null,null,null,null,null,null,null,null,null,null,null,null,null,"","","",{"$f":"IF(U1251=\"\",\"\",MEDIAN(IF(($U$25:$U$15023<>\"\")*($V$25:$V$15023=V1251),$U$25:$U$15023)))","v":""},"","",""]
[null,null,null,null,null,null,null,null,null,null,null,null,null,null,null,null,null,null,null,null,"","","",{"$f":"IF(U1252=\"\",\"\",MEDIAN(IF(($U$25:$U$15023<>\"\")*($V$25:$V$15023=V1252),$U$25:$U$15023)))","v":""},"","",""]
[null,null,null,null,null,null,null,null,null,null,null,null,null,null,null,null,null,null,null,null,"","","",{"$f":"IF(U1253=\"\",\"\",MEDIAN(IF(($U$25:$U$15023<>\"\")*($V$25:$V$15023=V1253),$U$25:$U$15023)))","v":""},"","",""]
[null,null,null,null,null,null,null,null,null,null,null,null,null,null,null,null,null,null,null,null,"","","",{"$f":"IF(U1254=\"\",\"\",MEDIAN(IF(($U$25:$U$15023<>\"\")*($V$25:$V$15023=V1254),$U$25:$U$15023)))","v":""},"","",""]
[null,null,null,null,null,null,null,null,null,null,null,null,null,null,null,null,null,null,null,null,"","","",{"$f":"IF(U1255=\"\",\"\",MEDIAN(IF(($U$25:$U$15023<>\"\")*($V$25:$V$15023=V1255),$U$25:$U$15023)))","v":""},"","",""]
[null,null,null,null,null,null,null,null,null,null,null,null,null,null,null,null,null,null,null,null,"","","",{"$f":"IF(U1256=\"\",\"\",MEDIAN(IF(($U$25:$U$15023<>\"\")*($V$25:$V$15023=V1256),$U$25:$U$15023)))","v":""},"","",""]
[null,null,null,null,null,null,null,null,null,null,null,null,null,null,null,null,null,null,null,null,"","","",{"$f":"IF(U1257=\"\",\"\",MEDIAN(IF(($U$25:$U$15023<>\"\")*($V$25:$V$15023=V1257),$U$25:$U$15023)))","v":""},"","",""]
[null,null,null,null,null,null,null,null,null,null,null,null,null,null,null,null,null,null,null,null,"","","",{"$f":"IF(U1258=\"\",\"\",MEDIAN(IF(($U$25:$U$15023<>\"\")*($V$25:$V$15023=V1258),$U$25:$U$15023)))","v":""},"","",""]
[null,null,null,null,null,null,null,null,null,null,null,null,null,null,null,null,null,null,null,null,"","","",{"$f":"IF(U1259=\"\",\"\",MEDIAN(IF(($U$25:$U$15023<>\"\")*($V$25:$V$15023=V1259),$U$25:$U$15023)))","v":""},"","",""]
[null,null,null,null,null,null,null,null,null,null,null,null,null,null,null,null,null,null,null,null,"","","",{"$f":"IF(U1260=\"\",\"\",MEDIAN(IF(($U$25:$U$15023<>\"\")*($V$25:$V$15023=V1260),$U$25:$U$15023)))","v":""},"","",""]
[null,null,null,null,null,null,null,null,null,null,null,null,null,null,null,null,null,null,null,null,"","","",{"$f":"IF(U1261=\"\",\"\",MEDIAN(IF(($U$25:$U$15023<>\"\")*($V$25:$V$15023=V1261),$U$25:$U$15023)))","v":""},"","",""]
[null,null,null,null,null,null,null,null,null,null,null,null,null,null,null,null,null,null,null,null,"","","",{"$f":"IF(U1262=\"\",\"\",MEDIAN(IF(($U$25:$U$15023<>\"\")*($V$25:$V$15023=V1262),$U$25:$U$15023)))","v":""},"","",""]
[null,null,null,null,null,null,null,null,null,null,null,null,null,null,null,null,null,null,null,null,"","","",{"$f":"IF(U1263=\"\",\"\",MEDIAN(IF(($U$25:$U$15023<>\"\")*($V$25:$V$15023=V1263),$U$25:$U$15023)))","v":""},"","",""]
[null,null,null,null,null,null,null,null,null,null,null,null,null,null,null,null,null,null,null,null,"","","",{"$f":"IF(U1264=\"\",\"\",MEDIAN(IF(($U$25:$U$15023<>\"\")*($V$25:$V$15023=V1264),$U$25:$U$15023)))","v":""},"","",""]
[null,null,null,null,null,null,null,null,null,null,null,null,null,null,null,null,null,null,null,null,"","","",{"$f":"IF(U1265=\"\",\"\",MEDIAN(IF(($U$25:$U$15023<>\"\")*($V$25:$V$15023=V1265),$U$25:$U$15023)))","v":""},"","",""]
[null,null,null,null,null,null,null,null,null,null,null,null,null,null,null,null,null,null,null,null,"","","",{"$f":"IF(U1266=\"\",\"\",MEDIAN(IF(($U$25:$U$15023<>\"\")*($V$25:$V$15023=V1266),$U$25:$U$15023)))","v":""},"","",""]
[null,null,null,null,null,null,null,null,null,null,null,null,null,null,null,null,null,null,null,null,"","","",{"$f":"IF(U1267=\"\",\"\",MEDIAN(IF(($U$25:$U$15023<>\"\")*($V$25:$V$15023=V1267),$U$25:$U$15023)))","v":""},"","",""]
[null,null,null,null,null,null,null,null,null,null,null,null,null,null,null,null,null,null,null,null,"","","",{"$f":"IF(U1268=\"\",\"\",MEDIAN(IF(($U$25:$U$15023<>\"\")*($V$25:$V$15023=V1268),$U$25:$U$15023)))","v":""},"","",""]
[null,null,null,null,null,null,null,null,null,null,null,null,null,null,null,null,null,null,null,null,"","","",{"$f":"IF(U1269=\"\",\"\",MEDIAN(IF(($U$25:$U$15023<>\"\")*($V$25:$V$15023=V1269),$U$25:$U$15023)))","v":""},"","",""]
[null,null,null,null,null,null,null,null,null,null,null,null,null,null,null,null,null,null,null,null,"","","",{"$f":"IF(U1270=\"\",\"\",MEDIAN(IF(($U$25:$U$15023<>\"\")*($V$25:$V$15023=V1270),$U$25:$U$15023)))","v":""},"","",""]
[null,null,null,null,null,null,null,null,null,null,null,null,null,null,null,null,null,null,null,null,"","","",{"$f":"IF(U1271=\"\",\"\",MEDIAN(IF(($U$25:$U$15023<>\"\")*($V$25:$V$15023=V1271),$U$25:$U$15023)))","v":""},"","",""]
[null,null,null,null,null,null,null,null,null,null,null,null,null,null,null,null,null,null,null,null,"","","",{"$f":"IF(U1272=\"\",\"\",MEDIAN(IF(($U$25:$U$15023<>\"\")*($V$25:$V$15023=V1272),$U$25:$U$15023)))","v":""},"","",""]
[null,null,null,null,null,null,null,null,null,null,null,null,null,null,null,null,null,null,null,null,"","","",{"$f":"IF(U1273=\"\",\"\",MEDIAN(IF(($U$25:$U$15023<>\"\")*($V$25:$V$15023=V1273),$U$25:$U$15023)))","v":""},"","",""]
[null,null,null,null,null,null,null,null,null,null,null,null,null,null,null,null,null,null,null,null,"","","",{"$f":"IF(U1274=\"\",\"\",MEDIAN(IF(($U$25:$U$15023<>\"\")*($V$25:$V$15023=V1274),$U$25:$U$15023)))","v":""},"","",""]
[null,null,null,null,null,null,null,null,null,null,null,null,null,null,null,null,null,null,null,null,"","","",{"$f":"IF(U1275=\"\",\"\",MEDIAN(IF(($U$25:$U$15023<>\"\")*($V$25:$V$15023=V1275),$U$25:$U$15023)))","v":""},"","",""]
[null,null,null,null,null,null,null,null,null,null,null,null,null,null,null,null,null,null,null,null,"","","",{"$f":"IF(U1276=\"\",\"\",MEDIAN(IF(($U$25:$U$15023<>\"\")*($V$25:$V$15023=V1276),$U$25:$U$15023)))","v":""},"","",""]
[null,null,null,null,null,null,null,null,null,null,null,null,null,null,null,null,null,null,null,null,"","","",{"$f":"IF(U1277=\"\",\"\",MEDIAN(IF(($U$25:$U$15023<>\"\")*($V$25:$V$15023=V1277),$U$25:$U$15023)))","v":""},"","",""]
[null,null,null,null,null,null,null,null,null,null,null,null,null,null,null,null,null,null,null,null,"","","",{"$f":"IF(U1278=\"\",\"\",MEDIAN(IF(($U$25:$U$15023<>\"\")*($V$25:$V$15023=V1278),$U$25:$U$15023)))","v":""},"","",""]
[null,null,null,null,null,null,null,null,null,null,null,null,null,null,null,null,null,null,null,null,"","","",{"$f":"IF(U1279=\"\",\"\",MEDIAN(IF(($U$25:$U$15023<>\"\")*($V$25:$V$15023=V1279),$U$25:$U$15023)))","v":""},"","",""]
[null,null,null,null,null,null,null,null,null,null,null,null,null,null,null,null,null,null,null,null,"","","",{"$f":"IF(U1280=\"\",\"\",MEDIAN(IF(($U$25:$U$15023<>\"\")*($V$25:$V$15023=V1280),$U$25:$U$15023)))","v":""},"","",""]
[null,null,null,null,null,null,null,null,null,null,null,null,null,null,null,null,null,null,null,null,"","","",{"$f":"IF(U1281=\"\",\"\",MEDIAN(IF(($U$25:$U$15023<>\"\")*($V$25:$V$15023=V1281),$U$25:$U$15023)))","v":""},"","",""]
[null,null,null,null,null,null,null,null,null,null,null,null,null,null,null,null,null,null,null,null,"","","",{"$f":"IF(U1282=\"\",\"\",MEDIAN(IF(($U$25:$U$15023<>\"\")*($V$25:$V$15023=V1282),$U$25:$U$15023)))","v":""},"","",""]
[null,null,null,null,null,null,null,null,null,null,null,null,null,null,null,null,null,null,null,null,"","","",{"$f":"IF(U1283=\"\",\"\",MEDIAN(IF(($U$25:$U$15023<>\"\")*($V$25:$V$15023=V1283),$U$25:$U$15023)))","v":""},"","",""]
[null,null,null,null,null,null,null,null,null,null,null,null,null,null,null,null,null,null,null,null,"","","",{"$f":"IF(U1284=\"\",\"\",MEDIAN(IF(($U$25:$U$15023<>\"\")*($V$25:$V$15023=V1284),$U$25:$U$15023)))","v":""},"","",""]
[null,null,null,null,null,null,null,null,null,null,null,null,null,null,null,null,null,null,null,null,"","","",{"$f":"IF(U1285=\"\",\"\",MEDIAN(IF(($U$25:$U$15023<>\"\")*($V$25:$V$15023=V1285),$U$25:$U$15023)))","v":""},"","",""]
[null,null,null,null,null,null,null,null,null,null,null,null,null,null,null,null,null,null,null,null,"","","",{"$f":"IF(U1286=\"\",\"\",MEDIAN(IF(($U$25:$U$15023<>\"\")*($V$25:$V$15023=V1286),$U$25:$U$15023)))","v":""},"","",""]
[null,null,null,null,null,null,null,null,null,null,null,null,null,null,null,null,null,null,null,null,"","","",{"$f":"IF(U1287=\"\",\"\",MEDIAN(IF(($U$25:$U$15023<>\"\")*($V$25:$V$15023=V1287),$U$25:$U$15023)))","v":""},"","",""]
[null,null,null,null,null,null,null,null,null,null,null,null,null,null,null,null,null,null,null,null,"","","",{"$f":"IF(U1288=\"\",\"\",MEDIAN(IF(($U$25:$U$15023<>\"\")*($V$25:$V$15023=V1288),$U$25:$U$15023)))","v":""},"","",""]
[null,null,null,null,null,null,null,null,null,null,null,null,null,null,null,null,null,null,null,null,"","","",{"$f":"IF(U1289=\"\",\"\",MEDIAN(IF(($U$25:$U$15023<>\"\")*($V$25:$V$15023=V1289),$U$25:$U$15023)))","v":""},"","",""]
[null,null,null,null,null,null,null,null,null,null,null,null,null,null,null,null,null,null,null,null,"","","",{"$f":"IF(U1290=\"\",\"\",MEDIAN(IF(($U$25:$U$15023<>\"\")*($V$25:$V$15023=V1290),$U$25:$U$15023)))","v":""},"","",""]
[null,null,null,null,null,null,null,null,null,null,null,null,null,null,null,null,null,null,null,null,"","","",{"$f":"IF(U1291=\"\",\"\",MEDIAN(IF(($U$25:$U$15023<>\"\")*($V$25:$V$15023=V1291),$U$25:$U$15023)))","v":""},"","",""]
[null,null,null,null,null,null,null,null,null,null,null,null,null,null,null,null,null,null,null,null,"","","",{"$f":"IF(U1292=\"\",\"\",MEDIAN(IF(($U$25:$U$15023<>\"\")*($V$25:$V$15023=V1292),$U$25:$U$15023)))","v":""},"","",""]
[null,null,null,null,null,null,null,null,null,null,null,null,null,null,null,null,null,null,null,null,"","","",{"$f":"IF(U1293=\"\",\"\",MEDIAN(IF(($U$25:$U$15023<>\"\")*($V$25:$V$15023=V1293),$U$25:$U$15023)))","v":""},"","",""]
[null,null,null,null,null,null,null,null,null,null,null,null,null,null,null,null,null,null,null,null,"","","",{"$f":"IF(U1294=\"\",\"\",MEDIAN(IF(($U$25:$U$15023<>\"\")*($V$25:$V$15023=V1294),$U$25:$U$15023)))","v":""},"","",""]
[null,null,null,null,null,null,null,null,null,null,null,null,null,null,null,null,null,null,null,null,"","","",{"$f":"IF(U1295=\"\",\"\",MEDIAN(IF(($U$25:$U$15023<>\"\")*($V$25:$V$15023=V1295),$U$25:$U$15023)))","v":""},"","",""]
[null,null,null,null,null,null,null,null,null,null,null,null,null,null,null,null,null,null,null,null,"","","",{"$f":"IF(U1296=\"\",\"\",MEDIAN(IF(($U$25:$U$15023<>\"\")*($V$25:$V$15023=V1296),$U$25:$U$15023)))","v":""},"","",""]
[null,null,null,null,null,null,null,null,null,null,null,null,null,null,null,null,null,null,null,null,"","","",{"$f":"IF(U1297=\"\",\"\",MEDIAN(IF(($U$25:$U$15023<>\"\")*($V$25:$V$15023=V1297),$U$25:$U$15023)))","v":""},"","",""]
[null,null,null,null,null,null,null,null,null,null,null,null,null,null,null,null,null,null,null,null,"","","",{"$f":"IF(U1298=\"\",\"\",MEDIAN(IF(($U$25:$U$15023<>\"\")*($V$25:$V$15023=V1298),$U$25:$U$15023)))","v":""},"","",""]
[null,null,null,null,null,null,null,null,null,null,null,null,null,null,null,null,null,null,null,null,"","","",{"$f":"IF(U1299=\"\",\"\",MEDIAN(IF(($U$25:$U$15023<>\"\")*($V$25:$V$15023=V1299),$U$25:$U$15023)))","v":""},"","",""]
[null,null,null,null,null,null,null,null,null,null,null,null,null,null,null,null,null,null,null,null,"","","",{"$f":"IF(U1300=\"\",\"\",MEDIAN(IF(($U$25:$U$15023<>\"\")*($V$25:$V$15023=V1300),$U$25:$U$15023)))","v":""},"","",""]
[null,null,null,null,null,null,null,null,null,null,null,null,null,null,null,null,null,null,null,null,"","","",{"$f":"IF(U1301=\"\",\"\",MEDIAN(IF(($U$25:$U$15023<>\"\")*($V$25:$V$15023=V1301),$U$25:$U$15023)))","v":""},"","",""]
[null,null,null,null,null,null,null,null,null,null,null,null,null,null,null,null,null,null,null,null,"","","",{"$f":"IF(U1302=\"\",\"\",MEDIAN(IF(($U$25:$U$15023<>\"\")*($V$25:$V$15023=V1302),$U$25:$U$15023)))","v":""},"","",""]
[null,null,null,null,null,null,null,null,null,null,null,null,null,null,null,null,null,null,null,null,"","","",{"$f":"IF(U1303=\"\",\"\",MEDIAN(IF(($U$25:$U$15023<>\"\")*($V$25:$V$15023=V1303),$U$25:$U$15023)))","v":""},"","",""]
[null,null,null,null,null,null,null,null,null,null,null,null,null,null,null,null,null,null,null,null,"","","",{"$f":"IF(U1304=\"\",\"\",MEDIAN(IF(($U$25:$U$15023<>\"\")*($V$25:$V$15023=V1304),$U$25:$U$15023)))","v":""},"","",""]
[null,null,null,null,null,null,null,null,null,null,null,null,null,null,null,null,null,null,null,null,"","","",{"$f":"IF(U1305=\"\",\"\",MEDIAN(IF(($U$25:$U$15023<>\"\")*($V$25:$V$15023=V1305),$U$25:$U$15023)))","v":""},"","",""]
[null,null,null,null,null,null,null,null,null,null,null,null,null,null,null,null,null,null,null,null,{"$f":"IF(A1306=\"\",\"\",A1306)","v":""},{"$f":"IF(B1306=\"\",\"\",B1306)","v":""},{"$f":"IF(U1306=\"\",\"\",RANK(U1306,$U$25:$U$15023,1)+(COUNT($U$25:$U$15023)+1-RANK(U1306,$U$25:$U$15023,0)-RANK(U1306,$U$25:$U$15023,1))/2)","v":""},{"$f":"IF(U1306=\"\",\"\",MEDIAN(IF(($U$25:$U$15023<>\"\")*($V$25:$V$15023=V1306),$U$25:$U$15023)))","v":""},{"$f":"IF(U1306=\"\",\"\",ABS(X1306-U1306))","v":""},{"$f":"IF(V1306=\"\",\"\",AVERAGEIF($V$25:$V$15023,V1306,$Y$25:$Y$15023))","v":""},{"$f":"IF(V1306=\"\",\"\",(Y1306-Z1306)^2)","v":""}]
[null,null,null,null,null,null,null,null,null,null,null,null,null,null,null,null,null,null,null,null,"","","",{"$f":"IF(U1307=\"\",\"\",MEDIAN(IF(($U$25:$U$15023<>\"\")*($V$25:$V$15023=V1307),$U$25:$U$15023)))","v":""},"","",""]
[null,null,null,null,null,null,null,null,null,null,null,null,null,null,null,null,null,null,null,null,"","","",{"$f":"IF(U1308=\"\",\"\",MEDIAN(IF(($U$25:$U$15023<>\"\")*($V$25:$V$15023=V1308),$U$25:$U$15023)))","v":""},"","",""]
[null,null,null,null,null,null,null,null,null,null,null,null,null,null,null,null,null,null,null,null,"","","",{"$f":"IF(U1309=\"\",\"\",MEDIAN(IF(($U$25:$U$15023<>\"\")*($V$25:$V$15023=V1309),$U$25:$U$15023)))","v":""},"","",""]
[null,null,null,null,null,null,null,null,null,null,null,null,null,null,null,null,null,null,null,null,"","","",{"$f":"IF(U1310=\"\",\"\",MEDIAN(IF(($U$25:$U$15023<>\"\")*($V$25:$V$15023=V1310),$U$25:$U$15023)))","v":""},"","",""]
[null,null,null,null,null,null,null,null,null,null,null,null,null,null,null,null,null,null,null,null,"","","",{"$f":"IF(U1311=\"\",\"\",MEDIAN(IF(($U$25:$U$15023<>\"\")*($V$25:$V$15023=V1311),$U$25:$U$15023)))","v":""},"","",""]
[null,null,null,null,null,null,null,null,null,null,null,null,null,null,null,null,null,null,null,null,"","","",{"$f":"IF(U1312=\"\",\"\",MEDIAN(IF(($U$25:$U$15023<>\"\")*($V$25:$V$15023=V1312),$U$25:$U$15023)))","v":""},"","",""]
[null,null,null,null,null,null,null,null,null,null,null,null,null,null,null,null,null,null,null,null,"","","",{"$f":"IF(U1313=\"\",\"\",MEDIAN(IF(($U$25:$U$15023<>\"\")*($V$25:$V$15023=V1313),$U$25:$U$15023)))","v":""},"","",""]
[null,null,null,null,null,null,null,null,null,null,null,null,null,null,null,null,null,null,null,null,"","","",{"$f":"IF(U1314=\"\",\"\",MEDIAN(IF(($U$25:$U$15023<>\"\")*($V$25:$V$15023=V1314),$U$25:$U$15023)))","v":""},"","",""]
[null,null,null,null,null,null,null,null,null,null,null,null,null,null,null,null,null,null,null,null,"","","",{"$f":"IF(U1315=\"\",\"\",MEDIAN(IF(($U$25:$U$15023<>\"\")*($V$25:$V$15023=V1315),$U$25:$U$15023)))","v":""},"","",""]
[null,null,null,null,null,null,null,null,null,null,null,null,null,null,null,null,null,null,null,null,"","","",{"$f":"IF(U1316=\"\",\"\",MEDIAN(IF(($U$25:$U$15023<>\"\")*($V$25:$V$15023=V1316),$U$25:$U$15023)))","v":""},"","",""]
[null,null,null,null,null,null,null,null,null,null,null,null,null,null,null,null,null,null,null,null,"","","",{"$f":"IF(U1317=\"\",\"\",MEDIAN(IF(($U$25:$U$15023<>\"\")*($V$25:$V$15023=V1317),$U$25:$U$15023)))","v":""},"","",""]
[null,null,null,null,null,null,null,null,null,null,null,null,null,null,null,null,null,null,null,null,"","","",{"$f":"IF(U1318=\"\",\"\",MEDIAN(IF(($U$25:$U$15023<>\"\")*($V$25:$V$15023=V1318),$U$25:$U$15023)))","v":""},"","",""]
[null,null,null,null,null,null,null,null,null,null,null,null,null,null,null,null,null,null,null,null,"","","",{"$f":"IF(U1319=\"\",\"\",MEDIAN(IF(($U$25:$U$15023<>\"\")*($V$25:$V$15023=V1319),$U$25:$U$15023)))","v":""},"","",""]
[null,null,null,null,null,null,null,null,null,null,null,null,null,null,null,null,null,null,null,null,"","","",{"$f":"IF(U1320=\"\",\"\",MEDIAN(IF(($U$25:$U$15023<>\"\")*($V$25:$V$15023=V1320),$U$25:$U$15023)))","v":""},"","",""]
[null,null,null,null,null,null,null,null,null,null,null,null,null,null,null,null,null,null,null,null,"","","",{"$f":"IF(U1321=\"\",\"\",MEDIAN(IF(($U$25:$U$15023<>\"\")*($V$25:$V$15023=V1321),$U$25:$U$15023)))","v":""},"","",""]
[null,null,null,null,null,null,null,null,null,null,null,null,null,null,null,null,null,null,null,null,"","","",{"$f":"IF(U1322=\"\",\"\",MEDIAN(IF(($U$25:$U$15023<>\"\")*($V$25:$V$15023=V1322),$U$25:$U$15023)))","v":""},"","",""]
[null,null,null,null,null,null,null,null,null,null,null,null,null,null,null,null,null,null,null,null,"","","",{"$f":"IF(U1323=\"\",\"\",MEDIAN(IF(($U$25:$U$15023<>\"\")*($V$25:$V$15023=V1323),$U$25:$U$15023)))","v":""},"","",""]
[null,null,null,null,null,null,null,null,null,null,null,null,null,null,null,null,null,null,null,null,"","","",{"$f":"IF(U1324=\"\",\"\",MEDIAN(IF(($U$25:$U$15023<>\"\")*($V$25:$V$15023=V1324),$U$25:$U$15023)))","v":""},"","",""]
[null,null,null,null,null,null,null,null,null,null,null,null,null,null,null,null,null,null,null,null,"","","",{"$f":"IF(U1325=\"\",\"\",MEDIAN(IF(($U$25:$U$15023<>\"\")*($V$25:$V$15023=V1325),$U$25:$U$15023)))","v":""},"","",""]
[null,null,null,null,null,null,null,null,null,null,null,null,null,null,null,null,null,null,null,null,"","","",{"$f":"IF(U1326=\"\",\"\",MEDIAN(IF(($U$25:$U$15023<>\"\")*($V$25:$V$15023=V1326),$U$25:$U$15023)))","v":""},"","",""]
[null,null,null,null,null,null,null,null,null,null,null,null,null,null,null,null,null,null,null,null,"","","",{"$f":"IF(U1327=\"\",\"\",MEDIAN(IF(($U$25:$U$15023<>\"\")*($V$25:$V$15023=V1327),$U$25:$U$15023)))","v":""},"","",""]
[null,null,null,null,null,null,null,null,null,null,null,null,null,null,null,null,null,null,null,null,"","","",{"$f":"IF(U1328=\"\",\"\",MEDIAN(IF(($U$25:$U$15023<>\"\")*($V$25:$V$15023=V1328),$U$25:$U$15023)))","v":""},"","",""]
[null,null,null,null,null,null,null,null,null,null,null,null,null,null,null,null,null,null,null,null,"","","",{"$f":"IF(U1329=\"\",\"\",MEDIAN(IF(($U$25:$U$15023<>\"\")*($V$25:$V$15023=V1329),$U$25:$U$15023)))","v":""},"","",""]
[null,null,null,null,null,null,null,null,null,null,null,null,null,null,null,null,null,null,null,null,"","","",{"$f":"IF(U1330=\"\",\"\",MEDIAN(IF(($U$25:$U$15023<>\"\")*($V$25:$V$15023=V1330),$U$25:$U$15023)))","v":""},"","",""]
[null,null,null,null,null,null,null,null,null,null,null,null,null,null,null,null,null,null,null,null,"","","",{"$f":"IF(U1331=\"\",\"\",MEDIAN(IF(($U$25:$U$15023<>\"\")*($V$25:$V$15023=V1331),$U$25:$U$15023)))","v":""},"","",""]
[null,null,null,null,null,null,null,null,null,null,null,null,null,null,null,null,null,null,null,null,"","","",{"$f":"IF(U1332=\"\",\"\",MEDIAN(IF(($U$25:$U$15023<>\"\")*($V$25:$V$15023=V1332),$U$25:$U$15023)))","v":""},"","",""]
[null,null,null,null,null,null,null,null,null,null,null,null,null,null,null,null,null,null,null,null,"","","",{"$f":"IF(U1333=\"\",\"\",MEDIAN(IF(($U$25:$U$15023<>\"\")*($V$25:$V$15023=V1333),$U$25:$U$15023)))","v":""},"","",""]
[null,null,null,null,null,null,null,null,null,null,null,null,null,null,null,null,null,null,null,null,"","","",{"$f":"IF(U1334=\"\",\"\",MEDIAN(IF(($U$25:$U$15023<>\"\")*($V$25:$V$15023=V1334),$U$25:$U$15023)))","v":""},"","",""]
[null,null,null,null,null,null,null,null,null,null,null,null,null,null,null,null,null,null,null,null,"","","",{"$f":"IF(U1335=\"\",\"\",MEDIAN(IF(($U$25:$U$15023<>\"\")*($V$25:$V$15023=V1335),$U$25:$U$15023)))","v":""},"","",""]
[null,null,null,null,null,null,null,null,null,null,null,null,null,null,null,null,null,null,null,null,"","","",{"$f":"IF(U1336=\"\",\"\",MEDIAN(IF(($U$25:$U$15023<>\"\")*($V$25:$V$15023=V1336),$U$25:$U$15023)))","v":""},"","",""]
[null,null,null,null,null,null,null,null,null,null,null,null,null,null,null,null,null,null,null,null,"","","",{"$f":"IF(U1337=\"\",\"\",MEDIAN(IF(($U$25:$U$15023<>\"\")*($V$25:$V$15023=V1337),$U$25:$U$15023)))","v":""},"","",""]
[null,null,null,null,null,null,null,null,null,null,null,null,null,null,null,null,null,null,null,null,"","","",{"$f":"IF(U1338=\"\",\"\",MEDIAN(IF(($U$25:$U$15023<>\"\")*($V$25:$V$15023=V1338),$U$25:$U$15023)))","v":""},"","",""]
[null,null,null,null,null,null,null,null,null,null,null,null,null,null,null,null,null,null,null,null,"","","",{"$f":"IF(U1339=\"\",\"\",MEDIAN(IF(($U$25:$U$15023<>\"\")*($V$25:$V$15023=V1339),$U$25:$U$15023)))","v":""},"","",""]
[null,null,null,null,null,null,null,null,null,null,null,null,null,null,null,null,null,null,null,null,"","","",{"$f":"IF(U1340=\"\",\"\",MEDIAN(IF(($U$25:$U$15023<>\"\")*($V$25:$V$15023=V1340),$U$25:$U$15023)))","v":""},"","",""]
[null,null,null,null,null,null,null,null,null,null,null,null,null,null,null,null,null,null,null,null,"","","",{"$f":"IF(U1341=\"\",\"\",MEDIAN(IF(($U$25:$U$15023<>\"\")*($V$25:$V$15023=V1341),$U$25:$U$15023)))","v":""},"","",""]
[null,null,null,null,null,null,null,null,null,null,null,null,null,null,null,null,null,null,null,null,"","","",{"$f":"IF(U1342=\"\",\"\",MEDIAN(IF(($U$25:$U$15023<>\"\")*($V$25:$V$15023=V1342),$U$25:$U$15023)))","v":""},"","",""]
[null,null,null,null,null,null,null,null,null,null,null,null,null,null,null,null,null,null,null,null,"","","",{"$f":"IF(U1343=\"\",\"\",MEDIAN(IF(($U$25:$U$15023<>\"\")*($V$25:$V$15023=V1343),$U$25:$U$15023)))","v":""},"","",""]
[null,null,null,null,null,null,null,null,null,null,null,null,null,null,null,null,null,null,null,null,"","","",{"$f":"IF(U1344=\"\",\"\",MEDIAN(IF(($U$25:$U$15023<>\"\")*($V$25:$V$15023=V1344),$U$25:$U$15023)))","v":""},"","",""]
[null,null,null,null,null,null,null,null,null,null,null,null,null,null,null,null,null,null,null,null,"","","",{"$f":"IF(U1345=\"\",\"\",MEDIAN(IF(($U$25:$U$15023<>\"\")*($V$25:$V$15023=V1345),$U$25:$U$15023)))","v":""},"","",""]
[null,null,null,null,null,null,null,null,null,null,null,null,null,null,null,null,null,null,null,null,"","","",{"$f":"IF(U1346=\"\",\"\",MEDIAN(IF(($U$25:$U$15023<>\"\")*($V$25:$V$15023=V1346),$U$25:$U$15023)))","v":""},"","",""]
[null,null,null,null,null,null,null,null,null,null,null,null,null,null,null,null,null,null,null,null,"","","",{"$f":"IF(U1347=\"\",\"\",MEDIAN(IF(($U$25:$U$15023<>\"\")*($V$25:$V$15023=V1347),$U$25:$U$15023)))","v":""},"","",""]
[null,null,null,null,null,null,null,null,null,null,null,null,null,null,null,null,null,null,null,null,"","","",{"$f":"IF(U1348=\"\",\"\",MEDIAN(IF(($U$25:$U$15023<>\"\")*($V$25:$V$15023=V1348),$U$25:$U$15023)))","v":""},"","",""]
[null,null,null,null,null,null,null,null,null,null,null,null,null,null,null,null,null,null,null,null,"","","",{"$f":"IF(U1349=\"\",\"\",MEDIAN(IF(($U$25:$U$15023<>\"\")*($V$25:$V$15023=V1349),$U$25:$U$15023)))","v":""},"","",""]
[null,null,null,null,null,null,null,null,null,null,null,null,null,null,null,null,null,null,null,null,"","","",{"$f":"IF(U1350=\"\",\"\",MEDIAN(IF(($U$25:$U$15023<>\"\")*($V$25:$V$15023=V1350),$U$25:$U$15023)))","v":""},"","",""]
[null,null,null,null,null,null,null,null,null,null,null,null,null,null,null,null,null,null,null,null,"","","",{"$f":"IF(U1351=\"\",\"\",MEDIAN(IF(($U$25:$U$15023<>\"\")*($V$25:$V$15023=V1351),$U$25:$U$15023)))","v":""},"","",""]
[null,null,null,null,null,null,null,null,null,null,null,null,null,null,null,null,null,null,null,null,"","","",{"$f":"IF(U1352=\"\",\"\",MEDIAN(IF(($U$25:$U$15023<>\"\")*($V$25:$V$15023=V1352),$U$25:$U$15023)))","v":""},"","",""]
[null,null,null,null,null,null,null,null,null,null,null,null,null,null,null,null,null,null,null,null,"","","",{"$f":"IF(U1353=\"\",\"\",MEDIAN(IF(($U$25:$U$15023<>\"\")*($V$25:$V$15023=V1353),$U$25:$U$15023)))","v":""},"","",""]
[null,null,null,null,null,null,null,null,null,null,null,null,null,null,null,null,null,null,null,null,"","","",{"$f":"IF(U1354=\"\",\"\",MEDIAN(IF(($U$25:$U$15023<>\"\")*($V$25:$V$15023=V1354),$U$25:$U$15023)))","v":""},"","",""]
[null,null,null,null,null,null,null,null,null,null,null,null,null,null,null,null,null,null,null,null,"","","",{"$f":"IF(U1355=\"\",\"\",MEDIAN(IF(($U$25:$U$15023<>\"\")*($V$25:$V$15023=V1355),$U$25:$U$15023)))","v":""},"","",""]
[null,null,null,null,null,null,null,null,null,null,null,null,null,null,null,null,null,null,null,null,"","","",{"$f":"IF(U1356=\"\",\"\",MEDIAN(IF(($U$25:$U$15023<>\"\")*($V$25:$V$15023=V1356),$U$25:$U$15023)))","v":""},"","",""]
[null,null,null,null,null,null,null,null,null,null,null,null,null,null,null,null,null,null,null,null,"","","",{"$f":"IF(U1357=\"\",\"\",MEDIAN(IF(($U$25:$U$15023<>\"\")*($V$25:$V$15023=V1357),$U$25:$U$15023)))","v":""},"","",""]
[null,null,null,null,null,null,null,null,null,null,null,null,null,null,null,null,null,null,null,null,"","","",{"$f":"IF(U1358=\"\",\"\",MEDIAN(IF(($U$25:$U$15023<>\"\")*($V$25:$V$15023=V1358),$U$25:$U$15023)))","v":""},"","",""]
[null,null,null,null,null,null,null,null,null,null,null,null,null,null,null,null,null,null,null,null,"","","",{"$f":"IF(U1359=\"\",\"\",MEDIAN(IF(($U$25:$U$15023<>\"\")*($V$25:$V$15023=V1359),$U$25:$U$15023)))","v":""},"","",""]
[null,null,null,null,null,null,null,null,null,null,null,null,null,null,null,null,null,null,null,null,"","","",{"$f":"IF(U1360=\"\",\"\",MEDIAN(IF(($U$25:$U$15023<>\"\")*($V$25:$V$15023=V1360),$U$25:$U$15023)))","v":""},"","",""]
[null,null,null,null,null,null,null,null,null,null,null,null,null,null,null,null,null,null,null,null,"","","",{"$f":"IF(U1361=\"\",\"\",MEDIAN(IF(($U$25:$U$15023<>\"\")*($V$25:$V$15023=V1361),$U$25:$U$15023)))","v":""},"","",""]
[null,null,null,null,null,null,null,null,null,null,null,null,null,null,null,null,null,null,null,null,"","","",{"$f":"IF(U1362=\"\",\"\",MEDIAN(IF(($U$25:$U$15023<>\"\")*($V$25:$V$15023=V1362),$U$25:$U$15023)))","v":""},"","",""]
[null,null,null,null,null,null,null,null,null,null,null,null,null,null,null,null,null,null,null,null,"","","",{"$f":"IF(U1363=\"\",\"\",MEDIAN(IF(($U$25:$U$15023<>\"\")*($V$25:$V$15023=V1363),$U$25:$U$15023)))","v":""},"","",""]
[null,null,null,null,null,null,null,null,null,null,null,null,null,null,null,null,null,null,null,null,"","","",{"$f":"IF(U1364=\"\",\"\",MEDIAN(IF(($U$25:$U$15023<>\"\")*($V$25:$V$15023=V1364),$U$25:$U$15023)))","v":""},"","",""]
[null,null,null,null,null,null,null,null,null,null,null,null,null,null,null,null,null,null,null,null,"","","",{"$f":"IF(U1365=\"\",\"\",MEDIAN(IF(($U$25:$U$15023<>\"\")*($V$25:$V$15023=V1365),$U$25:$U$15023)))","v":""},"","",""]
[null,null,null,null,null,null,null,null,null,null,null,null,null,null,null,null,null,null,null,null,"","","",{"$f":"IF(U1366=\"\",\"\",MEDIAN(IF(($U$25:$U$15023<>\"\")*($V$25:$V$15023=V1366),$U$25:$U$15023)))","v":""},"","",""]
[null,null,null,null,null,null,null,null,null,null,null,null,null,null,null,null,null,null,null,null,"","","",{"$f":"IF(U1367=\"\",\"\",MEDIAN(IF(($U$25:$U$15023<>\"\")*($V$25:$V$15023=V1367),$U$25:$U$15023)))","v":""},"","",""]
[null,null,null,null,null,null,null,null,null,null,null,null,null,null,null,null,null,null,null,null,"","","",{"$f":"IF(U1368=\"\",\"\",MEDIAN(IF(($U$25:$U$15023<>\"\")*($V$25:$V$15023=V1368),$U$25:$U$15023)))","v":""},"","",""]
[null,null,null,null,null,null,null,null,null,null,null,null,null,null,null,null,null,null,null,null,"","","",{"$f":"IF(U1369=\"\",\"\",MEDIAN(IF(($U$25:$U$15023<>\"\")*($V$25:$V$15023=V1369),$U$25:$U$15023)))","v":""},"","",""]
[null,null,null,null,null,null,null,null,null,null,null,null,null,null,null,null,null,null,null,null,{"$f":"IF(A1370=\"\",\"\",A1370)","v":""},{"$f":"IF(B1370=\"\",\"\",B1370)","v":""},{"$f":"IF(U1370=\"\",\"\",RANK(U1370,$U$25:$U$15023,1)+(COUNT($U$25:$U$15023)+1-RANK(U1370,$U$25:$U$15023,0)-RANK(U1370,$U$25:$U$15023,1))/2)","v":""},{"$f":"IF(U1370=\"\",\"\",MEDIAN(IF(($U$25:$U$15023<>\"\")*($V$25:$V$15023=V1370),$U$25:$U$15023)))","v":""},{"$f":"IF(U1370=\"\",\"\",ABS(X1370-U1370))","v":""},{"$f":"IF(V1370=\"\",\"\",AVERAGEIF($V$25:$V$15023,V1370,$Y$25:$Y$15023))","v":""},{"$f":"IF(V1370=\"\",\"\",(Y1370-Z1370)^2)","v":""}]
[null,null,null,null,null,null,null,null,null,null,null,null,null,null,null,null,null,null,null,null,"","","",{"$f":"IF(U1371=\"\",\"\",MEDIAN(IF(($U$25:$U$15023<>\"\")*($V$25:$V$15023=V1371),$U$25:$U$15023)))","v":""},"","",""]
[null,null,null,null,null,null,null,null,null,null,null,null,null,null,null,null,null,null,null,null,"","","",{"$f":"IF(U1372=\"\",\"\",MEDIAN(IF(($U$25:$U$15023<>\"\")*($V$25:$V$15023=V1372),$U$25:$U$15023)))","v":""},"","",""]
[null,null,null,null,null,null,null,null,null,null,null,null,null,null,null,null,null,null,null,null,"","","",{"$f":"IF(U1373=\"\",\"\",MEDIAN(IF(($U$25:$U$15023<>\"\")*($V$25:$V$15023=V1373),$U$25:$U$15023)))","v":""},"","",""]
[null,null,null,null,null,null,null,null,null,null,null,null,null,null,null,null,null,null,null,null,"","","",{"$f":"IF(U1374=\"\",\"\",MEDIAN(IF(($U$25:$U$15023<>\"\")*($V$25:$V$15023=V1374),$U$25:$U$15023)))","v":""},"","",""]
[null,null,null,null,null,null,null,null,null,null,null,null,null,null,null,null,null,null,null,null,"","","",{"$f":"IF(U1375=\"\",\"\",MEDIAN(IF(($U$25:$U$15023<>\"\")*($V$25:$V$15023=V1375),$U$25:$U$15023)))","v":""},"","",""]
[null,null,null,null,null,null,null,null,null,null,null,null,null,null,null,null,null,null,null,null,"","","",{"$f":"IF(U1376=\"\",\"\",MEDIAN(IF(($U$25:$U$15023<>\"\")*($V$25:$V$15023=V1376),$U$25:$U$15023)))","v":""},"","",""]
[null,null,null,null,null,null,null,null,null,null,null,null,null,null,null,null,null,null,null,null,"","","",{"$f":"IF(U1377=\"\",\"\",MEDIAN(IF(($U$25:$U$15023<>\"\")*($V$25:$V$15023=V1377),$U$25:$U$15023)))","v":""},"","",""]
[null,null,null,null,null,null,null,null,null,null,null,null,null,null,null,null,null,null,null,null,"","","",{"$f":"IF(U1378=\"\",\"\",MEDIAN(IF(($U$25:$U$15023<>\"\")*($V$25:$V$15023=V1378),$U$25:$U$15023)))","v":""},"","",""]
[null,null,null,null,null,null,null,null,null,null,null,null,null,null,null,null,null,null,null,null,"","","",{"$f":"IF(U1379=\"\",\"\",MEDIAN(IF(($U$25:$U$15023<>\"\")*($V$25:$V$15023=V1379),$U$25:$U$15023)))","v":""},"","",""]
[null,null,null,null,null,null,null,null,null,null,null,null,null,null,null,null,null,null,null,null,"","","",{"$f":"IF(U1380=\"\",\"\",MEDIAN(IF(($U$25:$U$15023<>\"\")*($V$25:$V$15023=V1380),$U$25:$U$15023)))","v":""},"","",""]
[null,null,null,null,null,null,null,null,null,null,null,null,null,null,null,null,null,null,null,null,"","","",{"$f":"IF(U1381=\"\",\"\",MEDIAN(IF(($U$25:$U$15023<>\"\")*($V$25:$V$15023=V1381),$U$25:$U$15023)))","v":""},"","",""]
[null,null,null,null,null,null,null,null,null,null,null,null,null,null,null,null,null,null,null,null,"","","",{"$f":"IF(U1382=\"\",\"\",MEDIAN(IF(($U$25:$U$15023<>\"\")*($V$25:$V$15023=V1382),$U$25:$U$15023)))","v":""},"","",""]
[null,null,null,null,null,null,null,null,null,null,null,null,null,null,null,null,null,null,null,null,"","","",{"$f":"IF(U1383=\"\",\"\",MEDIAN(IF(($U$25:$U$15023<>\"\")*($V$25:$V$15023=V1383),$U$25:$U$15023)))","v":""},"","",""]
[null,null,null,null,null,null,null,null,null,null,null,null,null,null,null,null,null,null,null,null,"","","",{"$f":"IF(U1384=\"\",\"\",MEDIAN(IF(($U$25:$U$15023<>\"\")*($V$25:$V$15023=V1384),$U$25:$U$15023)))","v":""},"","",""]
[null,null,null,null,null,null,null,null,null,null,null,null,null,null,null,null,null,null,null,null,"","","",{"$f":"IF(U1385=\"\",\"\",MEDIAN(IF(($U$25:$U$15023<>\"\")*($V$25:$V$15023=V1385),$U$25:$U$15023)))","v":""},"","",""]
[null,null,null,null,null,null,null,null,null,null,null,null,null,null,null,null,null,null,null,null,"","","",{"$f":"IF(U1386=\"\",\"\",MEDIAN(IF(($U$25:$U$15023<>\"\")*($V$25:$V$15023=V1386),$U$25:$U$15023)))","v":""},"","",""]
[null,null,null,null,null,null,null,null,null,null,null,null,null,null,null,null,null,null,null,null,"","","",{"$f":"IF(U1387=\"\",\"\",MEDIAN(IF(($U$25:$U$15023<>\"\")*($V$25:$V$15023=V1387),$U$25:$U$15023)))","v":""},"","",""]
[null,null,null,null,null,null,null,null,null,null,null,null,null,null,null,null,null,null,null,null,"","","",{"$f":"IF(U1388=\"\",\"\",MEDIAN(IF(($U$25:$U$15023<>\"\")*($V$25:$V$15023=V1388),$U$25:$U$15023)))","v":""},"","",""]
[null,null,null,null,null,null,null,null,null,null,null,null,null,null,null,null,null,null,null,null,"","","",{"$f":"IF(U1389=\"\",\"\",MEDIAN(IF(($U$25:$U$15023<>\"\")*($V$25:$V$15023=V1389),$U$25:$U$15023)))","v":""},"","",""]
[null,null,null,null,null,null,null,null,null,null,null,null,null,null,null,null,null,null,null,null,"","","",{"$f":"IF(U1390=\"\",\"\",MEDIAN(IF(($U$25:$U$15023<>\"\")*($V$25:$V$15023=V1390),$U$25:$U$15023)))","v":""},"","",""]
[null,null,null,null,null,null,null,null,null,null,null,null,null,null,null,null,null,null,null,null,"","","",{"$f":"IF(U1391=\"\",\"\",MEDIAN(IF(($U$25:$U$15023<>\"\")*($V$25:$V$15023=V1391),$U$25:$U$15023)))","v":""},"","",""]
[null,null,null,null,null,null,null,null,null,null,null,null,null,null,null,null,null,null,null,null,"","","",{"$f":"IF(U1392=\"\",\"\",MEDIAN(IF(($U$25:$U$15023<>\"\")*($V$25:$V$15023=V1392),$U$25:$U$15023)))","v":""},"","",""]
[null,null,null,null,null,null,null,null,null,null,null,null,null,null,null,null,null,null,null,null,"","","",{"$f":"IF(U1393=\"\",\"\",MEDIAN(IF(($U$25:$U$15023<>\"\")*($V$25:$V$15023=V1393),$U$25:$U$15023)))","v":""},"","",""]
[null,null,null,null,null,null,null,null,null,null,null,null,null,null,null,null,null,null,null,null,"","","",{"$f":"IF(U1394=\"\",\"\",MEDIAN(IF(($U$25:$U$15023<>\"\")*($V$25:$V$15023=V1394),$U$25:$U$15023)))","v":""},"","",""]
[null,null,null,null,null,null,null,null,null,null,null,null,null,null,null,null,null,null,null,null,"","","",{"$f":"IF(U1395=\"\",\"\",MEDIAN(IF(($U$25:$U$15023<>\"\")*($V$25:$V$15023=V1395),$U$25:$U$15023)))","v":""},"","",""]
[null,null,null,null,null,null,null,null,null,null,null,null,null,null,null,null,null,null,null,null,"","","",{"$f":"IF(U1396=\"\",\"\",MEDIAN(IF(($U$25:$U$15023<>\"\")*($V$25:$V$15023=V1396),$U$25:$U$15023)))","v":""},"","",""]
[null,null,null,null,null,null,null,null,null,null,null,null,null,null,null,null,null,null,null,null,"","","",{"$f":"IF(U1397=\"\",\"\",MEDIAN(IF(($U$25:$U$15023<>\"\")*($V$25:$V$15023=V1397),$U$25:$U$15023)))","v":""},"","",""]
[null,null,null,null,null,null,null,null,null,null,null,null,null,null,null,null,null,null,null,null,"","","",{"$f":"IF(U1398=\"\",\"\",MEDIAN(IF(($U$25:$U$15023<>\"\")*($V$25:$V$15023=V1398),$U$25:$U$15023)))","v":""},"","",""]
[null,null,null,null,null,null,null,null,null,null,null,null,null,null,null,null,null,null,null,null,"","","",{"$f":"IF(U1399=\"\",\"\",MEDIAN(IF(($U$25:$U$15023<>\"\")*($V$25:$V$15023=V1399),$U$25:$U$15023)))","v":""},"","",""]
[null,null,null,null,null,null,null,null,null,null,null,null,null,null,null,null,null,null,null,null,"","","",{"$f":"IF(U1400=\"\",\"\",MEDIAN(IF(($U$25:$U$15023<>\"\")*($V$25:$V$15023=V1400),$U$25:$U$15023)))","v":""},"","",""]
[null,null,null,null,null,null,null,null,null,null,null,null,null,null,null,null,null,null,null,null,"","","",{"$f":"IF(U1401=\"\",\"\",MEDIAN(IF(($U$25:$U$15023<>\"\")*($V$25:$V$15023=V1401),$U$25:$U$15023)))","v":""},"","",""]
[null,null,null,null,null,null,null,null,null,null,null,null,null,null,null,null,null,null,null,null,"","","",{"$f":"IF(U1402=\"\",\"\",MEDIAN(IF(($U$25:$U$15023<>\"\")*($V$25:$V$15023=V1402),$U$25:$U$15023)))","v":""},"","",""]
[null,null,null,null,null,null,null,null,null,null,null,null,null,null,null,null,null,null,null,null,"","","",{"$f":"IF(U1403=\"\",\"\",MEDIAN(IF(($U$25:$U$15023<>\"\")*($V$25:$V$15023=V1403),$U$25:$U$15023)))","v":""},"","",""]
[null,null,null,null,null,null,null,null,null,null,null,null,null,null,null,null,null,null,null,null,"","","",{"$f":"IF(U1404=\"\",\"\",MEDIAN(IF(($U$25:$U$15023<>\"\")*($V$25:$V$15023=V1404),$U$25:$U$15023)))","v":""},"","",""]
[null,null,null,null,null,null,null,null,null,null,null,null,null,null,null,null,null,null,null,null,"","","",{"$f":"IF(U1405=\"\",\"\",MEDIAN(IF(($U$25:$U$15023<>\"\")*($V$25:$V$15023=V1405),$U$25:$U$15023)))","v":""},"","",""]
[null,null,null,null,null,null,null,null,null,null,null,null,null,null,null,null,null,null,null,null,"","","",{"$f":"IF(U1406=\"\",\"\",MEDIAN(IF(($U$25:$U$15023<>\"\")*($V$25:$V$15023=V1406),$U$25:$U$15023)))","v":""},"","",""]
[null,null,null,null,null,null,null,null,null,null,null,null,null,null,null,null,null,null,null,null,"","","",{"$f":"IF(U1407=\"\",\"\",MEDIAN(IF(($U$25:$U$15023<>\"\")*($V$25:$V$15023=V1407),$U$25:$U$15023)))","v":""},"","",""]
[null,null,null,null,null,null,null,null,null,null,null,null,null,null,null,null,null,null,null,null,"","","",{"$f":"IF(U1408=\"\",\"\",MEDIAN(IF(($U$25:$U$15023<>\"\")*($V$25:$V$15023=V1408),$U$25:$U$15023)))","v":""},"","",""]
[null,null,null,null,null,null,null,null,null,null,null,null,null,null,null,null,null,null,null,null,"","","",{"$f":"IF(U1409=\"\",\"\",MEDIAN(IF(($U$25:$U$15023<>\"\")*($V$25:$V$15023=V1409),$U$25:$U$15023)))","v":""},"","",""]
[null,null,null,null,null,null,null,null,null,null,null,null,null,null,null,null,null,null,null,null,"","","",{"$f":"IF(U1410=\"\",\"\",MEDIAN(IF(($U$25:$U$15023<>\"\")*($V$25:$V$15023=V1410),$U$25:$U$15023)))","v":""},"","",""]
[null,null,null,null,null,null,null,null,null,null,null,null,null,null,null,null,null,null,null,null,"","","",{"$f":"IF(U1411=\"\",\"\",MEDIAN(IF(($U$25:$U$15023<>\"\")*($V$25:$V$15023=V1411),$U$25:$U$15023)))","v":""},"","",""]
[null,null,null,null,null,null,null,null,null,null,null,null,null,null,null,null,null,null,null,null,"","","",{"$f":"IF(U1412=\"\",\"\",MEDIAN(IF(($U$25:$U$15023<>\"\")*($V$25:$V$15023=V1412),$U$25:$U$15023)))","v":""},"","",""]
[null,null,null,null,null,null,null,null,null,null,null,null,null,null,null,null,null,null,null,null,"","","",{"$f":"IF(U1413=\"\",\"\",MEDIAN(IF(($U$25:$U$15023<>\"\")*($V$25:$V$15023=V1413),$U$25:$U$15023)))","v":""},"","",""]
[null,null,null,null,null,null,null,null,null,null,null,null,null,null,null,null,null,null,null,null,"","","",{"$f":"IF(U1414=\"\",\"\",MEDIAN(IF(($U$25:$U$15023<>\"\")*($V$25:$V$15023=V1414),$U$25:$U$15023)))","v":""},"","",""]
[null,null,null,null,null,null,null,null,null,null,null,null,null,null,null,null,null,null,null,null,"","","",{"$f":"IF(U1415=\"\",\"\",MEDIAN(IF(($U$25:$U$15023<>\"\")*($V$25:$V$15023=V1415),$U$25:$U$15023)))","v":""},"","",""]
[null,null,null,null,null,null,null,null,null,null,null,null,null,null,null,null,null,null,null,null,"","","",{"$f":"IF(U1416=\"\",\"\",MEDIAN(IF(($U$25:$U$15023<>\"\")*($V$25:$V$15023=V1416),$U$25:$U$15023)))","v":""},"","",""]
[null,null,null,null,null,null,null,null,null,null,null,null,null,null,null,null,null,null,null,null,"","","",{"$f":"IF(U1417=\"\",\"\",MEDIAN(IF(($U$25:$U$15023<>\"\")*($V$25:$V$15023=V1417),$U$25:$U$15023)))","v":""},"","",""]
[null,null,null,null,null,null,null,null,null,null,null,null,null,null,null,null,null,null,null,null,"","","",{"$f":"IF(U1418=\"\",\"\",MEDIAN(IF(($U$25:$U$15023<>\"\")*($V$25:$V$15023=V1418),$U$25:$U$15023)))","v":""},"","",""]
[null,null,null,null,null,null,null,null,null,null,null,null,null,null,null,null,null,null,null,null,"","","",{"$f":"IF(U1419=\"\",\"\",MEDIAN(IF(($U$25:$U$15023<>\"\")*($V$25:$V$15023=V1419),$U$25:$U$15023)))","v":""},"","",""]
[null,null,null,null,null,null,null,null,null,null,null,null,null,null,null,null,null,null,null,null,"","","",{"$f":"IF(U1420=\"\",\"\",MEDIAN(IF(($U$25:$U$15023<>\"\")*($V$25:$V$15023=V1420),$U$25:$U$15023)))","v":""},"","",""]
[null,null,null,null,null,null,null,null,null,null,null,null,null,null,null,null,null,null,null,null,"","","",{"$f":"IF(U1421=\"\",\"\",MEDIAN(IF(($U$25:$U$15023<>\"\")*($V$25:$V$15023=V1421),$U$25:$U$15023)))","v":""},"","",""]
[null,null,null,null,null,null,null,null,null,null,null,null,null,null,null,null,null,null,null,null,"","","",{"$f":"IF(U1422=\"\",\"\",MEDIAN(IF(($U$25:$U$15023<>\"\")*($V$25:$V$15023=V1422),$U$25:$U$15023)))","v":""},"","",""]
[null,null,null,null,null,null,null,null,null,null,null,null,null,null,null,null,null,null,null,null,"","","",{"$f":"IF(U1423=\"\",\"\",MEDIAN(IF(($U$25:$U$15023<>\"\")*($V$25:$V$15023=V1423),$U$25:$U$15023)))","v":""},"","",""]
[null,null,null,null,null,null,null,null,null,null,null,null,null,null,null,null,null,null,null,null,"","","",{"$f":"IF(U1424=\"\",\"\",MEDIAN(IF(($U$25:$U$15023<>\"\")*($V$25:$V$15023=V1424),$U$25:$U$15023)))","v":""},"","",""]
[null,null,null,null,null,null,null,null,null,null,null,null,null,null,null,null,null,null,null,null,"","","",{"$f":"IF(U1425=\"\",\"\",MEDIAN(IF(($U$25:$U$15023<>\"\")*($V$25:$V$15023=V1425),$U$25:$U$15023)))","v":""},"","",""]
[null,null,null,null,null,null,null,null,null,null,null,null,null,null,null,null,null,null,null,null,"","","",{"$f":"IF(U1426=\"\",\"\",MEDIAN(IF(($U$25:$U$15023<>\"\")*($V$25:$V$15023=V1426),$U$25:$U$15023)))","v":""},"","",""]
[null,null,null,null,null,null,null,null,null,null,null,null,null,null,null,null,null,null,null,null,"","","",{"$f":"IF(U1427=\"\",\"\",MEDIAN(IF(($U$25:$U$15023<>\"\")*($V$25:$V$15023=V1427),$U$25:$U$15023)))","v":""},"","",""]
[null,null,null,null,null,null,null,null,null,null,null,null,null,null,null,null,null,null,null,null,"","","",{"$f":"IF(U1428=\"\",\"\",MEDIAN(IF(($U$25:$U$15023<>\"\")*($V$25:$V$15023=V1428),$U$25:$U$15023)))","v":""},"","",""]
[null,null,null,null,null,null,null,null,null,null,null,null,null,null,null,null,null,null,null,null,"","","",{"$f":"IF(U1429=\"\",\"\",MEDIAN(IF(($U$25:$U$15023<>\"\")*($V$25:$V$15023=V1429),$U$25:$U$15023)))","v":""},"","",""]
[null,null,null,null,null,null,null,null,null,null,null,null,null,null,null,null,null,null,null,null,"","","",{"$f":"IF(U1430=\"\",\"\",MEDIAN(IF(($U$25:$U$15023<>\"\")*($V$25:$V$15023=V1430),$U$25:$U$15023)))","v":""},"","",""]
[null,null,null,null,null,null,null,null,null,null,null,null,null,null,null,null,null,null,null,null,"","","",{"$f":"IF(U1431=\"\",\"\",MEDIAN(IF(($U$25:$U$15023<>\"\")*($V$25:$V$15023=V1431),$U$25:$U$15023)))","v":""},"","",""]
[null,null,null,null,null,null,null,null,null,null,null,null,null,null,null,null,null,null,null,null,"","","",{"$f":"IF(U1432=\"\",\"\",MEDIAN(IF(($U$25:$U$15023<>\"\")*($V$25:$V$15023=V1432),$U$25:$U$15023)))","v":""},"","",""]
[null,null,null,null,null,null,null,null,null,null,null,null,null,null,null,null,null,null,null,null,"","","",{"$f":"IF(U1433=\"\",\"\",MEDIAN(IF(($U$25:$U$15023<>\"\")*($V$25:$V$15023=V1433),$U$25:$U$15023)))","v":""},"","",""]
[null,null,null,null,null,null,null,null,null,null,null,null,null,null,null,null,null,null,null,null,{"$f":"IF(A1434=\"\",\"\",A1434)","v":""},{"$f":"IF(B1434=\"\",\"\",B1434)","v":""},{"$f":"IF(U1434=\"\",\"\",RANK(U1434,$U$25:$U$15023,1)+(COUNT($U$25:$U$15023)+1-RANK(U1434,$U$25:$U$15023,0)-RANK(U1434,$U$25:$U$15023,1))/2)","v":""},{"$f":"IF(U1434=\"\",\"\",MEDIAN(IF(($U$25:$U$15023<>\"\")*($V$25:$V$15023=V1434),$U$25:$U$15023)))","v":""},{"$f":"IF(U1434=\"\",\"\",ABS(X1434-U1434))","v":""},{"$f":"IF(V1434=\"\",\"\",AVERAGEIF($V$25:$V$15023,V1434,$Y$25:$Y$15023))","v":""},{"$f":"IF(V1434=\"\",\"\",(Y1434-Z1434)^2)","v":""}]
[null,null,null,null,null,null,null,null,null,null,null,null,null,null,null,null,null,null,null,null,"","","",{"$f":"IF(U1435=\"\",\"\",MEDIAN(IF(($U$25:$U$15023<>\"\")*($V$25:$V$15023=V1435),$U$25:$U$15023)))","v":""},"","",""]
[null,null,null,null,null,null,null,null,null,null,null,null,null,null,null,null,null,null,null,null,"","","",{"$f":"IF(U1436=\"\",\"\",MEDIAN(IF(($U$25:$U$15023<>\"\")*($V$25:$V$15023=V1436),$U$25:$U$15023)))","v":""},"","",""]
[null,null,null,null,null,null,null,null,null,null,null,null,null,null,null,null,null,null,null,null,"","","",{"$f":"IF(U1437=\"\",\"\",MEDIAN(IF(($U$25:$U$15023<>\"\")*($V$25:$V$15023=V1437),$U$25:$U$15023)))","v":""},"","",""]
[null,null,null,null,null,null,null,null,null,null,null,null,null,null,null,null,null,null,null,null,"","","",{"$f":"IF(U1438=\"\",\"\",MEDIAN(IF(($U$25:$U$15023<>\"\")*($V$25:$V$15023=V1438),$U$25:$U$15023)))","v":""},"","",""]
[null,null,null,null,null,null,null,null,null,null,null,null,null,null,null,null,null,null,null,null,"","","",{"$f":"IF(U1439=\"\",\"\",MEDIAN(IF(($U$25:$U$15023<>\"\")*($V$25:$V$15023=V1439),$U$25:$U$15023)))","v":""},"","",""]
[null,null,null,null,null,null,null,null,null,null,null,null,null,null,null,null,null,null,null,null,"","","",{"$f":"IF(U1440=\"\",\"\",MEDIAN(IF(($U$25:$U$15023<>\"\")*($V$25:$V$15023=V1440),$U$25:$U$15023)))","v":""},"","",""]
[null,null,null,null,null,null,null,null,null,null,null,null,null,null,null,null,null,null,null,null,"","","",{"$f":"IF(U1441=\"\",\"\",MEDIAN(IF(($U$25:$U$15023<>\"\")*($V$25:$V$15023=V1441),$U$25:$U$15023)))","v":""},"","",""]
[null,null,null,null,null,null,null,null,null,null,null,null,null,null,null,null,null,null,null,null,"","","",{"$f":"IF(U1442=\"\",\"\",MEDIAN(IF(($U$25:$U$15023<>\"\")*($V$25:$V$15023=V1442),$U$25:$U$15023)))","v":""},"","",""]
[null,null,null,null,null,null,null,null,null,null,null,null,null,null,null,null,null,null,null,null,"","","",{"$f":"IF(U1443=\"\",\"\",MEDIAN(IF(($U$25:$U$15023<>\"\")*($V$25:$V$15023=V1443),$U$25:$U$15023)))","v":""},"","",""]
[null,null,null,null,null,null,null,null,null,null,null,null,null,null,null,null,null,null,null,null,"","","",{"$f":"IF(U1444=\"\",\"\",MEDIAN(IF(($U$25:$U$15023<>\"\")*($V$25:$V$15023=V1444),$U$25:$U$15023)))","v":""},"","",""]
[null,null,null,null,null,null,null,null,null,null,null,null,null,null,null,null,null,null,null,null,"","","",{"$f":"IF(U1445=\"\",\"\",MEDIAN(IF(($U$25:$U$15023<>\"\")*($V$25:$V$15023=V1445),$U$25:$U$15023)))","v":""},"","",""]
[null,null,null,null,null,null,null,null,null,null,null,null,null,null,null,null,null,null,null,null,"","","",{"$f":"IF(U1446=\"\",\"\",MEDIAN(IF(($U$25:$U$15023<>\"\")*($V$25:$V$15023=V1446),$U$25:$U$15023)))","v":""},"","",""]
[null,null,null,null,null,null,null,null,null,null,null,null,null,null,null,null,null,null,null,null,"","","",{"$f":"IF(U1447=\"\",\"\",MEDIAN(IF(($U$25:$U$15023<>\"\")*($V$25:$V$15023=V1447),$U$25:$U$15023)))","v":""},"","",""]
[null,null,null,null,null,null,null,null,null,null,null,null,null,null,null,null,null,null,null,null,"","","",{"$f":"IF(U1448=\"\",\"\",MEDIAN(IF(($U$25:$U$15023<>\"\")*($V$25:$V$15023=V1448),$U$25:$U$15023)))","v":""},"","",""]
[null,null,null,null,null,null,null,null,null,null,null,null,null,null,null,null,null,null,null,null,"","","",{"$f":"IF(U1449=\"\",\"\",MEDIAN(IF(($U$25:$U$15023<>\"\")*($V$25:$V$15023=V1449),$U$25:$U$15023)))","v":""},"","",""]
[null,null,null,null,null,null,null,null,null,null,null,null,null,null,null,null,null,null,null,null,"","","",{"$f":"IF(U1450=\"\",\"\",MEDIAN(IF(($U$25:$U$15023<>\"\")*($V$25:$V$15023=V1450),$U$25:$U$15023)))","v":""},"","",""]
[null,null,null,null,null,null,null,null,null,null,null,null,null,null,null,null,null,null,null,null,"","","",{"$f":"IF(U1451=\"\",\"\",MEDIAN(IF(($U$25:$U$15023<>\"\")*($V$25:$V$15023=V1451),$U$25:$U$15023)))","v":""},"","",""]
[null,null,null,null,null,null,null,null,null,null,null,null,null,null,null,null,null,null,null,null,"","","",{"$f":"IF(U1452=\"\",\"\",MEDIAN(IF(($U$25:$U$15023<>\"\")*($V$25:$V$15023=V1452),$U$25:$U$15023)))","v":""},"","",""]
[null,null,null,null,null,null,null,null,null,null,null,null,null,null,null,null,null,null,null,null,"","","",{"$f":"IF(U1453=\"\",\"\",MEDIAN(IF(($U$25:$U$15023<>\"\")*($V$25:$V$15023=V1453),$U$25:$U$15023)))","v":""},"","",""]
[null,null,null,null,null,null,null,null,null,null,null,null,null,null,null,null,null,null,null,null,"","","",{"$f":"IF(U1454=\"\",\"\",MEDIAN(IF(($U$25:$U$15023<>\"\")*($V$25:$V$15023=V1454),$U$25:$U$15023)))","v":""},"","",""]
[null,null,null,null,null,null,null,null,null,null,null,null,null,null,null,null,null,null,null,null,"","","",{"$f":"IF(U1455=\"\",\"\",MEDIAN(IF(($U$25:$U$15023<>\"\")*($V$25:$V$15023=V1455),$U$25:$U$15023)))","v":""},"","",""]
[null,null,null,null,null,null,null,null,null,null,null,null,null,null,null,null,null,null,null,null,"","","",{"$f":"IF(U1456=\"\",\"\",MEDIAN(IF(($U$25:$U$15023<>\"\")*($V$25:$V$15023=V1456),$U$25:$U$15023)))","v":""},"","",""]
[null,null,null,null,null,null,null,null,null,null,null,null,null,null,null,null,null,null,null,null,"","","",{"$f":"IF(U1457=\"\",\"\",MEDIAN(IF(($U$25:$U$15023<>\"\")*($V$25:$V$15023=V1457),$U$25:$U$15023)))","v":""},"","",""]
[null,null,null,null,null,null,null,null,null,null,null,null,null,null,null,null,null,null,null,null,"","","",{"$f":"IF(U1458=\"\",\"\",MEDIAN(IF(($U$25:$U$15023<>\"\")*($V$25:$V$15023=V1458),$U$25:$U$15023)))","v":""},"","",""]
[null,null,null,null,null,null,null,null,null,null,null,null,null,null,null,null,null,null,null,null,"","","",{"$f":"IF(U1459=\"\",\"\",MEDIAN(IF(($U$25:$U$15023<>\"\")*($V$25:$V$15023=V1459),$U$25:$U$15023)))","v":""},"","",""]
[null,null,null,null,null,null,null,null,null,null,null,null,null,null,null,null,null,null,null,null,"","","",{"$f":"IF(U1460=\"\",\"\",MEDIAN(IF(($U$25:$U$15023<>\"\")*($V$25:$V$15023=V1460),$U$25:$U$15023)))","v":""},"","",""]
[null,null,null,null,null,null,null,null,null,null,null,null,null,null,null,null,null,null,null,null,"","","",{"$f":"IF(U1461=\"\",\"\",MEDIAN(IF(($U$25:$U$15023<>\"\")*($V$25:$V$15023=V1461),$U$25:$U$15023)))","v":""},"","",""]
[null,null,null,null,null,null,null,null,null,null,null,null,null,null,null,null,null,null,null,null,"","","",{"$f":"IF(U1462=\"\",\"\",MEDIAN(IF(($U$25:$U$15023<>\"\")*($V$25:$V$15023=V1462),$U$25:$U$15023)))","v":""},"","",""]
[null,null,null,null,null,null,null,null,null,null,null,null,null,null,null,null,null,null,null,null,"","","",{"$f":"IF(U1463=\"\",\"\",MEDIAN(IF(($U$25:$U$15023<>\"\")*($V$25:$V$15023=V1463),$U$25:$U$15023)))","v":""},"","",""]
[null,null,null,null,null,null,null,null,null,null,null,null,null,null,null,null,null,null,null,null,"","","",{"$f":"IF(U1464=\"\",\"\",MEDIAN(IF(($U$25:$U$15023<>\"\")*($V$25:$V$15023=V1464),$U$25:$U$15023)))","v":""},"","",""]
[null,null,null,null,null,null,null,null,null,null,null,null,null,null,null,null,null,null,null,null,"","","",{"$f":"IF(U1465=\"\",\"\",MEDIAN(IF(($U$25:$U$15023<>\"\")*($V$25:$V$15023=V1465),$U$25:$U$15023)))","v":""},"","",""]
[null,null,null,null,null,null,null,null,null,null,null,null,null,null,null,null,null,null,null,null,"","","",{"$f":"IF(U1466=\"\",\"\",MEDIAN(IF(($U$25:$U$15023<>\"\")*($V$25:$V$15023=V1466),$U$25:$U$15023)))","v":""},"","",""]
[null,null,null,null,null,null,null,null,null,null,null,null,null,null,null,null,null,null,null,null,"","","",{"$f":"IF(U1467=\"\",\"\",MEDIAN(IF(($U$25:$U$15023<>\"\")*($V$25:$V$15023=V1467),$U$25:$U$15023)))","v":""},"","",""]
[null,null,null,null,null,null,null,null,null,null,null,null,null,null,null,null,null,null,null,null,"","","",{"$f":"IF(U1468=\"\",\"\",MEDIAN(IF(($U$25:$U$15023<>\"\")*($V$25:$V$15023=V1468),$U$25:$U$15023)))","v":""},"","",""]
[null,null,null,null,null,null,null,null,null,null,null,null,null,null,null,null,null,null,null,null,"","","",{"$f":"IF(U1469=\"\",\"\",MEDIAN(IF(($U$25:$U$15023<>\"\")*($V$25:$V$15023=V1469),$U$25:$U$15023)))","v":""},"","",""]
[null,null,null,null,null,null,null,null,null,null,null,null,null,null,null,null,null,null,null,null,"","","",{"$f":"IF(U1470=\"\",\"\",MEDIAN(IF(($U$25:$U$15023<>\"\")*($V$25:$V$15023=V1470),$U$25:$U$15023)))","v":""},"","",""]
[null,null,null,null,null,null,null,null,null,null,null,null,null,null,null,null,null,null,null,null,"","","",{"$f":"IF(U1471=\"\",\"\",MEDIAN(IF(($U$25:$U$15023<>\"\")*($V$25:$V$15023=V1471),$U$25:$U$15023)))","v":""},"","",""]
[null,null,null,null,null,null,null,null,null,null,null,null,null,null,null,null,null,null,null,null,"","","",{"$f":"IF(U1472=\"\",\"\",MEDIAN(IF(($U$25:$U$15023<>\"\")*($V$25:$V$15023=V1472),$U$25:$U$15023)))","v":""},"","",""]
[null,null,null,null,null,null,null,null,null,null,null,null,null,null,null,null,null,null,null,null,"","","",{"$f":"IF(U1473=\"\",\"\",MEDIAN(IF(($U$25:$U$15023<>\"\")*($V$25:$V$15023=V1473),$U$25:$U$15023)))","v":""},"","",""]
[null,null,null,null,null,null,null,null,null,null,null,null,null,null,null,null,null,null,null,null,"","","",{"$f":"IF(U1474=\"\",\"\",MEDIAN(IF(($U$25:$U$15023<>\"\")*($V$25:$V$15023=V1474),$U$25:$U$15023)))","v":""},"","",""]
[null,null,null,null,null,null,null,null,null,null,null,null,null,null,null,null,null,null,null,null,"","","",{"$f":"IF(U1475=\"\",\"\",MEDIAN(IF(($U$25:$U$15023<>\"\")*($V$25:$V$15023=V1475),$U$25:$U$15023)))","v":""},"","",""]
[null,null,null,null,null,null,null,null,null,null,null,null,null,null,null,null,null,null,null,null,"","","",{"$f":"IF(U1476=\"\",\"\",MEDIAN(IF(($U$25:$U$15023<>\"\")*($V$25:$V$15023=V1476),$U$25:$U$15023)))","v":""},"","",""]
[null,null,null,null,null,null,null,null,null,null,null,null,null,null,null,null,null,null,null,null,"","","",{"$f":"IF(U1477=\"\",\"\",MEDIAN(IF(($U$25:$U$15023<>\"\")*($V$25:$V$15023=V1477),$U$25:$U$15023)))","v":""},"","",""]
[null,null,null,null,null,null,null,null,null,null,null,null,null,null,null,null,null,null,null,null,"","","",{"$f":"IF(U1478=\"\",\"\",MEDIAN(IF(($U$25:$U$15023<>\"\")*($V$25:$V$15023=V1478),$U$25:$U$15023)))","v":""},"","",""]
[null,null,null,null,null,null,null,null,null,null,null,null,null,null,null,null,null,null,null,null,"","","",{"$f":"IF(U1479=\"\",\"\",MEDIAN(IF(($U$25:$U$15023<>\"\")*($V$25:$V$15023=V1479),$U$25:$U$15023)))","v":""},"","",""]
[null,null,null,null,null,null,null,null,null,null,null,null,null,null,null,null,null,null,null,null,"","","",{"$f":"IF(U1480=\"\",\"\",MEDIAN(IF(($U$25:$U$15023<>\"\")*($V$25:$V$15023=V1480),$U$25:$U$15023)))","v":""},"","",""]
[null,null,null,null,null,null,null,null,null,null,null,null,null,null,null,null,null,null,null,null,"","","",{"$f":"IF(U1481=\"\",\"\",MEDIAN(IF(($U$25:$U$15023<>\"\")*($V$25:$V$15023=V1481),$U$25:$U$15023)))","v":""},"","",""]
[null,null,null,null,null,null,null,null,null,null,null,null,null,null,null,null,null,null,null,null,"","","",{"$f":"IF(U1482=\"\",\"\",MEDIAN(IF(($U$25:$U$15023<>\"\")*($V$25:$V$15023=V1482),$U$25:$U$15023)))","v":""},"","",""]
[null,null,null,null,null,null,null,null,null,null,null,null,null,null,null,null,null,null,null,null,"","","",{"$f":"IF(U1483=\"\",\"\",MEDIAN(IF(($U$25:$U$15023<>\"\")*($V$25:$V$15023=V1483),$U$25:$U$15023)))","v":""},"","",""]
[null,null,null,null,null,null,null,null,null,null,null,null,null,null,null,null,null,null,null,null,"","","",{"$f":"IF(U1484=\"\",\"\",MEDIAN(IF(($U$25:$U$15023<>\"\")*($V$25:$V$15023=V1484),$U$25:$U$15023)))","v":""},"","",""]
[null,null,null,null,null,null,null,null,null,null,null,null,null,null,null,null,null,null,null,null,"","","",{"$f":"IF(U1485=\"\",\"\",MEDIAN(IF(($U$25:$U$15023<>\"\")*($V$25:$V$15023=V1485),$U$25:$U$15023)))","v":""},"","",""]
[null,null,null,null,null,null,null,null,null,null,null,null,null,null,null,null,null,null,null,null,"","","",{"$f":"IF(U1486=\"\",\"\",MEDIAN(IF(($U$25:$U$15023<>\"\")*($V$25:$V$15023=V1486),$U$25:$U$15023)))","v":""},"","",""]
[null,null,null,null,null,null,null,null,null,null,null,null,null,null,null,null,null,null,null,null,"","","",{"$f":"IF(U1487=\"\",\"\",MEDIAN(IF(($U$25:$U$15023<>\"\")*($V$25:$V$15023=V1487),$U$25:$U$15023)))","v":""},"","",""]
[null,null,null,null,null,null,null,null,null,null,null,null,null,null,null,null,null,null,null,null,"","","",{"$f":"IF(U1488=\"\",\"\",MEDIAN(IF(($U$25:$U$15023<>\"\")*($V$25:$V$15023=V1488),$U$25:$U$15023)))","v":""},"","",""]
[null,null,null,null,null,null,null,null,null,null,null,null,null,null,null,null,null,null,null,null,"","","",{"$f":"IF(U1489=\"\",\"\",MEDIAN(IF(($U$25:$U$15023<>\"\")*($V$25:$V$15023=V1489),$U$25:$U$15023)))","v":""},"","",""]
[null,null,null,null,null,null,null,null,null,null,null,null,null,null,null,null,null,null,null,null,"","","",{"$f":"IF(U1490=\"\",\"\",MEDIAN(IF(($U$25:$U$15023<>\"\")*($V$25:$V$15023=V1490),$U$25:$U$15023)))","v":""},"","",""]
[null,null,null,null,null,null,null,null,null,null,null,null,null,null,null,null,null,null,null,null,"","","",{"$f":"IF(U1491=\"\",\"\",MEDIAN(IF(($U$25:$U$15023<>\"\")*($V$25:$V$15023=V1491),$U$25:$U$15023)))","v":""},"","",""]
[null,null,null,null,null,null,null,null,null,null,null,null,null,null,null,null,null,null,null,null,"","","",{"$f":"IF(U1492=\"\",\"\",MEDIAN(IF(($U$25:$U$15023<>\"\")*($V$25:$V$15023=V1492),$U$25:$U$15023)))","v":""},"","",""]
[null,null,null,null,null,null,null,null,null,null,null,null,null,null,null,null,null,null,null,null,"","","",{"$f":"IF(U1493=\"\",\"\",MEDIAN(IF(($U$25:$U$15023<>\"\")*($V$25:$V$15023=V1493),$U$25:$U$15023)))","v":""},"","",""]
[null,null,null,null,null,null,null,null,null,null,null,null,null,null,null,null,null,null,null,null,"","","",{"$f":"IF(U1494=\"\",\"\",MEDIAN(IF(($U$25:$U$15023<>\"\")*($V$25:$V$15023=V1494),$U$25:$U$15023)))","v":""},"","",""]
[null,null,null,null,null,null,null,null,null,null,null,null,null,null,null,null,null,null,null,null,"","","",{"$f":"IF(U1495=\"\",\"\",MEDIAN(IF(($U$25:$U$15023<>\"\")*($V$25:$V$15023=V1495),$U$25:$U$15023)))","v":""},"","",""]
[null,null,null,null,null,null,null,null,null,null,null,null,null,null,null,null,null,null,null,null,"","","",{"$f":"IF(U1496=\"\",\"\",MEDIAN(IF(($U$25:$U$15023<>\"\")*($V$25:$V$15023=V1496),$U$25:$U$15023)))","v":""},"","",""]
[null,null,null,null,null,null,null,null,null,null,null,null,null,null,null,null,null,null,null,null,"","","",{"$f":"IF(U1497=\"\",\"\",MEDIAN(IF(($U$25:$U$15023<>\"\")*($V$25:$V$15023=V1497),$U$25:$U$15023)))","v":""},"","",""]
[null,null,null,null,null,null,null,null,null,null,null,null,null,null,null,null,null,null,null,null,{"$f":"IF(A1498=\"\",\"\",A1498)","v":""},{"$f":"IF(B1498=\"\",\"\",B1498)","v":""},{"$f":"IF(U1498=\"\",\"\",RANK(U1498,$U$25:$U$15023,1)+(COUNT($U$25:$U$15023)+1-RANK(U1498,$U$25:$U$15023,0)-RANK(U1498,$U$25:$U$15023,1))/2)","v":""},{"$f":"IF(U1498=\"\",\"\",MEDIAN(IF(($U$25:$U$15023<>\"\")*($V$25:$V$15023=V1498),$U$25:$U$15023)))","v":""},{"$f":"IF(U1498=\"\",\"\",ABS(X1498-U1498))","v":""},{"$f":"IF(V1498=\"\",\"\",AVERAGEIF($V$25:$V$15023,V1498,$Y$25:$Y$15023))","v":""},{"$f":"IF(V1498=\"\",\"\",(Y1498-Z1498)^2)","v":""}]
[null,null,null,null,null,null,null,null,null,null,null,null,null,null,null,null,null,null,null,null,"","","",{"$f":"IF(U1499=\"\",\"\",MEDIAN(IF(($U$25:$U$15023<>\"\")*($V$25:$V$15023=V1499),$U$25:$U$15023)))","v":""},"","",""]
[null,null,null,null,null,null,null,null,null,null,null,null,null,null,null,null,null,null,null,null,"","","",{"$f":"IF(U1500=\"\",\"\",MEDIAN(IF(($U$25:$U$15023<>\"\")*($V$25:$V$15023=V1500),$U$25:$U$15023)))","v":""},"","",""]
[null,null,null,null,null,null,null,null,null,null,null,null,null,null,null,null,null,null,null,null,"","","",{"$f":"IF(U1501=\"\",\"\",MEDIAN(IF(($U$25:$U$15023<>\"\")*($V$25:$V$15023=V1501),$U$25:$U$15023)))","v":""},"","",""]
[null,null,null,null,null,null,null,null,null,null,null,null,null,null,null,null,null,null,null,null,"","","",{"$f":"IF(U1502=\"\",\"\",MEDIAN(IF(($U$25:$U$15023<>\"\")*($V$25:$V$15023=V1502),$U$25:$U$15023)))","v":""},"","",""]
[null,null,null,null,null,null,null,null,null,null,null,null,null,null,null,null,null,null,null,null,"","","",{"$f":"IF(U1503=\"\",\"\",MEDIAN(IF(($U$25:$U$15023<>\"\")*($V$25:$V$15023=V1503),$U$25:$U$15023)))","v":""},"","",""]
[null,null,null,null,null,null,null,null,null,null,null,null,null,null,null,null,null,null,null,null,"","","",{"$f":"IF(U1504=\"\",\"\",MEDIAN(IF(($U$25:$U$15023<>\"\")*($V$25:$V$15023=V1504),$U$25:$U$15023)))","v":""},"","",""]
[null,null,null,null,null,null,null,null,null,null,null,null,null,null,null,null,null,null,null,null,"","","",{"$f":"IF(U1505=\"\",\"\",MEDIAN(IF(($U$25:$U$15023<>\"\")*($V$25:$V$15023=V1505),$U$25:$U$15023)))","v":""},"","",""]
[null,null,null,null,null,null,null,null,null,null,null,null,null,null,null,null,null,null,null,null,"","","",{"$f":"IF(U1506=\"\",\"\",MEDIAN(IF(($U$25:$U$15023<>\"\")*($V$25:$V$15023=V1506),$U$25:$U$15023)))","v":""},"","",""]
[null,null,null,null,null,null,null,null,null,null,null,null,null,null,null,null,null,null,null,null,"","","",{"$f":"IF(U1507=\"\",\"\",MEDIAN(IF(($U$25:$U$15023<>\"\")*($V$25:$V$15023=V1507),$U$25:$U$15023)))","v":""},"","",""]
[null,null,null,null,null,null,null,null,null,null,null,null,null,null,null,null,null,null,null,null,"","","",{"$f":"IF(U1508=\"\",\"\",MEDIAN(IF(($U$25:$U$15023<>\"\")*($V$25:$V$15023=V1508),$U$25:$U$15023)))","v":""},"","",""]
[null,null,null,null,null,null,null,null,null,null,null,null,null,null,null,null,null,null,null,null,"","","",{"$f":"IF(U1509=\"\",\"\",MEDIAN(IF(($U$25:$U$15023<>\"\")*($V$25:$V$15023=V1509),$U$25:$U$15023)))","v":""},"","",""]
[null,null,null,null,null,null,null,null,null,null,null,null,null,null,null,null,null,null,null,null,"","","",{"$f":"IF(U1510=\"\",\"\",MEDIAN(IF(($U$25:$U$15023<>\"\")*($V$25:$V$15023=V1510),$U$25:$U$15023)))","v":""},"","",""]
[null,null,null,null,null,null,null,null,null,null,null,null,null,null,null,null,null,null,null,null,"","","",{"$f":"IF(U1511=\"\",\"\",MEDIAN(IF(($U$25:$U$15023<>\"\")*($V$25:$V$15023=V1511),$U$25:$U$15023)))","v":""},"","",""]
[null,null,null,null,null,null,null,null,null,null,null,null,null,null,null,null,null,null,null,null,"","","",{"$f":"IF(U1512=\"\",\"\",MEDIAN(IF(($U$25:$U$15023<>\"\")*($V$25:$V$15023=V1512),$U$25:$U$15023)))","v":""},"","",""]
[null,null,null,null,null,null,null,null,null,null,null,null,null,null,null,null,null,null,null,null,"","","",{"$f":"IF(U1513=\"\",\"\",MEDIAN(IF(($U$25:$U$15023<>\"\")*($V$25:$V$15023=V1513),$U$25:$U$15023)))","v":""},"","",""]
[null,null,null,null,null,null,null,null,null,null,null,null,null,null,null,null,null,null,null,null,"","","",{"$f":"IF(U1514=\"\",\"\",MEDIAN(IF(($U$25:$U$15023<>\"\")*($V$25:$V$15023=V1514),$U$25:$U$15023)))","v":""},"","",""]
[null,null,null,null,null,null,null,null,null,null,null,null,null,null,null,null,null,null,null,null,"","","",{"$f":"IF(U1515=\"\",\"\",MEDIAN(IF(($U$25:$U$15023<>\"\")*($V$25:$V$15023=V1515),$U$25:$U$15023)))","v":""},"","",""]
[null,null,null,null,null,null,null,null,null,null,null,null,null,null,null,null,null,null,null,null,"","","",{"$f":"IF(U1516=\"\",\"\",MEDIAN(IF(($U$25:$U$15023<>\"\")*($V$25:$V$15023=V1516),$U$25:$U$15023)))","v":""},"","",""]
[null,null,null,null,null,null,null,null,null,null,null,null,null,null,null,null,null,null,null,null,"","","",{"$f":"IF(U1517=\"\",\"\",MEDIAN(IF(($U$25:$U$15023<>\"\")*($V$25:$V$15023=V1517),$U$25:$U$15023)))","v":""},"","",""]
[null,null,null,null,null,null,null,null,null,null,null,null,null,null,null,null,null,null,null,null,"","","",{"$f":"IF(U1518=\"\",\"\",MEDIAN(IF(($U$25:$U$15023<>\"\")*($V$25:$V$15023=V1518),$U$25:$U$15023)))","v":""},"","",""]
[null,null,null,null,null,null,null,null,null,null,null,null,null,null,null,null,null,null,null,null,"","","",{"$f":"IF(U1519=\"\",\"\",MEDIAN(IF(($U$25:$U$15023<>\"\")*($V$25:$V$15023=V1519),$U$25:$U$15023)))","v":""},"","",""]
[null,null,null,null,null,null,null,null,null,null,null,null,null,null,null,null,null,null,null,null,"","","",{"$f":"IF(U1520=\"\",\"\",MEDIAN(IF(($U$25:$U$15023<>\"\")*($V$25:$V$15023=V1520),$U$25:$U$15023)))","v":""},"","",""]
[null,null,null,null,null,null,null,null,null,null,null,null,null,null,null,null,null,null,null,null,"","","",{"$f":"IF(U1521=\"\",\"\",MEDIAN(IF(($U$25:$U$15023<>\"\")*($V$25:$V$15023=V1521),$U$25:$U$15023)))","v":""},"","",""]
[null,null,null,null,null,null,null,null,null,null,null,null,null,null,null,null,null,null,null,null,"","","",{"$f":"IF(U1522=\"\",\"\",MEDIAN(IF(($U$25:$U$15023<>\"\")*($V$25:$V$15023=V1522),$U$25:$U$15023)))","v":""},"","",""]
[null,null,null,null,null,null,null,null,null,null,null,null,null,null,null,null,null,null,null,null,"","","",{"$f":"IF(U1523=\"\",\"\",MEDIAN(IF(($U$25:$U$15023<>\"\")*($V$25:$V$15023=V1523),$U$25:$U$15023)))","v":""},"","",""]

{"sheet":"Kritické hodnoty","index":3,"n_rows":37,"n_cols":11,"rows_kept":37,"cut":false,"hidden":true,"merged":[[0,1,0,10],[19,1,19,10]]}
[null,"k"]
["m",3,4,5,6,7,8,9,10,11,12]
[3,6,7.4,8.5299999999999994,9.86,11.24,12.57,13.88,15.19,16.48,17.760000000000002]
[4,6.5,7.8,8.8000000000000007,10.24,11.63,12.99,14.34,15.67,16.98,18.3]
[5,6.4,7.8,8.99,10.43,11.84,13.23,14.59,15.93,17.27,18.600000000000001]
[6,7,7.6,9.08,10.54,11.97,13.38,14.76,16.12,17.399999999999999,18.8]
[7,7.1429999999999998,7.8,9.11,10.62,12.07,13.48,14.87,16.23,17.600000000000001,18.899999999999999]
[8,6.25,7.65,9.19,10.68,12.14,13.56,14.95,16.32,17.7,19]
[9,6.2220000000000004,7.66,9.2200000000000006,10.73,12.19,13.61,15.02,16.399999999999999,17.7,19.100000000000001]
[10,6.2,7.67,9.25,10.76,12.23,13.66,15.07,16.440000000000001,17.8,19.2]
[11,6.5449999999999999,7.68,9.27,10.79,12.27,13.7,15.11,16.48,17.899999999999999,19.2]
[12,6.1669999999999998,7.7,9.2899999999999991,10.81,12.29,13.73,15.15,16.53,17.899999999999999,19.3]
[13,6,7.7,9.3000000000000007,10.83,12.32,13.76,15.17,16.559999999999999,17.899999999999999,19.3]
[14,6.1429999999999998,7.71,9.32,10.85,12.34,13.78,15.19,16.579999999999998,17.899999999999999,19.3]
[15,6.4,7.72,9.33,10.87,12.35,13.8,15.2,16.600000000000001,18,19.3]
[16,5.99,7.73,9.34,10.88,12.37,13.81,15.23,16.600000000000001,18,19.3]
[20,5.99,7.74,9.3699999999999992,10.92,12.41,13.8,15.3,16.7,18,19.399999999999999]
[21,5.99,7.82,9.49,11.07,12.59,14.07,15.51,16.920000000000002,18.309999999999999,19.68]
[]
[null,"k"]
["m",3,4,5,6,7,8,9,10,11,12]
[3,"-",9,10.130000000000001,11.76,13.26,14.78,16.28,17.739999999999998,19.190000000000001,20.61]
[4,8,9.6,11.2,12.59,14.19,15.75,17.28,18.77,20.239999999999998,21.7]
[5,8.4,9.9600000000000009,11.43,13.11,14.74,16.32,17.86,19.37,20.86,22.3]
[6,9,10.199999999999999,11.75,13.45,15.1,16.690000000000001,18.25,19.77,21.3,22.7]
[7,8.8569999999999993,10.371,11.97,13.69,15.35,16.95,18.510000000000002,20.04,21.5,23]
[8,9,10.35,12.14,13.87,15.53,17.149999999999999,18.71,20.239999999999998,21.8,23.2]
[9,8.6669999999999998,10.44,12.27,14.01,15.68,17.29,18.87,20.420000000000002,21.9,23.4]
[10,9.6,10.53,12.38,14.12,15.79,17.41,19,20.53,22,23.5]
[11,9.4550000000000001,10.6,12.46,14.21,15.89,17.52,19.100000000000001,20.64,22.1,23.6]
[12,9.5,10.68,12.53,14.28,15.96,17.59,19.190000000000001,20.73,22.2,23.7]
[13,9.3849999999999998,10.72,12.58,14.34,16.03,17.670000000000002,19.25,20.8,22.3,23.8]
[14,9,10.76,12.64,14.4,16.09,17.72,19.309999999999999,20.86,22.4,23.9]
[15,8.9329999999999998,10.8,12.68,14.44,16.14,17.78,19.350000000000001,20.9,22.4,23.9]
[16,8.7899999999999991,10.84,12.72,14.48,16.18,17.809999999999999,19.399999999999999,20.9,22.5,24]
[20,8.8699999999999992,10.94,12.83,14.6,16.3,18,19.5,21.1,22.6,24.1]
[21,9.2100000000000009,11.45,13.28,15.09,16.809999999999999,18.48,20.09,21.67,23.21,24.73]

{"sheet":"Post hoc analýza","index":4,"n_rows":24,"n_cols":66,"rows_kept":24,"cut":false,"hidden":false,"merged":[[3,0,3,1],[5,0,5,15]]}
["Post hoc analýza pro Kruskalův-Wallisův test ",null,null,null,null,null,null,null,null,null,null,null,null,null,null,null,null,null,"© Martina Litschmannová, 2011"]
[]
["Hladina významnosti",null,null,{"$f":"'Kruskalův-Wallisův test'!D6","v":0.05}]
[null,null,null,{"$f":"D3/COMBIN('Kruskalův-Wallisův test'!F11,2)","v":{"$error":"#NUM!"}},"z",{"$f":"NORMSINV(1-D4)","v":{"$error":"#NUM!"}}]
[]
["|tr-ts| (kritická hodnota)",null,null,null,null,null,null,null,null,null,null,null,null,null,null,null,null,null,null,{"$f":"IF('Kruskalův-Wallisův test'!AC22=0,\"\",'Kruskalův-Wallisův test'!AC22)","v":""},{"$f":"IF('Kruskalův-Wallisův test'!AD22=0,\"\",'Kruskalův-Wallisův test'!AD22)","v":""},{"$f":"IF('Kruskalův-Wallisův test'!AE22=0,\"\",'Kruskalův-Wallisův test'!AE22)","v":""},{"$f":"IF('Kruskalův-Wallisův test'!AF22=0,\"\",'Kruskalův-Wallisův test'!AF22)","v":""},{"$f":"IF('Kruskalův-Wallisův test'!AG22=0,\"\",'Kruskalův-Wallisův test'!AG22)","v":""},{"$f":"IF('Kruskalův-Wallisův test'!AH22=0,\"\",'Kruskalův-Wallisův test'!AH22)","v":""},{"$f":"IF('Kruskalův-Wallisův test'!AI22=0,\"\",'Kruskalův-Wallisův test'!AI22)","v":""},{"$f":"IF('Kruskalův-Wallisův test'!AJ22=0,\"\",'Kruskalův-Wallisův test'!AJ22)","v":""},{"$f":"IF('Kruskalův-Wallisův test'!AK22=0,\"\",'Kruskalův-Wallisův test'!AK22)","v":""},{"$f":"IF('Kruskalův-Wallisův test'!AL22=0,\"\",'Kruskalův-Wallisův test'!AL22)","v":""},{"$f":"IF('Kruskalův-Wallisův test'!AM22=0,\"\",'Kruskalův-Wallisův test'!AM22)","v":""},{"$f":"IF('Kruskalův-Wallisův test'!AN22=0,\"\",'Kruskalův-Wallisův test'!AN22)","v":""},{"$f":"IF('Kruskalův-Wallisův test'!AO22=0,\"\",'Kruskalův-Wallisův test'!AO22)","v":""},{"$f":"IF('Kruskalův-Wallisův test'!AP22=0,\"\",'Kruskalův-Wallisův test'!AP22)","v":""},{"$f":"IF('Kruskalův-Wallisův test'!AQ22=0,\"\",'Kruskalův-Wallisův test'!AQ22)","v":""}]
["r\\s",1,2,3,4,5,6,7,8,9,10,11,12,13,14,15,null,null,"r\\s",{"$f":"IF('Kruskalův-Wallisův test'!AC22=0,\"\",'Kruskalův-Wallisův test'!AC23/'Kruskalův-Wallisův test'!AC22)","v":""},{"$f":"IF('Kruskalův-Wallisův test'!AD22=0,\"\",'Kruskalův-Wallisův test'!AD23/'Kruskalův-Wallisův test'!AD22)","v":""},{"$f":"IF('Kruskalův-Wallisův test'!AE22=0,\"\",'Kruskalův-Wallisův test'!AE23/'Kruskalův-Wallisův test'!AE22)","v":""},{"$f":"IF('Kruskalův-Wallisův test'!AF22=0,\"\",'Kruskalův-Wallisův test'!AF23/'Kruskalův-Wallisův test'!AF22)","v":""},{"$f":"IF('Kruskalův-Wallisův test'!AG22=0,\"\",'Kruskalův-Wallisův test'!AG23/'Kruskalův-Wallisův test'!AG22)","v":""},{"$f":"IF('Kruskalův-Wallisův test'!AH22=0,\"\",'Kruskalův-Wallisův test'!AH23/'Kruskalův-Wallisův test'!AH22)","v":""},{"$f":"IF('Kruskalův-Wallisův test'!AI22=0,\"\",'Kruskalův-Wallisův test'!AI23/'Kruskalův-Wallisův test'!AI22)","v":""},{"$f":"IF('Kruskalův-Wallisův test'!AJ22=0,\"\",'Kruskalův-Wallisův test'!AJ23/'Kruskalův-Wallisův test'!AJ22)","v":""},{"$f":"IF('Kruskalův-Wallisův test'!AK22=0,\"\",'Kruskalův-Wallisův test'!AK23/'Kruskalův-Wallisův test'!AK22)","v":""},{"$f":"IF('Kruskalův-Wallisův test'!AL22=0,\"\",'Kruskalův-Wallisův test'!AL23/'Kruskalův-Wallisův test'!AL22)","v":""},{"$f":"IF('Kruskalův-Wallisův test'!AM22=0,\"\",'Kruskalův-Wallisův test'!AM23/'Kruskalův-Wallisův test'!AM22)","v":""},{"$f":"IF('Kruskalův-Wallisův test'!AN22=0,\"\",'Kruskalův-Wallisův test'!AN23/'Kruskalův-Wallisův test'!AN22)","v":""},{"$f":"IF('Kruskalův-Wallisův test'!AO22=0,\"\",'Kruskalův-Wallisův test'!AO23/'Kruskalův-Wallisův test'!AO22)","v":""},{"$f":"IF('Kruskalův-Wallisův test'!AP22=0,\"\",'Kruskalův-Wallisův test'!AP23/'Kruskalův-Wallisův test'!AP22)","v":""},{"$f":"IF('Kruskalův-Wallisův test'!AQ22=0,\"\",'Kruskalův-Wallisův test'!AQ23/'Kruskalův-Wallisův test'!AQ22)","v":""}]
[1,"-",{"$f":"IF(U8=\"\",\"\",CONCATENATE(ROUND(ABS(U$7-$S8),3),\" (\",ROUND(U8,3),\")\"))","v":""},"","","","","","","","","","","","","",null,{"$f":"T6","v":""},{"$f":"T7","v":""},{"$f":"IF(OR($R8=\"\",T$6=\"\"),\"\",IF(pomNemeneyi!$D$10=0,SQRT((((1/$R8)+(1/T$6))*'Kruskalův-Wallisův test'!$D$11*('Kruskalův-Wallisův test'!$D$11+1)*'Post hoc analýza'!$F$4)/12),IF(pomNemeneyi!$D$10=1,pomNemeneyi!$L$11,pomNemeneyi!$L$12)))","v":""},{"$f":"IF(OR($R8=\"\",U$6=\"\"),\"\",IF(pomNemeneyi!$D$10=0,SQRT((((1/$R8)+(1/U$6))*'Kruskalův-Wallisův test'!$D$11*('Kruskalův-Wallisův test'!$D$11+1)*'Post hoc analýza'!$F$4)/12),IF(pomNemeneyi!$D$10=1,pomNemeneyi!$L$11,pomNemeneyi!$L$12)))","v":""},{"$f":"IF(OR($R8=\"\",V$6=\"\"),\"\",IF(pomNemeneyi!$D$10=0,SQRT((((1/$R8)+(1/V$6))*'Kruskalův-Wallisův test'!$D$11*('Kruskalův-Wallisův test'!$D$11+1)*'Post hoc analýza'!$F$4)/12),IF(pomNemeneyi!$D$10=1,pomNemeneyi!$L$11,pomNemeneyi!$L$12)))","v":""},{"$f":"IF(OR($R8=\"\",W$6=\"\"),\"\",IF(pomNemeneyi!$D$10=0,SQRT((((1/$R8)+(1/W$6))*'Kruskalův-Wallisův test'!$D$11*('Kruskalův-Wallisův test'!$D$11+1)*'Post hoc analýza'!$F$4)/12),IF(pomNemeneyi!$D$10=1,pomNemeneyi!$L$11,pomNemeneyi!$L$12)))","v":""},{"$f":"IF(OR($R8=\"\",X$6=\"\"),\"\",IF(pomNemeneyi!$D$10=0,SQRT((((1/$R8)+(1/X$6))*'Kruskalův-Wallisův test'!$D$11*('Kruskalův-Wallisův test'!$D$11+1)*'Post hoc analýza'!$F$4)/12),IF(pomNemeneyi!$D$10=1,pomNemeneyi!$L$11,pomNemeneyi!$L$12)))","v":""},{"$f":"IF(OR($R8=\"\",Y$6=\"\"),\"\",IF(pomNemeneyi!$D$10=0,SQRT((((1/$R8)+(1/Y$6))*'Kruskalův-Wallisův test'!$D$11*('Kruskalův-Wallisův test'!$D$11+1)*'Post hoc analýza'!$F$4)/12),IF(pomNemeneyi!$D$10=1,pomNemeneyi!$L$11,pomNemeneyi!$L$12)))","v":""},{"$f":"IF(OR($R8=\"\",Z$6=\"\"),\"\",IF(pomNemeneyi!$D$10=0,SQRT((((1/$R8)+(1/Z$6))*'Kruskalův-Wallisův test'!$D$11*('Kruskalův-Wallisův test'!$D$11+1)*'Post hoc analýza'!$F$4)/12),IF(pomNemeneyi!$D$10=1,pomNemeneyi!$L$11,pomNemeneyi!$L$12)))","v":""},{"$f":"IF(OR($R8=\"\",AA$6=\"\"),\"\",IF(pomNemeneyi!$D$10=0,SQRT((((1/$R8)+(1/AA$6))*'Kruskalův-Wallisův test'!$D$11*('Kruskalův-Wallisův test'!$D$11+1)*'Post hoc analýza'!$F$4)/12),IF(pomNemeneyi!$D$10=1,pomNemeneyi!$L$11,pomNemeneyi!$L$12)))","v":""},{"$f":"IF(OR($R8=\"\",AB$6=\"\"),\"\",IF(pomNemeneyi!$D$10=0,SQRT((((1/$R8)+(1/AB$6))*'Kruskalův-Wallisův test'!$D$11*('Kruskalův-Wallisův test'!$D$11+1)*'Post hoc analýza'!$F$4)/12),IF(pomNemeneyi!$D$10=1,pomNemeneyi!$L$11,pomNemeneyi!$L$12)))","v":""},{"$f":"IF(OR($R8=\"\",AC$6=\"\"),\"\",IF(pomNemeneyi!$D$10=0,SQRT((((1/$R8)+(1/AC$6))*'Kruskalův-Wallisův test'!$D$11*('Kruskalův-Wallisův test'!$D$11+1)*'Post hoc analýza'!$F$4)/12),IF(pomNemeneyi!$D$10=1,pomNemeneyi!$L$11,pomNemeneyi!$L$12)))","v":""},{"$f":"IF(OR($R8=\"\",AD$6=\"\"),\"\",IF(pomNemeneyi!$D$10=0,SQRT((((1/$R8)+(1/AD$6))*'Kruskalův-Wallisův test'!$D$11*('Kruskalův-Wallisův test'!$D$11+1)*'Post hoc analýza'!$F$4)/12),IF(pomNemeneyi!$D$10=1,pomNemeneyi!$L$11,pomNemeneyi!$L$12)))","v":""},{"$f":"IF(OR($R8=\"\",AE$6=\"\"),\"\",IF(pomNemeneyi!$D$10=0,SQRT((((1/$R8)+(1/AE$6))*'Kruskalův-Wallisův test'!$D$11*('Kruskalův-Wallisův test'!$D$11+1)*'Post hoc analýza'!$F$4)/12),IF(pomNemeneyi!$D$10=1,pomNemeneyi!$L$11,pomNemeneyi!$L$12)))","v":""},{"$f":"IF(OR($R8=\"\",AF$6=\"\"),\"\",IF(pomNemeneyi!$D$10=0,SQRT((((1/$R8)+(1/AF$6))*'Kruskalův-Wallisův test'!$D$11*('Kruskalův-Wallisův test'!$D$11+1)*'Post hoc analýza'!$F$4)/12),IF(pomNemeneyi!$D$10=1,pomNemeneyi!$L$11,pomNemeneyi!$L$12)))","v":""},{"$f":"IF(OR($R8=\"\",AG$6=\"\"),\"\",IF(pomNemeneyi!$D$10=0,SQRT((((1/$R8)+(1/AG$6))*'Kruskalův-Wallisův test'!$D$11*('Kruskalův-Wallisův test'!$D$11+1)*'Post hoc analýza'!$F$4)/12),IF(pomNemeneyi!$D$10=1,pomNemeneyi!$L$11,pomNemeneyi!$L$12)))","v":""},{"$f":"IF(OR($R8=\"\",AH$6=\"\"),\"\",IF(pomNemeneyi!$D$10=0,SQRT((((1/$R8)+(1/AH$6))*'Kruskalův-Wallisův test'!$D$11*('Kruskalův-Wallisův test'!$D$11+1)*'Post hoc analýza'!$F$4)/12),IF(pomNemeneyi!$D$10=1,pomNemeneyi!$L$11,pomNemeneyi!$L$12)))","v":""},null,{"$f":"IFERROR(IF(OR(T8=\"\",B8=\"-\",ABS($S8-T$7)<T8),0,1),\"\")","v":""},"","","","","","","","","","","","","",""]
[2,{"$f":"IF(T9=\"\",\"\",CONCATENATE(ROUND(ABS(T$7-$S9),3),\" (\",ROUND(T9,3),\")\"))","v":""},"-",{"$f":"IF(V9=\"\",\"\",CONCATENATE(ROUND(ABS(V$7-$S9),3),\" (\",ROUND(V9,3),\")\"))","v":""},"","","","","","","","","","","","",null,{"$f":"U6","v":""},{"$f":"U7","v":""},{"$f":"IF(OR($R9=\"\",T$6=\"\"),\"\",IF(pomNemeneyi!$D$10=0,SQRT((((1/$R9)+(1/T$6))*'Kruskalův-Wallisův test'!$D$11*('Kruskalův-Wallisův test'!$D$11+1)*'Post hoc analýza'!$F$4)/12),IF(pomNemeneyi!$D$10=1,pomNemeneyi!$L$11,pomNemeneyi!$L$12)))","v":""},{"$f":"IF(OR($R9=\"\",U$6=\"\"),\"\",IF(pomNemeneyi!$D$10=0,SQRT((((1/$R9)+(1/U$6))*'Kruskalův-Wallisův test'!$D$11*('Kruskalův-Wallisův test'!$D$11+1)*'Post hoc analýza'!$F$4)/12),IF(pomNemeneyi!$D$10=1,pomNemeneyi!$L$11,pomNemeneyi!$L$12)))","v":""},{"$f":"IF(OR($R9=\"\",V$6=\"\"),\"\",IF(pomNemeneyi!$D$10=0,SQRT((((1/$R9)+(1/V$6))*'Kruskalův-Wallisův test'!$D$11*('Kruskalův-Wallisův test'!$D$11+1)*'Post hoc analýza'!$F$4)/12),IF(pomNemeneyi!$D$10=1,pomNemeneyi!$L$11,pomNemeneyi!$L$12)))","v":""},{"$f":"IF(OR($R9=\"\",W$6=\"\"),\"\",IF(pomNemeneyi!$D$10=0,SQRT((((1/$R9)+(1/W$6))*'Kruskalův-Wallisův test'!$D$11*('Kruskalův-Wallisův test'!$D$11+1)*'Post hoc analýza'!$F$4)/12),IF(pomNemeneyi!$D$10=1,pomNemeneyi!$L$11,pomNemeneyi!$L$12)))","v":""},{"$f":"IF(OR($R9=\"\",X$6=\"\"),\"\",IF(pomNemeneyi!$D$10=0,SQRT((((1/$R9)+(1/X$6))*'Kruskalův-Wallisův test'!$D$11*('Kruskalův-Wallisův test'!$D$11+1)*'Post hoc analýza'!$F$4)/12),IF(pomNemeneyi!$D$10=1,pomNemeneyi!$L$11,pomNemeneyi!$L$12)))","v":""},{"$f":"IF(OR($R9=\"\",Y$6=\"\"),\"\",IF(pomNemeneyi!$D$10=0,SQRT((((1/$R9)+(1/Y$6))*'Kruskalův-Wallisův test'!$D$11*('Kruskalův-Wallisův test'!$D$11+1)*'Post hoc analýza'!$F$4)/12),IF(pomNemeneyi!$D$10=1,pomNemeneyi!$L$11,pomNemeneyi!$L$12)))","v":""},{"$f":"IF(OR($R9=\"\",Z$6=\"\"),\"\",IF(pomNemeneyi!$D$10=0,SQRT((((1/$R9)+(1/Z$6))*'Kruskalův-Wallisův test'!$D$11*('Kruskalův-Wallisův test'!$D$11+1)*'Post hoc analýza'!$F$4)/12),IF(pomNemeneyi!$D$10=1,pomNemeneyi!$L$11,pomNemeneyi!$L$12)))","v":""},{"$f":"IF(OR($R9=\"\",AA$6=\"\"),\"\",IF(pomNemeneyi!$D$10=0,SQRT((((1/$R9)+(1/AA$6))*'Kruskalův-Wallisův test'!$D$11*('Kruskalův-Wallisův test'!$D$11+1)*'Post hoc analýza'!$F$4)/12),IF(pomNemeneyi!$D$10=1,pomNemeneyi!$L$11,pomNemeneyi!$L$12)))","v":""},{"$f":"IF(OR($R9=\"\",AB$6=\"\"),\"\",IF(pomNemeneyi!$D$10=0,SQRT((((1/$R9)+(1/AB$6))*'Kruskalův-Wallisův test'!$D$11*('Kruskalův-Wallisův test'!$D$11+1)*'Post hoc analýza'!$F$4)/12),IF(pomNemeneyi!$D$10=1,pomNemeneyi!$L$11,pomNemeneyi!$L$12)))","v":""},{"$f":"IF(OR($R9=\"\",AC$6=\"\"),\"\",IF(pomNemeneyi!$D$10=0,SQRT((((1/$R9)+(1/AC$6))*'Kruskalův-Wallisův test'!$D$11*('Kruskalův-Wallisův test'!$D$11+1)*'Post hoc analýza'!$F$4)/12),IF(pomNemeneyi!$D$10=1,pomNemeneyi!$L$11,pomNemeneyi!$L$12)))","v":""},{"$f":"IF(OR($R9=\"\",AD$6=\"\"),\"\",IF(pomNemeneyi!$D$10=0,SQRT((((1/$R9)+(1/AD$6))*'Kruskalův-Wallisův test'!$D$11*('Kruskalův-Wallisův test'!$D$11+1)*'Post hoc analýza'!$F$4)/12),IF(pomNemeneyi!$D$10=1,pomNemeneyi!$L$11,pomNemeneyi!$L$12)))","v":""},{"$f":"IF(OR($R9=\"\",AE$6=\"\"),\"\",IF(pomNemeneyi!$D$10=0,SQRT((((1/$R9)+(1/AE$6))*'Kruskalův-Wallisův test'!$D$11*('Kruskalův-Wallisův test'!$D$11+1)*'Post hoc analýza'!$F$4)/12),IF(pomNemeneyi!$D$10=1,pomNemeneyi!$L$11,pomNemeneyi!$L$12)))","v":""},{"$f":"IF(OR($R9=\"\",AF$6=\"\"),\"\",IF(pomNemeneyi!$D$10=0,SQRT((((1/$R9)+(1/AF$6))*'Kruskalův-Wallisův test'!$D$11*('Kruskalův-Wallisův test'!$D$11+1)*'Post hoc analýza'!$F$4)/12),IF(pomNemeneyi!$D$10=1,pomNemeneyi!$L$11,pomNemeneyi!$L$12)))","v":""},{"$f":"IF(OR($R9=\"\",AG$6=\"\"),\"\",IF(pomNemeneyi!$D$10=0,SQRT((((1/$R9)+(1/AG$6))*'Kruskalův-Wallisův test'!$D$11*('Kruskalův-Wallisův test'!$D$11+1)*'Post hoc analýza'!$F$4)/12),IF(pomNemeneyi!$D$10=1,pomNemeneyi!$L$11,pomNemeneyi!$L$12)))","v":""},{"$f":"IF(OR($R9=\"\",AH$6=\"\"),\"\",IF(pomNemeneyi!$D$10=0,SQRT((((1/$R9)+(1/AH$6))*'Kruskalův-Wallisův test'!$D$11*('Kruskalův-Wallisův test'!$D$11+1)*'Post hoc analýza'!$F$4)/12),IF(pomNemeneyi!$D$10=1,pomNemeneyi!$L$11,pomNemeneyi!$L$12)))","v":""},null,{"$f":"IFERROR(IF(OR(T9=\"\",B9=\"-\",ABS($S9-T$7)<T9),0,1),\"\")","v":""},{"$f":"IFERROR(IF(OR(U9=\"\",C9=\"-\",ABS($S9-U$7)<U9),0,1),\"\")","v":""},"","","","","","","","","","","","",""]
[3,"",{"$f":"IF(U10=\"\",\"\",CONCATENATE(ROUND(ABS(U$7-$S10),3),\" (\",ROUND(U10,3),\")\"))","v":""},"-",{"$f":"IF(W10=\"\",\"\",CONCATENATE(ROUND(ABS(W$7-$S10),3),\" (\",ROUND(W10,3),\")\"))","v":""},"","","","","","","","","","","",null,{"$f":"V6","v":""},{"$f":"V7","v":""},{"$f":"IF(OR($R10=\"\",T$6=\"\"),\"\",IF(pomNemeneyi!$D$10=0,SQRT((((1/$R10)+(1/T$6))*'Kruskalův-Wallisův test'!$D$11*('Kruskalův-Wallisův test'!$D$11+1)*'Post hoc analýza'!$F$4)/12),IF(pomNemeneyi!$D$10=1,pomNemeneyi!$L$11,pomNemeneyi!$L$12)))","v":""},{"$f":"IF(OR($R10=\"\",U$6=\"\"),\"\",IF(pomNemeneyi!$D$10=0,SQRT((((1/$R10)+(1/U$6))*'Kruskalův-Wallisův test'!$D$11*('Kruskalův-Wallisův test'!$D$11+1)*'Post hoc analýza'!$F$4)/12),IF(pomNemeneyi!$D$10=1,pomNemeneyi!$L$11,pomNemeneyi!$L$12)))","v":""},{"$f":"IF(OR($R10=\"\",V$6=\"\"),\"\",IF(pomNemeneyi!$D$10=0,SQRT((((1/$R10)+(1/V$6))*'Kruskalův-Wallisův test'!$D$11*('Kruskalův-Wallisův test'!$D$11+1)*'Post hoc analýza'!$F$4)/12),IF(pomNemeneyi!$D$10=1,pomNemeneyi!$L$11,pomNemeneyi!$L$12)))","v":""},{"$f":"IF(OR($R10=\"\",W$6=\"\"),\"\",IF(pomNemeneyi!$D$10=0,SQRT((((1/$R10)+(1/W$6))*'Kruskalův-Wallisův test'!$D$11*('Kruskalův-Wallisův test'!$D$11+1)*'Post hoc analýza'!$F$4)/12),IF(pomNemeneyi!$D$10=1,pomNemeneyi!$L$11,pomNemeneyi!$L$12)))","v":""},{"$f":"IF(OR($R10=\"\",X$6=\"\"),\"\",IF(pomNemeneyi!$D$10=0,SQRT((((1/$R10)+(1/X$6))*'Kruskalův-Wallisův test'!$D$11*('Kruskalův-Wallisův test'!$D$11+1)*'Post hoc analýza'!$F$4)/12),IF(pomNemeneyi!$D$10=1,pomNemeneyi!$L$11,pomNemeneyi!$L$12)))","v":""},{"$f":"IF(OR($R10=\"\",Y$6=\"\"),\"\",IF(pomNemeneyi!$D$10=0,SQRT((((1/$R10)+(1/Y$6))*'Kruskalův-Wallisův test'!$D$11*('Kruskalův-Wallisův test'!$D$11+1)*'Post hoc analýza'!$F$4)/12),IF(pomNemeneyi!$D$10=1,pomNemeneyi!$L$11,pomNemeneyi!$L$12)))","v":""},{"$f":"IF(OR($R10=\"\",Z$6=\"\"),\"\",IF(pomNemeneyi!$D$10=0,SQRT((((1/$R10)+(1/Z$6))*'Kruskalův-Wallisův test'!$D$11*('Kruskalův-Wallisův test'!$D$11+1)*'Post hoc analýza'!$F$4)/12),IF(pomNemeneyi!$D$10=1,pomNemeneyi!$L$11,pomNemeneyi!$L$12)))","v":""},{"$f":"IF(OR($R10=\"\",AA$6=\"\"),\"\",IF(pomNemeneyi!$D$10=0,SQRT((((1/$R10)+(1/AA$6))*'Kruskalův-Wallisův test'!$D$11*('Kruskalův-Wallisův test'!$D$11+1)*'Post hoc analýza'!$F$4)/12),IF(pomNemeneyi!$D$10=1,pomNemeneyi!$L$11,pomNemeneyi!$L$12)))","v":""},{"$f":"IF(OR($R10=\"\",AB$6=\"\"),\"\",IF(pomNemeneyi!$D$10=0,SQRT((((1/$R10)+(1/AB$6))*'Kruskalův-Wallisův test'!$D$11*('Kruskalův-Wallisův test'!$D$11+1)*'Post hoc analýza'!$F$4)/12),IF(pomNemeneyi!$D$10=1,pomNemeneyi!$L$11,pomNemeneyi!$L$12)))","v":""},{"$f":"IF(OR($R10=\"\",AC$6=\"\"),\"\",IF(pomNemeneyi!$D$10=0,SQRT((((1/$R10)+(1/AC$6))*'Kruskalův-Wallisův test'!$D$11*('Kruskalův-Wallisův test'!$D$11+1)*'Post hoc analýza'!$F$4)/12),IF(pomNemeneyi!$D$10=1,pomNemeneyi!$L$11,pomNemeneyi!$L$12)))","v":""},{"$f":"IF(OR($R10=\"\",AD$6=\"\"),\"\",IF(pomNemeneyi!$D$10=0,SQRT((((1/$R10)+(1/AD$6))*'Kruskalův-Wallisův test'!$D$11*('Kruskalův-Wallisův test'!$D$11+1)*'Post hoc analýza'!$F$4)/12),IF(pomNemeneyi!$D$10=1,pomNemeneyi!$L$11,pomNemeneyi!$L$12)))","v":""},{"$f":"IF(OR($R10=\"\",AE$6=\"\"),\"\",IF(pomNemeneyi!$D$10=0,SQRT((((1/$R10)+(1/AE$6))*'Kruskalův-Wallisův test'!$D$11*('Kruskalův-Wallisův test'!$D$11+1)*'Post hoc analýza'!$F$4)/12),IF(pomNemeneyi!$D$10=1,pomNemeneyi!$L$11,pomNemeneyi!$L$12)))","v":""},{"$f":"IF(OR($R10=\"\",AF$6=\"\"),\"\",IF(pomNemeneyi!$D$10=0,SQRT((((1/$R10)+(1/AF$6))*'Kruskalův-Wallisův test'!$D$11*('Kruskalův-Wallisův test'!$D$11+1)*'Post hoc analýza'!$F$4)/12),IF(pomNemeneyi!$D$10=1,pomNemeneyi!$L$11,pomNemeneyi!$L$12)))","v":""},{"$f":"IF(OR($R10=\"\",AG$6=\"\"),\"\",IF(pomNemeneyi!$D$10=0,SQRT((((1/$R10)+(1/AG$6))*'Kruskalův-Wallisův test'!$D$11*('Kruskalův-Wallisův test'!$D$11+1)*'Post hoc analýza'!$F$4)/12),IF(pomNemeneyi!$D$10=1,pomNemeneyi!$L$11,pomNemeneyi!$L$12)))","v":""},{"$f":"IF(OR($R10=\"\",AH$6=\"\"),\"\",IF(pomNemeneyi!$D$10=0,SQRT((((1/$R10)+(1/AH$6))*'Kruskalův-Wallisův test'!$D$11*('Kruskalův-Wallisův test'!$D$11+1)*'Post hoc analýza'!$F$4)/12),IF(pomNemeneyi!$D$10=1,pomNemeneyi!$L$11,pomNemeneyi!$L$12)))","v":""},null,"","","","","","","","","","","","","","",""]
[4,"","",{"$f":"IF(V11=\"\",\"\",CONCATENATE(ROUND(ABS(V$7-$S11),3),\" (\",ROUND(V11,3),\")\"))","v":""},"-",{"$f":"IF(X11=\"\",\"\",CONCATENATE(ROUND(ABS(X$7-$S11),3),\" (\",ROUND(X11,3),\")\"))","v":""},"","","","","","","","","","",null,{"$f":"W6","v":""},{"$f":"W7","v":""},{"$f":"IF(OR($R11=\"\",T$6=\"\"),\"\",IF(pomNemeneyi!$D$10=0,SQRT((((1/$R11)+(1/T$6))*'Kruskalův-Wallisův test'!$D$11*('Kruskalův-Wallisův test'!$D$11+1)*'Post hoc analýza'!$F$4)/12),IF(pomNemeneyi!$D$10=1,pomNemeneyi!$L$11,pomNemeneyi!$L$12)))","v":""},{"$f":"IF(OR($R11=\"\",U$6=\"\"),\"\",IF(pomNemeneyi!$D$10=0,SQRT((((1/$R11)+(1/U$6))*'Kruskalův-Wallisův test'!$D$11*('Kruskalův-Wallisův test'!$D$11+1)*'Post hoc analýza'!$F$4)/12),IF(pomNemeneyi!$D$10=1,pomNemeneyi!$L$11,pomNemeneyi!$L$12)))","v":""},{"$f":"IF(OR($R11=\"\",V$6=\"\"),\"\",IF(pomNemeneyi!$D$10=0,SQRT((((1/$R11)+(1/V$6))*'Kruskalův-Wallisův test'!$D$11*('Kruskalův-Wallisův test'!$D$11+1)*'Post hoc analýza'!$F$4)/12),IF(pomNemeneyi!$D$10=1,pomNemeneyi!$L$11,pomNemeneyi!$L$12)))","v":""},{"$f":"IF(OR($R11=\"\",W$6=\"\"),\"\",IF(pomNemeneyi!$D$10=0,SQRT((((1/$R11)+(1/W$6))*'Kruskalův-Wallisův test'!$D$11*('Kruskalův-Wallisův test'!$D$11+1)*'Post hoc analýza'!$F$4)/12),IF(pomNemeneyi!$D$10=1,pomNemeneyi!$L$11,pomNemeneyi!$L$12)))","v":""},{"$f":"IF(OR($R11=\"\",X$6=\"\"),\"\",IF(pomNemeneyi!$D$10=0,SQRT((((1/$R11)+(1/X$6))*'Kruskalův-Wallisův test'!$D$11*('Kruskalův-Wallisův test'!$D$11+1)*'Post hoc analýza'!$F$4)/12),IF(pomNemeneyi!$D$10=1,pomNemeneyi!$L$11,pomNemeneyi!$L$12)))","v":""},{"$f":"IF(OR($R11=\"\",Y$6=\"\"),\"\",IF(pomNemeneyi!$D$10=0,SQRT((((1/$R11)+(1/Y$6))*'Kruskalův-Wallisův test'!$D$11*('Kruskalův-Wallisův test'!$D$11+1)*'Post hoc analýza'!$F$4)/12),IF(pomNemeneyi!$D$10=1,pomNemeneyi!$L$11,pomNemeneyi!$L$12)))","v":""},{"$f":"IF(OR($R11=\"\",Z$6=\"\"),\"\",IF(pomNemeneyi!$D$10=0,SQRT((((1/$R11)+(1/Z$6))*'Kruskalův-Wallisův test'!$D$11*('Kruskalův-Wallisův test'!$D$11+1)*'Post hoc analýza'!$F$4)/12),IF(pomNemeneyi!$D$10=1,pomNemeneyi!$L$11,pomNemeneyi!$L$12)))","v":""},{"$f":"IF(OR($R11=\"\",AA$6=\"\"),\"\",IF(pomNemeneyi!$D$10=0,SQRT((((1/$R11)+(1/AA$6))*'Kruskalův-Wallisův test'!$D$11*('Kruskalův-Wallisův test'!$D$11+1)*'Post hoc analýza'!$F$4)/12),IF(pomNemeneyi!$D$10=1,pomNemeneyi!$L$11,pomNemeneyi!$L$12)))","v":""},{"$f":"IF(OR($R11=\"\",AB$6=\"\"),\"\",IF(pomNemeneyi!$D$10=0,SQRT((((1/$R11)+(1/AB$6))*'Kruskalův-Wallisův test'!$D$11*('Kruskalův-Wallisův test'!$D$11+1)*'Post hoc analýza'!$F$4)/12),IF(pomNemeneyi!$D$10=1,pomNemeneyi!$L$11,pomNemeneyi!$L$12)))","v":""},{"$f":"IF(OR($R11=\"\",AC$6=\"\"),\"\",IF(pomNemeneyi!$D$10=0,SQRT((((1/$R11)+(1/AC$6))*'Kruskalův-Wallisův test'!$D$11*('Kruskalův-Wallisův test'!$D$11+1)*'Post hoc analýza'!$F$4)/12),IF(pomNemeneyi!$D$10=1,pomNemeneyi!$L$11,pomNemeneyi!$L$12)))","v":""},{"$f":"IF(OR($R11=\"\",AD$6=\"\"),\"\",IF(pomNemeneyi!$D$10=0,SQRT((((1/$R11)+(1/AD$6))*'Kruskalův-Wallisův test'!$D$11*('Kruskalův-Wallisův test'!$D$11+1)*'Post hoc analýza'!$F$4)/12),IF(pomNemeneyi!$D$10=1,pomNemeneyi!$L$11,pomNemeneyi!$L$12)))","v":""},{"$f":"IF(OR($R11=\"\",AE$6=\"\"),\"\",IF(pomNemeneyi!$D$10=0,SQRT((((1/$R11)+(1/AE$6))*'Kruskalův-Wallisův test'!$D$11*('Kruskalův-Wallisův test'!$D$11+1)*'Post hoc analýza'!$F$4)/12),IF(pomNemeneyi!$D$10=1,pomNemeneyi!$L$11,pomNemeneyi!$L$12)))","v":""},{"$f":"IF(OR($R11=\"\",AF$6=\"\"),\"\",IF(pomNemeneyi!$D$10=0,SQRT((((1/$R11)+(1/AF$6))*'Kruskalův-Wallisův test'!$D$11*('Kruskalův-Wallisův test'!$D$11+1)*'Post hoc analýza'!$F$4)/12),IF(pomNemeneyi!$D$10=1,pomNemeneyi!$L$11,pomNemeneyi!$L$12)))","v":""},{"$f":"IF(OR($R11=\"\",AG$6=\"\"),\"\",IF(pomNemeneyi!$D$10=0,SQRT((((1/$R11)+(1/AG$6))*'Kruskalův-Wallisův test'!$D$11*('Kruskalův-Wallisův test'!$D$11+1)*'Post hoc analýza'!$F$4)/12),IF(pomNemeneyi!$D$10=1,pomNemeneyi!$L$11,pomNemeneyi!$L$12)))","v":""},{"$f":"IF(OR($R11=\"\",AH$6=\"\"),\"\",IF(pomNemeneyi!$D$10=0,SQRT((((1/$R11)+(1/AH$6))*'Kruskalův-Wallisův test'!$D$11*('Kruskalův-Wallisův test'!$D$11+1)*'Post hoc analýza'!$F$4)/12),IF(pomNemeneyi!$D$10=1,pomNemeneyi!$L$11,pomNemeneyi!$L$12)))","v":""},null,"","","","","","","","","","","","","","",""]
[5,"","","",{"$f":"IF(W12=\"\",\"\",CONCATENATE(ROUND(ABS(W$7-$S12),3),\" (\",ROUND(W12,3),\")\"))","v":""},"-",{"$f":"IF(Y12=\"\",\"\",CONCATENATE(ROUND(ABS(Y$7-$S12),3),\" (\",ROUND(Y12,3),\")\"))","v":""},"","","","","","","","","",null,{"$f":"X6","v":""},{"$f":"X7","v":""},{"$f":"IF(OR($R12=\"\",T$6=\"\"),\"\",IF(pomNemeneyi!$D$10=0,SQRT((((1/$R12)+(1/T$6))*'Kruskalův-Wallisův test'!$D$11*('Kruskalův-Wallisův test'!$D$11+1)*'Post hoc analýza'!$F$4)/12),IF(pomNemeneyi!$D$10=1,pomNemeneyi!$L$11,pomNemeneyi!$L$12)))","v":""},{"$f":"IF(OR($R12=\"\",U$6=\"\"),\"\",IF(pomNemeneyi!$D$10=0,SQRT((((1/$R12)+(1/U$6))*'Kruskalův-Wallisův test'!$D$11*('Kruskalův-Wallisův test'!$D$11+1)*'Post hoc analýza'!$F$4)/12),IF(pomNemeneyi!$D$10=1,pomNemeneyi!$L$11,pomNemeneyi!$L$12)))","v":""},{"$f":"IF(OR($R12=\"\",V$6=\"\"),\"\",IF(pomNemeneyi!$D$10=0,SQRT((((1/$R12)+(1/V$6))*'Kruskalův-Wallisův test'!$D$11*('Kruskalův-Wallisův test'!$D$11+1)*'Post hoc analýza'!$F$4)/12),IF(pomNemeneyi!$D$10=1,pomNemeneyi!$L$11,pomNemeneyi!$L$12)))","v":""},{"$f":"IF(OR($R12=\"\",W$6=\"\"),\"\",IF(pomNemeneyi!$D$10=0,SQRT((((1/$R12)+(1/W$6))*'Kruskalův-Wallisův test'!$D$11*('Kruskalův-Wallisův test'!$D$11+1)*'Post hoc analýza'!$F$4)/12),IF(pomNemeneyi!$D$10=1,pomNemeneyi!$L$11,pomNemeneyi!$L$12)))","v":""},{"$f":"IF(OR($R12=\"\",X$6=\"\"),\"\",IF(pomNemeneyi!$D$10=0,SQRT((((1/$R12)+(1/X$6))*'Kruskalův-Wallisův test'!$D$11*('Kruskalův-Wallisův test'!$D$11+1)*'Post hoc analýza'!$F$4)/12),IF(pomNemeneyi!$D$10=1,pomNemeneyi!$L$11,pomNemeneyi!$L$12)))","v":""},{"$f":"IF(OR($R12=\"\",Y$6=\"\"),\"\",IF(pomNemeneyi!$D$10=0,SQRT((((1/$R12)+(1/Y$6))*'Kruskalův-Wallisův test'!$D$11*('Kruskalův-Wallisův test'!$D$11+1)*'Post hoc analýza'!$F$4)/12),IF(pomNemeneyi!$D$10=1,pomNemeneyi!$L$11,pomNemeneyi!$L$12)))","v":""},{"$f":"IF(OR($R12=\"\",Z$6=\"\"),\"\",IF(pomNemeneyi!$D$10=0,SQRT((((1/$R12)+(1/Z$6))*'Kruskalův-Wallisův test'!$D$11*('Kruskalův-Wallisův test'!$D$11+1)*'Post hoc analýza'!$F$4)/12),IF(pomNemeneyi!$D$10=1,pomNemeneyi!$L$11,pomNemeneyi!$L$12)))","v":""},{"$f":"IF(OR($R12=\"\",AA$6=\"\"),\"\",IF(pomNemeneyi!$D$10=0,SQRT((((1/$R12)+(1/AA$6))*'Kruskalův-Wallisův test'!$D$11*('Kruskalův-Wallisův test'!$D$11+1)*'Post hoc analýza'!$F$4)/12),IF(pomNemeneyi!$D$10=1,pomNemeneyi!$L$11,pomNemeneyi!$L$12)))","v":""},{"$f":"IF(OR($R12=\"\",AB$6=\"\"),\"\",IF(pomNemeneyi!$D$10=0,SQRT((((1/$R12)+(1/AB$6))*'Kruskalův-Wallisův test'!$D$11*('Kruskalův-Wallisův test'!$D$11+1)*'Post hoc analýza'!$F$4)/12),IF(pomNemeneyi!$D$10=1,pomNemeneyi!$L$11,pomNemeneyi!$L$12)))","v":""},{"$f":"IF(OR($R12=\"\",AC$6=\"\"),\"\",IF(pomNemeneyi!$D$10=0,SQRT((((1/$R12)+(1/AC$6))*'Kruskalův-Wallisův test'!$D$11*('Kruskalův-Wallisův test'!$D$11+1)*'Post hoc analýza'!$F$4)/12),IF(pomNemeneyi!$D$10=1,pomNemeneyi!$L$11,pomNemeneyi!$L$12)))","v":""},{"$f":"IF(OR($R12=\"\",AD$6=\"\"),\"\",IF(pomNemeneyi!$D$10=0,SQRT((((1/$R12)+(1/AD$6))*'Kruskalův-Wallisův test'!$D$11*('Kruskalův-Wallisův test'!$D$11+1)*'Post hoc analýza'!$F$4)/12),IF(pomNemeneyi!$D$10=1,pomNemeneyi!$L$11,pomNemeneyi!$L$12)))","v":""},{"$f":"IF(OR($R12=\"\",AE$6=\"\"),\"\",IF(pomNemeneyi!$D$10=0,SQRT((((1/$R12)+(1/AE$6))*'Kruskalův-Wallisův test'!$D$11*('Kruskalův-Wallisův test'!$D$11+1)*'Post hoc analýza'!$F$4)/12),IF(pomNemeneyi!$D$10=1,pomNemeneyi!$L$11,pomNemeneyi!$L$12)))","v":""},{"$f":"IF(OR($R12=\"\",AF$6=\"\"),\"\",IF(pomNemeneyi!$D$10=0,SQRT((((1/$R12)+(1/AF$6))*'Kruskalův-Wallisův test'!$D$11*('Kruskalův-Wallisův test'!$D$11+1)*'Post hoc analýza'!$F$4)/12),IF(pomNemeneyi!$D$10=1,pomNemeneyi!$L$11,pomNemeneyi!$L$12)))","v":""},{"$f":"IF(OR($R12=\"\",AG$6=\"\"),\"\",IF(pomNemeneyi!$D$10=0,SQRT((((1/$R12)+(1/AG$6))*'Kruskalův-Wallisův test'!$D$11*('Kruskalův-Wallisův test'!$D$11+1)*'Post hoc analýza'!$F$4)/12),IF(pomNemeneyi!$D$10=1,pomNemeneyi!$L$11,pomNemeneyi!$L$12)))","v":""},{"$f":"IF(OR($R12=\"\",AH$6=\"\"),\"\",IF(pomNemeneyi!$D$10=0,SQRT((((1/$R12)+(1/AH$6))*'Kruskalův-Wallisův test'!$D$11*('Kruskalův-Wallisův test'!$D$11+1)*'Post hoc analýza'!$F$4)/12),IF(pomNemeneyi!$D$10=1,pomNemeneyi!$L$11,pomNemeneyi!$L$12)))","v":""},null,"","","","","","","","","","","","","","","",{"$f":"IFERROR(IF(OR(AI12=\"\",Q12=\"-\",ABS($S12-AI$7)<AI12),0,1),\"\")","v":""},"","","","","","","","","","","","","","",""]
[6,"","","","",{"$f":"IF(X13=\"\",\"\",CONCATENATE(ROUND(ABS(X$7-$S13),3),\" (\",ROUND(X13,3),\")\"))","v":""},"-",{"$f":"IF(Z13=\"\",\"\",CONCATENATE(ROUND(ABS(Z$7-$S13),3),\" (\",ROUND(Z13,3),\")\"))","v":""},"","","","","","","","",null,{"$f":"Y6","v":""},{"$f":"Y7","v":""},{"$f":"IF(OR($R13=\"\",T$6=\"\"),\"\",IF(pomNemeneyi!$D$10=0,SQRT((((1/$R13)+(1/T$6))*'Kruskalův-Wallisův test'!$D$11*('Kruskalův-Wallisův test'!$D$11+1)*'Post hoc analýza'!$F$4)/12),IF(pomNemeneyi!$D$10=1,pomNemeneyi!$L$11,pomNemeneyi!$L$12)))","v":""},{"$f":"IF(OR($R13=\"\",U$6=\"\"),\"\",IF(pomNemeneyi!$D$10=0,SQRT((((1/$R13)+(1/U$6))*'Kruskalův-Wallisův test'!$D$11*('Kruskalův-Wallisův test'!$D$11+1)*'Post hoc analýza'!$F$4)/12),IF(pomNemeneyi!$D$10=1,pomNemeneyi!$L$11,pomNemeneyi!$L$12)))","v":""},{"$f":"IF(OR($R13=\"\",V$6=\"\"),\"\",IF(pomNemeneyi!$D$10=0,SQRT((((1/$R13)+(1/V$6))*'Kruskalův-Wallisův test'!$D$11*('Kruskalův-Wallisův test'!$D$11+1)*'Post hoc analýza'!$F$4)/12),IF(pomNemeneyi!$D$10=1,pomNemeneyi!$L$11,pomNemeneyi!$L$12)))","v":""},{"$f":"IF(OR($R13=\"\",W$6=\"\"),\"\",IF(pomNemeneyi!$D$10=0,SQRT((((1/$R13)+(1/W$6))*'Kruskalův-Wallisův test'!$D$11*('Kruskalův-Wallisův test'!$D$11+1)*'Post hoc analýza'!$F$4)/12),IF(pomNemeneyi!$D$10=1,pomNemeneyi!$L$11,pomNemeneyi!$L$12)))","v":""},{"$f":"IF(OR($R13=\"\",X$6=\"\"),\"\",IF(pomNemeneyi!$D$10=0,SQRT((((1/$R13)+(1/X$6))*'Kruskalův-Wallisův test'!$D$11*('Kruskalův-Wallisův test'!$D$11+1)*'Post hoc analýza'!$F$4)/12),IF(pomNemeneyi!$D$10=1,pomNemeneyi!$L$11,pomNemeneyi!$L$12)))","v":""},{"$f":"IF(OR($R13=\"\",Y$6=\"\"),\"\",IF(pomNemeneyi!$D$10=0,SQRT((((1/$R13)+(1/Y$6))*'Kruskalův-Wallisův test'!$D$11*('Kruskalův-Wallisův test'!$D$11+1)*'Post hoc analýza'!$F$4)/12),IF(pomNemeneyi!$D$10=1,pomNemeneyi!$L$11,pomNemeneyi!$L$12)))","v":""},{"$f":"IF(OR($R13=\"\",Z$6=\"\"),\"\",IF(pomNemeneyi!$D$10=0,SQRT((((1/$R13)+(1/Z$6))*'Kruskalův-Wallisův test'!$D$11*('Kruskalův-Wallisův test'!$D$11+1)*'Post hoc analýza'!$F$4)/12),IF(pomNemeneyi!$D$10=1,pomNemeneyi!$L$11,pomNemeneyi!$L$12)))","v":""},{"$f":"IF(OR($R13=\"\",AA$6=\"\"),\"\",IF(pomNemeneyi!$D$10=0,SQRT((((1/$R13)+(1/AA$6))*'Kruskalův-Wallisův test'!$D$11*('Kruskalův-Wallisův test'!$D$11+1)*'Post hoc analýza'!$F$4)/12),IF(pomNemeneyi!$D$10=1,pomNemeneyi!$L$11,pomNemeneyi!$L$12)))","v":""},{"$f":"IF(OR($R13=\"\",AB$6=\"\"),\"\",IF(pomNemeneyi!$D$10=0,SQRT((((1/$R13)+(1/AB$6))*'Kruskalův-Wallisův test'!$D$11*('Kruskalův-Wallisův test'!$D$11+1)*'Post hoc analýza'!$F$4)/12),IF(pomNemeneyi!$D$10=1,pomNemeneyi!$L$11,pomNemeneyi!$L$12)))","v":""},{"$f":"IF(OR($R13=\"\",AC$6=\"\"),\"\",IF(pomNemeneyi!$D$10=0,SQRT((((1/$R13)+(1/AC$6))*'Kruskalův-Wallisův test'!$D$11*('Kruskalův-Wallisův test'!$D$11+1)*'Post hoc analýza'!$F$4)/12),IF(pomNemeneyi!$D$10=1,pomNemeneyi!$L$11,pomNemeneyi!$L$12)))","v":""},{"$f":"IF(OR($R13=\"\",AD$6=\"\"),\"\",IF(pomNemeneyi!$D$10=0,SQRT((((1/$R13)+(1/AD$6))*'Kruskalův-Wallisův test'!$D$11*('Kruskalův-Wallisův test'!$D$11+1)*'Post hoc analýza'!$F$4)/12),IF(pomNemeneyi!$D$10=1,pomNemeneyi!$L$11,pomNemeneyi!$L$12)))","v":""},{"$f":"IF(OR($R13=\"\",AE$6=\"\"),\"\",IF(pomNemeneyi!$D$10=0,SQRT((((1/$R13)+(1/AE$6))*'Kruskalův-Wallisův test'!$D$11*('Kruskalův-Wallisův test'!$D$11+1)*'Post hoc analýza'!$F$4)/12),IF(pomNemeneyi!$D$10=1,pomNemeneyi!$L$11,pomNemeneyi!$L$12)))","v":""},{"$f":"IF(OR($R13=\"\",AF$6=\"\"),\"\",IF(pomNemeneyi!$D$10=0,SQRT((((1/$R13)+(1/AF$6))*'Kruskalův-Wallisův test'!$D$11*('Kruskalův-Wallisův test'!$D$11+1)*'Post hoc analýza'!$F$4)/12),IF(pomNemeneyi!$D$10=1,pomNemeneyi!$L$11,pomNemeneyi!$L$12)))","v":""},{"$f":"IF(OR($R13=\"\",AG$6=\"\"),\"\",IF(pomNemeneyi!$D$10=0,SQRT((((1/$R13)+(1/AG$6))*'Kruskalův-Wallisův test'!$D$11*('Kruskalův-Wallisův test'!$D$11+1)*'Post hoc analýza'!$F$4)/12),IF(pomNemeneyi!$D$10=1,pomNemeneyi!$L$11,pomNemeneyi!$L$12)))","v":""},{"$f":"IF(OR($R13=\"\",AH$6=\"\"),\"\",IF(pomNemeneyi!$D$10=0,SQRT((((1/$R13)+(1/AH$6))*'Kruskalův-Wallisův test'!$D$11*('Kruskalův-Wallisův test'!$D$11+1)*'Post hoc analýza'!$F$4)/12),IF(pomNemeneyi!$D$10=1,pomNemeneyi!$L$11,pomNemeneyi!$L$12)))","v":""},null,"","","","","","","","","","","","","","","","","","","","","","","","","","","","","","",""]
[7,"","","","","",{"$f":"IF(Y14=\"\",\"\",CONCATENATE(ROUND(ABS(Y$7-$S14),3),\" (\",ROUND(Y14,3),\")\"))","v":""},"-",{"$f":"IF(AA14=\"\",\"\",CONCATENATE(ROUND(ABS(AA$7-$S14),3),\" (\",ROUND(AA14,3),\")\"))","v":""},"","","","","","","",null,{"$f":"Z6","v":""},{"$f":"Z7","v":""},{"$f":"IF(OR($R14=\"\",T$6=\"\"),\"\",IF(pomNemeneyi!$D$10=0,SQRT((((1/$R14)+(1/T$6))*'Kruskalův-Wallisův test'!$D$11*('Kruskalův-Wallisův test'!$D$11+1)*'Post hoc analýza'!$F$4)/12),IF(pomNemeneyi!$D$10=1,pomNemeneyi!$L$11,pomNemeneyi!$L$12)))","v":""},{"$f":"IF(OR($R14=\"\",U$6=\"\"),\"\",IF(pomNemeneyi!$D$10=0,SQRT((((1/$R14)+(1/U$6))*'Kruskalův-Wallisův test'!$D$11*('Kruskalův-Wallisův test'!$D$11+1)*'Post hoc analýza'!$F$4)/12),IF(pomNemeneyi!$D$10=1,pomNemeneyi!$L$11,pomNemeneyi!$L$12)))","v":""},{"$f":"IF(OR($R14=\"\",V$6=\"\"),\"\",IF(pomNemeneyi!$D$10=0,SQRT((((1/$R14)+(1/V$6))*'Kruskalův-Wallisův test'!$D$11*('Kruskalův-Wallisův test'!$D$11+1)*'Post hoc analýza'!$F$4)/12),IF(pomNemeneyi!$D$10=1,pomNemeneyi!$L$11,pomNemeneyi!$L$12)))","v":""},{"$f":"IF(OR($R14=\"\",W$6=\"\"),\"\",IF(pomNemeneyi!$D$10=0,SQRT((((1/$R14)+(1/W$6))*'Kruskalův-Wallisův test'!$D$11*('Kruskalův-Wallisův test'!$D$11+1)*'Post hoc analýza'!$F$4)/12),IF(pomNemeneyi!$D$10=1,pomNemeneyi!$L$11,pomNemeneyi!$L$12)))","v":""},{"$f":"IF(OR($R14=\"\",X$6=\"\"),\"\",IF(pomNemeneyi!$D$10=0,SQRT((((1/$R14)+(1/X$6))*'Kruskalův-Wallisův test'!$D$11*('Kruskalův-Wallisův test'!$D$11+1)*'Post hoc analýza'!$F$4)/12),IF(pomNemeneyi!$D$10=1,pomNemeneyi!$L$11,pomNemeneyi!$L$12)))","v":""},{"$f":"IF(OR($R14=\"\",Y$6=\"\"),\"\",IF(pomNemeneyi!$D$10=0,SQRT((((1/$R14)+(1/Y$6))*'Kruskalův-Wallisův test'!$D$11*('Kruskalův-Wallisův test'!$D$11+1)*'Post hoc analýza'!$F$4)/12),IF(pomNemeneyi!$D$10=1,pomNemeneyi!$L$11,pomNemeneyi!$L$12)))","v":""},{"$f":"IF(OR($R14=\"\",Z$6=\"\"),\"\",IF(pomNemeneyi!$D$10=0,SQRT((((1/$R14)+(1/Z$6))*'Kruskalův-Wallisův test'!$D$11*('Kruskalův-Wallisův test'!$D$11+1)*'Post hoc analýza'!$F$4)/12),IF(pomNemeneyi!$D$10=1,pomNemeneyi!$L$11,pomNemeneyi!$L$12)))","v":""},{"$f":"IF(OR($R14=\"\",AA$6=\"\"),\"\",IF(pomNemeneyi!$D$10=0,SQRT((((1/$R14)+(1/AA$6))*'Kruskalův-Wallisův test'!$D$11*('Kruskalův-Wallisův test'!$D$11+1)*'Post hoc analýza'!$F$4)/12),IF(pomNemeneyi!$D$10=1,pomNemeneyi!$L$11,pomNemeneyi!$L$12)))","v":""},{"$f":"IF(OR($R14=\"\",AB$6=\"\"),\"\",IF(pomNemeneyi!$D$10=0,SQRT((((1/$R14)+(1/AB$6))*'Kruskalův-Wallisův test'!$D$11*('Kruskalův-Wallisův test'!$D$11+1)*'Post hoc analýza'!$F$4)/12),IF(pomNemeneyi!$D$10=1,pomNemeneyi!$L$11,pomNemeneyi!$L$12)))","v":""},{"$f":"IF(OR($R14=\"\",AC$6=\"\"),\"\",IF(pomNemeneyi!$D$10=0,SQRT((((1/$R14)+(1/AC$6))*'Kruskalův-Wallisův test'!$D$11*('Kruskalův-Wallisův test'!$D$11+1)*'Post hoc analýza'!$F$4)/12),IF(pomNemeneyi!$D$10=1,pomNemeneyi!$L$11,pomNemeneyi!$L$12)))","v":""},{"$f":"IF(OR($R14=\"\",AD$6=\"\"),\"\",IF(pomNemeneyi!$D$10=0,SQRT((((1/$R14)+(1/AD$6))*'Kruskalův-Wallisův test'!$D$11*('Kruskalův-Wallisův test'!$D$11+1)*'Post hoc analýza'!$F$4)/12),IF(pomNemeneyi!$D$10=1,pomNemeneyi!$L$11,pomNemeneyi!$L$12)))","v":""},{"$f":"IF(OR($R14=\"\",AE$6=\"\"),\"\",IF(pomNemeneyi!$D$10=0,SQRT((((1/$R14)+(1/AE$6))*'Kruskalův-Wallisův test'!$D$11*('Kruskalův-Wallisův test'!$D$11+1)*'Post hoc analýza'!$F$4)/12),IF(pomNemeneyi!$D$10=1,pomNemeneyi!$L$11,pomNemeneyi!$L$12)))","v":""},{"$f":"IF(OR($R14=\"\",AF$6=\"\"),\"\",IF(pomNemeneyi!$D$10=0,SQRT((((1/$R14)+(1/AF$6))*'Kruskalův-Wallisův test'!$D$11*('Kruskalův-Wallisův test'!$D$11+1)*'Post hoc analýza'!$F$4)/12),IF(pomNemeneyi!$D$10=1,pomNemeneyi!$L$11,pomNemeneyi!$L$12)))","v":""},{"$f":"IF(OR($R14=\"\",AG$6=\"\"),\"\",IF(pomNemeneyi!$D$10=0,SQRT((((1/$R14)+(1/AG$6))*'Kruskalův-Wallisův test'!$D$11*('Kruskalův-Wallisův test'!$D$11+1)*'Post hoc analýza'!$F$4)/12),IF(pomNemeneyi!$D$10=1,pomNemeneyi!$L$11,pomNemeneyi!$L$12)))","v":""},{"$f":"IF(OR($R14=\"\",AH$6=\"\"),\"\",IF(pomNemeneyi!$D$10=0,SQRT((((1/$R14)+(1/AH$6))*'Kruskalův-Wallisův test'!$D$11*('Kruskalův-Wallisův test'!$D$11+1)*'Post hoc analýza'!$F$4)/12),IF(pomNemeneyi!$D$10=1,pomNemeneyi!$L$11,pomNemeneyi!$L$12)))","v":""},null,"","","","","","","","","","","","","","","","","","","","","","","","","","","","","","",""]
[8,"","","","","","",{"$f":"IF(Z15=\"\",\"\",CONCATENATE(ROUND(ABS(Z$7-$S15),3),\" (\",ROUND(Z15,3),\")\"))","v":""},"-",{"$f":"IF(AB15=\"\",\"\",CONCATENATE(ROUND(ABS(AB$7-$S15),3),\" (\",ROUND(AB15,3),\")\"))","v":""},"","","","","","",null,{"$f":"AA6","v":""},{"$f":"AA7","v":""},{"$f":"IF(OR($R15=\"\",T$6=\"\"),\"\",IF(pomNemeneyi!$D$10=0,SQRT((((1/$R15)+(1/T$6))*'Kruskalův-Wallisův test'!$D$11*('Kruskalův-Wallisův test'!$D$11+1)*'Post hoc analýza'!$F$4)/12),IF(pomNemeneyi!$D$10=1,pomNemeneyi!$L$11,pomNemeneyi!$L$12)))","v":""},{"$f":"IF(OR($R15=\"\",U$6=\"\"),\"\",IF(pomNemeneyi!$D$10=0,SQRT((((1/$R15)+(1/U$6))*'Kruskalův-Wallisův test'!$D$11*('Kruskalův-Wallisův test'!$D$11+1)*'Post hoc analýza'!$F$4)/12),IF(pomNemeneyi!$D$10=1,pomNemeneyi!$L$11,pomNemeneyi!$L$12)))","v":""},{"$f":"IF(OR($R15=\"\",V$6=\"\"),\"\",IF(pomNemeneyi!$D$10=0,SQRT((((1/$R15)+(1/V$6))*'Kruskalův-Wallisův test'!$D$11*('Kruskalův-Wallisův test'!$D$11+1)*'Post hoc analýza'!$F$4)/12),IF(pomNemeneyi!$D$10=1,pomNemeneyi!$L$11,pomNemeneyi!$L$12)))","v":""},{"$f":"IF(OR($R15=\"\",W$6=\"\"),\"\",IF(pomNemeneyi!$D$10=0,SQRT((((1/$R15)+(1/W$6))*'Kruskalův-Wallisův test'!$D$11*('Kruskalův-Wallisův test'!$D$11+1)*'Post hoc analýza'!$F$4)/12),IF(pomNemeneyi!$D$10=1,pomNemeneyi!$L$11,pomNemeneyi!$L$12)))","v":""},{"$f":"IF(OR($R15=\"\",X$6=\"\"),\"\",IF(pomNemeneyi!$D$10=0,SQRT((((1/$R15)+(1/X$6))*'Kruskalův-Wallisův test'!$D$11*('Kruskalův-Wallisův test'!$D$11+1)*'Post hoc analýza'!$F$4)/12),IF(pomNemeneyi!$D$10=1,pomNemeneyi!$L$11,pomNemeneyi!$L$12)))","v":""},{"$f":"IF(OR($R15=\"\",Y$6=\"\"),\"\",IF(pomNemeneyi!$D$10=0,SQRT((((1/$R15)+(1/Y$6))*'Kruskalův-Wallisův test'!$D$11*('Kruskalův-Wallisův test'!$D$11+1)*'Post hoc analýza'!$F$4)/12),IF(pomNemeneyi!$D$10=1,pomNemeneyi!$L$11,pomNemeneyi!$L$12)))","v":""},{"$f":"IF(OR($R15=\"\",Z$6=\"\"),\"\",IF(pomNemeneyi!$D$10=0,SQRT((((1/$R15)+(1/Z$6))*'Kruskalův-Wallisův test'!$D$11*('Kruskalův-Wallisův test'!$D$11+1)*'Post hoc analýza'!$F$4)/12),IF(pomNemeneyi!$D$10=1,pomNemeneyi!$L$11,pomNemeneyi!$L$12)))","v":""},{"$f":"IF(OR($R15=\"\",AA$6=\"\"),\"\",IF(pomNemeneyi!$D$10=0,SQRT((((1/$R15)+(1/AA$6))*'Kruskalův-Wallisův test'!$D$11*('Kruskalův-Wallisův test'!$D$11+1)*'Post hoc analýza'!$F$4)/12),IF(pomNemeneyi!$D$10=1,pomNemeneyi!$L$11,pomNemeneyi!$L$12)))","v":""},{"$f":"IF(OR($R15=\"\",AB$6=\"\"),\"\",IF(pomNemeneyi!$D$10=0,SQRT((((1/$R15)+(1/AB$6))*'Kruskalův-Wallisův test'!$D$11*('Kruskalův-Wallisův test'!$D$11+1)*'Post hoc analýza'!$F$4)/12),IF(pomNemeneyi!$D$10=1,pomNemeneyi!$L$11,pomNemeneyi!$L$12)))","v":""},{"$f":"IF(OR($R15=\"\",AC$6=\"\"),\"\",IF(pomNemeneyi!$D$10=0,SQRT((((1/$R15)+(1/AC$6))*'Kruskalův-Wallisův test'!$D$11*('Kruskalův-Wallisův test'!$D$11+1)*'Post hoc analýza'!$F$4)/12),IF(pomNemeneyi!$D$10=1,pomNemeneyi!$L$11,pomNemeneyi!$L$12)))","v":""},{"$f":"IF(OR($R15=\"\",AD$6=\"\"),\"\",IF(pomNemeneyi!$D$10=0,SQRT((((1/$R15)+(1/AD$6))*'Kruskalův-Wallisův test'!$D$11*('Kruskalův-Wallisův test'!$D$11+1)*'Post hoc analýza'!$F$4)/12),IF(pomNemeneyi!$D$10=1,pomNemeneyi!$L$11,pomNemeneyi!$L$12)))","v":""},{"$f":"IF(OR($R15=\"\",AE$6=\"\"),\"\",IF(pomNemeneyi!$D$10=0,SQRT((((1/$R15)+(1/AE$6))*'Kruskalův-Wallisův test'!$D$11*('Kruskalův-Wallisův test'!$D$11+1)*'Post hoc analýza'!$F$4)/12),IF(pomNemeneyi!$D$10=1,pomNemeneyi!$L$11,pomNemeneyi!$L$12)))","v":""},{"$f":"IF(OR($R15=\"\",AF$6=\"\"),\"\",IF(pomNemeneyi!$D$10=0,SQRT((((1/$R15)+(1/AF$6))*'Kruskalův-Wallisův test'!$D$11*('Kruskalův-Wallisův test'!$D$11+1)*'Post hoc analýza'!$F$4)/12),IF(pomNemeneyi!$D$10=1,pomNemeneyi!$L$11,pomNemeneyi!$L$12)))","v":""},{"$f":"IF(OR($R15=\"\",AG$6=\"\"),\"\",IF(pomNemeneyi!$D$10=0,SQRT((((1/$R15)+(1/AG$6))*'Kruskalův-Wallisův test'!$D$11*('Kruskalův-Wallisův test'!$D$11+1)*'Post hoc analýza'!$F$4)/12),IF(pomNemeneyi!$D$10=1,pomNemeneyi!$L$11,pomNemeneyi!$L$12)))","v":""},{"$f":"IF(OR($R15=\"\",AH$6=\"\"),\"\",IF(pomNemeneyi!$D$10=0,SQRT((((1/$R15)+(1/AH$6))*'Kruskalův-Wallisův test'!$D$11*('Kruskalův-Wallisův test'!$D$11+1)*'Post hoc analýza'!$F$4)/12),IF(pomNemeneyi!$D$10=1,pomNemeneyi!$L$11,pomNemeneyi!$L$12)))","v":""},null,"","","","","","","","","","","","","","","","","","","","","","","","","","","","","","",""]
[9,"","","","","","","",{"$f":"IF(AA16=\"\",\"\",CONCATENATE(ROUND(ABS(AA$7-$S16),3),\" (\",ROUND(AA16,3),\")\"))","v":""},"-",{"$f":"IF(AC16=\"\",\"\",CONCATENATE(ROUND(ABS(AC$7-$S16),3),\" (\",ROUND(AC16,3),\")\"))","v":""},"","","","","",null,{"$f":"AB6","v":""},{"$f":"AB7","v":""},{"$f":"IF(OR($R16=\"\",T$6=\"\"),\"\",IF(pomNemeneyi!$D$10=0,SQRT((((1/$R16)+(1/T$6))*'Kruskalův-Wallisův test'!$D$11*('Kruskalův-Wallisův test'!$D$11+1)*'Post hoc analýza'!$F$4)/12),IF(pomNemeneyi!$D$10=1,pomNemeneyi!$L$11,pomNemeneyi!$L$12)))","v":""},{"$f":"IF(OR($R16=\"\",U$6=\"\"),\"\",IF(pomNemeneyi!$D$10=0,SQRT((((1/$R16)+(1/U$6))*'Kruskalův-Wallisův test'!$D$11*('Kruskalův-Wallisův test'!$D$11+1)*'Post hoc analýza'!$F$4)/12),IF(pomNemeneyi!$D$10=1,pomNemeneyi!$L$11,pomNemeneyi!$L$12)))","v":""},{"$f":"IF(OR($R16=\"\",V$6=\"\"),\"\",IF(pomNemeneyi!$D$10=0,SQRT((((1/$R16)+(1/V$6))*'Kruskalův-Wallisův test'!$D$11*('Kruskalův-Wallisův test'!$D$11+1)*'Post hoc analýza'!$F$4)/12),IF(pomNemeneyi!$D$10=1,pomNemeneyi!$L$11,pomNemeneyi!$L$12)))","v":""},{"$f":"IF(OR($R16=\"\",W$6=\"\"),\"\",IF(pomNemeneyi!$D$10=0,SQRT((((1/$R16)+(1/W$6))*'Kruskalův-Wallisův test'!$D$11*('Kruskalův-Wallisův test'!$D$11+1)*'Post hoc analýza'!$F$4)/12),IF(pomNemeneyi!$D$10=1,pomNemeneyi!$L$11,pomNemeneyi!$L$12)))","v":""},{"$f":"IF(OR($R16=\"\",X$6=\"\"),\"\",IF(pomNemeneyi!$D$10=0,SQRT((((1/$R16)+(1/X$6))*'Kruskalův-Wallisův test'!$D$11*('Kruskalův-Wallisův test'!$D$11+1)*'Post hoc analýza'!$F$4)/12),IF(pomNemeneyi!$D$10=1,pomNemeneyi!$L$11,pomNemeneyi!$L$12)))","v":""},{"$f":"IF(OR($R16=\"\",Y$6=\"\"),\"\",IF(pomNemeneyi!$D$10=0,SQRT((((1/$R16)+(1/Y$6))*'Kruskalův-Wallisův test'!$D$11*('Kruskalův-Wallisův test'!$D$11+1)*'Post hoc analýza'!$F$4)/12),IF(pomNemeneyi!$D$10=1,pomNemeneyi!$L$11,pomNemeneyi!$L$12)))","v":""},{"$f":"IF(OR($R16=\"\",Z$6=\"\"),\"\",IF(pomNemeneyi!$D$10=0,SQRT((((1/$R16)+(1/Z$6))*'Kruskalův-Wallisův test'!$D$11*('Kruskalův-Wallisův test'!$D$11+1)*'Post hoc analýza'!$F$4)/12),IF(pomNemeneyi!$D$10=1,pomNemeneyi!$L$11,pomNemeneyi!$L$12)))","v":""},{"$f":"IF(OR($R16=\"\",AA$6=\"\"),\"\",IF(pomNemeneyi!$D$10=0,SQRT((((1/$R16)+(1/AA$6))*'Kruskalův-Wallisův test'!$D$11*('Kruskalův-Wallisův test'!$D$11+1)*'Post hoc analýza'!$F$4)/12),IF(pomNemeneyi!$D$10=1,pomNemeneyi!$L$11,pomNemeneyi!$L$12)))","v":""},{"$f":"IF(OR($R16=\"\",AB$6=\"\"),\"\",IF(pomNemeneyi!$D$10=0,SQRT((((1/$R16)+(1/AB$6))*'Kruskalův-Wallisův test'!$D$11*('Kruskalův-Wallisův test'!$D$11+1)*'Post hoc analýza'!$F$4)/12),IF(pomNemeneyi!$D$10=1,pomNemeneyi!$L$11,pomNemeneyi!$L$12)))","v":""},{"$f":"IF(OR($R16=\"\",AC$6=\"\"),\"\",IF(pomNemeneyi!$D$10=0,SQRT((((1/$R16)+(1/AC$6))*'Kruskalův-Wallisův test'!$D$11*('Kruskalův-Wallisův test'!$D$11+1)*'Post hoc analýza'!$F$4)/12),IF(pomNemeneyi!$D$10=1,pomNemeneyi!$L$11,pomNemeneyi!$L$12)))","v":""},{"$f":"IF(OR($R16=\"\",AD$6=\"\"),\"\",IF(pomNemeneyi!$D$10=0,SQRT((((1/$R16)+(1/AD$6))*'Kruskalův-Wallisův test'!$D$11*('Kruskalův-Wallisův test'!$D$11+1)*'Post hoc analýza'!$F$4)/12),IF(pomNemeneyi!$D$10=1,pomNemeneyi!$L$11,pomNemeneyi!$L$12)))","v":""},{"$f":"IF(OR($R16=\"\",AE$6=\"\"),\"\",IF(pomNemeneyi!$D$10=0,SQRT((((1/$R16)+(1/AE$6))*'Kruskalův-Wallisův test'!$D$11*('Kruskalův-Wallisův test'!$D$11+1)*'Post hoc analýza'!$F$4)/12),IF(pomNemeneyi!$D$10=1,pomNemeneyi!$L$11,pomNemeneyi!$L$12)))","v":""},{"$f":"IF(OR($R16=\"\",AF$6=\"\"),\"\",IF(pomNemeneyi!$D$10=0,SQRT((((1/$R16)+(1/AF$6))*'Kruskalův-Wallisův test'!$D$11*('Kruskalův-Wallisův test'!$D$11+1)*'Post hoc analýza'!$F$4)/12),IF(pomNemeneyi!$D$10=1,pomNemeneyi!$L$11,pomNemeneyi!$L$12)))","v":""},{"$f":"IF(OR($R16=\"\",AG$6=\"\"),\"\",IF(pomNemeneyi!$D$10=0,SQRT((((1/$R16)+(1/AG$6))*'Kruskalův-Wallisův test'!$D$11*('Kruskalův-Wallisův test'!$D$11+1)*'Post hoc analýza'!$F$4)/12),IF(pomNemeneyi!$D$10=1,pomNemeneyi!$L$11,pomNemeneyi!$L$12)))","v":""},{"$f":"IF(OR($R16=\"\",AH$6=\"\"),\"\",IF(pomNemeneyi!$D$10=0,SQRT((((1/$R16)+(1/AH$6))*'Kruskalův-Wallisův test'!$D$11*('Kruskalův-Wallisův test'!$D$11+1)*'Post hoc analýza'!$F$4)/12),IF(pomNemeneyi!$D$10=1,pomNemeneyi!$L$11,pomNemeneyi!$L$12)))","v":""},null,"","","","","","","","","","","","","","","",{"$f":"IFERROR(IF(OR(AI16=\"\",Q16=\"-\",ABS($S16-AI$7)<AI16),0,1),\"\")","v":""},{"$f":"IFERROR(IF(OR(AJ16=\"\",R16=\"-\",ABS($S16-AJ$7)<AJ16),0,1),\"\")","v":""},{"$f":"IFERROR(IF(OR(AK16=\"\",S16=\"-\",ABS($S16-AK$7)<AK16),0,1),\"\")","v":""},{"$f":"IFERROR(IF(OR(AL16=\"\",T16=\"-\",ABS($S16-AL$7)<AL16),0,1),\"\")","v":""},{"$f":"IFERROR(IF(OR(AM16=\"\",U16=\"-\",ABS($S16-AM$7)<AM16),0,1),\"\")","v":""},{"$f":"IFERROR(IF(OR(AN16=\"\",V16=\"-\",ABS($S16-AN$7)<AN16),0,1),\"\")","v":""},{"$f":"IFERROR(IF(OR(AO16=\"\",W16=\"-\",ABS($S16-AO$7)<AO16),0,1),\"\")","v":""},{"$f":"IFERROR(IF(OR(AP16=\"\",X16=\"-\",ABS($S16-AP$7)<AP16),0,1),\"\")","v":""},{"$f":"IFERROR(IF(OR(AQ16=\"\",Y16=\"-\",ABS($S16-AQ$7)<AQ16),0,1),\"\")","v":""},{"$f":"IFERROR(IF(OR(AR16=\"\",Z16=\"-\",ABS($S16-AR$7)<AR16),0,1),\"\")","v":""},{"$f":"IFERROR(IF(OR(AS16=\"\",AA16=\"-\",ABS($S16-AS$7)<AS16),0,1),\"\")","v":""},{"$f":"IFERROR(IF(OR(AT16=\"\",AB16=\"-\",ABS($S16-AT$7)<AT16),0,1),\"\")","v":""},{"$f":"IFERROR(IF(OR(AU16=\"\",AC16=\"-\",ABS($S16-AU$7)<AU16),0,1),\"\")","v":""},{"$f":"IFERROR(IF(OR(AV16=\"\",AD16=\"-\",ABS($S16-AV$7)<AV16),0,1),\"\")","v":""},{"$f":"IFERROR(IF(OR(AW16=\"\",AE16=\"-\",ABS($S16-AW$7)<AW16),0,1),\"\")","v":""},{"$f":"IFERROR(IF(OR(AX16=\"\",AF16=\"-\",ABS($S16-AX$7)<AX16),0,1),\"\")","v":""}]
[10,"","","","","","","","",{"$f":"IF(AB17=\"\",\"\",CONCATENATE(ROUND(ABS(AB$7-$S17),3),\" (\",ROUND(AB17,3),\")\"))","v":""},"-",{"$f":"IF(AD17=\"\",\"\",CONCATENATE(ROUND(ABS(AD$7-$S17),3),\" (\",ROUND(AD17,3),\")\"))","v":""},{"$f":"IF(AE17=\"\",\"\",CONCATENATE(ROUND(ABS(AE$7-$S17),3),\" (\",ROUND(AE17,3),\")\"))","v":""},{"$f":"IF(AF17=\"\",\"\",CONCATENATE(ROUND(ABS(AF$7-$S17),3),\" (\",ROUND(AF17,3),\")\"))","v":""},{"$f":"IF(AG17=\"\",\"\",CONCATENATE(ROUND(ABS(AG$7-$S17),3),\" (\",ROUND(AG17,3),\")\"))","v":""},{"$f":"IF(AH17=\"\",\"\",CONCATENATE(ROUND(ABS(AH$7-$S17),3),\" (\",ROUND(AH17,3),\")\"))","v":""},null,{"$f":"AC6","v":""},{"$f":"AC7","v":""},{"$f":"IF(OR($R17=\"\",T$6=\"\"),\"\",IF(pomNemeneyi!$D$10=0,SQRT((((1/$R17)+(1/T$6))*'Kruskalův-Wallisův test'!$D$11*('Kruskalův-Wallisův test'!$D$11+1)*'Post hoc analýza'!$F$4)/12),IF(pomNemeneyi!$D$10=1,pomNemeneyi!$L$11,pomNemeneyi!$L$12)))","v":""},{"$f":"IF(OR($R17=\"\",U$6=\"\"),\"\",IF(pomNemeneyi!$D$10=0,SQRT((((1/$R17)+(1/U$6))*'Kruskalův-Wallisův test'!$D$11*('Kruskalův-Wallisův test'!$D$11+1)*'Post hoc analýza'!$F$4)/12),IF(pomNemeneyi!$D$10=1,pomNemeneyi!$L$11,pomNemeneyi!$L$12)))","v":""},{"$f":"IF(OR($R17=\"\",V$6=\"\"),\"\",IF(pomNemeneyi!$D$10=0,SQRT((((1/$R17)+(1/V$6))*'Kruskalův-Wallisův test'!$D$11*('Kruskalův-Wallisův test'!$D$11+1)*'Post hoc analýza'!$F$4)/12),IF(pomNemeneyi!$D$10=1,pomNemeneyi!$L$11,pomNemeneyi!$L$12)))","v":""},{"$f":"IF(OR($R17=\"\",W$6=\"\"),\"\",IF(pomNemeneyi!$D$10=0,SQRT((((1/$R17)+(1/W$6))*'Kruskalův-Wallisův test'!$D$11*('Kruskalův-Wallisův test'!$D$11+1)*'Post hoc analýza'!$F$4)/12),IF(pomNemeneyi!$D$10=1,pomNemeneyi!$L$11,pomNemeneyi!$L$12)))","v":""},{"$f":"IF(OR($R17=\"\",X$6=\"\"),\"\",IF(pomNemeneyi!$D$10=0,SQRT((((1/$R17)+(1/X$6))*'Kruskalův-Wallisův test'!$D$11*('Kruskalův-Wallisův test'!$D$11+1)*'Post hoc analýza'!$F$4)/12),IF(pomNemeneyi!$D$10=1,pomNemeneyi!$L$11,pomNemeneyi!$L$12)))","v":""},{"$f":"IF(OR($R17=\"\",Y$6=\"\"),\"\",IF(pomNemeneyi!$D$10=0,SQRT((((1/$R17)+(1/Y$6))*'Kruskalův-Wallisův test'!$D$11*('Kruskalův-Wallisův test'!$D$11+1)*'Post hoc analýza'!$F$4)/12),IF(pomNemeneyi!$D$10=1,pomNemeneyi!$L$11,pomNemeneyi!$L$12)))","v":""},{"$f":"IF(OR($R17=\"\",Z$6=\"\"),\"\",IF(pomNemeneyi!$D$10=0,SQRT((((1/$R17)+(1/Z$6))*'Kruskalův-Wallisův test'!$D$11*('Kruskalův-Wallisův test'!$D$11+1)*'Post hoc analýza'!$F$4)/12),IF(pomNemeneyi!$D$10=1,pomNemeneyi!$L$11,pomNemeneyi!$L$12)))","v":""},{"$f":"IF(OR($R17=\"\",AA$6=\"\"),\"\",IF(pomNemeneyi!$D$10=0,SQRT((((1/$R17)+(1/AA$6))*'Kruskalův-Wallisův test'!$D$11*('Kruskalův-Wallisův test'!$D$11+1)*'Post hoc analýza'!$F$4)/12),IF(pomNemeneyi!$D$10=1,pomNemeneyi!$L$11,pomNemeneyi!$L$12)))","v":""},{"$f":"IF(OR($R17=\"\",AB$6=\"\"),\"\",IF(pomNemeneyi!$D$10=0,SQRT((((1/$R17)+(1/AB$6))*'Kruskalův-Wallisův test'!$D$11*('Kruskalův-Wallisův test'!$D$11+1)*'Post hoc analýza'!$F$4)/12),IF(pomNemeneyi!$D$10=1,pomNemeneyi!$L$11,pomNemeneyi!$L$12)))","v":""},{"$f":"IF(OR($R17=\"\",AC$6=\"\"),\"\",IF(pomNemeneyi!$D$10=0,SQRT((((1/$R17)+(1/AC$6))*'Kruskalův-Wallisův test'!$D$11*('Kruskalův-Wallisův test'!$D$11+1)*'Post hoc analýza'!$F$4)/12),IF(pomNemeneyi!$D$10=1,pomNemeneyi!$L$11,pomNemeneyi!$L$12)))","v":""},{"$f":"IF(OR($R17=\"\",AD$6=\"\"),\"\",IF(pomNemeneyi!$D$10=0,SQRT((((1/$R17)+(1/AD$6))*'Kruskalův-Wallisův test'!$D$11*('Kruskalův-Wallisův test'!$D$11+1)*'Post hoc analýza'!$F$4)/12),IF(pomNemeneyi!$D$10=1,pomNemeneyi!$L$11,pomNemeneyi!$L$12)))","v":""},{"$f":"IF(OR($R17=\"\",AE$6=\"\"),\"\",IF(pomNemeneyi!$D$10=0,SQRT((((1/$R17)+(1/AE$6))*'Kruskalův-Wallisův test'!$D$11*('Kruskalův-Wallisův test'!$D$11+1)*'Post hoc analýza'!$F$4)/12),IF(pomNemeneyi!$D$10=1,pomNemeneyi!$L$11,pomNemeneyi!$L$12)))","v":""},{"$f":"IF(OR($R17=\"\",AF$6=\"\"),\"\",IF(pomNemeneyi!$D$10=0,SQRT((((1/$R17)+(1/AF$6))*'Kruskalův-Wallisův test'!$D$11*('Kruskalův-Wallisův test'!$D$11+1)*'Post hoc analýza'!$F$4)/12),IF(pomNemeneyi!$D$10=1,pomNemeneyi!$L$11,pomNemeneyi!$L$12)))","v":""},{"$f":"IF(OR($R17=\"\",AG$6=\"\"),\"\",IF(pomNemeneyi!$D$10=0,SQRT((((1/$R17)+(1/AG$6))*'Kruskalův-Wallisův test'!$D$11*('Kruskalův-Wallisův test'!$D$11+1)*'Post hoc analýza'!$F$4)/12),IF(pomNemeneyi!$D$10=1,pomNemeneyi!$L$11,pomNemeneyi!$L$12)))","v":""},{"$f":"IF(OR($R17=\"\",AH$6=\"\"),\"\",IF(pomNemeneyi!$D$10=0,SQRT((((1/$R17)+(1/AH$6))*'Kruskalův-Wallisův test'!$D$11*('Kruskalův-Wallisův test'!$D$11+1)*'Post hoc analýza'!$F$4)/12),IF(pomNemeneyi!$D$10=1,pomNemeneyi!$L$11,pomNemeneyi!$L$12)))","v":""},null,"",{"$f":"IFERROR(IF(OR(U17=\"\",C17=\"-\",ABS($S17-U$7)<U17),0,1),\"\")","v":""},{"$f":"IFERROR(IF(OR(V17=\"\",D17=\"-\",ABS($S17-V$7)<V17),0,1),\"\")","v":""},{"$f":"IFERROR(IF(OR(W17=\"\",E17=\"-\",ABS($S17-W$7)<W17),0,1),\"\")","v":""},{"$f":"IFERROR(IF(OR(X17=\"\",F17=\"-\",ABS($S17-X$7)<X17),0,1),\"\")","v":""},{"$f":"IFERROR(IF(OR(Y17=\"\",G17=\"-\",ABS($S17-Y$7)<Y17),0,1),\"\")","v":""},{"$f":"IFERROR(IF(OR(Z17=\"\",H17=\"-\",ABS($S17-Z$7)<Z17),0,1),\"\")","v":""},{"$f":"IFERROR(IF(OR(AA17=\"\",I17=\"-\",ABS($S17-AA$7)<AA17),0,1),\"\")","v":""},{"$f":"IFERROR(IF(OR(AB17=\"\",J17=\"-\",ABS($S17-AB$7)<AB17),0,1),\"\")","v":""},{"$f":"IFERROR(IF(OR(AC17=\"\",K17=\"-\",ABS($S17-AC$7)<AC17),0,1),\"\")","v":""},{"$f":"IFERROR(IF(OR(AD17=\"\",L17=\"-\",ABS($S17-AD$7)<AD17),0,1),\"\")","v":""},{"$f":"IFERROR(IF(OR(AE17=\"\",M17=\"-\",ABS($S17-AE$7)<AE17),0,1),\"\")","v":""},{"$f":"IFERROR(IF(OR(AF17=\"\",N17=\"-\",ABS($S17-AF$7)<AF17),0,1),\"\")","v":""},{"$f":"IFERROR(IF(OR(AG17=\"\",O17=\"-\",ABS($S17-AG$7)<AG17),0,1),\"\")","v":""},{"$f":"IFERROR(IF(OR(AH17=\"\",P17=\"-\",ABS($S17-AH$7)<AH17),0,1),\"\")","v":""},{"$f":"IFERROR(IF(OR(AI17=\"\",Q17=\"-\",ABS($S17-AI$7)<AI17),0,1),\"\")","v":""},"","","","","","","","","","","","","","",""]
[11,"","","","","","","","","",{"$f":"IF(AC18=\"\",\"\",CONCATENATE(ROUND(ABS(AC$7-$S18),3),\" (\",ROUND(AC18,3),\")\"))","v":""},"-",{"$f":"IF(AE18=\"\",\"\",CONCATENATE(ROUND(ABS(AE$7-$S18),3),\" (\",ROUND(AE18,3),\")\"))","v":""},{"$f":"IF(AF18=\"\",\"\",CONCATENATE(ROUND(ABS(AF$7-$S18),3),\" (\",ROUND(AF18,3),\")\"))","v":""},{"$f":"IF(AG18=\"\",\"\",CONCATENATE(ROUND(ABS(AG$7-$S18),3),\" (\",ROUND(AG18,3),\")\"))","v":""},{"$f":"IF(AH18=\"\",\"\",CONCATENATE(ROUND(ABS(AH$7-$S18),3),\" (\",ROUND(AH18,3),\")\"))","v":""},null,{"$f":"AD6","v":""},{"$f":"AD7","v":""},{"$f":"IF(OR($R18=\"\",T$6=\"\"),\"\",IF(pomNemeneyi!$D$10=0,SQRT((((1/$R18)+(1/T$6))*'Kruskalův-Wallisův test'!$D$11*('Kruskalův-Wallisův test'!$D$11+1)*'Post hoc analýza'!$F$4)/12),IF(pomNemeneyi!$D$10=1,pomNemeneyi!$L$11,pomNemeneyi!$L$12)))","v":""},{"$f":"IF(OR($R18=\"\",U$6=\"\"),\"\",IF(pomNemeneyi!$D$10=0,SQRT((((1/$R18)+(1/U$6))*'Kruskalův-Wallisův test'!$D$11*('Kruskalův-Wallisův test'!$D$11+1)*'Post hoc analýza'!$F$4)/12),IF(pomNemeneyi!$D$10=1,pomNemeneyi!$L$11,pomNemeneyi!$L$12)))","v":""},{"$f":"IF(OR($R18=\"\",V$6=\"\"),\"\",IF(pomNemeneyi!$D$10=0,SQRT((((1/$R18)+(1/V$6))*'Kruskalův-Wallisův test'!$D$11*('Kruskalův-Wallisův test'!$D$11+1)*'Post hoc analýza'!$F$4)/12),IF(pomNemeneyi!$D$10=1,pomNemeneyi!$L$11,pomNemeneyi!$L$12)))","v":""},{"$f":"IF(OR($R18=\"\",W$6=\"\"),\"\",IF(pomNemeneyi!$D$10=0,SQRT((((1/$R18)+(1/W$6))*'Kruskalův-Wallisův test'!$D$11*('Kruskalův-Wallisův test'!$D$11+1)*'Post hoc analýza'!$F$4)/12),IF(pomNemeneyi!$D$10=1,pomNemeneyi!$L$11,pomNemeneyi!$L$12)))","v":""},{"$f":"IF(OR($R18=\"\",X$6=\"\"),\"\",IF(pomNemeneyi!$D$10=0,SQRT((((1/$R18)+(1/X$6))*'Kruskalův-Wallisův test'!$D$11*('Kruskalův-Wallisův test'!$D$11+1)*'Post hoc analýza'!$F$4)/12),IF(pomNemeneyi!$D$10=1,pomNemeneyi!$L$11,pomNemeneyi!$L$12)))","v":""},{"$f":"IF(OR($R18=\"\",Y$6=\"\"),\"\",IF(pomNemeneyi!$D$10=0,SQRT((((1/$R18)+(1/Y$6))*'Kruskalův-Wallisův test'!$D$11*('Kruskalův-Wallisův test'!$D$11+1)*'Post hoc analýza'!$F$4)/12),IF(pomNemeneyi!$D$10=1,pomNemeneyi!$L$11,pomNemeneyi!$L$12)))","v":""},{"$f":"IF(OR($R18=\"\",Z$6=\"\"),\"\",IF(pomNemeneyi!$D$10=0,SQRT((((1/$R18)+(1/Z$6))*'Kruskalův-Wallisův test'!$D$11*('Kruskalův-Wallisův test'!$D$11+1)*'Post hoc analýza'!$F$4)/12),IF(pomNemeneyi!$D$10=1,pomNemeneyi!$L$11,pomNemeneyi!$L$12)))","v":""},{"$f":"IF(OR($R18=\"\",AA$6=\"\"),\"\",IF(pomNemeneyi!$D$10=0,SQRT((((1/$R18)+(1/AA$6))*'Kruskalův-Wallisův test'!$D$11*('Kruskalův-Wallisův test'!$D$11+1)*'Post hoc analýza'!$F$4)/12),IF(pomNemeneyi!$D$10=1,pomNemeneyi!$L$11,pomNemeneyi!$L$12)))","v":""},{"$f":"IF(OR($R18=\"\",AB$6=\"\"),\"\",IF(pomNemeneyi!$D$10=0,SQRT((((1/$R18)+(1/AB$6))*'Kruskalův-Wallisův test'!$D$11*('Kruskalův-Wallisův test'!$D$11+1)*'Post hoc analýza'!$F$4)/12),IF(pomNemeneyi!$D$10=1,pomNemeneyi!$L$11,pomNemeneyi!$L$12)))","v":""},{"$f":"IF(OR($R18=\"\",AC$6=\"\"),\"\",IF(pomNemeneyi!$D$10=0,SQRT((((1/$R18)+(1/AC$6))*'Kruskalův-Wallisův test'!$D$11*('Kruskalův-Wallisův test'!$D$11+1)*'Post hoc analýza'!$F$4)/12),IF(pomNemeneyi!$D$10=1,pomNemeneyi!$L$11,pomNemeneyi!$L$12)))","v":""},{"$f":"IF(OR($R18=\"\",AD$6=\"\"),\"\",IF(pomNemeneyi!$D$10=0,SQRT((((1/$R18)+(1/AD$6))*'Kruskalův-Wallisův test'!$D$11*('Kruskalův-Wallisův test'!$D$11+1)*'Post hoc analýza'!$F$4)/12),IF(pomNemeneyi!$D$10=1,pomNemeneyi!$L$11,pomNemeneyi!$L$12)))","v":""},{"$f":"IF(OR($R18=\"\",AE$6=\"\"),\"\",IF(pomNemeneyi!$D$10=0,SQRT((((1/$R18)+(1/AE$6))*'Kruskalův-Wallisův test'!$D$11*('Kruskalův-Wallisův test'!$D$11+1)*'Post hoc analýza'!$F$4)/12),IF(pomNemeneyi!$D$10=1,pomNemeneyi!$L$11,pomNemeneyi!$L$12)))","v":""},{"$f":"IF(OR($R18=\"\",AF$6=\"\"),\"\",IF(pomNemeneyi!$D$10=0,SQRT((((1/$R18)+(1/AF$6))*'Kruskalův-Wallisův test'!$D$11*('Kruskalův-Wallisův test'!$D$11+1)*'Post hoc analýza'!$F$4)/12),IF(pomNemeneyi!$D$10=1,pomNemeneyi!$L$11,pomNemeneyi!$L$12)))","v":""},{"$f":"IF(OR($R18=\"\",AG$6=\"\"),\"\",IF(pomNemeneyi!$D$10=0,SQRT((((1/$R18)+(1/AG$6))*'Kruskalův-Wallisův test'!$D$11*('Kruskalův-Wallisův test'!$D$11+1)*'Post hoc analýza'!$F$4)/12),IF(pomNemeneyi!$D$10=1,pomNemeneyi!$L$11,pomNemeneyi!$L$12)))","v":""},{"$f":"IF(OR($R18=\"\",AH$6=\"\"),\"\",IF(pomNemeneyi!$D$10=0,SQRT((((1/$R18)+(1/AH$6))*'Kruskalův-Wallisův test'!$D$11*('Kruskalův-Wallisův test'!$D$11+1)*'Post hoc analýza'!$F$4)/12),IF(pomNemeneyi!$D$10=1,pomNemeneyi!$L$11,pomNemeneyi!$L$12)))","v":""},null,"","","","","","","","","","","","","","","","","","","","","","","","","","","","","","",""]
[12,"","","","","","","","","",{"$f":"IF(AC19=\"\",\"\",CONCATENATE(ROUND(ABS(AC$7-$S19),3),\" (\",ROUND(AC19,3),\")\"))","v":""},{"$f":"IF(AD19=\"\",\"\",CONCATENATE(ROUND(ABS(AD$7-$S19),3),\" (\",ROUND(AD19,3),\")\"))","v":""},"-",{"$f":"IF(AF19=\"\",\"\",CONCATENATE(ROUND(ABS(AF$7-$S19),3),\" (\",ROUND(AF19,3),\")\"))","v":""},{"$f":"IF(AG19=\"\",\"\",CONCATENATE(ROUND(ABS(AG$7-$S19),3),\" (\",ROUND(AG19,3),\")\"))","v":""},{"$f":"IF(AH19=\"\",\"\",CONCATENATE(ROUND(ABS(AH$7-$S19),3),\" (\",ROUND(AH19,3),\")\"))","v":""},null,{"$f":"AE6","v":""},{"$f":"AE7","v":""},{"$f":"IF(OR($R19=\"\",T$6=\"\"),\"\",IF(pomNemeneyi!$D$10=0,SQRT((((1/$R19)+(1/T$6))*'Kruskalův-Wallisův test'!$D$11*('Kruskalův-Wallisův test'!$D$11+1)*'Post hoc analýza'!$F$4)/12),IF(pomNemeneyi!$D$10=1,pomNemeneyi!$L$11,pomNemeneyi!$L$12)))","v":""},{"$f":"IF(OR($R19=\"\",U$6=\"\"),\"\",IF(pomNemeneyi!$D$10=0,SQRT((((1/$R19)+(1/U$6))*'Kruskalův-Wallisův test'!$D$11*('Kruskalův-Wallisův test'!$D$11+1)*'Post hoc analýza'!$F$4)/12),IF(pomNemeneyi!$D$10=1,pomNemeneyi!$L$11,pomNemeneyi!$L$12)))","v":""},{"$f":"IF(OR($R19=\"\",V$6=\"\"),\"\",IF(pomNemeneyi!$D$10=0,SQRT((((1/$R19)+(1/V$6))*'Kruskalův-Wallisův test'!$D$11*('Kruskalův-Wallisův test'!$D$11+1)*'Post hoc analýza'!$F$4)/12),IF(pomNemeneyi!$D$10=1,pomNemeneyi!$L$11,pomNemeneyi!$L$12)))","v":""},{"$f":"IF(OR($R19=\"\",W$6=\"\"),\"\",IF(pomNemeneyi!$D$10=0,SQRT((((1/$R19)+(1/W$6))*'Kruskalův-Wallisův test'!$D$11*('Kruskalův-Wallisův test'!$D$11+1)*'Post hoc analýza'!$F$4)/12),IF(pomNemeneyi!$D$10=1,pomNemeneyi!$L$11,pomNemeneyi!$L$12)))","v":""},{"$f":"IF(OR($R19=\"\",X$6=\"\"),\"\",IF(pomNemeneyi!$D$10=0,SQRT((((1/$R19)+(1/X$6))*'Kruskalův-Wallisův test'!$D$11*('Kruskalův-Wallisův test'!$D$11+1)*'Post hoc analýza'!$F$4)/12),IF(pomNemeneyi!$D$10=1,pomNemeneyi!$L$11,pomNemeneyi!$L$12)))","v":""},{"$f":"IF(OR($R19=\"\",Y$6=\"\"),\"\",IF(pomNemeneyi!$D$10=0,SQRT((((1/$R19)+(1/Y$6))*'Kruskalův-Wallisův test'!$D$11*('Kruskalův-Wallisův test'!$D$11+1)*'Post hoc analýza'!$F$4)/12),IF(pomNemeneyi!$D$10=1,pomNemeneyi!$L$11,pomNemeneyi!$L$12)))","v":""},{"$f":"IF(OR($R19=\"\",Z$6=\"\"),\"\",IF(pomNemeneyi!$D$10=0,SQRT((((1/$R19)+(1/Z$6))*'Kruskalův-Wallisův test'!$D$11*('Kruskalův-Wallisův test'!$D$11+1)*'Post hoc analýza'!$F$4)/12),IF(pomNemeneyi!$D$10=1,pomNemeneyi!$L$11,pomNemeneyi!$L$12)))","v":""},{"$f":"IF(OR($R19=\"\",AA$6=\"\"),\"\",IF(pomNemeneyi!$D$10=0,SQRT((((1/$R19)+(1/AA$6))*'Kruskalův-Wallisův test'!$D$11*('Kruskalův-Wallisův test'!$D$11+1)*'Post hoc analýza'!$F$4)/12),IF(pomNemeneyi!$D$10=1,pomNemeneyi!$L$11,pomNemeneyi!$L$12)))","v":""},{"$f":"IF(OR($R19=\"\",AB$6=\"\"),\"\",IF(pomNemeneyi!$D$10=0,SQRT((((1/$R19)+(1/AB$6))*'Kruskalův-Wallisův test'!$D$11*('Kruskalův-Wallisův test'!$D$11+1)*'Post hoc analýza'!$F$4)/12),IF(pomNemeneyi!$D$10=1,pomNemeneyi!$L$11,pomNemeneyi!$L$12)))","v":""},{"$f":"IF(OR($R19=\"\",AC$6=\"\"),\"\",IF(pomNemeneyi!$D$10=0,SQRT((((1/$R19)+(1/AC$6))*'Kruskalův-Wallisův test'!$D$11*('Kruskalův-Wallisův test'!$D$11+1)*'Post hoc analýza'!$F$4)/12),IF(pomNemeneyi!$D$10=1,pomNemeneyi!$L$11,pomNemeneyi!$L$12)))","v":""},{"$f":"IF(OR($R19=\"\",AD$6=\"\"),\"\",IF(pomNemeneyi!$D$10=0,SQRT((((1/$R19)+(1/AD$6))*'Kruskalův-Wallisův test'!$D$11*('Kruskalův-Wallisův test'!$D$11+1)*'Post hoc analýza'!$F$4)/12),IF(pomNemeneyi!$D$10=1,pomNemeneyi!$L$11,pomNemeneyi!$L$12)))","v":""},{"$f":"IF(OR($R19=\"\",AE$6=\"\"),\"\",IF(pomNemeneyi!$D$10=0,SQRT((((1/$R19)+(1/AE$6))*'Kruskalův-Wallisův test'!$D$11*('Kruskalův-Wallisův test'!$D$11+1)*'Post hoc analýza'!$F$4)/12),IF(pomNemeneyi!$D$10=1,pomNemeneyi!$L$11,pomNemeneyi!$L$12)))","v":""},{"$f":"IF(OR($R19=\"\",AF$6=\"\"),\"\",IF(pomNemeneyi!$D$10=0,SQRT((((1/$R19)+(1/AF$6))*'Kruskalův-Wallisův test'!$D$11*('Kruskalův-Wallisův test'!$D$11+1)*'Post hoc analýza'!$F$4)/12),IF(pomNemeneyi!$D$10=1,pomNemeneyi!$L$11,pomNemeneyi!$L$12)))","v":""},{"$f":"IF(OR($R19=\"\",AG$6=\"\"),\"\",IF(pomNemeneyi!$D$10=0,SQRT((((1/$R19)+(1/AG$6))*'Kruskalův-Wallisův test'!$D$11*('Kruskalův-Wallisův test'!$D$11+1)*'Post hoc analýza'!$F$4)/12),IF(pomNemeneyi!$D$10=1,pomNemeneyi!$L$11,pomNemeneyi!$L$12)))","v":""},{"$f":"IF(OR($R19=\"\",AH$6=\"\"),\"\",IF(pomNemeneyi!$D$10=0,SQRT((((1/$R19)+(1/AH$6))*'Kruskalův-Wallisův test'!$D$11*('Kruskalův-Wallisův test'!$D$11+1)*'Post hoc analýza'!$F$4)/12),IF(pomNemeneyi!$D$10=1,pomNemeneyi!$L$11,pomNemeneyi!$L$12)))","v":""},null,"","","","","","","","","","","","","","","","","","","","","","","","","","","","","","",""]
[13,"","","","","","","","","",{"$f":"IF(AC20=\"\",\"\",CONCATENATE(ROUND(ABS(AC$7-$S20),3),\" (\",ROUND(AC20,3),\")\"))","v":""},{"$f":"IF(AD20=\"\",\"\",CONCATENATE(ROUND(ABS(AD$7-$S20),3),\" (\",ROUND(AD20,3),\")\"))","v":""},{"$f":"IF(AE20=\"\",\"\",CONCATENATE(ROUND(ABS(AE$7-$S20),3),\" (\",ROUND(AE20,3),\")\"))","v":""},"-",{"$f":"IF(AG20=\"\",\"\",CONCATENATE(ROUND(ABS(AG$7-$S20),3),\" (\",ROUND(AG20,3),\")\"))","v":""},{"$f":"IF(AH20=\"\",\"\",CONCATENATE(ROUND(ABS(AH$7-$S20),3),\" (\",ROUND(AH20,3),\")\"))","v":""},null,{"$f":"AF6","v":""},{"$f":"AF7","v":""},{"$f":"IF(OR($R20=\"\",T$6=\"\"),\"\",IF(pomNemeneyi!$D$10=0,SQRT((((1/$R20)+(1/T$6))*'Kruskalův-Wallisův test'!$D$11*('Kruskalův-Wallisův test'!$D$11+1)*'Post hoc analýza'!$F$4)/12),IF(pomNemeneyi!$D$10=1,pomNemeneyi!$L$11,pomNemeneyi!$L$12)))","v":""},{"$f":"IF(OR($R20=\"\",U$6=\"\"),\"\",IF(pomNemeneyi!$D$10=0,SQRT((((1/$R20)+(1/U$6))*'Kruskalův-Wallisův test'!$D$11*('Kruskalův-Wallisův test'!$D$11+1)*'Post hoc analýza'!$F$4)/12),IF(pomNemeneyi!$D$10=1,pomNemeneyi!$L$11,pomNemeneyi!$L$12)))","v":""},{"$f":"IF(OR($R20=\"\",V$6=\"\"),\"\",IF(pomNemeneyi!$D$10=0,SQRT((((1/$R20)+(1/V$6))*'Kruskalův-Wallisův test'!$D$11*('Kruskalův-Wallisův test'!$D$11+1)*'Post hoc analýza'!$F$4)/12),IF(pomNemeneyi!$D$10=1,pomNemeneyi!$L$11,pomNemeneyi!$L$12)))","v":""},{"$f":"IF(OR($R20=\"\",W$6=\"\"),\"\",IF(pomNemeneyi!$D$10=0,SQRT((((1/$R20)+(1/W$6))*'Kruskalův-Wallisův test'!$D$11*('Kruskalův-Wallisův test'!$D$11+1)*'Post hoc analýza'!$F$4)/12),IF(pomNemeneyi!$D$10=1,pomNemeneyi!$L$11,pomNemeneyi!$L$12)))","v":""},{"$f":"IF(OR($R20=\"\",X$6=\"\"),\"\",IF(pomNemeneyi!$D$10=0,SQRT((((1/$R20)+(1/X$6))*'Kruskalův-Wallisův test'!$D$11*('Kruskalův-Wallisův test'!$D$11+1)*'Post hoc analýza'!$F$4)/12),IF(pomNemeneyi!$D$10=1,pomNemeneyi!$L$11,pomNemeneyi!$L$12)))","v":""},{"$f":"IF(OR($R20=\"\",Y$6=\"\"),\"\",IF(pomNemeneyi!$D$10=0,SQRT((((1/$R20)+(1/Y$6))*'Kruskalův-Wallisův test'!$D$11*('Kruskalův-Wallisův test'!$D$11+1)*'Post hoc analýza'!$F$4)/12),IF(pomNemeneyi!$D$10=1,pomNemeneyi!$L$11,pomNemeneyi!$L$12)))","v":""},{"$f":"IF(OR($R20=\"\",Z$6=\"\"),\"\",IF(pomNemeneyi!$D$10=0,SQRT((((1/$R20)+(1/Z$6))*'Kruskalův-Wallisův test'!$D$11*('Kruskalův-Wallisův test'!$D$11+1)*'Post hoc analýza'!$F$4)/12),IF(pomNemeneyi!$D$10=1,pomNemeneyi!$L$11,pomNemeneyi!$L$12)))","v":""},{"$f":"IF(OR($R20=\"\",AA$6=\"\"),\"\",IF(pomNemeneyi!$D$10=0,SQRT((((1/$R20)+(1/AA$6))*'Kruskalův-Wallisův test'!$D$11*('Kruskalův-Wallisův test'!$D$11+1)*'Post hoc analýza'!$F$4)/12),IF(pomNemeneyi!$D$10=1,pomNemeneyi!$L$11,pomNemeneyi!$L$12)))","v":""},{"$f":"IF(OR($R20=\"\",AB$6=\"\"),\"\",IF(pomNemeneyi!$D$10=0,SQRT((((1/$R20)+(1/AB$6))*'Kruskalův-Wallisův test'!$D$11*('Kruskalův-Wallisův test'!$D$11+1)*'Post hoc analýza'!$F$4)/12),IF(pomNemeneyi!$D$10=1,pomNemeneyi!$L$11,pomNemeneyi!$L$12)))","v":""},{"$f":"IF(OR($R20=\"\",AC$6=\"\"),\"\",IF(pomNemeneyi!$D$10=0,SQRT((((1/$R20)+(1/AC$6))*'Kruskalův-Wallisův test'!$D$11*('Kruskalův-Wallisův test'!$D$11+1)*'Post hoc analýza'!$F$4)/12),IF(pomNemeneyi!$D$10=1,pomNemeneyi!$L$11,pomNemeneyi!$L$12)))","v":""},{"$f":"IF(OR($R20=\"\",AD$6=\"\"),\"\",IF(pomNemeneyi!$D$10=0,SQRT((((1/$R20)+(1/AD$6))*'Kruskalův-Wallisův test'!$D$11*('Kruskalův-Wallisův test'!$D$11+1)*'Post hoc analýza'!$F$4)/12),IF(pomNemeneyi!$D$10=1,pomNemeneyi!$L$11,pomNemeneyi!$L$12)))","v":""},{"$f":"IF(OR($R20=\"\",AE$6=\"\"),\"\",IF(pomNemeneyi!$D$10=0,SQRT((((1/$R20)+(1/AE$6))*'Kruskalův-Wallisův test'!$D$11*('Kruskalův-Wallisův test'!$D$11+1)*'Post hoc analýza'!$F$4)/12),IF(pomNemeneyi!$D$10=1,pomNemeneyi!$L$11,pomNemeneyi!$L$12)))","v":""},{"$f":"IF(OR($R20=\"\",AF$6=\"\"),\"\",IF(pomNemeneyi!$D$10=0,SQRT((((1/$R20)+(1/AF$6))*'Kruskalův-Wallisův test'!$D$11*('Kruskalův-Wallisův test'!$D$11+1)*'Post hoc analýza'!$F$4)/12),IF(pomNemeneyi!$D$10=1,pomNemeneyi!$L$11,pomNemeneyi!$L$12)))","v":""},{"$f":"IF(OR($R20=\"\",AG$6=\"\"),\"\",IF(pomNemeneyi!$D$10=0,SQRT((((1/$R20)+(1/AG$6))*'Kruskalův-Wallisův test'!$D$11*('Kruskalův-Wallisův test'!$D$11+1)*'Post hoc analýza'!$F$4)/12),IF(pomNemeneyi!$D$10=1,pomNemeneyi!$L$11,pomNemeneyi!$L$12)))","v":""},{"$f":"IF(OR($R20=\"\",AH$6=\"\"),\"\",IF(pomNemeneyi!$D$10=0,SQRT((((1/$R20)+(1/AH$6))*'Kruskalův-Wallisův test'!$D$11*('Kruskalův-Wallisův test'!$D$11+1)*'Post hoc analýza'!$F$4)/12),IF(pomNemeneyi!$D$10=1,pomNemeneyi!$L$11,pomNemeneyi!$L$12)))","v":""},null,"","","","","","","","","","","","","","","","","","","","","","","","","","","","","","",""]
[14,"","","","","","","","","",{"$f":"IF(AC21=\"\",\"\",CONCATENATE(ROUND(ABS(AC$7-$S21),3),\" (\",ROUND(AC21,3),\")\"))","v":""},{"$f":"IF(AD21=\"\",\"\",CONCATENATE(ROUND(ABS(AD$7-$S21),3),\" (\",ROUND(AD21,3),\")\"))","v":""},{"$f":"IF(AE21=\"\",\"\",CONCATENATE(ROUND(ABS(AE$7-$S21),3),\" (\",ROUND(AE21,3),\")\"))","v":""},{"$f":"IF(AF21=\"\",\"\",CONCATENATE(ROUND(ABS(AF$7-$S21),3),\" (\",ROUND(AF21,3),\")\"))","v":""},"-",{"$f":"IF(AH21=\"\",\"\",CONCATENATE(ROUND(ABS(AH$7-$S21),3),\" (\",ROUND(AH21,3),\")\"))","v":""},null,{"$f":"AG6","v":""},{"$f":"AG7","v":""},{"$f":"IF(OR($R21=\"\",T$6=\"\"),\"\",IF(pomNemeneyi!$D$10=0,SQRT((((1/$R21)+(1/T$6))*'Kruskalův-Wallisův test'!$D$11*('Kruskalův-Wallisův test'!$D$11+1)*'Post hoc analýza'!$F$4)/12),IF(pomNemeneyi!$D$10=1,pomNemeneyi!$L$11,pomNemeneyi!$L$12)))","v":""},{"$f":"IF(OR($R21=\"\",U$6=\"\"),\"\",IF(pomNemeneyi!$D$10=0,SQRT((((1/$R21)+(1/U$6))*'Kruskalův-Wallisův test'!$D$11*('Kruskalův-Wallisův test'!$D$11+1)*'Post hoc analýza'!$F$4)/12),IF(pomNemeneyi!$D$10=1,pomNemeneyi!$L$11,pomNemeneyi!$L$12)))","v":""},{"$f":"IF(OR($R21=\"\",V$6=\"\"),\"\",IF(pomNemeneyi!$D$10=0,SQRT((((1/$R21)+(1/V$6))*'Kruskalův-Wallisův test'!$D$11*('Kruskalův-Wallisův test'!$D$11+1)*'Post hoc analýza'!$F$4)/12),IF(pomNemeneyi!$D$10=1,pomNemeneyi!$L$11,pomNemeneyi!$L$12)))","v":""},{"$f":"IF(OR($R21=\"\",W$6=\"\"),\"\",IF(pomNemeneyi!$D$10=0,SQRT((((1/$R21)+(1/W$6))*'Kruskalův-Wallisův test'!$D$11*('Kruskalův-Wallisův test'!$D$11+1)*'Post hoc analýza'!$F$4)/12),IF(pomNemeneyi!$D$10=1,pomNemeneyi!$L$11,pomNemeneyi!$L$12)))","v":""},{"$f":"IF(OR($R21=\"\",X$6=\"\"),\"\",IF(pomNemeneyi!$D$10=0,SQRT((((1/$R21)+(1/X$6))*'Kruskalův-Wallisův test'!$D$11*('Kruskalův-Wallisův test'!$D$11+1)*'Post hoc analýza'!$F$4)/12),IF(pomNemeneyi!$D$10=1,pomNemeneyi!$L$11,pomNemeneyi!$L$12)))","v":""},{"$f":"IF(OR($R21=\"\",Y$6=\"\"),\"\",IF(pomNemeneyi!$D$10=0,SQRT((((1/$R21)+(1/Y$6))*'Kruskalův-Wallisův test'!$D$11*('Kruskalův-Wallisův test'!$D$11+1)*'Post hoc analýza'!$F$4)/12),IF(pomNemeneyi!$D$10=1,pomNemeneyi!$L$11,pomNemeneyi!$L$12)))","v":""},{"$f":"IF(OR($R21=\"\",Z$6=\"\"),\"\",IF(pomNemeneyi!$D$10=0,SQRT((((1/$R21)+(1/Z$6))*'Kruskalův-Wallisův test'!$D$11*('Kruskalův-Wallisův test'!$D$11+1)*'Post hoc analýza'!$F$4)/12),IF(pomNemeneyi!$D$10=1,pomNemeneyi!$L$11,pomNemeneyi!$L$12)))","v":""},{"$f":"IF(OR($R21=\"\",AA$6=\"\"),\"\",IF(pomNemeneyi!$D$10=0,SQRT((((1/$R21)+(1/AA$6))*'Kruskalův-Wallisův test'!$D$11*('Kruskalův-Wallisův test'!$D$11+1)*'Post hoc analýza'!$F$4)/12),IF(pomNemeneyi!$D$10=1,pomNemeneyi!$L$11,pomNemeneyi!$L$12)))","v":""},{"$f":"IF(OR($R21=\"\",AB$6=\"\"),\"\",IF(pomNemeneyi!$D$10=0,SQRT((((1/$R21)+(1/AB$6))*'Kruskalův-Wallisův test'!$D$11*('Kruskalův-Wallisův test'!$D$11+1)*'Post hoc analýza'!$F$4)/12),IF(pomNemeneyi!$D$10=1,pomNemeneyi!$L$11,pomNemeneyi!$L$12)))","v":""},{"$f":"IF(OR($R21=\"\",AC$6=\"\"),\"\",IF(pomNemeneyi!$D$10=0,SQRT((((1/$R21)+(1/AC$6))*'Kruskalův-Wallisův test'!$D$11*('Kruskalův-Wallisův test'!$D$11+1)*'Post hoc analýza'!$F$4)/12),IF(pomNemeneyi!$D$10=1,pomNemeneyi!$L$11,pomNemeneyi!$L$12)))","v":""},{"$f":"IF(OR($R21=\"\",AD$6=\"\"),\"\",IF(pomNemeneyi!$D$10=0,SQRT((((1/$R21)+(1/AD$6))*'Kruskalův-Wallisův test'!$D$11*('Kruskalův-Wallisův test'!$D$11+1)*'Post hoc analýza'!$F$4)/12),IF(pomNemeneyi!$D$10=1,pomNemeneyi!$L$11,pomNemeneyi!$L$12)))","v":""},{"$f":"IF(OR($R21=\"\",AE$6=\"\"),\"\",IF(pomNemeneyi!$D$10=0,SQRT((((1/$R21)+(1/AE$6))*'Kruskalův-Wallisův test'!$D$11*('Kruskalův-Wallisův test'!$D$11+1)*'Post hoc analýza'!$F$4)/12),IF(pomNemeneyi!$D$10=1,pomNemeneyi!$L$11,pomNemeneyi!$L$12)))","v":""},{"$f":"IF(OR($R21=\"\",AF$6=\"\"),\"\",IF(pomNemeneyi!$D$10=0,SQRT((((1/$R21)+(1/AF$6))*'Kruskalův-Wallisův test'!$D$11*('Kruskalův-Wallisův test'!$D$11+1)*'Post hoc analýza'!$F$4)/12),IF(pomNemeneyi!$D$10=1,pomNemeneyi!$L$11,pomNemeneyi!$L$12)))","v":""},{"$f":"IF(OR($R21=\"\",AG$6=\"\"),\"\",IF(pomNemeneyi!$D$10=0,SQRT((((1/$R21)+(1/AG$6))*'Kruskalův-Wallisův test'!$D$11*('Kruskalův-Wallisův test'!$D$11+1)*'Post hoc analýza'!$F$4)/12),IF(pomNemeneyi!$D$10=1,pomNemeneyi!$L$11,pomNemeneyi!$L$12)))","v":""},{"$f":"IF(OR($R21=\"\",AH$6=\"\"),\"\",IF(pomNemeneyi!$D$10=0,SQRT((((1/$R21)+(1/AH$6))*'Kruskalův-Wallisův test'!$D$11*('Kruskalův-Wallisův test'!$D$11+1)*'Post hoc analýza'!$F$4)/12),IF(pomNemeneyi!$D$10=1,pomNemeneyi!$L$11,pomNemeneyi!$L$12)))","v":""},null,"","","","","","","","","","","","","","","","","","","","","","","","","","","","","","",""]
[15,"","","","","","","","","",{"$f":"IF(AC22=\"\",\"\",CONCATENATE(ROUND(ABS(AC$7-$S22),3),\" (\",ROUND(AC22,3),\")\"))","v":""},{"$f":"IF(AD22=\"\",\"\",CONCATENATE(ROUND(ABS(AD$7-$S22),3),\" (\",ROUND(AD22,3),\")\"))","v":""},{"$f":"IF(AE22=\"\",\"\",CONCATENATE(ROUND(ABS(AE$7-$S22),3),\" (\",ROUND(AE22,3),\")\"))","v":""},{"$f":"IF(AF22=\"\",\"\",CONCATENATE(ROUND(ABS(AF$7-$S22),3),\" (\",ROUND(AF22,3),\")\"))","v":""},{"$f":"IF(AG22=\"\",\"\",CONCATENATE(ROUND(ABS(AG$7-$S22),3),\" (\",ROUND(AG22,3),\")\"))","v":""},"-",null,{"$f":"AH6","v":""},{"$f":"AH7","v":""},{"$f":"IF(OR($R22=\"\",T$6=\"\"),\"\",IF(pomNemeneyi!$D$10=0,SQRT((((1/$R22)+(1/T$6))*'Kruskalův-Wallisův test'!$D$11*('Kruskalův-Wallisův test'!$D$11+1)*'Post hoc analýza'!$F$4)/12),IF(pomNemeneyi!$D$10=1,pomNemeneyi!$L$11,pomNemeneyi!$L$12)))","v":""},{"$f":"IF(OR($R22=\"\",U$6=\"\"),\"\",IF(pomNemeneyi!$D$10=0,SQRT((((1/$R22)+(1/U$6))*'Kruskalův-Wallisův test'!$D$11*('Kruskalův-Wallisův test'!$D$11+1)*'Post hoc analýza'!$F$4)/12),IF(pomNemeneyi!$D$10=1,pomNemeneyi!$L$11,pomNemeneyi!$L$12)))","v":""},{"$f":"IF(OR($R22=\"\",V$6=\"\"),\"\",IF(pomNemeneyi!$D$10=0,SQRT((((1/$R22)+(1/V$6))*'Kruskalův-Wallisův test'!$D$11*('Kruskalův-Wallisův test'!$D$11+1)*'Post hoc analýza'!$F$4)/12),IF(pomNemeneyi!$D$10=1,pomNemeneyi!$L$11,pomNemeneyi!$L$12)))","v":""},{"$f":"IF(OR($R22=\"\",W$6=\"\"),\"\",IF(pomNemeneyi!$D$10=0,SQRT((((1/$R22)+(1/W$6))*'Kruskalův-Wallisův test'!$D$11*('Kruskalův-Wallisův test'!$D$11+1)*'Post hoc analýza'!$F$4)/12),IF(pomNemeneyi!$D$10=1,pomNemeneyi!$L$11,pomNemeneyi!$L$12)))","v":""},{"$f":"IF(OR($R22=\"\",X$6=\"\"),\"\",IF(pomNemeneyi!$D$10=0,SQRT((((1/$R22)+(1/X$6))*'Kruskalův-Wallisův test'!$D$11*('Kruskalův-Wallisův test'!$D$11+1)*'Post hoc analýza'!$F$4)/12),IF(pomNemeneyi!$D$10=1,pomNemeneyi!$L$11,pomNemeneyi!$L$12)))","v":""},{"$f":"IF(OR($R22=\"\",Y$6=\"\"),\"\",IF(pomNemeneyi!$D$10=0,SQRT((((1/$R22)+(1/Y$6))*'Kruskalův-Wallisův test'!$D$11*('Kruskalův-Wallisův test'!$D$11+1)*'Post hoc analýza'!$F$4)/12),IF(pomNemeneyi!$D$10=1,pomNemeneyi!$L$11,pomNemeneyi!$L$12)))","v":""},{"$f":"IF(OR($R22=\"\",Z$6=\"\"),\"\",IF(pomNemeneyi!$D$10=0,SQRT((((1/$R22)+(1/Z$6))*'Kruskalův-Wallisův test'!$D$11*('Kruskalův-Wallisův test'!$D$11+1)*'Post hoc analýza'!$F$4)/12),IF(pomNemeneyi!$D$10=1,pomNemeneyi!$L$11,pomNemeneyi!$L$12)))","v":""},{"$f":"IF(OR($R22=\"\",AA$6=\"\"),\"\",IF(pomNemeneyi!$D$10=0,SQRT((((1/$R22)+(1/AA$6))*'Kruskalův-Wallisův test'!$D$11*('Kruskalův-Wallisův test'!$D$11+1)*'Post hoc analýza'!$F$4)/12),IF(pomNemeneyi!$D$10=1,pomNemeneyi!$L$11,pomNemeneyi!$L$12)))","v":""},{"$f":"IF(OR($R22=\"\",AB$6=\"\"),\"\",IF(pomNemeneyi!$D$10=0,SQRT((((1/$R22)+(1/AB$6))*'Kruskalův-Wallisův test'!$D$11*('Kruskalův-Wallisův test'!$D$11+1)*'Post hoc analýza'!$F$4)/12),IF(pomNemeneyi!$D$10=1,pomNemeneyi!$L$11,pomNemeneyi!$L$12)))","v":""},{"$f":"IF(OR($R22=\"\",AC$6=\"\"),\"\",IF(pomNemeneyi!$D$10=0,SQRT((((1/$R22)+(1/AC$6))*'Kruskalův-Wallisův test'!$D$11*('Kruskalův-Wallisův test'!$D$11+1)*'Post hoc analýza'!$F$4)/12),IF(pomNemeneyi!$D$10=1,pomNemeneyi!$L$11,pomNemeneyi!$L$12)))","v":""},{"$f":"IF(OR($R22=\"\",AD$6=\"\"),\"\",IF(pomNemeneyi!$D$10=0,SQRT((((1/$R22)+(1/AD$6))*'Kruskalův-Wallisův test'!$D$11*('Kruskalův-Wallisův test'!$D$11+1)*'Post hoc analýza'!$F$4)/12),IF(pomNemeneyi!$D$10=1,pomNemeneyi!$L$11,pomNemeneyi!$L$12)))","v":""},{"$f":"IF(OR($R22=\"\",AE$6=\"\"),\"\",IF(pomNemeneyi!$D$10=0,SQRT((((1/$R22)+(1/AE$6))*'Kruskalův-Wallisův test'!$D$11*('Kruskalův-Wallisův test'!$D$11+1)*'Post hoc analýza'!$F$4)/12),IF(pomNemeneyi!$D$10=1,pomNemeneyi!$L$11,pomNemeneyi!$L$12)))","v":""},{"$f":"IF(OR($R22=\"\",AF$6=\"\"),\"\",IF(pomNemeneyi!$D$10=0,SQRT((((1/$R22)+(1/AF$6))*'Kruskalův-Wallisův test'!$D$11*('Kruskalův-Wallisův test'!$D$11+1)*'Post hoc analýza'!$F$4)/12),IF(pomNemeneyi!$D$10=1,pomNemeneyi!$L$11,pomNemeneyi!$L$12)))","v":""},{"$f":"IF(OR($R22=\"\",AG$6=\"\"),\"\",IF(pomNemeneyi!$D$10=0,SQRT((((1/$R22)+(1/AG$6))*'Kruskalův-Wallisův test'!$D$11*('Kruskalův-Wallisův test'!$D$11+1)*'Post hoc analýza'!$F$4)/12),IF(pomNemeneyi!$D$10=1,pomNemeneyi!$L$11,pomNemeneyi!$L$12)))","v":""},{"$f":"IF(OR($R22=\"\",AH$6=\"\"),\"\",IF(pomNemeneyi!$D$10=0,SQRT((((1/$R22)+(1/AH$6))*'Kruskalův-Wallisův test'!$D$11*('Kruskalův-Wallisův test'!$D$11+1)*'Post hoc analýza'!$F$4)/12),IF(pomNemeneyi!$D$10=1,pomNemeneyi!$L$11,pomNemeneyi!$L$12)))","v":""},null,"","","","","","","","","","","","","","","","","","","","","","","","","","","","","","",""]
[]
[{"$f":"CONCATENATE(\" Statisticky významný rozdíl mezi skupinami je na hladině významnosti \",'Kruskalův-Wallisův test'!G45,\" indikován červeným zbarvením příslušného pole znaménkového schématu.\")","v":" Statisticky významný rozdíl mezi skupinami je na hladině významnosti  indikován červeným zbarvením příslušného pole znaménkového schématu."}]

{"sheet":"Kritické hodnoty pro post hoc","index":5,"n_rows":37,"n_cols":25,"rows_kept":37,"cut":false,"hidden":true,"merged":[[0,1,0,8],[19,1,19,8],[0,11,0,24]]}
[null,"k",null,null,null,null,null,null,null,null,"Neménney","k"]
["m",3,4,5,6,7,8,9,10,null,"a",2,3,4,5,6,7,8,9,10,11,12,13,14,15]
[1,3.3,4.7,6.1,7.5,9,10.5,12,13.5,null,0.05,2.77,3.31,3.63,3.86,4.03,4.17,4.29,4.3899999999999997,4.47,4.55,4.62,4.68,4.74,4.8]
[2,4.7,6.6,8.6,10.7,12.7,14.8,17,19.2,null,0.01,3.64,4.12,4.4000000000000004,4.5999999999999996,4.76,4.88,4.99,5.08,5.16,5.23,5.29,5.35,5.4,5.45]
[3,5.7,8.1,10.6,13.1,15.6,18.2,20.8,23.5]
[4,6.6,9.4,12.2,15.1,18,21,24,27.1]
[5,7.4,10.5,13.6,16.899999999999999,20.100000000000001,23.5,26.9,30.3]
[6,8.1,11.5,14.9,18.5,22.1,25.7,29.4,33.200000000000003]
[7,8.8000000000000007,12.4,16.100000000000001,19.899999999999999,23.9,27.8,31.8,35.799999999999997]
[8,9.4,13.3,17.3,21.3,25.5,29.7,34,38.299999999999997]
[9,9.9,14.1,18.3,22.6,27,31.5,36,40.6]
[10,10.5,14.8,19.3,23.8,28.5,33.200000000000003,38,42.8]
[11,11,15.6,20.2,25,29.9,34.799999999999997,39.799999999999997,44.9]
[12,11.5,16.2,21.1,26.1,31.2,36.4,41.6,46.9]
[13,11.9,16.899999999999999,22,27.2,32.5,37.9,43.3,48.8]
[14,12.4,17.5,22.8,28.2,33.700000000000003,39.299999999999997,45,50.7]
[15,12.8,18.2,23.6,29.2,34.9,40.700000000000003,46.5,52.5]
[16,13.3,18.8,24.4,30.2,36,42,48.1,54.2]
[]
[null,"k"]
["m",3,4,5,6,7,8,9,10]
[1,4.0999999999999996,5.7,7.3,8.9,10.5,12.2,13.9,15.6]
[2,5.8,8,10.3,12.6,14.9,17.3,19.7,22.1]
[3,7.1,9.8000000000000007,12.6,15.4,18.3,21.2,24.1,27]
[4,8.1999999999999993,11.4,14.6,17.8,21.1,24.4,27.8,31.2]
[5,9.1999999999999993,12.7,16.3,19.899999999999999,23.6,27.3,31.1,34.9]
[6,10.1,13.9,17.8,21.8,25.8,29.9,34.1,38.200000000000003]
[7,10.9,15,19.3,23.5,27.9,32.299999999999997,36.799999999999997,41.3]
[8,11.7,16.100000000000001,20.6,25.2,29.8,34.6,39.299999999999997,44.2]
[9,12.4,17.100000000000001,21.8,26.7,31.6,36.6,41.7,46.8]
[10,13,18,23,28.1,33.4,38.6,44,49.4]
[11,13.7,18.899999999999999,24.1,29.5,35,40.5,46.1,51.8]
[12,14.3,19.7,25.2,30.8,36.5,42.3,48.2,54.1]
[13,14.9,20.5,26.2,32.1,38,44,50.1,56.3]
[14,15.4,21.3,27.2,33.299999999999997,39.5,45.7,52,58.4]
[15,16,22,28.2,34.5,40.799999999999997,47.3,53.9,60.5]
[16,16.5,22.7,29.1,35.6,42.2,48.9,55.6,62.5]

{"sheet":"pomNemeneyi","index":6,"n_rows":12,"n_cols":16,"rows_kept":12,"cut":false,"hidden":true,"merged":[]}
["n1","n2","n3","n4","n5","n6","n7","n8","n9","n10","n11","n12","n13","n14","n15"]
[{"$f":"'Kruskalův-Wallisův test'!AC22","v":0},{"$f":"'Kruskalův-Wallisův test'!AD22","v":0},{"$f":"'Kruskalův-Wallisův test'!AE22","v":0},{"$f":"'Kruskalův-Wallisův test'!AF22","v":0},{"$f":"'Kruskalův-Wallisův test'!AG22","v":0},{"$f":"'Kruskalův-Wallisův test'!AH22","v":0},{"$f":"'Kruskalův-Wallisův test'!AI22","v":0},{"$f":"'Kruskalův-Wallisův test'!AJ22","v":0},{"$f":"'Kruskalův-Wallisův test'!AK22","v":0},{"$f":"'Kruskalův-Wallisův test'!AL22","v":0},{"$f":"'Kruskalův-Wallisův test'!AM22","v":0},{"$f":"'Kruskalův-Wallisův test'!AN22","v":0},{"$f":"'Kruskalův-Wallisův test'!AO22","v":0},{"$f":"'Kruskalův-Wallisův test'!AP22","v":0},{"$f":"'Kruskalův-Wallisův test'!AQ22","v":0}]
[1,{"$f":"IF(OR(B2=$A$2,B2=0),1,0)","v":1},{"$f":"IF(OR(C2=$A$2,C2=0),1,0)","v":1},1,1,1,1,1,1,1,1,1,1,1,1,{"$f":"SUM(A3:O3)","v":15}]
[]
["Vyvážené třídění",null,{"$f":"IF(P3=15,1,0)","v":1}]
["k",null,{"$f":"'Kruskalův-Wallisův test'!F11","v":0}]
["m",null,{"$f":"A2","v":0}]
["odmocnina(k(mk+1)/12)",null,{"$f":"SQRT(C6*(C6*C7+1)/12)","v":0}]
[null,null,null,null,null,null,null,null,null,null,null,"kritická hodnota"]
["Použití Neménneyho metody",null,null,{"$f":"IF(AND(C5=1,C6<11,C7<17),1,IF(C5=1,2,0))","v":1},null,0,"Dunnova metoda",null,null,null,null,"---"]
[null,null,null,null,null,1,"Nemméneyiova metoda",null,null,null,null,{"$f":"IF(D10=1,IF('Post hoc analýza'!D3=0.05,VLOOKUP(pomNemeneyi!C7,'Kritické hodnoty pro post hoc'!A2:I18,C6-1,0),VLOOKUP(pomNemeneyi!C7,'Kritické hodnoty pro post hoc'!A21:I37,C6-1,0)),\"\")","v":{"$error":"#N/A"}}]
[null,null,null,null,null,2,"Neménneiova metoda s korekcí kritických hodnot",null,null,null,null,{"$f":"IF('Post hoc analýza'!D3=0.05,C8*HLOOKUP(pomNemeneyi!C6,'Kritické hodnoty pro post hoc'!L2:Y4,2,0),C8*HLOOKUP(pomNemeneyi!C6,'Kritické hodnoty pro post hoc'!L2:Y4,3,0))","v":{"$error":"#N/A"}}]