{"text_format":"1","workbook":"xlsx","n_sheets":6,"sheets":["O projektu","Popis appletu","Numerická proměnná","Histogram numerické proměnné","Kategoriální proměnná","Test normality"],"not_rendered":{"charts":5,"images":4,"macros":1,"external_links":0,"defined_names":18,"comments":0,"pivot_tables":0},"unopened":[],"bounds":{"document_bytes":16777216,"sheet_cells":100000,"rows_first":2000,"rows_last":500,"rows_between":2000,"halvings":0,"cell_chars":16384,"cell_head_chars":4096},"cells_cut":0,"cells_raw":0,"read":"whole","date_system":"1900"}

{"sheet":"O projektu","index":0,"n_rows":0,"n_cols":0,"rows_kept":0,"cut":false,"hidden":false,"merged":[]}

{"sheet":"Popis appletu","index":1,"n_rows":16,"n_cols":12,"rows_kept":16,"cut":false,"hidden":false,"merged":[[1,1,1,14],[2,1,2,14],[4,1,4,14]]}
["Explorační analýza",null,null,null,null,null,null,null,null,null,null,"© Martina Litschmannová 2011"]
["Autor:","Martina Litschmannová"]
["Email:","martina.litschmannova@vsb.cz"]
[]
["Citace:","Litschmannová, M., 2011, Úvod do statistiky, VŠB-TU Ostrava, multimediální výukový materiál vyhotoveny v rámci projektu projektu „Matematika pro inženýry 21. století -inovace výuky matematiky na technických školách v nových podmínkách rychle se vyvíjející informační a technické společnosti“ ( CZ.1.07/2.2.00/07.0332)"]
["Popis:"]
[]
[]
[]
[]
[]
[]
[]
[]
[]
["Literatura:"]

{"sheet":"Numerická proměnná","index":2,"n_rows":1737,"n_cols":35,"rows_kept":1737,"cut":false,"hidden":false,"merged":[[12,5,12,6],[31,5,31,6],[61,5,61,6],[55,5,55,6],[8,0,8,8],[31,8,31,12],[34,8,34,14]]}
["Číselné charakteristiky numerické proměnné a krabicový graf ",null,null,null,null,null,null,null,"© Martina Litschmannová 2011"]
["Postup:"]
["1. Stiskem tlačítka RESET vymažte původní data."]
["2. Zadejte nová data"]
["3. V poli F13 zadejte název proměnné."]
[]
["Poznámky: "]
["1. Výpočetní applet analyzuje výběry max. rozsahu 1700 hodnot."]
["2. Krabicový graf: Konce vousů označují minimum a maximum po odstranění odlehlých pozorování. Odlehlá pozorování jsou zobrazena \"puntíkem\", extrémní pozorování jsou zobrazena \"čtverečkem\". Zelený \"čtvrečkek označuje průměr."]
["3. Odlehlá a extrémní pozorování jsou v datech označena barevně v souladu s pozadím polí G51 a G58. "]
[]
[null,null,null,null,null,"Název proměnné",null,null,null,null,null,null,null,null,null,null,null,null,null,"Vnější hradby-dolní mez",{"$f":"G57","v":55.25},null,"Dolní vous",{"$f":"IF(Rozsah=0,0,U19)","v":77},2,null,"Odlehlá pozorování",1,{"$f":"SMALL(IF((Tabulka2[Data]<$U$13)*(Tabulka2[Data]<>\"\"),Tabulka2[Data],$U$23),AB12)","v":45},2,null,"Extrémní pozorování",1,{"$f":"SMALL(IF((Tabulka2[Data]<$U$12)*(Tabulka2[Data]<>\"\"),Tabulka2[Data],$U$23),AG12)","v":45},2]
["Data","Sloupec1","OL","OL2",null,"DATA",null,null,"Krabicové grafy",null,null,null,null,null,null,null,null,null,null,"Vnitřní hrady - dolní mez",{"$f":"G51","v":70.625},null,null,{"$f":"IF(Rozsah=0,0,U14)","v":86},2,null,null,2,{"$f":"SMALL(IF((Tabulka2[Data]<$U$13)*(Tabulka2[Data]<>\"\"),Tabulka2[Data],$U$23),AB13)","v":90.58},2,null,null,2,{"$f":"SMALL(IF((Tabulka2[Data]<$U$12)*(Tabulka2[Data]<>\"\"),Tabulka2[Data],$U$23),AG13)","v":90.58},2]
[91,null,{"$f":"IF(Tabulka2[[#This Row],[Data]]=\"\",\"\",IF(OR(Tabulka2[[#This Row],[Data]]<$G$57,Tabulka2[[#This Row],[Data]]>$G$58),2,IF(OR(Tabulka2[[#This Row],[Data]]<$G$51,Tabulka2[[#This Row],[Data]]>$G$52),1,0)))","v":0},null,null,null,null,null,null,null,null,null,null,null,null,null,null,null,null,"dolní kvartil",{"$f":"Kvartil1","v":86},null,"Horní vous",{"$f":"IF(Rozsah=0,0,U16)","v":96.25},2,null,null,3,{"$f":"SMALL(IF((Tabulka2[Data]<$U$13)*(Tabulka2[Data]<>\"\"),Tabulka2[Data],$U$23),AB14)","v":90.58},2,null,null,3,{"$f":"SMALL(IF((Tabulka2[Data]<$U$12)*(Tabulka2[Data]<>\"\"),Tabulka2[Data],$U$23),AG14)","v":90.58},2]
[95,null,{"$f":"IF(Tabulka2[[#This Row],[Data]]=\"\",\"\",IF(OR(Tabulka2[[#This Row],[Data]]<$G$57,Tabulka2[[#This Row],[Data]]>$G$58),2,IF(OR(Tabulka2[[#This Row],[Data]]<$G$51,Tabulka2[[#This Row],[Data]]>$G$52),1,0)))","v":0},null,null,"Rozsah",{"$f":"COUNTA(Tabulka2[Data])","v":100},null,null,"Data",null,null,null,null,null,null,null,null,null,"medián",{"$f":"Kvartil2","v":91},null,null,{"$f":"IF(Rozsah=0,0,U17)","v":111.625},2,null,null,4,{"$f":"SMALL(IF((Tabulka2[Data]<$U$13)*(Tabulka2[Data]<>\"\"),Tabulka2[Data],$U$23),AB15)","v":90.58},2,null,null,4,{"$f":"SMALL(IF((Tabulka2[Data]<$U$12)*(Tabulka2[Data]<>\"\"),Tabulka2[Data],$U$23),AG15)","v":90.58},2]
[94,null,{"$f":"IF(Tabulka2[[#This Row],[Data]]=\"\",\"\",IF(OR(Tabulka2[[#This Row],[Data]]<$G$57,Tabulka2[[#This Row],[Data]]>$G$58),2,IF(OR(Tabulka2[[#This Row],[Data]]<$G$51,Tabulka2[[#This Row],[Data]]>$G$52),1,0)))","v":0},null,null,null,null,null,"Vnitřní hradby - max",{"$f":"G52","v":111.625},null,null,null,null,null,null,null,null,null,"horní kvartil",{"$f":"Kvartil3","v":96.25},null,"Dno krabice",{"$f":"IF(Rozsah=0,0,U14)","v":86},1,null,null,5,{"$f":"SMALL(IF((Tabulka2[Data]<$U$13)*(Tabulka2[Data]<>\"\"),Tabulka2[Data],$U$23),AB16)","v":90.58},2,null,null,5,{"$f":"SMALL(IF((Tabulka2[Data]<$U$12)*(Tabulka2[Data]<>\"\"),Tabulka2[Data],$U$23),AG16)","v":90.58},2]
[45,null,{"$f":"IF(Tabulka2[[#This Row],[Data]]=\"\",\"\",IF(OR(Tabulka2[[#This Row],[Data]]<$G$57,Tabulka2[[#This Row],[Data]]>$G$58),2,IF(OR(Tabulka2[[#This Row],[Data]]<$G$51,Tabulka2[[#This Row],[Data]]>$G$52),1,0)))","v":2},null,null,"Průměr ",{"$f":"IF(Rozsah=0,\"\",AVERAGEA(Tabulka2[Data]))","v":90.58},null,"Horní kvartil",{"$f":"Kvartil3","v":96.25},null,null,null,null,null,null,null,null,null,"Vnitřní hrady - horní mez",{"$f":"G52","v":111.625},null,null,{"$f":"IF(Rozsah=0,0,U14)","v":86},3,null,null,6,{"$f":"SMALL(IF((Tabulka2[Data]<$U$13)*(Tabulka2[Data]<>\"\"),Tabulka2[Data],$U$23),AB17)","v":90.58},2,null,null,6,{"$f":"SMALL(IF((Tabulka2[Data]<$U$12)*(Tabulka2[Data]<>\"\"),Tabulka2[Data],$U$23),AG17)","v":90.58},2]
[97,null,{"$f":"IF(Tabulka2[[#This Row],[Data]]=\"\",\"\",IF(OR(Tabulka2[[#This Row],[Data]]<$G$57,Tabulka2[[#This Row],[Data]]>$G$58),2,IF(OR(Tabulka2[[#This Row],[Data]]<$G$51,Tabulka2[[#This Row],[Data]]>$G$52),1,0)))","v":0},null,null,null,null,null,"Medián",{"$f":"Kvartil2","v":91},null,null,null,null,null,null,null,null,null,"Vnější hradby-horní mez",{"$f":"G58","v":127},null,"Střed krabice",{"$f":"IF(Rozsah=0,0,U15)","v":91},1,null,null,7,{"$f":"SMALL(IF((Tabulka2[Data]<$U$13)*(Tabulka2[Data]<>\"\"),Tabulka2[Data],$U$23),AB18)","v":90.58},2,null,null,7,{"$f":"SMALL(IF((Tabulka2[Data]<$U$12)*(Tabulka2[Data]<>\"\"),Tabulka2[Data],$U$23),AG18)","v":90.58},2]
[91,null,{"$f":"IF(Tabulka2[[#This Row],[Data]]=\"\",\"\",IF(OR(Tabulka2[[#This Row],[Data]]<$G$57,Tabulka2[[#This Row],[Data]]>$G$58),2,IF(OR(Tabulka2[[#This Row],[Data]]<$G$51,Tabulka2[[#This Row],[Data]]>$G$52),1,0)))","v":0},null,null,"Minimum",{"$f":"IF(Rozsah=0,\"\",MIN(Tabulka2[Data]))","v":45},null,"Dolní kvartil",{"$f":"Kvartil1","v":86},null,null,null,null,null,null,null,null,null,"MIN-po odstranění odlehlých pozorování",{"$f":"IF(H51=0,G19,MIN(IF(Tabulka2[Data]>MIN(IF(AC12:AC71<=U13,AC12:AC71)),Tabulka2[Data])))","v":77},null,null,{"$f":"IF(Rozsah=0,0,U15)","v":91},3,null,null,8,{"$f":"SMALL(IF((Tabulka2[Data]<$U$13)*(Tabulka2[Data]<>\"\"),Tabulka2[Data],$U$23),AB19)","v":90.58},2,null,null,8,{"$f":"SMALL(IF((Tabulka2[Data]<$U$12)*(Tabulka2[Data]<>\"\"),Tabulka2[Data],$U$23),AG19)","v":90.58},2]
[79,null,{"$f":"IF(Tabulka2[[#This Row],[Data]]=\"\",\"\",IF(OR(Tabulka2[[#This Row],[Data]]<$G$57,Tabulka2[[#This Row],[Data]]>$G$58),2,IF(OR(Tabulka2[[#This Row],[Data]]<$G$51,Tabulka2[[#This Row],[Data]]>$G$52),1,0)))","v":0},null,null,"Dolní kvartil",{"$f":"IF(Rozsah=0,\"\",QUARTILE(Tabulka2[Data],1))","v":86},null,"Vnitřní hradby - min",{"$f":"G51","v":70.625},null,null,null,null,null,null,null,null,null,"MAX-po odstranění odlehlých pozorování",{"$f":"IF(H52=0,G23,MAX(IF(Tabulka2[Data]<MIN(IF(AC12:AC71>=U17,AC12:AC71)),Tabulka2[Data])))","v":106},null,"Víko krabice",{"$f":"IF(Rozsah=0,0,U16)","v":96.25},1,null,null,9,{"$f":"SMALL(IF((Tabulka2[Data]<$U$13)*(Tabulka2[Data]<>\"\"),Tabulka2[Data],$U$23),AB20)","v":90.58},2,null,null,9,{"$f":"SMALL(IF((Tabulka2[Data]<$U$12)*(Tabulka2[Data]<>\"\"),Tabulka2[Data],$U$23),AG20)","v":90.58},2]
[100,null,{"$f":"IF(Tabulka2[[#This Row],[Data]]=\"\",\"\",IF(OR(Tabulka2[[#This Row],[Data]]<$G$57,Tabulka2[[#This Row],[Data]]>$G$58),2,IF(OR(Tabulka2[[#This Row],[Data]]<$G$51,Tabulka2[[#This Row],[Data]]>$G$52),1,0)))","v":0},null,null,"Medián",{"$f":"IF(Rozsah=0,\"\",QUARTILE(Tabulka2[Data],2))","v":91},null,null,null,null,null,null,null,null,null,null,null,null,"Rozpětí osy x - MIN",{"$f":"G19","v":45},null,null,{"$f":"IF(Rozsah=0,0,U16)","v":96.25},3,null,null,10,{"$f":"SMALL(IF((Tabulka2[Data]<$U$13)*(Tabulka2[Data]<>\"\"),Tabulka2[Data],$U$23),AB21)","v":90.58},2,null,null,10,{"$f":"SMALL(IF((Tabulka2[Data]<$U$12)*(Tabulka2[Data]<>\"\"),Tabulka2[Data],$U$23),AG21)","v":90.58},2]
[81,null,{"$f":"IF(Tabulka2[[#This Row],[Data]]=\"\",\"\",IF(OR(Tabulka2[[#This Row],[Data]]<$G$57,Tabulka2[[#This Row],[Data]]>$G$58),2,IF(OR(Tabulka2[[#This Row],[Data]]<$G$51,Tabulka2[[#This Row],[Data]]>$G$52),1,0)))","v":0},null,null,"Horní kvartil",{"$f":"IF(Rozsah=0,\"\",QUARTILE(Tabulka2[Data],3))","v":96.25},null,"Průměr",{"$f":"G17","v":90.58},null,null,null,null,null,null,null,null,null,"Rozpětí osy x - MAX",{"$f":"G23","v":106},null,"pom1",{"$f":"IF(Rozsah=0,0,U14)","v":86},1,null,null,11,{"$f":"SMALL(IF((Tabulka2[Data]<$U$13)*(Tabulka2[Data]<>\"\"),Tabulka2[Data],$U$23),AB22)","v":90.58},2,null,null,11,{"$f":"SMALL(IF((Tabulka2[Data]<$U$12)*(Tabulka2[Data]<>\"\"),Tabulka2[Data],$U$23),AG22)","v":90.58},2]
[89,null,{"$f":"IF(Tabulka2[[#This Row],[Data]]=\"\",\"\",IF(OR(Tabulka2[[#This Row],[Data]]<$G$57,Tabulka2[[#This Row],[Data]]>$G$58),2,IF(OR(Tabulka2[[#This Row],[Data]]<$G$51,Tabulka2[[#This Row],[Data]]>$G$52),1,0)))","v":0},null,null,"Maximum",{"$f":"IF(Rozsah=0,\"\",MAX(Tabulka2[Data]))","v":106},null,null,null,null,null,null,null,null,null,null,null,null,"Průměr",{"$f":"G17","v":90.58},null,null,{"$f":"IF(Rozsah=0,0,U16)","v":96.25},1,null,null,12,{"$f":"SMALL(IF((Tabulka2[Data]<$U$13)*(Tabulka2[Data]<>\"\"),Tabulka2[Data],$U$23),AB23)","v":90.58},2,null,null,12,{"$f":"SMALL(IF((Tabulka2[Data]<$U$12)*(Tabulka2[Data]<>\"\"),Tabulka2[Data],$U$23),AG23)","v":90.58},2]
[92,null,{"$f":"IF(Tabulka2[[#This Row],[Data]]=\"\",\"\",IF(OR(Tabulka2[[#This Row],[Data]]<$G$57,Tabulka2[[#This Row],[Data]]>$G$58),2,IF(OR(Tabulka2[[#This Row],[Data]]<$G$51,Tabulka2[[#This Row],[Data]]>$G$52),1,0)))","v":0},null,null,null,null,null,"Délka dolního vousu",{"$f":"IF(Rozsah=0,\"\",J19-J20)","v":15.375},null,null,null,null,null,null,null,null,null,null,null,null,"pom2",{"$f":"IF(Rozsah=0,0,U14)","v":86},3,null,null,13,{"$f":"SMALL(IF((Tabulka2[Data]<$U$13)*(Tabulka2[Data]<>\"\"),Tabulka2[Data],$U$23),AB24)","v":90.58},2,null,null,13,{"$f":"SMALL(IF((Tabulka2[Data]<$U$12)*(Tabulka2[Data]<>\"\"),Tabulka2[Data],$U$23),AG24)","v":90.58},2]
[82,null,{"$f":"IF(Tabulka2[[#This Row],[Data]]=\"\",\"\",IF(OR(Tabulka2[[#This Row],[Data]]<$G$57,Tabulka2[[#This Row],[Data]]>$G$58),2,IF(OR(Tabulka2[[#This Row],[Data]]<$G$51,Tabulka2[[#This Row],[Data]]>$G$52),1,0)))","v":0},null,null,"Rozptyl",{"$f":"IF(Rozsah=0,\"\",VAR(Tabulka2[Data]))","v":62.427878787878797},null,"Délka prvního segmentu",{"$f":"J19","v":86},null,null,null,null,null,null,null,null,null,null,null,null,null,{"$f":"IF(Rozsah=0,0,U16)","v":96.25},3,null,null,14,{"$f":"SMALL(IF((Tabulka2[Data]<$U$13)*(Tabulka2[Data]<>\"\"),Tabulka2[Data],$U$23),AB25)","v":90.58},2,null,null,14,{"$f":"SMALL(IF((Tabulka2[Data]<$U$12)*(Tabulka2[Data]<>\"\"),Tabulka2[Data],$U$23),AG25)","v":90.58},2]
[100,null,{"$f":"IF(Tabulka2[[#This Row],[Data]]=\"\",\"\",IF(OR(Tabulka2[[#This Row],[Data]]<$G$57,Tabulka2[[#This Row],[Data]]>$G$58),2,IF(OR(Tabulka2[[#This Row],[Data]]<$G$51,Tabulka2[[#This Row],[Data]]>$G$52),1,0)))","v":0},null,null,"Směrodatná odchylka",{"$f":"IF(Rozsah=0,\"\",STDEV(Tabulka2[Data]))","v":7.9011314878236769},null,"Délka druhého segmentu",{"$f":"IF(Rozsah=0,\"\",J18-J19)","v":5},null,null,null,null,null,null,null,null,null,null,null,null,"Min grafu",{"$f":"IF(Rozsah=0,0,IF(U21=0,-10,IF(U21>0,0.9*U21,1.1*U21)))","v":40.5},1,null,null,15,{"$f":"SMALL(IF((Tabulka2[Data]<$U$13)*(Tabulka2[Data]<>\"\"),Tabulka2[Data],$U$23),AB26)","v":90.58},2,null,null,15,{"$f":"SMALL(IF((Tabulka2[Data]<$U$12)*(Tabulka2[Data]<>\"\"),Tabulka2[Data],$U$23),AG26)","v":90.58},2]
[87,null,{"$f":"IF(Tabulka2[[#This Row],[Data]]=\"\",\"\",IF(OR(Tabulka2[[#This Row],[Data]]<$G$57,Tabulka2[[#This Row],[Data]]>$G$58),2,IF(OR(Tabulka2[[#This Row],[Data]]<$G$51,Tabulka2[[#This Row],[Data]]>$G$52),1,0)))","v":0},null,null,"Variační koeficient",{"$f":"IF(Rozsah=0,\"\",IF(SUM(Tabulka2[Sloupec1])=0,G26/G17,\"\"))","v":8.7228212495293403E-2},null,"Délka třetího segmentu",{"$f":"IF(Rozsah=0,\"\",J17-J18)","v":5.25},null,null,null,null,null,null,null,null,null,null,null,null,"Max grafu",{"$f":"IF(Rozsah=0,0,IF(U22=0,10,IF(U22<0,0.9*U22,1.1*U22)))","v":116.60000000000001},1,null,null,16,{"$f":"SMALL(IF((Tabulka2[Data]<$U$13)*(Tabulka2[Data]<>\"\"),Tabulka2[Data],$U$23),AB27)","v":90.58},2,null,null,16,{"$f":"SMALL(IF((Tabulka2[Data]<$U$12)*(Tabulka2[Data]<>\"\"),Tabulka2[Data],$U$23),AG27)","v":90.58},2]
[92,null,{"$f":"IF(Tabulka2[[#This Row],[Data]]=\"\",\"\",IF(OR(Tabulka2[[#This Row],[Data]]<$G$57,Tabulka2[[#This Row],[Data]]>$G$58),2,IF(OR(Tabulka2[[#This Row],[Data]]<$G$51,Tabulka2[[#This Row],[Data]]>$G$52),1,0)))","v":0},null,null,null,null,null,"Délka horního vousu",{"$f":"IF(Rozsah=0,\"\",J16-J17)","v":15.375},null,null,null,null,null,null,null,null,null,null,null,null,"Průměr",{"$f":"IF(Rozsah=0,0,U23)","v":90.58},2,null,null,17,{"$f":"SMALL(IF((Tabulka2[Data]<$U$13)*(Tabulka2[Data]<>\"\"),Tabulka2[Data],$U$23),AB28)","v":90.58},2,null,null,17,{"$f":"SMALL(IF((Tabulka2[Data]<$U$12)*(Tabulka2[Data]<>\"\"),Tabulka2[Data],$U$23),AG28)","v":90.58},2]
[94,null,{"$f":"IF(Tabulka2[[#This Row],[Data]]=\"\",\"\",IF(OR(Tabulka2[[#This Row],[Data]]<$G$57,Tabulka2[[#This Row],[Data]]>$G$58),2,IF(OR(Tabulka2[[#This Row],[Data]]<$G$51,Tabulka2[[#This Row],[Data]]>$G$52),1,0)))","v":0},null,null,"Šikmost",{"$f":"IF(Rozsah=0,\"\",SKEW(Tabulka2[Data]))","v":-1.8046803090801813},null,null,null,null,null,null,null,null,null,null,null,null,null,null,null,null,null,null,null,null,18,{"$f":"SMALL(IF((Tabulka2[Data]<$U$13)*(Tabulka2[Data]<>\"\"),Tabulka2[Data],$U$23),AB29)","v":90.58},2,null,null,18,{"$f":"SMALL(IF((Tabulka2[Data]<$U$12)*(Tabulka2[Data]<>\"\"),Tabulka2[Data],$U$23),AG29)","v":90.58},2]
[86,null,{"$f":"IF(Tabulka2[[#This Row],[Data]]=\"\",\"\",IF(OR(Tabulka2[[#This Row],[Data]]<$G$57,Tabulka2[[#This Row],[Data]]>$G$58),2,IF(OR(Tabulka2[[#This Row],[Data]]<$G$51,Tabulka2[[#This Row],[Data]]>$G$52),1,0)))","v":0},null,null,"Špičatost",{"$f":"IF(Rozsah=0,\"\",KURT(Tabulka2[Data]))","v":9.8805108044693775},null,null,null,null,null,null,null,null,null,null,null,null,null,null,null,null,null,null,null,null,19,{"$f":"SMALL(IF((Tabulka2[Data]<$U$13)*(Tabulka2[Data]<>\"\"),Tabulka2[Data],$U$23),AB30)","v":90.58},2,null,null,19,{"$f":"SMALL(IF((Tabulka2[Data]<$U$12)*(Tabulka2[Data]<>\"\"),Tabulka2[Data],$U$23),AG30)","v":90.58},2]
[98,null,{"$f":"IF(Tabulka2[[#This Row],[Data]]=\"\",\"\",IF(OR(Tabulka2[[#This Row],[Data]]<$G$57,Tabulka2[[#This Row],[Data]]>$G$58),2,IF(OR(Tabulka2[[#This Row],[Data]]<$G$51,Tabulka2[[#This Row],[Data]]>$G$52),1,0)))","v":0},null,null,null,null,null,null,null,null,null,null,null,null,null,null,null,null,null,null,null,null,null,null,null,null,20,{"$f":"SMALL(IF((Tabulka2[Data]<$U$13)*(Tabulka2[Data]<>\"\"),Tabulka2[Data],$U$23),AB31)","v":90.58},2,null,null,20,{"$f":"SMALL(IF((Tabulka2[Data]<$U$12)*(Tabulka2[Data]<>\"\"),Tabulka2[Data],$U$23),AG31)","v":90.58},2]
[104,null,{"$f":"IF(Tabulka2[[#This Row],[Data]]=\"\",\"\",IF(OR(Tabulka2[[#This Row],[Data]]<$G$57,Tabulka2[[#This Row],[Data]]>$G$58),2,IF(OR(Tabulka2[[#This Row],[Data]]<$G$51,Tabulka2[[#This Row],[Data]]>$G$52),1,0)))","v":0},null,null,"Klasický odhad střední hodnoty",null,null,"Test normality (Kombinovaý test na základě šikmosti a špičatosti)",null,null,null,null,null,null,null,null,null,null,null,null,null,null,null,null,null,null,21,{"$f":"SMALL(IF((Tabulka2[Data]<$U$13)*(Tabulka2[Data]<>\"\"),Tabulka2[Data],$U$23),AB32)","v":90.58},2,null,null,21,{"$f":"SMALL(IF((Tabulka2[Data]<$U$12)*(Tabulka2[Data]<>\"\"),Tabulka2[Data],$U$23),AG32)","v":90.58},2]
[88,null,{"$f":"IF(Tabulka2[[#This Row],[Data]]=\"\",\"\",IF(OR(Tabulka2[[#This Row],[Data]]<$G$57,Tabulka2[[#This Row],[Data]]>$G$58),2,IF(OR(Tabulka2[[#This Row],[Data]]<$G$51,Tabulka2[[#This Row],[Data]]>$G$52),1,0)))","v":0},null,null,null,null,null,null,null,null,null,null,null,null,null,null,null,null,null,null,null,null,null,null,null,null,22,{"$f":"SMALL(IF((Tabulka2[Data]<$U$13)*(Tabulka2[Data]<>\"\"),Tabulka2[Data],$U$23),AB33)","v":90.58},2,null,null,22,{"$f":"SMALL(IF((Tabulka2[Data]<$U$12)*(Tabulka2[Data]<>\"\"),Tabulka2[Data],$U$23),AG33)","v":90.58},2]
[97,null,{"$f":"IF(Tabulka2[[#This Row],[Data]]=\"\",\"\",IF(OR(Tabulka2[[#This Row],[Data]]<$G$57,Tabulka2[[#This Row],[Data]]>$G$58),2,IF(OR(Tabulka2[[#This Row],[Data]]<$G$51,Tabulka2[[#This Row],[Data]]>$G$52),1,0)))","v":0},null,null,"Průměr",{"$f":"IF(Rozsah=0,\"\",AVERAGEA(Tabulka2[Data]))","v":90.58},null,"Hladina významnosti",0.01,null,null,null,null,null,null,null,null,null,null,null,null,null,null,null,null,null,23,{"$f":"SMALL(IF((Tabulka2[Data]<$U$13)*(Tabulka2[Data]<>\"\"),Tabulka2[Data],$U$23),AB34)","v":90.58},2,null,null,23,{"$f":"SMALL(IF((Tabulka2[Data]<$U$12)*(Tabulka2[Data]<>\"\"),Tabulka2[Data],$U$23),AG34)","v":90.58},2]
[81,null,{"$f":"IF(Tabulka2[[#This Row],[Data]]=\"\",\"\",IF(OR(Tabulka2[[#This Row],[Data]]<$G$57,Tabulka2[[#This Row],[Data]]>$G$58),2,IF(OR(Tabulka2[[#This Row],[Data]]<$G$51,Tabulka2[[#This Row],[Data]]>$G$52),1,0)))","v":0},null,null,"Dolní mez intervalového odhadu střední hodnoty (95%)  ",{"$f":"IF(Rozsah=0,\"\",G17-TINV(0.05,Rozsah-1)*G26/SQRT(Rozsah))","v":89.012244096514706},null,{"$f":"'Test normality'!A11","v":"Na hladině významnosti 0,01 zamítáme předpoklad o normalitě výběru (p-hodnota<<<0,001)."},null,null,null,null,null,null,null,null,null,null,null,null,null,null,null,null,null,null,24,{"$f":"SMALL(IF((Tabulka2[Data]<$U$13)*(Tabulka2[Data]<>\"\"),Tabulka2[Data],$U$23),AB35)","v":90.58},2,null,null,24,{"$f":"SMALL(IF((Tabulka2[Data]<$U$12)*(Tabulka2[Data]<>\"\"),Tabulka2[Data],$U$23),AG35)","v":90.58},2]
[92,null,{"$f":"IF(Tabulka2[[#This Row],[Data]]=\"\",\"\",IF(OR(Tabulka2[[#This Row],[Data]]<$G$57,Tabulka2[[#This Row],[Data]]>$G$58),2,IF(OR(Tabulka2[[#This Row],[Data]]<$G$51,Tabulka2[[#This Row],[Data]]>$G$52),1,0)))","v":0},null,null,"Horní mez intervalového odhadu střední hodnoty (95%) ",{"$f":"IF(Rozsah=0,\"\",G17+TINV(0.05,(Rozsah-1))*G26/SQRT(Rozsah))","v":92.14775590348529},null,null,null,null,null,null,null,null,null,null,null,null,null,null,null,null,null,null,null,null,25,{"$f":"SMALL(IF((Tabulka2[Data]<$U$13)*(Tabulka2[Data]<>\"\"),Tabulka2[Data],$U$23),AB36)","v":90.58},2,null,null,25,{"$f":"SMALL(IF((Tabulka2[Data]<$U$12)*(Tabulka2[Data]<>\"\"),Tabulka2[Data],$U$23),AG36)","v":90.58},2]
[88,null,{"$f":"IF(Tabulka2[[#This Row],[Data]]=\"\",\"\",IF(OR(Tabulka2[[#This Row],[Data]]<$G$57,Tabulka2[[#This Row],[Data]]>$G$58),2,IF(OR(Tabulka2[[#This Row],[Data]]<$G$51,Tabulka2[[#This Row],[Data]]>$G$52),1,0)))","v":0},null,null,null,null,null,null,null,null,null,null,null,null,null,null,null,null,null,null,null,null,null,null,null,null,26,{"$f":"SMALL(IF((Tabulka2[Data]<$U$13)*(Tabulka2[Data]<>\"\"),Tabulka2[Data],$U$23),AB37)","v":90.58},2,null,null,26,{"$f":"SMALL(IF((Tabulka2[Data]<$U$12)*(Tabulka2[Data]<>\"\"),Tabulka2[Data],$U$23),AG37)","v":90.58},2]
[94,null,{"$f":"IF(Tabulka2[[#This Row],[Data]]=\"\",\"\",IF(OR(Tabulka2[[#This Row],[Data]]<$G$57,Tabulka2[[#This Row],[Data]]>$G$58),2,IF(OR(Tabulka2[[#This Row],[Data]]<$G$51,Tabulka2[[#This Row],[Data]]>$G$52),1,0)))","v":0},null,null,"Robustní odhad střední hodnoty",null,null,null,null,null,null,null,null,null,null,null,null,null,null,null,null,null,null,null,null,null,27,{"$f":"SMALL(IF((Tabulka2[Data]<$U$13)*(Tabulka2[Data]<>\"\"),Tabulka2[Data],$U$23),AB38)","v":90.58},2,null,null,27,{"$f":"SMALL(IF((Tabulka2[Data]<$U$12)*(Tabulka2[Data]<>\"\"),Tabulka2[Data],$U$23),AG38)","v":90.58},2]
[101,null,{"$f":"IF(Tabulka2[[#This Row],[Data]]=\"\",\"\",IF(OR(Tabulka2[[#This Row],[Data]]<$G$57,Tabulka2[[#This Row],[Data]]>$G$58),2,IF(OR(Tabulka2[[#This Row],[Data]]<$G$51,Tabulka2[[#This Row],[Data]]>$G$52),1,0)))","v":0},null,null,null,null,null,null,null,null,null,null,null,null,null,null,null,null,null,null,null,null,null,null,null,null,28,{"$f":"SMALL(IF((Tabulka2[Data]<$U$13)*(Tabulka2[Data]<>\"\"),Tabulka2[Data],$U$23),AB39)","v":90.58},2,null,null,28,{"$f":"SMALL(IF((Tabulka2[Data]<$U$12)*(Tabulka2[Data]<>\"\"),Tabulka2[Data],$U$23),AG39)","v":90.58},2]
[91,null,{"$f":"IF(Tabulka2[[#This Row],[Data]]=\"\",\"\",IF(OR(Tabulka2[[#This Row],[Data]]<$G$57,Tabulka2[[#This Row],[Data]]>$G$58),2,IF(OR(Tabulka2[[#This Row],[Data]]<$G$51,Tabulka2[[#This Row],[Data]]>$G$52),1,0)))","v":0},null,null,"Medián ",{"$f":"IF(Rozsah=0,\"\",Kvartil2)","v":91},null,null,null,null,null,null,null,null,null,null,null,null,null,null,null,null,null,null,null,null,29,{"$f":"SMALL(IF((Tabulka2[Data]<$U$13)*(Tabulka2[Data]<>\"\"),Tabulka2[Data],$U$23),AB40)","v":90.58},2,null,null,29,{"$f":"SMALL(IF((Tabulka2[Data]<$U$12)*(Tabulka2[Data]<>\"\"),Tabulka2[Data],$U$23),AG40)","v":90.58},2]
[91,null,{"$f":"IF(Tabulka2[[#This Row],[Data]]=\"\",\"\",IF(OR(Tabulka2[[#This Row],[Data]]<$G$57,Tabulka2[[#This Row],[Data]]>$G$58),2,IF(OR(Tabulka2[[#This Row],[Data]]<$G$51,Tabulka2[[#This Row],[Data]]>$G$52),1,0)))","v":0},null,null,"Dolní mez intervalového odhadu mediánu (95%) ",{"$f":"IF(Rozsah=0,\"\",Kvartil2-1.57*(Kvartil3-Kvartil1)/SQRT(Rozsah))","v":89.390749999999997},null,null,null,null,null,null,null,null,null,null,null,null,null,null,null,null,null,null,null,null,30,{"$f":"SMALL(IF((Tabulka2[Data]<$U$13)*(Tabulka2[Data]<>\"\"),Tabulka2[Data],$U$23),AB41)","v":90.58},2,null,null,30,{"$f":"SMALL(IF((Tabulka2[Data]<$U$12)*(Tabulka2[Data]<>\"\"),Tabulka2[Data],$U$23),AG41)","v":90.58},2]
[93,null,{"$f":"IF(Tabulka2[[#This Row],[Data]]=\"\",\"\",IF(OR(Tabulka2[[#This Row],[Data]]<$G$57,Tabulka2[[#This Row],[Data]]>$G$58),2,IF(OR(Tabulka2[[#This Row],[Data]]<$G$51,Tabulka2[[#This Row],[Data]]>$G$52),1,0)))","v":0},null,null,"Horní mez intervalového odhadu mediánu (95%) ",{"$f":"IF(Rozsah=0,\"\",Kvartil2+1.57*(Kvartil3-Kvartil1)/SQRT(Rozsah))","v":92.609250000000003},null,null,null,null,null,null,null,null,null,null,null,null,null,null,null,null,null,null,null,null,1,{"$f":"SMALL(IF((Tabulka2[Data]<$U$13)*(Tabulka2[Data]<>\"\"),Tabulka2[Data],$U$23),AB42)","v":45},2,null,null,1,{"$f":"LARGE(IF((Tabulka2[Data]>$U$18)*(Tabulka2[Data]<>\"\"),Tabulka2[Data],$U$23),AG42)","v":90.58},2]
[89,null,{"$f":"IF(Tabulka2[[#This Row],[Data]]=\"\",\"\",IF(OR(Tabulka2[[#This Row],[Data]]<$G$57,Tabulka2[[#This Row],[Data]]>$G$58),2,IF(OR(Tabulka2[[#This Row],[Data]]<$G$51,Tabulka2[[#This Row],[Data]]>$G$52),1,0)))","v":0},null,null,null,null,null,null,null,null,null,null,null,null,null,null,null,null,null,null,null,null,null,null,null,null,2,{"$f":"SMALL(IF((Tabulka2[Data]<$U$13)*(Tabulka2[Data]<>\"\"),Tabulka2[Data],$U$23),AB43)","v":90.58},2,null,null,2,{"$f":"LARGE(IF((Tabulka2[Data]>$U$18)*(Tabulka2[Data]<>\"\"),Tabulka2[Data],$U$23),AG43)","v":90.58},2]
[87,null,{"$f":"IF(Tabulka2[[#This Row],[Data]]=\"\",\"\",IF(OR(Tabulka2[[#This Row],[Data]]<$G$57,Tabulka2[[#This Row],[Data]]>$G$58),2,IF(OR(Tabulka2[[#This Row],[Data]]<$G$51,Tabulka2[[#This Row],[Data]]>$G$52),1,0)))","v":0},null,null,"Gastwirthův medián ",{"$f":"IF(Rozsah=0,\"\",0.4*G21+0.3*(PERCENTILE(Tabulka2[Data],0.33)+PERCENTILE(Tabulka2[Data],0.67)))","v":90.699999999999989},null,null,null,null,null,null,null,null,null,null,null,null,null,null,null,null,null,null,null,null,3,{"$f":"SMALL(IF((Tabulka2[Data]<$U$13)*(Tabulka2[Data]<>\"\"),Tabulka2[Data],$U$23),AB44)","v":90.58},2,null,null,3,{"$f":"LARGE(IF((Tabulka2[Data]>$U$18)*(Tabulka2[Data]<>\"\"),Tabulka2[Data],$U$23),AG44)","v":90.58},2]
[85,null,{"$f":"IF(Tabulka2[[#This Row],[Data]]=\"\",\"\",IF(OR(Tabulka2[[#This Row],[Data]]<$G$57,Tabulka2[[#This Row],[Data]]>$G$58),2,IF(OR(Tabulka2[[#This Row],[Data]]<$G$51,Tabulka2[[#This Row],[Data]]>$G$52),1,0)))","v":0},null,null,"Dolní mez intervalového odhadu střední hodnoty (95%) ",{"$f":"IF(Rozsah=0,\"\",G44-1.57*(Kvartil3-Kvartil1)/SQRT(G15))","v":89.090749999999986},null,null,null,null,null,null,null,null,null,null,null,null,null,null,null,null,null,null,null,null,4,{"$f":"SMALL(IF((Tabulka2[Data]<$U$13)*(Tabulka2[Data]<>\"\"),Tabulka2[Data],$U$23),AB45)","v":90.58},2,null,null,4,{"$f":"LARGE(IF((Tabulka2[Data]>$U$18)*(Tabulka2[Data]<>\"\"),Tabulka2[Data],$U$23),AG45)","v":90.58},2]
[87,null,{"$f":"IF(Tabulka2[[#This Row],[Data]]=\"\",\"\",IF(OR(Tabulka2[[#This Row],[Data]]<$G$57,Tabulka2[[#This Row],[Data]]>$G$58),2,IF(OR(Tabulka2[[#This Row],[Data]]<$G$51,Tabulka2[[#This Row],[Data]]>$G$52),1,0)))","v":0},null,null,"Horní mez intervalového odhadu střední hodnoty (95%) ",{"$f":"IF(Rozsah=0,\"\",G44+1.57*(Kvartil3-Kvartil1)/SQRT(G15))","v":92.309249999999992},null,null,null,null,null,null,null,null,null,null,null,null,null,null,null,null,null,null,null,null,5,{"$f":"SMALL(IF((Tabulka2[Data]<$U$13)*(Tabulka2[Data]<>\"\"),Tabulka2[Data],$U$23),AB46)","v":90.58},2,null,null,5,{"$f":"LARGE(IF((Tabulka2[Data]>$U$18)*(Tabulka2[Data]<>\"\"),Tabulka2[Data],$U$23),AG46)","v":90.58},2]
[95,null,{"$f":"IF(Tabulka2[[#This Row],[Data]]=\"\",\"\",IF(OR(Tabulka2[[#This Row],[Data]]<$G$57,Tabulka2[[#This Row],[Data]]>$G$58),2,IF(OR(Tabulka2[[#This Row],[Data]]<$G$51,Tabulka2[[#This Row],[Data]]>$G$52),1,0)))","v":0},null,null,null,null,null,null,null,null,null,null,null,null,null,null,null,null,null,null,null,null,null,null,null,null,6,{"$f":"SMALL(IF((Tabulka2[Data]<$U$13)*(Tabulka2[Data]<>\"\"),Tabulka2[Data],$U$23),AB47)","v":90.58},2,null,null,6,{"$f":"LARGE(IF((Tabulka2[Data]>$U$18)*(Tabulka2[Data]<>\"\"),Tabulka2[Data],$U$23),AG47)","v":90.58},2]
[84,null,{"$f":"IF(Tabulka2[[#This Row],[Data]]=\"\",\"\",IF(OR(Tabulka2[[#This Row],[Data]]<$G$57,Tabulka2[[#This Row],[Data]]>$G$58),2,IF(OR(Tabulka2[[#This Row],[Data]]<$G$51,Tabulka2[[#This Row],[Data]]>$G$52),1,0)))","v":0},null,null,"Identifikace odlehlých pozorování",null,null,null,null,null,null,null,null,null,null,null,null,null,null,null,null,null,null,null,null,null,7,{"$f":"SMALL(IF((Tabulka2[Data]<$U$13)*(Tabulka2[Data]<>\"\"),Tabulka2[Data],$U$23),AB48)","v":90.58},2,null,null,7,{"$f":"LARGE(IF((Tabulka2[Data]>$U$18)*(Tabulka2[Data]<>\"\"),Tabulka2[Data],$U$23),AG48)","v":90.58},2]
[91,null,{"$f":"IF(Tabulka2[[#This Row],[Data]]=\"\",\"\",IF(OR(Tabulka2[[#This Row],[Data]]<$G$57,Tabulka2[[#This Row],[Data]]>$G$58),2,IF(OR(Tabulka2[[#This Row],[Data]]<$G$51,Tabulka2[[#This Row],[Data]]>$G$52),1,0)))","v":0},null,null,null,null,null,null,null,null,null,null,null,null,null,null,null,null,null,null,null,null,null,null,null,null,8,{"$f":"SMALL(IF((Tabulka2[Data]<$U$13)*(Tabulka2[Data]<>\"\"),Tabulka2[Data],$U$23),AB49)","v":90.58},2,null,null,8,{"$f":"LARGE(IF((Tabulka2[Data]>$U$18)*(Tabulka2[Data]<>\"\"),Tabulka2[Data],$U$23),AG49)","v":90.58},2]
[98,null,{"$f":"IF(Tabulka2[[#This Row],[Data]]=\"\",\"\",IF(OR(Tabulka2[[#This Row],[Data]]<$G$57,Tabulka2[[#This Row],[Data]]>$G$58),2,IF(OR(Tabulka2[[#This Row],[Data]]<$G$51,Tabulka2[[#This Row],[Data]]>$G$52),1,0)))","v":0},null,null,"Vnitřní hradby",null,null,null,null,null,null,null,null,null,null,null,null,null,null,null,null,null,null,null,null,null,9,{"$f":"SMALL(IF((Tabulka2[Data]<$U$13)*(Tabulka2[Data]<>\"\"),Tabulka2[Data],$U$23),AB50)","v":90.58},2,null,null,9,{"$f":"LARGE(IF((Tabulka2[Data]>$U$18)*(Tabulka2[Data]<>\"\"),Tabulka2[Data],$U$23),AG50)","v":90.58},2]
[97,null,{"$f":"IF(Tabulka2[[#This Row],[Data]]=\"\",\"\",IF(OR(Tabulka2[[#This Row],[Data]]<$G$57,Tabulka2[[#This Row],[Data]]>$G$58),2,IF(OR(Tabulka2[[#This Row],[Data]]<$G$51,Tabulka2[[#This Row],[Data]]>$G$52),1,0)))","v":0},null,null,"Dolní mez ",{"$f":"IF(Rozsah=0,\"\",Kvartil1-1.5*(Kvartil3-Kvartil1))","v":70.625},{"$f":"COUNT(IF((Tabulka2[Data]<$G$51)*(Tabulka2[Data]<>\"\"),Tabulka2[Data]))","v":1},null,null,null,null,null,null,null,null,null,null,null,null,null,null,null,null,null,null,null,10,{"$f":"SMALL(IF((Tabulka2[Data]<$U$13)*(Tabulka2[Data]<>\"\"),Tabulka2[Data],$U$23),AB51)","v":90.58},2,null,null,10,{"$f":"LARGE(IF((Tabulka2[Data]>$U$18)*(Tabulka2[Data]<>\"\"),Tabulka2[Data],$U$23),AG51)","v":90.58},2]
[85,null,{"$f":"IF(Tabulka2[[#This Row],[Data]]=\"\",\"\",IF(OR(Tabulka2[[#This Row],[Data]]<$G$57,Tabulka2[[#This Row],[Data]]>$G$58),2,IF(OR(Tabulka2[[#This Row],[Data]]<$G$51,Tabulka2[[#This Row],[Data]]>$G$52),1,0)))","v":0},null,null,"Horní mez ",{"$f":"IF(Rozsah=0,\"\",Kvartil3+1.5*(Kvartil3-Kvartil1))","v":111.625},{"$f":"COUNT(IF((Tabulka2[Data]>$G$52)*(Tabulka2[Data]<>\"\"),Tabulka2[Data]))","v":0},null,null,null,null,null,null,null,null,null,null,null,null,null,null,null,null,null,null,null,11,{"$f":"SMALL(IF((Tabulka2[Data]<$U$13)*(Tabulka2[Data]<>\"\"),Tabulka2[Data],$U$23),AB52)","v":90.58},2,null,null,11,{"$f":"LARGE(IF((Tabulka2[Data]>$U$18)*(Tabulka2[Data]<>\"\"),Tabulka2[Data],$U$23),AG52)","v":90.58},2]
[90,null,{"$f":"IF(Tabulka2[[#This Row],[Data]]=\"\",\"\",IF(OR(Tabulka2[[#This Row],[Data]]<$G$57,Tabulka2[[#This Row],[Data]]>$G$58),2,IF(OR(Tabulka2[[#This Row],[Data]]<$G$51,Tabulka2[[#This Row],[Data]]>$G$52),1,0)))","v":0},null,null,null,null,null,null,null,null,null,null,null,null,null,null,null,null,null,null,null,null,null,null,null,null,12,{"$f":"SMALL(IF((Tabulka2[Data]<$U$13)*(Tabulka2[Data]<>\"\"),Tabulka2[Data],$U$23),AB53)","v":90.58},2,null,null,12,{"$f":"LARGE(IF((Tabulka2[Data]>$U$18)*(Tabulka2[Data]<>\"\"),Tabulka2[Data],$U$23),AG53)","v":90.58},2]
[91,null,{"$f":"IF(Tabulka2[[#This Row],[Data]]=\"\",\"\",IF(OR(Tabulka2[[#This Row],[Data]]<$G$57,Tabulka2[[#This Row],[Data]]>$G$58),2,IF(OR(Tabulka2[[#This Row],[Data]]<$G$51,Tabulka2[[#This Row],[Data]]>$G$52),1,0)))","v":0},null,null,"Počet odlehlých pozorování",{"$f":"IF(Rozsah=0,\"\",Rozsah-COUNT(IF((Tabulka2[Data]<>\"\")*(Tabulka2[Data]>=$G$51)*(Tabulka2[Data]<=$G$52),Tabulka2[Data])))","v":1},null,null,null,null,null,null,null,null,null,null,null,null,null,null,null,null,null,null,null,null,13,{"$f":"SMALL(IF((Tabulka2[Data]<$U$13)*(Tabulka2[Data]<>\"\"),Tabulka2[Data],$U$23),AB54)","v":90.58},2,null,null,13,{"$f":"LARGE(IF((Tabulka2[Data]>$U$18)*(Tabulka2[Data]<>\"\"),Tabulka2[Data],$U$23),AG54)","v":90.58},2]
[95,null,{"$f":"IF(Tabulka2[[#This Row],[Data]]=\"\",\"\",IF(OR(Tabulka2[[#This Row],[Data]]<$G$57,Tabulka2[[#This Row],[Data]]>$G$58),2,IF(OR(Tabulka2[[#This Row],[Data]]<$G$51,Tabulka2[[#This Row],[Data]]>$G$52),1,0)))","v":0},null,null,null,null,null,null,null,null,null,null,null,null,null,null,null,null,null,null,null,null,null,null,null,null,14,{"$f":"SMALL(IF((Tabulka2[Data]<$U$13)*(Tabulka2[Data]<>\"\"),Tabulka2[Data],$U$23),AB55)","v":90.58},2,null,null,14,{"$f":"LARGE(IF((Tabulka2[Data]>$U$18)*(Tabulka2[Data]<>\"\"),Tabulka2[Data],$U$23),AG55)","v":90.58},2]
[101,null,{"$f":"IF(Tabulka2[[#This Row],[Data]]=\"\",\"\",IF(OR(Tabulka2[[#This Row],[Data]]<$G$57,Tabulka2[[#This Row],[Data]]>$G$58),2,IF(OR(Tabulka2[[#This Row],[Data]]<$G$51,Tabulka2[[#This Row],[Data]]>$G$52),1,0)))","v":0},null,null,"Vnější hradby",null,null,null,null,null,null,null,null,null,null,null,null,null,null,null,null,null,null,null,null,null,15,{"$f":"SMALL(IF((Tabulka2[Data]<$U$13)*(Tabulka2[Data]<>\"\"),Tabulka2[Data],$U$23),AB56)","v":90.58},2,null,null,15,{"$f":"LARGE(IF((Tabulka2[Data]>$U$18)*(Tabulka2[Data]<>\"\"),Tabulka2[Data],$U$23),AG56)","v":90.58},2]
[96,null,{"$f":"IF(Tabulka2[[#This Row],[Data]]=\"\",\"\",IF(OR(Tabulka2[[#This Row],[Data]]<$G$57,Tabulka2[[#This Row],[Data]]>$G$58),2,IF(OR(Tabulka2[[#This Row],[Data]]<$G$51,Tabulka2[[#This Row],[Data]]>$G$52),1,0)))","v":0},null,null,"Dolní mez ",{"$f":"IF(Rozsah=0,\"\",Kvartil1-3*(Kvartil3-Kvartil1))","v":55.25},null,null,null,null,null,null,null,null,null,null,null,null,null,null,null,null,null,null,null,null,16,{"$f":"SMALL(IF((Tabulka2[Data]<$U$13)*(Tabulka2[Data]<>\"\"),Tabulka2[Data],$U$23),AB57)","v":90.58},2,null,null,16,{"$f":"LARGE(IF((Tabulka2[Data]>$U$18)*(Tabulka2[Data]<>\"\"),Tabulka2[Data],$U$23),AG57)","v":90.58},2]
[86,null,{"$f":"IF(Tabulka2[[#This Row],[Data]]=\"\",\"\",IF(OR(Tabulka2[[#This Row],[Data]]<$G$57,Tabulka2[[#This Row],[Data]]>$G$58),2,IF(OR(Tabulka2[[#This Row],[Data]]<$G$51,Tabulka2[[#This Row],[Data]]>$G$52),1,0)))","v":0},null,null,"Horní mez ",{"$f":"IF(Rozsah=0,\"\",Kvartil3+3*(Kvartil3-Kvartil1))","v":127},null,null,null,null,null,null,null,null,null,null,null,null,null,null,null,null,null,null,null,null,17,{"$f":"SMALL(IF((Tabulka2[Data]<$U$13)*(Tabulka2[Data]<>\"\"),Tabulka2[Data],$U$23),AB58)","v":90.58},2,null,null,17,{"$f":"LARGE(IF((Tabulka2[Data]>$U$18)*(Tabulka2[Data]<>\"\"),Tabulka2[Data],$U$23),AG58)","v":90.58},2]
[93,null,{"$f":"IF(Tabulka2[[#This Row],[Data]]=\"\",\"\",IF(OR(Tabulka2[[#This Row],[Data]]<$G$57,Tabulka2[[#This Row],[Data]]>$G$58),2,IF(OR(Tabulka2[[#This Row],[Data]]<$G$51,Tabulka2[[#This Row],[Data]]>$G$52),1,0)))","v":0},null,null,null,null,null,null,null,null,null,null,null,null,null,null,null,null,null,null,null,null,null,null,null,null,18,{"$f":"SMALL(IF((Tabulka2[Data]<$U$13)*(Tabulka2[Data]<>\"\"),Tabulka2[Data],$U$23),AB59)","v":90.58},2,null,null,18,{"$f":"LARGE(IF((Tabulka2[Data]>$U$18)*(Tabulka2[Data]<>\"\"),Tabulka2[Data],$U$23),AG59)","v":90.58},2]
[84,null,{"$f":"IF(Tabulka2[[#This Row],[Data]]=\"\",\"\",IF(OR(Tabulka2[[#This Row],[Data]]<$G$57,Tabulka2[[#This Row],[Data]]>$G$58),2,IF(OR(Tabulka2[[#This Row],[Data]]<$G$51,Tabulka2[[#This Row],[Data]]>$G$52),1,0)))","v":0},null,null,"Počet extrémních pozorování",{"$f":"IF(Rozsah=0,\"\",Rozsah-COUNT(IF((Tabulka2[Data]<>\"\")*(Tabulka2[Data]>=$G$57)*(Tabulka2[Data]<=$G$58),Tabulka2[Data])))","v":1},null,null,null,null,null,null,null,null,null,null,null,null,null,null,null,null,null,null,null,null,19,{"$f":"SMALL(IF((Tabulka2[Data]<$U$13)*(Tabulka2[Data]<>\"\"),Tabulka2[Data],$U$23),AB60)","v":90.58},2,null,null,19,{"$f":"LARGE(IF((Tabulka2[Data]>$U$18)*(Tabulka2[Data]<>\"\"),Tabulka2[Data],$U$23),AG60)","v":90.58},2]
[104,null,{"$f":"IF(Tabulka2[[#This Row],[Data]]=\"\",\"\",IF(OR(Tabulka2[[#This Row],[Data]]<$G$57,Tabulka2[[#This Row],[Data]]>$G$58),2,IF(OR(Tabulka2[[#This Row],[Data]]<$G$51,Tabulka2[[#This Row],[Data]]>$G$52),1,0)))","v":0},null,null,null,null,null,null,null,null,null,null,null,null,null,null,null,null,null,null,null,null,null,null,null,null,20,{"$f":"SMALL(IF((Tabulka2[Data]<$U$13)*(Tabulka2[Data]<>\"\"),Tabulka2[Data],$U$23),AB61)","v":90.58},2,null,null,20,{"$f":"LARGE(IF((Tabulka2[Data]>$U$18)*(Tabulka2[Data]<>\"\"),Tabulka2[Data],$U$23),AG61)","v":90.58},2]
[87,null,{"$f":"IF(Tabulka2[[#This Row],[Data]]=\"\",\"\",IF(OR(Tabulka2[[#This Row],[Data]]<$G$57,Tabulka2[[#This Row],[Data]]>$G$58),2,IF(OR(Tabulka2[[#This Row],[Data]]<$G$51,Tabulka2[[#This Row],[Data]]>$G$52),1,0)))","v":0},null,null,null,null,null,null,null,null,null,null,null,null,null,null,null,null,null,null,null,null,null,null,null,null,21,{"$f":"SMALL(IF((Tabulka2[Data]<$U$13)*(Tabulka2[Data]<>\"\"),Tabulka2[Data],$U$23),AB62)","v":90.58},2,null,null,21,{"$f":"LARGE(IF((Tabulka2[Data]>$U$18)*(Tabulka2[Data]<>\"\"),Tabulka2[Data],$U$23),AG62)","v":90.58},2]
[82,null,{"$f":"IF(Tabulka2[[#This Row],[Data]]=\"\",\"\",IF(OR(Tabulka2[[#This Row],[Data]]<$G$57,Tabulka2[[#This Row],[Data]]>$G$58),2,IF(OR(Tabulka2[[#This Row],[Data]]<$G$51,Tabulka2[[#This Row],[Data]]>$G$52),1,0)))","v":0},null,null,null,null,null,null,null,null,null,null,null,null,null,null,null,null,null,null,null,null,null,null,null,null,22,{"$f":"SMALL(IF((Tabulka2[Data]<$U$13)*(Tabulka2[Data]<>\"\"),Tabulka2[Data],$U$23),AB63)","v":90.58},2,null,null,22,{"$f":"LARGE(IF((Tabulka2[Data]>$U$18)*(Tabulka2[Data]<>\"\"),Tabulka2[Data],$U$23),AG63)","v":90.58},2]
[99,null,{"$f":"IF(Tabulka2[[#This Row],[Data]]=\"\",\"\",IF(OR(Tabulka2[[#This Row],[Data]]<$G$57,Tabulka2[[#This Row],[Data]]>$G$58),2,IF(OR(Tabulka2[[#This Row],[Data]]<$G$51,Tabulka2[[#This Row],[Data]]>$G$52),1,0)))","v":0},null,null,null,null,null,null,null,null,null,null,null,null,null,null,null,null,null,null,null,null,null,null,null,null,23,{"$f":"SMALL(IF((Tabulka2[Data]<$U$13)*(Tabulka2[Data]<>\"\"),Tabulka2[Data],$U$23),AB64)","v":90.58},2,null,null,23,{"$f":"LARGE(IF((Tabulka2[Data]>$U$18)*(Tabulka2[Data]<>\"\"),Tabulka2[Data],$U$23),AG64)","v":90.58},2]
[92,null,{"$f":"IF(Tabulka2[[#This Row],[Data]]=\"\",\"\",IF(OR(Tabulka2[[#This Row],[Data]]<$G$57,Tabulka2[[#This Row],[Data]]>$G$58),2,IF(OR(Tabulka2[[#This Row],[Data]]<$G$51,Tabulka2[[#This Row],[Data]]>$G$52),1,0)))","v":0},null,null,null,null,null,null,null,null,null,null,null,null,null,null,null,null,null,null,null,null,null,null,null,null,24,{"$f":"SMALL(IF((Tabulka2[Data]<$U$13)*(Tabulka2[Data]<>\"\"),Tabulka2[Data],$U$23),AB65)","v":90.58},2,null,null,24,{"$f":"LARGE(IF((Tabulka2[Data]>$U$18)*(Tabulka2[Data]<>\"\"),Tabulka2[Data],$U$23),AG65)","v":90.58},2]
[92,null,{"$f":"IF(Tabulka2[[#This Row],[Data]]=\"\",\"\",IF(OR(Tabulka2[[#This Row],[Data]]<$G$57,Tabulka2[[#This Row],[Data]]>$G$58),2,IF(OR(Tabulka2[[#This Row],[Data]]<$G$51,Tabulka2[[#This Row],[Data]]>$G$52),1,0)))","v":0},null,null,null,null,null,null,null,null,null,null,null,null,null,null,null,null,null,null,null,null,null,null,null,null,25,{"$f":"SMALL(IF((Tabulka2[Data]<$U$13)*(Tabulka2[Data]<>\"\"),Tabulka2[Data],$U$23),AB66)","v":90.58},2,null,null,25,{"$f":"LARGE(IF((Tabulka2[Data]>$U$18)*(Tabulka2[Data]<>\"\"),Tabulka2[Data],$U$23),AG66)","v":90.58},2]
[85,null,{"$f":"IF(Tabulka2[[#This Row],[Data]]=\"\",\"\",IF(OR(Tabulka2[[#This Row],[Data]]<$G$57,Tabulka2[[#This Row],[Data]]>$G$58),2,IF(OR(Tabulka2[[#This Row],[Data]]<$G$51,Tabulka2[[#This Row],[Data]]>$G$52),1,0)))","v":0},null,null,null,null,null,null,null,null,null,null,null,null,null,null,null,null,null,null,null,null,null,null,null,null,26,{"$f":"SMALL(IF((Tabulka2[Data]<$U$13)*(Tabulka2[Data]<>\"\"),Tabulka2[Data],$U$23),AB67)","v":90.58},2,null,null,26,{"$f":"LARGE(IF((Tabulka2[Data]>$U$18)*(Tabulka2[Data]<>\"\"),Tabulka2[Data],$U$23),AG67)","v":90.58},2]
[96,null,{"$f":"IF(Tabulka2[[#This Row],[Data]]=\"\",\"\",IF(OR(Tabulka2[[#This Row],[Data]]<$G$57,Tabulka2[[#This Row],[Data]]>$G$58),2,IF(OR(Tabulka2[[#This Row],[Data]]<$G$51,Tabulka2[[#This Row],[Data]]>$G$52),1,0)))","v":0},null,null,null,null,null,null,null,null,null,null,null,null,null,null,null,null,null,null,null,null,null,null,null,null,27,{"$f":"SMALL(IF((Tabulka2[Data]<$U$13)*(Tabulka2[Data]<>\"\"),Tabulka2[Data],$U$23),AB68)","v":90.58},2,null,null,27,{"$f":"LARGE(IF((Tabulka2[Data]>$U$18)*(Tabulka2[Data]<>\"\"),Tabulka2[Data],$U$23),AG68)","v":90.58},2]
[84,null,{"$f":"IF(Tabulka2[[#This Row],[Data]]=\"\",\"\",IF(OR(Tabulka2[[#This Row],[Data]]<$G$57,Tabulka2[[#This Row],[Data]]>$G$58),2,IF(OR(Tabulka2[[#This Row],[Data]]<$G$51,Tabulka2[[#This Row],[Data]]>$G$52),1,0)))","v":0},null,null,null,null,null,null,null,null,null,null,null,null,null,null,null,null,null,null,null,null,null,null,null,null,28,{"$f":"SMALL(IF((Tabulka2[Data]<$U$13)*(Tabulka2[Data]<>\"\"),Tabulka2[Data],$U$23),AB69)","v":90.58},2,null,null,28,{"$f":"LARGE(IF((Tabulka2[Data]>$U$18)*(Tabulka2[Data]<>\"\"),Tabulka2[Data],$U$23),AG69)","v":90.58},2]
[83,null,{"$f":"IF(Tabulka2[[#This Row],[Data]]=\"\",\"\",IF(OR(Tabulka2[[#This Row],[Data]]<$G$57,Tabulka2[[#This Row],[Data]]>$G$58),2,IF(OR(Tabulka2[[#This Row],[Data]]<$G$51,Tabulka2[[#This Row],[Data]]>$G$52),1,0)))","v":0},null,null,null,null,null,null,null,null,null,null,null,null,null,null,null,null,null,null,null,null,null,null,null,null,29,{"$f":"SMALL(IF((Tabulka2[Data]<$U$13)*(Tabulka2[Data]<>\"\"),Tabulka2[Data],$U$23),AB70)","v":90.58},2,null,null,29,{"$f":"LARGE(IF((Tabulka2[Data]>$U$18)*(Tabulka2[Data]<>\"\"),Tabulka2[Data],$U$23),AG70)","v":90.58},2]
[86,null,{"$f":"IF(Tabulka2[[#This Row],[Data]]=\"\",\"\",IF(OR(Tabulka2[[#This Row],[Data]]<$G$57,Tabulka2[[#This Row],[Data]]>$G$58),2,IF(OR(Tabulka2[[#This Row],[Data]]<$G$51,Tabulka2[[#This Row],[Data]]>$G$52),1,0)))","v":0},null,null,null,null,null,null,null,null,null,null,null,null,null,null,null,null,null,null,null,null,null,null,null,null,30,{"$f":"SMALL(IF((Tabulka2[Data]<$U$13)*(Tabulka2[Data]<>\"\"),Tabulka2[Data],$U$23),AB71)","v":90.58},2,null,null,30,{"$f":"LARGE(IF((Tabulka2[Data]>$U$18)*(Tabulka2[Data]<>\"\"),Tabulka2[Data],$U$23),AG71)","v":90.58},2]
[101,null,{"$f":"IF(Tabulka2[[#This Row],[Data]]=\"\",\"\",IF(OR(Tabulka2[[#This Row],[Data]]<$G$57,Tabulka2[[#This Row],[Data]]>$G$58),2,IF(OR(Tabulka2[[#This Row],[Data]]<$G$51,Tabulka2[[#This Row],[Data]]>$G$52),1,0)))","v":0}]
[88,null,{"$f":"IF(Tabulka2[[#This Row],[Data]]=\"\",\"\",IF(OR(Tabulka2[[#This Row],[Data]]<$G$57,Tabulka2[[#This Row],[Data]]>$G$58),2,IF(OR(Tabulka2[[#This Row],[Data]]<$G$51,Tabulka2[[#This Row],[Data]]>$G$52),1,0)))","v":0}]
[90,null,{"$f":"IF(Tabulka2[[#This Row],[Data]]=\"\",\"\",IF(OR(Tabulka2[[#This Row],[Data]]<$G$57,Tabulka2[[#This Row],[Data]]>$G$58),2,IF(OR(Tabulka2[[#This Row],[Data]]<$G$51,Tabulka2[[#This Row],[Data]]>$G$52),1,0)))","v":0}]
[86,null,{"$f":"IF(Tabulka2[[#This Row],[Data]]=\"\",\"\",IF(OR(Tabulka2[[#This Row],[Data]]<$G$57,Tabulka2[[#This Row],[Data]]>$G$58),2,IF(OR(Tabulka2[[#This Row],[Data]]<$G$51,Tabulka2[[#This Row],[Data]]>$G$52),1,0)))","v":0}]
[85,null,{"$f":"IF(Tabulka2[[#This Row],[Data]]=\"\",\"\",IF(OR(Tabulka2[[#This Row],[Data]]<$G$57,Tabulka2[[#This Row],[Data]]>$G$58),2,IF(OR(Tabulka2[[#This Row],[Data]]<$G$51,Tabulka2[[#This Row],[Data]]>$G$52),1,0)))","v":0}]
[91,null,{"$f":"IF(Tabulka2[[#This Row],[Data]]=\"\",\"\",IF(OR(Tabulka2[[#This Row],[Data]]<$G$57,Tabulka2[[#This Row],[Data]]>$G$58),2,IF(OR(Tabulka2[[#This Row],[Data]]<$G$51,Tabulka2[[#This Row],[Data]]>$G$52),1,0)))","v":0}]
[93,null,{"$f":"IF(Tabulka2[[#This Row],[Data]]=\"\",\"\",IF(OR(Tabulka2[[#This Row],[Data]]<$G$57,Tabulka2[[#This Row],[Data]]>$G$58),2,IF(OR(Tabulka2[[#This Row],[Data]]<$G$51,Tabulka2[[#This Row],[Data]]>$G$52),1,0)))","v":0}]
[97,null,{"$f":"IF(Tabulka2[[#This Row],[Data]]=\"\",\"\",IF(OR(Tabulka2[[#This Row],[Data]]<$G$57,Tabulka2[[#This Row],[Data]]>$G$58),2,IF(OR(Tabulka2[[#This Row],[Data]]<$G$51,Tabulka2[[#This Row],[Data]]>$G$52),1,0)))","v":0}]
[87,null,{"$f":"IF(Tabulka2[[#This Row],[Data]]=\"\",\"\",IF(OR(Tabulka2[[#This Row],[Data]]<$G$57,Tabulka2[[#This Row],[Data]]>$G$58),2,IF(OR(Tabulka2[[#This Row],[Data]]<$G$51,Tabulka2[[#This Row],[Data]]>$G$52),1,0)))","v":0}]
[77,null,{"$f":"IF(Tabulka2[[#This Row],[Data]]=\"\",\"\",IF(OR(Tabulka2[[#This Row],[Data]]<$G$57,Tabulka2[[#This Row],[Data]]>$G$58),2,IF(OR(Tabulka2[[#This Row],[Data]]<$G$51,Tabulka2[[#This Row],[Data]]>$G$52),1,0)))","v":0}]
[98,null,{"$f":"IF(Tabulka2[[#This Row],[Data]]=\"\",\"\",IF(OR(Tabulka2[[#This Row],[Data]]<$G$57,Tabulka2[[#This Row],[Data]]>$G$58),2,IF(OR(Tabulka2[[#This Row],[Data]]<$G$51,Tabulka2[[#This Row],[Data]]>$G$52),1,0)))","v":0}]
[100,null,{"$f":"IF(Tabulka2[[#This Row],[Data]]=\"\",\"\",IF(OR(Tabulka2[[#This Row],[Data]]<$G$57,Tabulka2[[#This Row],[Data]]>$G$58),2,IF(OR(Tabulka2[[#This Row],[Data]]<$G$51,Tabulka2[[#This Row],[Data]]>$G$52),1,0)))","v":0}]
[90,null,{"$f":"IF(Tabulka2[[#This Row],[Data]]=\"\",\"\",IF(OR(Tabulka2[[#This Row],[Data]]<$G$57,Tabulka2[[#This Row],[Data]]>$G$58),2,IF(OR(Tabulka2[[#This Row],[Data]]<$G$51,Tabulka2[[#This Row],[Data]]>$G$52),1,0)))","v":0}]
[85,null,{"$f":"IF(Tabulka2[[#This Row],[Data]]=\"\",\"\",IF(OR(Tabulka2[[#This Row],[Data]]<$G$57,Tabulka2[[#This Row],[Data]]>$G$58),2,IF(OR(Tabulka2[[#This Row],[Data]]<$G$51,Tabulka2[[#This Row],[Data]]>$G$52),1,0)))","v":0}]
[84,null,{"$f":"IF(Tabulka2[[#This Row],[Data]]=\"\",\"\",IF(OR(Tabulka2[[#This Row],[Data]]<$G$57,Tabulka2[[#This Row],[Data]]>$G$58),2,IF(OR(Tabulka2[[#This Row],[Data]]<$G$51,Tabulka2[[#This Row],[Data]]>$G$52),1,0)))","v":0}]
[88,null,{"$f":"IF(Tabulka2[[#This Row],[Data]]=\"\",\"\",IF(OR(Tabulka2[[#This Row],[Data]]<$G$57,Tabulka2[[#This Row],[Data]]>$G$58),2,IF(OR(Tabulka2[[#This Row],[Data]]<$G$51,Tabulka2[[#This Row],[Data]]>$G$52),1,0)))","v":0}]
[97,null,{"$f":"IF(Tabulka2[[#This Row],[Data]]=\"\",\"\",IF(OR(Tabulka2[[#This Row],[Data]]<$G$57,Tabulka2[[#This Row],[Data]]>$G$58),2,IF(OR(Tabulka2[[#This Row],[Data]]<$G$51,Tabulka2[[#This Row],[Data]]>$G$52),1,0)))","v":0}]
[84,null,{"$f":"IF(Tabulka2[[#This Row],[Data]]=\"\",\"\",IF(OR(Tabulka2[[#This Row],[Data]]<$G$57,Tabulka2[[#This Row],[Data]]>$G$58),2,IF(OR(Tabulka2[[#This Row],[Data]]<$G$51,Tabulka2[[#This Row],[Data]]>$G$52),1,0)))","v":0}]
[103,null,{"$f":"IF(Tabulka2[[#This Row],[Data]]=\"\",\"\",IF(OR(Tabulka2[[#This Row],[Data]]<$G$57,Tabulka2[[#This Row],[Data]]>$G$58),2,IF(OR(Tabulka2[[#This Row],[Data]]<$G$51,Tabulka2[[#This Row],[Data]]>$G$52),1,0)))","v":0}]
[84,null,{"$f":"IF(Tabulka2[[#This Row],[Data]]=\"\",\"\",IF(OR(Tabulka2[[#This Row],[Data]]<$G$57,Tabulka2[[#This Row],[Data]]>$G$58),2,IF(OR(Tabulka2[[#This Row],[Data]]<$G$51,Tabulka2[[#This Row],[Data]]>$G$52),1,0)))","v":0}]
[87,null,{"$f":"IF(Tabulka2[[#This Row],[Data]]=\"\",\"\",IF(OR(Tabulka2[[#This Row],[Data]]<$G$57,Tabulka2[[#This Row],[Data]]>$G$58),2,IF(OR(Tabulka2[[#This Row],[Data]]<$G$51,Tabulka2[[#This Row],[Data]]>$G$52),1,0)))","v":0}]
[78,null,{"$f":"IF(Tabulka2[[#This Row],[Data]]=\"\",\"\",IF(OR(Tabulka2[[#This Row],[Data]]<$G$57,Tabulka2[[#This Row],[Data]]>$G$58),2,IF(OR(Tabulka2[[#This Row],[Data]]<$G$51,Tabulka2[[#This Row],[Data]]>$G$52),1,0)))","v":0}]
[84,null,{"$f":"IF(Tabulka2[[#This Row],[Data]]=\"\",\"\",IF(OR(Tabulka2[[#This Row],[Data]]<$G$57,Tabulka2[[#This Row],[Data]]>$G$58),2,IF(OR(Tabulka2[[#This Row],[Data]]<$G$51,Tabulka2[[#This Row],[Data]]>$G$52),1,0)))","v":0}]
[83,null,{"$f":"IF(Tabulka2[[#This Row],[Data]]=\"\",\"\",IF(OR(Tabulka2[[#This Row],[Data]]<$G$57,Tabulka2[[#This Row],[Data]]>$G$58),2,IF(OR(Tabulka2[[#This Row],[Data]]<$G$51,Tabulka2[[#This Row],[Data]]>$G$52),1,0)))","v":0}]
[99,null,{"$f":"IF(Tabulka2[[#This Row],[Data]]=\"\",\"\",IF(OR(Tabulka2[[#This Row],[Data]]<$G$57,Tabulka2[[#This Row],[Data]]>$G$58),2,IF(OR(Tabulka2[[#This Row],[Data]]<$G$51,Tabulka2[[#This Row],[Data]]>$G$52),1,0)))","v":0}]
[97,null,{"$f":"IF(Tabulka2[[#This Row],[Data]]=\"\",\"\",IF(OR(Tabulka2[[#This Row],[Data]]<$G$57,Tabulka2[[#This Row],[Data]]>$G$58),2,IF(OR(Tabulka2[[#This Row],[Data]]<$G$51,Tabulka2[[#This Row],[Data]]>$G$52),1,0)))","v":0},null,null,null,null,null,null,null,null,null,null,null,null,null,null,null,null,"",null,""]
[85,null,{"$f":"IF(Tabulka2[[#This Row],[Data]]=\"\",\"\",IF(OR(Tabulka2[[#This Row],[Data]]<$G$57,Tabulka2[[#This Row],[Data]]>$G$58),2,IF(OR(Tabulka2[[#This Row],[Data]]<$G$51,Tabulka2[[#This Row],[Data]]>$G$52),1,0)))","v":0},null,null,null,null,null,null,null,null,null,null,null,null,null,null,null,null,"",null,""]
[91,null,{"$f":"IF(Tabulka2[[#This Row],[Data]]=\"\",\"\",IF(OR(Tabulka2[[#This Row],[Data]]<$G$57,Tabulka2[[#This Row],[Data]]>$G$58),2,IF(OR(Tabulka2[[#This Row],[Data]]<$G$51,Tabulka2[[#This Row],[Data]]>$G$52),1,0)))","v":0},null,null,null,null,null,null,null,null,null,null,null,null,null,null,null,null,"",null,""]
[86,null,{"$f":"IF(Tabulka2[[#This Row],[Data]]=\"\",\"\",IF(OR(Tabulka2[[#This Row],[Data]]<$G$57,Tabulka2[[#This Row],[Data]]>$G$58),2,IF(OR(Tabulka2[[#This Row],[Data]]<$G$51,Tabulka2[[#This Row],[Data]]>$G$52),1,0)))","v":0},null,null,null,null,null,null,null,null,null,null,null,null,null,null,null,null,"",null,""]
[97,null,{"$f":"IF(Tabulka2[[#This Row],[Data]]=\"\",\"\",IF(OR(Tabulka2[[#This Row],[Data]]<$G$57,Tabulka2[[#This Row],[Data]]>$G$58),2,IF(OR(Tabulka2[[#This Row],[Data]]<$G$51,Tabulka2[[#This Row],[Data]]>$G$52),1,0)))","v":0},null,null,null,null,null,null,null,null,null,null,null,null,null,null,null,null,"",null,""]
[106,null,{"$f":"IF(Tabulka2[[#This Row],[Data]]=\"\",\"\",IF(OR(Tabulka2[[#This Row],[Data]]<$G$57,Tabulka2[[#This Row],[Data]]>$G$58),2,IF(OR(Tabulka2[[#This Row],[Data]]<$G$51,Tabulka2[[#This Row],[Data]]>$G$52),1,0)))","v":0},null,null,null,null,null,null,null,null,null,null,null,null,null,null,null,null,"",null,""]
[92,null,{"$f":"IF(Tabulka2[[#This Row],[Data]]=\"\",\"\",IF(OR(Tabulka2[[#This Row],[Data]]<$G$57,Tabulka2[[#This Row],[Data]]>$G$58),2,IF(OR(Tabulka2[[#This Row],[Data]]<$G$51,Tabulka2[[#This Row],[Data]]>$G$52),1,0)))","v":0},null,null,null,null,null,null,null,null,null,null,null,null,null,null,null,null,"",null,""]
[97,null,{"$f":"IF(Tabulka2[[#This Row],[Data]]=\"\",\"\",IF(OR(Tabulka2[[#This Row],[Data]]<$G$57,Tabulka2[[#This Row],[Data]]>$G$58),2,IF(OR(Tabulka2[[#This Row],[Data]]<$G$51,Tabulka2[[#This Row],[Data]]>$G$52),1,0)))","v":0},null,null,null,null,null,null,null,null,null,null,null,null,null,null,null,null,"",null,""]
[86,null,{"$f":"IF(Tabulka2[[#This Row],[Data]]=\"\",\"\",IF(OR(Tabulka2[[#This Row],[Data]]<$G$57,Tabulka2[[#This Row],[Data]]>$G$58),2,IF(OR(Tabulka2[[#This Row],[Data]]<$G$51,Tabulka2[[#This Row],[Data]]>$G$52),1,0)))","v":0},null,null,null,null,null,null,null,null,null,null,null,null,null,null,null,null,"",null,""]
[98,null,{"$f":"IF(Tabulka2[[#This Row],[Data]]=\"\",\"\",IF(OR(Tabulka2[[#This Row],[Data]]<$G$57,Tabulka2[[#This Row],[Data]]>$G$58),2,IF(OR(Tabulka2[[#This Row],[Data]]<$G$51,Tabulka2[[#This Row],[Data]]>$G$52),1,0)))","v":0},null,null,null,null,null,null,null,null,null,null,null,null,null,null,null,null,"",null,""]
[81,null,{"$f":"IF(Tabulka2[[#This Row],[Data]]=\"\",\"\",IF(OR(Tabulka2[[#This Row],[Data]]<$G$57,Tabulka2[[#This Row],[Data]]>$G$58),2,IF(OR(Tabulka2[[#This Row],[Data]]<$G$51,Tabulka2[[#This Row],[Data]]>$G$52),1,0)))","v":0},null,null,null,null,null,null,null,null,null,null,null,null,null,null,null,null,"",null,""]
[100,null,{"$f":"IF(Tabulka2[[#This Row],[Data]]=\"\",\"\",IF(OR(Tabulka2[[#This Row],[Data]]<$G$57,Tabulka2[[#This Row],[Data]]>$G$58),2,IF(OR(Tabulka2[[#This Row],[Data]]<$G$51,Tabulka2[[#This Row],[Data]]>$G$52),1,0)))","v":0},null,null,null,null,null,null,null,null,null,null,null,null,null,null,null,null,"",null,""]
[91,null,{"$f":"IF(Tabulka2[[#This Row],[Data]]=\"\",\"\",IF(OR(Tabulka2[[#This Row],[Data]]<$G$57,Tabulka2[[#This Row],[Data]]>$G$58),2,IF(OR(Tabulka2[[#This Row],[Data]]<$G$51,Tabulka2[[#This Row],[Data]]>$G$52),1,0)))","v":0},null,null,null,null,null,null,null,null,null,null,null,null,null,null,null,null,"",null,""]
[95,null,{"$f":"IF(Tabulka2[[#This Row],[Data]]=\"\",\"\",IF(OR(Tabulka2[[#This Row],[Data]]<$G$57,Tabulka2[[#This Row],[Data]]>$G$58),2,IF(OR(Tabulka2[[#This Row],[Data]]<$G$51,Tabulka2[[#This Row],[Data]]>$G$52),1,0)))","v":0},null,null,null,null,null,null,null,null,null,null,null,null,null,null,null,null,"",null,""]
[91,null,{"$f":"IF(Tabulka2[[#This Row],[Data]]=\"\",\"\",IF(OR(Tabulka2[[#This Row],[Data]]<$G$57,Tabulka2[[#This Row],[Data]]>$G$58),2,IF(OR(Tabulka2[[#This Row],[Data]]<$G$51,Tabulka2[[#This Row],[Data]]>$G$52),1,0)))","v":0},null,null,null,null,null,null,null,null,null,null,null,null,null,null,null,null,"",null,""]
[96,null,{"$f":"IF(Tabulka2[[#This Row],[Data]]=\"\",\"\",IF(OR(Tabulka2[[#This Row],[Data]]<$G$57,Tabulka2[[#This Row],[Data]]>$G$58),2,IF(OR(Tabulka2[[#This Row],[Data]]<$G$51,Tabulka2[[#This Row],[Data]]>$G$52),1,0)))","v":0},null,null,null,null,null,null,null,null,null,null,null,null,null,null,null,null,"",null,""]
[93,null,{"$f":"IF(Tabulka2[[#This Row],[Data]]=\"\",\"\",IF(OR(Tabulka2[[#This Row],[Data]]<$G$57,Tabulka2[[#This Row],[Data]]>$G$58),2,IF(OR(Tabulka2[[#This Row],[Data]]<$G$51,Tabulka2[[#This Row],[Data]]>$G$52),1,0)))","v":0},null,null,null,null,null,null,null,null,null,null,null,null,null,null,null,null,"",null,""]
[null,null,{"$f":"IF(Tabulka2[[#This Row],[Data]]=\"\",\"\",IF(OR(Tabulka2[[#This Row],[Data]]<$G$57,Tabulka2[[#This Row],[Data]]>$G$58),2,IF(OR(Tabulka2[[#This Row],[Data]]<$G$51,Tabulka2[[#This Row],[Data]]>$G$52),1,0)))","v":""},null,null,null,null,null,null,null,null,null,null,null,null,null,null,null,null,"",null,""]
[null,null,{"$f":"IF(Tabulka2[[#This Row],[Data]]=\"\",\"\",IF(OR(Tabulka2[[#This Row],[Data]]<$G$57,Tabulka2[[#This Row],[Data]]>$G$58),2,IF(OR(Tabulka2[[#This Row],[Data]]<$G$51,Tabulka2[[#This Row],[Data]]>$G$52),1,0)))","v":""},null,null,null,null,null,null,null,null,null,null,null,null,null,null,null,null,"",null,""]
[null,null,{"$f":"IF(Tabulka2[[#This Row],[Data]]=\"\",\"\",IF(OR(Tabulka2[[#This Row],[Data]]<$G$57,Tabulka2[[#This Row],[Data]]>$G$58),2,IF(OR(Tabulka2[[#This Row],[Data]]<$G$51,Tabulka2[[#This Row],[Data]]>$G$52),1,0)))","v":""},null,null,null,null,null,null,null,null,null,null,null,null,null,null,null,null,"",null,""]
[null,null,{"$f":"IF(Tabulka2[[#This Row],[Data]]=\"\",\"\",IF(OR(Tabulka2[[#This Row],[Data]]<$G$57,Tabulka2[[#This Row],[Data]]>$G$58),2,IF(OR(Tabulka2[[#This Row],[Data]]<$G$51,Tabulka2[[#This Row],[Data]]>$G$52),1,0)))","v":""},null,null,null,null,null,null,null,null,null,null,null,null,null,null,null,null,"",null,""]
[null,null,{"$f":"IF(Tabulka2[[#This Row],[Data]]=\"\",\"\",IF(OR(Tabulka2[[#This Row],[Data]]<$G$57,Tabulka2[[#This Row],[Data]]>$G$58),2,IF(OR(Tabulka2[[#This Row],[Data]]<$G$51,Tabulka2[[#This Row],[Data]]>$G$52),1,0)))","v":""},null,null,null,null,null,null,null,null,null,null,null,null,null,null,null,null,"",null,""]
[null,null,{"$f":"IF(Tabulka2[[#This Row],[Data]]=\"\",\"\",IF(OR(Tabulka2[[#This Row],[Data]]<$G$57,Tabulka2[[#This Row],[Data]]>$G$58),2,IF(OR(Tabulka2[[#This Row],[Data]]<$G$51,Tabulka2[[#This Row],[Data]]>$G$52),1,0)))","v":""},null,null,null,null,null,null,null,null,null,null,null,null,null,null,null,null,"",null,""]
[null,null,{"$f":"IF(Tabulka2[[#This Row],[Data]]=\"\",\"\",IF(OR(Tabulka2[[#This Row],[Data]]<$G$57,Tabulka2[[#This Row],[Data]]>$G$58),2,IF(OR(Tabulka2[[#This Row],[Data]]<$G$51,Tabulka2[[#This Row],[Data]]>$G$52),1,0)))","v":""},null,null,null,null,null,null,null,null,null,null,null,null,null,null,null,null,"",null,""]
[null,null,{"$f":"IF(Tabulka2[[#This Row],[Data]]=\"\",\"\",IF(OR(Tabulka2[[#This Row],[Data]]<$G$57,Tabulka2[[#This Row],[Data]]>$G$58),2,IF(OR(Tabulka2[[#This Row],[Data]]<$G$51,Tabulka2[[#This Row],[Data]]>$G$52),1,0)))","v":""},null,null,null,null,null,null,null,null,null,null,null,null,null,null,null,null,"",null,""]
[null,null,{"$f":"IF(Tabulka2[[#This Row],[Data]]=\"\",\"\",IF(OR(Tabulka2[[#This Row],[Data]]<$G$57,Tabulka2[[#This Row],[Data]]>$G$58),2,IF(OR(Tabulka2[[#This Row],[Data]]<$G$51,Tabulka2[[#This Row],[Data]]>$G$52),1,0)))","v":""},null,null,null,null,null,null,null,null,null,null,null,null,null,null,null,null,"",null,""]
[null,null,{"$f":"IF(Tabulka2[[#This Row],[Data]]=\"\",\"\",IF(OR(Tabulka2[[#This Row],[Data]]<$G$57,Tabulka2[[#This Row],[Data]]>$G$58),2,IF(OR(Tabulka2[[#This Row],[Data]]<$G$51,Tabulka2[[#This Row],[Data]]>$G$52),1,0)))","v":""},null,null,null,null,null,null,null,null,null,null,null,null,null,null,null,null,"",null,""]
[null,null,{"$f":"IF(Tabulka2[[#This Row],[Data]]=\"\",\"\",IF(OR(Tabulka2[[#This Row],[Data]]<$G$57,Tabulka2[[#This Row],[Data]]>$G$58),2,IF(OR(Tabulka2[[#This Row],[Data]]<$G$51,Tabulka2[[#This Row],[Data]]>$G$52),1,0)))","v":""},null,null,null,null,null,null,null,null,null,null,null,null,null,null,null,null,"",null,""]
[null,null,{"$f":"IF(Tabulka2[[#This Row],[Data]]=\"\",\"\",IF(OR(Tabulka2[[#This Row],[Data]]<$G$57,Tabulka2[[#This Row],[Data]]>$G$58),2,IF(OR(Tabulka2[[#This Row],[Data]]<$G$51,Tabulka2[[#This Row],[Data]]>$G$52),1,0)))","v":""},null,null,null,null,null,null,null,null,null,null,null,null,null,null,null,null,"",null,""]
[null,null,{"$f":"IF(Tabulka2[[#This Row],[Data]]=\"\",\"\",IF(OR(Tabulka2[[#This Row],[Data]]<$G$57,Tabulka2[[#This Row],[Data]]>$G$58),2,IF(OR(Tabulka2[[#This Row],[Data]]<$G$51,Tabulka2[[#This Row],[Data]]>$G$52),1,0)))","v":""},null,null,null,null,null,null,null,null,null,null,null,null,null,null,null,null,"",null,""]
[null,null,{"$f":"IF(Tabulka2[[#This Row],[Data]]=\"\",\"\",IF(OR(Tabulka2[[#This Row],[Data]]<$G$57,Tabulka2[[#This Row],[Data]]>$G$58),2,IF(OR(Tabulka2[[#This Row],[Data]]<$G$51,Tabulka2[[#This Row],[Data]]>$G$52),1,0)))","v":""},null,null,null,null,null,null,null,null,null,null,null,null,null,null,null,null,"",null,""]
[null,null,{"$f":"IF(Tabulka2[[#This Row],[Data]]=\"\",\"\",IF(OR(Tabulka2[[#This Row],[Data]]<$G$57,Tabulka2[[#This Row],[Data]]>$G$58),2,IF(OR(Tabulka2[[#This Row],[Data]]<$G$51,Tabulka2[[#This Row],[Data]]>$G$52),1,0)))","v":""},null,null,null,null,null,null,null,null,null,null,null,null,null,null,null,null,"",null,""]
[null,null,{"$f":"IF(Tabulka2[[#This Row],[Data]]=\"\",\"\",IF(OR(Tabulka2[[#This Row],[Data]]<$G$57,Tabulka2[[#This Row],[Data]]>$G$58),2,IF(OR(Tabulka2[[#This Row],[Data]]<$G$51,Tabulka2[[#This Row],[Data]]>$G$52),1,0)))","v":""},null,null,null,null,null,null,null,null,null,null,null,null,null,null,null,null,"",null,""]
[null,null,{"$f":"IF(Tabulka2[[#This Row],[Data]]=\"\",\"\",IF(OR(Tabulka2[[#This Row],[Data]]<$G$57,Tabulka2[[#This Row],[Data]]>$G$58),2,IF(OR(Tabulka2[[#This Row],[Data]]<$G$51,Tabulka2[[#This Row],[Data]]>$G$52),1,0)))","v":""},null,null,null,null,null,null,null,null,null,null,null,null,null,null,null,null,"",null,""]
[null,null,{"$f":"IF(Tabulka2[[#This Row],[Data]]=\"\",\"\",IF(OR(Tabulka2[[#This Row],[Data]]<$G$57,Tabulka2[[#This Row],[Data]]>$G$58),2,IF(OR(Tabulka2[[#This Row],[Data]]<$G$51,Tabulka2[[#This Row],[Data]]>$G$52),1,0)))","v":""},null,null,null,null,null,null,null,null,null,null,null,null,null,null,null,null,"",null,""]
[null,null,{"$f":"IF(Tabulka2[[#This Row],[Data]]=\"\",\"\",IF(OR(Tabulka2[[#This Row],[Data]]<$G$57,Tabulka2[[#This Row],[Data]]>$G$58),2,IF(OR(Tabulka2[[#This Row],[Data]]<$G$51,Tabulka2[[#This Row],[Data]]>$G$52),1,0)))","v":""},null,null,null,null,null,null,null,null,null,null,null,null,null,null,null,null,"",null,""]
[null,null,{"$f":"IF(Tabulka2[[#This Row],[Data]]=\"\",\"\",IF(OR(Tabulka2[[#This Row],[Data]]<$G$57,Tabulka2[[#This Row],[Data]]>$G$58),2,IF(OR(Tabulka2[[#This Row],[Data]]<$G$51,Tabulka2[[#This Row],[Data]]>$G$52),1,0)))","v":""},null,null,null,null,null,null,null,null,null,null,null,null,null,null,null,null,"",null,""]
[null,null,{"$f":"IF(Tabulka2[[#This Row],[Data]]=\"\",\"\",IF(OR(Tabulka2[[#This Row],[Data]]<$G$57,Tabulka2[[#This Row],[Data]]>$G$58),2,IF(OR(Tabulka2[[#This Row],[Data]]<$G$51,Tabulka2[[#This Row],[Data]]>$G$52),1,0)))","v":""},null,null,null,null,null,null,null,null,null,null,null,null,null,null,null,null,"",null,""]
[null,null,{"$f":"IF(Tabulka2[[#This Row],[Data]]=\"\",\"\",IF(OR(Tabulka2[[#This Row],[Data]]<$G$57,Tabulka2[[#This Row],[Data]]>$G$58),2,IF(OR(Tabulka2[[#This Row],[Data]]<$G$51,Tabulka2[[#This Row],[Data]]>$G$52),1,0)))","v":""},null,null,null,null,null,null,null,null,null,null,null,null,null,null,null,null,"",null,""]
[null,null,{"$f":"IF(Tabulka2[[#This Row],[Data]]=\"\",\"\",IF(OR(Tabulka2[[#This Row],[Data]]<$G$57,Tabulka2[[#This Row],[Data]]>$G$58),2,IF(OR(Tabulka2[[#This Row],[Data]]<$G$51,Tabulka2[[#This Row],[Data]]>$G$52),1,0)))","v":""},null,null,null,null,null,null,null,null,null,null,null,null,null,null,null,null,"",null,""]
[null,null,{"$f":"IF(Tabulka2[[#This Row],[Data]]=\"\",\"\",IF(OR(Tabulka2[[#This Row],[Data]]<$G$57,Tabulka2[[#This Row],[Data]]>$G$58),2,IF(OR(Tabulka2[[#This Row],[Data]]<$G$51,Tabulka2[[#This Row],[Data]]>$G$52),1,0)))","v":""},null,null,null,null,null,null,null,null,null,null,null,null,null,null,null,null,"",null,""]
[null,null,{"$f":"IF(Tabulka2[[#This Row],[Data]]=\"\",\"\",IF(OR(Tabulka2[[#This Row],[Data]]<$G$57,Tabulka2[[#This Row],[Data]]>$G$58),2,IF(OR(Tabulka2[[#This Row],[Data]]<$G$51,Tabulka2[[#This Row],[Data]]>$G$52),1,0)))","v":""},null,null,null,null,null,null,null,null,null,null,null,null,null,null,null,null,"",null,""]
[null,null,{"$f":"IF(Tabulka2[[#This Row],[Data]]=\"\",\"\",IF(OR(Tabulka2[[#This Row],[Data]]<$G$57,Tabulka2[[#This Row],[Data]]>$G$58),2,IF(OR(Tabulka2[[#This Row],[Data]]<$G$51,Tabulka2[[#This Row],[Data]]>$G$52),1,0)))","v":""},null,null,null,null,null,null,null,null,null,null,null,null,null,null,null,null,"",null,""]
[null,null,{"$f":"IF(Tabulka2[[#This Row],[Data]]=\"\",\"\",IF(OR(Tabulka2[[#This Row],[Data]]<$G$57,Tabulka2[[#This Row],[Data]]>$G$58),2,IF(OR(Tabulka2[[#This Row],[Data]]<$G$51,Tabulka2[[#This Row],[Data]]>$G$52),1,0)))","v":""},null,null,null,null,null,null,null,null,null,null,null,null,null,null,null,null,"",null,""]
[null,null,{"$f":"IF(Tabulka2[[#This Row],[Data]]=\"\",\"\",IF(OR(Tabulka2[[#This Row],[Data]]<$G$57,Tabulka2[[#This Row],[Data]]>$G$58),2,IF(OR(Tabulka2[[#This Row],[Data]]<$G$51,Tabulka2[[#This Row],[Data]]>$G$52),1,0)))","v":""},null,null,null,null,null,null,null,null,null,null,null,null,null,null,null,null,"",null,""]
[null,null,{"$f":"IF(Tabulka2[[#This Row],[Data]]=\"\",\"\",IF(OR(Tabulka2[[#This Row],[Data]]<$G$57,Tabulka2[[#This Row],[Data]]>$G$58),2,IF(OR(Tabulka2[[#This Row],[Data]]<$G$51,Tabulka2[[#This Row],[Data]]>$G$52),1,0)))","v":""},null,null,null,null,null,null,null,null,null,null,null,null,null,null,null,null,"",null,""]
[null,null,{"$f":"IF(Tabulka2[[#This Row],[Data]]=\"\",\"\",IF(OR(Tabulka2[[#This Row],[Data]]<$G$57,Tabulka2[[#This Row],[Data]]>$G$58),2,IF(OR(Tabulka2[[#This Row],[Data]]<$G$51,Tabulka2[[#This Row],[Data]]>$G$52),1,0)))","v":""},null,null,null,null,null,null,null,null,null,null,null,null,null,null,null,null,"",null,""]
[null,null,{"$f":"IF(Tabulka2[[#This Row],[Data]]=\"\",\"\",IF(OR(Tabulka2[[#This Row],[Data]]<$G$57,Tabulka2[[#This Row],[Data]]>$G$58),2,IF(OR(Tabulka2[[#This Row],[Data]]<$G$51,Tabulka2[[#This Row],[Data]]>$G$52),1,0)))","v":""},null,null,null,null,null,null,null,null,null,null,null,null,null,null,null,null,"",null,""]
[null,null,{"$f":"IF(Tabulka2[[#This Row],[Data]]=\"\",\"\",IF(OR(Tabulka2[[#This Row],[Data]]<$G$57,Tabulka2[[#This Row],[Data]]>$G$58),2,IF(OR(Tabulka2[[#This Row],[Data]]<$G$51,Tabulka2[[#This Row],[Data]]>$G$52),1,0)))","v":""},null,null,null,null,null,null,null,null,null,null,null,null,null,null,null,null,"",null,""]
[null,null,{"$f":"IF(Tabulka2[[#This Row],[Data]]=\"\",\"\",IF(OR(Tabulka2[[#This Row],[Data]]<$G$57,Tabulka2[[#This Row],[Data]]>$G$58),2,IF(OR(Tabulka2[[#This Row],[Data]]<$G$51,Tabulka2[[#This Row],[Data]]>$G$52),1,0)))","v":""},null,null,null,null,null,null,null,null,null,null,null,null,null,null,null,null,"",null,""]
[null,null,{"$f":"IF(Tabulka2[[#This Row],[Data]]=\"\",\"\",IF(OR(Tabulka2[[#This Row],[Data]]<$G$57,Tabulka2[[#This Row],[Data]]>$G$58),2,IF(OR(Tabulka2[[#This Row],[Data]]<$G$51,Tabulka2[[#This Row],[Data]]>$G$52),1,0)))","v":""},null,null,null,null,null,null,null,null,null,null,null,null,null,null,null,null,"",null,""]
[null,null,{"$f":"IF(Tabulka2[[#This Row],[Data]]=\"\",\"\",IF(OR(Tabulka2[[#This Row],[Data]]<$G$57,Tabulka2[[#This Row],[Data]]>$G$58),2,IF(OR(Tabulka2[[#This Row],[Data]]<$G$51,Tabulka2[[#This Row],[Data]]>$G$52),1,0)))","v":""},null,null,null,null,null,null,null,null,null,null,null,null,null,null,null,null,"",null,""]
[null,null,{"$f":"IF(Tabulka2[[#This Row],[Data]]=\"\",\"\",IF(OR(Tabulka2[[#This Row],[Data]]<$G$57,Tabulka2[[#This Row],[Data]]>$G$58),2,IF(OR(Tabulka2[[#This Row],[Data]]<$G$51,Tabulka2[[#This Row],[Data]]>$G$52),1,0)))","v":""},null,null,null,null,null,null,null,null,null,null,null,null,null,null,null,null,"",null,""]
[null,null,{"$f":"IF(Tabulka2[[#This Row],[Data]]=\"\",\"\",IF(OR(Tabulka2[[#This Row],[Data]]<$G$57,Tabulka2[[#This Row],[Data]]>$G$58),2,IF(OR(Tabulka2[[#This Row],[Data]]<$G$51,Tabulka2[[#This Row],[Data]]>$G$52),1,0)))","v":""},null,null,null,null,null,null,null,null,null,null,null,null,null,null,null,null,"",null,""]
[null,null,{"$f":"IF(Tabulka2[[#This Row],[Data]]=\"\",\"\",IF(OR(Tabulka2[[#This Row],[Data]]<$G$57,Tabulka2[[#This Row],[Data]]>$G$58),2,IF(OR(Tabulka2[[#This Row],[Data]]<$G$51,Tabulka2[[#This Row],[Data]]>$G$52),1,0)))","v":""},null,null,null,null,null,null,null,null,null,null,null,null,null,null,null,null,"",null,""]
[null,null,{"$f":"IF(Tabulka2[[#This Row],[Data]]=\"\",\"\",IF(OR(Tabulka2[[#This Row],[Data]]<$G$57,Tabulka2[[#This Row],[Data]]>$G$58),2,IF(OR(Tabulka2[[#This Row],[Data]]<$G$51,Tabulka2[[#This Row],[Data]]>$G$52),1,0)))","v":""},null,null,null,null,null,null,null,null,null,null,null,null,null,null,null,null,"",null,""]
[null,null,{"$f":"IF(Tabulka2[[#This Row],[Data]]=\"\",\"\",IF(OR(Tabulka2[[#This Row],[Data]]<$G$57,Tabulka2[[#This Row],[Data]]>$G$58),2,IF(OR(Tabulka2[[#This Row],[Data]]<$G$51,Tabulka2[[#This Row],[Data]]>$G$52),1,0)))","v":""},null,null,null,null,null,null,null,null,null,null,null,null,null,null,null,null,"",null,""]
[null,null,{"$f":"IF(Tabulka2[[#This Row],[Data]]=\"\",\"\",IF(OR(Tabulka2[[#This Row],[Data]]<$G$57,Tabulka2[[#This Row],[Data]]>$G$58),2,IF(OR(Tabulka2[[#This Row],[Data]]<$G$51,Tabulka2[[#This Row],[Data]]>$G$52),1,0)))","v":""},null,null,null,null,null,null,null,null,null,null,null,null,null,null,null,null,"",null,""]
[null,null,{"$f":"IF(Tabulka2[[#This Row],[Data]]=\"\",\"\",IF(OR(Tabulka2[[#This Row],[Data]]<$G$57,Tabulka2[[#This Row],[Data]]>$G$58),2,IF(OR(Tabulka2[[#This Row],[Data]]<$G$51,Tabulka2[[#This Row],[Data]]>$G$52),1,0)))","v":""},null,null,null,null,null,null,null,null,null,null,null,null,null,null,null,null,"",null,""]
[null,null,{"$f":"IF(Tabulka2[[#This Row],[Data]]=\"\",\"\",IF(OR(Tabulka2[[#This Row],[Data]]<$G$57,Tabulka2[[#This Row],[Data]]>$G$58),2,IF(OR(Tabulka2[[#This Row],[Data]]<$G$51,Tabulka2[[#This Row],[Data]]>$G$52),1,0)))","v":""},null,null,null,null,null,null,null,null,null,null,null,null,null,null,null,null,"",null,""]
[null,null,{"$f":"IF(Tabulka2[[#This Row],[Data]]=\"\",\"\",IF(OR(Tabulka2[[#This Row],[Data]]<$G$57,Tabulka2[[#This Row],[Data]]>$G$58),2,IF(OR(Tabulka2[[#This Row],[Data]]<$G$51,Tabulka2[[#This Row],[Data]]>$G$52),1,0)))","v":""},null,null,null,null,null,null,null,null,null,null,null,null,null,null,null,null,"",null,""]
[null,null,{"$f":"IF(Tabulka2[[#This Row],[Data]]=\"\",\"\",IF(OR(Tabulka2[[#This Row],[Data]]<$G$57,Tabulka2[[#This Row],[Data]]>$G$58),2,IF(OR(Tabulka2[[#This Row],[Data]]<$G$51,Tabulka2[[#This Row],[Data]]>$G$52),1,0)))","v":""},null,null,null,null,null,null,null,null,null,null,null,null,null,null,null,null,"",null,""]
[null,null,{"$f":"IF(Tabulka2[[#This Row],[Data]]=\"\",\"\",IF(OR(Tabulka2[[#This Row],[Data]]<$G$57,Tabulka2[[#This Row],[Data]]>$G$58),2,IF(OR(Tabulka2[[#This Row],[Data]]<$G$51,Tabulka2[[#This Row],[Data]]>$G$52),1,0)))","v":""},null,null,null,null,null,null,null,null,null,null,null,null,null,null,null,null,"",null,""]
[null,null,{"$f":"IF(Tabulka2[[#This Row],[Data]]=\"\",\"\",IF(OR(Tabulka2[[#This Row],[Data]]<$G$57,Tabulka2[[#This Row],[Data]]>$G$58),2,IF(OR(Tabulka2[[#This Row],[Data]]<$G$51,Tabulka2[[#This Row],[Data]]>$G$52),1,0)))","v":""},null,null,null,null,null,null,null,null,null,null,null,null,null,null,null,null,"",null,""]
[null,null,{"$f":"IF(Tabulka2[[#This Row],[Data]]=\"\",\"\",IF(OR(Tabulka2[[#This Row],[Data]]<$G$57,Tabulka2[[#This Row],[Data]]>$G$58),2,IF(OR(Tabulka2[[#This Row],[Data]]<$G$51,Tabulka2[[#This Row],[Data]]>$G$52),1,0)))","v":""},null,null,null,null,null,null,null,null,null,null,null,null,null,null,null,null,"",null,""]
[null,null,{"$f":"IF(Tabulka2[[#This Row],[Data]]=\"\",\"\",IF(OR(Tabulka2[[#This Row],[Data]]<$G$57,Tabulka2[[#This Row],[Data]]>$G$58),2,IF(OR(Tabulka2[[#This Row],[Data]]<$G$51,Tabulka2[[#This Row],[Data]]>$G$52),1,0)))","v":""},null,null,null,null,null,null,null,null,null,null,null,null,null,null,null,null,"",null,""]
[null,null,{"$f":"IF(Tabulka2[[#This Row],[Data]]=\"\",\"\",IF(OR(Tabulka2[[#This Row],[Data]]<$G$57,Tabulka2[[#This Row],[Data]]>$G$58),2,IF(OR(Tabulka2[[#This Row],[Data]]<$G$51,Tabulka2[[#This Row],[Data]]>$G$52),1,0)))","v":""},null,null,null,null,null,null,null,null,null,null,null,null,null,null,null,null,"",null,""]
[null,null,{"$f":"IF(Tabulka2[[#This Row],[Data]]=\"\",\"\",IF(OR(Tabulka2[[#This Row],[Data]]<$G$57,Tabulka2[[#This Row],[Data]]>$G$58),2,IF(OR(Tabulka2[[#This Row],[Data]]<$G$51,Tabulka2[[#This Row],[Data]]>$G$52),1,0)))","v":""},null,null,null,null,null,null,null,null,null,null,null,null,null,null,null,null,"",null,""]
[null,null,{"$f":"IF(Tabulka2[[#This Row],[Data]]=\"\",\"\",IF(OR(Tabulka2[[#This Row],[Data]]<$G$57,Tabulka2[[#This Row],[Data]]>$G$58),2,IF(OR(Tabulka2[[#This Row],[Data]]<$G$51,Tabulka2[[#This Row],[Data]]>$G$52),1,0)))","v":""},null,null,null,null,null,null,null,null,null,null,null,null,null,null,null,null,"",null,""]
[null,null,{"$f":"IF(Tabulka2[[#This Row],[Data]]=\"\",\"\",IF(OR(Tabulka2[[#This Row],[Data]]<$G$57,Tabulka2[[#This Row],[Data]]>$G$58),2,IF(OR(Tabulka2[[#This Row],[Data]]<$G$51,Tabulka2[[#This Row],[Data]]>$G$52),1,0)))","v":""},null,null,null,null,null,null,null,null,null,null,null,null,null,null,null,null,"",null,""]
[null,null,{"$f":"IF(Tabulka2[[#This Row],[Data]]=\"\",\"\",IF(OR(Tabulka2[[#This Row],[Data]]<$G$57,Tabulka2[[#This Row],[Data]]>$G$58),2,IF(OR(Tabulka2[[#This Row],[Data]]<$G$51,Tabulka2[[#This Row],[Data]]>$G$52),1,0)))","v":""},null,null,null,null,null,null,null,null,null,null,null,null,null,null,null,null,"",null,""]
[null,null,{"$f":"IF(Tabulka2[[#This Row],[Data]]=\"\",\"\",IF(OR(Tabulka2[[#This Row],[Data]]<$G$57,Tabulka2[[#This Row],[Data]]>$G$58),2,IF(OR(Tabulka2[[#This Row],[Data]]<$G$51,Tabulka2[[#This Row],[Data]]>$G$52),1,0)))","v":""},{"$f":"IF(Tabulka2[[#This Row],[OL]]=\"\",\"\",IF(Tabulka2[[#This Row],[OL]]>0,A168,\"\"))","v":""},null,null,null,null,null,null,null,null,null,null,null,null,null,null,null,"",null,""]
[null,null,{"$f":"IF(Tabulka2[[#This Row],[Data]]=\"\",\"\",IF(OR(Tabulka2[[#This Row],[Data]]<$G$57,Tabulka2[[#This Row],[Data]]>$G$58),2,IF(OR(Tabulka2[[#This Row],[Data]]<$G$51,Tabulka2[[#This Row],[Data]]>$G$52),1,0)))","v":""},{"$f":"IF(Tabulka2[[#This Row],[OL]]=\"\",\"\",IF(Tabulka2[[#This Row],[OL]]>0,A169,\"\"))","v":""},null,null,null,null,null,null,null,null,null,null,null,null,null,null,null,"",null,""]
[null,null,{"$f":"IF(Tabulka2[[#This Row],[Data]]=\"\",\"\",IF(OR(Tabulka2[[#This Row],[Data]]<$G$57,Tabulka2[[#This Row],[Data]]>$G$58),2,IF(OR(Tabulka2[[#This Row],[Data]]<$G$51,Tabulka2[[#This Row],[Data]]>$G$52),1,0)))","v":""},{"$f":"IF(Tabulka2[[#This Row],[OL]]=\"\",\"\",IF(Tabulka2[[#This Row],[OL]]>0,A170,\"\"))","v":""},null,null,null,null,null,null,null,null,null,null,null,null,null,null,null,"",null,""]
[null,null,{"$f":"IF(Tabulka2[[#This Row],[Data]]=\"\",\"\",IF(OR(Tabulka2[[#This Row],[Data]]<$G$57,Tabulka2[[#This Row],[Data]]>$G$58),2,IF(OR(Tabulka2[[#This Row],[Data]]<$G$51,Tabulka2[[#This Row],[Data]]>$G$52),1,0)))","v":""},{"$f":"IF(Tabulka2[[#This Row],[OL]]=\"\",\"\",IF(Tabulka2[[#This Row],[OL]]>0,A171,\"\"))","v":""},null,null,null,null,null,null,null,null,null,null,null,null,null,null,null,"",null,""]
[null,null,{"$f":"IF(Tabulka2[[#This Row],[Data]]=\"\",\"\",IF(OR(Tabulka2[[#This Row],[Data]]<$G$57,Tabulka2[[#This Row],[Data]]>$G$58),2,IF(OR(Tabulka2[[#This Row],[Data]]<$G$51,Tabulka2[[#This Row],[Data]]>$G$52),1,0)))","v":""},{"$f":"IF(Tabulka2[[#This Row],[OL]]=\"\",\"\",IF(Tabulka2[[#This Row],[OL]]>0,A172,\"\"))","v":""},null,null,null,null,null,null,null,null,null,null,null,null,null,null,null,"",null,""]
[null,null,{"$f":"IF(Tabulka2[[#This Row],[Data]]=\"\",\"\",IF(OR(Tabulka2[[#This Row],[Data]]<$G$57,Tabulka2[[#This Row],[Data]]>$G$58),2,IF(OR(Tabulka2[[#This Row],[Data]]<$G$51,Tabulka2[[#This Row],[Data]]>$G$52),1,0)))","v":""},{"$f":"IF(Tabulka2[[#This Row],[OL]]=\"\",\"\",IF(Tabulka2[[#This Row],[OL]]>0,A173,\"\"))","v":""},null,null,null,null,null,null,null,null,null,null,null,null,null,null,null,"",null,""]
[null,null,{"$f":"IF(Tabulka2[[#This Row],[Data]]=\"\",\"\",IF(OR(Tabulka2[[#This Row],[Data]]<$G$57,Tabulka2[[#This Row],[Data]]>$G$58),2,IF(OR(Tabulka2[[#This Row],[Data]]<$G$51,Tabulka2[[#This Row],[Data]]>$G$52),1,0)))","v":""},{"$f":"IF(Tabulka2[[#This Row],[OL]]=\"\",\"\",IF(Tabulka2[[#This Row],[OL]]>0,A174,\"\"))","v":""},null,null,null,null,null,null,null,null,null,null,null,null,null,null,null,"",null,""]
[null,null,{"$f":"IF(Tabulka2[[#This Row],[Data]]=\"\",\"\",IF(OR(Tabulka2[[#This Row],[Data]]<$G$57,Tabulka2[[#This Row],[Data]]>$G$58),2,IF(OR(Tabulka2[[#This Row],[Data]]<$G$51,Tabulka2[[#This Row],[Data]]>$G$52),1,0)))","v":""},{"$f":"IF(Tabulka2[[#This Row],[OL]]=\"\",\"\",IF(Tabulka2[[#This Row],[OL]]>0,A175,\"\"))","v":""},null,null,null,null,null,null,null,null,null,null,null,null,null,null,null,"",null,""]
[null,null,{"$f":"IF(Tabulka2[[#This Row],[Data]]=\"\",\"\",IF(OR(Tabulka2[[#This Row],[Data]]<$G$57,Tabulka2[[#This Row],[Data]]>$G$58),2,IF(OR(Tabulka2[[#This Row],[Data]]<$G$51,Tabulka2[[#This Row],[Data]]>$G$52),1,0)))","v":""},{"$f":"IF(Tabulka2[[#This Row],[OL]]=\"\",\"\",IF(Tabulka2[[#This Row],[OL]]>0,A176,\"\"))","v":""},null,null,null,null,null,null,null,null,null,null,null,null,null,null,null,"",null,""]
[null,null,{"$f":"IF(Tabulka2[[#This Row],[Data]]=\"\",\"\",IF(OR(Tabulka2[[#This Row],[Data]]<$G$57,Tabulka2[[#This Row],[Data]]>$G$58),2,IF(OR(Tabulka2[[#This Row],[Data]]<$G$51,Tabulka2[[#This Row],[Data]]>$G$52),1,0)))","v":""},{"$f":"IF(Tabulka2[[#This Row],[OL]]=\"\",\"\",IF(Tabulka2[[#This Row],[OL]]>0,A177,\"\"))","v":""},null,null,null,null,null,null,null,null,null,null,null,null,null,null,null,"",null,""]
[null,null,{"$f":"IF(Tabulka2[[#This Row],[Data]]=\"\",\"\",IF(OR(Tabulka2[[#This Row],[Data]]<$G$57,Tabulka2[[#This Row],[Data]]>$G$58),2,IF(OR(Tabulka2[[#This Row],[Data]]<$G$51,Tabulka2[[#This Row],[Data]]>$G$52),1,0)))","v":""},{"$f":"IF(Tabulka2[[#This Row],[OL]]=\"\",\"\",IF(Tabulka2[[#This Row],[OL]]>0,A178,\"\"))","v":""},null,null,null,null,null,null,null,null,null,null,null,null,null,null,null,"",null,""]
[null,null,{"$f":"IF(Tabulka2[[#This Row],[Data]]=\"\",\"\",IF(OR(Tabulka2[[#This Row],[Data]]<$G$57,Tabulka2[[#This Row],[Data]]>$G$58),2,IF(OR(Tabulka2[[#This Row],[Data]]<$G$51,Tabulka2[[#This Row],[Data]]>$G$52),1,0)))","v":""},{"$f":"IF(Tabulka2[[#This Row],[OL]]=\"\",\"\",IF(Tabulka2[[#This Row],[OL]]>0,A179,\"\"))","v":""},null,null,null,null,null,null,null,null,null,null,null,null,null,null,null,"",null,""]
[null,null,{"$f":"IF(Tabulka2[[#This Row],[Data]]=\"\",\"\",IF(OR(Tabulka2[[#This Row],[Data]]<$G$57,Tabulka2[[#This Row],[Data]]>$G$58),2,IF(OR(Tabulka2[[#This Row],[Data]]<$G$51,Tabulka2[[#This Row],[Data]]>$G$52),1,0)))","v":""},{"$f":"IF(Tabulka2[[#This Row],[OL]]=\"\",\"\",IF(Tabulka2[[#This Row],[OL]]>0,A180,\"\"))","v":""},null,null,null,null,null,null,null,null,null,null,null,null,null,null,null,"",null,""]
[null,null,{"$f":"IF(Tabulka2[[#This Row],[Data]]=\"\",\"\",IF(OR(Tabulka2[[#This Row],[Data]]<$G$57,Tabulka2[[#This Row],[Data]]>$G$58),2,IF(OR(Tabulka2[[#This Row],[Data]]<$G$51,Tabulka2[[#This Row],[Data]]>$G$52),1,0)))","v":""},{"$f":"IF(Tabulka2[[#This Row],[OL]]=\"\",\"\",IF(Tabulka2[[#This Row],[OL]]>0,A181,\"\"))","v":""},null,null,null,null,null,null,null,null,null,null,null,null,null,null,null,"",null,""]
[null,null,{"$f":"IF(Tabulka2[[#This Row],[Data]]=\"\",\"\",IF(OR(Tabulka2[[#This Row],[Data]]<$G$57,Tabulka2[[#This Row],[Data]]>$G$58),2,IF(OR(Tabulka2[[#This Row],[Data]]<$G$51,Tabulka2[[#This Row],[Data]]>$G$52),1,0)))","v":""},{"$f":"IF(Tabulka2[[#This Row],[OL]]=\"\",\"\",IF(Tabulka2[[#This Row],[OL]]>0,A182,\"\"))","v":""},null,null,null,null,null,null,null,null,null,null,null,null,null,null,null,"",null,""]
[null,null,{"$f":"IF(Tabulka2[[#This Row],[Data]]=\"\",\"\",IF(OR(Tabulka2[[#This Row],[Data]]<$G$57,Tabulka2[[#This Row],[Data]]>$G$58),2,IF(OR(Tabulka2[[#This Row],[Data]]<$G$51,Tabulka2[[#This Row],[Data]]>$G$52),1,0)))","v":""},{"$f":"IF(Tabulka2[[#This Row],[OL]]=\"\",\"\",IF(Tabulka2[[#This Row],[OL]]>0,A183,\"\"))","v":""},null,null,null,null,null,null,null,null,null,null,null,null,null,null,null,"",null,""]
[null,null,{"$f":"IF(Tabulka2[[#This Row],[Data]]=\"\",\"\",IF(OR(Tabulka2[[#This Row],[Data]]<$G$57,Tabulka2[[#This Row],[Data]]>$G$58),2,IF(OR(Tabulka2[[#This Row],[Data]]<$G$51,Tabulka2[[#This Row],[Data]]>$G$52),1,0)))","v":""},{"$f":"IF(Tabulka2[[#This Row],[OL]]=\"\",\"\",IF(Tabulka2[[#This Row],[OL]]>0,A184,\"\"))","v":""},null,null,null,null,null,null,null,null,null,null,null,null,null,null,null,"",null,""]
[null,null,{"$f":"IF(Tabulka2[[#This Row],[Data]]=\"\",\"\",IF(OR(Tabulka2[[#This Row],[Data]]<$G$57,Tabulka2[[#This Row],[Data]]>$G$58),2,IF(OR(Tabulka2[[#This Row],[Data]]<$G$51,Tabulka2[[#This Row],[Data]]>$G$52),1,0)))","v":""},{"$f":"IF(Tabulka2[[#This Row],[OL]]=\"\",\"\",IF(Tabulka2[[#This Row],[OL]]>0,A185,\"\"))","v":""},null,null,null,null,null,null,null,null,null,null,null,null,null,null,null,"",null,""]
[null,null,{"$f":"IF(Tabulka2[[#This Row],[Data]]=\"\",\"\",IF(OR(Tabulka2[[#This Row],[Data]]<$G$57,Tabulka2[[#This Row],[Data]]>$G$58),2,IF(OR(Tabulka2[[#This Row],[Data]]<$G$51,Tabulka2[[#This Row],[Data]]>$G$52),1,0)))","v":""},{"$f":"IF(Tabulka2[[#This Row],[OL]]=\"\",\"\",IF(Tabulka2[[#This Row],[OL]]>0,A186,\"\"))","v":""},null,null,null,null,null,null,null,null,null,null,null,null,null,null,null,"",null,""]
[null,null,{"$f":"IF(Tabulka2[[#This Row],[Data]]=\"\",\"\",IF(OR(Tabulka2[[#This Row],[Data]]<$G$57,Tabulka2[[#This Row],[Data]]>$G$58),2,IF(OR(Tabulka2[[#This Row],[Data]]<$G$51,Tabulka2[[#This Row],[Data]]>$G$52),1,0)))","v":""},{"$f":"IF(Tabulka2[[#This Row],[OL]]=\"\",\"\",IF(Tabulka2[[#This Row],[OL]]>0,A187,\"\"))","v":""},null,null,null,null,null,null,null,null,null,null,null,null,null,null,null,"",null,""]
[null,null,{"$f":"IF(Tabulka2[[#This Row],[Data]]=\"\",\"\",IF(OR(Tabulka2[[#This Row],[Data]]<$G$57,Tabulka2[[#This Row],[Data]]>$G$58),2,IF(OR(Tabulka2[[#This Row],[Data]]<$G$51,Tabulka2[[#This Row],[Data]]>$G$52),1,0)))","v":""},{"$f":"IF(Tabulka2[[#This Row],[OL]]=\"\",\"\",IF(Tabulka2[[#This Row],[OL]]>0,A188,\"\"))","v":""},null,null,null,null,null,null,null,null,null,null,null,null,null,null,null,"",null,""]
[null,null,{"$f":"IF(Tabulka2[[#This Row],[Data]]=\"\",\"\",IF(OR(Tabulka2[[#This Row],[Data]]<$G$57,Tabulka2[[#This Row],[Data]]>$G$58),2,IF(OR(Tabulka2[[#This Row],[Data]]<$G$51,Tabulka2[[#This Row],[Data]]>$G$52),1,0)))","v":""},{"$f":"IF(Tabulka2[[#This Row],[OL]]=\"\",\"\",IF(Tabulka2[[#This Row],[OL]]>0,A189,\"\"))","v":""},null,null,null,null,null,null,null,null,null,null,null,null,null,null,null,"",null,""]
[null,null,{"$f":"IF(Tabulka2[[#This Row],[Data]]=\"\",\"\",IF(OR(Tabulka2[[#This Row],[Data]]<$G$57,Tabulka2[[#This Row],[Data]]>$G$58),2,IF(OR(Tabulka2[[#This Row],[Data]]<$G$51,Tabulka2[[#This Row],[Data]]>$G$52),1,0)))","v":""},{"$f":"IF(Tabulka2[[#This Row],[OL]]=\"\",\"\",IF(Tabulka2[[#This Row],[OL]]>0,A190,\"\"))","v":""},null,null,null,null,null,null,null,null,null,null,null,null,null,null,null,"",null,""]
[null,null,{"$f":"IF(Tabulka2[[#This Row],[Data]]=\"\",\"\",IF(OR(Tabulka2[[#This Row],[Data]]<$G$57,Tabulka2[[#This Row],[Data]]>$G$58),2,IF(OR(Tabulka2[[#This Row],[Data]]<$G$51,Tabulka2[[#This Row],[Data]]>$G$52),1,0)))","v":""},{"$f":"IF(Tabulka2[[#This Row],[OL]]=\"\",\"\",IF(Tabulka2[[#This Row],[OL]]>0,A191,\"\"))","v":""},null,null,null,null,null,null,null,null,null,null,null,null,null,null,null,"",null,""]
[null,null,{"$f":"IF(Tabulka2[[#This Row],[Data]]=\"\",\"\",IF(OR(Tabulka2[[#This Row],[Data]]<$G$57,Tabulka2[[#This Row],[Data]]>$G$58),2,IF(OR(Tabulka2[[#This Row],[Data]]<$G$51,Tabulka2[[#This Row],[Data]]>$G$52),1,0)))","v":""},{"$f":"IF(Tabulka2[[#This Row],[OL]]=\"\",\"\",IF(Tabulka2[[#This Row],[OL]]>0,A192,\"\"))","v":""},null,null,null,null,null,null,null,null,null,null,null,null,null,null,null,"",null,""]
[null,null,{"$f":"IF(Tabulka2[[#This Row],[Data]]=\"\",\"\",IF(OR(Tabulka2[[#This Row],[Data]]<$G$57,Tabulka2[[#This Row],[Data]]>$G$58),2,IF(OR(Tabulka2[[#This Row],[Data]]<$G$51,Tabulka2[[#This Row],[Data]]>$G$52),1,0)))","v":""},{"$f":"IF(Tabulka2[[#This Row],[OL]]=\"\",\"\",IF(Tabulka2[[#This Row],[OL]]>0,A193,\"\"))","v":""},null,null,null,null,null,null,null,null,null,null,null,null,null,null,null,"",null,""]
[null,null,{"$f":"IF(Tabulka2[[#This Row],[Data]]=\"\",\"\",IF(OR(Tabulka2[[#This Row],[Data]]<$G$57,Tabulka2[[#This Row],[Data]]>$G$58),2,IF(OR(Tabulka2[[#This Row],[Data]]<$G$51,Tabulka2[[#This Row],[Data]]>$G$52),1,0)))","v":""},{"$f":"IF(Tabulka2[[#This Row],[OL]]=\"\",\"\",IF(Tabulka2[[#This Row],[OL]]>0,A194,\"\"))","v":""},null,null,null,null,null,null,null,null,null,null,null,null,null,null,null,"",null,""]
[null,null,{"$f":"IF(Tabulka2[[#This Row],[Data]]=\"\",\"\",IF(OR(Tabulka2[[#This Row],[Data]]<$G$57,Tabulka2[[#This Row],[Data]]>$G$58),2,IF(OR(Tabulka2[[#This Row],[Data]]<$G$51,Tabulka2[[#This Row],[Data]]>$G$52),1,0)))","v":""},{"$f":"IF(Tabulka2[[#This Row],[OL]]=\"\",\"\",IF(Tabulka2[[#This Row],[OL]]>0,A195,\"\"))","v":""},null,null,null,null,null,null,null,null,null,null,null,null,null,null,null,"",null,""]
[null,null,{"$f":"IF(Tabulka2[[#This Row],[Data]]=\"\",\"\",IF(OR(Tabulka2[[#This Row],[Data]]<$G$57,Tabulka2[[#This Row],[Data]]>$G$58),2,IF(OR(Tabulka2[[#This Row],[Data]]<$G$51,Tabulka2[[#This Row],[Data]]>$G$52),1,0)))","v":""},{"$f":"IF(Tabulka2[[#This Row],[OL]]=\"\",\"\",IF(Tabulka2[[#This Row],[OL]]>0,A196,\"\"))","v":""},null,null,null,null,null,null,null,null,null,null,null,null,null,null,null,"",null,""]
[null,null,{"$f":"IF(Tabulka2[[#This Row],[Data]]=\"\",\"\",IF(OR(Tabulka2[[#This Row],[Data]]<$G$57,Tabulka2[[#This Row],[Data]]>$G$58),2,IF(OR(Tabulka2[[#This Row],[Data]]<$G$51,Tabulka2[[#This Row],[Data]]>$G$52),1,0)))","v":""},{"$f":"IF(Tabulka2[[#This Row],[OL]]=\"\",\"\",IF(Tabulka2[[#This Row],[OL]]>0,A197,\"\"))","v":""},null,null,null,null,null,null,null,null,null,null,null,null,null,null,null,"",null,""]
[null,null,{"$f":"IF(Tabulka2[[#This Row],[Data]]=\"\",\"\",IF(OR(Tabulka2[[#This Row],[Data]]<$G$57,Tabulka2[[#This Row],[Data]]>$G$58),2,IF(OR(Tabulka2[[#This Row],[Data]]<$G$51,Tabulka2[[#This Row],[Data]]>$G$52),1,0)))","v":""},{"$f":"IF(Tabulka2[[#This Row],[OL]]=\"\",\"\",IF(Tabulka2[[#This Row],[OL]]>0,A198,\"\"))","v":""},null,null,null,null,null,null,null,null,null,null,null,null,null,null,null,"",null,""]
[null,null,{"$f":"IF(Tabulka2[[#This Row],[Data]]=\"\",\"\",IF(OR(Tabulka2[[#This Row],[Data]]<$G$57,Tabulka2[[#This Row],[Data]]>$G$58),2,IF(OR(Tabulka2[[#This Row],[Data]]<$G$51,Tabulka2[[#This Row],[Data]]>$G$52),1,0)))","v":""},{"$f":"IF(Tabulka2[[#This Row],[OL]]=\"\",\"\",IF(Tabulka2[[#This Row],[OL]]>0,A199,\"\"))","v":""},null,null,null,null,null,null,null,null,null,null,null,null,null,null,null,"",null,""]
[null,null,{"$f":"IF(Tabulka2[[#This Row],[Data]]=\"\",\"\",IF(OR(Tabulka2[[#This Row],[Data]]<$G$57,Tabulka2[[#This Row],[Data]]>$G$58),2,IF(OR(Tabulka2[[#This Row],[Data]]<$G$51,Tabulka2[[#This Row],[Data]]>$G$52),1,0)))","v":""},{"$f":"IF(Tabulka2[[#This Row],[OL]]=\"\",\"\",IF(Tabulka2[[#This Row],[OL]]>0,A200,\"\"))","v":""},null,null,null,null,null,null,null,null,null,null,null,null,null,null,null,"",null,""]
[null,null,{"$f":"IF(Tabulka2[[#This Row],[Data]]=\"\",\"\",IF(OR(Tabulka2[[#This Row],[Data]]<$G$57,Tabulka2[[#This Row],[Data]]>$G$58),2,IF(OR(Tabulka2[[#This Row],[Data]]<$G$51,Tabulka2[[#This Row],[Data]]>$G$52),1,0)))","v":""},{"$f":"IF(Tabulka2[[#This Row],[OL]]=\"\",\"\",IF(Tabulka2[[#This Row],[OL]]>0,A201,\"\"))","v":""},null,null,null,null,null,null,null,null,null,null,null,null,null,null,null,"",null,""]
[null,null,{"$f":"IF(Tabulka2[[#This Row],[Data]]=\"\",\"\",IF(OR(Tabulka2[[#This Row],[Data]]<$G$57,Tabulka2[[#This Row],[Data]]>$G$58),2,IF(OR(Tabulka2[[#This Row],[Data]]<$G$51,Tabulka2[[#This Row],[Data]]>$G$52),1,0)))","v":""},{"$f":"IF(Tabulka2[[#This Row],[OL]]=\"\",\"\",IF(Tabulka2[[#This Row],[OL]]>0,A202,\"\"))","v":""},null,null,null,null,null,null,null,null,null,null,null,null,null,null,null,"",null,""]
[null,null,{"$f":"IF(Tabulka2[[#This Row],[Data]]=\"\",\"\",IF(OR(Tabulka2[[#This Row],[Data]]<$G$57,Tabulka2[[#This Row],[Data]]>$G$58),2,IF(OR(Tabulka2[[#This Row],[Data]]<$G$51,Tabulka2[[#This Row],[Data]]>$G$52),1,0)))","v":""},{"$f":"IF(Tabulka2[[#This Row],[OL]]=\"\",\"\",IF(Tabulka2[[#This Row],[OL]]>0,A203,\"\"))","v":""},null,null,null,null,null,null,null,null,null,null,null,null,null,null,null,"",null,""]
[null,null,{"$f":"IF(Tabulka2[[#This Row],[Data]]=\"\",\"\",IF(OR(Tabulka2[[#This Row],[Data]]<$G$57,Tabulka2[[#This Row],[Data]]>$G$58),2,IF(OR(Tabulka2[[#This Row],[Data]]<$G$51,Tabulka2[[#This Row],[Data]]>$G$52),1,0)))","v":""},{"$f":"IF(Tabulka2[[#This Row],[OL]]=\"\",\"\",IF(Tabulka2[[#This Row],[OL]]>0,A204,\"\"))","v":""},null,null,null,null,null,null,null,null,null,null,null,null,null,null,null,"",null,""]
[null,null,{"$f":"IF(Tabulka2[[#This Row],[Data]]=\"\",\"\",IF(OR(Tabulka2[[#This Row],[Data]]<$G$57,Tabulka2[[#This Row],[Data]]>$G$58),2,IF(OR(Tabulka2[[#This Row],[Data]]<$G$51,Tabulka2[[#This Row],[Data]]>$G$52),1,0)))","v":""},{"$f":"IF(Tabulka2[[#This Row],[OL]]=\"\",\"\",IF(Tabulka2[[#This Row],[OL]]>0,A205,\"\"))","v":""},null,null,null,null,null,null,null,null,null,null,null,null,null,null,null,"",null,""]
[null,null,{"$f":"IF(Tabulka2[[#This Row],[Data]]=\"\",\"\",IF(OR(Tabulka2[[#This Row],[Data]]<$G$57,Tabulka2[[#This Row],[Data]]>$G$58),2,IF(OR(Tabulka2[[#This Row],[Data]]<$G$51,Tabulka2[[#This Row],[Data]]>$G$52),1,0)))","v":""},{"$f":"IF(Tabulka2[[#This Row],[OL]]=\"\",\"\",IF(Tabulka2[[#This Row],[OL]]>0,A206,\"\"))","v":""},null,null,null,null,null,null,null,null,null,null,null,null,null,null,null,"",null,""]
[null,null,{"$f":"IF(Tabulka2[[#This Row],[Data]]=\"\",\"\",IF(OR(Tabulka2[[#This Row],[Data]]<$G$57,Tabulka2[[#This Row],[Data]]>$G$58),2,IF(OR(Tabulka2[[#This Row],[Data]]<$G$51,Tabulka2[[#This Row],[Data]]>$G$52),1,0)))","v":""},{"$f":"IF(Tabulka2[[#This Row],[OL]]=\"\",\"\",IF(Tabulka2[[#This Row],[OL]]>0,A207,\"\"))","v":""},null,null,null,null,null,null,null,null,null,null,null,null,null,null,null,"",null,""]
[null,null,{"$f":"IF(Tabulka2[[#This Row],[Data]]=\"\",\"\",IF(OR(Tabulka2[[#This Row],[Data]]<$G$57,Tabulka2[[#This Row],[Data]]>$G$58),2,IF(OR(Tabulka2[[#This Row],[Data]]<$G$51,Tabulka2[[#This Row],[Data]]>$G$52),1,0)))","v":""},{"$f":"IF(Tabulka2[[#This Row],[OL]]=\"\",\"\",IF(Tabulka2[[#This Row],[OL]]>0,A208,\"\"))","v":""},null,null,null,null,null,null,null,null,null,null,null,null,null,null,null,"",null,""]
[null,null,{"$f":"IF(Tabulka2[[#This Row],[Data]]=\"\",\"\",IF(OR(Tabulka2[[#This Row],[Data]]<$G$57,Tabulka2[[#This Row],[Data]]>$G$58),2,IF(OR(Tabulka2[[#This Row],[Data]]<$G$51,Tabulka2[[#This Row],[Data]]>$G$52),1,0)))","v":""},{"$f":"IF(Tabulka2[[#This Row],[OL]]=\"\",\"\",IF(Tabulka2[[#This Row],[OL]]>0,A209,\"\"))","v":""},null,null,null,null,null,null,null,null,null,null,null,null,null,null,null,"",null,""]
[null,null,{"$f":"IF(Tabulka2[[#This Row],[Data]]=\"\",\"\",IF(OR(Tabulka2[[#This Row],[Data]]<$G$57,Tabulka2[[#This Row],[Data]]>$G$58),2,IF(OR(Tabulka2[[#This Row],[Data]]<$G$51,Tabulka2[[#This Row],[Data]]>$G$52),1,0)))","v":""},{"$f":"IF(Tabulka2[[#This Row],[OL]]=\"\",\"\",IF(Tabulka2[[#This Row],[OL]]>0,A210,\"\"))","v":""},null,null,null,null,null,null,null,null,null,null,null,null,null,null,null,"",null,""]
[null,null,{"$f":"IF(Tabulka2[[#This Row],[Data]]=\"\",\"\",IF(OR(Tabulka2[[#This Row],[Data]]<$G$57,Tabulka2[[#This Row],[Data]]>$G$58),2,IF(OR(Tabulka2[[#This Row],[Data]]<$G$51,Tabulka2[[#This Row],[Data]]>$G$52),1,0)))","v":""},{"$f":"IF(Tabulka2[[#This Row],[OL]]=\"\",\"\",IF(Tabulka2[[#This Row],[OL]]>0,A211,\"\"))","v":""},null,null,null,null,null,null,null,null,null,null,null,null,null,null,null,"",null,""]
[null,null,{"$f":"IF(Tabulka2[[#This Row],[Data]]=\"\",\"\",IF(OR(Tabulka2[[#This Row],[Data]]<$G$57,Tabulka2[[#This Row],[Data]]>$G$58),2,IF(OR(Tabulka2[[#This Row],[Data]]<$G$51,Tabulka2[[#This Row],[Data]]>$G$52),1,0)))","v":""},{"$f":"IF(Tabulka2[[#This Row],[OL]]=\"\",\"\",IF(Tabulka2[[#This Row],[OL]]>0,A212,\"\"))","v":""},null,null,null,null,null,null,null,null,null,null,null,null,null,null,null,"",null,""]
[null,null,{"$f":"IF(Tabulka2[[#This Row],[Data]]=\"\",\"\",IF(OR(Tabulka2[[#This Row],[Data]]<$G$57,Tabulka2[[#This Row],[Data]]>$G$58),2,IF(OR(Tabulka2[[#This Row],[Data]]<$G$51,Tabulka2[[#This Row],[Data]]>$G$52),1,0)))","v":""},{"$f":"IF(Tabulka2[[#This Row],[OL]]=\"\",\"\",IF(Tabulka2[[#This Row],[OL]]>0,A213,\"\"))","v":""},null,null,null,null,null,null,null,null,null,null,null,null,null,null,null,"",null,""]
[null,null,{"$f":"IF(Tabulka2[[#This Row],[Data]]=\"\",\"\",IF(OR(Tabulka2[[#This Row],[Data]]<$G$57,Tabulka2[[#This Row],[Data]]>$G$58),2,IF(OR(Tabulka2[[#This Row],[Data]]<$G$51,Tabulka2[[#This Row],[Data]]>$G$52),1,0)))","v":""},{"$f":"IF(Tabulka2[[#This Row],[OL]]=\"\",\"\",IF(Tabulka2[[#This Row],[OL]]>0,A214,\"\"))","v":""},null,null,null,null,null,null,null,null,null,null,null,null,null,null,null,"",null,""]
[null,null,{"$f":"IF(Tabulka2[[#This Row],[Data]]=\"\",\"\",IF(OR(Tabulka2[[#This Row],[Data]]<$G$57,Tabulka2[[#This Row],[Data]]>$G$58),2,IF(OR(Tabulka2[[#This Row],[Data]]<$G$51,Tabulka2[[#This Row],[Data]]>$G$52),1,0)))","v":""},{"$f":"IF(Tabulka2[[#This Row],[OL]]=\"\",\"\",IF(Tabulka2[[#This Row],[OL]]>0,A215,\"\"))","v":""},null,null,null,null,null,null,null,null,null,null,null,null,null,null,null,"",null,""]
[null,null,{"$f":"IF(Tabulka2[[#This Row],[Data]]=\"\",\"\",IF(OR(Tabulka2[[#This Row],[Data]]<$G$57,Tabulka2[[#This Row],[Data]]>$G$58),2,IF(OR(Tabulka2[[#This Row],[Data]]<$G$51,Tabulka2[[#This Row],[Data]]>$G$52),1,0)))","v":""},{"$f":"IF(Tabulka2[[#This Row],[OL]]=\"\",\"\",IF(Tabulka2[[#This Row],[OL]]>0,A216,\"\"))","v":""},null,null,null,null,null,null,null,null,null,null,null,null,null,null,null,"",null,""]
[null,null,{"$f":"IF(Tabulka2[[#This Row],[Data]]=\"\",\"\",IF(OR(Tabulka2[[#This Row],[Data]]<$G$57,Tabulka2[[#This Row],[Data]]>$G$58),2,IF(OR(Tabulka2[[#This Row],[Data]]<$G$51,Tabulka2[[#This Row],[Data]]>$G$52),1,0)))","v":""},{"$f":"IF(Tabulka2[[#This Row],[OL]]=\"\",\"\",IF(Tabulka2[[#This Row],[OL]]>0,A217,\"\"))","v":""},null,null,null,null,null,null,null,null,null,null,null,null,null,null,null,"",null,""]
[null,null,{"$f":"IF(Tabulka2[[#This Row],[Data]]=\"\",\"\",IF(OR(Tabulka2[[#This Row],[Data]]<$G$57,Tabulka2[[#This Row],[Data]]>$G$58),2,IF(OR(Tabulka2[[#This Row],[Data]]<$G$51,Tabulka2[[#This Row],[Data]]>$G$52),1,0)))","v":""},{"$f":"IF(Tabulka2[[#This Row],[OL]]=\"\",\"\",IF(Tabulka2[[#This Row],[OL]]>0,A218,\"\"))","v":""},null,null,null,null,null,null,null,null,null,null,null,null,null,null,null,"",null,""]
[null,null,{"$f":"IF(Tabulka2[[#This Row],[Data]]=\"\",\"\",IF(OR(Tabulka2[[#This Row],[Data]]<$G$57,Tabulka2[[#This Row],[Data]]>$G$58),2,IF(OR(Tabulka2[[#This Row],[Data]]<$G$51,Tabulka2[[#This Row],[Data]]>$G$52),1,0)))","v":""},{"$f":"IF(Tabulka2[[#This Row],[OL]]=\"\",\"\",IF(Tabulka2[[#This Row],[OL]]>0,A219,\"\"))","v":""},null,null,null,null,null,null,null,null,null,null,null,null,null,null,null,"",null,""]
[null,null,{"$f":"IF(Tabulka2[[#This Row],[Data]]=\"\",\"\",IF(OR(Tabulka2[[#This Row],[Data]]<$G$57,Tabulka2[[#This Row],[Data]]>$G$58),2,IF(OR(Tabulka2[[#This Row],[Data]]<$G$51,Tabulka2[[#This Row],[Data]]>$G$52),1,0)))","v":""},{"$f":"IF(Tabulka2[[#This Row],[OL]]=\"\",\"\",IF(Tabulka2[[#This Row],[OL]]>0,A220,\"\"))","v":""},null,null,null,null,null,null,null,null,null,null,null,null,null,null,null,"",null,""]
[null,null,{"$f":"IF(Tabulka2[[#This Row],[Data]]=\"\",\"\",IF(OR(Tabulka2[[#This Row],[Data]]<$G$57,Tabulka2[[#This Row],[Data]]>$G$58),2,IF(OR(Tabulka2[[#This Row],[Data]]<$G$51,Tabulka2[[#This Row],[Data]]>$G$52),1,0)))","v":""},{"$f":"IF(Tabulka2[[#This Row],[OL]]=\"\",\"\",IF(Tabulka2[[#This Row],[OL]]>0,A221,\"\"))","v":""},null,null,null,null,null,null,null,null,null,null,null,null,null,null,null,"",null,""]
[null,null,{"$f":"IF(Tabulka2[[#This Row],[Data]]=\"\",\"\",IF(OR(Tabulka2[[#This Row],[Data]]<$G$57,Tabulka2[[#This Row],[Data]]>$G$58),2,IF(OR(Tabulka2[[#This Row],[Data]]<$G$51,Tabulka2[[#This Row],[Data]]>$G$52),1,0)))","v":""},{"$f":"IF(Tabulka2[[#This Row],[OL]]=\"\",\"\",IF(Tabulka2[[#This Row],[OL]]>0,A222,\"\"))","v":""},null,null,null,null,null,null,null,null,null,null,null,null,null,null,null,"",null,""]
[null,null,{"$f":"IF(Tabulka2[[#This Row],[Data]]=\"\",\"\",IF(OR(Tabulka2[[#This Row],[Data]]<$G$57,Tabulka2[[#This Row],[Data]]>$G$58),2,IF(OR(Tabulka2[[#This Row],[Data]]<$G$51,Tabulka2[[#This Row],[Data]]>$G$52),1,0)))","v":""},{"$f":"IF(Tabulka2[[#This Row],[OL]]=\"\",\"\",IF(Tabulka2[[#This Row],[OL]]>0,A223,\"\"))","v":""},null,null,null,null,null,null,null,null,null,null,null,null,null,null,null,"",null,""]
[null,null,{"$f":"IF(Tabulka2[[#This Row],[Data]]=\"\",\"\",IF(OR(Tabulka2[[#This Row],[Data]]<$G$57,Tabulka2[[#This Row],[Data]]>$G$58),2,IF(OR(Tabulka2[[#This Row],[Data]]<$G$51,Tabulka2[[#This Row],[Data]]>$G$52),1,0)))","v":""},{"$f":"IF(Tabulka2[[#This Row],[OL]]=\"\",\"\",IF(Tabulka2[[#This Row],[OL]]>0,A224,\"\"))","v":""},null,null,null,null,null,null,null,null,null,null,null,null,null,null,null,"",null,""]
[null,null,{"$f":"IF(Tabulka2[[#This Row],[Data]]=\"\",\"\",IF(OR(Tabulka2[[#This Row],[Data]]<$G$57,Tabulka2[[#This Row],[Data]]>$G$58),2,IF(OR(Tabulka2[[#This Row],[Data]]<$G$51,Tabulka2[[#This Row],[Data]]>$G$52),1,0)))","v":""},{"$f":"IF(Tabulka2[[#This Row],[OL]]=\"\",\"\",IF(Tabulka2[[#This Row],[OL]]>0,A225,\"\"))","v":""},null,null,null,null,null,null,null,null,null,null,null,null,null,null,null,"",null,""]
[null,null,{"$f":"IF(Tabulka2[[#This Row],[Data]]=\"\",\"\",IF(OR(Tabulka2[[#This Row],[Data]]<$G$57,Tabulka2[[#This Row],[Data]]>$G$58),2,IF(OR(Tabulka2[[#This Row],[Data]]<$G$51,Tabulka2[[#This Row],[Data]]>$G$52),1,0)))","v":""},{"$f":"IF(Tabulka2[[#This Row],[OL]]=\"\",\"\",IF(Tabulka2[[#This Row],[OL]]>0,A226,\"\"))","v":""},null,null,null,null,null,null,null,null,null,null,null,null,null,null,null,"",null,""]
[null,null,{"$f":"IF(Tabulka2[[#This Row],[Data]]=\"\",\"\",IF(OR(Tabulka2[[#This Row],[Data]]<$G$57,Tabulka2[[#This Row],[Data]]>$G$58),2,IF(OR(Tabulka2[[#This Row],[Data]]<$G$51,Tabulka2[[#This Row],[Data]]>$G$52),1,0)))","v":""},{"$f":"IF(Tabulka2[[#This Row],[OL]]=\"\",\"\",IF(Tabulka2[[#This Row],[OL]]>0,A227,\"\"))","v":""},null,null,null,null,null,null,null,null,null,null,null,null,null,null,null,"",null,""]
[null,null,{"$f":"IF(Tabulka2[[#This Row],[Data]]=\"\",\"\",IF(OR(Tabulka2[[#This Row],[Data]]<$G$57,Tabulka2[[#This Row],[Data]]>$G$58),2,IF(OR(Tabulka2[[#This Row],[Data]]<$G$51,Tabulka2[[#This Row],[Data]]>$G$52),1,0)))","v":""},{"$f":"IF(Tabulka2[[#This Row],[OL]]=\"\",\"\",IF(Tabulka2[[#This Row],[OL]]>0,A228,\"\"))","v":""},null,null,null,null,null,null,null,null,null,null,null,null,null,null,null,"",null,""]
[null,null,{"$f":"IF(Tabulka2[[#This Row],[Data]]=\"\",\"\",IF(OR(Tabulka2[[#This Row],[Data]]<$G$57,Tabulka2[[#This Row],[Data]]>$G$58),2,IF(OR(Tabulka2[[#This Row],[Data]]<$G$51,Tabulka2[[#This Row],[Data]]>$G$52),1,0)))","v":""},{"$f":"IF(Tabulka2[[#This Row],[OL]]=\"\",\"\",IF(Tabulka2[[#This Row],[OL]]>0,A229,\"\"))","v":""},null,null,null,null,null,null,null,null,null,null,null,null,null,null,null,"",null,""]
[null,null,{"$f":"IF(Tabulka2[[#This Row],[Data]]=\"\",\"\",IF(OR(Tabulka2[[#This Row],[Data]]<$G$57,Tabulka2[[#This Row],[Data]]>$G$58),2,IF(OR(Tabulka2[[#This Row],[Data]]<$G$51,Tabulka2[[#This Row],[Data]]>$G$52),1,0)))","v":""},{"$f":"IF(Tabulka2[[#This Row],[OL]]=\"\",\"\",IF(Tabulka2[[#This Row],[OL]]>0,A230,\"\"))","v":""},null,null,null,null,null,null,null,null,null,null,null,null,null,null,null,"",null,""]
[null,null,{"$f":"IF(Tabulka2[[#This Row],[Data]]=\"\",\"\",IF(OR(Tabulka2[[#This Row],[Data]]<$G$57,Tabulka2[[#This Row],[Data]]>$G$58),2,IF(OR(Tabulka2[[#This Row],[Data]]<$G$51,Tabulka2[[#This Row],[Data]]>$G$52),1,0)))","v":""},{"$f":"IF(Tabulka2[[#This Row],[OL]]=\"\",\"\",IF(Tabulka2[[#This Row],[OL]]>0,A231,\"\"))","v":""},null,null,null,null,null,null,null,null,null,null,null,null,null,null,null,"",null,""]
[null,null,{"$f":"IF(Tabulka2[[#This Row],[Data]]=\"\",\"\",IF(OR(Tabulka2[[#This Row],[Data]]<$G$57,Tabulka2[[#This Row],[Data]]>$G$58),2,IF(OR(Tabulka2[[#This Row],[Data]]<$G$51,Tabulka2[[#This Row],[Data]]>$G$52),1,0)))","v":""},{"$f":"IF(Tabulka2[[#This Row],[OL]]=\"\",\"\",IF(Tabulka2[[#This Row],[OL]]>0,A232,\"\"))","v":""},null,null,null,null,null,null,null,null,null,null,null,null,null,null,null,"",null,""]
[null,null,{"$f":"IF(Tabulka2[[#This Row],[Data]]=\"\",\"\",IF(OR(Tabulka2[[#This Row],[Data]]<$G$57,Tabulka2[[#This Row],[Data]]>$G$58),2,IF(OR(Tabulka2[[#This Row],[Data]]<$G$51,Tabulka2[[#This Row],[Data]]>$G$52),1,0)))","v":""},{"$f":"IF(Tabulka2[[#This Row],[OL]]=\"\",\"\",IF(Tabulka2[[#This Row],[OL]]>0,A233,\"\"))","v":""},null,null,null,null,null,null,null,null,null,null,null,null,null,null,null,"",null,""]
[null,null,{"$f":"IF(Tabulka2[[#This Row],[Data]]=\"\",\"\",IF(OR(Tabulka2[[#This Row],[Data]]<$G$57,Tabulka2[[#This Row],[Data]]>$G$58),2,IF(OR(Tabulka2[[#This Row],[Data]]<$G$51,Tabulka2[[#This Row],[Data]]>$G$52),1,0)))","v":""},{"$f":"IF(Tabulka2[[#This Row],[OL]]=\"\",\"\",IF(Tabulka2[[#This Row],[OL]]>0,A234,\"\"))","v":""},null,null,null,null,null,null,null,null,null,null,null,null,null,null,null,"",null,""]
[null,null,{"$f":"IF(Tabulka2[[#This Row],[Data]]=\"\",\"\",IF(OR(Tabulka2[[#This Row],[Data]]<$G$57,Tabulka2[[#This Row],[Data]]>$G$58),2,IF(OR(Tabulka2[[#This Row],[Data]]<$G$51,Tabulka2[[#This Row],[Data]]>$G$52),1,0)))","v":""},{"$f":"IF(Tabulka2[[#This Row],[OL]]=\"\",\"\",IF(Tabulka2[[#This Row],[OL]]>0,A235,\"\"))","v":""},null,null,null,null,null,null,null,null,null,null,null,null,null,null,null,"",null,""]
[null,null,{"$f":"IF(Tabulka2[[#This Row],[Data]]=\"\",\"\",IF(OR(Tabulka2[[#This Row],[Data]]<$G$57,Tabulka2[[#This Row],[Data]]>$G$58),2,IF(OR(Tabulka2[[#This Row],[Data]]<$G$51,Tabulka2[[#This Row],[Data]]>$G$52),1,0)))","v":""},{"$f":"IF(Tabulka2[[#This Row],[OL]]=\"\",\"\",IF(Tabulka2[[#This Row],[OL]]>0,A236,\"\"))","v":""},null,null,null,null,null,null,null,null,null,null,null,null,null,null,null,"",null,""]
[null,null,{"$f":"IF(Tabulka2[[#This Row],[Data]]=\"\",\"\",IF(OR(Tabulka2[[#This Row],[Data]]<$G$57,Tabulka2[[#This Row],[Data]]>$G$58),2,IF(OR(Tabulka2[[#This Row],[Data]]<$G$51,Tabulka2[[#This Row],[Data]]>$G$52),1,0)))","v":""},{"$f":"IF(Tabulka2[[#This Row],[OL]]=\"\",\"\",IF(Tabulka2[[#This Row],[OL]]>0,A237,\"\"))","v":""},null,null,null,null,null,null,null,null,null,null,null,null,null,null,null,"",null,""]
[null,null,{"$f":"IF(Tabulka2[[#This Row],[Data]]=\"\",\"\",IF(OR(Tabulka2[[#This Row],[Data]]<$G$57,Tabulka2[[#This Row],[Data]]>$G$58),2,IF(OR(Tabulka2[[#This Row],[Data]]<$G$51,Tabulka2[[#This Row],[Data]]>$G$52),1,0)))","v":""},{"$f":"IF(Tabulka2[[#This Row],[OL]]=\"\",\"\",IF(Tabulka2[[#This Row],[OL]]>0,A238,\"\"))","v":""},null,null,null,null,null,null,null,null,null,null,null,null,null,null,null,"",null,""]
[null,null,{"$f":"IF(Tabulka2[[#This Row],[Data]]=\"\",\"\",IF(OR(Tabulka2[[#This Row],[Data]]<$G$57,Tabulka2[[#This Row],[Data]]>$G$58),2,IF(OR(Tabulka2[[#This Row],[Data]]<$G$51,Tabulka2[[#This Row],[Data]]>$G$52),1,0)))","v":""},{"$f":"IF(Tabulka2[[#This Row],[OL]]=\"\",\"\",IF(Tabulka2[[#This Row],[OL]]>0,A239,\"\"))","v":""},null,null,null,null,null,null,null,null,null,null,null,null,null,null,null,"",null,""]
[null,null,{"$f":"IF(Tabulka2[[#This Row],[Data]]=\"\",\"\",IF(OR(Tabulka2[[#This Row],[Data]]<$G$57,Tabulka2[[#This Row],[Data]]>$G$58),2,IF(OR(Tabulka2[[#This Row],[Data]]<$G$51,Tabulka2[[#This Row],[Data]]>$G$52),1,0)))","v":""},{"$f":"IF(Tabulka2[[#This Row],[OL]]=\"\",\"\",IF(Tabulka2[[#This Row],[OL]]>0,A240,\"\"))","v":""},null,null,null,null,null,null,null,null,null,null,null,null,null,null,null,"",null,""]
[null,null,{"$f":"IF(Tabulka2[[#This Row],[Data]]=\"\",\"\",IF(OR(Tabulka2[[#This Row],[Data]]<$G$57,Tabulka2[[#This Row],[Data]]>$G$58),2,IF(OR(Tabulka2[[#This Row],[Data]]<$G$51,Tabulka2[[#This Row],[Data]]>$G$52),1,0)))","v":""},{"$f":"IF(Tabulka2[[#This Row],[OL]]=\"\",\"\",IF(Tabulka2[[#This Row],[OL]]>0,A241,\"\"))","v":""},null,null,null,null,null,null,null,null,null,null,null,null,null,null,null,"",null,""]
[null,null,{"$f":"IF(Tabulka2[[#This Row],[Data]]=\"\",\"\",IF(OR(Tabulka2[[#This Row],[Data]]<$G$57,Tabulka2[[#This Row],[Data]]>$G$58),2,IF(OR(Tabulka2[[#This Row],[Data]]<$G$51,Tabulka2[[#This Row],[Data]]>$G$52),1,0)))","v":""},{"$f":"IF(Tabulka2[[#This Row],[OL]]=\"\",\"\",IF(Tabulka2[[#This Row],[OL]]>0,A242,\"\"))","v":""},null,null,null,null,null,null,null,null,null,null,null,null,null,null,null,"",null,""]
[null,null,{"$f":"IF(Tabulka2[[#This Row],[Data]]=\"\",\"\",IF(OR(Tabulka2[[#This Row],[Data]]<$G$57,Tabulka2[[#This Row],[Data]]>$G$58),2,IF(OR(Tabulka2[[#This Row],[Data]]<$G$51,Tabulka2[[#This Row],[Data]]>$G$52),1,0)))","v":""},{"$f":"IF(Tabulka2[[#This Row],[OL]]=\"\",\"\",IF(Tabulka2[[#This Row],[OL]]>0,A243,\"\"))","v":""},null,null,null,null,null,null,null,null,null,null,null,null,null,null,null,"",null,""]
[null,null,{"$f":"IF(Tabulka2[[#This Row],[Data]]=\"\",\"\",IF(OR(Tabulka2[[#This Row],[Data]]<$G$57,Tabulka2[[#This Row],[Data]]>$G$58),2,IF(OR(Tabulka2[[#This Row],[Data]]<$G$51,Tabulka2[[#This Row],[Data]]>$G$52),1,0)))","v":""},{"$f":"IF(Tabulka2[[#This Row],[OL]]=\"\",\"\",IF(Tabulka2[[#This Row],[OL]]>0,A244,\"\"))","v":""},null,null,null,null,null,null,null,null,null,null,null,null,null,null,null,"",null,""]
[null,null,{"$f":"IF(Tabulka2[[#This Row],[Data]]=\"\",\"\",IF(OR(Tabulka2[[#This Row],[Data]]<$G$57,Tabulka2[[#This Row],[Data]]>$G$58),2,IF(OR(Tabulka2[[#This Row],[Data]]<$G$51,Tabulka2[[#This Row],[Data]]>$G$52),1,0)))","v":""},{"$f":"IF(Tabulka2[[#This Row],[OL]]=\"\",\"\",IF(Tabulka2[[#This Row],[OL]]>0,A245,\"\"))","v":""},null,null,null,null,null,null,null,null,null,null,null,null,null,null,null,"",null,""]
[null,null,{"$f":"IF(Tabulka2[[#This Row],[Data]]=\"\",\"\",IF(OR(Tabulka2[[#This Row],[Data]]<$G$57,Tabulka2[[#This Row],[Data]]>$G$58),2,IF(OR(Tabulka2[[#This Row],[Data]]<$G$51,Tabulka2[[#This Row],[Data]]>$G$52),1,0)))","v":""},{"$f":"IF(Tabulka2[[#This Row],[OL]]=\"\",\"\",IF(Tabulka2[[#This Row],[OL]]>0,A246,\"\"))","v":""},null,null,null,null,null,null,null,null,null,null,null,null,null,null,null,"",null,""]
[null,null,{"$f":"IF(Tabulka2[[#This Row],[Data]]=\"\",\"\",IF(OR(Tabulka2[[#This Row],[Data]]<$G$57,Tabulka2[[#This Row],[Data]]>$G$58),2,IF(OR(Tabulka2[[#This Row],[Data]]<$G$51,Tabulka2[[#This Row],[Data]]>$G$52),1,0)))","v":""},{"$f":"IF(Tabulka2[[#This Row],[OL]]=\"\",\"\",IF(Tabulka2[[#This Row],[OL]]>0,A247,\"\"))","v":""},null,null,null,null,null,null,null,null,null,null,null,null,null,null,null,"",null,""]
[null,null,{"$f":"IF(Tabulka2[[#This Row],[Data]]=\"\",\"\",IF(OR(Tabulka2[[#This Row],[Data]]<$G$57,Tabulka2[[#This Row],[Data]]>$G$58),2,IF(OR(Tabulka2[[#This Row],[Data]]<$G$51,Tabulka2[[#This Row],[Data]]>$G$52),1,0)))","v":""},{"$f":"IF(Tabulka2[[#This Row],[OL]]=\"\",\"\",IF(Tabulka2[[#This Row],[OL]]>0,A248,\"\"))","v":""},null,null,null,null,null,null,null,null,null,null,null,null,null,null,null,"",null,""]
[null,null,{"$f":"IF(Tabulka2[[#This Row],[Data]]=\"\",\"\",IF(OR(Tabulka2[[#This Row],[Data]]<$G$57,Tabulka2[[#This Row],[Data]]>$G$58),2,IF(OR(Tabulka2[[#This Row],[Data]]<$G$51,Tabulka2[[#This Row],[Data]]>$G$52),1,0)))","v":""},{"$f":"IF(Tabulka2[[#This Row],[OL]]=\"\",\"\",IF(Tabulka2[[#This Row],[OL]]>0,A249,\"\"))","v":""},null,null,null,null,null,null,null,null,null,null,null,null,null,null,null,"",null,""]
[null,null,{"$f":"IF(Tabulka2[[#This Row],[Data]]=\"\",\"\",IF(OR(Tabulka2[[#This Row],[Data]]<$G$57,Tabulka2[[#This Row],[Data]]>$G$58),2,IF(OR(Tabulka2[[#This Row],[Data]]<$G$51,Tabulka2[[#This Row],[Data]]>$G$52),1,0)))","v":""},{"$f":"IF(Tabulka2[[#This Row],[OL]]=\"\",\"\",IF(Tabulka2[[#This Row],[OL]]>0,A250,\"\"))","v":""},null,null,null,null,null,null,null,null,null,null,null,null,null,null,null,"",null,""]
[null,null,{"$f":"IF(Tabulka2[[#This Row],[Data]]=\"\",\"\",IF(OR(Tabulka2[[#This Row],[Data]]<$G$57,Tabulka2[[#This Row],[Data]]>$G$58),2,IF(OR(Tabulka2[[#This Row],[Data]]<$G$51,Tabulka2[[#This Row],[Data]]>$G$52),1,0)))","v":""},{"$f":"IF(Tabulka2[[#This Row],[OL]]=\"\",\"\",IF(Tabulka2[[#This Row],[OL]]>0,A251,\"\"))","v":""},null,null,null,null,null,null,null,null,null,null,null,null,null,null,null,"",null,""]
[null,null,{"$f":"IF(Tabulka2[[#This Row],[Data]]=\"\",\"\",IF(OR(Tabulka2[[#This Row],[Data]]<$G$57,Tabulka2[[#This Row],[Data]]>$G$58),2,IF(OR(Tabulka2[[#This Row],[Data]]<$G$51,Tabulka2[[#This Row],[Data]]>$G$52),1,0)))","v":""},{"$f":"IF(Tabulka2[[#This Row],[OL]]=\"\",\"\",IF(Tabulka2[[#This Row],[OL]]>0,A252,\"\"))","v":""},null,null,null,null,null,null,null,null,null,null,null,null,null,null,null,"",null,""]
[null,null,{"$f":"IF(Tabulka2[[#This Row],[Data]]=\"\",\"\",IF(OR(Tabulka2[[#This Row],[Data]]<$G$57,Tabulka2[[#This Row],[Data]]>$G$58),2,IF(OR(Tabulka2[[#This Row],[Data]]<$G$51,Tabulka2[[#This Row],[Data]]>$G$52),1,0)))","v":""},{"$f":"IF(Tabulka2[[#This Row],[OL]]=\"\",\"\",IF(Tabulka2[[#This Row],[OL]]>0,A253,\"\"))","v":""},null,null,null,null,null,null,null,null,null,null,null,null,null,null,null,"",null,""]
[null,null,{"$f":"IF(Tabulka2[[#This Row],[Data]]=\"\",\"\",IF(OR(Tabulka2[[#This Row],[Data]]<$G$57,Tabulka2[[#This Row],[Data]]>$G$58),2,IF(OR(Tabulka2[[#This Row],[Data]]<$G$51,Tabulka2[[#This Row],[Data]]>$G$52),1,0)))","v":""},{"$f":"IF(Tabulka2[[#This Row],[OL]]=\"\",\"\",IF(Tabulka2[[#This Row],[OL]]>0,A254,\"\"))","v":""},null,null,null,null,null,null,null,null,null,null,null,null,null,null,null,"",null,""]
[null,null,{"$f":"IF(Tabulka2[[#This Row],[Data]]=\"\",\"\",IF(OR(Tabulka2[[#This Row],[Data]]<$G$57,Tabulka2[[#This Row],[Data]]>$G$58),2,IF(OR(Tabulka2[[#This Row],[Data]]<$G$51,Tabulka2[[#This Row],[Data]]>$G$52),1,0)))","v":""},{"$f":"IF(Tabulka2[[#This Row],[OL]]=\"\",\"\",IF(Tabulka2[[#This Row],[OL]]>0,A255,\"\"))","v":""},null,null,null,null,null,null,null,null,null,null,null,null,null,null,null,"",null,""]
[null,null,{"$f":"IF(Tabulka2[[#This Row],[Data]]=\"\",\"\",IF(OR(Tabulka2[[#This Row],[Data]]<$G$57,Tabulka2[[#This Row],[Data]]>$G$58),2,IF(OR(Tabulka2[[#This Row],[Data]]<$G$51,Tabulka2[[#This Row],[Data]]>$G$52),1,0)))","v":""},{"$f":"IF(Tabulka2[[#This Row],[OL]]=\"\",\"\",IF(Tabulka2[[#This Row],[OL]]>0,A256,\"\"))","v":""},null,null,null,null,null,null,null,null,null,null,null,null,null,null,null,"",null,""]
[null,null,{"$f":"IF(Tabulka2[[#This Row],[Data]]=\"\",\"\",IF(OR(Tabulka2[[#This Row],[Data]]<$G$57,Tabulka2[[#This Row],[Data]]>$G$58),2,IF(OR(Tabulka2[[#This Row],[Data]]<$G$51,Tabulka2[[#This Row],[Data]]>$G$52),1,0)))","v":""},{"$f":"IF(Tabulka2[[#This Row],[OL]]=\"\",\"\",IF(Tabulka2[[#This Row],[OL]]>0,A257,\"\"))","v":""},null,null,null,null,null,null,null,null,null,null,null,null,null,null,null,"",null,""]
[null,null,{"$f":"IF(Tabulka2[[#This Row],[Data]]=\"\",\"\",IF(OR(Tabulka2[[#This Row],[Data]]<$G$57,Tabulka2[[#This Row],[Data]]>$G$58),2,IF(OR(Tabulka2[[#This Row],[Data]]<$G$51,Tabulka2[[#This Row],[Data]]>$G$52),1,0)))","v":""},{"$f":"IF(Tabulka2[[#This Row],[OL]]=\"\",\"\",IF(Tabulka2[[#This Row],[OL]]>0,A258,\"\"))","v":""},null,null,null,null,null,null,null,null,null,null,null,null,null,null,null,"",null,""]
[null,null,{"$f":"IF(Tabulka2[[#This Row],[Data]]=\"\",\"\",IF(OR(Tabulka2[[#This Row],[Data]]<$G$57,Tabulka2[[#This Row],[Data]]>$G$58),2,IF(OR(Tabulka2[[#This Row],[Data]]<$G$51,Tabulka2[[#This Row],[Data]]>$G$52),1,0)))","v":""},{"$f":"IF(Tabulka2[[#This Row],[OL]]=\"\",\"\",IF(Tabulka2[[#This Row],[OL]]>0,A259,\"\"))","v":""},null,null,null,null,null,null,null,null,null,null,null,null,null,null,null,"",null,""]
[null,null,{"$f":"IF(Tabulka2[[#This Row],[Data]]=\"\",\"\",IF(OR(Tabulka2[[#This Row],[Data]]<$G$57,Tabulka2[[#This Row],[Data]]>$G$58),2,IF(OR(Tabulka2[[#This Row],[Data]]<$G$51,Tabulka2[[#This Row],[Data]]>$G$52),1,0)))","v":""},{"$f":"IF(Tabulka2[[#This Row],[OL]]=\"\",\"\",IF(Tabulka2[[#This Row],[OL]]>0,A260,\"\"))","v":""},null,null,null,null,null,null,null,null,null,null,null,null,null,null,null,"",null,""]
[null,null,{"$f":"IF(Tabulka2[[#This Row],[Data]]=\"\",\"\",IF(OR(Tabulka2[[#This Row],[Data]]<$G$57,Tabulka2[[#This Row],[Data]]>$G$58),2,IF(OR(Tabulka2[[#This Row],[Data]]<$G$51,Tabulka2[[#This Row],[Data]]>$G$52),1,0)))","v":""},{"$f":"IF(Tabulka2[[#This Row],[OL]]=\"\",\"\",IF(Tabulka2[[#This Row],[OL]]>0,A261,\"\"))","v":""},null,null,null,null,null,null,null,null,null,null,null,null,null,null,null,"",null,""]
[null,null,{"$f":"IF(Tabulka2[[#This Row],[Data]]=\"\",\"\",IF(OR(Tabulka2[[#This Row],[Data]]<$G$57,Tabulka2[[#This Row],[Data]]>$G$58),2,IF(OR(Tabulka2[[#This Row],[Data]]<$G$51,Tabulka2[[#This Row],[Data]]>$G$52),1,0)))","v":""},{"$f":"IF(Tabulka2[[#This Row],[OL]]=\"\",\"\",IF(Tabulka2[[#This Row],[OL]]>0,A262,\"\"))","v":""},null,null,null,null,null,null,null,null,null,null,null,null,null,null,null,"",null,""]
[null,null,{"$f":"IF(Tabulka2[[#This Row],[Data]]=\"\",\"\",IF(OR(Tabulka2[[#This Row],[Data]]<$G$57,Tabulka2[[#This Row],[Data]]>$G$58),2,IF(OR(Tabulka2[[#This Row],[Data]]<$G$51,Tabulka2[[#This Row],[Data]]>$G$52),1,0)))","v":""},{"$f":"IF(Tabulka2[[#This Row],[OL]]=\"\",\"\",IF(Tabulka2[[#This Row],[OL]]>0,A263,\"\"))","v":""},null,null,null,null,null,null,null,null,null,null,null,null,null,null,null,"",null,""]
[null,null,{"$f":"IF(Tabulka2[[#This Row],[Data]]=\"\",\"\",IF(OR(Tabulka2[[#This Row],[Data]]<$G$57,Tabulka2[[#This Row],[Data]]>$G$58),2,IF(OR(Tabulka2[[#This Row],[Data]]<$G$51,Tabulka2[[#This Row],[Data]]>$G$52),1,0)))","v":""},{"$f":"IF(Tabulka2[[#This Row],[OL]]=\"\",\"\",IF(Tabulka2[[#This Row],[OL]]>0,A264,\"\"))","v":""},null,null,null,null,null,null,null,null,null,null,null,null,null,null,null,"",null,""]
[null,null,{"$f":"IF(Tabulka2[[#This Row],[Data]]=\"\",\"\",IF(OR(Tabulka2[[#This Row],[Data]]<$G$57,Tabulka2[[#This Row],[Data]]>$G$58),2,IF(OR(Tabulka2[[#This Row],[Data]]<$G$51,Tabulka2[[#This Row],[Data]]>$G$52),1,0)))","v":""},{"$f":"IF(Tabulka2[[#This Row],[OL]]=\"\",\"\",IF(Tabulka2[[#This Row],[OL]]>0,A265,\"\"))","v":""},null,null,null,null,null,null,null,null,null,null,null,null,null,null,null,"",null,""]
[null,null,{"$f":"IF(Tabulka2[[#This Row],[Data]]=\"\",\"\",IF(OR(Tabulka2[[#This Row],[Data]]<$G$57,Tabulka2[[#This Row],[Data]]>$G$58),2,IF(OR(Tabulka2[[#This Row],[Data]]<$G$51,Tabulka2[[#This Row],[Data]]>$G$52),1,0)))","v":""},{"$f":"IF(Tabulka2[[#This Row],[OL]]=\"\",\"\",IF(Tabulka2[[#This Row],[OL]]>0,A266,\"\"))","v":""},null,null,null,null,null,null,null,null,null,null,null,null,null,null,null,"",null,""]
[null,null,{"$f":"IF(Tabulka2[[#This Row],[Data]]=\"\",\"\",IF(OR(Tabulka2[[#This Row],[Data]]<$G$57,Tabulka2[[#This Row],[Data]]>$G$58),2,IF(OR(Tabulka2[[#This Row],[Data]]<$G$51,Tabulka2[[#This Row],[Data]]>$G$52),1,0)))","v":""},{"$f":"IF(Tabulka2[[#This Row],[OL]]=\"\",\"\",IF(Tabulka2[[#This Row],[OL]]>0,A267,\"\"))","v":""},null,null,null,null,null,null,null,null,null,null,null,null,null,null,null,"",null,""]
[null,null,{"$f":"IF(Tabulka2[[#This Row],[Data]]=\"\",\"\",IF(OR(Tabulka2[[#This Row],[Data]]<$G$57,Tabulka2[[#This Row],[Data]]>$G$58),2,IF(OR(Tabulka2[[#This Row],[Data]]<$G$51,Tabulka2[[#This Row],[Data]]>$G$52),1,0)))","v":""},{"$f":"IF(Tabulka2[[#This Row],[OL]]=\"\",\"\",IF(Tabulka2[[#This Row],[OL]]>0,A268,\"\"))","v":""},null,null,null,null,null,null,null,null,null,null,null,null,null,null,null,"",null,""]
[null,null,{"$f":"IF(Tabulka2[[#This Row],[Data]]=\"\",\"\",IF(OR(Tabulka2[[#This Row],[Data]]<$G$57,Tabulka2[[#This Row],[Data]]>$G$58),2,IF(OR(Tabulka2[[#This Row],[Data]]<$G$51,Tabulka2[[#This Row],[Data]]>$G$52),1,0)))","v":""},{"$f":"IF(Tabulka2[[#This Row],[OL]]=\"\",\"\",IF(Tabulka2[[#This Row],[OL]]>0,A269,\"\"))","v":""},null,null,null,null,null,null,null,null,null,null,null,null,null,null,null,"",null,""]
[null,null,{"$f":"IF(Tabulka2[[#This Row],[Data]]=\"\",\"\",IF(OR(Tabulka2[[#This Row],[Data]]<$G$57,Tabulka2[[#This Row],[Data]]>$G$58),2,IF(OR(Tabulka2[[#This Row],[Data]]<$G$51,Tabulka2[[#This Row],[Data]]>$G$52),1,0)))","v":""},{"$f":"IF(Tabulka2[[#This Row],[OL]]=\"\",\"\",IF(Tabulka2[[#This Row],[OL]]>0,A270,\"\"))","v":""},null,null,null,null,null,null,null,null,null,null,null,null,null,null,null,"",null,""]
[null,null,{"$f":"IF(Tabulka2[[#This Row],[Data]]=\"\",\"\",IF(OR(Tabulka2[[#This Row],[Data]]<$G$57,Tabulka2[[#This Row],[Data]]>$G$58),2,IF(OR(Tabulka2[[#This Row],[Data]]<$G$51,Tabulka2[[#This Row],[Data]]>$G$52),1,0)))","v":""},{"$f":"IF(Tabulka2[[#This Row],[OL]]=\"\",\"\",IF(Tabulka2[[#This Row],[OL]]>0,A271,\"\"))","v":""},null,null,null,null,null,null,null,null,null,null,null,null,null,null,null,"",null,""]
[null,null,{"$f":"IF(Tabulka2[[#This Row],[Data]]=\"\",\"\",IF(OR(Tabulka2[[#This Row],[Data]]<$G$57,Tabulka2[[#This Row],[Data]]>$G$58),2,IF(OR(Tabulka2[[#This Row],[Data]]<$G$51,Tabulka2[[#This Row],[Data]]>$G$52),1,0)))","v":""},{"$f":"IF(Tabulka2[[#This Row],[OL]]=\"\",\"\",IF(Tabulka2[[#This Row],[OL]]>0,A272,\"\"))","v":""},null,null,null,null,null,null,null,null,null,null,null,null,null,null,null,"",null,""]
[null,null,{"$f":"IF(Tabulka2[[#This Row],[Data]]=\"\",\"\",IF(OR(Tabulka2[[#This Row],[Data]]<$G$57,Tabulka2[[#This Row],[Data]]>$G$58),2,IF(OR(Tabulka2[[#This Row],[Data]]<$G$51,Tabulka2[[#This Row],[Data]]>$G$52),1,0)))","v":""},{"$f":"IF(Tabulka2[[#This Row],[OL]]=\"\",\"\",IF(Tabulka2[[#This Row],[OL]]>0,A273,\"\"))","v":""},null,null,null,null,null,null,null,null,null,null,null,null,null,null,null,"",null,""]
[null,null,{"$f":"IF(Tabulka2[[#This Row],[Data]]=\"\",\"\",IF(OR(Tabulka2[[#This Row],[Data]]<$G$57,Tabulka2[[#This Row],[Data]]>$G$58),2,IF(OR(Tabulka2[[#This Row],[Data]]<$G$51,Tabulka2[[#This Row],[Data]]>$G$52),1,0)))","v":""},{"$f":"IF(Tabulka2[[#This Row],[OL]]=\"\",\"\",IF(Tabulka2[[#This Row],[OL]]>0,A274,\"\"))","v":""},null,null,null,null,null,null,null,null,null,null,null,null,null,null,null,"",null,""]
[null,null,{"$f":"IF(Tabulka2[[#This Row],[Data]]=\"\",\"\",IF(OR(Tabulka2[[#This Row],[Data]]<$G$57,Tabulka2[[#This Row],[Data]]>$G$58),2,IF(OR(Tabulka2[[#This Row],[Data]]<$G$51,Tabulka2[[#This Row],[Data]]>$G$52),1,0)))","v":""},{"$f":"IF(Tabulka2[[#This Row],[OL]]=\"\",\"\",IF(Tabulka2[[#This Row],[OL]]>0,A275,\"\"))","v":""},null,null,null,null,null,null,null,null,null,null,null,null,null,null,null,"",null,""]
[null,null,{"$f":"IF(Tabulka2[[#This Row],[Data]]=\"\",\"\",IF(OR(Tabulka2[[#This Row],[Data]]<$G$57,Tabulka2[[#This Row],[Data]]>$G$58),2,IF(OR(Tabulka2[[#This Row],[Data]]<$G$51,Tabulka2[[#This Row],[Data]]>$G$52),1,0)))","v":""},{"$f":"IF(Tabulka2[[#This Row],[OL]]=\"\",\"\",IF(Tabulka2[[#This Row],[OL]]>0,A276,\"\"))","v":""},null,null,null,null,null,null,null,null,null,null,null,null,null,null,null,"",null,""]
[null,null,{"$f":"IF(Tabulka2[[#This Row],[Data]]=\"\",\"\",IF(OR(Tabulka2[[#This Row],[Data]]<$G$57,Tabulka2[[#This Row],[Data]]>$G$58),2,IF(OR(Tabulka2[[#This Row],[Data]]<$G$51,Tabulka2[[#This Row],[Data]]>$G$52),1,0)))","v":""},{"$f":"IF(Tabulka2[[#This Row],[OL]]=\"\",\"\",IF(Tabulka2[[#This Row],[OL]]>0,A277,\"\"))","v":""},null,null,null,null,null,null,null,null,null,null,null,null,null,null,null,"",null,""]
[null,null,{"$f":"IF(Tabulka2[[#This Row],[Data]]=\"\",\"\",IF(OR(Tabulka2[[#This Row],[Data]]<$G$57,Tabulka2[[#This Row],[Data]]>$G$58),2,IF(OR(Tabulka2[[#This Row],[Data]]<$G$51,Tabulka2[[#This Row],[Data]]>$G$52),1,0)))","v":""},{"$f":"IF(Tabulka2[[#This Row],[OL]]=\"\",\"\",IF(Tabulka2[[#This Row],[OL]]>0,A278,\"\"))","v":""},null,null,null,null,null,null,null,null,null,null,null,null,null,null,null,"",null,""]
[null,null,{"$f":"IF(Tabulka2[[#This Row],[Data]]=\"\",\"\",IF(OR(Tabulka2[[#This Row],[Data]]<$G$57,Tabulka2[[#This Row],[Data]]>$G$58),2,IF(OR(Tabulka2[[#This Row],[Data]]<$G$51,Tabulka2[[#This Row],[Data]]>$G$52),1,0)))","v":""},{"$f":"IF(Tabulka2[[#This Row],[OL]]=\"\",\"\",IF(Tabulka2[[#This Row],[OL]]>0,A279,\"\"))","v":""},null,null,null,null,null,null,null,null,null,null,null,null,null,null,null,"",null,""]
[null,null,{"$f":"IF(Tabulka2[[#This Row],[Data]]=\"\",\"\",IF(OR(Tabulka2[[#This Row],[Data]]<$G$57,Tabulka2[[#This Row],[Data]]>$G$58),2,IF(OR(Tabulka2[[#This Row],[Data]]<$G$51,Tabulka2[[#This Row],[Data]]>$G$52),1,0)))","v":""},{"$f":"IF(Tabulka2[[#This Row],[OL]]=\"\",\"\",IF(Tabulka2[[#This Row],[OL]]>0,A280,\"\"))","v":""},null,null,null,null,null,null,null,null,null,null,null,null,null,null,null,"",null,""]
[null,null,{"$f":"IF(Tabulka2[[#This Row],[Data]]=\"\",\"\",IF(OR(Tabulka2[[#This Row],[Data]]<$G$57,Tabulka2[[#This Row],[Data]]>$G$58),2,IF(OR(Tabulka2[[#This Row],[Data]]<$G$51,Tabulka2[[#This Row],[Data]]>$G$52),1,0)))","v":""},{"$f":"IF(Tabulka2[[#This Row],[OL]]=\"\",\"\",IF(Tabulka2[[#This Row],[OL]]>0,A281,\"\"))","v":""},null,null,null,null,null,null,null,null,null,null,null,null,null,null,null,"",null,""]
[null,null,{"$f":"IF(Tabulka2[[#This Row],[Data]]=\"\",\"\",IF(OR(Tabulka2[[#This Row],[Data]]<$G$57,Tabulka2[[#This Row],[Data]]>$G$58),2,IF(OR(Tabulka2[[#This Row],[Data]]<$G$51,Tabulka2[[#This Row],[Data]]>$G$52),1,0)))","v":""},{"$f":"IF(Tabulka2[[#This Row],[OL]]=\"\",\"\",IF(Tabulka2[[#This Row],[OL]]>0,A282,\"\"))","v":""},null,null,null,null,null,null,null,null,null,null,null,null,null,null,null,"",null,""]
[null,null,{"$f":"IF(Tabulka2[[#This Row],[Data]]=\"\",\"\",IF(OR(Tabulka2[[#This Row],[Data]]<$G$57,Tabulka2[[#This Row],[Data]]>$G$58),2,IF(OR(Tabulka2[[#This Row],[Data]]<$G$51,Tabulka2[[#This Row],[Data]]>$G$52),1,0)))","v":""},{"$f":"IF(Tabulka2[[#This Row],[OL]]=\"\",\"\",IF(Tabulka2[[#This Row],[OL]]>0,A283,\"\"))","v":""},null,null,null,null,null,null,null,null,null,null,null,null,null,null,null,"",null,""]
[null,null,{"$f":"IF(Tabulka2[[#This Row],[Data]]=\"\",\"\",IF(OR(Tabulka2[[#This Row],[Data]]<$G$57,Tabulka2[[#This Row],[Data]]>$G$58),2,IF(OR(Tabulka2[[#This Row],[Data]]<$G$51,Tabulka2[[#This Row],[Data]]>$G$52),1,0)))","v":""},{"$f":"IF(Tabulka2[[#This Row],[OL]]=\"\",\"\",IF(Tabulka2[[#This Row],[OL]]>0,A284,\"\"))","v":""},null,null,null,null,null,null,null,null,null,null,null,null,null,null,null,"",null,""]
[null,null,{"$f":"IF(Tabulka2[[#This Row],[Data]]=\"\",\"\",IF(OR(Tabulka2[[#This Row],[Data]]<$G$57,Tabulka2[[#This Row],[Data]]>$G$58),2,IF(OR(Tabulka2[[#This Row],[Data]]<$G$51,Tabulka2[[#This Row],[Data]]>$G$52),1,0)))","v":""},{"$f":"IF(Tabulka2[[#This Row],[OL]]=\"\",\"\",IF(Tabulka2[[#This Row],[OL]]>0,A285,\"\"))","v":""},null,null,null,null,null,null,null,null,null,null,null,null,null,null,null,"",null,""]
[null,null,{"$f":"IF(Tabulka2[[#This Row],[Data]]=\"\",\"\",IF(OR(Tabulka2[[#This Row],[Data]]<$G$57,Tabulka2[[#This Row],[Data]]>$G$58),2,IF(OR(Tabulka2[[#This Row],[Data]]<$G$51,Tabulka2[[#This Row],[Data]]>$G$52),1,0)))","v":""},{"$f":"IF(Tabulka2[[#This Row],[OL]]=\"\",\"\",IF(Tabulka2[[#This Row],[OL]]>0,A286,\"\"))","v":""},null,null,null,null,null,null,null,null,null,null,null,null,null,null,null,"",null,""]
[null,null,{"$f":"IF(Tabulka2[[#This Row],[Data]]=\"\",\"\",IF(OR(Tabulka2[[#This Row],[Data]]<$G$57,Tabulka2[[#This Row],[Data]]>$G$58),2,IF(OR(Tabulka2[[#This Row],[Data]]<$G$51,Tabulka2[[#This Row],[Data]]>$G$52),1,0)))","v":""},{"$f":"IF(Tabulka2[[#This Row],[OL]]=\"\",\"\",IF(Tabulka2[[#This Row],[OL]]>0,A287,\"\"))","v":""},null,null,null,null,null,null,null,null,null,null,null,null,null,null,null,"",null,""]
[null,null,{"$f":"IF(Tabulka2[[#This Row],[Data]]=\"\",\"\",IF(OR(Tabulka2[[#This Row],[Data]]<$G$57,Tabulka2[[#This Row],[Data]]>$G$58),2,IF(OR(Tabulka2[[#This Row],[Data]]<$G$51,Tabulka2[[#This Row],[Data]]>$G$52),1,0)))","v":""},{"$f":"IF(Tabulka2[[#This Row],[OL]]=\"\",\"\",IF(Tabulka2[[#This Row],[OL]]>0,A288,\"\"))","v":""},null,null,null,null,null,null,null,null,null,null,null,null,null,null,null,"",null,""]
[null,null,{"$f":"IF(Tabulka2[[#This Row],[Data]]=\"\",\"\",IF(OR(Tabulka2[[#This Row],[Data]]<$G$57,Tabulka2[[#This Row],[Data]]>$G$58),2,IF(OR(Tabulka2[[#This Row],[Data]]<$G$51,Tabulka2[[#This Row],[Data]]>$G$52),1,0)))","v":""},{"$f":"IF(Tabulka2[[#This Row],[OL]]=\"\",\"\",IF(Tabulka2[[#This Row],[OL]]>0,A289,\"\"))","v":""},null,null,null,null,null,null,null,null,null,null,null,null,null,null,null,"",null,""]
[null,null,{"$f":"IF(Tabulka2[[#This Row],[Data]]=\"\",\"\",IF(OR(Tabulka2[[#This Row],[Data]]<$G$57,Tabulka2[[#This Row],[Data]]>$G$58),2,IF(OR(Tabulka2[[#This Row],[Data]]<$G$51,Tabulka2[[#This Row],[Data]]>$G$52),1,0)))","v":""},{"$f":"IF(Tabulka2[[#This Row],[OL]]=\"\",\"\",IF(Tabulka2[[#This Row],[OL]]>0,A290,\"\"))","v":""},null,null,null,null,null,null,null,null,null,null,null,null,null,null,null,"",null,""]
[null,null,{"$f":"IF(Tabulka2[[#This Row],[Data]]=\"\",\"\",IF(OR(Tabulka2[[#This Row],[Data]]<$G$57,Tabulka2[[#This Row],[Data]]>$G$58),2,IF(OR(Tabulka2[[#This Row],[Data]]<$G$51,Tabulka2[[#This Row],[Data]]>$G$52),1,0)))","v":""},{"$f":"IF(Tabulka2[[#This Row],[OL]]=\"\",\"\",IF(Tabulka2[[#This Row],[OL]]>0,A291,\"\"))","v":""},null,null,null,null,null,null,null,null,null,null,null,null,null,null,null,"",null,""]
[null,null,{"$f":"IF(Tabulka2[[#This Row],[Data]]=\"\",\"\",IF(OR(Tabulka2[[#This Row],[Data]]<$G$57,Tabulka2[[#This Row],[Data]]>$G$58),2,IF(OR(Tabulka2[[#This Row],[Data]]<$G$51,Tabulka2[[#This Row],[Data]]>$G$52),1,0)))","v":""},{"$f":"IF(Tabulka2[[#This Row],[OL]]=\"\",\"\",IF(Tabulka2[[#This Row],[OL]]>0,A292,\"\"))","v":""},null,null,null,null,null,null,null,null,null,null,null,null,null,null,null,"",null,""]
[null,null,{"$f":"IF(Tabulka2[[#This Row],[Data]]=\"\",\"\",IF(OR(Tabulka2[[#This Row],[Data]]<$G$57,Tabulka2[[#This Row],[Data]]>$G$58),2,IF(OR(Tabulka2[[#This Row],[Data]]<$G$51,Tabulka2[[#This Row],[Data]]>$G$52),1,0)))","v":""},{"$f":"IF(Tabulka2[[#This Row],[OL]]=\"\",\"\",IF(Tabulka2[[#This Row],[OL]]>0,A293,\"\"))","v":""},null,null,null,null,null,null,null,null,null,null,null,null,null,null,null,"",null,""]
[null,null,{"$f":"IF(Tabulka2[[#This Row],[Data]]=\"\",\"\",IF(OR(Tabulka2[[#This Row],[Data]]<$G$57,Tabulka2[[#This Row],[Data]]>$G$58),2,IF(OR(Tabulka2[[#This Row],[Data]]<$G$51,Tabulka2[[#This Row],[Data]]>$G$52),1,0)))","v":""},{"$f":"IF(Tabulka2[[#This Row],[OL]]=\"\",\"\",IF(Tabulka2[[#This Row],[OL]]>0,A294,\"\"))","v":""},null,null,null,null,null,null,null,null,null,null,null,null,null,null,null,"",null,""]
[null,null,{"$f":"IF(Tabulka2[[#This Row],[Data]]=\"\",\"\",IF(OR(Tabulka2[[#This Row],[Data]]<$G$57,Tabulka2[[#This Row],[Data]]>$G$58),2,IF(OR(Tabulka2[[#This Row],[Data]]<$G$51,Tabulka2[[#This Row],[Data]]>$G$52),1,0)))","v":""},{"$f":"IF(Tabulka2[[#This Row],[OL]]=\"\",\"\",IF(Tabulka2[[#This Row],[OL]]>0,A295,\"\"))","v":""},null,null,null,null,null,null,null,null,null,null,null,null,null,null,null,"",null,""]
[null,null,{"$f":"IF(Tabulka2[[#This Row],[Data]]=\"\",\"\",IF(OR(Tabulka2[[#This Row],[Data]]<$G$57,Tabulka2[[#This Row],[Data]]>$G$58),2,IF(OR(Tabulka2[[#This Row],[Data]]<$G$51,Tabulka2[[#This Row],[Data]]>$G$52),1,0)))","v":""},{"$f":"IF(Tabulka2[[#This Row],[OL]]=\"\",\"\",IF(Tabulka2[[#This Row],[OL]]>0,A296,\"\"))","v":""},null,null,null,null,null,null,null,null,null,null,null,null,null,null,null,"",null,""]
[null,null,{"$f":"IF(Tabulka2[[#This Row],[Data]]=\"\",\"\",IF(OR(Tabulka2[[#This Row],[Data]]<$G$57,Tabulka2[[#This Row],[Data]]>$G$58),2,IF(OR(Tabulka2[[#This Row],[Data]]<$G$51,Tabulka2[[#This Row],[Data]]>$G$52),1,0)))","v":""},{"$f":"IF(Tabulka2[[#This Row],[OL]]=\"\",\"\",IF(Tabulka2[[#This Row],[OL]]>0,A297,\"\"))","v":""},null,null,null,null,null,null,null,null,null,null,null,null,null,null,null,"",null,""]
[null,null,{"$f":"IF(Tabulka2[[#This Row],[Data]]=\"\",\"\",IF(OR(Tabulka2[[#This Row],[Data]]<$G$57,Tabulka2[[#This Row],[Data]]>$G$58),2,IF(OR(Tabulka2[[#This Row],[Data]]<$G$51,Tabulka2[[#This Row],[Data]]>$G$52),1,0)))","v":""},{"$f":"IF(Tabulka2[[#This Row],[OL]]=\"\",\"\",IF(Tabulka2[[#This Row],[OL]]>0,A298,\"\"))","v":""},null,null,null,null,null,null,null,null,null,null,null,null,null,null,null,"",null,""]
[null,null,{"$f":"IF(Tabulka2[[#This Row],[Data]]=\"\",\"\",IF(OR(Tabulka2[[#This Row],[Data]]<$G$57,Tabulka2[[#This Row],[Data]]>$G$58),2,IF(OR(Tabulka2[[#This Row],[Data]]<$G$51,Tabulka2[[#This Row],[Data]]>$G$52),1,0)))","v":""},{"$f":"IF(Tabulka2[[#This Row],[OL]]=\"\",\"\",IF(Tabulka2[[#This Row],[OL]]>0,A299,\"\"))","v":""},null,null,null,null,null,null,null,null,null,null,null,null,null,null,null,"",null,""]
[null,null,{"$f":"IF(Tabulka2[[#This Row],[Data]]=\"\",\"\",IF(OR(Tabulka2[[#This Row],[Data]]<$G$57,Tabulka2[[#This Row],[Data]]>$G$58),2,IF(OR(Tabulka2[[#This Row],[Data]]<$G$51,Tabulka2[[#This Row],[Data]]>$G$52),1,0)))","v":""},{"$f":"IF(Tabulka2[[#This Row],[OL]]=\"\",\"\",IF(Tabulka2[[#This Row],[OL]]>0,A300,\"\"))","v":""},null,null,null,null,null,null,null,null,null,null,null,null,null,null,null,"",null,""]
[null,null,{"$f":"IF(Tabulka2[[#This Row],[Data]]=\"\",\"\",IF(OR(Tabulka2[[#This Row],[Data]]<$G$57,Tabulka2[[#This Row],[Data]]>$G$58),2,IF(OR(Tabulka2[[#This Row],[Data]]<$G$51,Tabulka2[[#This Row],[Data]]>$G$52),1,0)))","v":""},{"$f":"IF(Tabulka2[[#This Row],[OL]]=\"\",\"\",IF(Tabulka2[[#This Row],[OL]]>0,A301,\"\"))","v":""},null,null,null,null,null,null,null,null,null,null,null,null,null,null,null,"",null,""]
[null,null,{"$f":"IF(Tabulka2[[#This Row],[Data]]=\"\",\"\",IF(OR(Tabulka2[[#This Row],[Data]]<$G$57,Tabulka2[[#This Row],[Data]]>$G$58),2,IF(OR(Tabulka2[[#This Row],[Data]]<$G$51,Tabulka2[[#This Row],[Data]]>$G$52),1,0)))","v":""},{"$f":"IF(Tabulka2[[#This Row],[OL]]=\"\",\"\",IF(Tabulka2[[#This Row],[OL]]>0,A302,\"\"))","v":""},null,null,null,null,null,null,null,null,null,null,null,null,null,null,null,"",null,""]
[null,null,{"$f":"IF(Tabulka2[[#This Row],[Data]]=\"\",\"\",IF(OR(Tabulka2[[#This Row],[Data]]<$G$57,Tabulka2[[#This Row],[Data]]>$G$58),2,IF(OR(Tabulka2[[#This Row],[Data]]<$G$51,Tabulka2[[#This Row],[Data]]>$G$52),1,0)))","v":""},{"$f":"IF(Tabulka2[[#This Row],[OL]]=\"\",\"\",IF(Tabulka2[[#This Row],[OL]]>0,A303,\"\"))","v":""},null,null,null,null,null,null,null,null,null,null,null,null,null,null,null,"",null,""]
[null,null,{"$f":"IF(Tabulka2[[#This Row],[Data]]=\"\",\"\",IF(OR(Tabulka2[[#This Row],[Data]]<$G$57,Tabulka2[[#This Row],[Data]]>$G$58),2,IF(OR(Tabulka2[[#This Row],[Data]]<$G$51,Tabulka2[[#This Row],[Data]]>$G$52),1,0)))","v":""},{"$f":"IF(Tabulka2[[#This Row],[OL]]=\"\",\"\",IF(Tabulka2[[#This Row],[OL]]>0,A304,\"\"))","v":""},null,null,null,null,null,null,null,null,null,null,null,null,null,null,null,"",null,""]
[null,null,{"$f":"IF(Tabulka2[[#This Row],[Data]]=\"\",\"\",IF(OR(Tabulka2[[#This Row],[Data]]<$G$57,Tabulka2[[#This Row],[Data]]>$G$58),2,IF(OR(Tabulka2[[#This Row],[Data]]<$G$51,Tabulka2[[#This Row],[Data]]>$G$52),1,0)))","v":""},{"$f":"IF(Tabulka2[[#This Row],[OL]]=\"\",\"\",IF(Tabulka2[[#This Row],[OL]]>0,A305,\"\"))","v":""},null,null,null,null,null,null,null,null,null,null,null,null,null,null,null,"",null,""]
[null,null,{"$f":"IF(Tabulka2[[#This Row],[Data]]=\"\",\"\",IF(OR(Tabulka2[[#This Row],[Data]]<$G$57,Tabulka2[[#This Row],[Data]]>$G$58),2,IF(OR(Tabulka2[[#This Row],[Data]]<$G$51,Tabulka2[[#This Row],[Data]]>$G$52),1,0)))","v":""},{"$f":"IF(Tabulka2[[#This Row],[OL]]=\"\",\"\",IF(Tabulka2[[#This Row],[OL]]>0,A306,\"\"))","v":""},null,null,null,null,null,null,null,null,null,null,null,null,null,null,null,"",null,""]
[null,null,{"$f":"IF(Tabulka2[[#This Row],[Data]]=\"\",\"\",IF(OR(Tabulka2[[#This Row],[Data]]<$G$57,Tabulka2[[#This Row],[Data]]>$G$58),2,IF(OR(Tabulka2[[#This Row],[Data]]<$G$51,Tabulka2[[#This Row],[Data]]>$G$52),1,0)))","v":""},{"$f":"IF(Tabulka2[[#This Row],[OL]]=\"\",\"\",IF(Tabulka2[[#This Row],[OL]]>0,A307,\"\"))","v":""},null,null,null,null,null,null,null,null,null,null,null,null,null,null,null,"",null,""]
[null,null,{"$f":"IF(Tabulka2[[#This Row],[Data]]=\"\",\"\",IF(OR(Tabulka2[[#This Row],[Data]]<$G$57,Tabulka2[[#This Row],[Data]]>$G$58),2,IF(OR(Tabulka2[[#This Row],[Data]]<$G$51,Tabulka2[[#This Row],[Data]]>$G$52),1,0)))","v":""},{"$f":"IF(Tabulka2[[#This Row],[OL]]=\"\",\"\",IF(Tabulka2[[#This Row],[OL]]>0,A308,\"\"))","v":""},null,null,null,null,null,null,null,null,null,null,null,null,null,null,null,"",null,""]
[null,null,{"$f":"IF(Tabulka2[[#This Row],[Data]]=\"\",\"\",IF(OR(Tabulka2[[#This Row],[Data]]<$G$57,Tabulka2[[#This Row],[Data]]>$G$58),2,IF(OR(Tabulka2[[#This Row],[Data]]<$G$51,Tabulka2[[#This Row],[Data]]>$G$52),1,0)))","v":""},{"$f":"IF(Tabulka2[[#This Row],[OL]]=\"\",\"\",IF(Tabulka2[[#This Row],[OL]]>0,A309,\"\"))","v":""},null,null,null,null,null,null,null,null,null,null,null,null,null,null,null,"",null,""]
[null,null,{"$f":"IF(Tabulka2[[#This Row],[Data]]=\"\",\"\",IF(OR(Tabulka2[[#This Row],[Data]]<$G$57,Tabulka2[[#This Row],[Data]]>$G$58),2,IF(OR(Tabulka2[[#This Row],[Data]]<$G$51,Tabulka2[[#This Row],[Data]]>$G$52),1,0)))","v":""},{"$f":"IF(Tabulka2[[#This Row],[OL]]=\"\",\"\",IF(Tabulka2[[#This Row],[OL]]>0,A310,\"\"))","v":""},null,null,null,null,null,null,null,null,null,null,null,null,null,null,null,"",null,""]
[null,null,{"$f":"IF(Tabulka2[[#This Row],[Data]]=\"\",\"\",IF(OR(Tabulka2[[#This Row],[Data]]<$G$57,Tabulka2[[#This Row],[Data]]>$G$58),2,IF(OR(Tabulka2[[#This Row],[Data]]<$G$51,Tabulka2[[#This Row],[Data]]>$G$52),1,0)))","v":""},{"$f":"IF(Tabulka2[[#This Row],[OL]]=\"\",\"\",IF(Tabulka2[[#This Row],[OL]]>0,A311,\"\"))","v":""},null,null,null,null,null,null,null,null,null,null,null,null,null,null,null,"",null,""]
[null,null,{"$f":"IF(Tabulka2[[#This Row],[Data]]=\"\",\"\",IF(OR(Tabulka2[[#This Row],[Data]]<$G$57,Tabulka2[[#This Row],[Data]]>$G$58),2,IF(OR(Tabulka2[[#This Row],[Data]]<$G$51,Tabulka2[[#This Row],[Data]]>$G$52),1,0)))","v":""},{"$f":"IF(Tabulka2[[#This Row],[OL]]=\"\",\"\",IF(Tabulka2[[#This Row],[OL]]>0,A312,\"\"))","v":""},null,null,null,null,null,null,null,null,null,null,null,null,null,null,null,"",null,""]
[null,null,{"$f":"IF(Tabulka2[[#This Row],[Data]]=\"\",\"\",IF(OR(Tabulka2[[#This Row],[Data]]<$G$57,Tabulka2[[#This Row],[Data]]>$G$58),2,IF(OR(Tabulka2[[#This Row],[Data]]<$G$51,Tabulka2[[#This Row],[Data]]>$G$52),1,0)))","v":""},{"$f":"IF(Tabulka2[[#This Row],[OL]]=\"\",\"\",IF(Tabulka2[[#This Row],[OL]]>0,A313,\"\"))","v":""},null,null,null,null,null,null,null,null,null,null,null,null,null,null,null,"",null,""]
[null,null,{"$f":"IF(Tabulka2[[#This Row],[Data]]=\"\",\"\",IF(OR(Tabulka2[[#This Row],[Data]]<$G$57,Tabulka2[[#This Row],[Data]]>$G$58),2,IF(OR(Tabulka2[[#This Row],[Data]]<$G$51,Tabulka2[[#This Row],[Data]]>$G$52),1,0)))","v":""},{"$f":"IF(Tabulka2[[#This Row],[OL]]=\"\",\"\",IF(Tabulka2[[#This Row],[OL]]>0,A314,\"\"))","v":""},null,null,null,null,null,null,null,null,null,null,null,null,null,null,null,"",null,""]
[null,null,{"$f":"IF(Tabulka2[[#This Row],[Data]]=\"\",\"\",IF(OR(Tabulka2[[#This Row],[Data]]<$G$57,Tabulka2[[#This Row],[Data]]>$G$58),2,IF(OR(Tabulka2[[#This Row],[Data]]<$G$51,Tabulka2[[#This Row],[Data]]>$G$52),1,0)))","v":""},{"$f":"IF(Tabulka2[[#This Row],[OL]]=\"\",\"\",IF(Tabulka2[[#This Row],[OL]]>0,A315,\"\"))","v":""},null,null,null,null,null,null,null,null,null,null,null,null,null,null,null,"",null,""]
[null,null,{"$f":"IF(Tabulka2[[#This Row],[Data]]=\"\",\"\",IF(OR(Tabulka2[[#This Row],[Data]]<$G$57,Tabulka2[[#This Row],[Data]]>$G$58),2,IF(OR(Tabulka2[[#This Row],[Data]]<$G$51,Tabulka2[[#This Row],[Data]]>$G$52),1,0)))","v":""},{"$f":"IF(Tabulka2[[#This Row],[OL]]=\"\",\"\",IF(Tabulka2[[#This Row],[OL]]>0,A316,\"\"))","v":""},null,null,null,null,null,null,null,null,null,null,null,null,null,null,null,"",null,""]
[null,null,{"$f":"IF(Tabulka2[[#This Row],[Data]]=\"\",\"\",IF(OR(Tabulka2[[#This Row],[Data]]<$G$57,Tabulka2[[#This Row],[Data]]>$G$58),2,IF(OR(Tabulka2[[#This Row],[Data]]<$G$51,Tabulka2[[#This Row],[Data]]>$G$52),1,0)))","v":""},{"$f":"IF(Tabulka2[[#This Row],[OL]]=\"\",\"\",IF(Tabulka2[[#This Row],[OL]]>0,A317,\"\"))","v":""},null,null,null,null,null,null,null,null,null,null,null,null,null,null,null,"",null,""]
[null,null,{"$f":"IF(Tabulka2[[#This Row],[Data]]=\"\",\"\",IF(OR(Tabulka2[[#This Row],[Data]]<$G$57,Tabulka2[[#This Row],[Data]]>$G$58),2,IF(OR(Tabulka2[[#This Row],[Data]]<$G$51,Tabulka2[[#This Row],[Data]]>$G$52),1,0)))","v":""},{"$f":"IF(Tabulka2[[#This Row],[OL]]=\"\",\"\",IF(Tabulka2[[#This Row],[OL]]>0,A318,\"\"))","v":""},null,null,null,null,null,null,null,null,null,null,null,null,null,null,null,"",null,""]
[null,null,{"$f":"IF(Tabulka2[[#This Row],[Data]]=\"\",\"\",IF(OR(Tabulka2[[#This Row],[Data]]<$G$57,Tabulka2[[#This Row],[Data]]>$G$58),2,IF(OR(Tabulka2[[#This Row],[Data]]<$G$51,Tabulka2[[#This Row],[Data]]>$G$52),1,0)))","v":""},{"$f":"IF(Tabulka2[[#This Row],[OL]]=\"\",\"\",IF(Tabulka2[[#This Row],[OL]]>0,A319,\"\"))","v":""},null,null,null,null,null,null,null,null,null,null,null,null,null,null,null,"",null,""]
[null,null,{"$f":"IF(Tabulka2[[#This Row],[Data]]=\"\",\"\",IF(OR(Tabulka2[[#This Row],[Data]]<$G$57,Tabulka2[[#This Row],[Data]]>$G$58),2,IF(OR(Tabulka2[[#This Row],[Data]]<$G$51,Tabulka2[[#This Row],[Data]]>$G$52),1,0)))","v":""},{"$f":"IF(Tabulka2[[#This Row],[OL]]=\"\",\"\",IF(Tabulka2[[#This Row],[OL]]>0,A320,\"\"))","v":""},null,null,null,null,null,null,null,null,null,null,null,null,null,null,null,"",null,""]
[null,null,{"$f":"IF(Tabulka2[[#This Row],[Data]]=\"\",\"\",IF(OR(Tabulka2[[#This Row],[Data]]<$G$57,Tabulka2[[#This Row],[Data]]>$G$58),2,IF(OR(Tabulka2[[#This Row],[Data]]<$G$51,Tabulka2[[#This Row],[Data]]>$G$52),1,0)))","v":""},{"$f":"IF(Tabulka2[[#This Row],[OL]]=\"\",\"\",IF(Tabulka2[[#This Row],[OL]]>0,A321,\"\"))","v":""},null,null,null,null,null,null,null,null,null,null,null,null,null,null,null,"",null,""]
[null,null,{"$f":"IF(Tabulka2[[#This Row],[Data]]=\"\",\"\",IF(OR(Tabulka2[[#This Row],[Data]]<$G$57,Tabulka2[[#This Row],[Data]]>$G$58),2,IF(OR(Tabulka2[[#This Row],[Data]]<$G$51,Tabulka2[[#This Row],[Data]]>$G$52),1,0)))","v":""},{"$f":"IF(Tabulka2[[#This Row],[OL]]=\"\",\"\",IF(Tabulka2[[#This Row],[OL]]>0,A322,\"\"))","v":""},null,null,null,null,null,null,null,null,null,null,null,null,null,null,null,"",null,""]
[null,null,{"$f":"IF(Tabulka2[[#This Row],[Data]]=\"\",\"\",IF(OR(Tabulka2[[#This Row],[Data]]<$G$57,Tabulka2[[#This Row],[Data]]>$G$58),2,IF(OR(Tabulka2[[#This Row],[Data]]<$G$51,Tabulka2[[#This Row],[Data]]>$G$52),1,0)))","v":""},{"$f":"IF(Tabulka2[[#This Row],[OL]]=\"\",\"\",IF(Tabulka2[[#This Row],[OL]]>0,A323,\"\"))","v":""},null,null,null,null,null,null,null,null,null,null,null,null,null,null,null,"",null,""]
[null,null,{"$f":"IF(Tabulka2[[#This Row],[Data]]=\"\",\"\",IF(OR(Tabulka2[[#This Row],[Data]]<$G$57,Tabulka2[[#This Row],[Data]]>$G$58),2,IF(OR(Tabulka2[[#This Row],[Data]]<$G$51,Tabulka2[[#This Row],[Data]]>$G$52),1,0)))","v":""},{"$f":"IF(Tabulka2[[#This Row],[OL]]=\"\",\"\",IF(Tabulka2[[#This Row],[OL]]>0,A324,\"\"))","v":""},null,null,null,null,null,null,null,null,null,null,null,null,null,null,null,"",null,""]
[null,null,{"$f":"IF(Tabulka2[[#This Row],[Data]]=\"\",\"\",IF(OR(Tabulka2[[#This Row],[Data]]<$G$57,Tabulka2[[#This Row],[Data]]>$G$58),2,IF(OR(Tabulka2[[#This Row],[Data]]<$G$51,Tabulka2[[#This Row],[Data]]>$G$52),1,0)))","v":""},{"$f":"IF(Tabulka2[[#This Row],[OL]]=\"\",\"\",IF(Tabulka2[[#This Row],[OL]]>0,A325,\"\"))","v":""},null,null,null,null,null,null,null,null,null,null,null,null,null,null,null,"",null,""]
[null,null,{"$f":"IF(Tabulka2[[#This Row],[Data]]=\"\",\"\",IF(OR(Tabulka2[[#This Row],[Data]]<$G$57,Tabulka2[[#This Row],[Data]]>$G$58),2,IF(OR(Tabulka2[[#This Row],[Data]]<$G$51,Tabulka2[[#This Row],[Data]]>$G$52),1,0)))","v":""},{"$f":"IF(Tabulka2[[#This Row],[OL]]=\"\",\"\",IF(Tabulka2[[#This Row],[OL]]>0,A326,\"\"))","v":""},null,null,null,null,null,null,null,null,null,null,null,null,null,null,null,"",null,""]
[null,null,{"$f":"IF(Tabulka2[[#This Row],[Data]]=\"\",\"\",IF(OR(Tabulka2[[#This Row],[Data]]<$G$57,Tabulka2[[#This Row],[Data]]>$G$58),2,IF(OR(Tabulka2[[#This Row],[Data]]<$G$51,Tabulka2[[#This Row],[Data]]>$G$52),1,0)))","v":""},{"$f":"IF(Tabulka2[[#This Row],[OL]]=\"\",\"\",IF(Tabulka2[[#This Row],[OL]]>0,A327,\"\"))","v":""},null,null,null,null,null,null,null,null,null,null,null,null,null,null,null,"",null,""]
[null,null,{"$f":"IF(Tabulka2[[#This Row],[Data]]=\"\",\"\",IF(OR(Tabulka2[[#This Row],[Data]]<$G$57,Tabulka2[[#This Row],[Data]]>$G$58),2,IF(OR(Tabulka2[[#This Row],[Data]]<$G$51,Tabulka2[[#This Row],[Data]]>$G$52),1,0)))","v":""},{"$f":"IF(Tabulka2[[#This Row],[OL]]=\"\",\"\",IF(Tabulka2[[#This Row],[OL]]>0,A328,\"\"))","v":""},null,null,null,null,null,null,null,null,null,null,null,null,null,null,null,"",null,""]
[null,null,{"$f":"IF(Tabulka2[[#This Row],[Data]]=\"\",\"\",IF(OR(Tabulka2[[#This Row],[Data]]<$G$57,Tabulka2[[#This Row],[Data]]>$G$58),2,IF(OR(Tabulka2[[#This Row],[Data]]<$G$51,Tabulka2[[#This Row],[Data]]>$G$52),1,0)))","v":""},{"$f":"IF(Tabulka2[[#This Row],[OL]]=\"\",\"\",IF(Tabulka2[[#This Row],[OL]]>0,A329,\"\"))","v":""},null,null,null,null,null,null,null,null,null,null,null,null,null,null,null,"",null,""]
[null,null,{"$f":"IF(Tabulka2[[#This Row],[Data]]=\"\",\"\",IF(OR(Tabulka2[[#This Row],[Data]]<$G$57,Tabulka2[[#This Row],[Data]]>$G$58),2,IF(OR(Tabulka2[[#This Row],[Data]]<$G$51,Tabulka2[[#This Row],[Data]]>$G$52),1,0)))","v":""},{"$f":"IF(Tabulka2[[#This Row],[OL]]=\"\",\"\",IF(Tabulka2[[#This Row],[OL]]>0,A330,\"\"))","v":""},null,null,null,null,null,null,null,null,null,null,null,null,null,null,null,"",null,""]
[null,null,{"$f":"IF(Tabulka2[[#This Row],[Data]]=\"\",\"\",IF(OR(Tabulka2[[#This Row],[Data]]<$G$57,Tabulka2[[#This Row],[Data]]>$G$58),2,IF(OR(Tabulka2[[#This Row],[Data]]<$G$51,Tabulka2[[#This Row],[Data]]>$G$52),1,0)))","v":""},{"$f":"IF(Tabulka2[[#This Row],[OL]]=\"\",\"\",IF(Tabulka2[[#This Row],[OL]]>0,A331,\"\"))","v":""},null,null,null,null,null,null,null,null,null,null,null,null,null,null,null,"",null,""]
[null,null,{"$f":"IF(Tabulka2[[#This Row],[Data]]=\"\",\"\",IF(OR(Tabulka2[[#This Row],[Data]]<$G$57,Tabulka2[[#This Row],[Data]]>$G$58),2,IF(OR(Tabulka2[[#This Row],[Data]]<$G$51,Tabulka2[[#This Row],[Data]]>$G$52),1,0)))","v":""},{"$f":"IF(Tabulka2[[#This Row],[OL]]=\"\",\"\",IF(Tabulka2[[#This Row],[OL]]>0,A332,\"\"))","v":""},null,null,null,null,null,null,null,null,null,null,null,null,null,null,null,"",null,""]
[null,null,{"$f":"IF(Tabulka2[[#This Row],[Data]]=\"\",\"\",IF(OR(Tabulka2[[#This Row],[Data]]<$G$57,Tabulka2[[#This Row],[Data]]>$G$58),2,IF(OR(Tabulka2[[#This Row],[Data]]<$G$51,Tabulka2[[#This Row],[Data]]>$G$52),1,0)))","v":""},{"$f":"IF(Tabulka2[[#This Row],[OL]]=\"\",\"\",IF(Tabulka2[[#This Row],[OL]]>0,A333,\"\"))","v":""},null,null,null,null,null,null,null,null,null,null,null,null,null,null,null,"",null,""]
[null,null,{"$f":"IF(Tabulka2[[#This Row],[Data]]=\"\",\"\",IF(OR(Tabulka2[[#This Row],[Data]]<$G$57,Tabulka2[[#This Row],[Data]]>$G$58),2,IF(OR(Tabulka2[[#This Row],[Data]]<$G$51,Tabulka2[[#This Row],[Data]]>$G$52),1,0)))","v":""},{"$f":"IF(Tabulka2[[#This Row],[OL]]=\"\",\"\",IF(Tabulka2[[#This Row],[OL]]>0,A334,\"\"))","v":""},null,null,null,null,null,null,null,null,null,null,null,null,null,null,null,"",null,""]
[null,null,{"$f":"IF(Tabulka2[[#This Row],[Data]]=\"\",\"\",IF(OR(Tabulka2[[#This Row],[Data]]<$G$57,Tabulka2[[#This Row],[Data]]>$G$58),2,IF(OR(Tabulka2[[#This Row],[Data]]<$G$51,Tabulka2[[#This Row],[Data]]>$G$52),1,0)))","v":""},{"$f":"IF(Tabulka2[[#This Row],[OL]]=\"\",\"\",IF(Tabulka2[[#This Row],[OL]]>0,A335,\"\"))","v":""},null,null,null,null,null,null,null,null,null,null,null,null,null,null,null,"",null,""]
[null,null,{"$f":"IF(Tabulka2[[#This Row],[Data]]=\"\",\"\",IF(OR(Tabulka2[[#This Row],[Data]]<$G$57,Tabulka2[[#This Row],[Data]]>$G$58),2,IF(OR(Tabulka2[[#This Row],[Data]]<$G$51,Tabulka2[[#This Row],[Data]]>$G$52),1,0)))","v":""},{"$f":"IF(Tabulka2[[#This Row],[OL]]=\"\",\"\",IF(Tabulka2[[#This Row],[OL]]>0,A336,\"\"))","v":""},null,null,null,null,null,null,null,null,null,null,null,null,null,null,null,"",null,""]
[null,null,{"$f":"IF(Tabulka2[[#This Row],[Data]]=\"\",\"\",IF(OR(Tabulka2[[#This Row],[Data]]<$G$57,Tabulka2[[#This Row],[Data]]>$G$58),2,IF(OR(Tabulka2[[#This Row],[Data]]<$G$51,Tabulka2[[#This Row],[Data]]>$G$52),1,0)))","v":""},{"$f":"IF(Tabulka2[[#This Row],[OL]]=\"\",\"\",IF(Tabulka2[[#This Row],[OL]]>0,A337,\"\"))","v":""},null,null,null,null,null,null,null,null,null,null,null,null,null,null,null,"",null,""]
[null,null,{"$f":"IF(Tabulka2[[#This Row],[Data]]=\"\",\"\",IF(OR(Tabulka2[[#This Row],[Data]]<$G$57,Tabulka2[[#This Row],[Data]]>$G$58),2,IF(OR(Tabulka2[[#This Row],[Data]]<$G$51,Tabulka2[[#This Row],[Data]]>$G$52),1,0)))","v":""},{"$f":"IF(Tabulka2[[#This Row],[OL]]=\"\",\"\",IF(Tabulka2[[#This Row],[OL]]>0,A338,\"\"))","v":""},null,null,null,null,null,null,null,null,null,null,null,null,null,null,null,"",null,""]
[null,null,{"$f":"IF(Tabulka2[[#This Row],[Data]]=\"\",\"\",IF(OR(Tabulka2[[#This Row],[Data]]<$G$57,Tabulka2[[#This Row],[Data]]>$G$58),2,IF(OR(Tabulka2[[#This Row],[Data]]<$G$51,Tabulka2[[#This Row],[Data]]>$G$52),1,0)))","v":""},{"$f":"IF(Tabulka2[[#This Row],[OL]]=\"\",\"\",IF(Tabulka2[[#This Row],[OL]]>0,A339,\"\"))","v":""},null,null,null,null,null,null,null,null,null,null,null,null,null,null,null,"",null,""]
[null,null,{"$f":"IF(Tabulka2[[#This Row],[Data]]=\"\",\"\",IF(OR(Tabulka2[[#This Row],[Data]]<$G$57,Tabulka2[[#This Row],[Data]]>$G$58),2,IF(OR(Tabulka2[[#This Row],[Data]]<$G$51,Tabulka2[[#This Row],[Data]]>$G$52),1,0)))","v":""},{"$f":"IF(Tabulka2[[#This Row],[OL]]=\"\",\"\",IF(Tabulka2[[#This Row],[OL]]>0,A340,\"\"))","v":""},null,null,null,null,null,null,null,null,null,null,null,null,null,null,null,"",null,""]
[null,null,{"$f":"IF(Tabulka2[[#This Row],[Data]]=\"\",\"\",IF(OR(Tabulka2[[#This Row],[Data]]<$G$57,Tabulka2[[#This Row],[Data]]>$G$58),2,IF(OR(Tabulka2[[#This Row],[Data]]<$G$51,Tabulka2[[#This Row],[Data]]>$G$52),1,0)))","v":""},{"$f":"IF(Tabulka2[[#This Row],[OL]]=\"\",\"\",IF(Tabulka2[[#This Row],[OL]]>0,A341,\"\"))","v":""},null,null,null,null,null,null,null,null,null,null,null,null,null,null,null,"",null,""]
[null,null,{"$f":"IF(Tabulka2[[#This Row],[Data]]=\"\",\"\",IF(OR(Tabulka2[[#This Row],[Data]]<$G$57,Tabulka2[[#This Row],[Data]]>$G$58),2,IF(OR(Tabulka2[[#This Row],[Data]]<$G$51,Tabulka2[[#This Row],[Data]]>$G$52),1,0)))","v":""},{"$f":"IF(Tabulka2[[#This Row],[OL]]=\"\",\"\",IF(Tabulka2[[#This Row],[OL]]>0,A342,\"\"))","v":""},null,null,null,null,null,null,null,null,null,null,null,null,null,null,null,"",null,""]
[null,null,{"$f":"IF(Tabulka2[[#This Row],[Data]]=\"\",\"\",IF(OR(Tabulka2[[#This Row],[Data]]<$G$57,Tabulka2[[#This Row],[Data]]>$G$58),2,IF(OR(Tabulka2[[#This Row],[Data]]<$G$51,Tabulka2[[#This Row],[Data]]>$G$52),1,0)))","v":""},{"$f":"IF(Tabulka2[[#This Row],[OL]]=\"\",\"\",IF(Tabulka2[[#This Row],[OL]]>0,A343,\"\"))","v":""},null,null,null,null,null,null,null,null,null,null,null,null,null,null,null,"",null,""]
[null,null,{"$f":"IF(Tabulka2[[#This Row],[Data]]=\"\",\"\",IF(OR(Tabulka2[[#This Row],[Data]]<$G$57,Tabulka2[[#This Row],[Data]]>$G$58),2,IF(OR(Tabulka2[[#This Row],[Data]]<$G$51,Tabulka2[[#This Row],[Data]]>$G$52),1,0)))","v":""},{"$f":"IF(Tabulka2[[#This Row],[OL]]=\"\",\"\",IF(Tabulka2[[#This Row],[OL]]>0,A344,\"\"))","v":""},null,null,null,null,null,null,null,null,null,null,null,null,null,null,null,"",null,""]
[null,null,{"$f":"IF(Tabulka2[[#This Row],[Data]]=\"\",\"\",IF(OR(Tabulka2[[#This Row],[Data]]<$G$57,Tabulka2[[#This Row],[Data]]>$G$58),2,IF(OR(Tabulka2[[#This Row],[Data]]<$G$51,Tabulka2[[#This Row],[Data]]>$G$52),1,0)))","v":""},{"$f":"IF(Tabulka2[[#This Row],[OL]]=\"\",\"\",IF(Tabulka2[[#This Row],[OL]]>0,A345,\"\"))","v":""},null,null,null,null,null,null,null,null,null,null,null,null,null,null,null,"",null,""]
[null,null,{"$f":"IF(Tabulka2[[#This Row],[Data]]=\"\",\"\",IF(OR(Tabulka2[[#This Row],[Data]]<$G$57,Tabulka2[[#This Row],[Data]]>$G$58),2,IF(OR(Tabulka2[[#This Row],[Data]]<$G$51,Tabulka2[[#This Row],[Data]]>$G$52),1,0)))","v":""},{"$f":"IF(Tabulka2[[#This Row],[OL]]=\"\",\"\",IF(Tabulka2[[#This Row],[OL]]>0,A346,\"\"))","v":""},null,null,null,null,null,null,null,null,null,null,null,null,null,null,null,"",null,""]
[null,null,{"$f":"IF(Tabulka2[[#This Row],[Data]]=\"\",\"\",IF(OR(Tabulka2[[#This Row],[Data]]<$G$57,Tabulka2[[#This Row],[Data]]>$G$58),2,IF(OR(Tabulka2[[#This Row],[Data]]<$G$51,Tabulka2[[#This Row],[Data]]>$G$52),1,0)))","v":""},{"$f":"IF(Tabulka2[[#This Row],[OL]]=\"\",\"\",IF(Tabulka2[[#This Row],[OL]]>0,A347,\"\"))","v":""},null,null,null,null,null,null,null,null,null,null,null,null,null,null,null,"",null,""]
[null,null,{"$f":"IF(Tabulka2[[#This Row],[Data]]=\"\",\"\",IF(OR(Tabulka2[[#This Row],[Data]]<$G$57,Tabulka2[[#This Row],[Data]]>$G$58),2,IF(OR(Tabulka2[[#This Row],[Data]]<$G$51,Tabulka2[[#This Row],[Data]]>$G$52),1,0)))","v":""},{"$f":"IF(Tabulka2[[#This Row],[OL]]=\"\",\"\",IF(Tabulka2[[#This Row],[OL]]>0,A348,\"\"))","v":""},null,null,null,null,null,null,null,null,null,null,null,null,null,null,null,"",null,""]
[null,null,{"$f":"IF(Tabulka2[[#This Row],[Data]]=\"\",\"\",IF(OR(Tabulka2[[#This Row],[Data]]<$G$57,Tabulka2[[#This Row],[Data]]>$G$58),2,IF(OR(Tabulka2[[#This Row],[Data]]<$G$51,Tabulka2[[#This Row],[Data]]>$G$52),1,0)))","v":""},{"$f":"IF(Tabulka2[[#This Row],[OL]]=\"\",\"\",IF(Tabulka2[[#This Row],[OL]]>0,A349,\"\"))","v":""},null,null,null,null,null,null,null,null,null,null,null,null,null,null,null,"",null,""]
[null,null,{"$f":"IF(Tabulka2[[#This Row],[Data]]=\"\",\"\",IF(OR(Tabulka2[[#This Row],[Data]]<$G$57,Tabulka2[[#This Row],[Data]]>$G$58),2,IF(OR(Tabulka2[[#This Row],[Data]]<$G$51,Tabulka2[[#This Row],[Data]]>$G$52),1,0)))","v":""},{"$f":"IF(Tabulka2[[#This Row],[OL]]=\"\",\"\",IF(Tabulka2[[#This Row],[OL]]>0,A350,\"\"))","v":""},null,null,null,null,null,null,null,null,null,null,null,null,null,null,null,"",null,""]
[null,null,{"$f":"IF(Tabulka2[[#This Row],[Data]]=\"\",\"\",IF(OR(Tabulka2[[#This Row],[Data]]<$G$57,Tabulka2[[#This Row],[Data]]>$G$58),2,IF(OR(Tabulka2[[#This Row],[Data]]<$G$51,Tabulka2[[#This Row],[Data]]>$G$52),1,0)))","v":""},{"$f":"IF(Tabulka2[[#This Row],[OL]]=\"\",\"\",IF(Tabulka2[[#This Row],[OL]]>0,A351,\"\"))","v":""},null,null,null,null,null,null,null,null,null,null,null,null,null,null,null,"",null,""]
[null,null,{"$f":"IF(Tabulka2[[#This Row],[Data]]=\"\",\"\",IF(OR(Tabulka2[[#This Row],[Data]]<$G$57,Tabulka2[[#This Row],[Data]]>$G$58),2,IF(OR(Tabulka2[[#This Row],[Data]]<$G$51,Tabulka2[[#This Row],[Data]]>$G$52),1,0)))","v":""},{"$f":"IF(Tabulka2[[#This Row],[OL]]=\"\",\"\",IF(Tabulka2[[#This Row],[OL]]>0,A352,\"\"))","v":""},null,null,null,null,null,null,null,null,null,null,null,null,null,null,null,"",null,""]
[null,null,{"$f":"IF(Tabulka2[[#This Row],[Data]]=\"\",\"\",IF(OR(Tabulka2[[#This Row],[Data]]<$G$57,Tabulka2[[#This Row],[Data]]>$G$58),2,IF(OR(Tabulka2[[#This Row],[Data]]<$G$51,Tabulka2[[#This Row],[Data]]>$G$52),1,0)))","v":""},{"$f":"IF(Tabulka2[[#This Row],[OL]]=\"\",\"\",IF(Tabulka2[[#This Row],[OL]]>0,A353,\"\"))","v":""},null,null,null,null,null,null,null,null,null,null,null,null,null,null,null,"",null,""]
[null,null,{"$f":"IF(Tabulka2[[#This Row],[Data]]=\"\",\"\",IF(OR(Tabulka2[[#This Row],[Data]]<$G$57,Tabulka2[[#This Row],[Data]]>$G$58),2,IF(OR(Tabulka2[[#This Row],[Data]]<$G$51,Tabulka2[[#This Row],[Data]]>$G$52),1,0)))","v":""},{"$f":"IF(Tabulka2[[#This Row],[OL]]=\"\",\"\",IF(Tabulka2[[#This Row],[OL]]>0,A354,\"\"))","v":""},null,null,null,null,null,null,null,null,null,null,null,null,null,null,null,"",null,""]
[null,null,{"$f":"IF(Tabulka2[[#This Row],[Data]]=\"\",\"\",IF(OR(Tabulka2[[#This Row],[Data]]<$G$57,Tabulka2[[#This Row],[Data]]>$G$58),2,IF(OR(Tabulka2[[#This Row],[Data]]<$G$51,Tabulka2[[#This Row],[Data]]>$G$52),1,0)))","v":""},{"$f":"IF(Tabulka2[[#This Row],[OL]]=\"\",\"\",IF(Tabulka2[[#This Row],[OL]]>0,A355,\"\"))","v":""},null,null,null,null,null,null,null,null,null,null,null,null,null,null,null,"",null,""]
[null,null,{"$f":"IF(Tabulka2[[#This Row],[Data]]=\"\",\"\",IF(OR(Tabulka2[[#This Row],[Data]]<$G$57,Tabulka2[[#This Row],[Data]]>$G$58),2,IF(OR(Tabulka2[[#This Row],[Data]]<$G$51,Tabulka2[[#This Row],[Data]]>$G$52),1,0)))","v":""},{"$f":"IF(Tabulka2[[#This Row],[OL]]=\"\",\"\",IF(Tabulka2[[#This Row],[OL]]>0,A356,\"\"))","v":""},null,null,null,null,null,null,null,null,null,null,null,null,null,null,null,"",null,""]
[null,null,{"$f":"IF(Tabulka2[[#This Row],[Data]]=\"\",\"\",IF(OR(Tabulka2[[#This Row],[Data]]<$G$57,Tabulka2[[#This Row],[Data]]>$G$58),2,IF(OR(Tabulka2[[#This Row],[Data]]<$G$51,Tabulka2[[#This Row],[Data]]>$G$52),1,0)))","v":""},{"$f":"IF(Tabulka2[[#This Row],[OL]]=\"\",\"\",IF(Tabulka2[[#This Row],[OL]]>0,A357,\"\"))","v":""},null,null,null,null,null,null,null,null,null,null,null,null,null,null,null,"",null,""]
[null,null,{"$f":"IF(Tabulka2[[#This Row],[Data]]=\"\",\"\",IF(OR(Tabulka2[[#This Row],[Data]]<$G$57,Tabulka2[[#This Row],[Data]]>$G$58),2,IF(OR(Tabulka2[[#This Row],[Data]]<$G$51,Tabulka2[[#This Row],[Data]]>$G$52),1,0)))","v":""},{"$f":"IF(Tabulka2[[#This Row],[OL]]=\"\",\"\",IF(Tabulka2[[#This Row],[OL]]>0,A358,\"\"))","v":""},null,null,null,null,null,null,null,null,null,null,null,null,null,null,null,"",null,""]
[null,null,{"$f":"IF(Tabulka2[[#This Row],[Data]]=\"\",\"\",IF(OR(Tabulka2[[#This Row],[Data]]<$G$57,Tabulka2[[#This Row],[Data]]>$G$58),2,IF(OR(Tabulka2[[#This Row],[Data]]<$G$51,Tabulka2[[#This Row],[Data]]>$G$52),1,0)))","v":""},{"$f":"IF(Tabulka2[[#This Row],[OL]]=\"\",\"\",IF(Tabulka2[[#This Row],[OL]]>0,A359,\"\"))","v":""},null,null,null,null,null,null,null,null,null,null,null,null,null,null,null,"",null,""]
[null,null,{"$f":"IF(Tabulka2[[#This Row],[Data]]=\"\",\"\",IF(OR(Tabulka2[[#This Row],[Data]]<$G$57,Tabulka2[[#This Row],[Data]]>$G$58),2,IF(OR(Tabulka2[[#This Row],[Data]]<$G$51,Tabulka2[[#This Row],[Data]]>$G$52),1,0)))","v":""},{"$f":"IF(Tabulka2[[#This Row],[OL]]=\"\",\"\",IF(Tabulka2[[#This Row],[OL]]>0,A360,\"\"))","v":""},null,null,null,null,null,null,null,null,null,null,null,null,null,null,null,"",null,""]
[null,null,{"$f":"IF(Tabulka2[[#This Row],[Data]]=\"\",\"\",IF(OR(Tabulka2[[#This Row],[Data]]<$G$57,Tabulka2[[#This Row],[Data]]>$G$58),2,IF(OR(Tabulka2[[#This Row],[Data]]<$G$51,Tabulka2[[#This Row],[Data]]>$G$52),1,0)))","v":""},{"$f":"IF(Tabulka2[[#This Row],[OL]]=\"\",\"\",IF(Tabulka2[[#This Row],[OL]]>0,A361,\"\"))","v":""},null,null,null,null,null,null,null,null,null,null,null,null,null,null,null,"",null,""]
[null,null,{"$f":"IF(Tabulka2[[#This Row],[Data]]=\"\",\"\",IF(OR(Tabulka2[[#This Row],[Data]]<$G$57,Tabulka2[[#This Row],[Data]]>$G$58),2,IF(OR(Tabulka2[[#This Row],[Data]]<$G$51,Tabulka2[[#This Row],[Data]]>$G$52),1,0)))","v":""},{"$f":"IF(Tabulka2[[#This Row],[OL]]=\"\",\"\",IF(Tabulka2[[#This Row],[OL]]>0,A362,\"\"))","v":""},null,null,null,null,null,null,null,null,null,null,null,null,null,null,null,"",null,""]
[null,null,{"$f":"IF(Tabulka2[[#This Row],[Data]]=\"\",\"\",IF(OR(Tabulka2[[#This Row],[Data]]<$G$57,Tabulka2[[#This Row],[Data]]>$G$58),2,IF(OR(Tabulka2[[#This Row],[Data]]<$G$51,Tabulka2[[#This Row],[Data]]>$G$52),1,0)))","v":""},{"$f":"IF(Tabulka2[[#This Row],[OL]]=\"\",\"\",IF(Tabulka2[[#This Row],[OL]]>0,A363,\"\"))","v":""},null,null,null,null,null,null,null,null,null,null,null,null,null,null,null,"",null,""]
[null,null,{"$f":"IF(Tabulka2[[#This Row],[Data]]=\"\",\"\",IF(OR(Tabulka2[[#This Row],[Data]]<$G$57,Tabulka2[[#This Row],[Data]]>$G$58),2,IF(OR(Tabulka2[[#This Row],[Data]]<$G$51,Tabulka2[[#This Row],[Data]]>$G$52),1,0)))","v":""},{"$f":"IF(Tabulka2[[#This Row],[OL]]=\"\",\"\",IF(Tabulka2[[#This Row],[OL]]>0,A364,\"\"))","v":""},null,null,null,null,null,null,null,null,null,null,null,null,null,null,null,"",null,""]
[null,null,{"$f":"IF(Tabulka2[[#This Row],[Data]]=\"\",\"\",IF(OR(Tabulka2[[#This Row],[Data]]<$G$57,Tabulka2[[#This Row],[Data]]>$G$58),2,IF(OR(Tabulka2[[#This Row],[Data]]<$G$51,Tabulka2[[#This Row],[Data]]>$G$52),1,0)))","v":""},{"$f":"IF(Tabulka2[[#This Row],[OL]]=\"\",\"\",IF(Tabulka2[[#This Row],[OL]]>0,A365,\"\"))","v":""},null,null,null,null,null,null,null,null,null,null,null,null,null,null,null,"",null,""]
[null,null,{"$f":"IF(Tabulka2[[#This Row],[Data]]=\"\",\"\",IF(OR(Tabulka2[[#This Row],[Data]]<$G$57,Tabulka2[[#This Row],[Data]]>$G$58),2,IF(OR(Tabulka2[[#This Row],[Data]]<$G$51,Tabulka2[[#This Row],[Data]]>$G$52),1,0)))","v":""},{"$f":"IF(Tabulka2[[#This Row],[OL]]=\"\",\"\",IF(Tabulka2[[#This Row],[OL]]>0,A366,\"\"))","v":""},null,null,null,null,null,null,null,null,null,null,null,null,null,null,null,"",null,""]
[null,null,{"$f":"IF(Tabulka2[[#This Row],[Data]]=\"\",\"\",IF(OR(Tabulka2[[#This Row],[Data]]<$G$57,Tabulka2[[#This Row],[Data]]>$G$58),2,IF(OR(Tabulka2[[#This Row],[Data]]<$G$51,Tabulka2[[#This Row],[Data]]>$G$52),1,0)))","v":""},{"$f":"IF(Tabulka2[[#This Row],[OL]]=\"\",\"\",IF(Tabulka2[[#This Row],[OL]]>0,A367,\"\"))","v":""},null,null,null,null,null,null,null,null,null,null,null,null,null,null,null,"",null,""]
[null,null,{"$f":"IF(Tabulka2[[#This Row],[Data]]=\"\",\"\",IF(OR(Tabulka2[[#This Row],[Data]]<$G$57,Tabulka2[[#This Row],[Data]]>$G$58),2,IF(OR(Tabulka2[[#This Row],[Data]]<$G$51,Tabulka2[[#This Row],[Data]]>$G$52),1,0)))","v":""},{"$f":"IF(Tabulka2[[#This Row],[OL]]=\"\",\"\",IF(Tabulka2[[#This Row],[OL]]>0,A368,\"\"))","v":""},null,null,null,null,null,null,null,null,null,null,null,null,null,null,null,"",null,""]
[null,null,{"$f":"IF(Tabulka2[[#This Row],[Data]]=\"\",\"\",IF(OR(Tabulka2[[#This Row],[Data]]<$G$57,Tabulka2[[#This Row],[Data]]>$G$58),2,IF(OR(Tabulka2[[#This Row],[Data]]<$G$51,Tabulka2[[#This Row],[Data]]>$G$52),1,0)))","v":""},{"$f":"IF(Tabulka2[[#This Row],[OL]]=\"\",\"\",IF(Tabulka2[[#This Row],[OL]]>0,A369,\"\"))","v":""},null,null,null,null,null,null,null,null,null,null,null,null,null,null,null,"",null,""]
[null,null,{"$f":"IF(Tabulka2[[#This Row],[Data]]=\"\",\"\",IF(OR(Tabulka2[[#This Row],[Data]]<$G$57,Tabulka2[[#This Row],[Data]]>$G$58),2,IF(OR(Tabulka2[[#This Row],[Data]]<$G$51,Tabulka2[[#This Row],[Data]]>$G$52),1,0)))","v":""},{"$f":"IF(Tabulka2[[#This Row],[OL]]=\"\",\"\",IF(Tabulka2[[#This Row],[OL]]>0,A370,\"\"))","v":""},null,null,null,null,null,null,null,null,null,null,null,null,null,null,null,"",null,""]
[null,null,{"$f":"IF(Tabulka2[[#This Row],[Data]]=\"\",\"\",IF(OR(Tabulka2[[#This Row],[Data]]<$G$57,Tabulka2[[#This Row],[Data]]>$G$58),2,IF(OR(Tabulka2[[#This Row],[Data]]<$G$51,Tabulka2[[#This Row],[Data]]>$G$52),1,0)))","v":""},{"$f":"IF(Tabulka2[[#This Row],[OL]]=\"\",\"\",IF(Tabulka2[[#This Row],[OL]]>0,A371,\"\"))","v":""},null,null,null,null,null,null,null,null,null,null,null,null,null,null,null,"",null,""]
[null,null,{"$f":"IF(Tabulka2[[#This Row],[Data]]=\"\",\"\",IF(OR(Tabulka2[[#This Row],[Data]]<$G$57,Tabulka2[[#This Row],[Data]]>$G$58),2,IF(OR(Tabulka2[[#This Row],[Data]]<$G$51,Tabulka2[[#This Row],[Data]]>$G$52),1,0)))","v":""},{"$f":"IF(Tabulka2[[#This Row],[OL]]=\"\",\"\",IF(Tabulka2[[#This Row],[OL]]>0,A372,\"\"))","v":""},null,null,null,null,null,null,null,null,null,null,null,null,null,null,null,"",null,""]
[null,null,{"$f":"IF(Tabulka2[[#This Row],[Data]]=\"\",\"\",IF(OR(Tabulka2[[#This Row],[Data]]<$G$57,Tabulka2[[#This Row],[Data]]>$G$58),2,IF(OR(Tabulka2[[#This Row],[Data]]<$G$51,Tabulka2[[#This Row],[Data]]>$G$52),1,0)))","v":""},{"$f":"IF(Tabulka2[[#This Row],[OL]]=\"\",\"\",IF(Tabulka2[[#This Row],[OL]]>0,A373,\"\"))","v":""},null,null,null,null,null,null,null,null,null,null,null,null,null,null,null,"",null,""]
[null,null,{"$f":"IF(Tabulka2[[#This Row],[Data]]=\"\",\"\",IF(OR(Tabulka2[[#This Row],[Data]]<$G$57,Tabulka2[[#This Row],[Data]]>$G$58),2,IF(OR(Tabulka2[[#This Row],[Data]]<$G$51,Tabulka2[[#This Row],[Data]]>$G$52),1,0)))","v":""},{"$f":"IF(Tabulka2[[#This Row],[OL]]=\"\",\"\",IF(Tabulka2[[#This Row],[OL]]>0,A374,\"\"))","v":""},null,null,null,null,null,null,null,null,null,null,null,null,null,null,null,"",null,""]
[null,null,{"$f":"IF(Tabulka2[[#This Row],[Data]]=\"\",\"\",IF(OR(Tabulka2[[#This Row],[Data]]<$G$57,Tabulka2[[#This Row],[Data]]>$G$58),2,IF(OR(Tabulka2[[#This Row],[Data]]<$G$51,Tabulka2[[#This Row],[Data]]>$G$52),1,0)))","v":""},{"$f":"IF(Tabulka2[[#This Row],[OL]]=\"\",\"\",IF(Tabulka2[[#This Row],[OL]]>0,A375,\"\"))","v":""},null,null,null,null,null,null,null,null,null,null,null,null,null,null,null,"",null,""]
[null,null,{"$f":"IF(Tabulka2[[#This Row],[Data]]=\"\",\"\",IF(OR(Tabulka2[[#This Row],[Data]]<$G$57,Tabulka2[[#This Row],[Data]]>$G$58),2,IF(OR(Tabulka2[[#This Row],[Data]]<$G$51,Tabulka2[[#This Row],[Data]]>$G$52),1,0)))","v":""},{"$f":"IF(Tabulka2[[#This Row],[OL]]=\"\",\"\",IF(Tabulka2[[#This Row],[OL]]>0,A376,\"\"))","v":""},null,null,null,null,null,null,null,null,null,null,null,null,null,null,null,"",null,""]
[null,null,{"$f":"IF(Tabulka2[[#This Row],[Data]]=\"\",\"\",IF(OR(Tabulka2[[#This Row],[Data]]<$G$57,Tabulka2[[#This Row],[Data]]>$G$58),2,IF(OR(Tabulka2[[#This Row],[Data]]<$G$51,Tabulka2[[#This Row],[Data]]>$G$52),1,0)))","v":""},{"$f":"IF(Tabulka2[[#This Row],[OL]]=\"\",\"\",IF(Tabulka2[[#This Row],[OL]]>0,A377,\"\"))","v":""},null,null,null,null,null,null,null,null,null,null,null,null,null,null,null,"",null,""]
[null,null,{"$f":"IF(Tabulka2[[#This Row],[Data]]=\"\",\"\",IF(OR(Tabulka2[[#This Row],[Data]]<$G$57,Tabulka2[[#This Row],[Data]]>$G$58),2,IF(OR(Tabulka2[[#This Row],[Data]]<$G$51,Tabulka2[[#This Row],[Data]]>$G$52),1,0)))","v":""},{"$f":"IF(Tabulka2[[#This Row],[OL]]=\"\",\"\",IF(Tabulka2[[#This Row],[OL]]>0,A378,\"\"))","v":""},null,null,null,null,null,null,null,null,null,null,null,null,null,null,null,"",null,""]
[null,null,{"$f":"IF(Tabulka2[[#This Row],[Data]]=\"\",\"\",IF(OR(Tabulka2[[#This Row],[Data]]<$G$57,Tabulka2[[#This Row],[Data]]>$G$58),2,IF(OR(Tabulka2[[#This Row],[Data]]<$G$51,Tabulka2[[#This Row],[Data]]>$G$52),1,0)))","v":""},{"$f":"IF(Tabulka2[[#This Row],[OL]]=\"\",\"\",IF(Tabulka2[[#This Row],[OL]]>0,A379,\"\"))","v":""},null,null,null,null,null,null,null,null,null,null,null,null,null,null,null,"",null,""]
[null,null,{"$f":"IF(Tabulka2[[#This Row],[Data]]=\"\",\"\",IF(OR(Tabulka2[[#This Row],[Data]]<$G$57,Tabulka2[[#This Row],[Data]]>$G$58),2,IF(OR(Tabulka2[[#This Row],[Data]]<$G$51,Tabulka2[[#This Row],[Data]]>$G$52),1,0)))","v":""},{"$f":"IF(Tabulka2[[#This Row],[OL]]=\"\",\"\",IF(Tabulka2[[#This Row],[OL]]>0,A380,\"\"))","v":""},null,null,null,null,null,null,null,null,null,null,null,null,null,null,null,"",null,""]
[null,null,{"$f":"IF(Tabulka2[[#This Row],[Data]]=\"\",\"\",IF(OR(Tabulka2[[#This Row],[Data]]<$G$57,Tabulka2[[#This Row],[Data]]>$G$58),2,IF(OR(Tabulka2[[#This Row],[Data]]<$G$51,Tabulka2[[#This Row],[Data]]>$G$52),1,0)))","v":""},{"$f":"IF(Tabulka2[[#This Row],[OL]]=\"\",\"\",IF(Tabulka2[[#This Row],[OL]]>0,A381,\"\"))","v":""},null,null,null,null,null,null,null,null,null,null,null,null,null,null,null,"",null,""]
[null,null,{"$f":"IF(Tabulka2[[#This Row],[Data]]=\"\",\"\",IF(OR(Tabulka2[[#This Row],[Data]]<$G$57,Tabulka2[[#This Row],[Data]]>$G$58),2,IF(OR(Tabulka2[[#This Row],[Data]]<$G$51,Tabulka2[[#This Row],[Data]]>$G$52),1,0)))","v":""},{"$f":"IF(Tabulka2[[#This Row],[OL]]=\"\",\"\",IF(Tabulka2[[#This Row],[OL]]>0,A382,\"\"))","v":""},null,null,null,null,null,null,null,null,null,null,null,null,null,null,null,"",null,""]
[null,null,{"$f":"IF(Tabulka2[[#This Row],[Data]]=\"\",\"\",IF(OR(Tabulka2[[#This Row],[Data]]<$G$57,Tabulka2[[#This Row],[Data]]>$G$58),2,IF(OR(Tabulka2[[#This Row],[Data]]<$G$51,Tabulka2[[#This Row],[Data]]>$G$52),1,0)))","v":""},{"$f":"IF(Tabulka2[[#This Row],[OL]]=\"\",\"\",IF(Tabulka2[[#This Row],[OL]]>0,A383,\"\"))","v":""},null,null,null,null,null,null,null,null,null,null,null,null,null,null,null,"",null,""]
[null,null,{"$f":"IF(Tabulka2[[#This Row],[Data]]=\"\",\"\",IF(OR(Tabulka2[[#This Row],[Data]]<$G$57,Tabulka2[[#This Row],[Data]]>$G$58),2,IF(OR(Tabulka2[[#This Row],[Data]]<$G$51,Tabulka2[[#This Row],[Data]]>$G$52),1,0)))","v":""},{"$f":"IF(Tabulka2[[#This Row],[OL]]=\"\",\"\",IF(Tabulka2[[#This Row],[OL]]>0,A384,\"\"))","v":""},null,null,null,null,null,null,null,null,null,null,null,null,null,null,null,"",null,""]
[null,null,{"$f":"IF(Tabulka2[[#This Row],[Data]]=\"\",\"\",IF(OR(Tabulka2[[#This Row],[Data]]<$G$57,Tabulka2[[#This Row],[Data]]>$G$58),2,IF(OR(Tabulka2[[#This Row],[Data]]<$G$51,Tabulka2[[#This Row],[Data]]>$G$52),1,0)))","v":""},{"$f":"IF(Tabulka2[[#This Row],[OL]]=\"\",\"\",IF(Tabulka2[[#This Row],[OL]]>0,A385,\"\"))","v":""},null,null,null,null,null,null,null,null,null,null,null,null,null,null,null,"",null,""]
[null,null,{"$f":"IF(Tabulka2[[#This Row],[Data]]=\"\",\"\",IF(OR(Tabulka2[[#This Row],[Data]]<$G$57,Tabulka2[[#This Row],[Data]]>$G$58),2,IF(OR(Tabulka2[[#This Row],[Data]]<$G$51,Tabulka2[[#This Row],[Data]]>$G$52),1,0)))","v":""},{"$f":"IF(Tabulka2[[#This Row],[OL]]=\"\",\"\",IF(Tabulka2[[#This Row],[OL]]>0,A386,\"\"))","v":""},null,null,null,null,null,null,null,null,null,null,null,null,null,null,null,"",null,""]
[null,null,{"$f":"IF(Tabulka2[[#This Row],[Data]]=\"\",\"\",IF(OR(Tabulka2[[#This Row],[Data]]<$G$57,Tabulka2[[#This Row],[Data]]>$G$58),2,IF(OR(Tabulka2[[#This Row],[Data]]<$G$51,Tabulka2[[#This Row],[Data]]>$G$52),1,0)))","v":""},{"$f":"IF(Tabulka2[[#This Row],[OL]]=\"\",\"\",IF(Tabulka2[[#This Row],[OL]]>0,A387,\"\"))","v":""},null,null,null,null,null,null,null,null,null,null,null,null,null,null,null,"",null,""]
[null,null,{"$f":"IF(Tabulka2[[#This Row],[Data]]=\"\",\"\",IF(OR(Tabulka2[[#This Row],[Data]]<$G$57,Tabulka2[[#This Row],[Data]]>$G$58),2,IF(OR(Tabulka2[[#This Row],[Data]]<$G$51,Tabulka2[[#This Row],[Data]]>$G$52),1,0)))","v":""},{"$f":"IF(Tabulka2[[#This Row],[OL]]=\"\",\"\",IF(Tabulka2[[#This Row],[OL]]>0,A388,\"\"))","v":""},null,null,null,null,null,null,null,null,null,null,null,null,null,null,null,"",null,""]
[null,null,{"$f":"IF(Tabulka2[[#This Row],[Data]]=\"\",\"\",IF(OR(Tabulka2[[#This Row],[Data]]<$G$57,Tabulka2[[#This Row],[Data]]>$G$58),2,IF(OR(Tabulka2[[#This Row],[Data]]<$G$51,Tabulka2[[#This Row],[Data]]>$G$52),1,0)))","v":""},{"$f":"IF(Tabulka2[[#This Row],[OL]]=\"\",\"\",IF(Tabulka2[[#This Row],[OL]]>0,A389,\"\"))","v":""},null,null,null,null,null,null,null,null,null,null,null,null,null,null,null,"",null,""]
[null,null,{"$f":"IF(Tabulka2[[#This Row],[Data]]=\"\",\"\",IF(OR(Tabulka2[[#This Row],[Data]]<$G$57,Tabulka2[[#This Row],[Data]]>$G$58),2,IF(OR(Tabulka2[[#This Row],[Data]]<$G$51,Tabulka2[[#This Row],[Data]]>$G$52),1,0)))","v":""},{"$f":"IF(Tabulka2[[#This Row],[OL]]=\"\",\"\",IF(Tabulka2[[#This Row],[OL]]>0,A390,\"\"))","v":""},null,null,null,null,null,null,null,null,null,null,null,null,null,null,null,"",null,""]
[null,null,{"$f":"IF(Tabulka2[[#This Row],[Data]]=\"\",\"\",IF(OR(Tabulka2[[#This Row],[Data]]<$G$57,Tabulka2[[#This Row],[Data]]>$G$58),2,IF(OR(Tabulka2[[#This Row],[Data]]<$G$51,Tabulka2[[#This Row],[Data]]>$G$52),1,0)))","v":""},{"$f":"IF(Tabulka2[[#This Row],[OL]]=\"\",\"\",IF(Tabulka2[[#This Row],[OL]]>0,A391,\"\"))","v":""},null,null,null,null,null,null,null,null,null,null,null,null,null,null,null,"",null,""]
[null,null,{"$f":"IF(Tabulka2[[#This Row],[Data]]=\"\",\"\",IF(OR(Tabulka2[[#This Row],[Data]]<$G$57,Tabulka2[[#This Row],[Data]]>$G$58),2,IF(OR(Tabulka2[[#This Row],[Data]]<$G$51,Tabulka2[[#This Row],[Data]]>$G$52),1,0)))","v":""},{"$f":"IF(Tabulka2[[#This Row],[OL]]=\"\",\"\",IF(Tabulka2[[#This Row],[OL]]>0,A392,\"\"))","v":""},null,null,null,null,null,null,null,null,null,null,null,null,null,null,null,"",null,""]
[null,null,{"$f":"IF(Tabulka2[[#This Row],[Data]]=\"\",\"\",IF(OR(Tabulka2[[#This Row],[Data]]<$G$57,Tabulka2[[#This Row],[Data]]>$G$58),2,IF(OR(Tabulka2[[#This Row],[Data]]<$G$51,Tabulka2[[#This Row],[Data]]>$G$52),1,0)))","v":""},{"$f":"IF(Tabulka2[[#This Row],[OL]]=\"\",\"\",IF(Tabulka2[[#This Row],[OL]]>0,A393,\"\"))","v":""},null,null,null,null,null,null,null,null,null,null,null,null,null,null,null,"",null,""]
[null,null,{"$f":"IF(Tabulka2[[#This Row],[Data]]=\"\",\"\",IF(OR(Tabulka2[[#This Row],[Data]]<$G$57,Tabulka2[[#This Row],[Data]]>$G$58),2,IF(OR(Tabulka2[[#This Row],[Data]]<$G$51,Tabulka2[[#This Row],[Data]]>$G$52),1,0)))","v":""},{"$f":"IF(Tabulka2[[#This Row],[OL]]=\"\",\"\",IF(Tabulka2[[#This Row],[OL]]>0,A394,\"\"))","v":""},null,null,null,null,null,null,null,null,null,null,null,null,null,null,null,"",null,""]
[null,null,{"$f":"IF(Tabulka2[[#This Row],[Data]]=\"\",\"\",IF(OR(Tabulka2[[#This Row],[Data]]<$G$57,Tabulka2[[#This Row],[Data]]>$G$58),2,IF(OR(Tabulka2[[#This Row],[Data]]<$G$51,Tabulka2[[#This Row],[Data]]>$G$52),1,0)))","v":""},{"$f":"IF(Tabulka2[[#This Row],[OL]]=\"\",\"\",IF(Tabulka2[[#This Row],[OL]]>0,A395,\"\"))","v":""},null,null,null,null,null,null,null,null,null,null,null,null,null,null,null,"",null,""]
[null,null,{"$f":"IF(Tabulka2[[#This Row],[Data]]=\"\",\"\",IF(OR(Tabulka2[[#This Row],[Data]]<$G$57,Tabulka2[[#This Row],[Data]]>$G$58),2,IF(OR(Tabulka2[[#This Row],[Data]]<$G$51,Tabulka2[[#This Row],[Data]]>$G$52),1,0)))","v":""},{"$f":"IF(Tabulka2[[#This Row],[OL]]=\"\",\"\",IF(Tabulka2[[#This Row],[OL]]>0,A396,\"\"))","v":""},null,null,null,null,null,null,null,null,null,null,null,null,null,null,null,"",null,""]
[null,null,{"$f":"IF(Tabulka2[[#This Row],[Data]]=\"\",\"\",IF(OR(Tabulka2[[#This Row],[Data]]<$G$57,Tabulka2[[#This Row],[Data]]>$G$58),2,IF(OR(Tabulka2[[#This Row],[Data]]<$G$51,Tabulka2[[#This Row],[Data]]>$G$52),1,0)))","v":""},{"$f":"IF(Tabulka2[[#This Row],[OL]]=\"\",\"\",IF(Tabulka2[[#This Row],[OL]]>0,A397,\"\"))","v":""},null,null,null,null,null,null,null,null,null,null,null,null,null,null,null,"",null,""]
[null,null,{"$f":"IF(Tabulka2[[#This Row],[Data]]=\"\",\"\",IF(OR(Tabulka2[[#This Row],[Data]]<$G$57,Tabulka2[[#This Row],[Data]]>$G$58),2,IF(OR(Tabulka2[[#This Row],[Data]]<$G$51,Tabulka2[[#This Row],[Data]]>$G$52),1,0)))","v":""},{"$f":"IF(Tabulka2[[#This Row],[OL]]=\"\",\"\",IF(Tabulka2[[#This Row],[OL]]>0,A398,\"\"))","v":""},null,null,null,null,null,null,null,null,null,null,null,null,null,null,null,"",null,""]
[null,null,{"$f":"IF(Tabulka2[[#This Row],[Data]]=\"\",\"\",IF(OR(Tabulka2[[#This Row],[Data]]<$G$57,Tabulka2[[#This Row],[Data]]>$G$58),2,IF(OR(Tabulka2[[#This Row],[Data]]<$G$51,Tabulka2[[#This Row],[Data]]>$G$52),1,0)))","v":""},{"$f":"IF(Tabulka2[[#This Row],[OL]]=\"\",\"\",IF(Tabulka2[[#This Row],[OL]]>0,A399,\"\"))","v":""},null,null,null,null,null,null,null,null,null,null,null,null,null,null,null,"",null,""]
[null,null,{"$f":"IF(Tabulka2[[#This Row],[Data]]=\"\",\"\",IF(OR(Tabulka2[[#This Row],[Data]]<$G$57,Tabulka2[[#This Row],[Data]]>$G$58),2,IF(OR(Tabulka2[[#This Row],[Data]]<$G$51,Tabulka2[[#This Row],[Data]]>$G$52),1,0)))","v":""},{"$f":"IF(Tabulka2[[#This Row],[OL]]=\"\",\"\",IF(Tabulka2[[#This Row],[OL]]>0,A400,\"\"))","v":""},null,null,null,null,null,null,null,null,null,null,null,null,null,null,null,"",null,""]
[null,null,{"$f":"IF(Tabulka2[[#This Row],[Data]]=\"\",\"\",IF(OR(Tabulka2[[#This Row],[Data]]<$G$57,Tabulka2[[#This Row],[Data]]>$G$58),2,IF(OR(Tabulka2[[#This Row],[Data]]<$G$51,Tabulka2[[#This Row],[Data]]>$G$52),1,0)))","v":""},{"$f":"IF(Tabulka2[[#This Row],[OL]]=\"\",\"\",IF(Tabulka2[[#This Row],[OL]]>0,A401,\"\"))","v":""},null,null,null,null,null,null,null,null,null,null,null,null,null,null,null,"",null,""]
[null,null,{"$f":"IF(Tabulka2[[#This Row],[Data]]=\"\",\"\",IF(OR(Tabulka2[[#This Row],[Data]]<$G$57,Tabulka2[[#This Row],[Data]]>$G$58),2,IF(OR(Tabulka2[[#This Row],[Data]]<$G$51,Tabulka2[[#This Row],[Data]]>$G$52),1,0)))","v":""},{"$f":"IF(Tabulka2[[#This Row],[OL]]=\"\",\"\",IF(Tabulka2[[#This Row],[OL]]>0,A402,\"\"))","v":""},null,null,null,null,null,null,null,null,null,null,null,null,null,null,null,"",null,""]
[null,null,{"$f":"IF(Tabulka2[[#This Row],[Data]]=\"\",\"\",IF(OR(Tabulka2[[#This Row],[Data]]<$G$57,Tabulka2[[#This Row],[Data]]>$G$58),2,IF(OR(Tabulka2[[#This Row],[Data]]<$G$51,Tabulka2[[#This Row],[Data]]>$G$52),1,0)))","v":""},{"$f":"IF(Tabulka2[[#This Row],[OL]]=\"\",\"\",IF(Tabulka2[[#This Row],[OL]]>0,A403,\"\"))","v":""},null,null,null,null,null,null,null,null,null,null,null,null,null,null,null,"",null,""]
[null,null,{"$f":"IF(Tabulka2[[#This Row],[Data]]=\"\",\"\",IF(OR(Tabulka2[[#This Row],[Data]]<$G$57,Tabulka2[[#This Row],[Data]]>$G$58),2,IF(OR(Tabulka2[[#This Row],[Data]]<$G$51,Tabulka2[[#This Row],[Data]]>$G$52),1,0)))","v":""},{"$f":"IF(Tabulka2[[#This Row],[OL]]=\"\",\"\",IF(Tabulka2[[#This Row],[OL]]>0,A404,\"\"))","v":""},null,null,null,null,null,null,null,null,null,null,null,null,null,null,null,"",null,""]
[null,null,{"$f":"IF(Tabulka2[[#This Row],[Data]]=\"\",\"\",IF(OR(Tabulka2[[#This Row],[Data]]<$G$57,Tabulka2[[#This Row],[Data]]>$G$58),2,IF(OR(Tabulka2[[#This Row],[Data]]<$G$51,Tabulka2[[#This Row],[Data]]>$G$52),1,0)))","v":""},{"$f":"IF(Tabulka2[[#This Row],[OL]]=\"\",\"\",IF(Tabulka2[[#This Row],[OL]]>0,A405,\"\"))","v":""},null,null,null,null,null,null,null,null,null,null,null,null,null,null,null,"",null,""]
[null,null,{"$f":"IF(Tabulka2[[#This Row],[Data]]=\"\",\"\",IF(OR(Tabulka2[[#This Row],[Data]]<$G$57,Tabulka2[[#This Row],[Data]]>$G$58),2,IF(OR(Tabulka2[[#This Row],[Data]]<$G$51,Tabulka2[[#This Row],[Data]]>$G$52),1,0)))","v":""},{"$f":"IF(Tabulka2[[#This Row],[OL]]=\"\",\"\",IF(Tabulka2[[#This Row],[OL]]>0,A406,\"\"))","v":""},null,null,null,null,null,null,null,null,null,null,null,null,null,null,null,"",null,""]
[null,null,{"$f":"IF(Tabulka2[[#This Row],[Data]]=\"\",\"\",IF(OR(Tabulka2[[#This Row],[Data]]<$G$57,Tabulka2[[#This Row],[Data]]>$G$58),2,IF(OR(Tabulka2[[#This Row],[Data]]<$G$51,Tabulka2[[#This Row],[Data]]>$G$52),1,0)))","v":""},{"$f":"IF(Tabulka2[[#This Row],[OL]]=\"\",\"\",IF(Tabulka2[[#This Row],[OL]]>0,A407,\"\"))","v":""},null,null,null,null,null,null,null,null,null,null,null,null,null,null,null,"",null,""]
[null,null,{"$f":"IF(Tabulka2[[#This Row],[Data]]=\"\",\"\",IF(OR(Tabulka2[[#This Row],[Data]]<$G$57,Tabulka2[[#This Row],[Data]]>$G$58),2,IF(OR(Tabulka2[[#This Row],[Data]]<$G$51,Tabulka2[[#This Row],[Data]]>$G$52),1,0)))","v":""},{"$f":"IF(Tabulka2[[#This Row],[OL]]=\"\",\"\",IF(Tabulka2[[#This Row],[OL]]>0,A408,\"\"))","v":""},null,null,null,null,null,null,null,null,null,null,null,null,null,null,null,"",null,""]
[null,null,{"$f":"IF(Tabulka2[[#This Row],[Data]]=\"\",\"\",IF(OR(Tabulka2[[#This Row],[Data]]<$G$57,Tabulka2[[#This Row],[Data]]>$G$58),2,IF(OR(Tabulka2[[#This Row],[Data]]<$G$51,Tabulka2[[#This Row],[Data]]>$G$52),1,0)))","v":""},{"$f":"IF(Tabulka2[[#This Row],[OL]]=\"\",\"\",IF(Tabulka2[[#This Row],[OL]]>0,A409,\"\"))","v":""},null,null,null,null,null,null,null,null,null,null,null,null,null,null,null,"",null,""]
[null,null,{"$f":"IF(Tabulka2[[#This Row],[Data]]=\"\",\"\",IF(OR(Tabulka2[[#This Row],[Data]]<$G$57,Tabulka2[[#This Row],[Data]]>$G$58),2,IF(OR(Tabulka2[[#This Row],[Data]]<$G$51,Tabulka2[[#This Row],[Data]]>$G$52),1,0)))","v":""},{"$f":"IF(Tabulka2[[#This Row],[OL]]=\"\",\"\",IF(Tabulka2[[#This Row],[OL]]>0,A410,\"\"))","v":""},null,null,null,null,null,null,null,null,null,null,null,null,null,null,null,"",null,""]
[null,null,{"$f":"IF(Tabulka2[[#This Row],[Data]]=\"\",\"\",IF(OR(Tabulka2[[#This Row],[Data]]<$G$57,Tabulka2[[#This Row],[Data]]>$G$58),2,IF(OR(Tabulka2[[#This Row],[Data]]<$G$51,Tabulka2[[#This Row],[Data]]>$G$52),1,0)))","v":""},{"$f":"IF(Tabulka2[[#This Row],[OL]]=\"\",\"\",IF(Tabulka2[[#This Row],[OL]]>0,A411,\"\"))","v":""},null,null,null,null,null,null,null,null,null,null,null,null,null,null,null,"",null,""]
[null,null,{"$f":"IF(Tabulka2[[#This Row],[Data]]=\"\",\"\",IF(OR(Tabulka2[[#This Row],[Data]]<$G$57,Tabulka2[[#This Row],[Data]]>$G$58),2,IF(OR(Tabulka2[[#This Row],[Data]]<$G$51,Tabulka2[[#This Row],[Data]]>$G$52),1,0)))","v":""},{"$f":"IF(Tabulka2[[#This Row],[OL]]=\"\",\"\",IF(Tabulka2[[#This Row],[OL]]>0,A412,\"\"))","v":""},null,null,null,null,null,null,null,null,null,null,null,null,null,null,null,"",null,""]
[null,null,{"$f":"IF(Tabulka2[[#This Row],[Data]]=\"\",\"\",IF(OR(Tabulka2[[#This Row],[Data]]<$G$57,Tabulka2[[#This Row],[Data]]>$G$58),2,IF(OR(Tabulka2[[#This Row],[Data]]<$G$51,Tabulka2[[#This Row],[Data]]>$G$52),1,0)))","v":""},{"$f":"IF(Tabulka2[[#This Row],[OL]]=\"\",\"\",IF(Tabulka2[[#This Row],[OL]]>0,A413,\"\"))","v":""},null,null,null,null,null,null,null,null,null,null,null,null,null,null,null,"",null,""]
[null,null,{"$f":"IF(Tabulka2[[#This Row],[Data]]=\"\",\"\",IF(OR(Tabulka2[[#This Row],[Data]]<$G$57,Tabulka2[[#This Row],[Data]]>$G$58),2,IF(OR(Tabulka2[[#This Row],[Data]]<$G$51,Tabulka2[[#This Row],[Data]]>$G$52),1,0)))","v":""},{"$f":"IF(Tabulka2[[#This Row],[OL]]=\"\",\"\",IF(Tabulka2[[#This Row],[OL]]>0,A414,\"\"))","v":""},null,null,null,null,null,null,null,null,null,null,null,null,null,null,null,"",null,""]
[null,null,{"$f":"IF(Tabulka2[[#This Row],[Data]]=\"\",\"\",IF(OR(Tabulka2[[#This Row],[Data]]<$G$57,Tabulka2[[#This Row],[Data]]>$G$58),2,IF(OR(Tabulka2[[#This Row],[Data]]<$G$51,Tabulka2[[#This Row],[Data]]>$G$52),1,0)))","v":""},{"$f":"IF(Tabulka2[[#This Row],[OL]]=\"\",\"\",IF(Tabulka2[[#This Row],[OL]]>0,A415,\"\"))","v":""},null,null,null,null,null,null,null,null,null,null,null,null,null,null,null,"",null,""]
[null,null,{"$f":"IF(Tabulka2[[#This Row],[Data]]=\"\",\"\",IF(OR(Tabulka2[[#This Row],[Data]]<$G$57,Tabulka2[[#This Row],[Data]]>$G$58),2,IF(OR(Tabulka2[[#This Row],[Data]]<$G$51,Tabulka2[[#This Row],[Data]]>$G$52),1,0)))","v":""},{"$f":"IF(Tabulka2[[#This Row],[OL]]=\"\",\"\",IF(Tabulka2[[#This Row],[OL]]>0,A416,\"\"))","v":""},null,null,null,null,null,null,null,null,null,null,null,null,null,null,null,"",null,""]
[null,null,{"$f":"IF(Tabulka2[[#This Row],[Data]]=\"\",\"\",IF(OR(Tabulka2[[#This Row],[Data]]<$G$57,Tabulka2[[#This Row],[Data]]>$G$58),2,IF(OR(Tabulka2[[#This Row],[Data]]<$G$51,Tabulka2[[#This Row],[Data]]>$G$52),1,0)))","v":""},{"$f":"IF(Tabulka2[[#This Row],[OL]]=\"\",\"\",IF(Tabulka2[[#This Row],[OL]]>0,A417,\"\"))","v":""},null,null,null,null,null,null,null,null,null,null,null,null,null,null,null,"",null,""]
[null,null,{"$f":"IF(Tabulka2[[#This Row],[Data]]=\"\",\"\",IF(OR(Tabulka2[[#This Row],[Data]]<$G$57,Tabulka2[[#This Row],[Data]]>$G$58),2,IF(OR(Tabulka2[[#This Row],[Data]]<$G$51,Tabulka2[[#This Row],[Data]]>$G$52),1,0)))","v":""},{"$f":"IF(Tabulka2[[#This Row],[OL]]=\"\",\"\",IF(Tabulka2[[#This Row],[OL]]>0,A418,\"\"))","v":""},null,null,null,null,null,null,null,null,null,null,null,null,null,null,null,"",null,""]
[null,null,{"$f":"IF(Tabulka2[[#This Row],[Data]]=\"\",\"\",IF(OR(Tabulka2[[#This Row],[Data]]<$G$57,Tabulka2[[#This Row],[Data]]>$G$58),2,IF(OR(Tabulka2[[#This Row],[Data]]<$G$51,Tabulka2[[#This Row],[Data]]>$G$52),1,0)))","v":""},{"$f":"IF(Tabulka2[[#This Row],[OL]]=\"\",\"\",IF(Tabulka2[[#This Row],[OL]]>0,A419,\"\"))","v":""},null,null,null,null,null,null,null,null,null,null,null,null,null,null,null,"",null,""]
[null,null,{"$f":"IF(Tabulka2[[#This Row],[Data]]=\"\",\"\",IF(OR(Tabulka2[[#This Row],[Data]]<$G$57,Tabulka2[[#This Row],[Data]]>$G$58),2,IF(OR(Tabulka2[[#This Row],[Data]]<$G$51,Tabulka2[[#This Row],[Data]]>$G$52),1,0)))","v":""},{"$f":"IF(Tabulka2[[#This Row],[OL]]=\"\",\"\",IF(Tabulka2[[#This Row],[OL]]>0,A420,\"\"))","v":""},null,null,null,null,null,null,null,null,null,null,null,null,null,null,null,"",null,""]
[null,null,{"$f":"IF(Tabulka2[[#This Row],[Data]]=\"\",\"\",IF(OR(Tabulka2[[#This Row],[Data]]<$G$57,Tabulka2[[#This Row],[Data]]>$G$58),2,IF(OR(Tabulka2[[#This Row],[Data]]<$G$51,Tabulka2[[#This Row],[Data]]>$G$52),1,0)))","v":""},{"$f":"IF(Tabulka2[[#This Row],[OL]]=\"\",\"\",IF(Tabulka2[[#This Row],[OL]]>0,A421,\"\"))","v":""},null,null,null,null,null,null,null,null,null,null,null,null,null,null,null,"",null,""]
[null,null,{"$f":"IF(Tabulka2[[#This Row],[Data]]=\"\",\"\",IF(OR(Tabulka2[[#This Row],[Data]]<$G$57,Tabulka2[[#This Row],[Data]]>$G$58),2,IF(OR(Tabulka2[[#This Row],[Data]]<$G$51,Tabulka2[[#This Row],[Data]]>$G$52),1,0)))","v":""},{"$f":"IF(Tabulka2[[#This Row],[OL]]=\"\",\"\",IF(Tabulka2[[#This Row],[OL]]>0,A422,\"\"))","v":""},null,null,null,null,null,null,null,null,null,null,null,null,null,null,null,"",null,""]
[null,null,{"$f":"IF(Tabulka2[[#This Row],[Data]]=\"\",\"\",IF(OR(Tabulka2[[#This Row],[Data]]<$G$57,Tabulka2[[#This Row],[Data]]>$G$58),2,IF(OR(Tabulka2[[#This Row],[Data]]<$G$51,Tabulka2[[#This Row],[Data]]>$G$52),1,0)))","v":""},{"$f":"IF(Tabulka2[[#This Row],[OL]]=\"\",\"\",IF(Tabulka2[[#This Row],[OL]]>0,A423,\"\"))","v":""},null,null,null,null,null,null,null,null,null,null,null,null,null,null,null,"",null,""]
[null,null,{"$f":"IF(Tabulka2[[#This Row],[Data]]=\"\",\"\",IF(OR(Tabulka2[[#This Row],[Data]]<$G$57,Tabulka2[[#This Row],[Data]]>$G$58),2,IF(OR(Tabulka2[[#This Row],[Data]]<$G$51,Tabulka2[[#This Row],[Data]]>$G$52),1,0)))","v":""},{"$f":"IF(Tabulka2[[#This Row],[OL]]=\"\",\"\",IF(Tabulka2[[#This Row],[OL]]>0,A424,\"\"))","v":""},null,null,null,null,null,null,null,null,null,null,null,null,null,null,null,"",null,""]
[null,null,{"$f":"IF(Tabulka2[[#This Row],[Data]]=\"\",\"\",IF(OR(Tabulka2[[#This Row],[Data]]<$G$57,Tabulka2[[#This Row],[Data]]>$G$58),2,IF(OR(Tabulka2[[#This Row],[Data]]<$G$51,Tabulka2[[#This Row],[Data]]>$G$52),1,0)))","v":""},{"$f":"IF(Tabulka2[[#This Row],[OL]]=\"\",\"\",IF(Tabulka2[[#This Row],[OL]]>0,A425,\"\"))","v":""},null,null,null,null,null,null,null,null,null,null,null,null,null,null,null,"",null,""]
[null,null,{"$f":"IF(Tabulka2[[#This Row],[Data]]=\"\",\"\",IF(OR(Tabulka2[[#This Row],[Data]]<$G$57,Tabulka2[[#This Row],[Data]]>$G$58),2,IF(OR(Tabulka2[[#This Row],[Data]]<$G$51,Tabulka2[[#This Row],[Data]]>$G$52),1,0)))","v":""},{"$f":"IF(Tabulka2[[#This Row],[OL]]=\"\",\"\",IF(Tabulka2[[#This Row],[OL]]>0,A426,\"\"))","v":""},null,null,null,null,null,null,null,null,null,null,null,null,null,null,null,"",null,""]
[null,null,{"$f":"IF(Tabulka2[[#This Row],[Data]]=\"\",\"\",IF(OR(Tabulka2[[#This Row],[Data]]<$G$57,Tabulka2[[#This Row],[Data]]>$G$58),2,IF(OR(Tabulka2[[#This Row],[Data]]<$G$51,Tabulka2[[#This Row],[Data]]>$G$52),1,0)))","v":""},{"$f":"IF(Tabulka2[[#This Row],[OL]]=\"\",\"\",IF(Tabulka2[[#This Row],[OL]]>0,A427,\"\"))","v":""},null,null,null,null,null,null,null,null,null,null,null,null,null,null,null,"",null,""]
[null,null,{"$f":"IF(Tabulka2[[#This Row],[Data]]=\"\",\"\",IF(OR(Tabulka2[[#This Row],[Data]]<$G$57,Tabulka2[[#This Row],[Data]]>$G$58),2,IF(OR(Tabulka2[[#This Row],[Data]]<$G$51,Tabulka2[[#This Row],[Data]]>$G$52),1,0)))","v":""},{"$f":"IF(Tabulka2[[#This Row],[OL]]=\"\",\"\",IF(Tabulka2[[#This Row],[OL]]>0,A428,\"\"))","v":""},null,null,null,null,null,null,null,null,null,null,null,null,null,null,null,"",null,""]
[null,null,{"$f":"IF(Tabulka2[[#This Row],[Data]]=\"\",\"\",IF(OR(Tabulka2[[#This Row],[Data]]<$G$57,Tabulka2[[#This Row],[Data]]>$G$58),2,IF(OR(Tabulka2[[#This Row],[Data]]<$G$51,Tabulka2[[#This Row],[Data]]>$G$52),1,0)))","v":""},{"$f":"IF(Tabulka2[[#This Row],[OL]]=\"\",\"\",IF(Tabulka2[[#This Row],[OL]]>0,A429,\"\"))","v":""},null,null,null,null,null,null,null,null,null,null,null,null,null,null,null,"",null,""]
[null,null,{"$f":"IF(Tabulka2[[#This Row],[Data]]=\"\",\"\",IF(OR(Tabulka2[[#This Row],[Data]]<$G$57,Tabulka2[[#This Row],[Data]]>$G$58),2,IF(OR(Tabulka2[[#This Row],[Data]]<$G$51,Tabulka2[[#This Row],[Data]]>$G$52),1,0)))","v":""},{"$f":"IF(Tabulka2[[#This Row],[OL]]=\"\",\"\",IF(Tabulka2[[#This Row],[OL]]>0,A430,\"\"))","v":""},null,null,null,null,null,null,null,null,null,null,null,null,null,null,null,"",null,""]
[null,null,{"$f":"IF(Tabulka2[[#This Row],[Data]]=\"\",\"\",IF(OR(Tabulka2[[#This Row],[Data]]<$G$57,Tabulka2[[#This Row],[Data]]>$G$58),2,IF(OR(Tabulka2[[#This Row],[Data]]<$G$51,Tabulka2[[#This Row],[Data]]>$G$52),1,0)))","v":""},{"$f":"IF(Tabulka2[[#This Row],[OL]]=\"\",\"\",IF(Tabulka2[[#This Row],[OL]]>0,A431,\"\"))","v":""},null,null,null,null,null,null,null,null,null,null,null,null,null,null,null,"",null,""]
[null,null,{"$f":"IF(Tabulka2[[#This Row],[Data]]=\"\",\"\",IF(OR(Tabulka2[[#This Row],[Data]]<$G$57,Tabulka2[[#This Row],[Data]]>$G$58),2,IF(OR(Tabulka2[[#This Row],[Data]]<$G$51,Tabulka2[[#This Row],[Data]]>$G$52),1,0)))","v":""},{"$f":"IF(Tabulka2[[#This Row],[OL]]=\"\",\"\",IF(Tabulka2[[#This Row],[OL]]>0,A432,\"\"))","v":""},null,null,null,null,null,null,null,null,null,null,null,null,null,null,null,"",null,""]
[null,null,{"$f":"IF(Tabulka2[[#This Row],[Data]]=\"\",\"\",IF(OR(Tabulka2[[#This Row],[Data]]<$G$57,Tabulka2[[#This Row],[Data]]>$G$58),2,IF(OR(Tabulka2[[#This Row],[Data]]<$G$51,Tabulka2[[#This Row],[Data]]>$G$52),1,0)))","v":""},{"$f":"IF(Tabulka2[[#This Row],[OL]]=\"\",\"\",IF(Tabulka2[[#This Row],[OL]]>0,A433,\"\"))","v":""},null,null,null,null,null,null,null,null,null,null,null,null,null,null,null,"",null,""]
[null,null,{"$f":"IF(Tabulka2[[#This Row],[Data]]=\"\",\"\",IF(OR(Tabulka2[[#This Row],[Data]]<$G$57,Tabulka2[[#This Row],[Data]]>$G$58),2,IF(OR(Tabulka2[[#This Row],[Data]]<$G$51,Tabulka2[[#This Row],[Data]]>$G$52),1,0)))","v":""},{"$f":"IF(Tabulka2[[#This Row],[OL]]=\"\",\"\",IF(Tabulka2[[#This Row],[OL]]>0,A434,\"\"))","v":""},null,null,null,null,null,null,null,null,null,null,null,null,null,null,null,"",null,""]
[null,null,{"$f":"IF(Tabulka2[[#This Row],[Data]]=\"\",\"\",IF(OR(Tabulka2[[#This Row],[Data]]<$G$57,Tabulka2[[#This Row],[Data]]>$G$58),2,IF(OR(Tabulka2[[#This Row],[Data]]<$G$51,Tabulka2[[#This Row],[Data]]>$G$52),1,0)))","v":""},{"$f":"IF(Tabulka2[[#This Row],[OL]]=\"\",\"\",IF(Tabulka2[[#This Row],[OL]]>0,A435,\"\"))","v":""},null,null,null,null,null,null,null,null,null,null,null,null,null,null,null,"",null,""]
[null,null,{"$f":"IF(Tabulka2[[#This Row],[Data]]=\"\",\"\",IF(OR(Tabulka2[[#This Row],[Data]]<$G$57,Tabulka2[[#This Row],[Data]]>$G$58),2,IF(OR(Tabulka2[[#This Row],[Data]]<$G$51,Tabulka2[[#This Row],[Data]]>$G$52),1,0)))","v":""},{"$f":"IF(Tabulka2[[#This Row],[OL]]=\"\",\"\",IF(Tabulka2[[#This Row],[OL]]>0,A436,\"\"))","v":""},null,null,null,null,null,null,null,null,null,null,null,null,null,null,null,"",null,""]
[null,null,{"$f":"IF(Tabulka2[[#This Row],[Data]]=\"\",\"\",IF(OR(Tabulka2[[#This Row],[Data]]<$G$57,Tabulka2[[#This Row],[Data]]>$G$58),2,IF(OR(Tabulka2[[#This Row],[Data]]<$G$51,Tabulka2[[#This Row],[Data]]>$G$52),1,0)))","v":""},{"$f":"IF(Tabulka2[[#This Row],[OL]]=\"\",\"\",IF(Tabulka2[[#This Row],[OL]]>0,A437,\"\"))","v":""},null,null,null,null,null,null,null,null,null,null,null,null,null,null,null,"",null,""]
[null,null,{"$f":"IF(Tabulka2[[#This Row],[Data]]=\"\",\"\",IF(OR(Tabulka2[[#This Row],[Data]]<$G$57,Tabulka2[[#This Row],[Data]]>$G$58),2,IF(OR(Tabulka2[[#This Row],[Data]]<$G$51,Tabulka2[[#This Row],[Data]]>$G$52),1,0)))","v":""},{"$f":"IF(Tabulka2[[#This Row],[OL]]=\"\",\"\",IF(Tabulka2[[#This Row],[OL]]>0,A438,\"\"))","v":""},null,null,null,null,null,null,null,null,null,null,null,null,null,null,null,"",null,""]
[null,null,{"$f":"IF(Tabulka2[[#This Row],[Data]]=\"\",\"\",IF(OR(Tabulka2[[#This Row],[Data]]<$G$57,Tabulka2[[#This Row],[Data]]>$G$58),2,IF(OR(Tabulka2[[#This Row],[Data]]<$G$51,Tabulka2[[#This Row],[Data]]>$G$52),1,0)))","v":""},{"$f":"IF(Tabulka2[[#This Row],[OL]]=\"\",\"\",IF(Tabulka2[[#This Row],[OL]]>0,A439,\"\"))","v":""},null,null,null,null,null,null,null,null,null,null,null,null,null,null,null,"",null,""]
[null,null,{"$f":"IF(Tabulka2[[#This Row],[Data]]=\"\",\"\",IF(OR(Tabulka2[[#This Row],[Data]]<$G$57,Tabulka2[[#This Row],[Data]]>$G$58),2,IF(OR(Tabulka2[[#This Row],[Data]]<$G$51,Tabulka2[[#This Row],[Data]]>$G$52),1,0)))","v":""},{"$f":"IF(Tabulka2[[#This Row],[OL]]=\"\",\"\",IF(Tabulka2[[#This Row],[OL]]>0,A440,\"\"))","v":""},null,null,null,null,null,null,null,null,null,null,null,null,null,null,null,"",null,""]
[null,null,{"$f":"IF(Tabulka2[[#This Row],[Data]]=\"\",\"\",IF(OR(Tabulka2[[#This Row],[Data]]<$G$57,Tabulka2[[#This Row],[Data]]>$G$58),2,IF(OR(Tabulka2[[#This Row],[Data]]<$G$51,Tabulka2[[#This Row],[Data]]>$G$52),1,0)))","v":""},{"$f":"IF(Tabulka2[[#This Row],[OL]]=\"\",\"\",IF(Tabulka2[[#This Row],[OL]]>0,A441,\"\"))","v":""},null,null,null,null,null,null,null,null,null,null,null,null,null,null,null,"",null,""]
[null,null,{"$f":"IF(Tabulka2[[#This Row],[Data]]=\"\",\"\",IF(OR(Tabulka2[[#This Row],[Data]]<$G$57,Tabulka2[[#This Row],[Data]]>$G$58),2,IF(OR(Tabulka2[[#This Row],[Data]]<$G$51,Tabulka2[[#This Row],[Data]]>$G$52),1,0)))","v":""},{"$f":"IF(Tabulka2[[#This Row],[OL]]=\"\",\"\",IF(Tabulka2[[#This Row],[OL]]>0,A442,\"\"))","v":""},null,null,null,null,null,null,null,null,null,null,null,null,null,null,null,"",null,""]
[null,null,{"$f":"IF(Tabulka2[[#This Row],[Data]]=\"\",\"\",IF(OR(Tabulka2[[#This Row],[Data]]<$G$57,Tabulka2[[#This Row],[Data]]>$G$58),2,IF(OR(Tabulka2[[#This Row],[Data]]<$G$51,Tabulka2[[#This Row],[Data]]>$G$52),1,0)))","v":""},{"$f":"IF(Tabulka2[[#This Row],[OL]]=\"\",\"\",IF(Tabulka2[[#This Row],[OL]]>0,A443,\"\"))","v":""},null,null,null,null,null,null,null,null,null,null,null,null,null,null,null,"",null,""]
[null,null,{"$f":"IF(Tabulka2[[#This Row],[Data]]=\"\",\"\",IF(OR(Tabulka2[[#This Row],[Data]]<$G$57,Tabulka2[[#This Row],[Data]]>$G$58),2,IF(OR(Tabulka2[[#This Row],[Data]]<$G$51,Tabulka2[[#This Row],[Data]]>$G$52),1,0)))","v":""},{"$f":"IF(Tabulka2[[#This Row],[OL]]=\"\",\"\",IF(Tabulka2[[#This Row],[OL]]>0,A444,\"\"))","v":""},null,null,null,null,null,null,null,null,null,null,null,null,null,null,null,"",null,""]
[null,null,{"$f":"IF(Tabulka2[[#This Row],[Data]]=\"\",\"\",IF(OR(Tabulka2[[#This Row],[Data]]<$G$57,Tabulka2[[#This Row],[Data]]>$G$58),2,IF(OR(Tabulka2[[#This Row],[Data]]<$G$51,Tabulka2[[#This Row],[Data]]>$G$52),1,0)))","v":""},{"$f":"IF(Tabulka2[[#This Row],[OL]]=\"\",\"\",IF(Tabulka2[[#This Row],[OL]]>0,A445,\"\"))","v":""},null,null,null,null,null,null,null,null,null,null,null,null,null,null,null,"",null,""]
[null,null,{"$f":"IF(Tabulka2[[#This Row],[Data]]=\"\",\"\",IF(OR(Tabulka2[[#This Row],[Data]]<$G$57,Tabulka2[[#This Row],[Data]]>$G$58),2,IF(OR(Tabulka2[[#This Row],[Data]]<$G$51,Tabulka2[[#This Row],[Data]]>$G$52),1,0)))","v":""},{"$f":"IF(Tabulka2[[#This Row],[OL]]=\"\",\"\",IF(Tabulka2[[#This Row],[OL]]>0,A446,\"\"))","v":""},null,null,null,null,null,null,null,null,null,null,null,null,null,null,null,"",null,""]
[null,null,{"$f":"IF(Tabulka2[[#This Row],[Data]]=\"\",\"\",IF(OR(Tabulka2[[#This Row],[Data]]<$G$57,Tabulka2[[#This Row],[Data]]>$G$58),2,IF(OR(Tabulka2[[#This Row],[Data]]<$G$51,Tabulka2[[#This Row],[Data]]>$G$52),1,0)))","v":""},{"$f":"IF(Tabulka2[[#This Row],[OL]]=\"\",\"\",IF(Tabulka2[[#This Row],[OL]]>0,A447,\"\"))","v":""},null,null,null,null,null,null,null,null,null,null,null,null,null,null,null,"",null,""]
[null,null,{"$f":"IF(Tabulka2[[#This Row],[Data]]=\"\",\"\",IF(OR(Tabulka2[[#This Row],[Data]]<$G$57,Tabulka2[[#This Row],[Data]]>$G$58),2,IF(OR(Tabulka2[[#This Row],[Data]]<$G$51,Tabulka2[[#This Row],[Data]]>$G$52),1,0)))","v":""},{"$f":"IF(Tabulka2[[#This Row],[OL]]=\"\",\"\",IF(Tabulka2[[#This Row],[OL]]>0,A448,\"\"))","v":""},null,null,null,null,null,null,null,null,null,null,null,null,null,null,null,"",null,""]
[null,null,{"$f":"IF(Tabulka2[[#This Row],[Data]]=\"\",\"\",IF(OR(Tabulka2[[#This Row],[Data]]<$G$57,Tabulka2[[#This Row],[Data]]>$G$58),2,IF(OR(Tabulka2[[#This Row],[Data]]<$G$51,Tabulka2[[#This Row],[Data]]>$G$52),1,0)))","v":""},{"$f":"IF(Tabulka2[[#This Row],[OL]]=\"\",\"\",IF(Tabulka2[[#This Row],[OL]]>0,A449,\"\"))","v":""},null,null,null,null,null,null,null,null,null,null,null,null,null,null,null,"",null,""]
[null,null,{"$f":"IF(Tabulka2[[#This Row],[Data]]=\"\",\"\",IF(OR(Tabulka2[[#This Row],[Data]]<$G$57,Tabulka2[[#This Row],[Data]]>$G$58),2,IF(OR(Tabulka2[[#This Row],[Data]]<$G$51,Tabulka2[[#This Row],[Data]]>$G$52),1,0)))","v":""},{"$f":"IF(Tabulka2[[#This Row],[OL]]=\"\",\"\",IF(Tabulka2[[#This Row],[OL]]>0,A450,\"\"))","v":""},null,null,null,null,null,null,null,null,null,null,null,null,null,null,null,"",null,""]
[null,null,{"$f":"IF(Tabulka2[[#This Row],[Data]]=\"\",\"\",IF(OR(Tabulka2[[#This Row],[Data]]<$G$57,Tabulka2[[#This Row],[Data]]>$G$58),2,IF(OR(Tabulka2[[#This Row],[Data]]<$G$51,Tabulka2[[#This Row],[Data]]>$G$52),1,0)))","v":""},{"$f":"IF(Tabulka2[[#This Row],[OL]]=\"\",\"\",IF(Tabulka2[[#This Row],[OL]]>0,A451,\"\"))","v":""},null,null,null,null,null,null,null,null,null,null,null,null,null,null,null,"",null,""]
[null,null,{"$f":"IF(Tabulka2[[#This Row],[Data]]=\"\",\"\",IF(OR(Tabulka2[[#This Row],[Data]]<$G$57,Tabulka2[[#This Row],[Data]]>$G$58),2,IF(OR(Tabulka2[[#This Row],[Data]]<$G$51,Tabulka2[[#This Row],[Data]]>$G$52),1,0)))","v":""},{"$f":"IF(Tabulka2[[#This Row],[OL]]=\"\",\"\",IF(Tabulka2[[#This Row],[OL]]>0,A452,\"\"))","v":""},null,null,null,null,null,null,null,null,null,null,null,null,null,null,null,"",null,""]
[null,null,{"$f":"IF(Tabulka2[[#This Row],[Data]]=\"\",\"\",IF(OR(Tabulka2[[#This Row],[Data]]<$G$57,Tabulka2[[#This Row],[Data]]>$G$58),2,IF(OR(Tabulka2[[#This Row],[Data]]<$G$51,Tabulka2[[#This Row],[Data]]>$G$52),1,0)))","v":""},{"$f":"IF(Tabulka2[[#This Row],[OL]]=\"\",\"\",IF(Tabulka2[[#This Row],[OL]]>0,A453,\"\"))","v":""},null,null,null,null,null,null,null,null,null,null,null,null,null,null,null,"",null,""]
[null,null,{"$f":"IF(Tabulka2[[#This Row],[Data]]=\"\",\"\",IF(OR(Tabulka2[[#This Row],[Data]]<$G$57,Tabulka2[[#This Row],[Data]]>$G$58),2,IF(OR(Tabulka2[[#This Row],[Data]]<$G$51,Tabulka2[[#This Row],[Data]]>$G$52),1,0)))","v":""},{"$f":"IF(Tabulka2[[#This Row],[OL]]=\"\",\"\",IF(Tabulka2[[#This Row],[OL]]>0,A454,\"\"))","v":""},null,null,null,null,null,null,null,null,null,null,null,null,null,null,null,"",null,""]
[null,null,{"$f":"IF(Tabulka2[[#This Row],[Data]]=\"\",\"\",IF(OR(Tabulka2[[#This Row],[Data]]<$G$57,Tabulka2[[#This Row],[Data]]>$G$58),2,IF(OR(Tabulka2[[#This Row],[Data]]<$G$51,Tabulka2[[#This Row],[Data]]>$G$52),1,0)))","v":""},{"$f":"IF(Tabulka2[[#This Row],[OL]]=\"\",\"\",IF(Tabulka2[[#This Row],[OL]]>0,A455,\"\"))","v":""},null,null,null,null,null,null,null,null,null,null,null,null,null,null,null,"",null,""]
[null,null,{"$f":"IF(Tabulka2[[#This Row],[Data]]=\"\",\"\",IF(OR(Tabulka2[[#This Row],[Data]]<$G$57,Tabulka2[[#This Row],[Data]]>$G$58),2,IF(OR(Tabulka2[[#This Row],[Data]]<$G$51,Tabulka2[[#This Row],[Data]]>$G$52),1,0)))","v":""},{"$f":"IF(Tabulka2[[#This Row],[OL]]=\"\",\"\",IF(Tabulka2[[#This Row],[OL]]>0,A456,\"\"))","v":""},null,null,null,null,null,null,null,null,null,null,null,null,null,null,null,"",null,""]
[null,null,{"$f":"IF(Tabulka2[[#This Row],[Data]]=\"\",\"\",IF(OR(Tabulka2[[#This Row],[Data]]<$G$57,Tabulka2[[#This Row],[Data]]>$G$58),2,IF(OR(Tabulka2[[#This Row],[Data]]<$G$51,Tabulka2[[#This Row],[Data]]>$G$52),1,0)))","v":""},{"$f":"IF(Tabulka2[[#This Row],[OL]]=\"\",\"\",IF(Tabulka2[[#This Row],[OL]]>0,A457,\"\"))","v":""},null,null,null,null,null,null,null,null,null,null,null,null,null,null,null,"",null,""]
[null,null,{"$f":"IF(Tabulka2[[#This Row],[Data]]=\"\",\"\",IF(OR(Tabulka2[[#This Row],[Data]]<$G$57,Tabulka2[[#This Row],[Data]]>$G$58),2,IF(OR(Tabulka2[[#This Row],[Data]]<$G$51,Tabulka2[[#This Row],[Data]]>$G$52),1,0)))","v":""},{"$f":"IF(Tabulka2[[#This Row],[OL]]=\"\",\"\",IF(Tabulka2[[#This Row],[OL]]>0,A458,\"\"))","v":""},null,null,null,null,null,null,null,null,null,null,null,null,null,null,null,"",null,""]
[null,null,{"$f":"IF(Tabulka2[[#This Row],[Data]]=\"\",\"\",IF(OR(Tabulka2[[#This Row],[Data]]<$G$57,Tabulka2[[#This Row],[Data]]>$G$58),2,IF(OR(Tabulka2[[#This Row],[Data]]<$G$51,Tabulka2[[#This Row],[Data]]>$G$52),1,0)))","v":""},{"$f":"IF(Tabulka2[[#This Row],[OL]]=\"\",\"\",IF(Tabulka2[[#This Row],[OL]]>0,A459,\"\"))","v":""},null,null,null,null,null,null,null,null,null,null,null,null,null,null,null,"",null,""]
[null,null,{"$f":"IF(Tabulka2[[#This Row],[Data]]=\"\",\"\",IF(OR(Tabulka2[[#This Row],[Data]]<$G$57,Tabulka2[[#This Row],[Data]]>$G$58),2,IF(OR(Tabulka2[[#This Row],[Data]]<$G$51,Tabulka2[[#This Row],[Data]]>$G$52),1,0)))","v":""},{"$f":"IF(Tabulka2[[#This Row],[OL]]=\"\",\"\",IF(Tabulka2[[#This Row],[OL]]>0,A460,\"\"))","v":""},null,null,null,null,null,null,null,null,null,null,null,null,null,null,null,"",null,""]
[null,null,{"$f":"IF(Tabulka2[[#This Row],[Data]]=\"\",\"\",IF(OR(Tabulka2[[#This Row],[Data]]<$G$57,Tabulka2[[#This Row],[Data]]>$G$58),2,IF(OR(Tabulka2[[#This Row],[Data]]<$G$51,Tabulka2[[#This Row],[Data]]>$G$52),1,0)))","v":""},{"$f":"IF(Tabulka2[[#This Row],[OL]]=\"\",\"\",IF(Tabulka2[[#This Row],[OL]]>0,A461,\"\"))","v":""},null,null,null,null,null,null,null,null,null,null,null,null,null,null,null,"",null,""]
[null,null,{"$f":"IF(Tabulka2[[#This Row],[Data]]=\"\",\"\",IF(OR(Tabulka2[[#This Row],[Data]]<$G$57,Tabulka2[[#This Row],[Data]]>$G$58),2,IF(OR(Tabulka2[[#This Row],[Data]]<$G$51,Tabulka2[[#This Row],[Data]]>$G$52),1,0)))","v":""},{"$f":"IF(Tabulka2[[#This Row],[OL]]=\"\",\"\",IF(Tabulka2[[#This Row],[OL]]>0,A462,\"\"))","v":""},null,null,null,null,null,null,null,null,null,null,null,null,null,null,null,"",null,""]
[null,null,{"$f":"IF(Tabulka2[[#This Row],[Data]]=\"\",\"\",IF(OR(Tabulka2[[#This Row],[Data]]<$G$57,Tabulka2[[#This Row],[Data]]>$G$58),2,IF(OR(Tabulka2[[#This Row],[Data]]<$G$51,Tabulka2[[#This Row],[Data]]>$G$52),1,0)))","v":""},{"$f":"IF(Tabulka2[[#This Row],[OL]]=\"\",\"\",IF(Tabulka2[[#This Row],[OL]]>0,A463,\"\"))","v":""},null,null,null,null,null,null,null,null,null,null,null,null,null,null,null,"",null,""]
[null,null,{"$f":"IF(Tabulka2[[#This Row],[Data]]=\"\",\"\",IF(OR(Tabulka2[[#This Row],[Data]]<$G$57,Tabulka2[[#This Row],[Data]]>$G$58),2,IF(OR(Tabulka2[[#This Row],[Data]]<$G$51,Tabulka2[[#This Row],[Data]]>$G$52),1,0)))","v":""},{"$f":"IF(Tabulka2[[#This Row],[OL]]=\"\",\"\",IF(Tabulka2[[#This Row],[OL]]>0,A464,\"\"))","v":""},null,null,null,null,null,null,null,null,null,null,null,null,null,null,null,"",null,""]
[null,null,{"$f":"IF(Tabulka2[[#This Row],[Data]]=\"\",\"\",IF(OR(Tabulka2[[#This Row],[Data]]<$G$57,Tabulka2[[#This Row],[Data]]>$G$58),2,IF(OR(Tabulka2[[#This Row],[Data]]<$G$51,Tabulka2[[#This Row],[Data]]>$G$52),1,0)))","v":""},{"$f":"IF(Tabulka2[[#This Row],[OL]]=\"\",\"\",IF(Tabulka2[[#This Row],[OL]]>0,A465,\"\"))","v":""},null,null,null,null,null,null,null,null,null,null,null,null,null,null,null,"",null,""]
[null,null,{"$f":"IF(Tabulka2[[#This Row],[Data]]=\"\",\"\",IF(OR(Tabulka2[[#This Row],[Data]]<$G$57,Tabulka2[[#This Row],[Data]]>$G$58),2,IF(OR(Tabulka2[[#This Row],[Data]]<$G$51,Tabulka2[[#This Row],[Data]]>$G$52),1,0)))","v":""},{"$f":"IF(Tabulka2[[#This Row],[OL]]=\"\",\"\",IF(Tabulka2[[#This Row],[OL]]>0,A466,\"\"))","v":""},null,null,null,null,null,null,null,null,null,null,null,null,null,null,null,"",null,""]
[null,null,{"$f":"IF(Tabulka2[[#This Row],[Data]]=\"\",\"\",IF(OR(Tabulka2[[#This Row],[Data]]<$G$57,Tabulka2[[#This Row],[Data]]>$G$58),2,IF(OR(Tabulka2[[#This Row],[Data]]<$G$51,Tabulka2[[#This Row],[Data]]>$G$52),1,0)))","v":""},{"$f":"IF(Tabulka2[[#This Row],[OL]]=\"\",\"\",IF(Tabulka2[[#This Row],[OL]]>0,A467,\"\"))","v":""},null,null,null,null,null,null,null,null,null,null,null,null,null,null,null,"",null,""]
[null,null,{"$f":"IF(Tabulka2[[#This Row],[Data]]=\"\",\"\",IF(OR(Tabulka2[[#This Row],[Data]]<$G$57,Tabulka2[[#This Row],[Data]]>$G$58),2,IF(OR(Tabulka2[[#This Row],[Data]]<$G$51,Tabulka2[[#This Row],[Data]]>$G$52),1,0)))","v":""},{"$f":"IF(Tabulka2[[#This Row],[OL]]=\"\",\"\",IF(Tabulka2[[#This Row],[OL]]>0,A468,\"\"))","v":""},null,null,null,null,null,null,null,null,null,null,null,null,null,null,null,"",null,""]
[null,null,{"$f":"IF(Tabulka2[[#This Row],[Data]]=\"\",\"\",IF(OR(Tabulka2[[#This Row],[Data]]<$G$57,Tabulka2[[#This Row],[Data]]>$G$58),2,IF(OR(Tabulka2[[#This Row],[Data]]<$G$51,Tabulka2[[#This Row],[Data]]>$G$52),1,0)))","v":""},{"$f":"IF(Tabulka2[[#This Row],[OL]]=\"\",\"\",IF(Tabulka2[[#This Row],[OL]]>0,A469,\"\"))","v":""},null,null,null,null,null,null,null,null,null,null,null,null,null,null,null,"",null,""]
[null,null,{"$f":"IF(Tabulka2[[#This Row],[Data]]=\"\",\"\",IF(OR(Tabulka2[[#This Row],[Data]]<$G$57,Tabulka2[[#This Row],[Data]]>$G$58),2,IF(OR(Tabulka2[[#This Row],[Data]]<$G$51,Tabulka2[[#This Row],[Data]]>$G$52),1,0)))","v":""},{"$f":"IF(Tabulka2[[#This Row],[OL]]=\"\",\"\",IF(Tabulka2[[#This Row],[OL]]>0,A470,\"\"))","v":""},null,null,null,null,null,null,null,null,null,null,null,null,null,null,null,"",null,""]
[null,null,{"$f":"IF(Tabulka2[[#This Row],[Data]]=\"\",\"\",IF(OR(Tabulka2[[#This Row],[Data]]<$G$57,Tabulka2[[#This Row],[Data]]>$G$58),2,IF(OR(Tabulka2[[#This Row],[Data]]<$G$51,Tabulka2[[#This Row],[Data]]>$G$52),1,0)))","v":""},{"$f":"IF(Tabulka2[[#This Row],[OL]]=\"\",\"\",IF(Tabulka2[[#This Row],[OL]]>0,A471,\"\"))","v":""},null,null,null,null,null,null,null,null,null,null,null,null,null,null,null,"",null,""]
[null,null,{"$f":"IF(Tabulka2[[#This Row],[Data]]=\"\",\"\",IF(OR(Tabulka2[[#This Row],[Data]]<$G$57,Tabulka2[[#This Row],[Data]]>$G$58),2,IF(OR(Tabulka2[[#This Row],[Data]]<$G$51,Tabulka2[[#This Row],[Data]]>$G$52),1,0)))","v":""},{"$f":"IF(Tabulka2[[#This Row],[OL]]=\"\",\"\",IF(Tabulka2[[#This Row],[OL]]>0,A472,\"\"))","v":""},null,null,null,null,null,null,null,null,null,null,null,null,null,null,null,"",null,""]
[null,null,{"$f":"IF(Tabulka2[[#This Row],[Data]]=\"\",\"\",IF(OR(Tabulka2[[#This Row],[Data]]<$G$57,Tabulka2[[#This Row],[Data]]>$G$58),2,IF(OR(Tabulka2[[#This Row],[Data]]<$G$51,Tabulka2[[#This Row],[Data]]>$G$52),1,0)))","v":""},{"$f":"IF(Tabulka2[[#This Row],[OL]]=\"\",\"\",IF(Tabulka2[[#This Row],[OL]]>0,A473,\"\"))","v":""},null,null,null,null,null,null,null,null,null,null,null,null,null,null,null,"",null,""]
[null,null,{"$f":"IF(Tabulka2[[#This Row],[Data]]=\"\",\"\",IF(OR(Tabulka2[[#This Row],[Data]]<$G$57,Tabulka2[[#This Row],[Data]]>$G$58),2,IF(OR(Tabulka2[[#This Row],[Data]]<$G$51,Tabulka2[[#This Row],[Data]]>$G$52),1,0)))","v":""},{"$f":"IF(Tabulka2[[#This Row],[OL]]=\"\",\"\",IF(Tabulka2[[#This Row],[OL]]>0,A474,\"\"))","v":""},null,null,null,null,null,null,null,null,null,null,null,null,null,null,null,"",null,""]
[null,null,{"$f":"IF(Tabulka2[[#This Row],[Data]]=\"\",\"\",IF(OR(Tabulka2[[#This Row],[Data]]<$G$57,Tabulka2[[#This Row],[Data]]>$G$58),2,IF(OR(Tabulka2[[#This Row],[Data]]<$G$51,Tabulka2[[#This Row],[Data]]>$G$52),1,0)))","v":""},{"$f":"IF(Tabulka2[[#This Row],[OL]]=\"\",\"\",IF(Tabulka2[[#This Row],[OL]]>0,A475,\"\"))","v":""},null,null,null,null,null,null,null,null,null,null,null,null,null,null,null,"",null,""]
[null,null,{"$f":"IF(Tabulka2[[#This Row],[Data]]=\"\",\"\",IF(OR(Tabulka2[[#This Row],[Data]]<$G$57,Tabulka2[[#This Row],[Data]]>$G$58),2,IF(OR(Tabulka2[[#This Row],[Data]]<$G$51,Tabulka2[[#This Row],[Data]]>$G$52),1,0)))","v":""},{"$f":"IF(Tabulka2[[#This Row],[OL]]=\"\",\"\",IF(Tabulka2[[#This Row],[OL]]>0,A476,\"\"))","v":""},null,null,null,null,null,null,null,null,null,null,null,null,null,null,null,"",null,""]
[null,null,{"$f":"IF(Tabulka2[[#This Row],[Data]]=\"\",\"\",IF(OR(Tabulka2[[#This Row],[Data]]<$G$57,Tabulka2[[#This Row],[Data]]>$G$58),2,IF(OR(Tabulka2[[#This Row],[Data]]<$G$51,Tabulka2[[#This Row],[Data]]>$G$52),1,0)))","v":""},{"$f":"IF(Tabulka2[[#This Row],[OL]]=\"\",\"\",IF(Tabulka2[[#This Row],[OL]]>0,A477,\"\"))","v":""},null,null,null,null,null,null,null,null,null,null,null,null,null,null,null,"",null,""]
[null,null,{"$f":"IF(Tabulka2[[#This Row],[Data]]=\"\",\"\",IF(OR(Tabulka2[[#This Row],[Data]]<$G$57,Tabulka2[[#This Row],[Data]]>$G$58),2,IF(OR(Tabulka2[[#This Row],[Data]]<$G$51,Tabulka2[[#This Row],[Data]]>$G$52),1,0)))","v":""},{"$f":"IF(Tabulka2[[#This Row],[OL]]=\"\",\"\",IF(Tabulka2[[#This Row],[OL]]>0,A478,\"\"))","v":""},null,null,null,null,null,null,null,null,null,null,null,null,null,null,null,"",null,""]
[null,null,{"$f":"IF(Tabulka2[[#This Row],[Data]]=\"\",\"\",IF(OR(Tabulka2[[#This Row],[Data]]<$G$57,Tabulka2[[#This Row],[Data]]>$G$58),2,IF(OR(Tabulka2[[#This Row],[Data]]<$G$51,Tabulka2[[#This Row],[Data]]>$G$52),1,0)))","v":""},{"$f":"IF(Tabulka2[[#This Row],[OL]]=\"\",\"\",IF(Tabulka2[[#This Row],[OL]]>0,A479,\"\"))","v":""},null,null,null,null,null,null,null,null,null,null,null,null,null,null,null,"",null,""]
[null,null,{"$f":"IF(Tabulka2[[#This Row],[Data]]=\"\",\"\",IF(OR(Tabulka2[[#This Row],[Data]]<$G$57,Tabulka2[[#This Row],[Data]]>$G$58),2,IF(OR(Tabulka2[[#This Row],[Data]]<$G$51,Tabulka2[[#This Row],[Data]]>$G$52),1,0)))","v":""},{"$f":"IF(Tabulka2[[#This Row],[OL]]=\"\",\"\",IF(Tabulka2[[#This Row],[OL]]>0,A480,\"\"))","v":""},null,null,null,null,null,null,null,null,null,null,null,null,null,null,null,"",null,""]
[null,null,{"$f":"IF(Tabulka2[[#This Row],[Data]]=\"\",\"\",IF(OR(Tabulka2[[#This Row],[Data]]<$G$57,Tabulka2[[#This Row],[Data]]>$G$58),2,IF(OR(Tabulka2[[#This Row],[Data]]<$G$51,Tabulka2[[#This Row],[Data]]>$G$52),1,0)))","v":""},{"$f":"IF(Tabulka2[[#This Row],[OL]]=\"\",\"\",IF(Tabulka2[[#This Row],[OL]]>0,A481,\"\"))","v":""},null,null,null,null,null,null,null,null,null,null,null,null,null,null,null,"",null,""]
[null,null,{"$f":"IF(Tabulka2[[#This Row],[Data]]=\"\",\"\",IF(OR(Tabulka2[[#This Row],[Data]]<$G$57,Tabulka2[[#This Row],[Data]]>$G$58),2,IF(OR(Tabulka2[[#This Row],[Data]]<$G$51,Tabulka2[[#This Row],[Data]]>$G$52),1,0)))","v":""},{"$f":"IF(Tabulka2[[#This Row],[OL]]=\"\",\"\",IF(Tabulka2[[#This Row],[OL]]>0,A482,\"\"))","v":""},null,null,null,null,null,null,null,null,null,null,null,null,null,null,null,"",null,""]
[null,null,{"$f":"IF(Tabulka2[[#This Row],[Data]]=\"\",\"\",IF(OR(Tabulka2[[#This Row],[Data]]<$G$57,Tabulka2[[#This Row],[Data]]>$G$58),2,IF(OR(Tabulka2[[#This Row],[Data]]<$G$51,Tabulka2[[#This Row],[Data]]>$G$52),1,0)))","v":""},{"$f":"IF(Tabulka2[[#This Row],[OL]]=\"\",\"\",IF(Tabulka2[[#This Row],[OL]]>0,A483,\"\"))","v":""},null,null,null,null,null,null,null,null,null,null,null,null,null,null,null,"",null,""]
[null,null,{"$f":"IF(Tabulka2[[#This Row],[Data]]=\"\",\"\",IF(OR(Tabulka2[[#This Row],[Data]]<$G$57,Tabulka2[[#This Row],[Data]]>$G$58),2,IF(OR(Tabulka2[[#This Row],[Data]]<$G$51,Tabulka2[[#This Row],[Data]]>$G$52),1,0)))","v":""},{"$f":"IF(Tabulka2[[#This Row],[OL]]=\"\",\"\",IF(Tabulka2[[#This Row],[OL]]>0,A484,\"\"))","v":""},null,null,null,null,null,null,null,null,null,null,null,null,null,null,null,"",null,""]
[null,null,{"$f":"IF(Tabulka2[[#This Row],[Data]]=\"\",\"\",IF(OR(Tabulka2[[#This Row],[Data]]<$G$57,Tabulka2[[#This Row],[Data]]>$G$58),2,IF(OR(Tabulka2[[#This Row],[Data]]<$G$51,Tabulka2[[#This Row],[Data]]>$G$52),1,0)))","v":""},{"$f":"IF(Tabulka2[[#This Row],[OL]]=\"\",\"\",IF(Tabulka2[[#This Row],[OL]]>0,A485,\"\"))","v":""},null,null,null,null,null,null,null,null,null,null,null,null,null,null,null,"",null,""]
[null,null,{"$f":"IF(Tabulka2[[#This Row],[Data]]=\"\",\"\",IF(OR(Tabulka2[[#This Row],[Data]]<$G$57,Tabulka2[[#This Row],[Data]]>$G$58),2,IF(OR(Tabulka2[[#This Row],[Data]]<$G$51,Tabulka2[[#This Row],[Data]]>$G$52),1,0)))","v":""},{"$f":"IF(Tabulka2[[#This Row],[OL]]=\"\",\"\",IF(Tabulka2[[#This Row],[OL]]>0,A486,\"\"))","v":""},null,null,null,null,null,null,null,null,null,null,null,null,null,null,null,"",null,""]
[null,null,{"$f":"IF(Tabulka2[[#This Row],[Data]]=\"\",\"\",IF(OR(Tabulka2[[#This Row],[Data]]<$G$57,Tabulka2[[#This Row],[Data]]>$G$58),2,IF(OR(Tabulka2[[#This Row],[Data]]<$G$51,Tabulka2[[#This Row],[Data]]>$G$52),1,0)))","v":""},{"$f":"IF(Tabulka2[[#This Row],[OL]]=\"\",\"\",IF(Tabulka2[[#This Row],[OL]]>0,A487,\"\"))","v":""},null,null,null,null,null,null,null,null,null,null,null,null,null,null,null,"",null,""]
[null,null,{"$f":"IF(Tabulka2[[#This Row],[Data]]=\"\",\"\",IF(OR(Tabulka2[[#This Row],[Data]]<$G$57,Tabulka2[[#This Row],[Data]]>$G$58),2,IF(OR(Tabulka2[[#This Row],[Data]]<$G$51,Tabulka2[[#This Row],[Data]]>$G$52),1,0)))","v":""},{"$f":"IF(Tabulka2[[#This Row],[OL]]=\"\",\"\",IF(Tabulka2[[#This Row],[OL]]>0,A488,\"\"))","v":""},null,null,null,null,null,null,null,null,null,null,null,null,null,null,null,"",null,""]
[null,null,{"$f":"IF(Tabulka2[[#This Row],[Data]]=\"\",\"\",IF(OR(Tabulka2[[#This Row],[Data]]<$G$57,Tabulka2[[#This Row],[Data]]>$G$58),2,IF(OR(Tabulka2[[#This Row],[Data]]<$G$51,Tabulka2[[#This Row],[Data]]>$G$52),1,0)))","v":""},{"$f":"IF(Tabulka2[[#This Row],[OL]]=\"\",\"\",IF(Tabulka2[[#This Row],[OL]]>0,A489,\"\"))","v":""},null,null,null,null,null,null,null,null,null,null,null,null,null,null,null,"",null,""]
[null,null,{"$f":"IF(Tabulka2[[#This Row],[Data]]=\"\",\"\",IF(OR(Tabulka2[[#This Row],[Data]]<$G$57,Tabulka2[[#This Row],[Data]]>$G$58),2,IF(OR(Tabulka2[[#This Row],[Data]]<$G$51,Tabulka2[[#This Row],[Data]]>$G$52),1,0)))","v":""},{"$f":"IF(Tabulka2[[#This Row],[OL]]=\"\",\"\",IF(Tabulka2[[#This Row],[OL]]>0,A490,\"\"))","v":""},null,null,null,null,null,null,null,null,null,null,null,null,null,null,null,"",null,""]
[null,null,{"$f":"IF(Tabulka2[[#This Row],[Data]]=\"\",\"\",IF(OR(Tabulka2[[#This Row],[Data]]<$G$57,Tabulka2[[#This Row],[Data]]>$G$58),2,IF(OR(Tabulka2[[#This Row],[Data]]<$G$51,Tabulka2[[#This Row],[Data]]>$G$52),1,0)))","v":""},{"$f":"IF(Tabulka2[[#This Row],[OL]]=\"\",\"\",IF(Tabulka2[[#This Row],[OL]]>0,A491,\"\"))","v":""},null,null,null,null,null,null,null,null,null,null,null,null,null,null,null,"",null,""]
[null,null,{"$f":"IF(Tabulka2[[#This Row],[Data]]=\"\",\"\",IF(OR(Tabulka2[[#This Row],[Data]]<$G$57,Tabulka2[[#This Row],[Data]]>$G$58),2,IF(OR(Tabulka2[[#This Row],[Data]]<$G$51,Tabulka2[[#This Row],[Data]]>$G$52),1,0)))","v":""},{"$f":"IF(Tabulka2[[#This Row],[OL]]=\"\",\"\",IF(Tabulka2[[#This Row],[OL]]>0,A492,\"\"))","v":""},null,null,null,null,null,null,null,null,null,null,null,null,null,null,null,"",null,""]
[null,null,{"$f":"IF(Tabulka2[[#This Row],[Data]]=\"\",\"\",IF(OR(Tabulka2[[#This Row],[Data]]<$G$57,Tabulka2[[#This Row],[Data]]>$G$58),2,IF(OR(Tabulka2[[#This Row],[Data]]<$G$51,Tabulka2[[#This Row],[Data]]>$G$52),1,0)))","v":""},{"$f":"IF(Tabulka2[[#This Row],[OL]]=\"\",\"\",IF(Tabulka2[[#This Row],[OL]]>0,A493,\"\"))","v":""},null,null,null,null,null,null,null,null,null,null,null,null,null,null,null,"",null,""]
[null,null,{"$f":"IF(Tabulka2[[#This Row],[Data]]=\"\",\"\",IF(OR(Tabulka2[[#This Row],[Data]]<$G$57,Tabulka2[[#This Row],[Data]]>$G$58),2,IF(OR(Tabulka2[[#This Row],[Data]]<$G$51,Tabulka2[[#This Row],[Data]]>$G$52),1,0)))","v":""},{"$f":"IF(Tabulka2[[#This Row],[OL]]=\"\",\"\",IF(Tabulka2[[#This Row],[OL]]>0,A494,\"\"))","v":""},null,null,null,null,null,null,null,null,null,null,null,null,null,null,null,"",null,""]
[null,null,{"$f":"IF(Tabulka2[[#This Row],[Data]]=\"\",\"\",IF(OR(Tabulka2[[#This Row],[Data]]<$G$57,Tabulka2[[#This Row],[Data]]>$G$58),2,IF(OR(Tabulka2[[#This Row],[Data]]<$G$51,Tabulka2[[#This Row],[Data]]>$G$52),1,0)))","v":""},{"$f":"IF(Tabulka2[[#This Row],[OL]]=\"\",\"\",IF(Tabulka2[[#This Row],[OL]]>0,A495,\"\"))","v":""},null,null,null,null,null,null,null,null,null,null,null,null,null,null,null,"",null,""]
[null,null,{"$f":"IF(Tabulka2[[#This Row],[Data]]=\"\",\"\",IF(OR(Tabulka2[[#This Row],[Data]]<$G$57,Tabulka2[[#This Row],[Data]]>$G$58),2,IF(OR(Tabulka2[[#This Row],[Data]]<$G$51,Tabulka2[[#This Row],[Data]]>$G$52),1,0)))","v":""},{"$f":"IF(Tabulka2[[#This Row],[OL]]=\"\",\"\",IF(Tabulka2[[#This Row],[OL]]>0,A496,\"\"))","v":""},null,null,null,null,null,null,null,null,null,null,null,null,null,null,null,"",null,""]
[null,null,{"$f":"IF(Tabulka2[[#This Row],[Data]]=\"\",\"\",IF(OR(Tabulka2[[#This Row],[Data]]<$G$57,Tabulka2[[#This Row],[Data]]>$G$58),2,IF(OR(Tabulka2[[#This Row],[Data]]<$G$51,Tabulka2[[#This Row],[Data]]>$G$52),1,0)))","v":""},{"$f":"IF(Tabulka2[[#This Row],[OL]]=\"\",\"\",IF(Tabulka2[[#This Row],[OL]]>0,A497,\"\"))","v":""},null,null,null,null,null,null,null,null,null,null,null,null,null,null,null,"",null,""]
[null,null,{"$f":"IF(Tabulka2[[#This Row],[Data]]=\"\",\"\",IF(OR(Tabulka2[[#This Row],[Data]]<$G$57,Tabulka2[[#This Row],[Data]]>$G$58),2,IF(OR(Tabulka2[[#This Row],[Data]]<$G$51,Tabulka2[[#This Row],[Data]]>$G$52),1,0)))","v":""},{"$f":"IF(Tabulka2[[#This Row],[OL]]=\"\",\"\",IF(Tabulka2[[#This Row],[OL]]>0,A498,\"\"))","v":""},null,null,null,null,null,null,null,null,null,null,null,null,null,null,null,"",null,""]
[null,null,{"$f":"IF(Tabulka2[[#This Row],[Data]]=\"\",\"\",IF(OR(Tabulka2[[#This Row],[Data]]<$G$57,Tabulka2[[#This Row],[Data]]>$G$58),2,IF(OR(Tabulka2[[#This Row],[Data]]<$G$51,Tabulka2[[#This Row],[Data]]>$G$52),1,0)))","v":""},{"$f":"IF(Tabulka2[[#This Row],[OL]]=\"\",\"\",IF(Tabulka2[[#This Row],[OL]]>0,A499,\"\"))","v":""},null,null,null,null,null,null,null,null,null,null,null,null,null,null,null,"",null,""]
[null,null,{"$f":"IF(Tabulka2[[#This Row],[Data]]=\"\",\"\",IF(OR(Tabulka2[[#This Row],[Data]]<$G$57,Tabulka2[[#This Row],[Data]]>$G$58),2,IF(OR(Tabulka2[[#This Row],[Data]]<$G$51,Tabulka2[[#This Row],[Data]]>$G$52),1,0)))","v":""},{"$f":"IF(Tabulka2[[#This Row],[OL]]=\"\",\"\",IF(Tabulka2[[#This Row],[OL]]>0,A500,\"\"))","v":""},null,null,null,null,null,null,null,null,null,null,null,null,null,null,null,"",null,""]
[null,null,{"$f":"IF(Tabulka2[[#This Row],[Data]]=\"\",\"\",IF(OR(Tabulka2[[#This Row],[Data]]<$G$57,Tabulka2[[#This Row],[Data]]>$G$58),2,IF(OR(Tabulka2[[#This Row],[Data]]<$G$51,Tabulka2[[#This Row],[Data]]>$G$52),1,0)))","v":""},{"$f":"IF(Tabulka2[[#This Row],[OL]]=\"\",\"\",IF(Tabulka2[[#This Row],[OL]]>0,A501,\"\"))","v":""},null,null,null,null,null,null,null,null,null,null,null,null,null,null,null,"",null,""]
[null,null,{"$f":"IF(Tabulka2[[#This Row],[Data]]=\"\",\"\",IF(OR(Tabulka2[[#This Row],[Data]]<$G$57,Tabulka2[[#This Row],[Data]]>$G$58),2,IF(OR(Tabulka2[[#This Row],[Data]]<$G$51,Tabulka2[[#This Row],[Data]]>$G$52),1,0)))","v":""},{"$f":"IF(Tabulka2[[#This Row],[OL]]=\"\",\"\",IF(Tabulka2[[#This Row],[OL]]>0,A502,\"\"))","v":""},null,null,null,null,null,null,null,null,null,null,null,null,null,null,null,"",null,""]
[null,null,{"$f":"IF(Tabulka2[[#This Row],[Data]]=\"\",\"\",IF(OR(Tabulka2[[#This Row],[Data]]<$G$57,Tabulka2[[#This Row],[Data]]>$G$58),2,IF(OR(Tabulka2[[#This Row],[Data]]<$G$51,Tabulka2[[#This Row],[Data]]>$G$52),1,0)))","v":""},{"$f":"IF(Tabulka2[[#This Row],[OL]]=\"\",\"\",IF(Tabulka2[[#This Row],[OL]]>0,A503,\"\"))","v":""},null,null,null,null,null,null,null,null,null,null,null,null,null,null,null,"",null,""]
[null,null,{"$f":"IF(Tabulka2[[#This Row],[Data]]=\"\",\"\",IF(OR(Tabulka2[[#This Row],[Data]]<$G$57,Tabulka2[[#This Row],[Data]]>$G$58),2,IF(OR(Tabulka2[[#This Row],[Data]]<$G$51,Tabulka2[[#This Row],[Data]]>$G$52),1,0)))","v":""},{"$f":"IF(Tabulka2[[#This Row],[OL]]=\"\",\"\",IF(Tabulka2[[#This Row],[OL]]>0,A504,\"\"))","v":""},null,null,null,null,null,null,null,null,null,null,null,null,null,null,null,"",null,""]
[null,null,{"$f":"IF(Tabulka2[[#This Row],[Data]]=\"\",\"\",IF(OR(Tabulka2[[#This Row],[Data]]<$G$57,Tabulka2[[#This Row],[Data]]>$G$58),2,IF(OR(Tabulka2[[#This Row],[Data]]<$G$51,Tabulka2[[#This Row],[Data]]>$G$52),1,0)))","v":""},{"$f":"IF(Tabulka2[[#This Row],[OL]]=\"\",\"\",IF(Tabulka2[[#This Row],[OL]]>0,A505,\"\"))","v":""},null,null,null,null,null,null,null,null,null,null,null,null,null,null,null,"",null,""]
[null,null,{"$f":"IF(Tabulka2[[#This Row],[Data]]=\"\",\"\",IF(OR(Tabulka2[[#This Row],[Data]]<$G$57,Tabulka2[[#This Row],[Data]]>$G$58),2,IF(OR(Tabulka2[[#This Row],[Data]]<$G$51,Tabulka2[[#This Row],[Data]]>$G$52),1,0)))","v":""},{"$f":"IF(Tabulka2[[#This Row],[OL]]=\"\",\"\",IF(Tabulka2[[#This Row],[OL]]>0,A506,\"\"))","v":""},null,null,null,null,null,null,null,null,null,null,null,null,null,null,null,"",null,""]
[null,null,{"$f":"IF(Tabulka2[[#This Row],[Data]]=\"\",\"\",IF(OR(Tabulka2[[#This Row],[Data]]<$G$57,Tabulka2[[#This Row],[Data]]>$G$58),2,IF(OR(Tabulka2[[#This Row],[Data]]<$G$51,Tabulka2[[#This Row],[Data]]>$G$52),1,0)))","v":""},{"$f":"IF(Tabulka2[[#This Row],[OL]]=\"\",\"\",IF(Tabulka2[[#This Row],[OL]]>0,A507,\"\"))","v":""},null,null,null,null,null,null,null,null,null,null,null,null,null,null,null,"",null,""]
[null,null,{"$f":"IF(Tabulka2[[#This Row],[Data]]=\"\",\"\",IF(OR(Tabulka2[[#This Row],[Data]]<$G$57,Tabulka2[[#This Row],[Data]]>$G$58),2,IF(OR(Tabulka2[[#This Row],[Data]]<$G$51,Tabulka2[[#This Row],[Data]]>$G$52),1,0)))","v":""},{"$f":"IF(Tabulka2[[#This Row],[OL]]=\"\",\"\",IF(Tabulka2[[#This Row],[OL]]>0,A508,\"\"))","v":""},null,null,null,null,null,null,null,null,null,null,null,null,null,null,null,"",null,""]
[null,null,{"$f":"IF(Tabulka2[[#This Row],[Data]]=\"\",\"\",IF(OR(Tabulka2[[#This Row],[Data]]<$G$57,Tabulka2[[#This Row],[Data]]>$G$58),2,IF(OR(Tabulka2[[#This Row],[Data]]<$G$51,Tabulka2[[#This Row],[Data]]>$G$52),1,0)))","v":""},{"$f":"IF(Tabulka2[[#This Row],[OL]]=\"\",\"\",IF(Tabulka2[[#This Row],[OL]]>0,A509,\"\"))","v":""},null,null,null,null,null,null,null,null,null,null,null,null,null,null,null,"",null,""]
[null,null,{"$f":"IF(Tabulka2[[#This Row],[Data]]=\"\",\"\",IF(OR(Tabulka2[[#This Row],[Data]]<$G$57,Tabulka2[[#This Row],[Data]]>$G$58),2,IF(OR(Tabulka2[[#This Row],[Data]]<$G$51,Tabulka2[[#This Row],[Data]]>$G$52),1,0)))","v":""},{"$f":"IF(Tabulka2[[#This Row],[OL]]=\"\",\"\",IF(Tabulka2[[#This Row],[OL]]>0,A510,\"\"))","v":""},null,null,null,null,null,null,null,null,null,null,null,null,null,null,null,"",null,""]
[null,null,{"$f":"IF(Tabulka2[[#This Row],[Data]]=\"\",\"\",IF(OR(Tabulka2[[#This Row],[Data]]<$G$57,Tabulka2[[#This Row],[Data]]>$G$58),2,IF(OR(Tabulka2[[#This Row],[Data]]<$G$51,Tabulka2[[#This Row],[Data]]>$G$52),1,0)))","v":""},{"$f":"IF(Tabulka2[[#This Row],[OL]]=\"\",\"\",IF(Tabulka2[[#This Row],[OL]]>0,A511,\"\"))","v":""},null,null,null,null,null,null,null,null,null,null,null,null,null,null,null,"",null,""]
[null,null,{"$f":"IF(Tabulka2[[#This Row],[Data]]=\"\",\"\",IF(OR(Tabulka2[[#This Row],[Data]]<$G$57,Tabulka2[[#This Row],[Data]]>$G$58),2,IF(OR(Tabulka2[[#This Row],[Data]]<$G$51,Tabulka2[[#This Row],[Data]]>$G$52),1,0)))","v":""},{"$f":"IF(Tabulka2[[#This Row],[OL]]=\"\",\"\",IF(Tabulka2[[#This Row],[OL]]>0,A512,\"\"))","v":""},null,null,null,null,null,null,null,null,null,null,null,null,null,null,null,"",null,""]
[null,null,{"$f":"IF(Tabulka2[[#This Row],[Data]]=\"\",\"\",IF(OR(Tabulka2[[#This Row],[Data]]<$G$57,Tabulka2[[#This Row],[Data]]>$G$58),2,IF(OR(Tabulka2[[#This Row],[Data]]<$G$51,Tabulka2[[#This Row],[Data]]>$G$52),1,0)))","v":""},{"$f":"IF(Tabulka2[[#This Row],[OL]]=\"\",\"\",IF(Tabulka2[[#This Row],[OL]]>0,A513,\"\"))","v":""},null,null,null,null,null,null,null,null,null,null,null,null,null,null,null,"",null,""]
[null,null,{"$f":"IF(Tabulka2[[#This Row],[Data]]=\"\",\"\",IF(OR(Tabulka2[[#This Row],[Data]]<$G$57,Tabulka2[[#This Row],[Data]]>$G$58),2,IF(OR(Tabulka2[[#This Row],[Data]]<$G$51,Tabulka2[[#This Row],[Data]]>$G$52),1,0)))","v":""},{"$f":"IF(Tabulka2[[#This Row],[OL]]=\"\",\"\",IF(Tabulka2[[#This Row],[OL]]>0,A514,\"\"))","v":""},null,null,null,null,null,null,null,null,null,null,null,null,null,null,null,"",null,""]
[null,null,{"$f":"IF(Tabulka2[[#This Row],[Data]]=\"\",\"\",IF(OR(Tabulka2[[#This Row],[Data]]<$G$57,Tabulka2[[#This Row],[Data]]>$G$58),2,IF(OR(Tabulka2[[#This Row],[Data]]<$G$51,Tabulka2[[#This Row],[Data]]>$G$52),1,0)))","v":""},{"$f":"IF(Tabulka2[[#This Row],[OL]]=\"\",\"\",IF(Tabulka2[[#This Row],[OL]]>0,A515,\"\"))","v":""},null,null,null,null,null,null,null,null,null,null,null,null,null,null,null,"",null,""]
[null,null,{"$f":"IF(Tabulka2[[#This Row],[Data]]=\"\",\"\",IF(OR(Tabulka2[[#This Row],[Data]]<$G$57,Tabulka2[[#This Row],[Data]]>$G$58),2,IF(OR(Tabulka2[[#This Row],[Data]]<$G$51,Tabulka2[[#This Row],[Data]]>$G$52),1,0)))","v":""},{"$f":"IF(Tabulka2[[#This Row],[OL]]=\"\",\"\",IF(Tabulka2[[#This Row],[OL]]>0,A516,\"\"))","v":""},null,null,null,null,null,null,null,null,null,null,null,null,null,null,null,"",null,""]
[null,null,{"$f":"IF(Tabulka2[[#This Row],[Data]]=\"\",\"\",IF(OR(Tabulka2[[#This Row],[Data]]<$G$57,Tabulka2[[#This Row],[Data]]>$G$58),2,IF(OR(Tabulka2[[#This Row],[Data]]<$G$51,Tabulka2[[#This Row],[Data]]>$G$52),1,0)))","v":""},{"$f":"IF(Tabulka2[[#This Row],[OL]]=\"\",\"\",IF(Tabulka2[[#This Row],[OL]]>0,A517,\"\"))","v":""},null,null,null,null,null,null,null,null,null,null,null,null,null,null,null,"",null,""]
[null,null,{"$f":"IF(Tabulka2[[#This Row],[Data]]=\"\",\"\",IF(OR(Tabulka2[[#This Row],[Data]]<$G$57,Tabulka2[[#This Row],[Data]]>$G$58),2,IF(OR(Tabulka2[[#This Row],[Data]]<$G$51,Tabulka2[[#This Row],[Data]]>$G$52),1,0)))","v":""},{"$f":"IF(Tabulka2[[#This Row],[OL]]=\"\",\"\",IF(Tabulka2[[#This Row],[OL]]>0,A518,\"\"))","v":""},null,null,null,null,null,null,null,null,null,null,null,null,null,null,null,"",null,""]
[null,null,{"$f":"IF(Tabulka2[[#This Row],[Data]]=\"\",\"\",IF(OR(Tabulka2[[#This Row],[Data]]<$G$57,Tabulka2[[#This Row],[Data]]>$G$58),2,IF(OR(Tabulka2[[#This Row],[Data]]<$G$51,Tabulka2[[#This Row],[Data]]>$G$52),1,0)))","v":""},{"$f":"IF(Tabulka2[[#This Row],[OL]]=\"\",\"\",IF(Tabulka2[[#This Row],[OL]]>0,A519,\"\"))","v":""},null,null,null,null,null,null,null,null,null,null,null,null,null,null,null,"",null,""]
[null,null,{"$f":"IF(Tabulka2[[#This Row],[Data]]=\"\",\"\",IF(OR(Tabulka2[[#This Row],[Data]]<$G$57,Tabulka2[[#This Row],[Data]]>$G$58),2,IF(OR(Tabulka2[[#This Row],[Data]]<$G$51,Tabulka2[[#This Row],[Data]]>$G$52),1,0)))","v":""},{"$f":"IF(Tabulka2[[#This Row],[OL]]=\"\",\"\",IF(Tabulka2[[#This Row],[OL]]>0,A520,\"\"))","v":""},null,null,null,null,null,null,null,null,null,null,null,null,null,null,null,"",null,""]
[null,null,{"$f":"IF(Tabulka2[[#This Row],[Data]]=\"\",\"\",IF(OR(Tabulka2[[#This Row],[Data]]<$G$57,Tabulka2[[#This Row],[Data]]>$G$58),2,IF(OR(Tabulka2[[#This Row],[Data]]<$G$51,Tabulka2[[#This Row],[Data]]>$G$52),1,0)))","v":""},{"$f":"IF(Tabulka2[[#This Row],[OL]]=\"\",\"\",IF(Tabulka2[[#This Row],[OL]]>0,A521,\"\"))","v":""},null,null,null,null,null,null,null,null,null,null,null,null,null,null,null,"",null,""]
[null,null,{"$f":"IF(Tabulka2[[#This Row],[Data]]=\"\",\"\",IF(OR(Tabulka2[[#This Row],[Data]]<$G$57,Tabulka2[[#This Row],[Data]]>$G$58),2,IF(OR(Tabulka2[[#This Row],[Data]]<$G$51,Tabulka2[[#This Row],[Data]]>$G$52),1,0)))","v":""},{"$f":"IF(Tabulka2[[#This Row],[OL]]=\"\",\"\",IF(Tabulka2[[#This Row],[OL]]>0,A522,\"\"))","v":""},null,null,null,null,null,null,null,null,null,null,null,null,null,null,null,"",null,""]
[null,null,{"$f":"IF(Tabulka2[[#This Row],[Data]]=\"\",\"\",IF(OR(Tabulka2[[#This Row],[Data]]<$G$57,Tabulka2[[#This Row],[Data]]>$G$58),2,IF(OR(Tabulka2[[#This Row],[Data]]<$G$51,Tabulka2[[#This Row],[Data]]>$G$52),1,0)))","v":""},{"$f":"IF(Tabulka2[[#This Row],[OL]]=\"\",\"\",IF(Tabulka2[[#This Row],[OL]]>0,A523,\"\"))","v":""},null,null,null,null,null,null,null,null,null,null,null,null,null,null,null,"",null,""]
[null,null,{"$f":"IF(Tabulka2[[#This Row],[Data]]=\"\",\"\",IF(OR(Tabulka2[[#This Row],[Data]]<$G$57,Tabulka2[[#This Row],[Data]]>$G$58),2,IF(OR(Tabulka2[[#This Row],[Data]]<$G$51,Tabulka2[[#This Row],[Data]]>$G$52),1,0)))","v":""},{"$f":"IF(Tabulka2[[#This Row],[OL]]=\"\",\"\",IF(Tabulka2[[#This Row],[OL]]>0,A524,\"\"))","v":""},null,null,null,null,null,null,null,null,null,null,null,null,null,null,null,"",null,""]
[null,null,{"$f":"IF(Tabulka2[[#This Row],[Data]]=\"\",\"\",IF(OR(Tabulka2[[#This Row],[Data]]<$G$57,Tabulka2[[#This Row],[Data]]>$G$58),2,IF(OR(Tabulka2[[#This Row],[Data]]<$G$51,Tabulka2[[#This Row],[Data]]>$G$52),1,0)))","v":""},{"$f":"IF(Tabulka2[[#This Row],[OL]]=\"\",\"\",IF(Tabulka2[[#This Row],[OL]]>0,A525,\"\"))","v":""},null,null,null,null,null,null,null,null,null,null,null,null,null,null,null,"",null,""]
[null,null,{"$f":"IF(Tabulka2[[#This Row],[Data]]=\"\",\"\",IF(OR(Tabulka2[[#This Row],[Data]]<$G$57,Tabulka2[[#This Row],[Data]]>$G$58),2,IF(OR(Tabulka2[[#This Row],[Data]]<$G$51,Tabulka2[[#This Row],[Data]]>$G$52),1,0)))","v":""},{"$f":"IF(Tabulka2[[#This Row],[OL]]=\"\",\"\",IF(Tabulka2[[#This Row],[OL]]>0,A526,\"\"))","v":""},null,null,null,null,null,null,null,null,null,null,null,null,null,null,null,"",null,""]
[null,null,{"$f":"IF(Tabulka2[[#This Row],[Data]]=\"\",\"\",IF(OR(Tabulka2[[#This Row],[Data]]<$G$57,Tabulka2[[#This Row],[Data]]>$G$58),2,IF(OR(Tabulka2[[#This Row],[Data]]<$G$51,Tabulka2[[#This Row],[Data]]>$G$52),1,0)))","v":""},{"$f":"IF(Tabulka2[[#This Row],[OL]]=\"\",\"\",IF(Tabulka2[[#This Row],[OL]]>0,A527,\"\"))","v":""},null,null,null,null,null,null,null,null,null,null,null,null,null,null,null,"",null,""]
[null,null,{"$f":"IF(Tabulka2[[#This Row],[Data]]=\"\",\"\",IF(OR(Tabulka2[[#This Row],[Data]]<$G$57,Tabulka2[[#This Row],[Data]]>$G$58),2,IF(OR(Tabulka2[[#This Row],[Data]]<$G$51,Tabulka2[[#This Row],[Data]]>$G$52),1,0)))","v":""},{"$f":"IF(Tabulka2[[#This Row],[OL]]=\"\",\"\",IF(Tabulka2[[#This Row],[OL]]>0,A528,\"\"))","v":""},null,null,null,null,null,null,null,null,null,null,null,null,null,null,null,"",null,""]
[null,null,{"$f":"IF(Tabulka2[[#This Row],[Data]]=\"\",\"\",IF(OR(Tabulka2[[#This Row],[Data]]<$G$57,Tabulka2[[#This Row],[Data]]>$G$58),2,IF(OR(Tabulka2[[#This Row],[Data]]<$G$51,Tabulka2[[#This Row],[Data]]>$G$52),1,0)))","v":""},{"$f":"IF(Tabulka2[[#This Row],[OL]]=\"\",\"\",IF(Tabulka2[[#This Row],[OL]]>0,A529,\"\"))","v":""},null,null,null,null,null,null,null,null,null,null,null,null,null,null,null,"",null,""]
[null,null,{"$f":"IF(Tabulka2[[#This Row],[Data]]=\"\",\"\",IF(OR(Tabulka2[[#This Row],[Data]]<$G$57,Tabulka2[[#This Row],[Data]]>$G$58),2,IF(OR(Tabulka2[[#This Row],[Data]]<$G$51,Tabulka2[[#This Row],[Data]]>$G$52),1,0)))","v":""},{"$f":"IF(Tabulka2[[#This Row],[OL]]=\"\",\"\",IF(Tabulka2[[#This Row],[OL]]>0,A530,\"\"))","v":""},null,null,null,null,null,null,null,null,null,null,null,null,null,null,null,"",null,""]
[null,null,{"$f":"IF(Tabulka2[[#This Row],[Data]]=\"\",\"\",IF(OR(Tabulka2[[#This Row],[Data]]<$G$57,Tabulka2[[#This Row],[Data]]>$G$58),2,IF(OR(Tabulka2[[#This Row],[Data]]<$G$51,Tabulka2[[#This Row],[Data]]>$G$52),1,0)))","v":""},{"$f":"IF(Tabulka2[[#This Row],[OL]]=\"\",\"\",IF(Tabulka2[[#This Row],[OL]]>0,A531,\"\"))","v":""},null,null,null,null,null,null,null,null,null,null,null,null,null,null,null,"",null,""]
[null,null,{"$f":"IF(Tabulka2[[#This Row],[Data]]=\"\",\"\",IF(OR(Tabulka2[[#This Row],[Data]]<$G$57,Tabulka2[[#This Row],[Data]]>$G$58),2,IF(OR(Tabulka2[[#This Row],[Data]]<$G$51,Tabulka2[[#This Row],[Data]]>$G$52),1,0)))","v":""},{"$f":"IF(Tabulka2[[#This Row],[OL]]=\"\",\"\",IF(Tabulka2[[#This Row],[OL]]>0,A532,\"\"))","v":""},null,null,null,null,null,null,null,null,null,null,null,null,null,null,null,"",null,""]
[null,null,{"$f":"IF(Tabulka2[[#This Row],[Data]]=\"\",\"\",IF(OR(Tabulka2[[#This Row],[Data]]<$G$57,Tabulka2[[#This Row],[Data]]>$G$58),2,IF(OR(Tabulka2[[#This Row],[Data]]<$G$51,Tabulka2[[#This Row],[Data]]>$G$52),1,0)))","v":""},{"$f":"IF(Tabulka2[[#This Row],[OL]]=\"\",\"\",IF(Tabulka2[[#This Row],[OL]]>0,A533,\"\"))","v":""},null,null,null,null,null,null,null,null,null,null,null,null,null,null,null,"",null,""]
[null,null,{"$f":"IF(Tabulka2[[#This Row],[Data]]=\"\",\"\",IF(OR(Tabulka2[[#This Row],[Data]]<$G$57,Tabulka2[[#This Row],[Data]]>$G$58),2,IF(OR(Tabulka2[[#This Row],[Data]]<$G$51,Tabulka2[[#This Row],[Data]]>$G$52),1,0)))","v":""},{"$f":"IF(Tabulka2[[#This Row],[OL]]=\"\",\"\",IF(Tabulka2[[#This Row],[OL]]>0,A534,\"\"))","v":""},null,null,null,null,null,null,null,null,null,null,null,null,null,null,null,"",null,""]
[null,null,{"$f":"IF(Tabulka2[[#This Row],[Data]]=\"\",\"\",IF(OR(Tabulka2[[#This Row],[Data]]<$G$57,Tabulka2[[#This Row],[Data]]>$G$58),2,IF(OR(Tabulka2[[#This Row],[Data]]<$G$51,Tabulka2[[#This Row],[Data]]>$G$52),1,0)))","v":""},{"$f":"IF(Tabulka2[[#This Row],[OL]]=\"\",\"\",IF(Tabulka2[[#This Row],[OL]]>0,A535,\"\"))","v":""},null,null,null,null,null,null,null,null,null,null,null,null,null,null,null,"",null,""]
[null,null,{"$f":"IF(Tabulka2[[#This Row],[Data]]=\"\",\"\",IF(OR(Tabulka2[[#This Row],[Data]]<$G$57,Tabulka2[[#This Row],[Data]]>$G$58),2,IF(OR(Tabulka2[[#This Row],[Data]]<$G$51,Tabulka2[[#This Row],[Data]]>$G$52),1,0)))","v":""},{"$f":"IF(Tabulka2[[#This Row],[OL]]=\"\",\"\",IF(Tabulka2[[#This Row],[OL]]>0,A536,\"\"))","v":""},null,null,null,null,null,null,null,null,null,null,null,null,null,null,null,"",null,""]
[null,null,{"$f":"IF(Tabulka2[[#This Row],[Data]]=\"\",\"\",IF(OR(Tabulka2[[#This Row],[Data]]<$G$57,Tabulka2[[#This Row],[Data]]>$G$58),2,IF(OR(Tabulka2[[#This Row],[Data]]<$G$51,Tabulka2[[#This Row],[Data]]>$G$52),1,0)))","v":""},{"$f":"IF(Tabulka2[[#This Row],[OL]]=\"\",\"\",IF(Tabulka2[[#This Row],[OL]]>0,A537,\"\"))","v":""},null,null,null,null,null,null,null,null,null,null,null,null,null,null,null,"",null,""]
[null,null,{"$f":"IF(Tabulka2[[#This Row],[Data]]=\"\",\"\",IF(OR(Tabulka2[[#This Row],[Data]]<$G$57,Tabulka2[[#This Row],[Data]]>$G$58),2,IF(OR(Tabulka2[[#This Row],[Data]]<$G$51,Tabulka2[[#This Row],[Data]]>$G$52),1,0)))","v":""},{"$f":"IF(Tabulka2[[#This Row],[OL]]=\"\",\"\",IF(Tabulka2[[#This Row],[OL]]>0,A538,\"\"))","v":""},null,null,null,null,null,null,null,null,null,null,null,null,null,null,null,"",null,""]
[null,null,{"$f":"IF(Tabulka2[[#This Row],[Data]]=\"\",\"\",IF(OR(Tabulka2[[#This Row],[Data]]<$G$57,Tabulka2[[#This Row],[Data]]>$G$58),2,IF(OR(Tabulka2[[#This Row],[Data]]<$G$51,Tabulka2[[#This Row],[Data]]>$G$52),1,0)))","v":""},{"$f":"IF(Tabulka2[[#This Row],[OL]]=\"\",\"\",IF(Tabulka2[[#This Row],[OL]]>0,A539,\"\"))","v":""},null,null,null,null,null,null,null,null,null,null,null,null,null,null,null,"",null,""]
[null,null,{"$f":"IF(Tabulka2[[#This Row],[Data]]=\"\",\"\",IF(OR(Tabulka2[[#This Row],[Data]]<$G$57,Tabulka2[[#This Row],[Data]]>$G$58),2,IF(OR(Tabulka2[[#This Row],[Data]]<$G$51,Tabulka2[[#This Row],[Data]]>$G$52),1,0)))","v":""},{"$f":"IF(Tabulka2[[#This Row],[OL]]=\"\",\"\",IF(Tabulka2[[#This Row],[OL]]>0,A540,\"\"))","v":""},null,null,null,null,null,null,null,null,null,null,null,null,null,null,null,"",null,""]
[null,null,{"$f":"IF(Tabulka2[[#This Row],[Data]]=\"\",\"\",IF(OR(Tabulka2[[#This Row],[Data]]<$G$57,Tabulka2[[#This Row],[Data]]>$G$58),2,IF(OR(Tabulka2[[#This Row],[Data]]<$G$51,Tabulka2[[#This Row],[Data]]>$G$52),1,0)))","v":""},{"$f":"IF(Tabulka2[[#This Row],[OL]]=\"\",\"\",IF(Tabulka2[[#This Row],[OL]]>0,A541,\"\"))","v":""},null,null,null,null,null,null,null,null,null,null,null,null,null,null,null,"",null,""]
[null,null,{"$f":"IF(Tabulka2[[#This Row],[Data]]=\"\",\"\",IF(OR(Tabulka2[[#This Row],[Data]]<$G$57,Tabulka2[[#This Row],[Data]]>$G$58),2,IF(OR(Tabulka2[[#This Row],[Data]]<$G$51,Tabulka2[[#This Row],[Data]]>$G$52),1,0)))","v":""},{"$f":"IF(Tabulka2[[#This Row],[OL]]=\"\",\"\",IF(Tabulka2[[#This Row],[OL]]>0,A542,\"\"))","v":""},null,null,null,null,null,null,null,null,null,null,null,null,null,null,null,"",null,""]
[null,null,{"$f":"IF(Tabulka2[[#This Row],[Data]]=\"\",\"\",IF(OR(Tabulka2[[#This Row],[Data]]<$G$57,Tabulka2[[#This Row],[Data]]>$G$58),2,IF(OR(Tabulka2[[#This Row],[Data]]<$G$51,Tabulka2[[#This Row],[Data]]>$G$52),1,0)))","v":""},{"$f":"IF(Tabulka2[[#This Row],[OL]]=\"\",\"\",IF(Tabulka2[[#This Row],[OL]]>0,A543,\"\"))","v":""},null,null,null,null,null,null,null,null,null,null,null,null,null,null,null,"",null,""]
[null,null,{"$f":"IF(Tabulka2[[#This Row],[Data]]=\"\",\"\",IF(OR(Tabulka2[[#This Row],[Data]]<$G$57,Tabulka2[[#This Row],[Data]]>$G$58),2,IF(OR(Tabulka2[[#This Row],[Data]]<$G$51,Tabulka2[[#This Row],[Data]]>$G$52),1,0)))","v":""},{"$f":"IF(Tabulka2[[#This Row],[OL]]=\"\",\"\",IF(Tabulka2[[#This Row],[OL]]>0,A544,\"\"))","v":""},null,null,null,null,null,null,null,null,null,null,null,null,null,null,null,"",null,""]
[null,null,{"$f":"IF(Tabulka2[[#This Row],[Data]]=\"\",\"\",IF(OR(Tabulka2[[#This Row],[Data]]<$G$57,Tabulka2[[#This Row],[Data]]>$G$58),2,IF(OR(Tabulka2[[#This Row],[Data]]<$G$51,Tabulka2[[#This Row],[Data]]>$G$52),1,0)))","v":""},{"$f":"IF(Tabulka2[[#This Row],[OL]]=\"\",\"\",IF(Tabulka2[[#This Row],[OL]]>0,A545,\"\"))","v":""},null,null,null,null,null,null,null,null,null,null,null,null,null,null,null,"",null,""]
[null,null,{"$f":"IF(Tabulka2[[#This Row],[Data]]=\"\",\"\",IF(OR(Tabulka2[[#This Row],[Data]]<$G$57,Tabulka2[[#This Row],[Data]]>$G$58),2,IF(OR(Tabulka2[[#This Row],[Data]]<$G$51,Tabulka2[[#This Row],[Data]]>$G$52),1,0)))","v":""},{"$f":"IF(Tabulka2[[#This Row],[OL]]=\"\",\"\",IF(Tabulka2[[#This Row],[OL]]>0,A546,\"\"))","v":""},null,null,null,null,null,null,null,null,null,null,null,null,null,null,null,"",null,""]
[null,null,{"$f":"IF(Tabulka2[[#This Row],[Data]]=\"\",\"\",IF(OR(Tabulka2[[#This Row],[Data]]<$G$57,Tabulka2[[#This Row],[Data]]>$G$58),2,IF(OR(Tabulka2[[#This Row],[Data]]<$G$51,Tabulka2[[#This Row],[Data]]>$G$52),1,0)))","v":""},{"$f":"IF(Tabulka2[[#This Row],[OL]]=\"\",\"\",IF(Tabulka2[[#This Row],[OL]]>0,A547,\"\"))","v":""},null,null,null,null,null,null,null,null,null,null,null,null,null,null,null,"",null,""]
[null,null,{"$f":"IF(Tabulka2[[#This Row],[Data]]=\"\",\"\",IF(OR(Tabulka2[[#This Row],[Data]]<$G$57,Tabulka2[[#This Row],[Data]]>$G$58),2,IF(OR(Tabulka2[[#This Row],[Data]]<$G$51,Tabulka2[[#This Row],[Data]]>$G$52),1,0)))","v":""},{"$f":"IF(Tabulka2[[#This Row],[OL]]=\"\",\"\",IF(Tabulka2[[#This Row],[OL]]>0,A548,\"\"))","v":""},null,null,null,null,null,null,null,null,null,null,null,null,null,null,null,"",null,""]
[null,null,{"$f":"IF(Tabulka2[[#This Row],[Data]]=\"\",\"\",IF(OR(Tabulka2[[#This Row],[Data]]<$G$57,Tabulka2[[#This Row],[Data]]>$G$58),2,IF(OR(Tabulka2[[#This Row],[Data]]<$G$51,Tabulka2[[#This Row],[Data]]>$G$52),1,0)))","v":""},{"$f":"IF(Tabulka2[[#This Row],[OL]]=\"\",\"\",IF(Tabulka2[[#This Row],[OL]]>0,A549,\"\"))","v":""},null,null,null,null,null,null,null,null,null,null,null,null,null,null,null,"",null,""]
[null,null,{"$f":"IF(Tabulka2[[#This Row],[Data]]=\"\",\"\",IF(OR(Tabulka2[[#This Row],[Data]]<$G$57,Tabulka2[[#This Row],[Data]]>$G$58),2,IF(OR(Tabulka2[[#This Row],[Data]]<$G$51,Tabulka2[[#This Row],[Data]]>$G$52),1,0)))","v":""},{"$f":"IF(Tabulka2[[#This Row],[OL]]=\"\",\"\",IF(Tabulka2[[#This Row],[OL]]>0,A550,\"\"))","v":""},null,null,null,null,null,null,null,null,null,null,null,null,null,null,null,"",null,""]
[null,null,{"$f":"IF(Tabulka2[[#This Row],[Data]]=\"\",\"\",IF(OR(Tabulka2[[#This Row],[Data]]<$G$57,Tabulka2[[#This Row],[Data]]>$G$58),2,IF(OR(Tabulka2[[#This Row],[Data]]<$G$51,Tabulka2[[#This Row],[Data]]>$G$52),1,0)))","v":""},{"$f":"IF(Tabulka2[[#This Row],[OL]]=\"\",\"\",IF(Tabulka2[[#This Row],[OL]]>0,A551,\"\"))","v":""},null,null,null,null,null,null,null,null,null,null,null,null,null,null,null,"",null,""]
[null,null,{"$f":"IF(Tabulka2[[#This Row],[Data]]=\"\",\"\",IF(OR(Tabulka2[[#This Row],[Data]]<$G$57,Tabulka2[[#This Row],[Data]]>$G$58),2,IF(OR(Tabulka2[[#This Row],[Data]]<$G$51,Tabulka2[[#This Row],[Data]]>$G$52),1,0)))","v":""},{"$f":"IF(Tabulka2[[#This Row],[OL]]=\"\",\"\",IF(Tabulka2[[#This Row],[OL]]>0,A552,\"\"))","v":""},null,null,null,null,null,null,null,null,null,null,null,null,null,null,null,"",null,""]
[null,null,{"$f":"IF(Tabulka2[[#This Row],[Data]]=\"\",\"\",IF(OR(Tabulka2[[#This Row],[Data]]<$G$57,Tabulka2[[#This Row],[Data]]>$G$58),2,IF(OR(Tabulka2[[#This Row],[Data]]<$G$51,Tabulka2[[#This Row],[Data]]>$G$52),1,0)))","v":""},{"$f":"IF(Tabulka2[[#This Row],[OL]]=\"\",\"\",IF(Tabulka2[[#This Row],[OL]]>0,A553,\"\"))","v":""},null,null,null,null,null,null,null,null,null,null,null,null,null,null,null,"",null,""]
[null,null,{"$f":"IF(Tabulka2[[#This Row],[Data]]=\"\",\"\",IF(OR(Tabulka2[[#This Row],[Data]]<$G$57,Tabulka2[[#This Row],[Data]]>$G$58),2,IF(OR(Tabulka2[[#This Row],[Data]]<$G$51,Tabulka2[[#This Row],[Data]]>$G$52),1,0)))","v":""},{"$f":"IF(Tabulka2[[#This Row],[OL]]=\"\",\"\",IF(Tabulka2[[#This Row],[OL]]>0,A554,\"\"))","v":""},null,null,null,null,null,null,null,null,null,null,null,null,null,null,null,"",null,""]
[null,null,{"$f":"IF(Tabulka2[[#This Row],[Data]]=\"\",\"\",IF(OR(Tabulka2[[#This Row],[Data]]<$G$57,Tabulka2[[#This Row],[Data]]>$G$58),2,IF(OR(Tabulka2[[#This Row],[Data]]<$G$51,Tabulka2[[#This Row],[Data]]>$G$52),1,0)))","v":""},{"$f":"IF(Tabulka2[[#This Row],[OL]]=\"\",\"\",IF(Tabulka2[[#This Row],[OL]]>0,A555,\"\"))","v":""},null,null,null,null,null,null,null,null,null,null,null,null,null,null,null,"",null,""]
[null,null,{"$f":"IF(Tabulka2[[#This Row],[Data]]=\"\",\"\",IF(OR(Tabulka2[[#This Row],[Data]]<$G$57,Tabulka2[[#This Row],[Data]]>$G$58),2,IF(OR(Tabulka2[[#This Row],[Data]]<$G$51,Tabulka2[[#This Row],[Data]]>$G$52),1,0)))","v":""},{"$f":"IF(Tabulka2[[#This Row],[OL]]=\"\",\"\",IF(Tabulka2[[#This Row],[OL]]>0,A556,\"\"))","v":""},null,null,null,null,null,null,null,null,null,null,null,null,null,null,null,"",null,""]
[null,null,{"$f":"IF(Tabulka2[[#This Row],[Data]]=\"\",\"\",IF(OR(Tabulka2[[#This Row],[Data]]<$G$57,Tabulka2[[#This Row],[Data]]>$G$58),2,IF(OR(Tabulka2[[#This Row],[Data]]<$G$51,Tabulka2[[#This Row],[Data]]>$G$52),1,0)))","v":""},{"$f":"IF(Tabulka2[[#This Row],[OL]]=\"\",\"\",IF(Tabulka2[[#This Row],[OL]]>0,A557,\"\"))","v":""},null,null,null,null,null,null,null,null,null,null,null,null,null,null,null,"",null,""]
[null,null,{"$f":"IF(Tabulka2[[#This Row],[Data]]=\"\",\"\",IF(OR(Tabulka2[[#This Row],[Data]]<$G$57,Tabulka2[[#This Row],[Data]]>$G$58),2,IF(OR(Tabulka2[[#This Row],[Data]]<$G$51,Tabulka2[[#This Row],[Data]]>$G$52),1,0)))","v":""},{"$f":"IF(Tabulka2[[#This Row],[OL]]=\"\",\"\",IF(Tabulka2[[#This Row],[OL]]>0,A558,\"\"))","v":""},null,null,null,null,null,null,null,null,null,null,null,null,null,null,null,"",null,""]
[null,null,{"$f":"IF(Tabulka2[[#This Row],[Data]]=\"\",\"\",IF(OR(Tabulka2[[#This Row],[Data]]<$G$57,Tabulka2[[#This Row],[Data]]>$G$58),2,IF(OR(Tabulka2[[#This Row],[Data]]<$G$51,Tabulka2[[#This Row],[Data]]>$G$52),1,0)))","v":""},{"$f":"IF(Tabulka2[[#This Row],[OL]]=\"\",\"\",IF(Tabulka2[[#This Row],[OL]]>0,A559,\"\"))","v":""},null,null,null,null,null,null,null,null,null,null,null,null,null,null,null,"",null,""]
[null,null,{"$f":"IF(Tabulka2[[#This Row],[Data]]=\"\",\"\",IF(OR(Tabulka2[[#This Row],[Data]]<$G$57,Tabulka2[[#This Row],[Data]]>$G$58),2,IF(OR(Tabulka2[[#This Row],[Data]]<$G$51,Tabulka2[[#This Row],[Data]]>$G$52),1,0)))","v":""},{"$f":"IF(Tabulka2[[#This Row],[OL]]=\"\",\"\",IF(Tabulka2[[#This Row],[OL]]>0,A560,\"\"))","v":""},null,null,null,null,null,null,null,null,null,null,null,null,null,null,null,"",null,""]
[null,null,{"$f":"IF(Tabulka2[[#This Row],[Data]]=\"\",\"\",IF(OR(Tabulka2[[#This Row],[Data]]<$G$57,Tabulka2[[#This Row],[Data]]>$G$58),2,IF(OR(Tabulka2[[#This Row],[Data]]<$G$51,Tabulka2[[#This Row],[Data]]>$G$52),1,0)))","v":""},{"$f":"IF(Tabulka2[[#This Row],[OL]]=\"\",\"\",IF(Tabulka2[[#This Row],[OL]]>0,A561,\"\"))","v":""},null,null,null,null,null,null,null,null,null,null,null,null,null,null,null,"",null,""]
[null,null,{"$f":"IF(Tabulka2[[#This Row],[Data]]=\"\",\"\",IF(OR(Tabulka2[[#This Row],[Data]]<$G$57,Tabulka2[[#This Row],[Data]]>$G$58),2,IF(OR(Tabulka2[[#This Row],[Data]]<$G$51,Tabulka2[[#This Row],[Data]]>$G$52),1,0)))","v":""},{"$f":"IF(Tabulka2[[#This Row],[OL]]=\"\",\"\",IF(Tabulka2[[#This Row],[OL]]>0,A562,\"\"))","v":""},null,null,null,null,null,null,null,null,null,null,null,null,null,null,null,"",null,""]
[null,null,{"$f":"IF(Tabulka2[[#This Row],[Data]]=\"\",\"\",IF(OR(Tabulka2[[#This Row],[Data]]<$G$57,Tabulka2[[#This Row],[Data]]>$G$58),2,IF(OR(Tabulka2[[#This Row],[Data]]<$G$51,Tabulka2[[#This Row],[Data]]>$G$52),1,0)))","v":""},{"$f":"IF(Tabulka2[[#This Row],[OL]]=\"\",\"\",IF(Tabulka2[[#This Row],[OL]]>0,A563,\"\"))","v":""},null,null,null,null,null,null,null,null,null,null,null,null,null,null,null,"",null,""]
[null,null,{"$f":"IF(Tabulka2[[#This Row],[Data]]=\"\",\"\",IF(OR(Tabulka2[[#This Row],[Data]]<$G$57,Tabulka2[[#This Row],[Data]]>$G$58),2,IF(OR(Tabulka2[[#This Row],[Data]]<$G$51,Tabulka2[[#This Row],[Data]]>$G$52),1,0)))","v":""},{"$f":"IF(Tabulka2[[#This Row],[OL]]=\"\",\"\",IF(Tabulka2[[#This Row],[OL]]>0,A564,\"\"))","v":""},null,null,null,null,null,null,null,null,null,null,null,null,null,null,null,"",null,""]
[null,null,{"$f":"IF(Tabulka2[[#This Row],[Data]]=\"\",\"\",IF(OR(Tabulka2[[#This Row],[Data]]<$G$57,Tabulka2[[#This Row],[Data]]>$G$58),2,IF(OR(Tabulka2[[#This Row],[Data]]<$G$51,Tabulka2[[#This Row],[Data]]>$G$52),1,0)))","v":""},{"$f":"IF(Tabulka2[[#This Row],[OL]]=\"\",\"\",IF(Tabulka2[[#This Row],[OL]]>0,A565,\"\"))","v":""},null,null,null,null,null,null,null,null,null,null,null,null,null,null,null,"",null,""]
[null,null,{"$f":"IF(Tabulka2[[#This Row],[Data]]=\"\",\"\",IF(OR(Tabulka2[[#This Row],[Data]]<$G$57,Tabulka2[[#This Row],[Data]]>$G$58),2,IF(OR(Tabulka2[[#This Row],[Data]]<$G$51,Tabulka2[[#This Row],[Data]]>$G$52),1,0)))","v":""},{"$f":"IF(Tabulka2[[#This Row],[OL]]=\"\",\"\",IF(Tabulka2[[#This Row],[OL]]>0,A566,\"\"))","v":""},null,null,null,null,null,null,null,null,null,null,null,null,null,null,null,"",null,""]
[null,null,{"$f":"IF(Tabulka2[[#This Row],[Data]]=\"\",\"\",IF(OR(Tabulka2[[#This Row],[Data]]<$G$57,Tabulka2[[#This Row],[Data]]>$G$58),2,IF(OR(Tabulka2[[#This Row],[Data]]<$G$51,Tabulka2[[#This Row],[Data]]>$G$52),1,0)))","v":""},{"$f":"IF(Tabulka2[[#This Row],[OL]]=\"\",\"\",IF(Tabulka2[[#This Row],[OL]]>0,A567,\"\"))","v":""},null,null,null,null,null,null,null,null,null,null,null,null,null,null,null,"",null,""]
[null,null,{"$f":"IF(Tabulka2[[#This Row],[Data]]=\"\",\"\",IF(OR(Tabulka2[[#This Row],[Data]]<$G$57,Tabulka2[[#This Row],[Data]]>$G$58),2,IF(OR(Tabulka2[[#This Row],[Data]]<$G$51,Tabulka2[[#This Row],[Data]]>$G$52),1,0)))","v":""},{"$f":"IF(Tabulka2[[#This Row],[OL]]=\"\",\"\",IF(Tabulka2[[#This Row],[OL]]>0,A568,\"\"))","v":""},null,null,null,null,null,null,null,null,null,null,null,null,null,null,null,"",null,""]
[null,null,{"$f":"IF(Tabulka2[[#This Row],[Data]]=\"\",\"\",IF(OR(Tabulka2[[#This Row],[Data]]<$G$57,Tabulka2[[#This Row],[Data]]>$G$58),2,IF(OR(Tabulka2[[#This Row],[Data]]<$G$51,Tabulka2[[#This Row],[Data]]>$G$52),1,0)))","v":""},{"$f":"IF(Tabulka2[[#This Row],[OL]]=\"\",\"\",IF(Tabulka2[[#This Row],[OL]]>0,A569,\"\"))","v":""},null,null,null,null,null,null,null,null,null,null,null,null,null,null,null,"",null,""]
[null,null,{"$f":"IF(Tabulka2[[#This Row],[Data]]=\"\",\"\",IF(OR(Tabulka2[[#This Row],[Data]]<$G$57,Tabulka2[[#This Row],[Data]]>$G$58),2,IF(OR(Tabulka2[[#This Row],[Data]]<$G$51,Tabulka2[[#This Row],[Data]]>$G$52),1,0)))","v":""},{"$f":"IF(Tabulka2[[#This Row],[OL]]=\"\",\"\",IF(Tabulka2[[#This Row],[OL]]>0,A570,\"\"))","v":""},null,null,null,null,null,null,null,null,null,null,null,null,null,null,null,"",null,""]
[null,null,{"$f":"IF(Tabulka2[[#This Row],[Data]]=\"\",\"\",IF(OR(Tabulka2[[#This Row],[Data]]<$G$57,Tabulka2[[#This Row],[Data]]>$G$58),2,IF(OR(Tabulka2[[#This Row],[Data]]<$G$51,Tabulka2[[#This Row],[Data]]>$G$52),1,0)))","v":""},{"$f":"IF(Tabulka2[[#This Row],[OL]]=\"\",\"\",IF(Tabulka2[[#This Row],[OL]]>0,A571,\"\"))","v":""},null,null,null,null,null,null,null,null,null,null,null,null,null,null,null,"",null,""]
[null,null,{"$f":"IF(Tabulka2[[#This Row],[Data]]=\"\",\"\",IF(OR(Tabulka2[[#This Row],[Data]]<$G$57,Tabulka2[[#This Row],[Data]]>$G$58),2,IF(OR(Tabulka2[[#This Row],[Data]]<$G$51,Tabulka2[[#This Row],[Data]]>$G$52),1,0)))","v":""},{"$f":"IF(Tabulka2[[#This Row],[OL]]=\"\",\"\",IF(Tabulka2[[#This Row],[OL]]>0,A572,\"\"))","v":""},null,null,null,null,null,null,null,null,null,null,null,null,null,null,null,"",null,""]
[null,null,{"$f":"IF(Tabulka2[[#This Row],[Data]]=\"\",\"\",IF(OR(Tabulka2[[#This Row],[Data]]<$G$57,Tabulka2[[#This Row],[Data]]>$G$58),2,IF(OR(Tabulka2[[#This Row],[Data]]<$G$51,Tabulka2[[#This Row],[Data]]>$G$52),1,0)))","v":""},{"$f":"IF(Tabulka2[[#This Row],[OL]]=\"\",\"\",IF(Tabulka2[[#This Row],[OL]]>0,A573,\"\"))","v":""},null,null,null,null,null,null,null,null,null,null,null,null,null,null,null,"",null,""]
[null,null,{"$f":"IF(Tabulka2[[#This Row],[Data]]=\"\",\"\",IF(OR(Tabulka2[[#This Row],[Data]]<$G$57,Tabulka2[[#This Row],[Data]]>$G$58),2,IF(OR(Tabulka2[[#This Row],[Data]]<$G$51,Tabulka2[[#This Row],[Data]]>$G$52),1,0)))","v":""},{"$f":"IF(Tabulka2[[#This Row],[OL]]=\"\",\"\",IF(Tabulka2[[#This Row],[OL]]>0,A574,\"\"))","v":""},null,null,null,null,null,null,null,null,null,null,null,null,null,null,null,"",null,""]
[null,null,{"$f":"IF(Tabulka2[[#This Row],[Data]]=\"\",\"\",IF(OR(Tabulka2[[#This Row],[Data]]<$G$57,Tabulka2[[#This Row],[Data]]>$G$58),2,IF(OR(Tabulka2[[#This Row],[Data]]<$G$51,Tabulka2[[#This Row],[Data]]>$G$52),1,0)))","v":""},{"$f":"IF(Tabulka2[[#This Row],[OL]]=\"\",\"\",IF(Tabulka2[[#This Row],[OL]]>0,A575,\"\"))","v":""},null,null,null,null,null,null,null,null,null,null,null,null,null,null,null,"",null,""]
[null,null,{"$f":"IF(Tabulka2[[#This Row],[Data]]=\"\",\"\",IF(OR(Tabulka2[[#This Row],[Data]]<$G$57,Tabulka2[[#This Row],[Data]]>$G$58),2,IF(OR(Tabulka2[[#This Row],[Data]]<$G$51,Tabulka2[[#This Row],[Data]]>$G$52),1,0)))","v":""},{"$f":"IF(Tabulka2[[#This Row],[OL]]=\"\",\"\",IF(Tabulka2[[#This Row],[OL]]>0,A576,\"\"))","v":""},null,null,null,null,null,null,null,null,null,null,null,null,null,null,null,"",null,""]
[null,null,{"$f":"IF(Tabulka2[[#This Row],[Data]]=\"\",\"\",IF(OR(Tabulka2[[#This Row],[Data]]<$G$57,Tabulka2[[#This Row],[Data]]>$G$58),2,IF(OR(Tabulka2[[#This Row],[Data]]<$G$51,Tabulka2[[#This Row],[Data]]>$G$52),1,0)))","v":""},{"$f":"IF(Tabulka2[[#This Row],[OL]]=\"\",\"\",IF(Tabulka2[[#This Row],[OL]]>0,A577,\"\"))","v":""},null,null,null,null,null,null,null,null,null,null,null,null,null,null,null,"",null,""]
[null,null,{"$f":"IF(Tabulka2[[#This Row],[Data]]=\"\",\"\",IF(OR(Tabulka2[[#This Row],[Data]]<$G$57,Tabulka2[[#This Row],[Data]]>$G$58),2,IF(OR(Tabulka2[[#This Row],[Data]]<$G$51,Tabulka2[[#This Row],[Data]]>$G$52),1,0)))","v":""},{"$f":"IF(Tabulka2[[#This Row],[OL]]=\"\",\"\",IF(Tabulka2[[#This Row],[OL]]>0,A578,\"\"))","v":""},null,null,null,null,null,null,null,null,null,null,null,null,null,null,null,"",null,""]
[null,null,{"$f":"IF(Tabulka2[[#This Row],[Data]]=\"\",\"\",IF(OR(Tabulka2[[#This Row],[Data]]<$G$57,Tabulka2[[#This Row],[Data]]>$G$58),2,IF(OR(Tabulka2[[#This Row],[Data]]<$G$51,Tabulka2[[#This Row],[Data]]>$G$52),1,0)))","v":""},{"$f":"IF(Tabulka2[[#This Row],[OL]]=\"\",\"\",IF(Tabulka2[[#This Row],[OL]]>0,A579,\"\"))","v":""},null,null,null,null,null,null,null,null,null,null,null,null,null,null,null,"",null,""]
[null,null,{"$f":"IF(Tabulka2[[#This Row],[Data]]=\"\",\"\",IF(OR(Tabulka2[[#This Row],[Data]]<$G$57,Tabulka2[[#This Row],[Data]]>$G$58),2,IF(OR(Tabulka2[[#This Row],[Data]]<$G$51,Tabulka2[[#This Row],[Data]]>$G$52),1,0)))","v":""},{"$f":"IF(Tabulka2[[#This Row],[OL]]=\"\",\"\",IF(Tabulka2[[#This Row],[OL]]>0,A580,\"\"))","v":""},null,null,null,null,null,null,null,null,null,null,null,null,null,null,null,"",null,""]
[null,null,{"$f":"IF(Tabulka2[[#This Row],[Data]]=\"\",\"\",IF(OR(Tabulka2[[#This Row],[Data]]<$G$57,Tabulka2[[#This Row],[Data]]>$G$58),2,IF(OR(Tabulka2[[#This Row],[Data]]<$G$51,Tabulka2[[#This Row],[Data]]>$G$52),1,0)))","v":""},{"$f":"IF(Tabulka2[[#This Row],[OL]]=\"\",\"\",IF(Tabulka2[[#This Row],[OL]]>0,A581,\"\"))","v":""},null,null,null,null,null,null,null,null,null,null,null,null,null,null,null,"",null,""]
[null,null,{"$f":"IF(Tabulka2[[#This Row],[Data]]=\"\",\"\",IF(OR(Tabulka2[[#This Row],[Data]]<$G$57,Tabulka2[[#This Row],[Data]]>$G$58),2,IF(OR(Tabulka2[[#This Row],[Data]]<$G$51,Tabulka2[[#This Row],[Data]]>$G$52),1,0)))","v":""},{"$f":"IF(Tabulka2[[#This Row],[OL]]=\"\",\"\",IF(Tabulka2[[#This Row],[OL]]>0,A582,\"\"))","v":""},null,null,null,null,null,null,null,null,null,null,null,null,null,null,null,"",null,""]
[null,null,{"$f":"IF(Tabulka2[[#This Row],[Data]]=\"\",\"\",IF(OR(Tabulka2[[#This Row],[Data]]<$G$57,Tabulka2[[#This Row],[Data]]>$G$58),2,IF(OR(Tabulka2[[#This Row],[Data]]<$G$51,Tabulka2[[#This Row],[Data]]>$G$52),1,0)))","v":""},{"$f":"IF(Tabulka2[[#This Row],[OL]]=\"\",\"\",IF(Tabulka2[[#This Row],[OL]]>0,A583,\"\"))","v":""},null,null,null,null,null,null,null,null,null,null,null,null,null,null,null,"",null,""]
[null,null,{"$f":"IF(Tabulka2[[#This Row],[Data]]=\"\",\"\",IF(OR(Tabulka2[[#This Row],[Data]]<$G$57,Tabulka2[[#This Row],[Data]]>$G$58),2,IF(OR(Tabulka2[[#This Row],[Data]]<$G$51,Tabulka2[[#This Row],[Data]]>$G$52),1,0)))","v":""},{"$f":"IF(Tabulka2[[#This Row],[OL]]=\"\",\"\",IF(Tabulka2[[#This Row],[OL]]>0,A584,\"\"))","v":""},null,null,null,null,null,null,null,null,null,null,null,null,null,null,null,"",null,""]
[null,null,{"$f":"IF(Tabulka2[[#This Row],[Data]]=\"\",\"\",IF(OR(Tabulka2[[#This Row],[Data]]<$G$57,Tabulka2[[#This Row],[Data]]>$G$58),2,IF(OR(Tabulka2[[#This Row],[Data]]<$G$51,Tabulka2[[#This Row],[Data]]>$G$52),1,0)))","v":""},{"$f":"IF(Tabulka2[[#This Row],[OL]]=\"\",\"\",IF(Tabulka2[[#This Row],[OL]]>0,A585,\"\"))","v":""},null,null,null,null,null,null,null,null,null,null,null,null,null,null,null,"",null,""]
[null,null,{"$f":"IF(Tabulka2[[#This Row],[Data]]=\"\",\"\",IF(OR(Tabulka2[[#This Row],[Data]]<$G$57,Tabulka2[[#This Row],[Data]]>$G$58),2,IF(OR(Tabulka2[[#This Row],[Data]]<$G$51,Tabulka2[[#This Row],[Data]]>$G$52),1,0)))","v":""},{"$f":"IF(Tabulka2[[#This Row],[OL]]=\"\",\"\",IF(Tabulka2[[#This Row],[OL]]>0,A586,\"\"))","v":""},null,null,null,null,null,null,null,null,null,null,null,null,null,null,null,"",null,""]
[null,null,{"$f":"IF(Tabulka2[[#This Row],[Data]]=\"\",\"\",IF(OR(Tabulka2[[#This Row],[Data]]<$G$57,Tabulka2[[#This Row],[Data]]>$G$58),2,IF(OR(Tabulka2[[#This Row],[Data]]<$G$51,Tabulka2[[#This Row],[Data]]>$G$52),1,0)))","v":""},{"$f":"IF(Tabulka2[[#This Row],[OL]]=\"\",\"\",IF(Tabulka2[[#This Row],[OL]]>0,A587,\"\"))","v":""},null,null,null,null,null,null,null,null,null,null,null,null,null,null,null,"",null,""]
[null,null,{"$f":"IF(Tabulka2[[#This Row],[Data]]=\"\",\"\",IF(OR(Tabulka2[[#This Row],[Data]]<$G$57,Tabulka2[[#This Row],[Data]]>$G$58),2,IF(OR(Tabulka2[[#This Row],[Data]]<$G$51,Tabulka2[[#This Row],[Data]]>$G$52),1,0)))","v":""},{"$f":"IF(Tabulka2[[#This Row],[OL]]=\"\",\"\",IF(Tabulka2[[#This Row],[OL]]>0,A588,\"\"))","v":""},null,null,null,null,null,null,null,null,null,null,null,null,null,null,null,"",null,""]
[null,null,{"$f":"IF(Tabulka2[[#This Row],[Data]]=\"\",\"\",IF(OR(Tabulka2[[#This Row],[Data]]<$G$57,Tabulka2[[#This Row],[Data]]>$G$58),2,IF(OR(Tabulka2[[#This Row],[Data]]<$G$51,Tabulka2[[#This Row],[Data]]>$G$52),1,0)))","v":""},{"$f":"IF(Tabulka2[[#This Row],[OL]]=\"\",\"\",IF(Tabulka2[[#This Row],[OL]]>0,A589,\"\"))","v":""},null,null,null,null,null,null,null,null,null,null,null,null,null,null,null,"",null,""]
[null,null,{"$f":"IF(Tabulka2[[#This Row],[Data]]=\"\",\"\",IF(OR(Tabulka2[[#This Row],[Data]]<$G$57,Tabulka2[[#This Row],[Data]]>$G$58),2,IF(OR(Tabulka2[[#This Row],[Data]]<$G$51,Tabulka2[[#This Row],[Data]]>$G$52),1,0)))","v":""},{"$f":"IF(Tabulka2[[#This Row],[OL]]=\"\",\"\",IF(Tabulka2[[#This Row],[OL]]>0,A590,\"\"))","v":""},null,null,null,null,null,null,null,null,null,null,null,null,null,null,null,"",null,""]
[null,null,{"$f":"IF(Tabulka2[[#This Row],[Data]]=\"\",\"\",IF(OR(Tabulka2[[#This Row],[Data]]<$G$57,Tabulka2[[#This Row],[Data]]>$G$58),2,IF(OR(Tabulka2[[#This Row],[Data]]<$G$51,Tabulka2[[#This Row],[Data]]>$G$52),1,0)))","v":""},{"$f":"IF(Tabulka2[[#This Row],[OL]]=\"\",\"\",IF(Tabulka2[[#This Row],[OL]]>0,A591,\"\"))","v":""},null,null,null,null,null,null,null,null,null,null,null,null,null,null,null,"",null,""]
[null,null,{"$f":"IF(Tabulka2[[#This Row],[Data]]=\"\",\"\",IF(OR(Tabulka2[[#This Row],[Data]]<$G$57,Tabulka2[[#This Row],[Data]]>$G$58),2,IF(OR(Tabulka2[[#This Row],[Data]]<$G$51,Tabulka2[[#This Row],[Data]]>$G$52),1,0)))","v":""},{"$f":"IF(Tabulka2[[#This Row],[OL]]=\"\",\"\",IF(Tabulka2[[#This Row],[OL]]>0,A592,\"\"))","v":""},null,null,null,null,null,null,null,null,null,null,null,null,null,null,null,"",null,""]
[null,null,{"$f":"IF(Tabulka2[[#This Row],[Data]]=\"\",\"\",IF(OR(Tabulka2[[#This Row],[Data]]<$G$57,Tabulka2[[#This Row],[Data]]>$G$58),2,IF(OR(Tabulka2[[#This Row],[Data]]<$G$51,Tabulka2[[#This Row],[Data]]>$G$52),1,0)))","v":""},{"$f":"IF(Tabulka2[[#This Row],[OL]]=\"\",\"\",IF(Tabulka2[[#This Row],[OL]]>0,A593,\"\"))","v":""},null,null,null,null,null,null,null,null,null,null,null,null,null,null,null,"",null,""]
[null,null,{"$f":"IF(Tabulka2[[#This Row],[Data]]=\"\",\"\",IF(OR(Tabulka2[[#This Row],[Data]]<$G$57,Tabulka2[[#This Row],[Data]]>$G$58),2,IF(OR(Tabulka2[[#This Row],[Data]]<$G$51,Tabulka2[[#This Row],[Data]]>$G$52),1,0)))","v":""},{"$f":"IF(Tabulka2[[#This Row],[OL]]=\"\",\"\",IF(Tabulka2[[#This Row],[OL]]>0,A594,\"\"))","v":""},null,null,null,null,null,null,null,null,null,null,null,null,null,null,null,"",null,""]
[null,null,{"$f":"IF(Tabulka2[[#This Row],[Data]]=\"\",\"\",IF(OR(Tabulka2[[#This Row],[Data]]<$G$57,Tabulka2[[#This Row],[Data]]>$G$58),2,IF(OR(Tabulka2[[#This Row],[Data]]<$G$51,Tabulka2[[#This Row],[Data]]>$G$52),1,0)))","v":""},{"$f":"IF(Tabulka2[[#This Row],[OL]]=\"\",\"\",IF(Tabulka2[[#This Row],[OL]]>0,A595,\"\"))","v":""},null,null,null,null,null,null,null,null,null,null,null,null,null,null,null,"",null,""]
[null,null,{"$f":"IF(Tabulka2[[#This Row],[Data]]=\"\",\"\",IF(OR(Tabulka2[[#This Row],[Data]]<$G$57,Tabulka2[[#This Row],[Data]]>$G$58),2,IF(OR(Tabulka2[[#This Row],[Data]]<$G$51,Tabulka2[[#This Row],[Data]]>$G$52),1,0)))","v":""},{"$f":"IF(Tabulka2[[#This Row],[OL]]=\"\",\"\",IF(Tabulka2[[#This Row],[OL]]>0,A596,\"\"))","v":""},null,null,null,null,null,null,null,null,null,null,null,null,null,null,null,"",null,""]
[null,null,{"$f":"IF(Tabulka2[[#This Row],[Data]]=\"\",\"\",IF(OR(Tabulka2[[#This Row],[Data]]<$G$57,Tabulka2[[#This Row],[Data]]>$G$58),2,IF(OR(Tabulka2[[#This Row],[Data]]<$G$51,Tabulka2[[#This Row],[Data]]>$G$52),1,0)))","v":""},{"$f":"IF(Tabulka2[[#This Row],[OL]]=\"\",\"\",IF(Tabulka2[[#This Row],[OL]]>0,A597,\"\"))","v":""},null,null,null,null,null,null,null,null,null,null,null,null,null,null,null,"",null,""]
[null,null,{"$f":"IF(Tabulka2[[#This Row],[Data]]=\"\",\"\",IF(OR(Tabulka2[[#This Row],[Data]]<$G$57,Tabulka2[[#This Row],[Data]]>$G$58),2,IF(OR(Tabulka2[[#This Row],[Data]]<$G$51,Tabulka2[[#This Row],[Data]]>$G$52),1,0)))","v":""},{"$f":"IF(Tabulka2[[#This Row],[OL]]=\"\",\"\",IF(Tabulka2[[#This Row],[OL]]>0,A598,\"\"))","v":""},null,null,null,null,null,null,null,null,null,null,null,null,null,null,null,"",null,""]
[null,null,{"$f":"IF(Tabulka2[[#This Row],[Data]]=\"\",\"\",IF(OR(Tabulka2[[#This Row],[Data]]<$G$57,Tabulka2[[#This Row],[Data]]>$G$58),2,IF(OR(Tabulka2[[#This Row],[Data]]<$G$51,Tabulka2[[#This Row],[Data]]>$G$52),1,0)))","v":""},{"$f":"IF(Tabulka2[[#This Row],[OL]]=\"\",\"\",IF(Tabulka2[[#This Row],[OL]]>0,A599,\"\"))","v":""},null,null,null,null,null,null,null,null,null,null,null,null,null,null,null,"",null,""]
[null,null,{"$f":"IF(Tabulka2[[#This Row],[Data]]=\"\",\"\",IF(OR(Tabulka2[[#This Row],[Data]]<$G$57,Tabulka2[[#This Row],[Data]]>$G$58),2,IF(OR(Tabulka2[[#This Row],[Data]]<$G$51,Tabulka2[[#This Row],[Data]]>$G$52),1,0)))","v":""},{"$f":"IF(Tabulka2[[#This Row],[OL]]=\"\",\"\",IF(Tabulka2[[#This Row],[OL]]>0,A600,\"\"))","v":""},null,null,null,null,null,null,null,null,null,null,null,null,null,null,null,"",null,""]
[null,null,{"$f":"IF(Tabulka2[[#This Row],[Data]]=\"\",\"\",IF(OR(Tabulka2[[#This Row],[Data]]<$G$57,Tabulka2[[#This Row],[Data]]>$G$58),2,IF(OR(Tabulka2[[#This Row],[Data]]<$G$51,Tabulka2[[#This Row],[Data]]>$G$52),1,0)))","v":""},{"$f":"IF(Tabulka2[[#This Row],[OL]]=\"\",\"\",IF(Tabulka2[[#This Row],[OL]]>0,A601,\"\"))","v":""},null,null,null,null,null,null,null,null,null,null,null,null,null,null,null,"",null,""]
[null,null,{"$f":"IF(Tabulka2[[#This Row],[Data]]=\"\",\"\",IF(OR(Tabulka2[[#This Row],[Data]]<$G$57,Tabulka2[[#This Row],[Data]]>$G$58),2,IF(OR(Tabulka2[[#This Row],[Data]]<$G$51,Tabulka2[[#This Row],[Data]]>$G$52),1,0)))","v":""},{"$f":"IF(Tabulka2[[#This Row],[OL]]=\"\",\"\",IF(Tabulka2[[#This Row],[OL]]>0,A602,\"\"))","v":""},null,null,null,null,null,null,null,null,null,null,null,null,null,null,null,"",null,""]
[null,null,{"$f":"IF(Tabulka2[[#This Row],[Data]]=\"\",\"\",IF(OR(Tabulka2[[#This Row],[Data]]<$G$57,Tabulka2[[#This Row],[Data]]>$G$58),2,IF(OR(Tabulka2[[#This Row],[Data]]<$G$51,Tabulka2[[#This Row],[Data]]>$G$52),1,0)))","v":""},{"$f":"IF(Tabulka2[[#This Row],[OL]]=\"\",\"\",IF(Tabulka2[[#This Row],[OL]]>0,A603,\"\"))","v":""},null,null,null,null,null,null,null,null,null,null,null,null,null,null,null,"",null,""]
[null,null,{"$f":"IF(Tabulka2[[#This Row],[Data]]=\"\",\"\",IF(OR(Tabulka2[[#This Row],[Data]]<$G$57,Tabulka2[[#This Row],[Data]]>$G$58),2,IF(OR(Tabulka2[[#This Row],[Data]]<$G$51,Tabulka2[[#This Row],[Data]]>$G$52),1,0)))","v":""},{"$f":"IF(Tabulka2[[#This Row],[OL]]=\"\",\"\",IF(Tabulka2[[#This Row],[OL]]>0,A604,\"\"))","v":""},null,null,null,null,null,null,null,null,null,null,null,null,null,null,null,"",null,""]
[null,null,{"$f":"IF(Tabulka2[[#This Row],[Data]]=\"\",\"\",IF(OR(Tabulka2[[#This Row],[Data]]<$G$57,Tabulka2[[#This Row],[Data]]>$G$58),2,IF(OR(Tabulka2[[#This Row],[Data]]<$G$51,Tabulka2[[#This Row],[Data]]>$G$52),1,0)))","v":""},{"$f":"IF(Tabulka2[[#This Row],[OL]]=\"\",\"\",IF(Tabulka2[[#This Row],[OL]]>0,A605,\"\"))","v":""},null,null,null,null,null,null,null,null,null,null,null,null,null,null,null,"",null,""]
[null,null,{"$f":"IF(Tabulka2[[#This Row],[Data]]=\"\",\"\",IF(OR(Tabulka2[[#This Row],[Data]]<$G$57,Tabulka2[[#This Row],[Data]]>$G$58),2,IF(OR(Tabulka2[[#This Row],[Data]]<$G$51,Tabulka2[[#This Row],[Data]]>$G$52),1,0)))","v":""},{"$f":"IF(Tabulka2[[#This Row],[OL]]=\"\",\"\",IF(Tabulka2[[#This Row],[OL]]>0,A606,\"\"))","v":""},null,null,null,null,null,null,null,null,null,null,null,null,null,null,null,"",null,""]
[null,null,{"$f":"IF(Tabulka2[[#This Row],[Data]]=\"\",\"\",IF(OR(Tabulka2[[#This Row],[Data]]<$G$57,Tabulka2[[#This Row],[Data]]>$G$58),2,IF(OR(Tabulka2[[#This Row],[Data]]<$G$51,Tabulka2[[#This Row],[Data]]>$G$52),1,0)))","v":""},{"$f":"IF(Tabulka2[[#This Row],[OL]]=\"\",\"\",IF(Tabulka2[[#This Row],[OL]]>0,A607,\"\"))","v":""},null,null,null,null,null,null,null,null,null,null,null,null,null,null,null,"",null,""]
[null,null,{"$f":"IF(Tabulka2[[#This Row],[Data]]=\"\",\"\",IF(OR(Tabulka2[[#This Row],[Data]]<$G$57,Tabulka2[[#This Row],[Data]]>$G$58),2,IF(OR(Tabulka2[[#This Row],[Data]]<$G$51,Tabulka2[[#This Row],[Data]]>$G$52),1,0)))","v":""},{"$f":"IF(Tabulka2[[#This Row],[OL]]=\"\",\"\",IF(Tabulka2[[#This Row],[OL]]>0,A608,\"\"))","v":""},null,null,null,null,null,null,null,null,null,null,null,null,null,null,null,"",null,""]
[null,null,{"$f":"IF(Tabulka2[[#This Row],[Data]]=\"\",\"\",IF(OR(Tabulka2[[#This Row],[Data]]<$G$57,Tabulka2[[#This Row],[Data]]>$G$58),2,IF(OR(Tabulka2[[#This Row],[Data]]<$G$51,Tabulka2[[#This Row],[Data]]>$G$52),1,0)))","v":""},{"$f":"IF(Tabulka2[[#This Row],[OL]]=\"\",\"\",IF(Tabulka2[[#This Row],[OL]]>0,A609,\"\"))","v":""},null,null,null,null,null,null,null,null,null,null,null,null,null,null,null,"",null,""]
[null,null,{"$f":"IF(Tabulka2[[#This Row],[Data]]=\"\",\"\",IF(OR(Tabulka2[[#This Row],[Data]]<$G$57,Tabulka2[[#This Row],[Data]]>$G$58),2,IF(OR(Tabulka2[[#This Row],[Data]]<$G$51,Tabulka2[[#This Row],[Data]]>$G$52),1,0)))","v":""},{"$f":"IF(Tabulka2[[#This Row],[OL]]=\"\",\"\",IF(Tabulka2[[#This Row],[OL]]>0,A610,\"\"))","v":""},null,null,null,null,null,null,null,null,null,null,null,null,null,null,null,"",null,""]
[null,null,{"$f":"IF(Tabulka2[[#This Row],[Data]]=\"\",\"\",IF(OR(Tabulka2[[#This Row],[Data]]<$G$57,Tabulka2[[#This Row],[Data]]>$G$58),2,IF(OR(Tabulka2[[#This Row],[Data]]<$G$51,Tabulka2[[#This Row],[Data]]>$G$52),1,0)))","v":""},{"$f":"IF(Tabulka2[[#This Row],[OL]]=\"\",\"\",IF(Tabulka2[[#This Row],[OL]]>0,A611,\"\"))","v":""},null,null,null,null,null,null,null,null,null,null,null,null,null,null,null,"",null,""]
[null,null,{"$f":"IF(Tabulka2[[#This Row],[Data]]=\"\",\"\",IF(OR(Tabulka2[[#This Row],[Data]]<$G$57,Tabulka2[[#This Row],[Data]]>$G$58),2,IF(OR(Tabulka2[[#This Row],[Data]]<$G$51,Tabulka2[[#This Row],[Data]]>$G$52),1,0)))","v":""},{"$f":"IF(Tabulka2[[#This Row],[OL]]=\"\",\"\",IF(Tabulka2[[#This Row],[OL]]>0,A612,\"\"))","v":""},null,null,null,null,null,null,null,null,null,null,null,null,null,null,null,"",null,""]
[null,null,{"$f":"IF(Tabulka2[[#This Row],[Data]]=\"\",\"\",IF(OR(Tabulka2[[#This Row],[Data]]<$G$57,Tabulka2[[#This Row],[Data]]>$G$58),2,IF(OR(Tabulka2[[#This Row],[Data]]<$G$51,Tabulka2[[#This Row],[Data]]>$G$52),1,0)))","v":""},{"$f":"IF(Tabulka2[[#This Row],[OL]]=\"\",\"\",IF(Tabulka2[[#This Row],[OL]]>0,A613,\"\"))","v":""},null,null,null,null,null,null,null,null,null,null,null,null,null,null,null,"",null,""]
[null,null,{"$f":"IF(Tabulka2[[#This Row],[Data]]=\"\",\"\",IF(OR(Tabulka2[[#This Row],[Data]]<$G$57,Tabulka2[[#This Row],[Data]]>$G$58),2,IF(OR(Tabulka2[[#This Row],[Data]]<$G$51,Tabulka2[[#This Row],[Data]]>$G$52),1,0)))","v":""},{"$f":"IF(Tabulka2[[#This Row],[OL]]=\"\",\"\",IF(Tabulka2[[#This Row],[OL]]>0,A614,\"\"))","v":""},null,null,null,null,null,null,null,null,null,null,null,null,null,null,null,"",null,""]
[null,null,{"$f":"IF(Tabulka2[[#This Row],[Data]]=\"\",\"\",IF(OR(Tabulka2[[#This Row],[Data]]<$G$57,Tabulka2[[#This Row],[Data]]>$G$58),2,IF(OR(Tabulka2[[#This Row],[Data]]<$G$51,Tabulka2[[#This Row],[Data]]>$G$52),1,0)))","v":""},{"$f":"IF(Tabulka2[[#This Row],[OL]]=\"\",\"\",IF(Tabulka2[[#This Row],[OL]]>0,A615,\"\"))","v":""},null,null,null,null,null,null,null,null,null,null,null,null,null,null,null,"",null,""]
[null,null,{"$f":"IF(Tabulka2[[#This Row],[Data]]=\"\",\"\",IF(OR(Tabulka2[[#This Row],[Data]]<$G$57,Tabulka2[[#This Row],[Data]]>$G$58),2,IF(OR(Tabulka2[[#This Row],[Data]]<$G$51,Tabulka2[[#This Row],[Data]]>$G$52),1,0)))","v":""},{"$f":"IF(Tabulka2[[#This Row],[OL]]=\"\",\"\",IF(Tabulka2[[#This Row],[OL]]>0,A616,\"\"))","v":""},null,null,null,null,null,null,null,null,null,null,null,null,null,null,null,"",null,""]
[null,null,{"$f":"IF(Tabulka2[[#This Row],[Data]]=\"\",\"\",IF(OR(Tabulka2[[#This Row],[Data]]<$G$57,Tabulka2[[#This Row],[Data]]>$G$58),2,IF(OR(Tabulka2[[#This Row],[Data]]<$G$51,Tabulka2[[#This Row],[Data]]>$G$52),1,0)))","v":""},{"$f":"IF(Tabulka2[[#This Row],[OL]]=\"\",\"\",IF(Tabulka2[[#This Row],[OL]]>0,A617,\"\"))","v":""},null,null,null,null,null,null,null,null,null,null,null,null,null,null,null,"",null,""]
[null,null,{"$f":"IF(Tabulka2[[#This Row],[Data]]=\"\",\"\",IF(OR(Tabulka2[[#This Row],[Data]]<$G$57,Tabulka2[[#This Row],[Data]]>$G$58),2,IF(OR(Tabulka2[[#This Row],[Data]]<$G$51,Tabulka2[[#This Row],[Data]]>$G$52),1,0)))","v":""},{"$f":"IF(Tabulka2[[#This Row],[OL]]=\"\",\"\",IF(Tabulka2[[#This Row],[OL]]>0,A618,\"\"))","v":""},null,null,null,null,null,null,null,null,null,null,null,null,null,null,null,"",null,""]
[null,null,{"$f":"IF(Tabulka2[[#This Row],[Data]]=\"\",\"\",IF(OR(Tabulka2[[#This Row],[Data]]<$G$57,Tabulka2[[#This Row],[Data]]>$G$58),2,IF(OR(Tabulka2[[#This Row],[Data]]<$G$51,Tabulka2[[#This Row],[Data]]>$G$52),1,0)))","v":""},{"$f":"IF(Tabulka2[[#This Row],[OL]]=\"\",\"\",IF(Tabulka2[[#This Row],[OL]]>0,A619,\"\"))","v":""},null,null,null,null,null,null,null,null,null,null,null,null,null,null,null,"",null,""]
[null,null,{"$f":"IF(Tabulka2[[#This Row],[Data]]=\"\",\"\",IF(OR(Tabulka2[[#This Row],[Data]]<$G$57,Tabulka2[[#This Row],[Data]]>$G$58),2,IF(OR(Tabulka2[[#This Row],[Data]]<$G$51,Tabulka2[[#This Row],[Data]]>$G$52),1,0)))","v":""},{"$f":"IF(Tabulka2[[#This Row],[OL]]=\"\",\"\",IF(Tabulka2[[#This Row],[OL]]>0,A620,\"\"))","v":""},null,null,null,null,null,null,null,null,null,null,null,null,null,null,null,"",null,""]
[null,null,{"$f":"IF(Tabulka2[[#This Row],[Data]]=\"\",\"\",IF(OR(Tabulka2[[#This Row],[Data]]<$G$57,Tabulka2[[#This Row],[Data]]>$G$58),2,IF(OR(Tabulka2[[#This Row],[Data]]<$G$51,Tabulka2[[#This Row],[Data]]>$G$52),1,0)))","v":""},{"$f":"IF(Tabulka2[[#This Row],[OL]]=\"\",\"\",IF(Tabulka2[[#This Row],[OL]]>0,A621,\"\"))","v":""},null,null,null,null,null,null,null,null,null,null,null,null,null,null,null,"",null,""]
[null,null,{"$f":"IF(Tabulka2[[#This Row],[Data]]=\"\",\"\",IF(OR(Tabulka2[[#This Row],[Data]]<$G$57,Tabulka2[[#This Row],[Data]]>$G$58),2,IF(OR(Tabulka2[[#This Row],[Data]]<$G$51,Tabulka2[[#This Row],[Data]]>$G$52),1,0)))","v":""},{"$f":"IF(Tabulka2[[#This Row],[OL]]=\"\",\"\",IF(Tabulka2[[#This Row],[OL]]>0,A622,\"\"))","v":""},null,null,null,null,null,null,null,null,null,null,null,null,null,null,null,"",null,""]
[null,null,{"$f":"IF(Tabulka2[[#This Row],[Data]]=\"\",\"\",IF(OR(Tabulka2[[#This Row],[Data]]<$G$57,Tabulka2[[#This Row],[Data]]>$G$58),2,IF(OR(Tabulka2[[#This Row],[Data]]<$G$51,Tabulka2[[#This Row],[Data]]>$G$52),1,0)))","v":""},{"$f":"IF(Tabulka2[[#This Row],[OL]]=\"\",\"\",IF(Tabulka2[[#This Row],[OL]]>0,A623,\"\"))","v":""},null,null,null,null,null,null,null,null,null,null,null,null,null,null,null,"",null,""]
[null,null,{"$f":"IF(Tabulka2[[#This Row],[Data]]=\"\",\"\",IF(OR(Tabulka2[[#This Row],[Data]]<$G$57,Tabulka2[[#This Row],[Data]]>$G$58),2,IF(OR(Tabulka2[[#This Row],[Data]]<$G$51,Tabulka2[[#This Row],[Data]]>$G$52),1,0)))","v":""},{"$f":"IF(Tabulka2[[#This Row],[OL]]=\"\",\"\",IF(Tabulka2[[#This Row],[OL]]>0,A624,\"\"))","v":""},null,null,null,null,null,null,null,null,null,null,null,null,null,null,null,"",null,""]
[null,null,{"$f":"IF(Tabulka2[[#This Row],[Data]]=\"\",\"\",IF(OR(Tabulka2[[#This Row],[Data]]<$G$57,Tabulka2[[#This Row],[Data]]>$G$58),2,IF(OR(Tabulka2[[#This Row],[Data]]<$G$51,Tabulka2[[#This Row],[Data]]>$G$52),1,0)))","v":""},{"$f":"IF(Tabulka2[[#This Row],[OL]]=\"\",\"\",IF(Tabulka2[[#This Row],[OL]]>0,A625,\"\"))","v":""},null,null,null,null,null,null,null,null,null,null,null,null,null,null,null,"",null,""]
[null,null,{"$f":"IF(Tabulka2[[#This Row],[Data]]=\"\",\"\",IF(OR(Tabulka2[[#This Row],[Data]]<$G$57,Tabulka2[[#This Row],[Data]]>$G$58),2,IF(OR(Tabulka2[[#This Row],[Data]]<$G$51,Tabulka2[[#This Row],[Data]]>$G$52),1,0)))","v":""},{"$f":"IF(Tabulka2[[#This Row],[OL]]=\"\",\"\",IF(Tabulka2[[#This Row],[OL]]>0,A626,\"\"))","v":""},null,null,null,null,null,null,null,null,null,null,null,null,null,null,null,"",null,""]
[null,null,{"$f":"IF(Tabulka2[[#This Row],[Data]]=\"\",\"\",IF(OR(Tabulka2[[#This Row],[Data]]<$G$57,Tabulka2[[#This Row],[Data]]>$G$58),2,IF(OR(Tabulka2[[#This Row],[Data]]<$G$51,Tabulka2[[#This Row],[Data]]>$G$52),1,0)))","v":""},{"$f":"IF(Tabulka2[[#This Row],[OL]]=\"\",\"\",IF(Tabulka2[[#This Row],[OL]]>0,A627,\"\"))","v":""},null,null,null,null,null,null,null,null,null,null,null,null,null,null,null,"",null,""]
[null,null,{"$f":"IF(Tabulka2[[#This Row],[Data]]=\"\",\"\",IF(OR(Tabulka2[[#This Row],[Data]]<$G$57,Tabulka2[[#This Row],[Data]]>$G$58),2,IF(OR(Tabulka2[[#This Row],[Data]]<$G$51,Tabulka2[[#This Row],[Data]]>$G$52),1,0)))","v":""},{"$f":"IF(Tabulka2[[#This Row],[OL]]=\"\",\"\",IF(Tabulka2[[#This Row],[OL]]>0,A628,\"\"))","v":""},null,null,null,null,null,null,null,null,null,null,null,null,null,null,null,"",null,""]
[null,null,{"$f":"IF(Tabulka2[[#This Row],[Data]]=\"\",\"\",IF(OR(Tabulka2[[#This Row],[Data]]<$G$57,Tabulka2[[#This Row],[Data]]>$G$58),2,IF(OR(Tabulka2[[#This Row],[Data]]<$G$51,Tabulka2[[#This Row],[Data]]>$G$52),1,0)))","v":""},{"$f":"IF(Tabulka2[[#This Row],[OL]]=\"\",\"\",IF(Tabulka2[[#This Row],[OL]]>0,A629,\"\"))","v":""},null,null,null,null,null,null,null,null,null,null,null,null,null,null,null,"",null,""]
[null,null,{"$f":"IF(Tabulka2[[#This Row],[Data]]=\"\",\"\",IF(OR(Tabulka2[[#This Row],[Data]]<$G$57,Tabulka2[[#This Row],[Data]]>$G$58),2,IF(OR(Tabulka2[[#This Row],[Data]]<$G$51,Tabulka2[[#This Row],[Data]]>$G$52),1,0)))","v":""},{"$f":"IF(Tabulka2[[#This Row],[OL]]=\"\",\"\",IF(Tabulka2[[#This Row],[OL]]>0,A630,\"\"))","v":""},null,null,null,null,null,null,null,null,null,null,null,null,null,null,null,"",null,""]
[null,null,{"$f":"IF(Tabulka2[[#This Row],[Data]]=\"\",\"\",IF(OR(Tabulka2[[#This Row],[Data]]<$G$57,Tabulka2[[#This Row],[Data]]>$G$58),2,IF(OR(Tabulka2[[#This Row],[Data]]<$G$51,Tabulka2[[#This Row],[Data]]>$G$52),1,0)))","v":""},{"$f":"IF(Tabulka2[[#This Row],[OL]]=\"\",\"\",IF(Tabulka2[[#This Row],[OL]]>0,A631,\"\"))","v":""},null,null,null,null,null,null,null,null,null,null,null,null,null,null,null,"",null,""]
[null,null,{"$f":"IF(Tabulka2[[#This Row],[Data]]=\"\",\"\",IF(OR(Tabulka2[[#This Row],[Data]]<$G$57,Tabulka2[[#This Row],[Data]]>$G$58),2,IF(OR(Tabulka2[[#This Row],[Data]]<$G$51,Tabulka2[[#This Row],[Data]]>$G$52),1,0)))","v":""},{"$f":"IF(Tabulka2[[#This Row],[OL]]=\"\",\"\",IF(Tabulka2[[#This Row],[OL]]>0,A632,\"\"))","v":""},null,null,null,null,null,null,null,null,null,null,null,null,null,null,null,"",null,""]
[null,null,{"$f":"IF(Tabulka2[[#This Row],[Data]]=\"\",\"\",IF(OR(Tabulka2[[#This Row],[Data]]<$G$57,Tabulka2[[#This Row],[Data]]>$G$58),2,IF(OR(Tabulka2[[#This Row],[Data]]<$G$51,Tabulka2[[#This Row],[Data]]>$G$52),1,0)))","v":""},{"$f":"IF(Tabulka2[[#This Row],[OL]]=\"\",\"\",IF(Tabulka2[[#This Row],[OL]]>0,A633,\"\"))","v":""},null,null,null,null,null,null,null,null,null,null,null,null,null,null,null,"",null,""]
[null,null,{"$f":"IF(Tabulka2[[#This Row],[Data]]=\"\",\"\",IF(OR(Tabulka2[[#This Row],[Data]]<$G$57,Tabulka2[[#This Row],[Data]]>$G$58),2,IF(OR(Tabulka2[[#This Row],[Data]]<$G$51,Tabulka2[[#This Row],[Data]]>$G$52),1,0)))","v":""},{"$f":"IF(Tabulka2[[#This Row],[OL]]=\"\",\"\",IF(Tabulka2[[#This Row],[OL]]>0,A634,\"\"))","v":""},null,null,null,null,null,null,null,null,null,null,null,null,null,null,null,"",null,""]
[null,null,{"$f":"IF(Tabulka2[[#This Row],[Data]]=\"\",\"\",IF(OR(Tabulka2[[#This Row],[Data]]<$G$57,Tabulka2[[#This Row],[Data]]>$G$58),2,IF(OR(Tabulka2[[#This Row],[Data]]<$G$51,Tabulka2[[#This Row],[Data]]>$G$52),1,0)))","v":""},{"$f":"IF(Tabulka2[[#This Row],[OL]]=\"\",\"\",IF(Tabulka2[[#This Row],[OL]]>0,A635,\"\"))","v":""},null,null,null,null,null,null,null,null,null,null,null,null,null,null,null,"",null,""]
[null,null,{"$f":"IF(Tabulka2[[#This Row],[Data]]=\"\",\"\",IF(OR(Tabulka2[[#This Row],[Data]]<$G$57,Tabulka2[[#This Row],[Data]]>$G$58),2,IF(OR(Tabulka2[[#This Row],[Data]]<$G$51,Tabulka2[[#This Row],[Data]]>$G$52),1,0)))","v":""},{"$f":"IF(Tabulka2[[#This Row],[OL]]=\"\",\"\",IF(Tabulka2[[#This Row],[OL]]>0,A636,\"\"))","v":""},null,null,null,null,null,null,null,null,null,null,null,null,null,null,null,"",null,""]
[null,null,{"$f":"IF(Tabulka2[[#This Row],[Data]]=\"\",\"\",IF(OR(Tabulka2[[#This Row],[Data]]<$G$57,Tabulka2[[#This Row],[Data]]>$G$58),2,IF(OR(Tabulka2[[#This Row],[Data]]<$G$51,Tabulka2[[#This Row],[Data]]>$G$52),1,0)))","v":""},{"$f":"IF(Tabulka2[[#This Row],[OL]]=\"\",\"\",IF(Tabulka2[[#This Row],[OL]]>0,A637,\"\"))","v":""},null,null,null,null,null,null,null,null,null,null,null,null,null,null,null,"",null,""]
[null,null,{"$f":"IF(Tabulka2[[#This Row],[Data]]=\"\",\"\",IF(OR(Tabulka2[[#This Row],[Data]]<$G$57,Tabulka2[[#This Row],[Data]]>$G$58),2,IF(OR(Tabulka2[[#This Row],[Data]]<$G$51,Tabulka2[[#This Row],[Data]]>$G$52),1,0)))","v":""},{"$f":"IF(Tabulka2[[#This Row],[OL]]=\"\",\"\",IF(Tabulka2[[#This Row],[OL]]>0,A638,\"\"))","v":""},null,null,null,null,null,null,null,null,null,null,null,null,null,null,null,"",null,""]
[null,null,{"$f":"IF(Tabulka2[[#This Row],[Data]]=\"\",\"\",IF(OR(Tabulka2[[#This Row],[Data]]<$G$57,Tabulka2[[#This Row],[Data]]>$G$58),2,IF(OR(Tabulka2[[#This Row],[Data]]<$G$51,Tabulka2[[#This Row],[Data]]>$G$52),1,0)))","v":""},{"$f":"IF(Tabulka2[[#This Row],[OL]]=\"\",\"\",IF(Tabulka2[[#This Row],[OL]]>0,A639,\"\"))","v":""},null,null,null,null,null,null,null,null,null,null,null,null,null,null,null,"",null,""]
[null,null,{"$f":"IF(Tabulka2[[#This Row],[Data]]=\"\",\"\",IF(OR(Tabulka2[[#This Row],[Data]]<$G$57,Tabulka2[[#This Row],[Data]]>$G$58),2,IF(OR(Tabulka2[[#This Row],[Data]]<$G$51,Tabulka2[[#This Row],[Data]]>$G$52),1,0)))","v":""},{"$f":"IF(Tabulka2[[#This Row],[OL]]=\"\",\"\",IF(Tabulka2[[#This Row],[OL]]>0,A640,\"\"))","v":""},null,null,null,null,null,null,null,null,null,null,null,null,null,null,null,"",null,""]
[null,null,{"$f":"IF(Tabulka2[[#This Row],[Data]]=\"\",\"\",IF(OR(Tabulka2[[#This Row],[Data]]<$G$57,Tabulka2[[#This Row],[Data]]>$G$58),2,IF(OR(Tabulka2[[#This Row],[Data]]<$G$51,Tabulka2[[#This Row],[Data]]>$G$52),1,0)))","v":""},{"$f":"IF(Tabulka2[[#This Row],[OL]]=\"\",\"\",IF(Tabulka2[[#This Row],[OL]]>0,A641,\"\"))","v":""},null,null,null,null,null,null,null,null,null,null,null,null,null,null,null,"",null,""]
[null,null,{"$f":"IF(Tabulka2[[#This Row],[Data]]=\"\",\"\",IF(OR(Tabulka2[[#This Row],[Data]]<$G$57,Tabulka2[[#This Row],[Data]]>$G$58),2,IF(OR(Tabulka2[[#This Row],[Data]]<$G$51,Tabulka2[[#This Row],[Data]]>$G$52),1,0)))","v":""},{"$f":"IF(Tabulka2[[#This Row],[OL]]=\"\",\"\",IF(Tabulka2[[#This Row],[OL]]>0,A642,\"\"))","v":""},null,null,null,null,null,null,null,null,null,null,null,null,null,null,null,"",null,""]
[null,null,{"$f":"IF(Tabulka2[[#This Row],[Data]]=\"\",\"\",IF(OR(Tabulka2[[#This Row],[Data]]<$G$57,Tabulka2[[#This Row],[Data]]>$G$58),2,IF(OR(Tabulka2[[#This Row],[Data]]<$G$51,Tabulka2[[#This Row],[Data]]>$G$52),1,0)))","v":""},{"$f":"IF(Tabulka2[[#This Row],[OL]]=\"\",\"\",IF(Tabulka2[[#This Row],[OL]]>0,A643,\"\"))","v":""},null,null,null,null,null,null,null,null,null,null,null,null,null,null,null,"",null,""]
[null,null,{"$f":"IF(Tabulka2[[#This Row],[Data]]=\"\",\"\",IF(OR(Tabulka2[[#This Row],[Data]]<$G$57,Tabulka2[[#This Row],[Data]]>$G$58),2,IF(OR(Tabulka2[[#This Row],[Data]]<$G$51,Tabulka2[[#This Row],[Data]]>$G$52),1,0)))","v":""},{"$f":"IF(Tabulka2[[#This Row],[OL]]=\"\",\"\",IF(Tabulka2[[#This Row],[OL]]>0,A644,\"\"))","v":""},null,null,null,null,null,null,null,null,null,null,null,null,null,null,null,"",null,""]
[null,null,{"$f":"IF(Tabulka2[[#This Row],[Data]]=\"\",\"\",IF(OR(Tabulka2[[#This Row],[Data]]<$G$57,Tabulka2[[#This Row],[Data]]>$G$58),2,IF(OR(Tabulka2[[#This Row],[Data]]<$G$51,Tabulka2[[#This Row],[Data]]>$G$52),1,0)))","v":""},{"$f":"IF(Tabulka2[[#This Row],[OL]]=\"\",\"\",IF(Tabulka2[[#This Row],[OL]]>0,A645,\"\"))","v":""},null,null,null,null,null,null,null,null,null,null,null,null,null,null,null,"",null,""]
[null,null,{"$f":"IF(Tabulka2[[#This Row],[Data]]=\"\",\"\",IF(OR(Tabulka2[[#This Row],[Data]]<$G$57,Tabulka2[[#This Row],[Data]]>$G$58),2,IF(OR(Tabulka2[[#This Row],[Data]]<$G$51,Tabulka2[[#This Row],[Data]]>$G$52),1,0)))","v":""},{"$f":"IF(Tabulka2[[#This Row],[OL]]=\"\",\"\",IF(Tabulka2[[#This Row],[OL]]>0,A646,\"\"))","v":""},null,null,null,null,null,null,null,null,null,null,null,null,null,null,null,"",null,""]
[null,null,{"$f":"IF(Tabulka2[[#This Row],[Data]]=\"\",\"\",IF(OR(Tabulka2[[#This Row],[Data]]<$G$57,Tabulka2[[#This Row],[Data]]>$G$58),2,IF(OR(Tabulka2[[#This Row],[Data]]<$G$51,Tabulka2[[#This Row],[Data]]>$G$52),1,0)))","v":""},{"$f":"IF(Tabulka2[[#This Row],[OL]]=\"\",\"\",IF(Tabulka2[[#This Row],[OL]]>0,A647,\"\"))","v":""},null,null,null,null,null,null,null,null,null,null,null,null,null,null,null,"",null,""]
[null,null,{"$f":"IF(Tabulka2[[#This Row],[Data]]=\"\",\"\",IF(OR(Tabulka2[[#This Row],[Data]]<$G$57,Tabulka2[[#This Row],[Data]]>$G$58),2,IF(OR(Tabulka2[[#This Row],[Data]]<$G$51,Tabulka2[[#This Row],[Data]]>$G$52),1,0)))","v":""},{"$f":"IF(Tabulka2[[#This Row],[OL]]=\"\",\"\",IF(Tabulka2[[#This Row],[OL]]>0,A648,\"\"))","v":""},null,null,null,null,null,null,null,null,null,null,null,null,null,null,null,"",null,""]
[null,null,{"$f":"IF(Tabulka2[[#This Row],[Data]]=\"\",\"\",IF(OR(Tabulka2[[#This Row],[Data]]<$G$57,Tabulka2[[#This Row],[Data]]>$G$58),2,IF(OR(Tabulka2[[#This Row],[Data]]<$G$51,Tabulka2[[#This Row],[Data]]>$G$52),1,0)))","v":""},{"$f":"IF(Tabulka2[[#This Row],[OL]]=\"\",\"\",IF(Tabulka2[[#This Row],[OL]]>0,A649,\"\"))","v":""},null,null,null,null,null,null,null,null,null,null,null,null,null,null,null,"",null,""]
[null,null,{"$f":"IF(Tabulka2[[#This Row],[Data]]=\"\",\"\",IF(OR(Tabulka2[[#This Row],[Data]]<$G$57,Tabulka2[[#This Row],[Data]]>$G$58),2,IF(OR(Tabulka2[[#This Row],[Data]]<$G$51,Tabulka2[[#This Row],[Data]]>$G$52),1,0)))","v":""},{"$f":"IF(Tabulka2[[#This Row],[OL]]=\"\",\"\",IF(Tabulka2[[#This Row],[OL]]>0,A650,\"\"))","v":""},null,null,null,null,null,null,null,null,null,null,null,null,null,null,null,"",null,""]
[null,null,{"$f":"IF(Tabulka2[[#This Row],[Data]]=\"\",\"\",IF(OR(Tabulka2[[#This Row],[Data]]<$G$57,Tabulka2[[#This Row],[Data]]>$G$58),2,IF(OR(Tabulka2[[#This Row],[Data]]<$G$51,Tabulka2[[#This Row],[Data]]>$G$52),1,0)))","v":""},{"$f":"IF(Tabulka2[[#This Row],[OL]]=\"\",\"\",IF(Tabulka2[[#This Row],[OL]]>0,A651,\"\"))","v":""},null,null,null,null,null,null,null,null,null,null,null,null,null,null,null,"",null,""]
[null,null,{"$f":"IF(Tabulka2[[#This Row],[Data]]=\"\",\"\",IF(OR(Tabulka2[[#This Row],[Data]]<$G$57,Tabulka2[[#This Row],[Data]]>$G$58),2,IF(OR(Tabulka2[[#This Row],[Data]]<$G$51,Tabulka2[[#This Row],[Data]]>$G$52),1,0)))","v":""},{"$f":"IF(Tabulka2[[#This Row],[OL]]=\"\",\"\",IF(Tabulka2[[#This Row],[OL]]>0,A652,\"\"))","v":""},null,null,null,null,null,null,null,null,null,null,null,null,null,null,null,"",null,""]
[null,null,{"$f":"IF(Tabulka2[[#This Row],[Data]]=\"\",\"\",IF(OR(Tabulka2[[#This Row],[Data]]<$G$57,Tabulka2[[#This Row],[Data]]>$G$58),2,IF(OR(Tabulka2[[#This Row],[Data]]<$G$51,Tabulka2[[#This Row],[Data]]>$G$52),1,0)))","v":""},{"$f":"IF(Tabulka2[[#This Row],[OL]]=\"\",\"\",IF(Tabulka2[[#This Row],[OL]]>0,A653,\"\"))","v":""},null,null,null,null,null,null,null,null,null,null,null,null,null,null,null,"",null,""]
[null,null,{"$f":"IF(Tabulka2[[#This Row],[Data]]=\"\",\"\",IF(OR(Tabulka2[[#This Row],[Data]]<$G$57,Tabulka2[[#This Row],[Data]]>$G$58),2,IF(OR(Tabulka2[[#This Row],[Data]]<$G$51,Tabulka2[[#This Row],[Data]]>$G$52),1,0)))","v":""},{"$f":"IF(Tabulka2[[#This Row],[OL]]=\"\",\"\",IF(Tabulka2[[#This Row],[OL]]>0,A654,\"\"))","v":""},null,null,null,null,null,null,null,null,null,null,null,null,null,null,null,"",null,""]
[null,null,{"$f":"IF(Tabulka2[[#This Row],[Data]]=\"\",\"\",IF(OR(Tabulka2[[#This Row],[Data]]<$G$57,Tabulka2[[#This Row],[Data]]>$G$58),2,IF(OR(Tabulka2[[#This Row],[Data]]<$G$51,Tabulka2[[#This Row],[Data]]>$G$52),1,0)))","v":""},{"$f":"IF(Tabulka2[[#This Row],[OL]]=\"\",\"\",IF(Tabulka2[[#This Row],[OL]]>0,A655,\"\"))","v":""},null,null,null,null,null,null,null,null,null,null,null,null,null,null,null,"",null,""]
[null,null,{"$f":"IF(Tabulka2[[#This Row],[Data]]=\"\",\"\",IF(OR(Tabulka2[[#This Row],[Data]]<$G$57,Tabulka2[[#This Row],[Data]]>$G$58),2,IF(OR(Tabulka2[[#This Row],[Data]]<$G$51,Tabulka2[[#This Row],[Data]]>$G$52),1,0)))","v":""},{"$f":"IF(Tabulka2[[#This Row],[OL]]=\"\",\"\",IF(Tabulka2[[#This Row],[OL]]>0,A656,\"\"))","v":""},null,null,null,null,null,null,null,null,null,null,null,null,null,null,null,"",null,""]
[null,null,{"$f":"IF(Tabulka2[[#This Row],[Data]]=\"\",\"\",IF(OR(Tabulka2[[#This Row],[Data]]<$G$57,Tabulka2[[#This Row],[Data]]>$G$58),2,IF(OR(Tabulka2[[#This Row],[Data]]<$G$51,Tabulka2[[#This Row],[Data]]>$G$52),1,0)))","v":""},{"$f":"IF(Tabulka2[[#This Row],[OL]]=\"\",\"\",IF(Tabulka2[[#This Row],[OL]]>0,A657,\"\"))","v":""},null,null,null,null,null,null,null,null,null,null,null,null,null,null,null,"",null,""]
[null,null,{"$f":"IF(Tabulka2[[#This Row],[Data]]=\"\",\"\",IF(OR(Tabulka2[[#This Row],[Data]]<$G$57,Tabulka2[[#This Row],[Data]]>$G$58),2,IF(OR(Tabulka2[[#This Row],[Data]]<$G$51,Tabulka2[[#This Row],[Data]]>$G$52),1,0)))","v":""},{"$f":"IF(Tabulka2[[#This Row],[OL]]=\"\",\"\",IF(Tabulka2[[#This Row],[OL]]>0,A658,\"\"))","v":""},null,null,null,null,null,null,null,null,null,null,null,null,null,null,null,"",null,""]
[null,null,{"$f":"IF(Tabulka2[[#This Row],[Data]]=\"\",\"\",IF(OR(Tabulka2[[#This Row],[Data]]<$G$57,Tabulka2[[#This Row],[Data]]>$G$58),2,IF(OR(Tabulka2[[#This Row],[Data]]<$G$51,Tabulka2[[#This Row],[Data]]>$G$52),1,0)))","v":""},{"$f":"IF(Tabulka2[[#This Row],[OL]]=\"\",\"\",IF(Tabulka2[[#This Row],[OL]]>0,A659,\"\"))","v":""},null,null,null,null,null,null,null,null,null,null,null,null,null,null,null,"",null,""]
[null,null,{"$f":"IF(Tabulka2[[#This Row],[Data]]=\"\",\"\",IF(OR(Tabulka2[[#This Row],[Data]]<$G$57,Tabulka2[[#This Row],[Data]]>$G$58),2,IF(OR(Tabulka2[[#This Row],[Data]]<$G$51,Tabulka2[[#This Row],[Data]]>$G$52),1,0)))","v":""},{"$f":"IF(Tabulka2[[#This Row],[OL]]=\"\",\"\",IF(Tabulka2[[#This Row],[OL]]>0,A660,\"\"))","v":""},null,null,null,null,null,null,null,null,null,null,null,null,null,null,null,"",null,""]
[null,null,{"$f":"IF(Tabulka2[[#This Row],[Data]]=\"\",\"\",IF(OR(Tabulka2[[#This Row],[Data]]<$G$57,Tabulka2[[#This Row],[Data]]>$G$58),2,IF(OR(Tabulka2[[#This Row],[Data]]<$G$51,Tabulka2[[#This Row],[Data]]>$G$52),1,0)))","v":""},{"$f":"IF(Tabulka2[[#This Row],[OL]]=\"\",\"\",IF(Tabulka2[[#This Row],[OL]]>0,A661,\"\"))","v":""},null,null,null,null,null,null,null,null,null,null,null,null,null,null,null,"",null,""]
[null,null,{"$f":"IF(Tabulka2[[#This Row],[Data]]=\"\",\"\",IF(OR(Tabulka2[[#This Row],[Data]]<$G$57,Tabulka2[[#This Row],[Data]]>$G$58),2,IF(OR(Tabulka2[[#This Row],[Data]]<$G$51,Tabulka2[[#This Row],[Data]]>$G$52),1,0)))","v":""},{"$f":"IF(Tabulka2[[#This Row],[OL]]=\"\",\"\",IF(Tabulka2[[#This Row],[OL]]>0,A662,\"\"))","v":""},null,null,null,null,null,null,null,null,null,null,null,null,null,null,null,"",null,""]
[null,null,{"$f":"IF(Tabulka2[[#This Row],[Data]]=\"\",\"\",IF(OR(Tabulka2[[#This Row],[Data]]<$G$57,Tabulka2[[#This Row],[Data]]>$G$58),2,IF(OR(Tabulka2[[#This Row],[Data]]<$G$51,Tabulka2[[#This Row],[Data]]>$G$52),1,0)))","v":""},{"$f":"IF(Tabulka2[[#This Row],[OL]]=\"\",\"\",IF(Tabulka2[[#This Row],[OL]]>0,A663,\"\"))","v":""},null,null,null,null,null,null,null,null,null,null,null,null,null,null,null,"",null,""]
[null,null,{"$f":"IF(Tabulka2[[#This Row],[Data]]=\"\",\"\",IF(OR(Tabulka2[[#This Row],[Data]]<$G$57,Tabulka2[[#This Row],[Data]]>$G$58),2,IF(OR(Tabulka2[[#This Row],[Data]]<$G$51,Tabulka2[[#This Row],[Data]]>$G$52),1,0)))","v":""},{"$f":"IF(Tabulka2[[#This Row],[OL]]=\"\",\"\",IF(Tabulka2[[#This Row],[OL]]>0,A664,\"\"))","v":""},null,null,null,null,null,null,null,null,null,null,null,null,null,null,null,"",null,""]
[null,null,{"$f":"IF(Tabulka2[[#This Row],[Data]]=\"\",\"\",IF(OR(Tabulka2[[#This Row],[Data]]<$G$57,Tabulka2[[#This Row],[Data]]>$G$58),2,IF(OR(Tabulka2[[#This Row],[Data]]<$G$51,Tabulka2[[#This Row],[Data]]>$G$52),1,0)))","v":""},{"$f":"IF(Tabulka2[[#This Row],[OL]]=\"\",\"\",IF(Tabulka2[[#This Row],[OL]]>0,A665,\"\"))","v":""},null,null,null,null,null,null,null,null,null,null,null,null,null,null,null,"",null,""]
[null,null,{"$f":"IF(Tabulka2[[#This Row],[Data]]=\"\",\"\",IF(OR(Tabulka2[[#This Row],[Data]]<$G$57,Tabulka2[[#This Row],[Data]]>$G$58),2,IF(OR(Tabulka2[[#This Row],[Data]]<$G$51,Tabulka2[[#This Row],[Data]]>$G$52),1,0)))","v":""},{"$f":"IF(Tabulka2[[#This Row],[OL]]=\"\",\"\",IF(Tabulka2[[#This Row],[OL]]>0,A666,\"\"))","v":""},null,null,null,null,null,null,null,null,null,null,null,null,null,null,null,"",null,""]
[null,null,{"$f":"IF(Tabulka2[[#This Row],[Data]]=\"\",\"\",IF(OR(Tabulka2[[#This Row],[Data]]<$G$57,Tabulka2[[#This Row],[Data]]>$G$58),2,IF(OR(Tabulka2[[#This Row],[Data]]<$G$51,Tabulka2[[#This Row],[Data]]>$G$52),1,0)))","v":""},{"$f":"IF(Tabulka2[[#This Row],[OL]]=\"\",\"\",IF(Tabulka2[[#This Row],[OL]]>0,A667,\"\"))","v":""},null,null,null,null,null,null,null,null,null,null,null,null,null,null,null,"",null,""]
[null,null,{"$f":"IF(Tabulka2[[#This Row],[Data]]=\"\",\"\",IF(OR(Tabulka2[[#This Row],[Data]]<$G$57,Tabulka2[[#This Row],[Data]]>$G$58),2,IF(OR(Tabulka2[[#This Row],[Data]]<$G$51,Tabulka2[[#This Row],[Data]]>$G$52),1,0)))","v":""},{"$f":"IF(Tabulka2[[#This Row],[OL]]=\"\",\"\",IF(Tabulka2[[#This Row],[OL]]>0,A668,\"\"))","v":""},null,null,null,null,null,null,null,null,null,null,null,null,null,null,null,"",null,""]
[null,null,{"$f":"IF(Tabulka2[[#This Row],[Data]]=\"\",\"\",IF(OR(Tabulka2[[#This Row],[Data]]<$G$57,Tabulka2[[#This Row],[Data]]>$G$58),2,IF(OR(Tabulka2[[#This Row],[Data]]<$G$51,Tabulka2[[#This Row],[Data]]>$G$52),1,0)))","v":""},{"$f":"IF(Tabulka2[[#This Row],[OL]]=\"\",\"\",IF(Tabulka2[[#This Row],[OL]]>0,A669,\"\"))","v":""},null,null,null,null,null,null,null,null,null,null,null,null,null,null,null,"",null,""]
[null,null,{"$f":"IF(Tabulka2[[#This Row],[Data]]=\"\",\"\",IF(OR(Tabulka2[[#This Row],[Data]]<$G$57,Tabulka2[[#This Row],[Data]]>$G$58),2,IF(OR(Tabulka2[[#This Row],[Data]]<$G$51,Tabulka2[[#This Row],[Data]]>$G$52),1,0)))","v":""},{"$f":"IF(Tabulka2[[#This Row],[OL]]=\"\",\"\",IF(Tabulka2[[#This Row],[OL]]>0,A670,\"\"))","v":""},null,null,null,null,null,null,null,null,null,null,null,null,null,null,null,"",null,""]
[null,null,{"$f":"IF(Tabulka2[[#This Row],[Data]]=\"\",\"\",IF(OR(Tabulka2[[#This Row],[Data]]<$G$57,Tabulka2[[#This Row],[Data]]>$G$58),2,IF(OR(Tabulka2[[#This Row],[Data]]<$G$51,Tabulka2[[#This Row],[Data]]>$G$52),1,0)))","v":""},{"$f":"IF(Tabulka2[[#This Row],[OL]]=\"\",\"\",IF(Tabulka2[[#This Row],[OL]]>0,A671,\"\"))","v":""},null,null,null,null,null,null,null,null,null,null,null,null,null,null,null,"",null,""]
[null,null,{"$f":"IF(Tabulka2[[#This Row],[Data]]=\"\",\"\",IF(OR(Tabulka2[[#This Row],[Data]]<$G$57,Tabulka2[[#This Row],[Data]]>$G$58),2,IF(OR(Tabulka2[[#This Row],[Data]]<$G$51,Tabulka2[[#This Row],[Data]]>$G$52),1,0)))","v":""},{"$f":"IF(Tabulka2[[#This Row],[OL]]=\"\",\"\",IF(Tabulka2[[#This Row],[OL]]>0,A672,\"\"))","v":""},null,null,null,null,null,null,null,null,null,null,null,null,null,null,null,"",null,""]
[null,null,{"$f":"IF(Tabulka2[[#This Row],[Data]]=\"\",\"\",IF(OR(Tabulka2[[#This Row],[Data]]<$G$57,Tabulka2[[#This Row],[Data]]>$G$58),2,IF(OR(Tabulka2[[#This Row],[Data]]<$G$51,Tabulka2[[#This Row],[Data]]>$G$52),1,0)))","v":""},{"$f":"IF(Tabulka2[[#This Row],[OL]]=\"\",\"\",IF(Tabulka2[[#This Row],[OL]]>0,A673,\"\"))","v":""},null,null,null,null,null,null,null,null,null,null,null,null,null,null,null,"",null,""]
[null,null,{"$f":"IF(Tabulka2[[#This Row],[Data]]=\"\",\"\",IF(OR(Tabulka2[[#This Row],[Data]]<$G$57,Tabulka2[[#This Row],[Data]]>$G$58),2,IF(OR(Tabulka2[[#This Row],[Data]]<$G$51,Tabulka2[[#This Row],[Data]]>$G$52),1,0)))","v":""},{"$f":"IF(Tabulka2[[#This Row],[OL]]=\"\",\"\",IF(Tabulka2[[#This Row],[OL]]>0,A674,\"\"))","v":""},null,null,null,null,null,null,null,null,null,null,null,null,null,null,null,"",null,""]
[null,null,{"$f":"IF(Tabulka2[[#This Row],[Data]]=\"\",\"\",IF(OR(Tabulka2[[#This Row],[Data]]<$G$57,Tabulka2[[#This Row],[Data]]>$G$58),2,IF(OR(Tabulka2[[#This Row],[Data]]<$G$51,Tabulka2[[#This Row],[Data]]>$G$52),1,0)))","v":""},{"$f":"IF(Tabulka2[[#This Row],[OL]]=\"\",\"\",IF(Tabulka2[[#This Row],[OL]]>0,A675,\"\"))","v":""},null,null,null,null,null,null,null,null,null,null,null,null,null,null,null,"",null,""]
[null,null,{"$f":"IF(Tabulka2[[#This Row],[Data]]=\"\",\"\",IF(OR(Tabulka2[[#This Row],[Data]]<$G$57,Tabulka2[[#This Row],[Data]]>$G$58),2,IF(OR(Tabulka2[[#This Row],[Data]]<$G$51,Tabulka2[[#This Row],[Data]]>$G$52),1,0)))","v":""},{"$f":"IF(Tabulka2[[#This Row],[OL]]=\"\",\"\",IF(Tabulka2[[#This Row],[OL]]>0,A676,\"\"))","v":""},null,null,null,null,null,null,null,null,null,null,null,null,null,null,null,"",null,""]
[null,null,{"$f":"IF(Tabulka2[[#This Row],[Data]]=\"\",\"\",IF(OR(Tabulka2[[#This Row],[Data]]<$G$57,Tabulka2[[#This Row],[Data]]>$G$58),2,IF(OR(Tabulka2[[#This Row],[Data]]<$G$51,Tabulka2[[#This Row],[Data]]>$G$52),1,0)))","v":""},{"$f":"IF(Tabulka2[[#This Row],[OL]]=\"\",\"\",IF(Tabulka2[[#This Row],[OL]]>0,A677,\"\"))","v":""},null,null,null,null,null,null,null,null,null,null,null,null,null,null,null,"",null,""]
[null,null,{"$f":"IF(Tabulka2[[#This Row],[Data]]=\"\",\"\",IF(OR(Tabulka2[[#This Row],[Data]]<$G$57,Tabulka2[[#This Row],[Data]]>$G$58),2,IF(OR(Tabulka2[[#This Row],[Data]]<$G$51,Tabulka2[[#This Row],[Data]]>$G$52),1,0)))","v":""},{"$f":"IF(Tabulka2[[#This Row],[OL]]=\"\",\"\",IF(Tabulka2[[#This Row],[OL]]>0,A678,\"\"))","v":""},null,null,null,null,null,null,null,null,null,null,null,null,null,null,null,"",null,""]
[null,null,{"$f":"IF(Tabulka2[[#This Row],[Data]]=\"\",\"\",IF(OR(Tabulka2[[#This Row],[Data]]<$G$57,Tabulka2[[#This Row],[Data]]>$G$58),2,IF(OR(Tabulka2[[#This Row],[Data]]<$G$51,Tabulka2[[#This Row],[Data]]>$G$52),1,0)))","v":""},{"$f":"IF(Tabulka2[[#This Row],[OL]]=\"\",\"\",IF(Tabulka2[[#This Row],[OL]]>0,A679,\"\"))","v":""},null,null,null,null,null,null,null,null,null,null,null,null,null,null,null,"",null,""]
[null,null,{"$f":"IF(Tabulka2[[#This Row],[Data]]=\"\",\"\",IF(OR(Tabulka2[[#This Row],[Data]]<$G$57,Tabulka2[[#This Row],[Data]]>$G$58),2,IF(OR(Tabulka2[[#This Row],[Data]]<$G$51,Tabulka2[[#This Row],[Data]]>$G$52),1,0)))","v":""},{"$f":"IF(Tabulka2[[#This Row],[OL]]=\"\",\"\",IF(Tabulka2[[#This Row],[OL]]>0,A680,\"\"))","v":""},null,null,null,null,null,null,null,null,null,null,null,null,null,null,null,"",null,""]
[null,null,{"$f":"IF(Tabulka2[[#This Row],[Data]]=\"\",\"\",IF(OR(Tabulka2[[#This Row],[Data]]<$G$57,Tabulka2[[#This Row],[Data]]>$G$58),2,IF(OR(Tabulka2[[#This Row],[Data]]<$G$51,Tabulka2[[#This Row],[Data]]>$G$52),1,0)))","v":""},{"$f":"IF(Tabulka2[[#This Row],[OL]]=\"\",\"\",IF(Tabulka2[[#This Row],[OL]]>0,A681,\"\"))","v":""},null,null,null,null,null,null,null,null,null,null,null,null,null,null,null,"",null,""]
[null,null,{"$f":"IF(Tabulka2[[#This Row],[Data]]=\"\",\"\",IF(OR(Tabulka2[[#This Row],[Data]]<$G$57,Tabulka2[[#This Row],[Data]]>$G$58),2,IF(OR(Tabulka2[[#This Row],[Data]]<$G$51,Tabulka2[[#This Row],[Data]]>$G$52),1,0)))","v":""},{"$f":"IF(Tabulka2[[#This Row],[OL]]=\"\",\"\",IF(Tabulka2[[#This Row],[OL]]>0,A682,\"\"))","v":""},null,null,null,null,null,null,null,null,null,null,null,null,null,null,null,"",null,""]
[null,null,{"$f":"IF(Tabulka2[[#This Row],[Data]]=\"\",\"\",IF(OR(Tabulka2[[#This Row],[Data]]<$G$57,Tabulka2[[#This Row],[Data]]>$G$58),2,IF(OR(Tabulka2[[#This Row],[Data]]<$G$51,Tabulka2[[#This Row],[Data]]>$G$52),1,0)))","v":""},{"$f":"IF(Tabulka2[[#This Row],[OL]]=\"\",\"\",IF(Tabulka2[[#This Row],[OL]]>0,A683,\"\"))","v":""},null,null,null,null,null,null,null,null,null,null,null,null,null,null,null,"",null,""]
[null,null,{"$f":"IF(Tabulka2[[#This Row],[Data]]=\"\",\"\",IF(OR(Tabulka2[[#This Row],[Data]]<$G$57,Tabulka2[[#This Row],[Data]]>$G$58),2,IF(OR(Tabulka2[[#This Row],[Data]]<$G$51,Tabulka2[[#This Row],[Data]]>$G$52),1,0)))","v":""},{"$f":"IF(Tabulka2[[#This Row],[OL]]=\"\",\"\",IF(Tabulka2[[#This Row],[OL]]>0,A684,\"\"))","v":""},null,null,null,null,null,null,null,null,null,null,null,null,null,null,null,"",null,""]
[null,null,{"$f":"IF(Tabulka2[[#This Row],[Data]]=\"\",\"\",IF(OR(Tabulka2[[#This Row],[Data]]<$G$57,Tabulka2[[#This Row],[Data]]>$G$58),2,IF(OR(Tabulka2[[#This Row],[Data]]<$G$51,Tabulka2[[#This Row],[Data]]>$G$52),1,0)))","v":""},{"$f":"IF(Tabulka2[[#This Row],[OL]]=\"\",\"\",IF(Tabulka2[[#This Row],[OL]]>0,A685,\"\"))","v":""},null,null,null,null,null,null,null,null,null,null,null,null,null,null,null,"",null,""]
[null,null,{"$f":"IF(Tabulka2[[#This Row],[Data]]=\"\",\"\",IF(OR(Tabulka2[[#This Row],[Data]]<$G$57,Tabulka2[[#This Row],[Data]]>$G$58),2,IF(OR(Tabulka2[[#This Row],[Data]]<$G$51,Tabulka2[[#This Row],[Data]]>$G$52),1,0)))","v":""},{"$f":"IF(Tabulka2[[#This Row],[OL]]=\"\",\"\",IF(Tabulka2[[#This Row],[OL]]>0,A686,\"\"))","v":""},null,null,null,null,null,null,null,null,null,null,null,null,null,null,null,"",null,""]
[null,null,{"$f":"IF(Tabulka2[[#This Row],[Data]]=\"\",\"\",IF(OR(Tabulka2[[#This Row],[Data]]<$G$57,Tabulka2[[#This Row],[Data]]>$G$58),2,IF(OR(Tabulka2[[#This Row],[Data]]<$G$51,Tabulka2[[#This Row],[Data]]>$G$52),1,0)))","v":""},{"$f":"IF(Tabulka2[[#This Row],[OL]]=\"\",\"\",IF(Tabulka2[[#This Row],[OL]]>0,A687,\"\"))","v":""},null,null,null,null,null,null,null,null,null,null,null,null,null,null,null,"",null,""]
[null,null,{"$f":"IF(Tabulka2[[#This Row],[Data]]=\"\",\"\",IF(OR(Tabulka2[[#This Row],[Data]]<$G$57,Tabulka2[[#This Row],[Data]]>$G$58),2,IF(OR(Tabulka2[[#This Row],[Data]]<$G$51,Tabulka2[[#This Row],[Data]]>$G$52),1,0)))","v":""},{"$f":"IF(Tabulka2[[#This Row],[OL]]=\"\",\"\",IF(Tabulka2[[#This Row],[OL]]>0,A688,\"\"))","v":""},null,null,null,null,null,null,null,null,null,null,null,null,null,null,null,"",null,""]
[null,null,{"$f":"IF(Tabulka2[[#This Row],[Data]]=\"\",\"\",IF(OR(Tabulka2[[#This Row],[Data]]<$G$57,Tabulka2[[#This Row],[Data]]>$G$58),2,IF(OR(Tabulka2[[#This Row],[Data]]<$G$51,Tabulka2[[#This Row],[Data]]>$G$52),1,0)))","v":""},{"$f":"IF(Tabulka2[[#This Row],[OL]]=\"\",\"\",IF(Tabulka2[[#This Row],[OL]]>0,A689,\"\"))","v":""},null,null,null,null,null,null,null,null,null,null,null,null,null,null,null,"",null,""]
[null,null,{"$f":"IF(Tabulka2[[#This Row],[Data]]=\"\",\"\",IF(OR(Tabulka2[[#This Row],[Data]]<$G$57,Tabulka2[[#This Row],[Data]]>$G$58),2,IF(OR(Tabulka2[[#This Row],[Data]]<$G$51,Tabulka2[[#This Row],[Data]]>$G$52),1,0)))","v":""},{"$f":"IF(Tabulka2[[#This Row],[OL]]=\"\",\"\",IF(Tabulka2[[#This Row],[OL]]>0,A690,\"\"))","v":""},null,null,null,null,null,null,null,null,null,null,null,null,null,null,null,"",null,""]
[null,null,{"$f":"IF(Tabulka2[[#This Row],[Data]]=\"\",\"\",IF(OR(Tabulka2[[#This Row],[Data]]<$G$57,Tabulka2[[#This Row],[Data]]>$G$58),2,IF(OR(Tabulka2[[#This Row],[Data]]<$G$51,Tabulka2[[#This Row],[Data]]>$G$52),1,0)))","v":""},{"$f":"IF(Tabulka2[[#This Row],[OL]]=\"\",\"\",IF(Tabulka2[[#This Row],[OL]]>0,A691,\"\"))","v":""},null,null,null,null,null,null,null,null,null,null,null,null,null,null,null,"",null,""]
[null,null,{"$f":"IF(Tabulka2[[#This Row],[Data]]=\"\",\"\",IF(OR(Tabulka2[[#This Row],[Data]]<$G$57,Tabulka2[[#This Row],[Data]]>$G$58),2,IF(OR(Tabulka2[[#This Row],[Data]]<$G$51,Tabulka2[[#This Row],[Data]]>$G$52),1,0)))","v":""},{"$f":"IF(Tabulka2[[#This Row],[OL]]=\"\",\"\",IF(Tabulka2[[#This Row],[OL]]>0,A692,\"\"))","v":""},null,null,null,null,null,null,null,null,null,null,null,null,null,null,null,"",null,""]
[null,null,{"$f":"IF(Tabulka2[[#This Row],[Data]]=\"\",\"\",IF(OR(Tabulka2[[#This Row],[Data]]<$G$57,Tabulka2[[#This Row],[Data]]>$G$58),2,IF(OR(Tabulka2[[#This Row],[Data]]<$G$51,Tabulka2[[#This Row],[Data]]>$G$52),1,0)))","v":""},{"$f":"IF(Tabulka2[[#This Row],[OL]]=\"\",\"\",IF(Tabulka2[[#This Row],[OL]]>0,A693,\"\"))","v":""},null,null,null,null,null,null,null,null,null,null,null,null,null,null,null,"",null,""]
[null,null,{"$f":"IF(Tabulka2[[#This Row],[Data]]=\"\",\"\",IF(OR(Tabulka2[[#This Row],[Data]]<$G$57,Tabulka2[[#This Row],[Data]]>$G$58),2,IF(OR(Tabulka2[[#This Row],[Data]]<$G$51,Tabulka2[[#This Row],[Data]]>$G$52),1,0)))","v":""},{"$f":"IF(Tabulka2[[#This Row],[OL]]=\"\",\"\",IF(Tabulka2[[#This Row],[OL]]>0,A694,\"\"))","v":""},null,null,null,null,null,null,null,null,null,null,null,null,null,null,null,"",null,""]
[null,null,{"$f":"IF(Tabulka2[[#This Row],[Data]]=\"\",\"\",IF(OR(Tabulka2[[#This Row],[Data]]<$G$57,Tabulka2[[#This Row],[Data]]>$G$58),2,IF(OR(Tabulka2[[#This Row],[Data]]<$G$51,Tabulka2[[#This Row],[Data]]>$G$52),1,0)))","v":""},{"$f":"IF(Tabulka2[[#This Row],[OL]]=\"\",\"\",IF(Tabulka2[[#This Row],[OL]]>0,A695,\"\"))","v":""},null,null,null,null,null,null,null,null,null,null,null,null,null,null,null,"",null,""]
[null,null,{"$f":"IF(Tabulka2[[#This Row],[Data]]=\"\",\"\",IF(OR(Tabulka2[[#This Row],[Data]]<$G$57,Tabulka2[[#This Row],[Data]]>$G$58),2,IF(OR(Tabulka2[[#This Row],[Data]]<$G$51,Tabulka2[[#This Row],[Data]]>$G$52),1,0)))","v":""},{"$f":"IF(Tabulka2[[#This Row],[OL]]=\"\",\"\",IF(Tabulka2[[#This Row],[OL]]>0,A696,\"\"))","v":""},null,null,null,null,null,null,null,null,null,null,null,null,null,null,null,"",null,""]
[null,null,{"$f":"IF(Tabulka2[[#This Row],[Data]]=\"\",\"\",IF(OR(Tabulka2[[#This Row],[Data]]<$G$57,Tabulka2[[#This Row],[Data]]>$G$58),2,IF(OR(Tabulka2[[#This Row],[Data]]<$G$51,Tabulka2[[#This Row],[Data]]>$G$52),1,0)))","v":""},{"$f":"IF(Tabulka2[[#This Row],[OL]]=\"\",\"\",IF(Tabulka2[[#This Row],[OL]]>0,A697,\"\"))","v":""},null,null,null,null,null,null,null,null,null,null,null,null,null,null,null,"",null,""]
[null,null,{"$f":"IF(Tabulka2[[#This Row],[Data]]=\"\",\"\",IF(OR(Tabulka2[[#This Row],[Data]]<$G$57,Tabulka2[[#This Row],[Data]]>$G$58),2,IF(OR(Tabulka2[[#This Row],[Data]]<$G$51,Tabulka2[[#This Row],[Data]]>$G$52),1,0)))","v":""},{"$f":"IF(Tabulka2[[#This Row],[OL]]=\"\",\"\",IF(Tabulka2[[#This Row],[OL]]>0,A698,\"\"))","v":""},null,null,null,null,null,null,null,null,null,null,null,null,null,null,null,"",null,""]
[null,null,{"$f":"IF(Tabulka2[[#This Row],[Data]]=\"\",\"\",IF(OR(Tabulka2[[#This Row],[Data]]<$G$57,Tabulka2[[#This Row],[Data]]>$G$58),2,IF(OR(Tabulka2[[#This Row],[Data]]<$G$51,Tabulka2[[#This Row],[Data]]>$G$52),1,0)))","v":""},{"$f":"IF(Tabulka2[[#This Row],[OL]]=\"\",\"\",IF(Tabulka2[[#This Row],[OL]]>0,A699,\"\"))","v":""},null,null,null,null,null,null,null,null,null,null,null,null,null,null,null,"",null,""]
[null,null,{"$f":"IF(Tabulka2[[#This Row],[Data]]=\"\",\"\",IF(OR(Tabulka2[[#This Row],[Data]]<$G$57,Tabulka2[[#This Row],[Data]]>$G$58),2,IF(OR(Tabulka2[[#This Row],[Data]]<$G$51,Tabulka2[[#This Row],[Data]]>$G$52),1,0)))","v":""},{"$f":"IF(Tabulka2[[#This Row],[OL]]=\"\",\"\",IF(Tabulka2[[#This Row],[OL]]>0,A700,\"\"))","v":""},null,null,null,null,null,null,null,null,null,null,null,null,null,null,null,"",null,""]
[null,null,{"$f":"IF(Tabulka2[[#This Row],[Data]]=\"\",\"\",IF(OR(Tabulka2[[#This Row],[Data]]<$G$57,Tabulka2[[#This Row],[Data]]>$G$58),2,IF(OR(Tabulka2[[#This Row],[Data]]<$G$51,Tabulka2[[#This Row],[Data]]>$G$52),1,0)))","v":""},{"$f":"IF(Tabulka2[[#This Row],[OL]]=\"\",\"\",IF(Tabulka2[[#This Row],[OL]]>0,A701,\"\"))","v":""},null,null,null,null,null,null,null,null,null,null,null,null,null,null,null,"",null,""]
[null,null,{"$f":"IF(Tabulka2[[#This Row],[Data]]=\"\",\"\",IF(OR(Tabulka2[[#This Row],[Data]]<$G$57,Tabulka2[[#This Row],[Data]]>$G$58),2,IF(OR(Tabulka2[[#This Row],[Data]]<$G$51,Tabulka2[[#This Row],[Data]]>$G$52),1,0)))","v":""},{"$f":"IF(Tabulka2[[#This Row],[OL]]=\"\",\"\",IF(Tabulka2[[#This Row],[OL]]>0,A702,\"\"))","v":""},null,null,null,null,null,null,null,null,null,null,null,null,null,null,null,"",null,""]
[null,null,{"$f":"IF(Tabulka2[[#This Row],[Data]]=\"\",\"\",IF(OR(Tabulka2[[#This Row],[Data]]<$G$57,Tabulka2[[#This Row],[Data]]>$G$58),2,IF(OR(Tabulka2[[#This Row],[Data]]<$G$51,Tabulka2[[#This Row],[Data]]>$G$52),1,0)))","v":""},{"$f":"IF(Tabulka2[[#This Row],[OL]]=\"\",\"\",IF(Tabulka2[[#This Row],[OL]]>0,A703,\"\"))","v":""},null,null,null,null,null,null,null,null,null,null,null,null,null,null,null,"",null,""]
[null,null,{"$f":"IF(Tabulka2[[#This Row],[Data]]=\"\",\"\",IF(OR(Tabulka2[[#This Row],[Data]]<$G$57,Tabulka2[[#This Row],[Data]]>$G$58),2,IF(OR(Tabulka2[[#This Row],[Data]]<$G$51,Tabulka2[[#This Row],[Data]]>$G$52),1,0)))","v":""},{"$f":"IF(Tabulka2[[#This Row],[OL]]=\"\",\"\",IF(Tabulka2[[#This Row],[OL]]>0,A704,\"\"))","v":""},null,null,null,null,null,null,null,null,null,null,null,null,null,null,null,"",null,""]
[null,null,{"$f":"IF(Tabulka2[[#This Row],[Data]]=\"\",\"\",IF(OR(Tabulka2[[#This Row],[Data]]<$G$57,Tabulka2[[#This Row],[Data]]>$G$58),2,IF(OR(Tabulka2[[#This Row],[Data]]<$G$51,Tabulka2[[#This Row],[Data]]>$G$52),1,0)))","v":""},{"$f":"IF(Tabulka2[[#This Row],[OL]]=\"\",\"\",IF(Tabulka2[[#This Row],[OL]]>0,A705,\"\"))","v":""},null,null,null,null,null,null,null,null,null,null,null,null,null,null,null,"",null,""]
[null,null,{"$f":"IF(Tabulka2[[#This Row],[Data]]=\"\",\"\",IF(OR(Tabulka2[[#This Row],[Data]]<$G$57,Tabulka2[[#This Row],[Data]]>$G$58),2,IF(OR(Tabulka2[[#This Row],[Data]]<$G$51,Tabulka2[[#This Row],[Data]]>$G$52),1,0)))","v":""},{"$f":"IF(Tabulka2[[#This Row],[OL]]=\"\",\"\",IF(Tabulka2[[#This Row],[OL]]>0,A706,\"\"))","v":""},null,null,null,null,null,null,null,null,null,null,null,null,null,null,null,"",null,""]
[null,null,{"$f":"IF(Tabulka2[[#This Row],[Data]]=\"\",\"\",IF(OR(Tabulka2[[#This Row],[Data]]<$G$57,Tabulka2[[#This Row],[Data]]>$G$58),2,IF(OR(Tabulka2[[#This Row],[Data]]<$G$51,Tabulka2[[#This Row],[Data]]>$G$52),1,0)))","v":""},{"$f":"IF(Tabulka2[[#This Row],[OL]]=\"\",\"\",IF(Tabulka2[[#This Row],[OL]]>0,A707,\"\"))","v":""},null,null,null,null,null,null,null,null,null,null,null,null,null,null,null,"",null,""]
[null,null,{"$f":"IF(Tabulka2[[#This Row],[Data]]=\"\",\"\",IF(OR(Tabulka2[[#This Row],[Data]]<$G$57,Tabulka2[[#This Row],[Data]]>$G$58),2,IF(OR(Tabulka2[[#This Row],[Data]]<$G$51,Tabulka2[[#This Row],[Data]]>$G$52),1,0)))","v":""},{"$f":"IF(Tabulka2[[#This Row],[OL]]=\"\",\"\",IF(Tabulka2[[#This Row],[OL]]>0,A708,\"\"))","v":""},null,null,null,null,null,null,null,null,null,null,null,null,null,null,null,"",null,""]
[null,null,{"$f":"IF(Tabulka2[[#This Row],[Data]]=\"\",\"\",IF(OR(Tabulka2[[#This Row],[Data]]<$G$57,Tabulka2[[#This Row],[Data]]>$G$58),2,IF(OR(Tabulka2[[#This Row],[Data]]<$G$51,Tabulka2[[#This Row],[Data]]>$G$52),1,0)))","v":""},{"$f":"IF(Tabulka2[[#This Row],[OL]]=\"\",\"\",IF(Tabulka2[[#This Row],[OL]]>0,A709,\"\"))","v":""},null,null,null,null,null,null,null,null,null,null,null,null,null,null,null,"",null,""]
[null,null,{"$f":"IF(Tabulka2[[#This Row],[Data]]=\"\",\"\",IF(OR(Tabulka2[[#This Row],[Data]]<$G$57,Tabulka2[[#This Row],[Data]]>$G$58),2,IF(OR(Tabulka2[[#This Row],[Data]]<$G$51,Tabulka2[[#This Row],[Data]]>$G$52),1,0)))","v":""},{"$f":"IF(Tabulka2[[#This Row],[OL]]=\"\",\"\",IF(Tabulka2[[#This Row],[OL]]>0,A710,\"\"))","v":""},null,null,null,null,null,null,null,null,null,null,null,null,null,null,null,"",null,""]
[null,null,{"$f":"IF(Tabulka2[[#This Row],[Data]]=\"\",\"\",IF(OR(Tabulka2[[#This Row],[Data]]<$G$57,Tabulka2[[#This Row],[Data]]>$G$58),2,IF(OR(Tabulka2[[#This Row],[Data]]<$G$51,Tabulka2[[#This Row],[Data]]>$G$52),1,0)))","v":""},{"$f":"IF(Tabulka2[[#This Row],[OL]]=\"\",\"\",IF(Tabulka2[[#This Row],[OL]]>0,A711,\"\"))","v":""},null,null,null,null,null,null,null,null,null,null,null,null,null,null,null,"",null,""]
[null,null,{"$f":"IF(Tabulka2[[#This Row],[Data]]=\"\",\"\",IF(OR(Tabulka2[[#This Row],[Data]]<$G$57,Tabulka2[[#This Row],[Data]]>$G$58),2,IF(OR(Tabulka2[[#This Row],[Data]]<$G$51,Tabulka2[[#This Row],[Data]]>$G$52),1,0)))","v":""},{"$f":"IF(Tabulka2[[#This Row],[OL]]=\"\",\"\",IF(Tabulka2[[#This Row],[OL]]>0,A712,\"\"))","v":""},null,null,null,null,null,null,null,null,null,null,null,null,null,null,null,"",null,""]
[null,null,{"$f":"IF(Tabulka2[[#This Row],[Data]]=\"\",\"\",IF(OR(Tabulka2[[#This Row],[Data]]<$G$57,Tabulka2[[#This Row],[Data]]>$G$58),2,IF(OR(Tabulka2[[#This Row],[Data]]<$G$51,Tabulka2[[#This Row],[Data]]>$G$52),1,0)))","v":""},{"$f":"IF(Tabulka2[[#This Row],[OL]]=\"\",\"\",IF(Tabulka2[[#This Row],[OL]]>0,A713,\"\"))","v":""},null,null,null,null,null,null,null,null,null,null,null,null,null,null,null,"",null,""]
[null,null,{"$f":"IF(Tabulka2[[#This Row],[Data]]=\"\",\"\",IF(OR(Tabulka2[[#This Row],[Data]]<$G$57,Tabulka2[[#This Row],[Data]]>$G$58),2,IF(OR(Tabulka2[[#This Row],[Data]]<$G$51,Tabulka2[[#This Row],[Data]]>$G$52),1,0)))","v":""},{"$f":"IF(Tabulka2[[#This Row],[OL]]=\"\",\"\",IF(Tabulka2[[#This Row],[OL]]>0,A714,\"\"))","v":""},null,null,null,null,null,null,null,null,null,null,null,null,null,null,null,"",null,""]
[null,null,{"$f":"IF(Tabulka2[[#This Row],[Data]]=\"\",\"\",IF(OR(Tabulka2[[#This Row],[Data]]<$G$57,Tabulka2[[#This Row],[Data]]>$G$58),2,IF(OR(Tabulka2[[#This Row],[Data]]<$G$51,Tabulka2[[#This Row],[Data]]>$G$52),1,0)))","v":""},{"$f":"IF(Tabulka2[[#This Row],[OL]]=\"\",\"\",IF(Tabulka2[[#This Row],[OL]]>0,A715,\"\"))","v":""},null,null,null,null,null,null,null,null,null,null,null,null,null,null,null,"",null,""]
[null,null,{"$f":"IF(Tabulka2[[#This Row],[Data]]=\"\",\"\",IF(OR(Tabulka2[[#This Row],[Data]]<$G$57,Tabulka2[[#This Row],[Data]]>$G$58),2,IF(OR(Tabulka2[[#This Row],[Data]]<$G$51,Tabulka2[[#This Row],[Data]]>$G$52),1,0)))","v":""},{"$f":"IF(Tabulka2[[#This Row],[OL]]=\"\",\"\",IF(Tabulka2[[#This Row],[OL]]>0,A716,\"\"))","v":""},null,null,null,null,null,null,null,null,null,null,null,null,null,null,null,"",null,""]
[null,null,{"$f":"IF(Tabulka2[[#This Row],[Data]]=\"\",\"\",IF(OR(Tabulka2[[#This Row],[Data]]<$G$57,Tabulka2[[#This Row],[Data]]>$G$58),2,IF(OR(Tabulka2[[#This Row],[Data]]<$G$51,Tabulka2[[#This Row],[Data]]>$G$52),1,0)))","v":""},{"$f":"IF(Tabulka2[[#This Row],[OL]]=\"\",\"\",IF(Tabulka2[[#This Row],[OL]]>0,A717,\"\"))","v":""},null,null,null,null,null,null,null,null,null,null,null,null,null,null,null,"",null,""]
[null,null,{"$f":"IF(Tabulka2[[#This Row],[Data]]=\"\",\"\",IF(OR(Tabulka2[[#This Row],[Data]]<$G$57,Tabulka2[[#This Row],[Data]]>$G$58),2,IF(OR(Tabulka2[[#This Row],[Data]]<$G$51,Tabulka2[[#This Row],[Data]]>$G$52),1,0)))","v":""},{"$f":"IF(Tabulka2[[#This Row],[OL]]=\"\",\"\",IF(Tabulka2[[#This Row],[OL]]>0,A718,\"\"))","v":""},null,null,null,null,null,null,null,null,null,null,null,null,null,null,null,"",null,""]
[null,null,{"$f":"IF(Tabulka2[[#This Row],[Data]]=\"\",\"\",IF(OR(Tabulka2[[#This Row],[Data]]<$G$57,Tabulka2[[#This Row],[Data]]>$G$58),2,IF(OR(Tabulka2[[#This Row],[Data]]<$G$51,Tabulka2[[#This Row],[Data]]>$G$52),1,0)))","v":""},{"$f":"IF(Tabulka2[[#This Row],[OL]]=\"\",\"\",IF(Tabulka2[[#This Row],[OL]]>0,A719,\"\"))","v":""},null,null,null,null,null,null,null,null,null,null,null,null,null,null,null,"",null,""]
[null,null,{"$f":"IF(Tabulka2[[#This Row],[Data]]=\"\",\"\",IF(OR(Tabulka2[[#This Row],[Data]]<$G$57,Tabulka2[[#This Row],[Data]]>$G$58),2,IF(OR(Tabulka2[[#This Row],[Data]]<$G$51,Tabulka2[[#This Row],[Data]]>$G$52),1,0)))","v":""},{"$f":"IF(Tabulka2[[#This Row],[OL]]=\"\",\"\",IF(Tabulka2[[#This Row],[OL]]>0,A720,\"\"))","v":""},null,null,null,null,null,null,null,null,null,null,null,null,null,null,null,"",null,""]
[null,null,{"$f":"IF(Tabulka2[[#This Row],[Data]]=\"\",\"\",IF(OR(Tabulka2[[#This Row],[Data]]<$G$57,Tabulka2[[#This Row],[Data]]>$G$58),2,IF(OR(Tabulka2[[#This Row],[Data]]<$G$51,Tabulka2[[#This Row],[Data]]>$G$52),1,0)))","v":""},{"$f":"IF(Tabulka2[[#This Row],[OL]]=\"\",\"\",IF(Tabulka2[[#This Row],[OL]]>0,A721,\"\"))","v":""},null,null,null,null,null,null,null,null,null,null,null,null,null,null,null,"",null,""]
[null,null,{"$f":"IF(Tabulka2[[#This Row],[Data]]=\"\",\"\",IF(OR(Tabulka2[[#This Row],[Data]]<$G$57,Tabulka2[[#This Row],[Data]]>$G$58),2,IF(OR(Tabulka2[[#This Row],[Data]]<$G$51,Tabulka2[[#This Row],[Data]]>$G$52),1,0)))","v":""},{"$f":"IF(Tabulka2[[#This Row],[OL]]=\"\",\"\",IF(Tabulka2[[#This Row],[OL]]>0,A722,\"\"))","v":""},null,null,null,null,null,null,null,null,null,null,null,null,null,null,null,"",null,""]
[null,null,{"$f":"IF(Tabulka2[[#This Row],[Data]]=\"\",\"\",IF(OR(Tabulka2[[#This Row],[Data]]<$G$57,Tabulka2[[#This Row],[Data]]>$G$58),2,IF(OR(Tabulka2[[#This Row],[Data]]<$G$51,Tabulka2[[#This Row],[Data]]>$G$52),1,0)))","v":""},{"$f":"IF(Tabulka2[[#This Row],[OL]]=\"\",\"\",IF(Tabulka2[[#This Row],[OL]]>0,A723,\"\"))","v":""},null,null,null,null,null,null,null,null,null,null,null,null,null,null,null,"",null,""]
[null,null,{"$f":"IF(Tabulka2[[#This Row],[Data]]=\"\",\"\",IF(OR(Tabulka2[[#This Row],[Data]]<$G$57,Tabulka2[[#This Row],[Data]]>$G$58),2,IF(OR(Tabulka2[[#This Row],[Data]]<$G$51,Tabulka2[[#This Row],[Data]]>$G$52),1,0)))","v":""},{"$f":"IF(Tabulka2[[#This Row],[OL]]=\"\",\"\",IF(Tabulka2[[#This Row],[OL]]>0,A724,\"\"))","v":""},null,null,null,null,null,null,null,null,null,null,null,null,null,null,null,"",null,""]
[null,null,{"$f":"IF(Tabulka2[[#This Row],[Data]]=\"\",\"\",IF(OR(Tabulka2[[#This Row],[Data]]<$G$57,Tabulka2[[#This Row],[Data]]>$G$58),2,IF(OR(Tabulka2[[#This Row],[Data]]<$G$51,Tabulka2[[#This Row],[Data]]>$G$52),1,0)))","v":""},{"$f":"IF(Tabulka2[[#This Row],[OL]]=\"\",\"\",IF(Tabulka2[[#This Row],[OL]]>0,A725,\"\"))","v":""},null,null,null,null,null,null,null,null,null,null,null,null,null,null,null,"",null,""]
[null,null,{"$f":"IF(Tabulka2[[#This Row],[Data]]=\"\",\"\",IF(OR(Tabulka2[[#This Row],[Data]]<$G$57,Tabulka2[[#This Row],[Data]]>$G$58),2,IF(OR(Tabulka2[[#This Row],[Data]]<$G$51,Tabulka2[[#This Row],[Data]]>$G$52),1,0)))","v":""},{"$f":"IF(Tabulka2[[#This Row],[OL]]=\"\",\"\",IF(Tabulka2[[#This Row],[OL]]>0,A726,\"\"))","v":""},null,null,null,null,null,null,null,null,null,null,null,null,null,null,null,"",null,""]
[null,null,{"$f":"IF(Tabulka2[[#This Row],[Data]]=\"\",\"\",IF(OR(Tabulka2[[#This Row],[Data]]<$G$57,Tabulka2[[#This Row],[Data]]>$G$58),2,IF(OR(Tabulka2[[#This Row],[Data]]<$G$51,Tabulka2[[#This Row],[Data]]>$G$52),1,0)))","v":""},{"$f":"IF(Tabulka2[[#This Row],[OL]]=\"\",\"\",IF(Tabulka2[[#This Row],[OL]]>0,A727,\"\"))","v":""},null,null,null,null,null,null,null,null,null,null,null,null,null,null,null,"",null,""]
[null,null,{"$f":"IF(Tabulka2[[#This Row],[Data]]=\"\",\"\",IF(OR(Tabulka2[[#This Row],[Data]]<$G$57,Tabulka2[[#This Row],[Data]]>$G$58),2,IF(OR(Tabulka2[[#This Row],[Data]]<$G$51,Tabulka2[[#This Row],[Data]]>$G$52),1,0)))","v":""},{"$f":"IF(Tabulka2[[#This Row],[OL]]=\"\",\"\",IF(Tabulka2[[#This Row],[OL]]>0,A728,\"\"))","v":""},null,null,null,null,null,null,null,null,null,null,null,null,null,null,null,"",null,""]
[null,null,{"$f":"IF(Tabulka2[[#This Row],[Data]]=\"\",\"\",IF(OR(Tabulka2[[#This Row],[Data]]<$G$57,Tabulka2[[#This Row],[Data]]>$G$58),2,IF(OR(Tabulka2[[#This Row],[Data]]<$G$51,Tabulka2[[#This Row],[Data]]>$G$52),1,0)))","v":""},{"$f":"IF(Tabulka2[[#This Row],[OL]]=\"\",\"\",IF(Tabulka2[[#This Row],[OL]]>0,A729,\"\"))","v":""},null,null,null,null,null,null,null,null,null,null,null,null,null,null,null,"",null,""]
[null,null,{"$f":"IF(Tabulka2[[#This Row],[Data]]=\"\",\"\",IF(OR(Tabulka2[[#This Row],[Data]]<$G$57,Tabulka2[[#This Row],[Data]]>$G$58),2,IF(OR(Tabulka2[[#This Row],[Data]]<$G$51,Tabulka2[[#This Row],[Data]]>$G$52),1,0)))","v":""},{"$f":"IF(Tabulka2[[#This Row],[OL]]=\"\",\"\",IF(Tabulka2[[#This Row],[OL]]>0,A730,\"\"))","v":""},null,null,null,null,null,null,null,null,null,null,null,null,null,null,null,"",null,""]
[null,null,{"$f":"IF(Tabulka2[[#This Row],[Data]]=\"\",\"\",IF(OR(Tabulka2[[#This Row],[Data]]<$G$57,Tabulka2[[#This Row],[Data]]>$G$58),2,IF(OR(Tabulka2[[#This Row],[Data]]<$G$51,Tabulka2[[#This Row],[Data]]>$G$52),1,0)))","v":""},{"$f":"IF(Tabulka2[[#This Row],[OL]]=\"\",\"\",IF(Tabulka2[[#This Row],[OL]]>0,A731,\"\"))","v":""},null,null,null,null,null,null,null,null,null,null,null,null,null,null,null,"",null,""]
[null,null,{"$f":"IF(Tabulka2[[#This Row],[Data]]=\"\",\"\",IF(OR(Tabulka2[[#This Row],[Data]]<$G$57,Tabulka2[[#This Row],[Data]]>$G$58),2,IF(OR(Tabulka2[[#This Row],[Data]]<$G$51,Tabulka2[[#This Row],[Data]]>$G$52),1,0)))","v":""},{"$f":"IF(Tabulka2[[#This Row],[OL]]=\"\",\"\",IF(Tabulka2[[#This Row],[OL]]>0,A732,\"\"))","v":""},null,null,null,null,null,null,null,null,null,null,null,null,null,null,null,"",null,""]
[null,null,{"$f":"IF(Tabulka2[[#This Row],[Data]]=\"\",\"\",IF(OR(Tabulka2[[#This Row],[Data]]<$G$57,Tabulka2[[#This Row],[Data]]>$G$58),2,IF(OR(Tabulka2[[#This Row],[Data]]<$G$51,Tabulka2[[#This Row],[Data]]>$G$52),1,0)))","v":""},{"$f":"IF(Tabulka2[[#This Row],[OL]]=\"\",\"\",IF(Tabulka2[[#This Row],[OL]]>0,A733,\"\"))","v":""},null,null,null,null,null,null,null,null,null,null,null,null,null,null,null,"",null,""]
[null,null,{"$f":"IF(Tabulka2[[#This Row],[Data]]=\"\",\"\",IF(OR(Tabulka2[[#This Row],[Data]]<$G$57,Tabulka2[[#This Row],[Data]]>$G$58),2,IF(OR(Tabulka2[[#This Row],[Data]]<$G$51,Tabulka2[[#This Row],[Data]]>$G$52),1,0)))","v":""},{"$f":"IF(Tabulka2[[#This Row],[OL]]=\"\",\"\",IF(Tabulka2[[#This Row],[OL]]>0,A734,\"\"))","v":""},null,null,null,null,null,null,null,null,null,null,null,null,null,null,null,"",null,""]
[null,null,{"$f":"IF(Tabulka2[[#This Row],[Data]]=\"\",\"\",IF(OR(Tabulka2[[#This Row],[Data]]<$G$57,Tabulka2[[#This Row],[Data]]>$G$58),2,IF(OR(Tabulka2[[#This Row],[Data]]<$G$51,Tabulka2[[#This Row],[Data]]>$G$52),1,0)))","v":""},{"$f":"IF(Tabulka2[[#This Row],[OL]]=\"\",\"\",IF(Tabulka2[[#This Row],[OL]]>0,A735,\"\"))","v":""},null,null,null,null,null,null,null,null,null,null,null,null,null,null,null,"",null,""]
[null,null,{"$f":"IF(Tabulka2[[#This Row],[Data]]=\"\",\"\",IF(OR(Tabulka2[[#This Row],[Data]]<$G$57,Tabulka2[[#This Row],[Data]]>$G$58),2,IF(OR(Tabulka2[[#This Row],[Data]]<$G$51,Tabulka2[[#This Row],[Data]]>$G$52),1,0)))","v":""},{"$f":"IF(Tabulka2[[#This Row],[OL]]=\"\",\"\",IF(Tabulka2[[#This Row],[OL]]>0,A736,\"\"))","v":""},null,null,null,null,null,null,null,null,null,null,null,null,null,null,null,"",null,""]
[null,null,{"$f":"IF(Tabulka2[[#This Row],[Data]]=\"\",\"\",IF(OR(Tabulka2[[#This Row],[Data]]<$G$57,Tabulka2[[#This Row],[Data]]>$G$58),2,IF(OR(Tabulka2[[#This Row],[Data]]<$G$51,Tabulka2[[#This Row],[Data]]>$G$52),1,0)))","v":""},{"$f":"IF(Tabulka2[[#This Row],[OL]]=\"\",\"\",IF(Tabulka2[[#This Row],[OL]]>0,A737,\"\"))","v":""},null,null,null,null,null,null,null,null,null,null,null,null,null,null,null,"",null,""]
[null,null,{"$f":"IF(Tabulka2[[#This Row],[Data]]=\"\",\"\",IF(OR(Tabulka2[[#This Row],[Data]]<$G$57,Tabulka2[[#This Row],[Data]]>$G$58),2,IF(OR(Tabulka2[[#This Row],[Data]]<$G$51,Tabulka2[[#This Row],[Data]]>$G$52),1,0)))","v":""},{"$f":"IF(Tabulka2[[#This Row],[OL]]=\"\",\"\",IF(Tabulka2[[#This Row],[OL]]>0,A738,\"\"))","v":""},null,null,null,null,null,null,null,null,null,null,null,null,null,null,null,"",null,""]
[null,null,{"$f":"IF(Tabulka2[[#This Row],[Data]]=\"\",\"\",IF(OR(Tabulka2[[#This Row],[Data]]<$G$57,Tabulka2[[#This Row],[Data]]>$G$58),2,IF(OR(Tabulka2[[#This Row],[Data]]<$G$51,Tabulka2[[#This Row],[Data]]>$G$52),1,0)))","v":""},{"$f":"IF(Tabulka2[[#This Row],[OL]]=\"\",\"\",IF(Tabulka2[[#This Row],[OL]]>0,A739,\"\"))","v":""},null,null,null,null,null,null,null,null,null,null,null,null,null,null,null,"",null,""]
[null,null,{"$f":"IF(Tabulka2[[#This Row],[Data]]=\"\",\"\",IF(OR(Tabulka2[[#This Row],[Data]]<$G$57,Tabulka2[[#This Row],[Data]]>$G$58),2,IF(OR(Tabulka2[[#This Row],[Data]]<$G$51,Tabulka2[[#This Row],[Data]]>$G$52),1,0)))","v":""},{"$f":"IF(Tabulka2[[#This Row],[OL]]=\"\",\"\",IF(Tabulka2[[#This Row],[OL]]>0,A740,\"\"))","v":""},null,null,null,null,null,null,null,null,null,null,null,null,null,null,null,"",null,""]
[null,null,{"$f":"IF(Tabulka2[[#This Row],[Data]]=\"\",\"\",IF(OR(Tabulka2[[#This Row],[Data]]<$G$57,Tabulka2[[#This Row],[Data]]>$G$58),2,IF(OR(Tabulka2[[#This Row],[Data]]<$G$51,Tabulka2[[#This Row],[Data]]>$G$52),1,0)))","v":""},{"$f":"IF(Tabulka2[[#This Row],[OL]]=\"\",\"\",IF(Tabulka2[[#This Row],[OL]]>0,A741,\"\"))","v":""},null,null,null,null,null,null,null,null,null,null,null,null,null,null,null,"",null,""]
[null,null,{"$f":"IF(Tabulka2[[#This Row],[Data]]=\"\",\"\",IF(OR(Tabulka2[[#This Row],[Data]]<$G$57,Tabulka2[[#This Row],[Data]]>$G$58),2,IF(OR(Tabulka2[[#This Row],[Data]]<$G$51,Tabulka2[[#This Row],[Data]]>$G$52),1,0)))","v":""},{"$f":"IF(Tabulka2[[#This Row],[OL]]=\"\",\"\",IF(Tabulka2[[#This Row],[OL]]>0,A742,\"\"))","v":""},null,null,null,null,null,null,null,null,null,null,null,null,null,null,null,"",null,""]
[null,null,{"$f":"IF(Tabulka2[[#This Row],[Data]]=\"\",\"\",IF(OR(Tabulka2[[#This Row],[Data]]<$G$57,Tabulka2[[#This Row],[Data]]>$G$58),2,IF(OR(Tabulka2[[#This Row],[Data]]<$G$51,Tabulka2[[#This Row],[Data]]>$G$52),1,0)))","v":""},{"$f":"IF(Tabulka2[[#This Row],[OL]]=\"\",\"\",IF(Tabulka2[[#This Row],[OL]]>0,A743,\"\"))","v":""},null,null,null,null,null,null,null,null,null,null,null,null,null,null,null,"",null,""]
[null,null,{"$f":"IF(Tabulka2[[#This Row],[Data]]=\"\",\"\",IF(OR(Tabulka2[[#This Row],[Data]]<$G$57,Tabulka2[[#This Row],[Data]]>$G$58),2,IF(OR(Tabulka2[[#This Row],[Data]]<$G$51,Tabulka2[[#This Row],[Data]]>$G$52),1,0)))","v":""},{"$f":"IF(Tabulka2[[#This Row],[OL]]=\"\",\"\",IF(Tabulka2[[#This Row],[OL]]>0,A744,\"\"))","v":""},null,null,null,null,null,null,null,null,null,null,null,null,null,null,null,"",null,""]
[null,null,{"$f":"IF(Tabulka2[[#This Row],[Data]]=\"\",\"\",IF(OR(Tabulka2[[#This Row],[Data]]<$G$57,Tabulka2[[#This Row],[Data]]>$G$58),2,IF(OR(Tabulka2[[#This Row],[Data]]<$G$51,Tabulka2[[#This Row],[Data]]>$G$52),1,0)))","v":""},{"$f":"IF(Tabulka2[[#This Row],[OL]]=\"\",\"\",IF(Tabulka2[[#This Row],[OL]]>0,A745,\"\"))","v":""},null,null,null,null,null,null,null,null,null,null,null,null,null,null,null,"",null,""]
[null,null,{"$f":"IF(Tabulka2[[#This Row],[Data]]=\"\",\"\",IF(OR(Tabulka2[[#This Row],[Data]]<$G$57,Tabulka2[[#This Row],[Data]]>$G$58),2,IF(OR(Tabulka2[[#This Row],[Data]]<$G$51,Tabulka2[[#This Row],[Data]]>$G$52),1,0)))","v":""},{"$f":"IF(Tabulka2[[#This Row],[OL]]=\"\",\"\",IF(Tabulka2[[#This Row],[OL]]>0,A746,\"\"))","v":""},null,null,null,null,null,null,null,null,null,null,null,null,null,null,null,"",null,""]
[null,null,{"$f":"IF(Tabulka2[[#This Row],[Data]]=\"\",\"\",IF(OR(Tabulka2[[#This Row],[Data]]<$G$57,Tabulka2[[#This Row],[Data]]>$G$58),2,IF(OR(Tabulka2[[#This Row],[Data]]<$G$51,Tabulka2[[#This Row],[Data]]>$G$52),1,0)))","v":""},{"$f":"IF(Tabulka2[[#This Row],[OL]]=\"\",\"\",IF(Tabulka2[[#This Row],[OL]]>0,A747,\"\"))","v":""},null,null,null,null,null,null,null,null,null,null,null,null,null,null,null,"",null,""]
[null,null,{"$f":"IF(Tabulka2[[#This Row],[Data]]=\"\",\"\",IF(OR(Tabulka2[[#This Row],[Data]]<$G$57,Tabulka2[[#This Row],[Data]]>$G$58),2,IF(OR(Tabulka2[[#This Row],[Data]]<$G$51,Tabulka2[[#This Row],[Data]]>$G$52),1,0)))","v":""},{"$f":"IF(Tabulka2[[#This Row],[OL]]=\"\",\"\",IF(Tabulka2[[#This Row],[OL]]>0,A748,\"\"))","v":""},null,null,null,null,null,null,null,null,null,null,null,null,null,null,null,"",null,""]
[null,null,{"$f":"IF(Tabulka2[[#This Row],[Data]]=\"\",\"\",IF(OR(Tabulka2[[#This Row],[Data]]<$G$57,Tabulka2[[#This Row],[Data]]>$G$58),2,IF(OR(Tabulka2[[#This Row],[Data]]<$G$51,Tabulka2[[#This Row],[Data]]>$G$52),1,0)))","v":""},{"$f":"IF(Tabulka2[[#This Row],[OL]]=\"\",\"\",IF(Tabulka2[[#This Row],[OL]]>0,A749,\"\"))","v":""},null,null,null,null,null,null,null,null,null,null,null,null,null,null,null,"",null,""]
[null,null,{"$f":"IF(Tabulka2[[#This Row],[Data]]=\"\",\"\",IF(OR(Tabulka2[[#This Row],[Data]]<$G$57,Tabulka2[[#This Row],[Data]]>$G$58),2,IF(OR(Tabulka2[[#This Row],[Data]]<$G$51,Tabulka2[[#This Row],[Data]]>$G$52),1,0)))","v":""},{"$f":"IF(Tabulka2[[#This Row],[OL]]=\"\",\"\",IF(Tabulka2[[#This Row],[OL]]>0,A750,\"\"))","v":""},null,null,null,null,null,null,null,null,null,null,null,null,null,null,null,"",null,""]
[null,null,{"$f":"IF(Tabulka2[[#This Row],[Data]]=\"\",\"\",IF(OR(Tabulka2[[#This Row],[Data]]<$G$57,Tabulka2[[#This Row],[Data]]>$G$58),2,IF(OR(Tabulka2[[#This Row],[Data]]<$G$51,Tabulka2[[#This Row],[Data]]>$G$52),1,0)))","v":""},{"$f":"IF(Tabulka2[[#This Row],[OL]]=\"\",\"\",IF(Tabulka2[[#This Row],[OL]]>0,A751,\"\"))","v":""},null,null,null,null,null,null,null,null,null,null,null,null,null,null,null,"",null,""]
[null,null,{"$f":"IF(Tabulka2[[#This Row],[Data]]=\"\",\"\",IF(OR(Tabulka2[[#This Row],[Data]]<$G$57,Tabulka2[[#This Row],[Data]]>$G$58),2,IF(OR(Tabulka2[[#This Row],[Data]]<$G$51,Tabulka2[[#This Row],[Data]]>$G$52),1,0)))","v":""},{"$f":"IF(Tabulka2[[#This Row],[OL]]=\"\",\"\",IF(Tabulka2[[#This Row],[OL]]>0,A752,\"\"))","v":""},null,null,null,null,null,null,null,null,null,null,null,null,null,null,null,"",null,""]
[null,null,{"$f":"IF(Tabulka2[[#This Row],[Data]]=\"\",\"\",IF(OR(Tabulka2[[#This Row],[Data]]<$G$57,Tabulka2[[#This Row],[Data]]>$G$58),2,IF(OR(Tabulka2[[#This Row],[Data]]<$G$51,Tabulka2[[#This Row],[Data]]>$G$52),1,0)))","v":""},{"$f":"IF(Tabulka2[[#This Row],[OL]]=\"\",\"\",IF(Tabulka2[[#This Row],[OL]]>0,A753,\"\"))","v":""},null,null,null,null,null,null,null,null,null,null,null,null,null,null,null,"",null,""]
[null,null,{"$f":"IF(Tabulka2[[#This Row],[Data]]=\"\",\"\",IF(OR(Tabulka2[[#This Row],[Data]]<$G$57,Tabulka2[[#This Row],[Data]]>$G$58),2,IF(OR(Tabulka2[[#This Row],[Data]]<$G$51,Tabulka2[[#This Row],[Data]]>$G$52),1,0)))","v":""},{"$f":"IF(Tabulka2[[#This Row],[OL]]=\"\",\"\",IF(Tabulka2[[#This Row],[OL]]>0,A754,\"\"))","v":""},null,null,null,null,null,null,null,null,null,null,null,null,null,null,null,"",null,""]
[null,null,{"$f":"IF(Tabulka2[[#This Row],[Data]]=\"\",\"\",IF(OR(Tabulka2[[#This Row],[Data]]<$G$57,Tabulka2[[#This Row],[Data]]>$G$58),2,IF(OR(Tabulka2[[#This Row],[Data]]<$G$51,Tabulka2[[#This Row],[Data]]>$G$52),1,0)))","v":""},{"$f":"IF(Tabulka2[[#This Row],[OL]]=\"\",\"\",IF(Tabulka2[[#This Row],[OL]]>0,A755,\"\"))","v":""},null,null,null,null,null,null,null,null,null,null,null,null,null,null,null,"",null,""]
[null,null,{"$f":"IF(Tabulka2[[#This Row],[Data]]=\"\",\"\",IF(OR(Tabulka2[[#This Row],[Data]]<$G$57,Tabulka2[[#This Row],[Data]]>$G$58),2,IF(OR(Tabulka2[[#This Row],[Data]]<$G$51,Tabulka2[[#This Row],[Data]]>$G$52),1,0)))","v":""},{"$f":"IF(Tabulka2[[#This Row],[OL]]=\"\",\"\",IF(Tabulka2[[#This Row],[OL]]>0,A756,\"\"))","v":""},null,null,null,null,null,null,null,null,null,null,null,null,null,null,null,"",null,""]
[null,null,{"$f":"IF(Tabulka2[[#This Row],[Data]]=\"\",\"\",IF(OR(Tabulka2[[#This Row],[Data]]<$G$57,Tabulka2[[#This Row],[Data]]>$G$58),2,IF(OR(Tabulka2[[#This Row],[Data]]<$G$51,Tabulka2[[#This Row],[Data]]>$G$52),1,0)))","v":""},{"$f":"IF(Tabulka2[[#This Row],[OL]]=\"\",\"\",IF(Tabulka2[[#This Row],[OL]]>0,A757,\"\"))","v":""},null,null,null,null,null,null,null,null,null,null,null,null,null,null,null,"",null,""]
[null,null,{"$f":"IF(Tabulka2[[#This Row],[Data]]=\"\",\"\",IF(OR(Tabulka2[[#This Row],[Data]]<$G$57,Tabulka2[[#This Row],[Data]]>$G$58),2,IF(OR(Tabulka2[[#This Row],[Data]]<$G$51,Tabulka2[[#This Row],[Data]]>$G$52),1,0)))","v":""},{"$f":"IF(Tabulka2[[#This Row],[OL]]=\"\",\"\",IF(Tabulka2[[#This Row],[OL]]>0,A758,\"\"))","v":""},null,null,null,null,null,null,null,null,null,null,null,null,null,null,null,"",null,""]
[null,null,{"$f":"IF(Tabulka2[[#This Row],[Data]]=\"\",\"\",IF(OR(Tabulka2[[#This Row],[Data]]<$G$57,Tabulka2[[#This Row],[Data]]>$G$58),2,IF(OR(Tabulka2[[#This Row],[Data]]<$G$51,Tabulka2[[#This Row],[Data]]>$G$52),1,0)))","v":""},{"$f":"IF(Tabulka2[[#This Row],[OL]]=\"\",\"\",IF(Tabulka2[[#This Row],[OL]]>0,A759,\"\"))","v":""},null,null,null,null,null,null,null,null,null,null,null,null,null,null,null,"",null,""]
[null,null,{"$f":"IF(Tabulka2[[#This Row],[Data]]=\"\",\"\",IF(OR(Tabulka2[[#This Row],[Data]]<$G$57,Tabulka2[[#This Row],[Data]]>$G$58),2,IF(OR(Tabulka2[[#This Row],[Data]]<$G$51,Tabulka2[[#This Row],[Data]]>$G$52),1,0)))","v":""},{"$f":"IF(Tabulka2[[#This Row],[OL]]=\"\",\"\",IF(Tabulka2[[#This Row],[OL]]>0,A760,\"\"))","v":""},null,null,null,null,null,null,null,null,null,null,null,null,null,null,null,"",null,""]
[null,null,{"$f":"IF(Tabulka2[[#This Row],[Data]]=\"\",\"\",IF(OR(Tabulka2[[#This Row],[Data]]<$G$57,Tabulka2[[#This Row],[Data]]>$G$58),2,IF(OR(Tabulka2[[#This Row],[Data]]<$G$51,Tabulka2[[#This Row],[Data]]>$G$52),1,0)))","v":""},{"$f":"IF(Tabulka2[[#This Row],[OL]]=\"\",\"\",IF(Tabulka2[[#This Row],[OL]]>0,A761,\"\"))","v":""},null,null,null,null,null,null,null,null,null,null,null,null,null,null,null,"",null,""]
[null,null,{"$f":"IF(Tabulka2[[#This Row],[Data]]=\"\",\"\",IF(OR(Tabulka2[[#This Row],[Data]]<$G$57,Tabulka2[[#This Row],[Data]]>$G$58),2,IF(OR(Tabulka2[[#This Row],[Data]]<$G$51,Tabulka2[[#This Row],[Data]]>$G$52),1,0)))","v":""},{"$f":"IF(Tabulka2[[#This Row],[OL]]=\"\",\"\",IF(Tabulka2[[#This Row],[OL]]>0,A762,\"\"))","v":""},null,null,null,null,null,null,null,null,null,null,null,null,null,null,null,"",null,""]
[null,null,{"$f":"IF(Tabulka2[[#This Row],[Data]]=\"\",\"\",IF(OR(Tabulka2[[#This Row],[Data]]<$G$57,Tabulka2[[#This Row],[Data]]>$G$58),2,IF(OR(Tabulka2[[#This Row],[Data]]<$G$51,Tabulka2[[#This Row],[Data]]>$G$52),1,0)))","v":""},{"$f":"IF(Tabulka2[[#This Row],[OL]]=\"\",\"\",IF(Tabulka2[[#This Row],[OL]]>0,A763,\"\"))","v":""},null,null,null,null,null,null,null,null,null,null,null,null,null,null,null,"",null,""]
[null,null,{"$f":"IF(Tabulka2[[#This Row],[Data]]=\"\",\"\",IF(OR(Tabulka2[[#This Row],[Data]]<$G$57,Tabulka2[[#This Row],[Data]]>$G$58),2,IF(OR(Tabulka2[[#This Row],[Data]]<$G$51,Tabulka2[[#This Row],[Data]]>$G$52),1,0)))","v":""},{"$f":"IF(Tabulka2[[#This Row],[OL]]=\"\",\"\",IF(Tabulka2[[#This Row],[OL]]>0,A764,\"\"))","v":""},null,null,null,null,null,null,null,null,null,null,null,null,null,null,null,"",null,""]
[null,null,{"$f":"IF(Tabulka2[[#This Row],[Data]]=\"\",\"\",IF(OR(Tabulka2[[#This Row],[Data]]<$G$57,Tabulka2[[#This Row],[Data]]>$G$58),2,IF(OR(Tabulka2[[#This Row],[Data]]<$G$51,Tabulka2[[#This Row],[Data]]>$G$52),1,0)))","v":""},{"$f":"IF(Tabulka2[[#This Row],[OL]]=\"\",\"\",IF(Tabulka2[[#This Row],[OL]]>0,A765,\"\"))","v":""},null,null,null,null,null,null,null,null,null,null,null,null,null,null,null,"",null,""]
[null,null,{"$f":"IF(Tabulka2[[#This Row],[Data]]=\"\",\"\",IF(OR(Tabulka2[[#This Row],[Data]]<$G$57,Tabulka2[[#This Row],[Data]]>$G$58),2,IF(OR(Tabulka2[[#This Row],[Data]]<$G$51,Tabulka2[[#This Row],[Data]]>$G$52),1,0)))","v":""},{"$f":"IF(Tabulka2[[#This Row],[OL]]=\"\",\"\",IF(Tabulka2[[#This Row],[OL]]>0,A766,\"\"))","v":""},null,null,null,null,null,null,null,null,null,null,null,null,null,null,null,"",null,""]
[null,null,{"$f":"IF(Tabulka2[[#This Row],[Data]]=\"\",\"\",IF(OR(Tabulka2[[#This Row],[Data]]<$G$57,Tabulka2[[#This Row],[Data]]>$G$58),2,IF(OR(Tabulka2[[#This Row],[Data]]<$G$51,Tabulka2[[#This Row],[Data]]>$G$52),1,0)))","v":""},{"$f":"IF(Tabulka2[[#This Row],[OL]]=\"\",\"\",IF(Tabulka2[[#This Row],[OL]]>0,A767,\"\"))","v":""},null,null,null,null,null,null,null,null,null,null,null,null,null,null,null,"",null,""]
[null,null,{"$f":"IF(Tabulka2[[#This Row],[Data]]=\"\",\"\",IF(OR(Tabulka2[[#This Row],[Data]]<$G$57,Tabulka2[[#This Row],[Data]]>$G$58),2,IF(OR(Tabulka2[[#This Row],[Data]]<$G$51,Tabulka2[[#This Row],[Data]]>$G$52),1,0)))","v":""},{"$f":"IF(Tabulka2[[#This Row],[OL]]=\"\",\"\",IF(Tabulka2[[#This Row],[OL]]>0,A768,\"\"))","v":""},null,null,null,null,null,null,null,null,null,null,null,null,null,null,null,"",null,""]
[null,null,{"$f":"IF(Tabulka2[[#This Row],[Data]]=\"\",\"\",IF(OR(Tabulka2[[#This Row],[Data]]<$G$57,Tabulka2[[#This Row],[Data]]>$G$58),2,IF(OR(Tabulka2[[#This Row],[Data]]<$G$51,Tabulka2[[#This Row],[Data]]>$G$52),1,0)))","v":""},{"$f":"IF(Tabulka2[[#This Row],[OL]]=\"\",\"\",IF(Tabulka2[[#This Row],[OL]]>0,A769,\"\"))","v":""},null,null,null,null,null,null,null,null,null,null,null,null,null,null,null,"",null,""]
[null,null,{"$f":"IF(Tabulka2[[#This Row],[Data]]=\"\",\"\",IF(OR(Tabulka2[[#This Row],[Data]]<$G$57,Tabulka2[[#This Row],[Data]]>$G$58),2,IF(OR(Tabulka2[[#This Row],[Data]]<$G$51,Tabulka2[[#This Row],[Data]]>$G$52),1,0)))","v":""},{"$f":"IF(Tabulka2[[#This Row],[OL]]=\"\",\"\",IF(Tabulka2[[#This Row],[OL]]>0,A770,\"\"))","v":""},null,null,null,null,null,null,null,null,null,null,null,null,null,null,null,"",null,""]
[null,null,{"$f":"IF(Tabulka2[[#This Row],[Data]]=\"\",\"\",IF(OR(Tabulka2[[#This Row],[Data]]<$G$57,Tabulka2[[#This Row],[Data]]>$G$58),2,IF(OR(Tabulka2[[#This Row],[Data]]<$G$51,Tabulka2[[#This Row],[Data]]>$G$52),1,0)))","v":""},{"$f":"IF(Tabulka2[[#This Row],[OL]]=\"\",\"\",IF(Tabulka2[[#This Row],[OL]]>0,A771,\"\"))","v":""},null,null,null,null,null,null,null,null,null,null,null,null,null,null,null,"",null,""]
[null,null,{"$f":"IF(Tabulka2[[#This Row],[Data]]=\"\",\"\",IF(OR(Tabulka2[[#This Row],[Data]]<$G$57,Tabulka2[[#This Row],[Data]]>$G$58),2,IF(OR(Tabulka2[[#This Row],[Data]]<$G$51,Tabulka2[[#This Row],[Data]]>$G$52),1,0)))","v":""},{"$f":"IF(Tabulka2[[#This Row],[OL]]=\"\",\"\",IF(Tabulka2[[#This Row],[OL]]>0,A772,\"\"))","v":""},null,null,null,null,null,null,null,null,null,null,null,null,null,null,null,"",null,""]
[null,null,{"$f":"IF(Tabulka2[[#This Row],[Data]]=\"\",\"\",IF(OR(Tabulka2[[#This Row],[Data]]<$G$57,Tabulka2[[#This Row],[Data]]>$G$58),2,IF(OR(Tabulka2[[#This Row],[Data]]<$G$51,Tabulka2[[#This Row],[Data]]>$G$52),1,0)))","v":""},{"$f":"IF(Tabulka2[[#This Row],[OL]]=\"\",\"\",IF(Tabulka2[[#This Row],[OL]]>0,A773,\"\"))","v":""},null,null,null,null,null,null,null,null,null,null,null,null,null,null,null,"",null,""]
[null,null,{"$f":"IF(Tabulka2[[#This Row],[Data]]=\"\",\"\",IF(OR(Tabulka2[[#This Row],[Data]]<$G$57,Tabulka2[[#This Row],[Data]]>$G$58),2,IF(OR(Tabulka2[[#This Row],[Data]]<$G$51,Tabulka2[[#This Row],[Data]]>$G$52),1,0)))","v":""},{"$f":"IF(Tabulka2[[#This Row],[OL]]=\"\",\"\",IF(Tabulka2[[#This Row],[OL]]>0,A774,\"\"))","v":""},null,null,null,null,null,null,null,null,null,null,null,null,null,null,null,"",null,""]
[null,null,{"$f":"IF(Tabulka2[[#This Row],[Data]]=\"\",\"\",IF(OR(Tabulka2[[#This Row],[Data]]<$G$57,Tabulka2[[#This Row],[Data]]>$G$58),2,IF(OR(Tabulka2[[#This Row],[Data]]<$G$51,Tabulka2[[#This Row],[Data]]>$G$52),1,0)))","v":""},{"$f":"IF(Tabulka2[[#This Row],[OL]]=\"\",\"\",IF(Tabulka2[[#This Row],[OL]]>0,A775,\"\"))","v":""},null,null,null,null,null,null,null,null,null,null,null,null,null,null,null,"",null,""]
[null,null,{"$f":"IF(Tabulka2[[#This Row],[Data]]=\"\",\"\",IF(OR(Tabulka2[[#This Row],[Data]]<$G$57,Tabulka2[[#This Row],[Data]]>$G$58),2,IF(OR(Tabulka2[[#This Row],[Data]]<$G$51,Tabulka2[[#This Row],[Data]]>$G$52),1,0)))","v":""},{"$f":"IF(Tabulka2[[#This Row],[OL]]=\"\",\"\",IF(Tabulka2[[#This Row],[OL]]>0,A776,\"\"))","v":""},null,null,null,null,null,null,null,null,null,null,null,null,null,null,null,"",null,""]
[null,null,{"$f":"IF(Tabulka2[[#This Row],[Data]]=\"\",\"\",IF(OR(Tabulka2[[#This Row],[Data]]<$G$57,Tabulka2[[#This Row],[Data]]>$G$58),2,IF(OR(Tabulka2[[#This Row],[Data]]<$G$51,Tabulka2[[#This Row],[Data]]>$G$52),1,0)))","v":""},{"$f":"IF(Tabulka2[[#This Row],[OL]]=\"\",\"\",IF(Tabulka2[[#This Row],[OL]]>0,A777,\"\"))","v":""},null,null,null,null,null,null,null,null,null,null,null,null,null,null,null,"",null,""]
[null,null,{"$f":"IF(Tabulka2[[#This Row],[Data]]=\"\",\"\",IF(OR(Tabulka2[[#This Row],[Data]]<$G$57,Tabulka2[[#This Row],[Data]]>$G$58),2,IF(OR(Tabulka2[[#This Row],[Data]]<$G$51,Tabulka2[[#This Row],[Data]]>$G$52),1,0)))","v":""},{"$f":"IF(Tabulka2[[#This Row],[OL]]=\"\",\"\",IF(Tabulka2[[#This Row],[OL]]>0,A778,\"\"))","v":""},null,null,null,null,null,null,null,null,null,null,null,null,null,null,null,"",null,""]
[null,null,{"$f":"IF(Tabulka2[[#This Row],[Data]]=\"\",\"\",IF(OR(Tabulka2[[#This Row],[Data]]<$G$57,Tabulka2[[#This Row],[Data]]>$G$58),2,IF(OR(Tabulka2[[#This Row],[Data]]<$G$51,Tabulka2[[#This Row],[Data]]>$G$52),1,0)))","v":""},{"$f":"IF(Tabulka2[[#This Row],[OL]]=\"\",\"\",IF(Tabulka2[[#This Row],[OL]]>0,A779,\"\"))","v":""},null,null,null,null,null,null,null,null,null,null,null,null,null,null,null,"",null,""]
[null,null,{"$f":"IF(Tabulka2[[#This Row],[Data]]=\"\",\"\",IF(OR(Tabulka2[[#This Row],[Data]]<$G$57,Tabulka2[[#This Row],[Data]]>$G$58),2,IF(OR(Tabulka2[[#This Row],[Data]]<$G$51,Tabulka2[[#This Row],[Data]]>$G$52),1,0)))","v":""},{"$f":"IF(Tabulka2[[#This Row],[OL]]=\"\",\"\",IF(Tabulka2[[#This Row],[OL]]>0,A780,\"\"))","v":""},null,null,null,null,null,null,null,null,null,null,null,null,null,null,null,"",null,""]
[null,null,{"$f":"IF(Tabulka2[[#This Row],[Data]]=\"\",\"\",IF(OR(Tabulka2[[#This Row],[Data]]<$G$57,Tabulka2[[#This Row],[Data]]>$G$58),2,IF(OR(Tabulka2[[#This Row],[Data]]<$G$51,Tabulka2[[#This Row],[Data]]>$G$52),1,0)))","v":""},{"$f":"IF(Tabulka2[[#This Row],[OL]]=\"\",\"\",IF(Tabulka2[[#This Row],[OL]]>0,A781,\"\"))","v":""},null,null,null,null,null,null,null,null,null,null,null,null,null,null,null,"",null,""]
[null,null,{"$f":"IF(Tabulka2[[#This Row],[Data]]=\"\",\"\",IF(OR(Tabulka2[[#This Row],[Data]]<$G$57,Tabulka2[[#This Row],[Data]]>$G$58),2,IF(OR(Tabulka2[[#This Row],[Data]]<$G$51,Tabulka2[[#This Row],[Data]]>$G$52),1,0)))","v":""},{"$f":"IF(Tabulka2[[#This Row],[OL]]=\"\",\"\",IF(Tabulka2[[#This Row],[OL]]>0,A782,\"\"))","v":""},null,null,null,null,null,null,null,null,null,null,null,null,null,null,null,"",null,""]
[null,null,{"$f":"IF(Tabulka2[[#This Row],[Data]]=\"\",\"\",IF(OR(Tabulka2[[#This Row],[Data]]<$G$57,Tabulka2[[#This Row],[Data]]>$G$58),2,IF(OR(Tabulka2[[#This Row],[Data]]<$G$51,Tabulka2[[#This Row],[Data]]>$G$52),1,0)))","v":""},{"$f":"IF(Tabulka2[[#This Row],[OL]]=\"\",\"\",IF(Tabulka2[[#This Row],[OL]]>0,A783,\"\"))","v":""},null,null,null,null,null,null,null,null,null,null,null,null,null,null,null,"",null,""]
[null,null,{"$f":"IF(Tabulka2[[#This Row],[Data]]=\"\",\"\",IF(OR(Tabulka2[[#This Row],[Data]]<$G$57,Tabulka2[[#This Row],[Data]]>$G$58),2,IF(OR(Tabulka2[[#This Row],[Data]]<$G$51,Tabulka2[[#This Row],[Data]]>$G$52),1,0)))","v":""},{"$f":"IF(Tabulka2[[#This Row],[OL]]=\"\",\"\",IF(Tabulka2[[#This Row],[OL]]>0,A784,\"\"))","v":""},null,null,null,null,null,null,null,null,null,null,null,null,null,null,null,"",null,""]
[null,null,{"$f":"IF(Tabulka2[[#This Row],[Data]]=\"\",\"\",IF(OR(Tabulka2[[#This Row],[Data]]<$G$57,Tabulka2[[#This Row],[Data]]>$G$58),2,IF(OR(Tabulka2[[#This Row],[Data]]<$G$51,Tabulka2[[#This Row],[Data]]>$G$52),1,0)))","v":""},{"$f":"IF(Tabulka2[[#This Row],[OL]]=\"\",\"\",IF(Tabulka2[[#This Row],[OL]]>0,A785,\"\"))","v":""},null,null,null,null,null,null,null,null,null,null,null,null,null,null,null,"",null,""]
[null,null,{"$f":"IF(Tabulka2[[#This Row],[Data]]=\"\",\"\",IF(OR(Tabulka2[[#This Row],[Data]]<$G$57,Tabulka2[[#This Row],[Data]]>$G$58),2,IF(OR(Tabulka2[[#This Row],[Data]]<$G$51,Tabulka2[[#This Row],[Data]]>$G$52),1,0)))","v":""},{"$f":"IF(Tabulka2[[#This Row],[OL]]=\"\",\"\",IF(Tabulka2[[#This Row],[OL]]>0,A786,\"\"))","v":""},null,null,null,null,null,null,null,null,null,null,null,null,null,null,null,"",null,""]
[null,null,{"$f":"IF(Tabulka2[[#This Row],[Data]]=\"\",\"\",IF(OR(Tabulka2[[#This Row],[Data]]<$G$57,Tabulka2[[#This Row],[Data]]>$G$58),2,IF(OR(Tabulka2[[#This Row],[Data]]<$G$51,Tabulka2[[#This Row],[Data]]>$G$52),1,0)))","v":""},{"$f":"IF(Tabulka2[[#This Row],[OL]]=\"\",\"\",IF(Tabulka2[[#This Row],[OL]]>0,A787,\"\"))","v":""},null,null,null,null,null,null,null,null,null,null,null,null,null,null,null,"",null,""]
[null,null,{"$f":"IF(Tabulka2[[#This Row],[Data]]=\"\",\"\",IF(OR(Tabulka2[[#This Row],[Data]]<$G$57,Tabulka2[[#This Row],[Data]]>$G$58),2,IF(OR(Tabulka2[[#This Row],[Data]]<$G$51,Tabulka2[[#This Row],[Data]]>$G$52),1,0)))","v":""},{"$f":"IF(Tabulka2[[#This Row],[OL]]=\"\",\"\",IF(Tabulka2[[#This Row],[OL]]>0,A788,\"\"))","v":""},null,null,null,null,null,null,null,null,null,null,null,null,null,null,null,"",null,""]
[null,null,{"$f":"IF(Tabulka2[[#This Row],[Data]]=\"\",\"\",IF(OR(Tabulka2[[#This Row],[Data]]<$G$57,Tabulka2[[#This Row],[Data]]>$G$58),2,IF(OR(Tabulka2[[#This Row],[Data]]<$G$51,Tabulka2[[#This Row],[Data]]>$G$52),1,0)))","v":""},{"$f":"IF(Tabulka2[[#This Row],[OL]]=\"\",\"\",IF(Tabulka2[[#This Row],[OL]]>0,A789,\"\"))","v":""},null,null,null,null,null,null,null,null,null,null,null,null,null,null,null,"",null,""]
[null,null,{"$f":"IF(Tabulka2[[#This Row],[Data]]=\"\",\"\",IF(OR(Tabulka2[[#This Row],[Data]]<$G$57,Tabulka2[[#This Row],[Data]]>$G$58),2,IF(OR(Tabulka2[[#This Row],[Data]]<$G$51,Tabulka2[[#This Row],[Data]]>$G$52),1,0)))","v":""},{"$f":"IF(Tabulka2[[#This Row],[OL]]=\"\",\"\",IF(Tabulka2[[#This Row],[OL]]>0,A790,\"\"))","v":""},null,null,null,null,null,null,null,null,null,null,null,null,null,null,null,"",null,""]
[null,null,{"$f":"IF(Tabulka2[[#This Row],[Data]]=\"\",\"\",IF(OR(Tabulka2[[#This Row],[Data]]<$G$57,Tabulka2[[#This Row],[Data]]>$G$58),2,IF(OR(Tabulka2[[#This Row],[Data]]<$G$51,Tabulka2[[#This Row],[Data]]>$G$52),1,0)))","v":""},{"$f":"IF(Tabulka2[[#This Row],[OL]]=\"\",\"\",IF(Tabulka2[[#This Row],[OL]]>0,A791,\"\"))","v":""},null,null,null,null,null,null,null,null,null,null,null,null,null,null,null,"",null,""]
[null,null,{"$f":"IF(Tabulka2[[#This Row],[Data]]=\"\",\"\",IF(OR(Tabulka2[[#This Row],[Data]]<$G$57,Tabulka2[[#This Row],[Data]]>$G$58),2,IF(OR(Tabulka2[[#This Row],[Data]]<$G$51,Tabulka2[[#This Row],[Data]]>$G$52),1,0)))","v":""},{"$f":"IF(Tabulka2[[#This Row],[OL]]=\"\",\"\",IF(Tabulka2[[#This Row],[OL]]>0,A792,\"\"))","v":""},null,null,null,null,null,null,null,null,null,null,null,null,null,null,null,"",null,""]
[null,null,{"$f":"IF(Tabulka2[[#This Row],[Data]]=\"\",\"\",IF(OR(Tabulka2[[#This Row],[Data]]<$G$57,Tabulka2[[#This Row],[Data]]>$G$58),2,IF(OR(Tabulka2[[#This Row],[Data]]<$G$51,Tabulka2[[#This Row],[Data]]>$G$52),1,0)))","v":""},{"$f":"IF(Tabulka2[[#This Row],[OL]]=\"\",\"\",IF(Tabulka2[[#This Row],[OL]]>0,A793,\"\"))","v":""},null,null,null,null,null,null,null,null,null,null,null,null,null,null,null,"",null,""]
[null,null,{"$f":"IF(Tabulka2[[#This Row],[Data]]=\"\",\"\",IF(OR(Tabulka2[[#This Row],[Data]]<$G$57,Tabulka2[[#This Row],[Data]]>$G$58),2,IF(OR(Tabulka2[[#This Row],[Data]]<$G$51,Tabulka2[[#This Row],[Data]]>$G$52),1,0)))","v":""},{"$f":"IF(Tabulka2[[#This Row],[OL]]=\"\",\"\",IF(Tabulka2[[#This Row],[OL]]>0,A794,\"\"))","v":""},null,null,null,null,null,null,null,null,null,null,null,null,null,null,null,"",null,""]
[null,null,{"$f":"IF(Tabulka2[[#This Row],[Data]]=\"\",\"\",IF(OR(Tabulka2[[#This Row],[Data]]<$G$57,Tabulka2[[#This Row],[Data]]>$G$58),2,IF(OR(Tabulka2[[#This Row],[Data]]<$G$51,Tabulka2[[#This Row],[Data]]>$G$52),1,0)))","v":""},{"$f":"IF(Tabulka2[[#This Row],[OL]]=\"\",\"\",IF(Tabulka2[[#This Row],[OL]]>0,A795,\"\"))","v":""},null,null,null,null,null,null,null,null,null,null,null,null,null,null,null,"",null,""]
[null,null,{"$f":"IF(Tabulka2[[#This Row],[Data]]=\"\",\"\",IF(OR(Tabulka2[[#This Row],[Data]]<$G$57,Tabulka2[[#This Row],[Data]]>$G$58),2,IF(OR(Tabulka2[[#This Row],[Data]]<$G$51,Tabulka2[[#This Row],[Data]]>$G$52),1,0)))","v":""},{"$f":"IF(Tabulka2[[#This Row],[OL]]=\"\",\"\",IF(Tabulka2[[#This Row],[OL]]>0,A796,\"\"))","v":""},null,null,null,null,null,null,null,null,null,null,null,null,null,null,null,"",null,""]
[null,null,{"$f":"IF(Tabulka2[[#This Row],[Data]]=\"\",\"\",IF(OR(Tabulka2[[#This Row],[Data]]<$G$57,Tabulka2[[#This Row],[Data]]>$G$58),2,IF(OR(Tabulka2[[#This Row],[Data]]<$G$51,Tabulka2[[#This Row],[Data]]>$G$52),1,0)))","v":""},{"$f":"IF(Tabulka2[[#This Row],[OL]]=\"\",\"\",IF(Tabulka2[[#This Row],[OL]]>0,A797,\"\"))","v":""},null,null,null,null,null,null,null,null,null,null,null,null,null,null,null,"",null,""]
[null,null,{"$f":"IF(Tabulka2[[#This Row],[Data]]=\"\",\"\",IF(OR(Tabulka2[[#This Row],[Data]]<$G$57,Tabulka2[[#This Row],[Data]]>$G$58),2,IF(OR(Tabulka2[[#This Row],[Data]]<$G$51,Tabulka2[[#This Row],[Data]]>$G$52),1,0)))","v":""},{"$f":"IF(Tabulka2[[#This Row],[OL]]=\"\",\"\",IF(Tabulka2[[#This Row],[OL]]>0,A798,\"\"))","v":""},null,null,null,null,null,null,null,null,null,null,null,null,null,null,null,"",null,""]
[null,null,{"$f":"IF(Tabulka2[[#This Row],[Data]]=\"\",\"\",IF(OR(Tabulka2[[#This Row],[Data]]<$G$57,Tabulka2[[#This Row],[Data]]>$G$58),2,IF(OR(Tabulka2[[#This Row],[Data]]<$G$51,Tabulka2[[#This Row],[Data]]>$G$52),1,0)))","v":""},{"$f":"IF(Tabulka2[[#This Row],[OL]]=\"\",\"\",IF(Tabulka2[[#This Row],[OL]]>0,A799,\"\"))","v":""},null,null,null,null,null,null,null,null,null,null,null,null,null,null,null,"",null,""]
[null,null,{"$f":"IF(Tabulka2[[#This Row],[Data]]=\"\",\"\",IF(OR(Tabulka2[[#This Row],[Data]]<$G$57,Tabulka2[[#This Row],[Data]]>$G$58),2,IF(OR(Tabulka2[[#This Row],[Data]]<$G$51,Tabulka2[[#This Row],[Data]]>$G$52),1,0)))","v":""},{"$f":"IF(Tabulka2[[#This Row],[OL]]=\"\",\"\",IF(Tabulka2[[#This Row],[OL]]>0,A800,\"\"))","v":""},null,null,null,null,null,null,null,null,null,null,null,null,null,null,null,"",null,""]
[null,null,{"$f":"IF(Tabulka2[[#This Row],[Data]]=\"\",\"\",IF(OR(Tabulka2[[#This Row],[Data]]<$G$57,Tabulka2[[#This Row],[Data]]>$G$58),2,IF(OR(Tabulka2[[#This Row],[Data]]<$G$51,Tabulka2[[#This Row],[Data]]>$G$52),1,0)))","v":""},{"$f":"IF(Tabulka2[[#This Row],[OL]]=\"\",\"\",IF(Tabulka2[[#This Row],[OL]]>0,A801,\"\"))","v":""},null,null,null,null,null,null,null,null,null,null,null,null,null,null,null,"",null,""]
[null,null,{"$f":"IF(Tabulka2[[#This Row],[Data]]=\"\",\"\",IF(OR(Tabulka2[[#This Row],[Data]]<$G$57,Tabulka2[[#This Row],[Data]]>$G$58),2,IF(OR(Tabulka2[[#This Row],[Data]]<$G$51,Tabulka2[[#This Row],[Data]]>$G$52),1,0)))","v":""},{"$f":"IF(Tabulka2[[#This Row],[OL]]=\"\",\"\",IF(Tabulka2[[#This Row],[OL]]>0,A802,\"\"))","v":""},null,null,null,null,null,null,null,null,null,null,null,null,null,null,null,"",null,""]
[null,null,{"$f":"IF(Tabulka2[[#This Row],[Data]]=\"\",\"\",IF(OR(Tabulka2[[#This Row],[Data]]<$G$57,Tabulka2[[#This Row],[Data]]>$G$58),2,IF(OR(Tabulka2[[#This Row],[Data]]<$G$51,Tabulka2[[#This Row],[Data]]>$G$52),1,0)))","v":""},{"$f":"IF(Tabulka2[[#This Row],[OL]]=\"\",\"\",IF(Tabulka2[[#This Row],[OL]]>0,A803,\"\"))","v":""},null,null,null,null,null,null,null,null,null,null,null,null,null,null,null,"",null,""]
[null,null,{"$f":"IF(Tabulka2[[#This Row],[Data]]=\"\",\"\",IF(OR(Tabulka2[[#This Row],[Data]]<$G$57,Tabulka2[[#This Row],[Data]]>$G$58),2,IF(OR(Tabulka2[[#This Row],[Data]]<$G$51,Tabulka2[[#This Row],[Data]]>$G$52),1,0)))","v":""},{"$f":"IF(Tabulka2[[#This Row],[OL]]=\"\",\"\",IF(Tabulka2[[#This Row],[OL]]>0,A804,\"\"))","v":""},null,null,null,null,null,null,null,null,null,null,null,null,null,null,null,"",null,""]
[null,null,{"$f":"IF(Tabulka2[[#This Row],[Data]]=\"\",\"\",IF(OR(Tabulka2[[#This Row],[Data]]<$G$57,Tabulka2[[#This Row],[Data]]>$G$58),2,IF(OR(Tabulka2[[#This Row],[Data]]<$G$51,Tabulka2[[#This Row],[Data]]>$G$52),1,0)))","v":""},{"$f":"IF(Tabulka2[[#This Row],[OL]]=\"\",\"\",IF(Tabulka2[[#This Row],[OL]]>0,A805,\"\"))","v":""},null,null,null,null,null,null,null,null,null,null,null,null,null,null,null,"",null,""]
[null,null,{"$f":"IF(Tabulka2[[#This Row],[Data]]=\"\",\"\",IF(OR(Tabulka2[[#This Row],[Data]]<$G$57,Tabulka2[[#This Row],[Data]]>$G$58),2,IF(OR(Tabulka2[[#This Row],[Data]]<$G$51,Tabulka2[[#This Row],[Data]]>$G$52),1,0)))","v":""},{"$f":"IF(Tabulka2[[#This Row],[OL]]=\"\",\"\",IF(Tabulka2[[#This Row],[OL]]>0,A806,\"\"))","v":""},null,null,null,null,null,null,null,null,null,null,null,null,null,null,null,"",null,""]
[null,null,{"$f":"IF(Tabulka2[[#This Row],[Data]]=\"\",\"\",IF(OR(Tabulka2[[#This Row],[Data]]<$G$57,Tabulka2[[#This Row],[Data]]>$G$58),2,IF(OR(Tabulka2[[#This Row],[Data]]<$G$51,Tabulka2[[#This Row],[Data]]>$G$52),1,0)))","v":""},{"$f":"IF(Tabulka2[[#This Row],[OL]]=\"\",\"\",IF(Tabulka2[[#This Row],[OL]]>0,A807,\"\"))","v":""},null,null,null,null,null,null,null,null,null,null,null,null,null,null,null,"",null,""]
[null,null,{"$f":"IF(Tabulka2[[#This Row],[Data]]=\"\",\"\",IF(OR(Tabulka2[[#This Row],[Data]]<$G$57,Tabulka2[[#This Row],[Data]]>$G$58),2,IF(OR(Tabulka2[[#This Row],[Data]]<$G$51,Tabulka2[[#This Row],[Data]]>$G$52),1,0)))","v":""},{"$f":"IF(Tabulka2[[#This Row],[OL]]=\"\",\"\",IF(Tabulka2[[#This Row],[OL]]>0,A808,\"\"))","v":""},null,null,null,null,null,null,null,null,null,null,null,null,null,null,null,"",null,""]
[null,null,{"$f":"IF(Tabulka2[[#This Row],[Data]]=\"\",\"\",IF(OR(Tabulka2[[#This Row],[Data]]<$G$57,Tabulka2[[#This Row],[Data]]>$G$58),2,IF(OR(Tabulka2[[#This Row],[Data]]<$G$51,Tabulka2[[#This Row],[Data]]>$G$52),1,0)))","v":""},{"$f":"IF(Tabulka2[[#This Row],[OL]]=\"\",\"\",IF(Tabulka2[[#This Row],[OL]]>0,A809,\"\"))","v":""},null,null,null,null,null,null,null,null,null,null,null,null,null,null,null,"",null,""]
[null,null,{"$f":"IF(Tabulka2[[#This Row],[Data]]=\"\",\"\",IF(OR(Tabulka2[[#This Row],[Data]]<$G$57,Tabulka2[[#This Row],[Data]]>$G$58),2,IF(OR(Tabulka2[[#This Row],[Data]]<$G$51,Tabulka2[[#This Row],[Data]]>$G$52),1,0)))","v":""},{"$f":"IF(Tabulka2[[#This Row],[OL]]=\"\",\"\",IF(Tabulka2[[#This Row],[OL]]>0,A810,\"\"))","v":""},null,null,null,null,null,null,null,null,null,null,null,null,null,null,null,"",null,""]
[null,null,{"$f":"IF(Tabulka2[[#This Row],[Data]]=\"\",\"\",IF(OR(Tabulka2[[#This Row],[Data]]<$G$57,Tabulka2[[#This Row],[Data]]>$G$58),2,IF(OR(Tabulka2[[#This Row],[Data]]<$G$51,Tabulka2[[#This Row],[Data]]>$G$52),1,0)))","v":""},{"$f":"IF(Tabulka2[[#This Row],[OL]]=\"\",\"\",IF(Tabulka2[[#This Row],[OL]]>0,A811,\"\"))","v":""},null,null,null,null,null,null,null,null,null,null,null,null,null,null,null,"",null,""]
[null,null,{"$f":"IF(Tabulka2[[#This Row],[Data]]=\"\",\"\",IF(OR(Tabulka2[[#This Row],[Data]]<$G$57,Tabulka2[[#This Row],[Data]]>$G$58),2,IF(OR(Tabulka2[[#This Row],[Data]]<$G$51,Tabulka2[[#This Row],[Data]]>$G$52),1,0)))","v":""},{"$f":"IF(Tabulka2[[#This Row],[OL]]=\"\",\"\",IF(Tabulka2[[#This Row],[OL]]>0,A812,\"\"))","v":""},null,null,null,null,null,null,null,null,null,null,null,null,null,null,null,"",null,""]
[null,null,{"$f":"IF(Tabulka2[[#This Row],[Data]]=\"\",\"\",IF(OR(Tabulka2[[#This Row],[Data]]<$G$57,Tabulka2[[#This Row],[Data]]>$G$58),2,IF(OR(Tabulka2[[#This Row],[Data]]<$G$51,Tabulka2[[#This Row],[Data]]>$G$52),1,0)))","v":""},{"$f":"IF(Tabulka2[[#This Row],[OL]]=\"\",\"\",IF(Tabulka2[[#This Row],[OL]]>0,A813,\"\"))","v":""},null,null,null,null,null,null,null,null,null,null,null,null,null,null,null,"",null,""]
[null,null,{"$f":"IF(Tabulka2[[#This Row],[Data]]=\"\",\"\",IF(OR(Tabulka2[[#This Row],[Data]]<$G$57,Tabulka2[[#This Row],[Data]]>$G$58),2,IF(OR(Tabulka2[[#This Row],[Data]]<$G$51,Tabulka2[[#This Row],[Data]]>$G$52),1,0)))","v":""},{"$f":"IF(Tabulka2[[#This Row],[OL]]=\"\",\"\",IF(Tabulka2[[#This Row],[OL]]>0,A814,\"\"))","v":""},null,null,null,null,null,null,null,null,null,null,null,null,null,null,null,"",null,""]
[null,null,{"$f":"IF(Tabulka2[[#This Row],[Data]]=\"\",\"\",IF(OR(Tabulka2[[#This Row],[Data]]<$G$57,Tabulka2[[#This Row],[Data]]>$G$58),2,IF(OR(Tabulka2[[#This Row],[Data]]<$G$51,Tabulka2[[#This Row],[Data]]>$G$52),1,0)))","v":""},{"$f":"IF(Tabulka2[[#This Row],[OL]]=\"\",\"\",IF(Tabulka2[[#This Row],[OL]]>0,A815,\"\"))","v":""},null,null,null,null,null,null,null,null,null,null,null,null,null,null,null,"",null,""]
[null,null,{"$f":"IF(Tabulka2[[#This Row],[Data]]=\"\",\"\",IF(OR(Tabulka2[[#This Row],[Data]]<$G$57,Tabulka2[[#This Row],[Data]]>$G$58),2,IF(OR(Tabulka2[[#This Row],[Data]]<$G$51,Tabulka2[[#This Row],[Data]]>$G$52),1,0)))","v":""},{"$f":"IF(Tabulka2[[#This Row],[OL]]=\"\",\"\",IF(Tabulka2[[#This Row],[OL]]>0,A816,\"\"))","v":""},null,null,null,null,null,null,null,null,null,null,null,null,null,null,null,"",null,""]
[null,null,{"$f":"IF(Tabulka2[[#This Row],[Data]]=\"\",\"\",IF(OR(Tabulka2[[#This Row],[Data]]<$G$57,Tabulka2[[#This Row],[Data]]>$G$58),2,IF(OR(Tabulka2[[#This Row],[Data]]<$G$51,Tabulka2[[#This Row],[Data]]>$G$52),1,0)))","v":""},{"$f":"IF(Tabulka2[[#This Row],[OL]]=\"\",\"\",IF(Tabulka2[[#This Row],[OL]]>0,A817,\"\"))","v":""},null,null,null,null,null,null,null,null,null,null,null,null,null,null,null,"",null,""]
[null,null,{"$f":"IF(Tabulka2[[#This Row],[Data]]=\"\",\"\",IF(OR(Tabulka2[[#This Row],[Data]]<$G$57,Tabulka2[[#This Row],[Data]]>$G$58),2,IF(OR(Tabulka2[[#This Row],[Data]]<$G$51,Tabulka2[[#This Row],[Data]]>$G$52),1,0)))","v":""},{"$f":"IF(Tabulka2[[#This Row],[OL]]=\"\",\"\",IF(Tabulka2[[#This Row],[OL]]>0,A818,\"\"))","v":""},null,null,null,null,null,null,null,null,null,null,null,null,null,null,null,"",null,""]
[null,null,{"$f":"IF(Tabulka2[[#This Row],[Data]]=\"\",\"\",IF(OR(Tabulka2[[#This Row],[Data]]<$G$57,Tabulka2[[#This Row],[Data]]>$G$58),2,IF(OR(Tabulka2[[#This Row],[Data]]<$G$51,Tabulka2[[#This Row],[Data]]>$G$52),1,0)))","v":""},{"$f":"IF(Tabulka2[[#This Row],[OL]]=\"\",\"\",IF(Tabulka2[[#This Row],[OL]]>0,A819,\"\"))","v":""},null,null,null,null,null,null,null,null,null,null,null,null,null,null,null,"",null,""]
[null,null,{"$f":"IF(Tabulka2[[#This Row],[Data]]=\"\",\"\",IF(OR(Tabulka2[[#This Row],[Data]]<$G$57,Tabulka2[[#This Row],[Data]]>$G$58),2,IF(OR(Tabulka2[[#This Row],[Data]]<$G$51,Tabulka2[[#This Row],[Data]]>$G$52),1,0)))","v":""},{"$f":"IF(Tabulka2[[#This Row],[OL]]=\"\",\"\",IF(Tabulka2[[#This Row],[OL]]>0,A820,\"\"))","v":""},null,null,null,null,null,null,null,null,null,null,null,null,null,null,null,"",null,""]
[null,null,{"$f":"IF(Tabulka2[[#This Row],[Data]]=\"\",\"\",IF(OR(Tabulka2[[#This Row],[Data]]<$G$57,Tabulka2[[#This Row],[Data]]>$G$58),2,IF(OR(Tabulka2[[#This Row],[Data]]<$G$51,Tabulka2[[#This Row],[Data]]>$G$52),1,0)))","v":""},{"$f":"IF(Tabulka2[[#This Row],[OL]]=\"\",\"\",IF(Tabulka2[[#This Row],[OL]]>0,A821,\"\"))","v":""},null,null,null,null,null,null,null,null,null,null,null,null,null,null,null,"",null,""]
[null,null,{"$f":"IF(Tabulka2[[#This Row],[Data]]=\"\",\"\",IF(OR(Tabulka2[[#This Row],[Data]]<$G$57,Tabulka2[[#This Row],[Data]]>$G$58),2,IF(OR(Tabulka2[[#This Row],[Data]]<$G$51,Tabulka2[[#This Row],[Data]]>$G$52),1,0)))","v":""},{"$f":"IF(Tabulka2[[#This Row],[OL]]=\"\",\"\",IF(Tabulka2[[#This Row],[OL]]>0,A822,\"\"))","v":""},null,null,null,null,null,null,null,null,null,null,null,null,null,null,null,"",null,""]
[null,null,{"$f":"IF(Tabulka2[[#This Row],[Data]]=\"\",\"\",IF(OR(Tabulka2[[#This Row],[Data]]<$G$57,Tabulka2[[#This Row],[Data]]>$G$58),2,IF(OR(Tabulka2[[#This Row],[Data]]<$G$51,Tabulka2[[#This Row],[Data]]>$G$52),1,0)))","v":""},{"$f":"IF(Tabulka2[[#This Row],[OL]]=\"\",\"\",IF(Tabulka2[[#This Row],[OL]]>0,A823,\"\"))","v":""},null,null,null,null,null,null,null,null,null,null,null,null,null,null,null,"",null,""]
[null,null,{"$f":"IF(Tabulka2[[#This Row],[Data]]=\"\",\"\",IF(OR(Tabulka2[[#This Row],[Data]]<$G$57,Tabulka2[[#This Row],[Data]]>$G$58),2,IF(OR(Tabulka2[[#This Row],[Data]]<$G$51,Tabulka2[[#This Row],[Data]]>$G$52),1,0)))","v":""},{"$f":"IF(Tabulka2[[#This Row],[OL]]=\"\",\"\",IF(Tabulka2[[#This Row],[OL]]>0,A824,\"\"))","v":""},null,null,null,null,null,null,null,null,null,null,null,null,null,null,null,"",null,""]
[null,null,{"$f":"IF(Tabulka2[[#This Row],[Data]]=\"\",\"\",IF(OR(Tabulka2[[#This Row],[Data]]<$G$57,Tabulka2[[#This Row],[Data]]>$G$58),2,IF(OR(Tabulka2[[#This Row],[Data]]<$G$51,Tabulka2[[#This Row],[Data]]>$G$52),1,0)))","v":""},{"$f":"IF(Tabulka2[[#This Row],[OL]]=\"\",\"\",IF(Tabulka2[[#This Row],[OL]]>0,A825,\"\"))","v":""},null,null,null,null,null,null,null,null,null,null,null,null,null,null,null,"",null,""]
[null,null,{"$f":"IF(Tabulka2[[#This Row],[Data]]=\"\",\"\",IF(OR(Tabulka2[[#This Row],[Data]]<$G$57,Tabulka2[[#This Row],[Data]]>$G$58),2,IF(OR(Tabulka2[[#This Row],[Data]]<$G$51,Tabulka2[[#This Row],[Data]]>$G$52),1,0)))","v":""},{"$f":"IF(Tabulka2[[#This Row],[OL]]=\"\",\"\",IF(Tabulka2[[#This Row],[OL]]>0,A826,\"\"))","v":""},null,null,null,null,null,null,null,null,null,null,null,null,null,null,null,"",null,""]
[null,null,{"$f":"IF(Tabulka2[[#This Row],[Data]]=\"\",\"\",IF(OR(Tabulka2[[#This Row],[Data]]<$G$57,Tabulka2[[#This Row],[Data]]>$G$58),2,IF(OR(Tabulka2[[#This Row],[Data]]<$G$51,Tabulka2[[#This Row],[Data]]>$G$52),1,0)))","v":""},{"$f":"IF(Tabulka2[[#This Row],[OL]]=\"\",\"\",IF(Tabulka2[[#This Row],[OL]]>0,A827,\"\"))","v":""},null,null,null,null,null,null,null,null,null,null,null,null,null,null,null,"",null,""]
[null,null,{"$f":"IF(Tabulka2[[#This Row],[Data]]=\"\",\"\",IF(OR(Tabulka2[[#This Row],[Data]]<$G$57,Tabulka2[[#This Row],[Data]]>$G$58),2,IF(OR(Tabulka2[[#This Row],[Data]]<$G$51,Tabulka2[[#This Row],[Data]]>$G$52),1,0)))","v":""},{"$f":"IF(Tabulka2[[#This Row],[OL]]=\"\",\"\",IF(Tabulka2[[#This Row],[OL]]>0,A828,\"\"))","v":""},null,null,null,null,null,null,null,null,null,null,null,null,null,null,null,"",null,""]
[null,null,{"$f":"IF(Tabulka2[[#This Row],[Data]]=\"\",\"\",IF(OR(Tabulka2[[#This Row],[Data]]<$G$57,Tabulka2[[#This Row],[Data]]>$G$58),2,IF(OR(Tabulka2[[#This Row],[Data]]<$G$51,Tabulka2[[#This Row],[Data]]>$G$52),1,0)))","v":""},{"$f":"IF(Tabulka2[[#This Row],[OL]]=\"\",\"\",IF(Tabulka2[[#This Row],[OL]]>0,A829,\"\"))","v":""},null,null,null,null,null,null,null,null,null,null,null,null,null,null,null,"",null,""]
[null,null,{"$f":"IF(Tabulka2[[#This Row],[Data]]=\"\",\"\",IF(OR(Tabulka2[[#This Row],[Data]]<$G$57,Tabulka2[[#This Row],[Data]]>$G$58),2,IF(OR(Tabulka2[[#This Row],[Data]]<$G$51,Tabulka2[[#This Row],[Data]]>$G$52),1,0)))","v":""},{"$f":"IF(Tabulka2[[#This Row],[OL]]=\"\",\"\",IF(Tabulka2[[#This Row],[OL]]>0,A830,\"\"))","v":""},null,null,null,null,null,null,null,null,null,null,null,null,null,null,null,"",null,""]
[null,null,{"$f":"IF(Tabulka2[[#This Row],[Data]]=\"\",\"\",IF(OR(Tabulka2[[#This Row],[Data]]<$G$57,Tabulka2[[#This Row],[Data]]>$G$58),2,IF(OR(Tabulka2[[#This Row],[Data]]<$G$51,Tabulka2[[#This Row],[Data]]>$G$52),1,0)))","v":""},{"$f":"IF(Tabulka2[[#This Row],[OL]]=\"\",\"\",IF(Tabulka2[[#This Row],[OL]]>0,A831,\"\"))","v":""},null,null,null,null,null,null,null,null,null,null,null,null,null,null,null,"",null,""]
[null,null,{"$f":"IF(Tabulka2[[#This Row],[Data]]=\"\",\"\",IF(OR(Tabulka2[[#This Row],[Data]]<$G$57,Tabulka2[[#This Row],[Data]]>$G$58),2,IF(OR(Tabulka2[[#This Row],[Data]]<$G$51,Tabulka2[[#This Row],[Data]]>$G$52),1,0)))","v":""},{"$f":"IF(Tabulka2[[#This Row],[OL]]=\"\",\"\",IF(Tabulka2[[#This Row],[OL]]>0,A832,\"\"))","v":""},null,null,null,null,null,null,null,null,null,null,null,null,null,null,null,"",null,""]
[null,null,{"$f":"IF(Tabulka2[[#This Row],[Data]]=\"\",\"\",IF(OR(Tabulka2[[#This Row],[Data]]<$G$57,Tabulka2[[#This Row],[Data]]>$G$58),2,IF(OR(Tabulka2[[#This Row],[Data]]<$G$51,Tabulka2[[#This Row],[Data]]>$G$52),1,0)))","v":""},{"$f":"IF(Tabulka2[[#This Row],[OL]]=\"\",\"\",IF(Tabulka2[[#This Row],[OL]]>0,A833,\"\"))","v":""},null,null,null,null,null,null,null,null,null,null,null,null,null,null,null,"",null,""]
[null,null,{"$f":"IF(Tabulka2[[#This Row],[Data]]=\"\",\"\",IF(OR(Tabulka2[[#This Row],[Data]]<$G$57,Tabulka2[[#This Row],[Data]]>$G$58),2,IF(OR(Tabulka2[[#This Row],[Data]]<$G$51,Tabulka2[[#This Row],[Data]]>$G$52),1,0)))","v":""},{"$f":"IF(Tabulka2[[#This Row],[OL]]=\"\",\"\",IF(Tabulka2[[#This Row],[OL]]>0,A834,\"\"))","v":""},null,null,null,null,null,null,null,null,null,null,null,null,null,null,null,"",null,""]
[null,null,{"$f":"IF(Tabulka2[[#This Row],[Data]]=\"\",\"\",IF(OR(Tabulka2[[#This Row],[Data]]<$G$57,Tabulka2[[#This Row],[Data]]>$G$58),2,IF(OR(Tabulka2[[#This Row],[Data]]<$G$51,Tabulka2[[#This Row],[Data]]>$G$52),1,0)))","v":""},{"$f":"IF(Tabulka2[[#This Row],[OL]]=\"\",\"\",IF(Tabulka2[[#This Row],[OL]]>0,A835,\"\"))","v":""},null,null,null,null,null,null,null,null,null,null,null,null,null,null,null,"",null,""]
[null,null,{"$f":"IF(Tabulka2[[#This Row],[Data]]=\"\",\"\",IF(OR(Tabulka2[[#This Row],[Data]]<$G$57,Tabulka2[[#This Row],[Data]]>$G$58),2,IF(OR(Tabulka2[[#This Row],[Data]]<$G$51,Tabulka2[[#This Row],[Data]]>$G$52),1,0)))","v":""},{"$f":"IF(Tabulka2[[#This Row],[OL]]=\"\",\"\",IF(Tabulka2[[#This Row],[OL]]>0,A836,\"\"))","v":""},null,null,null,null,null,null,null,null,null,null,null,null,null,null,null,"",null,""]
[null,null,{"$f":"IF(Tabulka2[[#This Row],[Data]]=\"\",\"\",IF(OR(Tabulka2[[#This Row],[Data]]<$G$57,Tabulka2[[#This Row],[Data]]>$G$58),2,IF(OR(Tabulka2[[#This Row],[Data]]<$G$51,Tabulka2[[#This Row],[Data]]>$G$52),1,0)))","v":""},{"$f":"IF(Tabulka2[[#This Row],[OL]]=\"\",\"\",IF(Tabulka2[[#This Row],[OL]]>0,A837,\"\"))","v":""},null,null,null,null,null,null,null,null,null,null,null,null,null,null,null,"",null,""]
[null,null,{"$f":"IF(Tabulka2[[#This Row],[Data]]=\"\",\"\",IF(OR(Tabulka2[[#This Row],[Data]]<$G$57,Tabulka2[[#This Row],[Data]]>$G$58),2,IF(OR(Tabulka2[[#This Row],[Data]]<$G$51,Tabulka2[[#This Row],[Data]]>$G$52),1,0)))","v":""},{"$f":"IF(Tabulka2[[#This Row],[OL]]=\"\",\"\",IF(Tabulka2[[#This Row],[OL]]>0,A838,\"\"))","v":""},null,null,null,null,null,null,null,null,null,null,null,null,null,null,null,"",null,""]
[null,null,{"$f":"IF(Tabulka2[[#This Row],[Data]]=\"\",\"\",IF(OR(Tabulka2[[#This Row],[Data]]<$G$57,Tabulka2[[#This Row],[Data]]>$G$58),2,IF(OR(Tabulka2[[#This Row],[Data]]<$G$51,Tabulka2[[#This Row],[Data]]>$G$52),1,0)))","v":""},{"$f":"IF(Tabulka2[[#This Row],[OL]]=\"\",\"\",IF(Tabulka2[[#This Row],[OL]]>0,A839,\"\"))","v":""},null,null,null,null,null,null,null,null,null,null,null,null,null,null,null,"",null,""]
[null,null,{"$f":"IF(Tabulka2[[#This Row],[Data]]=\"\",\"\",IF(OR(Tabulka2[[#This Row],[Data]]<$G$57,Tabulka2[[#This Row],[Data]]>$G$58),2,IF(OR(Tabulka2[[#This Row],[Data]]<$G$51,Tabulka2[[#This Row],[Data]]>$G$52),1,0)))","v":""},{"$f":"IF(Tabulka2[[#This Row],[OL]]=\"\",\"\",IF(Tabulka2[[#This Row],[OL]]>0,A840,\"\"))","v":""},null,null,null,null,null,null,null,null,null,null,null,null,null,null,null,"",null,""]
[null,null,{"$f":"IF(Tabulka2[[#This Row],[Data]]=\"\",\"\",IF(OR(Tabulka2[[#This Row],[Data]]<$G$57,Tabulka2[[#This Row],[Data]]>$G$58),2,IF(OR(Tabulka2[[#This Row],[Data]]<$G$51,Tabulka2[[#This Row],[Data]]>$G$52),1,0)))","v":""},{"$f":"IF(Tabulka2[[#This Row],[OL]]=\"\",\"\",IF(Tabulka2[[#This Row],[OL]]>0,A841,\"\"))","v":""},null,null,null,null,null,null,null,null,null,null,null,null,null,null,null,"",null,""]
[null,null,{"$f":"IF(Tabulka2[[#This Row],[Data]]=\"\",\"\",IF(OR(Tabulka2[[#This Row],[Data]]<$G$57,Tabulka2[[#This Row],[Data]]>$G$58),2,IF(OR(Tabulka2[[#This Row],[Data]]<$G$51,Tabulka2[[#This Row],[Data]]>$G$52),1,0)))","v":""},{"$f":"IF(Tabulka2[[#This Row],[OL]]=\"\",\"\",IF(Tabulka2[[#This Row],[OL]]>0,A842,\"\"))","v":""},null,null,null,null,null,null,null,null,null,null,null,null,null,null,null,"",null,""]
[null,null,{"$f":"IF(Tabulka2[[#This Row],[Data]]=\"\",\"\",IF(OR(Tabulka2[[#This Row],[Data]]<$G$57,Tabulka2[[#This Row],[Data]]>$G$58),2,IF(OR(Tabulka2[[#This Row],[Data]]<$G$51,Tabulka2[[#This Row],[Data]]>$G$52),1,0)))","v":""},{"$f":"IF(Tabulka2[[#This Row],[OL]]=\"\",\"\",IF(Tabulka2[[#This Row],[OL]]>0,A843,\"\"))","v":""},null,null,null,null,null,null,null,null,null,null,null,null,null,null,null,"",null,""]
[null,null,{"$f":"IF(Tabulka2[[#This Row],[Data]]=\"\",\"\",IF(OR(Tabulka2[[#This Row],[Data]]<$G$57,Tabulka2[[#This Row],[Data]]>$G$58),2,IF(OR(Tabulka2[[#This Row],[Data]]<$G$51,Tabulka2[[#This Row],[Data]]>$G$52),1,0)))","v":""},{"$f":"IF(Tabulka2[[#This Row],[OL]]=\"\",\"\",IF(Tabulka2[[#This Row],[OL]]>0,A844,\"\"))","v":""},null,null,null,null,null,null,null,null,null,null,null,null,null,null,null,"",null,""]
[null,null,{"$f":"IF(Tabulka2[[#This Row],[Data]]=\"\",\"\",IF(OR(Tabulka2[[#This Row],[Data]]<$G$57,Tabulka2[[#This Row],[Data]]>$G$58),2,IF(OR(Tabulka2[[#This Row],[Data]]<$G$51,Tabulka2[[#This Row],[Data]]>$G$52),1,0)))","v":""},{"$f":"IF(Tabulka2[[#This Row],[OL]]=\"\",\"\",IF(Tabulka2[[#This Row],[OL]]>0,A845,\"\"))","v":""},null,null,null,null,null,null,null,null,null,null,null,null,null,null,null,"",null,""]
[null,null,{"$f":"IF(Tabulka2[[#This Row],[Data]]=\"\",\"\",IF(OR(Tabulka2[[#This Row],[Data]]<$G$57,Tabulka2[[#This Row],[Data]]>$G$58),2,IF(OR(Tabulka2[[#This Row],[Data]]<$G$51,Tabulka2[[#This Row],[Data]]>$G$52),1,0)))","v":""},{"$f":"IF(Tabulka2[[#This Row],[OL]]=\"\",\"\",IF(Tabulka2[[#This Row],[OL]]>0,A846,\"\"))","v":""},null,null,null,null,null,null,null,null,null,null,null,null,null,null,null,"",null,""]
[null,null,{"$f":"IF(Tabulka2[[#This Row],[Data]]=\"\",\"\",IF(OR(Tabulka2[[#This Row],[Data]]<$G$57,Tabulka2[[#This Row],[Data]]>$G$58),2,IF(OR(Tabulka2[[#This Row],[Data]]<$G$51,Tabulka2[[#This Row],[Data]]>$G$52),1,0)))","v":""},{"$f":"IF(Tabulka2[[#This Row],[OL]]=\"\",\"\",IF(Tabulka2[[#This Row],[OL]]>0,A847,\"\"))","v":""},null,null,null,null,null,null,null,null,null,null,null,null,null,null,null,"",null,""]
[null,null,{"$f":"IF(Tabulka2[[#This Row],[Data]]=\"\",\"\",IF(OR(Tabulka2[[#This Row],[Data]]<$G$57,Tabulka2[[#This Row],[Data]]>$G$58),2,IF(OR(Tabulka2[[#This Row],[Data]]<$G$51,Tabulka2[[#This Row],[Data]]>$G$52),1,0)))","v":""},{"$f":"IF(Tabulka2[[#This Row],[OL]]=\"\",\"\",IF(Tabulka2[[#This Row],[OL]]>0,A848,\"\"))","v":""},null,null,null,null,null,null,null,null,null,null,null,null,null,null,null,"",null,""]
[null,null,{"$f":"IF(Tabulka2[[#This Row],[Data]]=\"\",\"\",IF(OR(Tabulka2[[#This Row],[Data]]<$G$57,Tabulka2[[#This Row],[Data]]>$G$58),2,IF(OR(Tabulka2[[#This Row],[Data]]<$G$51,Tabulka2[[#This Row],[Data]]>$G$52),1,0)))","v":""},{"$f":"IF(Tabulka2[[#This Row],[OL]]=\"\",\"\",IF(Tabulka2[[#This Row],[OL]]>0,A849,\"\"))","v":""},null,null,null,null,null,null,null,null,null,null,null,null,null,null,null,"",null,""]
[null,null,{"$f":"IF(Tabulka2[[#This Row],[Data]]=\"\",\"\",IF(OR(Tabulka2[[#This Row],[Data]]<$G$57,Tabulka2[[#This Row],[Data]]>$G$58),2,IF(OR(Tabulka2[[#This Row],[Data]]<$G$51,Tabulka2[[#This Row],[Data]]>$G$52),1,0)))","v":""},{"$f":"IF(Tabulka2[[#This Row],[OL]]=\"\",\"\",IF(Tabulka2[[#This Row],[OL]]>0,A850,\"\"))","v":""},null,null,null,null,null,null,null,null,null,null,null,null,null,null,null,"",null,""]
[null,null,{"$f":"IF(Tabulka2[[#This Row],[Data]]=\"\",\"\",IF(OR(Tabulka2[[#This Row],[Data]]<$G$57,Tabulka2[[#This Row],[Data]]>$G$58),2,IF(OR(Tabulka2[[#This Row],[Data]]<$G$51,Tabulka2[[#This Row],[Data]]>$G$52),1,0)))","v":""},{"$f":"IF(Tabulka2[[#This Row],[OL]]=\"\",\"\",IF(Tabulka2[[#This Row],[OL]]>0,A851,\"\"))","v":""},null,null,null,null,null,null,null,null,null,null,null,null,null,null,null,"",null,""]
[null,null,{"$f":"IF(Tabulka2[[#This Row],[Data]]=\"\",\"\",IF(OR(Tabulka2[[#This Row],[Data]]<$G$57,Tabulka2[[#This Row],[Data]]>$G$58),2,IF(OR(Tabulka2[[#This Row],[Data]]<$G$51,Tabulka2[[#This Row],[Data]]>$G$52),1,0)))","v":""},{"$f":"IF(Tabulka2[[#This Row],[OL]]=\"\",\"\",IF(Tabulka2[[#This Row],[OL]]>0,A852,\"\"))","v":""},null,null,null,null,null,null,null,null,null,null,null,null,null,null,null,"",null,""]
[null,null,{"$f":"IF(Tabulka2[[#This Row],[Data]]=\"\",\"\",IF(OR(Tabulka2[[#This Row],[Data]]<$G$57,Tabulka2[[#This Row],[Data]]>$G$58),2,IF(OR(Tabulka2[[#This Row],[Data]]<$G$51,Tabulka2[[#This Row],[Data]]>$G$52),1,0)))","v":""},{"$f":"IF(Tabulka2[[#This Row],[OL]]=\"\",\"\",IF(Tabulka2[[#This Row],[OL]]>0,A853,\"\"))","v":""},null,null,null,null,null,null,null,null,null,null,null,null,null,null,null,"",null,""]
[null,null,{"$f":"IF(Tabulka2[[#This Row],[Data]]=\"\",\"\",IF(OR(Tabulka2[[#This Row],[Data]]<$G$57,Tabulka2[[#This Row],[Data]]>$G$58),2,IF(OR(Tabulka2[[#This Row],[Data]]<$G$51,Tabulka2[[#This Row],[Data]]>$G$52),1,0)))","v":""},{"$f":"IF(Tabulka2[[#This Row],[OL]]=\"\",\"\",IF(Tabulka2[[#This Row],[OL]]>0,A854,\"\"))","v":""},null,null,null,null,null,null,null,null,null,null,null,null,null,null,null,"",null,""]
[null,null,{"$f":"IF(Tabulka2[[#This Row],[Data]]=\"\",\"\",IF(OR(Tabulka2[[#This Row],[Data]]<$G$57,Tabulka2[[#This Row],[Data]]>$G$58),2,IF(OR(Tabulka2[[#This Row],[Data]]<$G$51,Tabulka2[[#This Row],[Data]]>$G$52),1,0)))","v":""},{"$f":"IF(Tabulka2[[#This Row],[OL]]=\"\",\"\",IF(Tabulka2[[#This Row],[OL]]>0,A855,\"\"))","v":""},null,null,null,null,null,null,null,null,null,null,null,null,null,null,null,"",null,""]
[null,null,{"$f":"IF(Tabulka2[[#This Row],[Data]]=\"\",\"\",IF(OR(Tabulka2[[#This Row],[Data]]<$G$57,Tabulka2[[#This Row],[Data]]>$G$58),2,IF(OR(Tabulka2[[#This Row],[Data]]<$G$51,Tabulka2[[#This Row],[Data]]>$G$52),1,0)))","v":""},{"$f":"IF(Tabulka2[[#This Row],[OL]]=\"\",\"\",IF(Tabulka2[[#This Row],[OL]]>0,A856,\"\"))","v":""},null,null,null,null,null,null,null,null,null,null,null,null,null,null,null,"",null,""]
[null,null,{"$f":"IF(Tabulka2[[#This Row],[Data]]=\"\",\"\",IF(OR(Tabulka2[[#This Row],[Data]]<$G$57,Tabulka2[[#This Row],[Data]]>$G$58),2,IF(OR(Tabulka2[[#This Row],[Data]]<$G$51,Tabulka2[[#This Row],[Data]]>$G$52),1,0)))","v":""},{"$f":"IF(Tabulka2[[#This Row],[OL]]=\"\",\"\",IF(Tabulka2[[#This Row],[OL]]>0,A857,\"\"))","v":""},null,null,null,null,null,null,null,null,null,null,null,null,null,null,null,"",null,""]
[null,null,{"$f":"IF(Tabulka2[[#This Row],[Data]]=\"\",\"\",IF(OR(Tabulka2[[#This Row],[Data]]<$G$57,Tabulka2[[#This Row],[Data]]>$G$58),2,IF(OR(Tabulka2[[#This Row],[Data]]<$G$51,Tabulka2[[#This Row],[Data]]>$G$52),1,0)))","v":""},{"$f":"IF(Tabulka2[[#This Row],[OL]]=\"\",\"\",IF(Tabulka2[[#This Row],[OL]]>0,A858,\"\"))","v":""},null,null,null,null,null,null,null,null,null,null,null,null,null,null,null,"",null,""]
[null,null,{"$f":"IF(Tabulka2[[#This Row],[Data]]=\"\",\"\",IF(OR(Tabulka2[[#This Row],[Data]]<$G$57,Tabulka2[[#This Row],[Data]]>$G$58),2,IF(OR(Tabulka2[[#This Row],[Data]]<$G$51,Tabulka2[[#This Row],[Data]]>$G$52),1,0)))","v":""},{"$f":"IF(Tabulka2[[#This Row],[OL]]=\"\",\"\",IF(Tabulka2[[#This Row],[OL]]>0,A859,\"\"))","v":""},null,null,null,null,null,null,null,null,null,null,null,null,null,null,null,"",null,""]
[null,null,{"$f":"IF(Tabulka2[[#This Row],[Data]]=\"\",\"\",IF(OR(Tabulka2[[#This Row],[Data]]<$G$57,Tabulka2[[#This Row],[Data]]>$G$58),2,IF(OR(Tabulka2[[#This Row],[Data]]<$G$51,Tabulka2[[#This Row],[Data]]>$G$52),1,0)))","v":""},{"$f":"IF(Tabulka2[[#This Row],[OL]]=\"\",\"\",IF(Tabulka2[[#This Row],[OL]]>0,A860,\"\"))","v":""},null,null,null,null,null,null,null,null,null,null,null,null,null,null,null,"",null,""]
[null,null,{"$f":"IF(Tabulka2[[#This Row],[Data]]=\"\",\"\",IF(OR(Tabulka2[[#This Row],[Data]]<$G$57,Tabulka2[[#This Row],[Data]]>$G$58),2,IF(OR(Tabulka2[[#This Row],[Data]]<$G$51,Tabulka2[[#This Row],[Data]]>$G$52),1,0)))","v":""},{"$f":"IF(Tabulka2[[#This Row],[OL]]=\"\",\"\",IF(Tabulka2[[#This Row],[OL]]>0,A861,\"\"))","v":""},null,null,null,null,null,null,null,null,null,null,null,null,null,null,null,"",null,""]
[null,null,{"$f":"IF(Tabulka2[[#This Row],[Data]]=\"\",\"\",IF(OR(Tabulka2[[#This Row],[Data]]<$G$57,Tabulka2[[#This Row],[Data]]>$G$58),2,IF(OR(Tabulka2[[#This Row],[Data]]<$G$51,Tabulka2[[#This Row],[Data]]>$G$52),1,0)))","v":""},{"$f":"IF(Tabulka2[[#This Row],[OL]]=\"\",\"\",IF(Tabulka2[[#This Row],[OL]]>0,A862,\"\"))","v":""},null,null,null,null,null,null,null,null,null,null,null,null,null,null,null,"",null,""]
[null,null,{"$f":"IF(Tabulka2[[#This Row],[Data]]=\"\",\"\",IF(OR(Tabulka2[[#This Row],[Data]]<$G$57,Tabulka2[[#This Row],[Data]]>$G$58),2,IF(OR(Tabulka2[[#This Row],[Data]]<$G$51,Tabulka2[[#This Row],[Data]]>$G$52),1,0)))","v":""},{"$f":"IF(Tabulka2[[#This Row],[OL]]=\"\",\"\",IF(Tabulka2[[#This Row],[OL]]>0,A863,\"\"))","v":""},null,null,null,null,null,null,null,null,null,null,null,null,null,null,null,"",null,""]
[null,null,{"$f":"IF(Tabulka2[[#This Row],[Data]]=\"\",\"\",IF(OR(Tabulka2[[#This Row],[Data]]<$G$57,Tabulka2[[#This Row],[Data]]>$G$58),2,IF(OR(Tabulka2[[#This Row],[Data]]<$G$51,Tabulka2[[#This Row],[Data]]>$G$52),1,0)))","v":""},{"$f":"IF(Tabulka2[[#This Row],[OL]]=\"\",\"\",IF(Tabulka2[[#This Row],[OL]]>0,A864,\"\"))","v":""},null,null,null,null,null,null,null,null,null,null,null,null,null,null,null,"",null,""]
[null,null,{"$f":"IF(Tabulka2[[#This Row],[Data]]=\"\",\"\",IF(OR(Tabulka2[[#This Row],[Data]]<$G$57,Tabulka2[[#This Row],[Data]]>$G$58),2,IF(OR(Tabulka2[[#This Row],[Data]]<$G$51,Tabulka2[[#This Row],[Data]]>$G$52),1,0)))","v":""},{"$f":"IF(Tabulka2[[#This Row],[OL]]=\"\",\"\",IF(Tabulka2[[#This Row],[OL]]>0,A865,\"\"))","v":""},null,null,null,null,null,null,null,null,null,null,null,null,null,null,null,"",null,""]
[null,null,{"$f":"IF(Tabulka2[[#This Row],[Data]]=\"\",\"\",IF(OR(Tabulka2[[#This Row],[Data]]<$G$57,Tabulka2[[#This Row],[Data]]>$G$58),2,IF(OR(Tabulka2[[#This Row],[Data]]<$G$51,Tabulka2[[#This Row],[Data]]>$G$52),1,0)))","v":""},{"$f":"IF(Tabulka2[[#This Row],[OL]]=\"\",\"\",IF(Tabulka2[[#This Row],[OL]]>0,A866,\"\"))","v":""},null,null,null,null,null,null,null,null,null,null,null,null,null,null,null,"",null,""]
[null,null,{"$f":"IF(Tabulka2[[#This Row],[Data]]=\"\",\"\",IF(OR(Tabulka2[[#This Row],[Data]]<$G$57,Tabulka2[[#This Row],[Data]]>$G$58),2,IF(OR(Tabulka2[[#This Row],[Data]]<$G$51,Tabulka2[[#This Row],[Data]]>$G$52),1,0)))","v":""},{"$f":"IF(Tabulka2[[#This Row],[OL]]=\"\",\"\",IF(Tabulka2[[#This Row],[OL]]>0,A867,\"\"))","v":""},null,null,null,null,null,null,null,null,null,null,null,null,null,null,null,"",null,""]
[null,null,{"$f":"IF(Tabulka2[[#This Row],[Data]]=\"\",\"\",IF(OR(Tabulka2[[#This Row],[Data]]<$G$57,Tabulka2[[#This Row],[Data]]>$G$58),2,IF(OR(Tabulka2[[#This Row],[Data]]<$G$51,Tabulka2[[#This Row],[Data]]>$G$52),1,0)))","v":""},{"$f":"IF(Tabulka2[[#This Row],[OL]]=\"\",\"\",IF(Tabulka2[[#This Row],[OL]]>0,A868,\"\"))","v":""},null,null,null,null,null,null,null,null,null,null,null,null,null,null,null,"",null,""]
[null,null,{"$f":"IF(Tabulka2[[#This Row],[Data]]=\"\",\"\",IF(OR(Tabulka2[[#This Row],[Data]]<$G$57,Tabulka2[[#This Row],[Data]]>$G$58),2,IF(OR(Tabulka2[[#This Row],[Data]]<$G$51,Tabulka2[[#This Row],[Data]]>$G$52),1,0)))","v":""},{"$f":"IF(Tabulka2[[#This Row],[OL]]=\"\",\"\",IF(Tabulka2[[#This Row],[OL]]>0,A869,\"\"))","v":""},null,null,null,null,null,null,null,null,null,null,null,null,null,null,null,"",null,""]
[null,null,{"$f":"IF(Tabulka2[[#This Row],[Data]]=\"\",\"\",IF(OR(Tabulka2[[#This Row],[Data]]<$G$57,Tabulka2[[#This Row],[Data]]>$G$58),2,IF(OR(Tabulka2[[#This Row],[Data]]<$G$51,Tabulka2[[#This Row],[Data]]>$G$52),1,0)))","v":""},{"$f":"IF(Tabulka2[[#This Row],[OL]]=\"\",\"\",IF(Tabulka2[[#This Row],[OL]]>0,A870,\"\"))","v":""},null,null,null,null,null,null,null,null,null,null,null,null,null,null,null,"",null,""]
[null,null,{"$f":"IF(Tabulka2[[#This Row],[Data]]=\"\",\"\",IF(OR(Tabulka2[[#This Row],[Data]]<$G$57,Tabulka2[[#This Row],[Data]]>$G$58),2,IF(OR(Tabulka2[[#This Row],[Data]]<$G$51,Tabulka2[[#This Row],[Data]]>$G$52),1,0)))","v":""},{"$f":"IF(Tabulka2[[#This Row],[OL]]=\"\",\"\",IF(Tabulka2[[#This Row],[OL]]>0,A871,\"\"))","v":""},null,null,null,null,null,null,null,null,null,null,null,null,null,null,null,"",null,""]
[null,null,{"$f":"IF(Tabulka2[[#This Row],[Data]]=\"\",\"\",IF(OR(Tabulka2[[#This Row],[Data]]<$G$57,Tabulka2[[#This Row],[Data]]>$G$58),2,IF(OR(Tabulka2[[#This Row],[Data]]<$G$51,Tabulka2[[#This Row],[Data]]>$G$52),1,0)))","v":""},{"$f":"IF(Tabulka2[[#This Row],[OL]]=\"\",\"\",IF(Tabulka2[[#This Row],[OL]]>0,A872,\"\"))","v":""},null,null,null,null,null,null,null,null,null,null,null,null,null,null,null,"",null,""]
[null,null,{"$f":"IF(Tabulka2[[#This Row],[Data]]=\"\",\"\",IF(OR(Tabulka2[[#This Row],[Data]]<$G$57,Tabulka2[[#This Row],[Data]]>$G$58),2,IF(OR(Tabulka2[[#This Row],[Data]]<$G$51,Tabulka2[[#This Row],[Data]]>$G$52),1,0)))","v":""},{"$f":"IF(Tabulka2[[#This Row],[OL]]=\"\",\"\",IF(Tabulka2[[#This Row],[OL]]>0,A873,\"\"))","v":""},null,null,null,null,null,null,null,null,null,null,null,null,null,null,null,"",null,""]
[null,null,{"$f":"IF(Tabulka2[[#This Row],[Data]]=\"\",\"\",IF(OR(Tabulka2[[#This Row],[Data]]<$G$57,Tabulka2[[#This Row],[Data]]>$G$58),2,IF(OR(Tabulka2[[#This Row],[Data]]<$G$51,Tabulka2[[#This Row],[Data]]>$G$52),1,0)))","v":""},{"$f":"IF(Tabulka2[[#This Row],[OL]]=\"\",\"\",IF(Tabulka2[[#This Row],[OL]]>0,A874,\"\"))","v":""},null,null,null,null,null,null,null,null,null,null,null,null,null,null,null,"",null,""]
[null,null,{"$f":"IF(Tabulka2[[#This Row],[Data]]=\"\",\"\",IF(OR(Tabulka2[[#This Row],[Data]]<$G$57,Tabulka2[[#This Row],[Data]]>$G$58),2,IF(OR(Tabulka2[[#This Row],[Data]]<$G$51,Tabulka2[[#This Row],[Data]]>$G$52),1,0)))","v":""},{"$f":"IF(Tabulka2[[#This Row],[OL]]=\"\",\"\",IF(Tabulka2[[#This Row],[OL]]>0,A875,\"\"))","v":""},null,null,null,null,null,null,null,null,null,null,null,null,null,null,null,"",null,""]
[null,null,{"$f":"IF(Tabulka2[[#This Row],[Data]]=\"\",\"\",IF(OR(Tabulka2[[#This Row],[Data]]<$G$57,Tabulka2[[#This Row],[Data]]>$G$58),2,IF(OR(Tabulka2[[#This Row],[Data]]<$G$51,Tabulka2[[#This Row],[Data]]>$G$52),1,0)))","v":""},{"$f":"IF(Tabulka2[[#This Row],[OL]]=\"\",\"\",IF(Tabulka2[[#This Row],[OL]]>0,A876,\"\"))","v":""},null,null,null,null,null,null,null,null,null,null,null,null,null,null,null,"",null,""]
[null,null,{"$f":"IF(Tabulka2[[#This Row],[Data]]=\"\",\"\",IF(OR(Tabulka2[[#This Row],[Data]]<$G$57,Tabulka2[[#This Row],[Data]]>$G$58),2,IF(OR(Tabulka2[[#This Row],[Data]]<$G$51,Tabulka2[[#This Row],[Data]]>$G$52),1,0)))","v":""},{"$f":"IF(Tabulka2[[#This Row],[OL]]=\"\",\"\",IF(Tabulka2[[#This Row],[OL]]>0,A877,\"\"))","v":""},null,null,null,null,null,null,null,null,null,null,null,null,null,null,null,"",null,""]
[null,null,{"$f":"IF(Tabulka2[[#This Row],[Data]]=\"\",\"\",IF(OR(Tabulka2[[#This Row],[Data]]<$G$57,Tabulka2[[#This Row],[Data]]>$G$58),2,IF(OR(Tabulka2[[#This Row],[Data]]<$G$51,Tabulka2[[#This Row],[Data]]>$G$52),1,0)))","v":""},{"$f":"IF(Tabulka2[[#This Row],[OL]]=\"\",\"\",IF(Tabulka2[[#This Row],[OL]]>0,A878,\"\"))","v":""},null,null,null,null,null,null,null,null,null,null,null,null,null,null,null,"",null,""]
[null,null,{"$f":"IF(Tabulka2[[#This Row],[Data]]=\"\",\"\",IF(OR(Tabulka2[[#This Row],[Data]]<$G$57,Tabulka2[[#This Row],[Data]]>$G$58),2,IF(OR(Tabulka2[[#This Row],[Data]]<$G$51,Tabulka2[[#This Row],[Data]]>$G$52),1,0)))","v":""},{"$f":"IF(Tabulka2[[#This Row],[OL]]=\"\",\"\",IF(Tabulka2[[#This Row],[OL]]>0,A879,\"\"))","v":""},null,null,null,null,null,null,null,null,null,null,null,null,null,null,null,"",null,""]
[null,null,{"$f":"IF(Tabulka2[[#This Row],[Data]]=\"\",\"\",IF(OR(Tabulka2[[#This Row],[Data]]<$G$57,Tabulka2[[#This Row],[Data]]>$G$58),2,IF(OR(Tabulka2[[#This Row],[Data]]<$G$51,Tabulka2[[#This Row],[Data]]>$G$52),1,0)))","v":""},{"$f":"IF(Tabulka2[[#This Row],[OL]]=\"\",\"\",IF(Tabulka2[[#This Row],[OL]]>0,A880,\"\"))","v":""},null,null,null,null,null,null,null,null,null,null,null,null,null,null,null,"",null,""]
[null,null,{"$f":"IF(Tabulka2[[#This Row],[Data]]=\"\",\"\",IF(OR(Tabulka2[[#This Row],[Data]]<$G$57,Tabulka2[[#This Row],[Data]]>$G$58),2,IF(OR(Tabulka2[[#This Row],[Data]]<$G$51,Tabulka2[[#This Row],[Data]]>$G$52),1,0)))","v":""},{"$f":"IF(Tabulka2[[#This Row],[OL]]=\"\",\"\",IF(Tabulka2[[#This Row],[OL]]>0,A881,\"\"))","v":""},null,null,null,null,null,null,null,null,null,null,null,null,null,null,null,"",null,""]
[null,null,{"$f":"IF(Tabulka2[[#This Row],[Data]]=\"\",\"\",IF(OR(Tabulka2[[#This Row],[Data]]<$G$57,Tabulka2[[#This Row],[Data]]>$G$58),2,IF(OR(Tabulka2[[#This Row],[Data]]<$G$51,Tabulka2[[#This Row],[Data]]>$G$52),1,0)))","v":""},{"$f":"IF(Tabulka2[[#This Row],[OL]]=\"\",\"\",IF(Tabulka2[[#This Row],[OL]]>0,A882,\"\"))","v":""},null,null,null,null,null,null,null,null,null,null,null,null,null,null,null,"",null,""]
[null,null,{"$f":"IF(Tabulka2[[#This Row],[Data]]=\"\",\"\",IF(OR(Tabulka2[[#This Row],[Data]]<$G$57,Tabulka2[[#This Row],[Data]]>$G$58),2,IF(OR(Tabulka2[[#This Row],[Data]]<$G$51,Tabulka2[[#This Row],[Data]]>$G$52),1,0)))","v":""},{"$f":"IF(Tabulka2[[#This Row],[OL]]=\"\",\"\",IF(Tabulka2[[#This Row],[OL]]>0,A883,\"\"))","v":""},null,null,null,null,null,null,null,null,null,null,null,null,null,null,null,"",null,""]
[null,null,{"$f":"IF(Tabulka2[[#This Row],[Data]]=\"\",\"\",IF(OR(Tabulka2[[#This Row],[Data]]<$G$57,Tabulka2[[#This Row],[Data]]>$G$58),2,IF(OR(Tabulka2[[#This Row],[Data]]<$G$51,Tabulka2[[#This Row],[Data]]>$G$52),1,0)))","v":""},{"$f":"IF(Tabulka2[[#This Row],[OL]]=\"\",\"\",IF(Tabulka2[[#This Row],[OL]]>0,A884,\"\"))","v":""},null,null,null,null,null,null,null,null,null,null,null,null,null,null,null,"",null,""]
[null,null,{"$f":"IF(Tabulka2[[#This Row],[Data]]=\"\",\"\",IF(OR(Tabulka2[[#This Row],[Data]]<$G$57,Tabulka2[[#This Row],[Data]]>$G$58),2,IF(OR(Tabulka2[[#This Row],[Data]]<$G$51,Tabulka2[[#This Row],[Data]]>$G$52),1,0)))","v":""},{"$f":"IF(Tabulka2[[#This Row],[OL]]=\"\",\"\",IF(Tabulka2[[#This Row],[OL]]>0,A885,\"\"))","v":""},null,null,null,null,null,null,null,null,null,null,null,null,null,null,null,"",null,""]
[null,null,{"$f":"IF(Tabulka2[[#This Row],[Data]]=\"\",\"\",IF(OR(Tabulka2[[#This Row],[Data]]<$G$57,Tabulka2[[#This Row],[Data]]>$G$58),2,IF(OR(Tabulka2[[#This Row],[Data]]<$G$51,Tabulka2[[#This Row],[Data]]>$G$52),1,0)))","v":""},{"$f":"IF(Tabulka2[[#This Row],[OL]]=\"\",\"\",IF(Tabulka2[[#This Row],[OL]]>0,A886,\"\"))","v":""},null,null,null,null,null,null,null,null,null,null,null,null,null,null,null,"",null,""]
[null,null,{"$f":"IF(Tabulka2[[#This Row],[Data]]=\"\",\"\",IF(OR(Tabulka2[[#This Row],[Data]]<$G$57,Tabulka2[[#This Row],[Data]]>$G$58),2,IF(OR(Tabulka2[[#This Row],[Data]]<$G$51,Tabulka2[[#This Row],[Data]]>$G$52),1,0)))","v":""},{"$f":"IF(Tabulka2[[#This Row],[OL]]=\"\",\"\",IF(Tabulka2[[#This Row],[OL]]>0,A887,\"\"))","v":""},null,null,null,null,null,null,null,null,null,null,null,null,null,null,null,"",null,""]
[null,null,{"$f":"IF(Tabulka2[[#This Row],[Data]]=\"\",\"\",IF(OR(Tabulka2[[#This Row],[Data]]<$G$57,Tabulka2[[#This Row],[Data]]>$G$58),2,IF(OR(Tabulka2[[#This Row],[Data]]<$G$51,Tabulka2[[#This Row],[Data]]>$G$52),1,0)))","v":""},{"$f":"IF(Tabulka2[[#This Row],[OL]]=\"\",\"\",IF(Tabulka2[[#This Row],[OL]]>0,A888,\"\"))","v":""},null,null,null,null,null,null,null,null,null,null,null,null,null,null,null,"",null,""]
[null,null,{"$f":"IF(Tabulka2[[#This Row],[Data]]=\"\",\"\",IF(OR(Tabulka2[[#This Row],[Data]]<$G$57,Tabulka2[[#This Row],[Data]]>$G$58),2,IF(OR(Tabulka2[[#This Row],[Data]]<$G$51,Tabulka2[[#This Row],[Data]]>$G$52),1,0)))","v":""},{"$f":"IF(Tabulka2[[#This Row],[OL]]=\"\",\"\",IF(Tabulka2[[#This Row],[OL]]>0,A889,\"\"))","v":""},null,null,null,null,null,null,null,null,null,null,null,null,null,null,null,"",null,""]
[null,null,{"$f":"IF(Tabulka2[[#This Row],[Data]]=\"\",\"\",IF(OR(Tabulka2[[#This Row],[Data]]<$G$57,Tabulka2[[#This Row],[Data]]>$G$58),2,IF(OR(Tabulka2[[#This Row],[Data]]<$G$51,Tabulka2[[#This Row],[Data]]>$G$52),1,0)))","v":""},{"$f":"IF(Tabulka2[[#This Row],[OL]]=\"\",\"\",IF(Tabulka2[[#This Row],[OL]]>0,A890,\"\"))","v":""},null,null,null,null,null,null,null,null,null,null,null,null,null,null,null,"",null,""]
[null,null,{"$f":"IF(Tabulka2[[#This Row],[Data]]=\"\",\"\",IF(OR(Tabulka2[[#This Row],[Data]]<$G$57,Tabulka2[[#This Row],[Data]]>$G$58),2,IF(OR(Tabulka2[[#This Row],[Data]]<$G$51,Tabulka2[[#This Row],[Data]]>$G$52),1,0)))","v":""},{"$f":"IF(Tabulka2[[#This Row],[OL]]=\"\",\"\",IF(Tabulka2[[#This Row],[OL]]>0,A891,\"\"))","v":""},null,null,null,null,null,null,null,null,null,null,null,null,null,null,null,"",null,""]
[null,null,{"$f":"IF(Tabulka2[[#This Row],[Data]]=\"\",\"\",IF(OR(Tabulka2[[#This Row],[Data]]<$G$57,Tabulka2[[#This Row],[Data]]>$G$58),2,IF(OR(Tabulka2[[#This Row],[Data]]<$G$51,Tabulka2[[#This Row],[Data]]>$G$52),1,0)))","v":""},{"$f":"IF(Tabulka2[[#This Row],[OL]]=\"\",\"\",IF(Tabulka2[[#This Row],[OL]]>0,A892,\"\"))","v":""},null,null,null,null,null,null,null,null,null,null,null,null,null,null,null,"",null,""]
[null,null,{"$f":"IF(Tabulka2[[#This Row],[Data]]=\"\",\"\",IF(OR(Tabulka2[[#This Row],[Data]]<$G$57,Tabulka2[[#This Row],[Data]]>$G$58),2,IF(OR(Tabulka2[[#This Row],[Data]]<$G$51,Tabulka2[[#This Row],[Data]]>$G$52),1,0)))","v":""},{"$f":"IF(Tabulka2[[#This Row],[OL]]=\"\",\"\",IF(Tabulka2[[#This Row],[OL]]>0,A893,\"\"))","v":""},null,null,null,null,null,null,null,null,null,null,null,null,null,null,null,"",null,""]
[null,null,{"$f":"IF(Tabulka2[[#This Row],[Data]]=\"\",\"\",IF(OR(Tabulka2[[#This Row],[Data]]<$G$57,Tabulka2[[#This Row],[Data]]>$G$58),2,IF(OR(Tabulka2[[#This Row],[Data]]<$G$51,Tabulka2[[#This Row],[Data]]>$G$52),1,0)))","v":""},{"$f":"IF(Tabulka2[[#This Row],[OL]]=\"\",\"\",IF(Tabulka2[[#This Row],[OL]]>0,A894,\"\"))","v":""},null,null,null,null,null,null,null,null,null,null,null,null,null,null,null,"",null,""]
[null,null,{"$f":"IF(Tabulka2[[#This Row],[Data]]=\"\",\"\",IF(OR(Tabulka2[[#This Row],[Data]]<$G$57,Tabulka2[[#This Row],[Data]]>$G$58),2,IF(OR(Tabulka2[[#This Row],[Data]]<$G$51,Tabulka2[[#This Row],[Data]]>$G$52),1,0)))","v":""},{"$f":"IF(Tabulka2[[#This Row],[OL]]=\"\",\"\",IF(Tabulka2[[#This Row],[OL]]>0,A895,\"\"))","v":""},null,null,null,null,null,null,null,null,null,null,null,null,null,null,null,"",null,""]
[null,null,{"$f":"IF(Tabulka2[[#This Row],[Data]]=\"\",\"\",IF(OR(Tabulka2[[#This Row],[Data]]<$G$57,Tabulka2[[#This Row],[Data]]>$G$58),2,IF(OR(Tabulka2[[#This Row],[Data]]<$G$51,Tabulka2[[#This Row],[Data]]>$G$52),1,0)))","v":""},{"$f":"IF(Tabulka2[[#This Row],[OL]]=\"\",\"\",IF(Tabulka2[[#This Row],[OL]]>0,A896,\"\"))","v":""},null,null,null,null,null,null,null,null,null,null,null,null,null,null,null,"",null,""]
[null,null,{"$f":"IF(Tabulka2[[#This Row],[Data]]=\"\",\"\",IF(OR(Tabulka2[[#This Row],[Data]]<$G$57,Tabulka2[[#This Row],[Data]]>$G$58),2,IF(OR(Tabulka2[[#This Row],[Data]]<$G$51,Tabulka2[[#This Row],[Data]]>$G$52),1,0)))","v":""},{"$f":"IF(Tabulka2[[#This Row],[OL]]=\"\",\"\",IF(Tabulka2[[#This Row],[OL]]>0,A897,\"\"))","v":""},null,null,null,null,null,null,null,null,null,null,null,null,null,null,null,"",null,""]
[null,null,{"$f":"IF(Tabulka2[[#This Row],[Data]]=\"\",\"\",IF(OR(Tabulka2[[#This Row],[Data]]<$G$57,Tabulka2[[#This Row],[Data]]>$G$58),2,IF(OR(Tabulka2[[#This Row],[Data]]<$G$51,Tabulka2[[#This Row],[Data]]>$G$52),1,0)))","v":""},{"$f":"IF(Tabulka2[[#This Row],[OL]]=\"\",\"\",IF(Tabulka2[[#This Row],[OL]]>0,A898,\"\"))","v":""},null,null,null,null,null,null,null,null,null,null,null,null,null,null,null,"",null,""]
[null,null,{"$f":"IF(Tabulka2[[#This Row],[Data]]=\"\",\"\",IF(OR(Tabulka2[[#This Row],[Data]]<$G$57,Tabulka2[[#This Row],[Data]]>$G$58),2,IF(OR(Tabulka2[[#This Row],[Data]]<$G$51,Tabulka2[[#This Row],[Data]]>$G$52),1,0)))","v":""},{"$f":"IF(Tabulka2[[#This Row],[OL]]=\"\",\"\",IF(Tabulka2[[#This Row],[OL]]>0,A899,\"\"))","v":""},null,null,null,null,null,null,null,null,null,null,null,null,null,null,null,"",null,""]
[null,null,{"$f":"IF(Tabulka2[[#This Row],[Data]]=\"\",\"\",IF(OR(Tabulka2[[#This Row],[Data]]<$G$57,Tabulka2[[#This Row],[Data]]>$G$58),2,IF(OR(Tabulka2[[#This Row],[Data]]<$G$51,Tabulka2[[#This Row],[Data]]>$G$52),1,0)))","v":""},{"$f":"IF(Tabulka2[[#This Row],[OL]]=\"\",\"\",IF(Tabulka2[[#This Row],[OL]]>0,A900,\"\"))","v":""},null,null,null,null,null,null,null,null,null,null,null,null,null,null,null,"",null,""]
[null,null,{"$f":"IF(Tabulka2[[#This Row],[Data]]=\"\",\"\",IF(OR(Tabulka2[[#This Row],[Data]]<$G$57,Tabulka2[[#This Row],[Data]]>$G$58),2,IF(OR(Tabulka2[[#This Row],[Data]]<$G$51,Tabulka2[[#This Row],[Data]]>$G$52),1,0)))","v":""},{"$f":"IF(Tabulka2[[#This Row],[OL]]=\"\",\"\",IF(Tabulka2[[#This Row],[OL]]>0,A901,\"\"))","v":""},null,null,null,null,null,null,null,null,null,null,null,null,null,null,null,"",null,""]
[null,null,{"$f":"IF(Tabulka2[[#This Row],[Data]]=\"\",\"\",IF(OR(Tabulka2[[#This Row],[Data]]<$G$57,Tabulka2[[#This Row],[Data]]>$G$58),2,IF(OR(Tabulka2[[#This Row],[Data]]<$G$51,Tabulka2[[#This Row],[Data]]>$G$52),1,0)))","v":""},{"$f":"IF(Tabulka2[[#This Row],[OL]]=\"\",\"\",IF(Tabulka2[[#This Row],[OL]]>0,A902,\"\"))","v":""},null,null,null,null,null,null,null,null,null,null,null,null,null,null,null,"",null,""]
[null,null,{"$f":"IF(Tabulka2[[#This Row],[Data]]=\"\",\"\",IF(OR(Tabulka2[[#This Row],[Data]]<$G$57,Tabulka2[[#This Row],[Data]]>$G$58),2,IF(OR(Tabulka2[[#This Row],[Data]]<$G$51,Tabulka2[[#This Row],[Data]]>$G$52),1,0)))","v":""},{"$f":"IF(Tabulka2[[#This Row],[OL]]=\"\",\"\",IF(Tabulka2[[#This Row],[OL]]>0,A903,\"\"))","v":""},null,null,null,null,null,null,null,null,null,null,null,null,null,null,null,"",null,""]
[null,null,{"$f":"IF(Tabulka2[[#This Row],[Data]]=\"\",\"\",IF(OR(Tabulka2[[#This Row],[Data]]<$G$57,Tabulka2[[#This Row],[Data]]>$G$58),2,IF(OR(Tabulka2[[#This Row],[Data]]<$G$51,Tabulka2[[#This Row],[Data]]>$G$52),1,0)))","v":""},{"$f":"IF(Tabulka2[[#This Row],[OL]]=\"\",\"\",IF(Tabulka2[[#This Row],[OL]]>0,A904,\"\"))","v":""},null,null,null,null,null,null,null,null,null,null,null,null,null,null,null,"",null,""]
[null,null,{"$f":"IF(Tabulka2[[#This Row],[Data]]=\"\",\"\",IF(OR(Tabulka2[[#This Row],[Data]]<$G$57,Tabulka2[[#This Row],[Data]]>$G$58),2,IF(OR(Tabulka2[[#This Row],[Data]]<$G$51,Tabulka2[[#This Row],[Data]]>$G$52),1,0)))","v":""},{"$f":"IF(Tabulka2[[#This Row],[OL]]=\"\",\"\",IF(Tabulka2[[#This Row],[OL]]>0,A905,\"\"))","v":""},null,null,null,null,null,null,null,null,null,null,null,null,null,null,null,"",null,""]
[null,null,{"$f":"IF(Tabulka2[[#This Row],[Data]]=\"\",\"\",IF(OR(Tabulka2[[#This Row],[Data]]<$G$57,Tabulka2[[#This Row],[Data]]>$G$58),2,IF(OR(Tabulka2[[#This Row],[Data]]<$G$51,Tabulka2[[#This Row],[Data]]>$G$52),1,0)))","v":""},{"$f":"IF(Tabulka2[[#This Row],[OL]]=\"\",\"\",IF(Tabulka2[[#This Row],[OL]]>0,A906,\"\"))","v":""},null,null,null,null,null,null,null,null,null,null,null,null,null,null,null,"",null,""]
[null,null,{"$f":"IF(Tabulka2[[#This Row],[Data]]=\"\",\"\",IF(OR(Tabulka2[[#This Row],[Data]]<$G$57,Tabulka2[[#This Row],[Data]]>$G$58),2,IF(OR(Tabulka2[[#This Row],[Data]]<$G$51,Tabulka2[[#This Row],[Data]]>$G$52),1,0)))","v":""},{"$f":"IF(Tabulka2[[#This Row],[OL]]=\"\",\"\",IF(Tabulka2[[#This Row],[OL]]>0,A907,\"\"))","v":""},null,null,null,null,null,null,null,null,null,null,null,null,null,null,null,"",null,""]
[null,null,{"$f":"IF(Tabulka2[[#This Row],[Data]]=\"\",\"\",IF(OR(Tabulka2[[#This Row],[Data]]<$G$57,Tabulka2[[#This Row],[Data]]>$G$58),2,IF(OR(Tabulka2[[#This Row],[Data]]<$G$51,Tabulka2[[#This Row],[Data]]>$G$52),1,0)))","v":""},{"$f":"IF(Tabulka2[[#This Row],[OL]]=\"\",\"\",IF(Tabulka2[[#This Row],[OL]]>0,A908,\"\"))","v":""},null,null,null,null,null,null,null,null,null,null,null,null,null,null,null,"",null,""]
[null,null,{"$f":"IF(Tabulka2[[#This Row],[Data]]=\"\",\"\",IF(OR(Tabulka2[[#This Row],[Data]]<$G$57,Tabulka2[[#This Row],[Data]]>$G$58),2,IF(OR(Tabulka2[[#This Row],[Data]]<$G$51,Tabulka2[[#This Row],[Data]]>$G$52),1,0)))","v":""},{"$f":"IF(Tabulka2[[#This Row],[OL]]=\"\",\"\",IF(Tabulka2[[#This Row],[OL]]>0,A909,\"\"))","v":""},null,null,null,null,null,null,null,null,null,null,null,null,null,null,null,"",null,""]
[null,null,{"$f":"IF(Tabulka2[[#This Row],[Data]]=\"\",\"\",IF(OR(Tabulka2[[#This Row],[Data]]<$G$57,Tabulka2[[#This Row],[Data]]>$G$58),2,IF(OR(Tabulka2[[#This Row],[Data]]<$G$51,Tabulka2[[#This Row],[Data]]>$G$52),1,0)))","v":""},{"$f":"IF(Tabulka2[[#This Row],[OL]]=\"\",\"\",IF(Tabulka2[[#This Row],[OL]]>0,A910,\"\"))","v":""},null,null,null,null,null,null,null,null,null,null,null,null,null,null,null,"",null,""]
[null,null,{"$f":"IF(Tabulka2[[#This Row],[Data]]=\"\",\"\",IF(OR(Tabulka2[[#This Row],[Data]]<$G$57,Tabulka2[[#This Row],[Data]]>$G$58),2,IF(OR(Tabulka2[[#This Row],[Data]]<$G$51,Tabulka2[[#This Row],[Data]]>$G$52),1,0)))","v":""},{"$f":"IF(Tabulka2[[#This Row],[OL]]=\"\",\"\",IF(Tabulka2[[#This Row],[OL]]>0,A911,\"\"))","v":""},null,null,null,null,null,null,null,null,null,null,null,null,null,null,null,"",null,""]
[null,null,{"$f":"IF(Tabulka2[[#This Row],[Data]]=\"\",\"\",IF(OR(Tabulka2[[#This Row],[Data]]<$G$57,Tabulka2[[#This Row],[Data]]>$G$58),2,IF(OR(Tabulka2[[#This Row],[Data]]<$G$51,Tabulka2[[#This Row],[Data]]>$G$52),1,0)))","v":""},{"$f":"IF(Tabulka2[[#This Row],[OL]]=\"\",\"\",IF(Tabulka2[[#This Row],[OL]]>0,A912,\"\"))","v":""},null,null,null,null,null,null,null,null,null,null,null,null,null,null,null,"",null,""]
[null,null,{"$f":"IF(Tabulka2[[#This Row],[Data]]=\"\",\"\",IF(OR(Tabulka2[[#This Row],[Data]]<$G$57,Tabulka2[[#This Row],[Data]]>$G$58),2,IF(OR(Tabulka2[[#This Row],[Data]]<$G$51,Tabulka2[[#This Row],[Data]]>$G$52),1,0)))","v":""},{"$f":"IF(Tabulka2[[#This Row],[OL]]=\"\",\"\",IF(Tabulka2[[#This Row],[OL]]>0,A913,\"\"))","v":""},null,null,null,null,null,null,null,null,null,null,null,null,null,null,null,"",null,""]
[null,null,{"$f":"IF(Tabulka2[[#This Row],[Data]]=\"\",\"\",IF(OR(Tabulka2[[#This Row],[Data]]<$G$57,Tabulka2[[#This Row],[Data]]>$G$58),2,IF(OR(Tabulka2[[#This Row],[Data]]<$G$51,Tabulka2[[#This Row],[Data]]>$G$52),1,0)))","v":""},{"$f":"IF(Tabulka2[[#This Row],[OL]]=\"\",\"\",IF(Tabulka2[[#This Row],[OL]]>0,A914,\"\"))","v":""},null,null,null,null,null,null,null,null,null,null,null,null,null,null,null,"",null,""]
[null,null,{"$f":"IF(Tabulka2[[#This Row],[Data]]=\"\",\"\",IF(OR(Tabulka2[[#This Row],[Data]]<$G$57,Tabulka2[[#This Row],[Data]]>$G$58),2,IF(OR(Tabulka2[[#This Row],[Data]]<$G$51,Tabulka2[[#This Row],[Data]]>$G$52),1,0)))","v":""},{"$f":"IF(Tabulka2[[#This Row],[OL]]=\"\",\"\",IF(Tabulka2[[#This Row],[OL]]>0,A915,\"\"))","v":""},null,null,null,null,null,null,null,null,null,null,null,null,null,null,null,"",null,""]
[null,null,{"$f":"IF(Tabulka2[[#This Row],[Data]]=\"\",\"\",IF(OR(Tabulka2[[#This Row],[Data]]<$G$57,Tabulka2[[#This Row],[Data]]>$G$58),2,IF(OR(Tabulka2[[#This Row],[Data]]<$G$51,Tabulka2[[#This Row],[Data]]>$G$52),1,0)))","v":""},{"$f":"IF(Tabulka2[[#This Row],[OL]]=\"\",\"\",IF(Tabulka2[[#This Row],[OL]]>0,A916,\"\"))","v":""},null,null,null,null,null,null,null,null,null,null,null,null,null,null,null,"",null,""]
[null,null,{"$f":"IF(Tabulka2[[#This Row],[Data]]=\"\",\"\",IF(OR(Tabulka2[[#This Row],[Data]]<$G$57,Tabulka2[[#This Row],[Data]]>$G$58),2,IF(OR(Tabulka2[[#This Row],[Data]]<$G$51,Tabulka2[[#This Row],[Data]]>$G$52),1,0)))","v":""},{"$f":"IF(Tabulka2[[#This Row],[OL]]=\"\",\"\",IF(Tabulka2[[#This Row],[OL]]>0,A917,\"\"))","v":""},null,null,null,null,null,null,null,null,null,null,null,null,null,null,null,"",null,""]
[null,null,{"$f":"IF(Tabulka2[[#This Row],[Data]]=\"\",\"\",IF(OR(Tabulka2[[#This Row],[Data]]<$G$57,Tabulka2[[#This Row],[Data]]>$G$58),2,IF(OR(Tabulka2[[#This Row],[Data]]<$G$51,Tabulka2[[#This Row],[Data]]>$G$52),1,0)))","v":""},{"$f":"IF(Tabulka2[[#This Row],[OL]]=\"\",\"\",IF(Tabulka2[[#This Row],[OL]]>0,A918,\"\"))","v":""},null,null,null,null,null,null,null,null,null,null,null,null,null,null,null,"",null,""]
[null,null,{"$f":"IF(Tabulka2[[#This Row],[Data]]=\"\",\"\",IF(OR(Tabulka2[[#This Row],[Data]]<$G$57,Tabulka2[[#This Row],[Data]]>$G$58),2,IF(OR(Tabulka2[[#This Row],[Data]]<$G$51,Tabulka2[[#This Row],[Data]]>$G$52),1,0)))","v":""},{"$f":"IF(Tabulka2[[#This Row],[OL]]=\"\",\"\",IF(Tabulka2[[#This Row],[OL]]>0,A919,\"\"))","v":""},null,null,null,null,null,null,null,null,null,null,null,null,null,null,null,"",null,""]
[null,null,{"$f":"IF(Tabulka2[[#This Row],[Data]]=\"\",\"\",IF(OR(Tabulka2[[#This Row],[Data]]<$G$57,Tabulka2[[#This Row],[Data]]>$G$58),2,IF(OR(Tabulka2[[#This Row],[Data]]<$G$51,Tabulka2[[#This Row],[Data]]>$G$52),1,0)))","v":""},{"$f":"IF(Tabulka2[[#This Row],[OL]]=\"\",\"\",IF(Tabulka2[[#This Row],[OL]]>0,A920,\"\"))","v":""},null,null,null,null,null,null,null,null,null,null,null,null,null,null,null,"",null,""]
[null,null,{"$f":"IF(Tabulka2[[#This Row],[Data]]=\"\",\"\",IF(OR(Tabulka2[[#This Row],[Data]]<$G$57,Tabulka2[[#This Row],[Data]]>$G$58),2,IF(OR(Tabulka2[[#This Row],[Data]]<$G$51,Tabulka2[[#This Row],[Data]]>$G$52),1,0)))","v":""},{"$f":"IF(Tabulka2[[#This Row],[OL]]=\"\",\"\",IF(Tabulka2[[#This Row],[OL]]>0,A921,\"\"))","v":""},null,null,null,null,null,null,null,null,null,null,null,null,null,null,null,"",null,""]
[null,null,{"$f":"IF(Tabulka2[[#This Row],[Data]]=\"\",\"\",IF(OR(Tabulka2[[#This Row],[Data]]<$G$57,Tabulka2[[#This Row],[Data]]>$G$58),2,IF(OR(Tabulka2[[#This Row],[Data]]<$G$51,Tabulka2[[#This Row],[Data]]>$G$52),1,0)))","v":""},{"$f":"IF(Tabulka2[[#This Row],[OL]]=\"\",\"\",IF(Tabulka2[[#This Row],[OL]]>0,A922,\"\"))","v":""},null,null,null,null,null,null,null,null,null,null,null,null,null,null,null,"",null,""]
[null,null,{"$f":"IF(Tabulka2[[#This Row],[Data]]=\"\",\"\",IF(OR(Tabulka2[[#This Row],[Data]]<$G$57,Tabulka2[[#This Row],[Data]]>$G$58),2,IF(OR(Tabulka2[[#This Row],[Data]]<$G$51,Tabulka2[[#This Row],[Data]]>$G$52),1,0)))","v":""},{"$f":"IF(Tabulka2[[#This Row],[OL]]=\"\",\"\",IF(Tabulka2[[#This Row],[OL]]>0,A923,\"\"))","v":""},null,null,null,null,null,null,null,null,null,null,null,null,null,null,null,"",null,""]
[null,null,{"$f":"IF(Tabulka2[[#This Row],[Data]]=\"\",\"\",IF(OR(Tabulka2[[#This Row],[Data]]<$G$57,Tabulka2[[#This Row],[Data]]>$G$58),2,IF(OR(Tabulka2[[#This Row],[Data]]<$G$51,Tabulka2[[#This Row],[Data]]>$G$52),1,0)))","v":""},{"$f":"IF(Tabulka2[[#This Row],[OL]]=\"\",\"\",IF(Tabulka2[[#This Row],[OL]]>0,A924,\"\"))","v":""},null,null,null,null,null,null,null,null,null,null,null,null,null,null,null,"",null,""]
[null,null,{"$f":"IF(Tabulka2[[#This Row],[Data]]=\"\",\"\",IF(OR(Tabulka2[[#This Row],[Data]]<$G$57,Tabulka2[[#This Row],[Data]]>$G$58),2,IF(OR(Tabulka2[[#This Row],[Data]]<$G$51,Tabulka2[[#This Row],[Data]]>$G$52),1,0)))","v":""},{"$f":"IF(Tabulka2[[#This Row],[OL]]=\"\",\"\",IF(Tabulka2[[#This Row],[OL]]>0,A925,\"\"))","v":""},null,null,null,null,null,null,null,null,null,null,null,null,null,null,null,"",null,""]
[null,null,{"$f":"IF(Tabulka2[[#This Row],[Data]]=\"\",\"\",IF(OR(Tabulka2[[#This Row],[Data]]<$G$57,Tabulka2[[#This Row],[Data]]>$G$58),2,IF(OR(Tabulka2[[#This Row],[Data]]<$G$51,Tabulka2[[#This Row],[Data]]>$G$52),1,0)))","v":""},{"$f":"IF(Tabulka2[[#This Row],[OL]]=\"\",\"\",IF(Tabulka2[[#This Row],[OL]]>0,A926,\"\"))","v":""},null,null,null,null,null,null,null,null,null,null,null,null,null,null,null,"",null,""]
[null,null,{"$f":"IF(Tabulka2[[#This Row],[Data]]=\"\",\"\",IF(OR(Tabulka2[[#This Row],[Data]]<$G$57,Tabulka2[[#This Row],[Data]]>$G$58),2,IF(OR(Tabulka2[[#This Row],[Data]]<$G$51,Tabulka2[[#This Row],[Data]]>$G$52),1,0)))","v":""},{"$f":"IF(Tabulka2[[#This Row],[OL]]=\"\",\"\",IF(Tabulka2[[#This Row],[OL]]>0,A927,\"\"))","v":""},null,null,null,null,null,null,null,null,null,null,null,null,null,null,null,"",null,""]
[null,null,{"$f":"IF(Tabulka2[[#This Row],[Data]]=\"\",\"\",IF(OR(Tabulka2[[#This Row],[Data]]<$G$57,Tabulka2[[#This Row],[Data]]>$G$58),2,IF(OR(Tabulka2[[#This Row],[Data]]<$G$51,Tabulka2[[#This Row],[Data]]>$G$52),1,0)))","v":""},{"$f":"IF(Tabulka2[[#This Row],[OL]]=\"\",\"\",IF(Tabulka2[[#This Row],[OL]]>0,A928,\"\"))","v":""},null,null,null,null,null,null,null,null,null,null,null,null,null,null,null,"",null,""]
[null,null,{"$f":"IF(Tabulka2[[#This Row],[Data]]=\"\",\"\",IF(OR(Tabulka2[[#This Row],[Data]]<$G$57,Tabulka2[[#This Row],[Data]]>$G$58),2,IF(OR(Tabulka2[[#This Row],[Data]]<$G$51,Tabulka2[[#This Row],[Data]]>$G$52),1,0)))","v":""},{"$f":"IF(Tabulka2[[#This Row],[OL]]=\"\",\"\",IF(Tabulka2[[#This Row],[OL]]>0,A929,\"\"))","v":""},null,null,null,null,null,null,null,null,null,null,null,null,null,null,null,"",null,""]
[null,null,{"$f":"IF(Tabulka2[[#This Row],[Data]]=\"\",\"\",IF(OR(Tabulka2[[#This Row],[Data]]<$G$57,Tabulka2[[#This Row],[Data]]>$G$58),2,IF(OR(Tabulka2[[#This Row],[Data]]<$G$51,Tabulka2[[#This Row],[Data]]>$G$52),1,0)))","v":""},{"$f":"IF(Tabulka2[[#This Row],[OL]]=\"\",\"\",IF(Tabulka2[[#This Row],[OL]]>0,A930,\"\"))","v":""},null,null,null,null,null,null,null,null,null,null,null,null,null,null,null,"",null,""]
[null,null,{"$f":"IF(Tabulka2[[#This Row],[Data]]=\"\",\"\",IF(OR(Tabulka2[[#This Row],[Data]]<$G$57,Tabulka2[[#This Row],[Data]]>$G$58),2,IF(OR(Tabulka2[[#This Row],[Data]]<$G$51,Tabulka2[[#This Row],[Data]]>$G$52),1,0)))","v":""},{"$f":"IF(Tabulka2[[#This Row],[OL]]=\"\",\"\",IF(Tabulka2[[#This Row],[OL]]>0,A931,\"\"))","v":""},null,null,null,null,null,null,null,null,null,null,null,null,null,null,null,"",null,""]
[null,null,{"$f":"IF(Tabulka2[[#This Row],[Data]]=\"\",\"\",IF(OR(Tabulka2[[#This Row],[Data]]<$G$57,Tabulka2[[#This Row],[Data]]>$G$58),2,IF(OR(Tabulka2[[#This Row],[Data]]<$G$51,Tabulka2[[#This Row],[Data]]>$G$52),1,0)))","v":""},{"$f":"IF(Tabulka2[[#This Row],[OL]]=\"\",\"\",IF(Tabulka2[[#This Row],[OL]]>0,A932,\"\"))","v":""},null,null,null,null,null,null,null,null,null,null,null,null,null,null,null,"",null,""]
[null,null,{"$f":"IF(Tabulka2[[#This Row],[Data]]=\"\",\"\",IF(OR(Tabulka2[[#This Row],[Data]]<$G$57,Tabulka2[[#This Row],[Data]]>$G$58),2,IF(OR(Tabulka2[[#This Row],[Data]]<$G$51,Tabulka2[[#This Row],[Data]]>$G$52),1,0)))","v":""},{"$f":"IF(Tabulka2[[#This Row],[OL]]=\"\",\"\",IF(Tabulka2[[#This Row],[OL]]>0,A933,\"\"))","v":""},null,null,null,null,null,null,null,null,null,null,null,null,null,null,null,"",null,""]
[null,null,{"$f":"IF(Tabulka2[[#This Row],[Data]]=\"\",\"\",IF(OR(Tabulka2[[#This Row],[Data]]<$G$57,Tabulka2[[#This Row],[Data]]>$G$58),2,IF(OR(Tabulka2[[#This Row],[Data]]<$G$51,Tabulka2[[#This Row],[Data]]>$G$52),1,0)))","v":""},{"$f":"IF(Tabulka2[[#This Row],[OL]]=\"\",\"\",IF(Tabulka2[[#This Row],[OL]]>0,A934,\"\"))","v":""},null,null,null,null,null,null,null,null,null,null,null,null,null,null,null,"",null,""]
[null,null,{"$f":"IF(Tabulka2[[#This Row],[Data]]=\"\",\"\",IF(OR(Tabulka2[[#This Row],[Data]]<$G$57,Tabulka2[[#This Row],[Data]]>$G$58),2,IF(OR(Tabulka2[[#This Row],[Data]]<$G$51,Tabulka2[[#This Row],[Data]]>$G$52),1,0)))","v":""},{"$f":"IF(Tabulka2[[#This Row],[OL]]=\"\",\"\",IF(Tabulka2[[#This Row],[OL]]>0,A935,\"\"))","v":""},null,null,null,null,null,null,null,null,null,null,null,null,null,null,null,"",null,""]
[null,null,{"$f":"IF(Tabulka2[[#This Row],[Data]]=\"\",\"\",IF(OR(Tabulka2[[#This Row],[Data]]<$G$57,Tabulka2[[#This Row],[Data]]>$G$58),2,IF(OR(Tabulka2[[#This Row],[Data]]<$G$51,Tabulka2[[#This Row],[Data]]>$G$52),1,0)))","v":""},{"$f":"IF(Tabulka2[[#This Row],[OL]]=\"\",\"\",IF(Tabulka2[[#This Row],[OL]]>0,A936,\"\"))","v":""},null,null,null,null,null,null,null,null,null,null,null,null,null,null,null,"",null,""]
[null,null,{"$f":"IF(Tabulka2[[#This Row],[Data]]=\"\",\"\",IF(OR(Tabulka2[[#This Row],[Data]]<$G$57,Tabulka2[[#This Row],[Data]]>$G$58),2,IF(OR(Tabulka2[[#This Row],[Data]]<$G$51,Tabulka2[[#This Row],[Data]]>$G$52),1,0)))","v":""},{"$f":"IF(Tabulka2[[#This Row],[OL]]=\"\",\"\",IF(Tabulka2[[#This Row],[OL]]>0,A937,\"\"))","v":""},null,null,null,null,null,null,null,null,null,null,null,null,null,null,null,"",null,""]
[null,null,{"$f":"IF(Tabulka2[[#This Row],[Data]]=\"\",\"\",IF(OR(Tabulka2[[#This Row],[Data]]<$G$57,Tabulka2[[#This Row],[Data]]>$G$58),2,IF(OR(Tabulka2[[#This Row],[Data]]<$G$51,Tabulka2[[#This Row],[Data]]>$G$52),1,0)))","v":""},{"$f":"IF(Tabulka2[[#This Row],[OL]]=\"\",\"\",IF(Tabulka2[[#This Row],[OL]]>0,A938,\"\"))","v":""},null,null,null,null,null,null,null,null,null,null,null,null,null,null,null,"",null,""]
[null,null,{"$f":"IF(Tabulka2[[#This Row],[Data]]=\"\",\"\",IF(OR(Tabulka2[[#This Row],[Data]]<$G$57,Tabulka2[[#This Row],[Data]]>$G$58),2,IF(OR(Tabulka2[[#This Row],[Data]]<$G$51,Tabulka2[[#This Row],[Data]]>$G$52),1,0)))","v":""},{"$f":"IF(Tabulka2[[#This Row],[OL]]=\"\",\"\",IF(Tabulka2[[#This Row],[OL]]>0,A939,\"\"))","v":""},null,null,null,null,null,null,null,null,null,null,null,null,null,null,null,"",null,""]
[null,null,{"$f":"IF(Tabulka2[[#This Row],[Data]]=\"\",\"\",IF(OR(Tabulka2[[#This Row],[Data]]<$G$57,Tabulka2[[#This Row],[Data]]>$G$58),2,IF(OR(Tabulka2[[#This Row],[Data]]<$G$51,Tabulka2[[#This Row],[Data]]>$G$52),1,0)))","v":""},{"$f":"IF(Tabulka2[[#This Row],[OL]]=\"\",\"\",IF(Tabulka2[[#This Row],[OL]]>0,A940,\"\"))","v":""},null,null,null,null,null,null,null,null,null,null,null,null,null,null,null,"",null,""]
[null,null,{"$f":"IF(Tabulka2[[#This Row],[Data]]=\"\",\"\",IF(OR(Tabulka2[[#This Row],[Data]]<$G$57,Tabulka2[[#This Row],[Data]]>$G$58),2,IF(OR(Tabulka2[[#This Row],[Data]]<$G$51,Tabulka2[[#This Row],[Data]]>$G$52),1,0)))","v":""},{"$f":"IF(Tabulka2[[#This Row],[OL]]=\"\",\"\",IF(Tabulka2[[#This Row],[OL]]>0,A941,\"\"))","v":""},null,null,null,null,null,null,null,null,null,null,null,null,null,null,null,"",null,""]
[null,null,{"$f":"IF(Tabulka2[[#This Row],[Data]]=\"\",\"\",IF(OR(Tabulka2[[#This Row],[Data]]<$G$57,Tabulka2[[#This Row],[Data]]>$G$58),2,IF(OR(Tabulka2[[#This Row],[Data]]<$G$51,Tabulka2[[#This Row],[Data]]>$G$52),1,0)))","v":""},{"$f":"IF(Tabulka2[[#This Row],[OL]]=\"\",\"\",IF(Tabulka2[[#This Row],[OL]]>0,A942,\"\"))","v":""},null,null,null,null,null,null,null,null,null,null,null,null,null,null,null,"",null,""]
[null,null,{"$f":"IF(Tabulka2[[#This Row],[Data]]=\"\",\"\",IF(OR(Tabulka2[[#This Row],[Data]]<$G$57,Tabulka2[[#This Row],[Data]]>$G$58),2,IF(OR(Tabulka2[[#This Row],[Data]]<$G$51,Tabulka2[[#This Row],[Data]]>$G$52),1,0)))","v":""},{"$f":"IF(Tabulka2[[#This Row],[OL]]=\"\",\"\",IF(Tabulka2[[#This Row],[OL]]>0,A943,\"\"))","v":""},null,null,null,null,null,null,null,null,null,null,null,null,null,null,null,"",null,""]
[null,null,{"$f":"IF(Tabulka2[[#This Row],[Data]]=\"\",\"\",IF(OR(Tabulka2[[#This Row],[Data]]<$G$57,Tabulka2[[#This Row],[Data]]>$G$58),2,IF(OR(Tabulka2[[#This Row],[Data]]<$G$51,Tabulka2[[#This Row],[Data]]>$G$52),1,0)))","v":""},{"$f":"IF(Tabulka2[[#This Row],[OL]]=\"\",\"\",IF(Tabulka2[[#This Row],[OL]]>0,A944,\"\"))","v":""},null,null,null,null,null,null,null,null,null,null,null,null,null,null,null,"",null,""]
[null,null,{"$f":"IF(Tabulka2[[#This Row],[Data]]=\"\",\"\",IF(OR(Tabulka2[[#This Row],[Data]]<$G$57,Tabulka2[[#This Row],[Data]]>$G$58),2,IF(OR(Tabulka2[[#This Row],[Data]]<$G$51,Tabulka2[[#This Row],[Data]]>$G$52),1,0)))","v":""},{"$f":"IF(Tabulka2[[#This Row],[OL]]=\"\",\"\",IF(Tabulka2[[#This Row],[OL]]>0,A945,\"\"))","v":""},null,null,null,null,null,null,null,null,null,null,null,null,null,null,null,"",null,""]
[null,null,{"$f":"IF(Tabulka2[[#This Row],[Data]]=\"\",\"\",IF(OR(Tabulka2[[#This Row],[Data]]<$G$57,Tabulka2[[#This Row],[Data]]>$G$58),2,IF(OR(Tabulka2[[#This Row],[Data]]<$G$51,Tabulka2[[#This Row],[Data]]>$G$52),1,0)))","v":""},{"$f":"IF(Tabulka2[[#This Row],[OL]]=\"\",\"\",IF(Tabulka2[[#This Row],[OL]]>0,A946,\"\"))","v":""},null,null,null,null,null,null,null,null,null,null,null,null,null,null,null,"",null,""]
[null,null,{"$f":"IF(Tabulka2[[#This Row],[Data]]=\"\",\"\",IF(OR(Tabulka2[[#This Row],[Data]]<$G$57,Tabulka2[[#This Row],[Data]]>$G$58),2,IF(OR(Tabulka2[[#This Row],[Data]]<$G$51,Tabulka2[[#This Row],[Data]]>$G$52),1,0)))","v":""},{"$f":"IF(Tabulka2[[#This Row],[OL]]=\"\",\"\",IF(Tabulka2[[#This Row],[OL]]>0,A947,\"\"))","v":""},null,null,null,null,null,null,null,null,null,null,null,null,null,null,null,"",null,""]
[null,null,{"$f":"IF(Tabulka2[[#This Row],[Data]]=\"\",\"\",IF(OR(Tabulka2[[#This Row],[Data]]<$G$57,Tabulka2[[#This Row],[Data]]>$G$58),2,IF(OR(Tabulka2[[#This Row],[Data]]<$G$51,Tabulka2[[#This Row],[Data]]>$G$52),1,0)))","v":""},{"$f":"IF(Tabulka2[[#This Row],[OL]]=\"\",\"\",IF(Tabulka2[[#This Row],[OL]]>0,A948,\"\"))","v":""},null,null,null,null,null,null,null,null,null,null,null,null,null,null,null,"",null,""]
[null,null,{"$f":"IF(Tabulka2[[#This Row],[Data]]=\"\",\"\",IF(OR(Tabulka2[[#This Row],[Data]]<$G$57,Tabulka2[[#This Row],[Data]]>$G$58),2,IF(OR(Tabulka2[[#This Row],[Data]]<$G$51,Tabulka2[[#This Row],[Data]]>$G$52),1,0)))","v":""},{"$f":"IF(Tabulka2[[#This Row],[OL]]=\"\",\"\",IF(Tabulka2[[#This Row],[OL]]>0,A949,\"\"))","v":""},null,null,null,null,null,null,null,null,null,null,null,null,null,null,null,"",null,""]
[null,null,{"$f":"IF(Tabulka2[[#This Row],[Data]]=\"\",\"\",IF(OR(Tabulka2[[#This Row],[Data]]<$G$57,Tabulka2[[#This Row],[Data]]>$G$58),2,IF(OR(Tabulka2[[#This Row],[Data]]<$G$51,Tabulka2[[#This Row],[Data]]>$G$52),1,0)))","v":""},{"$f":"IF(Tabulka2[[#This Row],[OL]]=\"\",\"\",IF(Tabulka2[[#This Row],[OL]]>0,A950,\"\"))","v":""},null,null,null,null,null,null,null,null,null,null,null,null,null,null,null,"",null,""]
[null,null,{"$f":"IF(Tabulka2[[#This Row],[Data]]=\"\",\"\",IF(OR(Tabulka2[[#This Row],[Data]]<$G$57,Tabulka2[[#This Row],[Data]]>$G$58),2,IF(OR(Tabulka2[[#This Row],[Data]]<$G$51,Tabulka2[[#This Row],[Data]]>$G$52),1,0)))","v":""},{"$f":"IF(Tabulka2[[#This Row],[OL]]=\"\",\"\",IF(Tabulka2[[#This Row],[OL]]>0,A951,\"\"))","v":""},null,null,null,null,null,null,null,null,null,null,null,null,null,null,null,"",null,""]
[null,null,{"$f":"IF(Tabulka2[[#This Row],[Data]]=\"\",\"\",IF(OR(Tabulka2[[#This Row],[Data]]<$G$57,Tabulka2[[#This Row],[Data]]>$G$58),2,IF(OR(Tabulka2[[#This Row],[Data]]<$G$51,Tabulka2[[#This Row],[Data]]>$G$52),1,0)))","v":""},{"$f":"IF(Tabulka2[[#This Row],[OL]]=\"\",\"\",IF(Tabulka2[[#This Row],[OL]]>0,A952,\"\"))","v":""},null,null,null,null,null,null,null,null,null,null,null,null,null,null,null,"",null,""]
[null,null,{"$f":"IF(Tabulka2[[#This Row],[Data]]=\"\",\"\",IF(OR(Tabulka2[[#This Row],[Data]]<$G$57,Tabulka2[[#This Row],[Data]]>$G$58),2,IF(OR(Tabulka2[[#This Row],[Data]]<$G$51,Tabulka2[[#This Row],[Data]]>$G$52),1,0)))","v":""},{"$f":"IF(Tabulka2[[#This Row],[OL]]=\"\",\"\",IF(Tabulka2[[#This Row],[OL]]>0,A953,\"\"))","v":""},null,null,null,null,null,null,null,null,null,null,null,null,null,null,null,"",null,""]
[null,null,{"$f":"IF(Tabulka2[[#This Row],[Data]]=\"\",\"\",IF(OR(Tabulka2[[#This Row],[Data]]<$G$57,Tabulka2[[#This Row],[Data]]>$G$58),2,IF(OR(Tabulka2[[#This Row],[Data]]<$G$51,Tabulka2[[#This Row],[Data]]>$G$52),1,0)))","v":""},{"$f":"IF(Tabulka2[[#This Row],[OL]]=\"\",\"\",IF(Tabulka2[[#This Row],[OL]]>0,A954,\"\"))","v":""},null,null,null,null,null,null,null,null,null,null,null,null,null,null,null,"",null,""]
[null,null,{"$f":"IF(Tabulka2[[#This Row],[Data]]=\"\",\"\",IF(OR(Tabulka2[[#This Row],[Data]]<$G$57,Tabulka2[[#This Row],[Data]]>$G$58),2,IF(OR(Tabulka2[[#This Row],[Data]]<$G$51,Tabulka2[[#This Row],[Data]]>$G$52),1,0)))","v":""},{"$f":"IF(Tabulka2[[#This Row],[OL]]=\"\",\"\",IF(Tabulka2[[#This Row],[OL]]>0,A955,\"\"))","v":""},null,null,null,null,null,null,null,null,null,null,null,null,null,null,null,"",null,""]
[null,null,{"$f":"IF(Tabulka2[[#This Row],[Data]]=\"\",\"\",IF(OR(Tabulka2[[#This Row],[Data]]<$G$57,Tabulka2[[#This Row],[Data]]>$G$58),2,IF(OR(Tabulka2[[#This Row],[Data]]<$G$51,Tabulka2[[#This Row],[Data]]>$G$52),1,0)))","v":""},{"$f":"IF(Tabulka2[[#This Row],[OL]]=\"\",\"\",IF(Tabulka2[[#This Row],[OL]]>0,A956,\"\"))","v":""},null,null,null,null,null,null,null,null,null,null,null,null,null,null,null,"",null,""]
[null,null,{"$f":"IF(Tabulka2[[#This Row],[Data]]=\"\",\"\",IF(OR(Tabulka2[[#This Row],[Data]]<$G$57,Tabulka2[[#This Row],[Data]]>$G$58),2,IF(OR(Tabulka2[[#This Row],[Data]]<$G$51,Tabulka2[[#This Row],[Data]]>$G$52),1,0)))","v":""},{"$f":"IF(Tabulka2[[#This Row],[OL]]=\"\",\"\",IF(Tabulka2[[#This Row],[OL]]>0,A957,\"\"))","v":""},null,null,null,null,null,null,null,null,null,null,null,null,null,null,null,"",null,""]
[null,null,{"$f":"IF(Tabulka2[[#This Row],[Data]]=\"\",\"\",IF(OR(Tabulka2[[#This Row],[Data]]<$G$57,Tabulka2[[#This Row],[Data]]>$G$58),2,IF(OR(Tabulka2[[#This Row],[Data]]<$G$51,Tabulka2[[#This Row],[Data]]>$G$52),1,0)))","v":""},{"$f":"IF(Tabulka2[[#This Row],[OL]]=\"\",\"\",IF(Tabulka2[[#This Row],[OL]]>0,A958,\"\"))","v":""},null,null,null,null,null,null,null,null,null,null,null,null,null,null,null,"",null,""]
[null,null,{"$f":"IF(Tabulka2[[#This Row],[Data]]=\"\",\"\",IF(OR(Tabulka2[[#This Row],[Data]]<$G$57,Tabulka2[[#This Row],[Data]]>$G$58),2,IF(OR(Tabulka2[[#This Row],[Data]]<$G$51,Tabulka2[[#This Row],[Data]]>$G$52),1,0)))","v":""},{"$f":"IF(Tabulka2[[#This Row],[OL]]=\"\",\"\",IF(Tabulka2[[#This Row],[OL]]>0,A959,\"\"))","v":""},null,null,null,null,null,null,null,null,null,null,null,null,null,null,null,"",null,""]
[null,null,{"$f":"IF(Tabulka2[[#This Row],[Data]]=\"\",\"\",IF(OR(Tabulka2[[#This Row],[Data]]<$G$57,Tabulka2[[#This Row],[Data]]>$G$58),2,IF(OR(Tabulka2[[#This Row],[Data]]<$G$51,Tabulka2[[#This Row],[Data]]>$G$52),1,0)))","v":""},{"$f":"IF(Tabulka2[[#This Row],[OL]]=\"\",\"\",IF(Tabulka2[[#This Row],[OL]]>0,A960,\"\"))","v":""},null,null,null,null,null,null,null,null,null,null,null,null,null,null,null,"",null,""]
[null,null,{"$f":"IF(Tabulka2[[#This Row],[Data]]=\"\",\"\",IF(OR(Tabulka2[[#This Row],[Data]]<$G$57,Tabulka2[[#This Row],[Data]]>$G$58),2,IF(OR(Tabulka2[[#This Row],[Data]]<$G$51,Tabulka2[[#This Row],[Data]]>$G$52),1,0)))","v":""},{"$f":"IF(Tabulka2[[#This Row],[OL]]=\"\",\"\",IF(Tabulka2[[#This Row],[OL]]>0,A961,\"\"))","v":""},null,null,null,null,null,null,null,null,null,null,null,null,null,null,null,"",null,""]
[null,null,{"$f":"IF(Tabulka2[[#This Row],[Data]]=\"\",\"\",IF(OR(Tabulka2[[#This Row],[Data]]<$G$57,Tabulka2[[#This Row],[Data]]>$G$58),2,IF(OR(Tabulka2[[#This Row],[Data]]<$G$51,Tabulka2[[#This Row],[Data]]>$G$52),1,0)))","v":""},{"$f":"IF(Tabulka2[[#This Row],[OL]]=\"\",\"\",IF(Tabulka2[[#This Row],[OL]]>0,A962,\"\"))","v":""},null,null,null,null,null,null,null,null,null,null,null,null,null,null,null,"",null,""]
[null,null,{"$f":"IF(Tabulka2[[#This Row],[Data]]=\"\",\"\",IF(OR(Tabulka2[[#This Row],[Data]]<$G$57,Tabulka2[[#This Row],[Data]]>$G$58),2,IF(OR(Tabulka2[[#This Row],[Data]]<$G$51,Tabulka2[[#This Row],[Data]]>$G$52),1,0)))","v":""},{"$f":"IF(Tabulka2[[#This Row],[OL]]=\"\",\"\",IF(Tabulka2[[#This Row],[OL]]>0,A963,\"\"))","v":""},null,null,null,null,null,null,null,null,null,null,null,null,null,null,null,"",null,""]
[null,null,{"$f":"IF(Tabulka2[[#This Row],[Data]]=\"\",\"\",IF(OR(Tabulka2[[#This Row],[Data]]<$G$57,Tabulka2[[#This Row],[Data]]>$G$58),2,IF(OR(Tabulka2[[#This Row],[Data]]<$G$51,Tabulka2[[#This Row],[Data]]>$G$52),1,0)))","v":""},{"$f":"IF(Tabulka2[[#This Row],[OL]]=\"\",\"\",IF(Tabulka2[[#This Row],[OL]]>0,A964,\"\"))","v":""},null,null,null,null,null,null,null,null,null,null,null,null,null,null,null,"",null,""]
[null,null,{"$f":"IF(Tabulka2[[#This Row],[Data]]=\"\",\"\",IF(OR(Tabulka2[[#This Row],[Data]]<$G$57,Tabulka2[[#This Row],[Data]]>$G$58),2,IF(OR(Tabulka2[[#This Row],[Data]]<$G$51,Tabulka2[[#This Row],[Data]]>$G$52),1,0)))","v":""},{"$f":"IF(Tabulka2[[#This Row],[OL]]=\"\",\"\",IF(Tabulka2[[#This Row],[OL]]>0,A965,\"\"))","v":""},null,null,null,null,null,null,null,null,null,null,null,null,null,null,null,"",null,""]
[null,null,{"$f":"IF(Tabulka2[[#This Row],[Data]]=\"\",\"\",IF(OR(Tabulka2[[#This Row],[Data]]<$G$57,Tabulka2[[#This Row],[Data]]>$G$58),2,IF(OR(Tabulka2[[#This Row],[Data]]<$G$51,Tabulka2[[#This Row],[Data]]>$G$52),1,0)))","v":""},{"$f":"IF(Tabulka2[[#This Row],[OL]]=\"\",\"\",IF(Tabulka2[[#This Row],[OL]]>0,A966,\"\"))","v":""},null,null,null,null,null,null,null,null,null,null,null,null,null,null,null,"",null,""]
[null,null,{"$f":"IF(Tabulka2[[#This Row],[Data]]=\"\",\"\",IF(OR(Tabulka2[[#This Row],[Data]]<$G$57,Tabulka2[[#This Row],[Data]]>$G$58),2,IF(OR(Tabulka2[[#This Row],[Data]]<$G$51,Tabulka2[[#This Row],[Data]]>$G$52),1,0)))","v":""},{"$f":"IF(Tabulka2[[#This Row],[OL]]=\"\",\"\",IF(Tabulka2[[#This Row],[OL]]>0,A967,\"\"))","v":""},null,null,null,null,null,null,null,null,null,null,null,null,null,null,null,"",null,""]
[null,null,{"$f":"IF(Tabulka2[[#This Row],[Data]]=\"\",\"\",IF(OR(Tabulka2[[#This Row],[Data]]<$G$57,Tabulka2[[#This Row],[Data]]>$G$58),2,IF(OR(Tabulka2[[#This Row],[Data]]<$G$51,Tabulka2[[#This Row],[Data]]>$G$52),1,0)))","v":""},{"$f":"IF(Tabulka2[[#This Row],[OL]]=\"\",\"\",IF(Tabulka2[[#This Row],[OL]]>0,A968,\"\"))","v":""},null,null,null,null,null,null,null,null,null,null,null,null,null,null,null,"",null,""]
[null,null,{"$f":"IF(Tabulka2[[#This Row],[Data]]=\"\",\"\",IF(OR(Tabulka2[[#This Row],[Data]]<$G$57,Tabulka2[[#This Row],[Data]]>$G$58),2,IF(OR(Tabulka2[[#This Row],[Data]]<$G$51,Tabulka2[[#This Row],[Data]]>$G$52),1,0)))","v":""},{"$f":"IF(Tabulka2[[#This Row],[OL]]=\"\",\"\",IF(Tabulka2[[#This Row],[OL]]>0,A969,\"\"))","v":""},null,null,null,null,null,null,null,null,null,null,null,null,null,null,null,"",null,""]
[null,null,{"$f":"IF(Tabulka2[[#This Row],[Data]]=\"\",\"\",IF(OR(Tabulka2[[#This Row],[Data]]<$G$57,Tabulka2[[#This Row],[Data]]>$G$58),2,IF(OR(Tabulka2[[#This Row],[Data]]<$G$51,Tabulka2[[#This Row],[Data]]>$G$52),1,0)))","v":""},{"$f":"IF(Tabulka2[[#This Row],[OL]]=\"\",\"\",IF(Tabulka2[[#This Row],[OL]]>0,A970,\"\"))","v":""},null,null,null,null,null,null,null,null,null,null,null,null,null,null,null,"",null,""]
[null,null,{"$f":"IF(Tabulka2[[#This Row],[Data]]=\"\",\"\",IF(OR(Tabulka2[[#This Row],[Data]]<$G$57,Tabulka2[[#This Row],[Data]]>$G$58),2,IF(OR(Tabulka2[[#This Row],[Data]]<$G$51,Tabulka2[[#This Row],[Data]]>$G$52),1,0)))","v":""},{"$f":"IF(Tabulka2[[#This Row],[OL]]=\"\",\"\",IF(Tabulka2[[#This Row],[OL]]>0,A971,\"\"))","v":""},null,null,null,null,null,null,null,null,null,null,null,null,null,null,null,"",null,""]
[null,null,{"$f":"IF(Tabulka2[[#This Row],[Data]]=\"\",\"\",IF(OR(Tabulka2[[#This Row],[Data]]<$G$57,Tabulka2[[#This Row],[Data]]>$G$58),2,IF(OR(Tabulka2[[#This Row],[Data]]<$G$51,Tabulka2[[#This Row],[Data]]>$G$52),1,0)))","v":""},{"$f":"IF(Tabulka2[[#This Row],[OL]]=\"\",\"\",IF(Tabulka2[[#This Row],[OL]]>0,A972,\"\"))","v":""},null,null,null,null,null,null,null,null,null,null,null,null,null,null,null,"",null,""]
[null,null,{"$f":"IF(Tabulka2[[#This Row],[Data]]=\"\",\"\",IF(OR(Tabulka2[[#This Row],[Data]]<$G$57,Tabulka2[[#This Row],[Data]]>$G$58),2,IF(OR(Tabulka2[[#This Row],[Data]]<$G$51,Tabulka2[[#This Row],[Data]]>$G$52),1,0)))","v":""},{"$f":"IF(Tabulka2[[#This Row],[OL]]=\"\",\"\",IF(Tabulka2[[#This Row],[OL]]>0,A973,\"\"))","v":""},null,null,null,null,null,null,null,null,null,null,null,null,null,null,null,"",null,""]
[null,null,{"$f":"IF(Tabulka2[[#This Row],[Data]]=\"\",\"\",IF(OR(Tabulka2[[#This Row],[Data]]<$G$57,Tabulka2[[#This Row],[Data]]>$G$58),2,IF(OR(Tabulka2[[#This Row],[Data]]<$G$51,Tabulka2[[#This Row],[Data]]>$G$52),1,0)))","v":""},{"$f":"IF(Tabulka2[[#This Row],[OL]]=\"\",\"\",IF(Tabulka2[[#This Row],[OL]]>0,A974,\"\"))","v":""},null,null,null,null,null,null,null,null,null,null,null,null,null,null,null,"",null,""]
[null,null,{"$f":"IF(Tabulka2[[#This Row],[Data]]=\"\",\"\",IF(OR(Tabulka2[[#This Row],[Data]]<$G$57,Tabulka2[[#This Row],[Data]]>$G$58),2,IF(OR(Tabulka2[[#This Row],[Data]]<$G$51,Tabulka2[[#This Row],[Data]]>$G$52),1,0)))","v":""},{"$f":"IF(Tabulka2[[#This Row],[OL]]=\"\",\"\",IF(Tabulka2[[#This Row],[OL]]>0,A975,\"\"))","v":""},null,null,null,null,null,null,null,null,null,null,null,null,null,null,null,"",null,""]
[null,null,{"$f":"IF(Tabulka2[[#This Row],[Data]]=\"\",\"\",IF(OR(Tabulka2[[#This Row],[Data]]<$G$57,Tabulka2[[#This Row],[Data]]>$G$58),2,IF(OR(Tabulka2[[#This Row],[Data]]<$G$51,Tabulka2[[#This Row],[Data]]>$G$52),1,0)))","v":""},{"$f":"IF(Tabulka2[[#This Row],[OL]]=\"\",\"\",IF(Tabulka2[[#This Row],[OL]]>0,A976,\"\"))","v":""},null,null,null,null,null,null,null,null,null,null,null,null,null,null,null,"",null,""]
[null,null,{"$f":"IF(Tabulka2[[#This Row],[Data]]=\"\",\"\",IF(OR(Tabulka2[[#This Row],[Data]]<$G$57,Tabulka2[[#This Row],[Data]]>$G$58),2,IF(OR(Tabulka2[[#This Row],[Data]]<$G$51,Tabulka2[[#This Row],[Data]]>$G$52),1,0)))","v":""},{"$f":"IF(Tabulka2[[#This Row],[OL]]=\"\",\"\",IF(Tabulka2[[#This Row],[OL]]>0,A977,\"\"))","v":""},null,null,null,null,null,null,null,null,null,null,null,null,null,null,null,"",null,""]
[null,null,{"$f":"IF(Tabulka2[[#This Row],[Data]]=\"\",\"\",IF(OR(Tabulka2[[#This Row],[Data]]<$G$57,Tabulka2[[#This Row],[Data]]>$G$58),2,IF(OR(Tabulka2[[#This Row],[Data]]<$G$51,Tabulka2[[#This Row],[Data]]>$G$52),1,0)))","v":""},{"$f":"IF(Tabulka2[[#This Row],[OL]]=\"\",\"\",IF(Tabulka2[[#This Row],[OL]]>0,A978,\"\"))","v":""},null,null,null,null,null,null,null,null,null,null,null,null,null,null,null,"",null,""]
[null,null,{"$f":"IF(Tabulka2[[#This Row],[Data]]=\"\",\"\",IF(OR(Tabulka2[[#This Row],[Data]]<$G$57,Tabulka2[[#This Row],[Data]]>$G$58),2,IF(OR(Tabulka2[[#This Row],[Data]]<$G$51,Tabulka2[[#This Row],[Data]]>$G$52),1,0)))","v":""},{"$f":"IF(Tabulka2[[#This Row],[OL]]=\"\",\"\",IF(Tabulka2[[#This Row],[OL]]>0,A979,\"\"))","v":""},null,null,null,null,null,null,null,null,null,null,null,null,null,null,null,"",null,""]
[null,null,{"$f":"IF(Tabulka2[[#This Row],[Data]]=\"\",\"\",IF(OR(Tabulka2[[#This Row],[Data]]<$G$57,Tabulka2[[#This Row],[Data]]>$G$58),2,IF(OR(Tabulka2[[#This Row],[Data]]<$G$51,Tabulka2[[#This Row],[Data]]>$G$52),1,0)))","v":""},{"$f":"IF(Tabulka2[[#This Row],[OL]]=\"\",\"\",IF(Tabulka2[[#This Row],[OL]]>0,A980,\"\"))","v":""},null,null,null,null,null,null,null,null,null,null,null,null,null,null,null,"",null,""]
[null,null,{"$f":"IF(Tabulka2[[#This Row],[Data]]=\"\",\"\",IF(OR(Tabulka2[[#This Row],[Data]]<$G$57,Tabulka2[[#This Row],[Data]]>$G$58),2,IF(OR(Tabulka2[[#This Row],[Data]]<$G$51,Tabulka2[[#This Row],[Data]]>$G$52),1,0)))","v":""},{"$f":"IF(Tabulka2[[#This Row],[OL]]=\"\",\"\",IF(Tabulka2[[#This Row],[OL]]>0,A981,\"\"))","v":""},null,null,null,null,null,null,null,null,null,null,null,null,null,null,null,"",null,""]
[null,null,{"$f":"IF(Tabulka2[[#This Row],[Data]]=\"\",\"\",IF(OR(Tabulka2[[#This Row],[Data]]<$G$57,Tabulka2[[#This Row],[Data]]>$G$58),2,IF(OR(Tabulka2[[#This Row],[Data]]<$G$51,Tabulka2[[#This Row],[Data]]>$G$52),1,0)))","v":""},{"$f":"IF(Tabulka2[[#This Row],[OL]]=\"\",\"\",IF(Tabulka2[[#This Row],[OL]]>0,A982,\"\"))","v":""},null,null,null,null,null,null,null,null,null,null,null,null,null,null,null,"",null,""]
[null,null,{"$f":"IF(Tabulka2[[#This Row],[Data]]=\"\",\"\",IF(OR(Tabulka2[[#This Row],[Data]]<$G$57,Tabulka2[[#This Row],[Data]]>$G$58),2,IF(OR(Tabulka2[[#This Row],[Data]]<$G$51,Tabulka2[[#This Row],[Data]]>$G$52),1,0)))","v":""},{"$f":"IF(Tabulka2[[#This Row],[OL]]=\"\",\"\",IF(Tabulka2[[#This Row],[OL]]>0,A983,\"\"))","v":""},null,null,null,null,null,null,null,null,null,null,null,null,null,null,null,"",null,""]
[null,null,{"$f":"IF(Tabulka2[[#This Row],[Data]]=\"\",\"\",IF(OR(Tabulka2[[#This Row],[Data]]<$G$57,Tabulka2[[#This Row],[Data]]>$G$58),2,IF(OR(Tabulka2[[#This Row],[Data]]<$G$51,Tabulka2[[#This Row],[Data]]>$G$52),1,0)))","v":""},{"$f":"IF(Tabulka2[[#This Row],[OL]]=\"\",\"\",IF(Tabulka2[[#This Row],[OL]]>0,A984,\"\"))","v":""},null,null,null,null,null,null,null,null,null,null,null,null,null,null,null,"",null,""]
[null,null,{"$f":"IF(Tabulka2[[#This Row],[Data]]=\"\",\"\",IF(OR(Tabulka2[[#This Row],[Data]]<$G$57,Tabulka2[[#This Row],[Data]]>$G$58),2,IF(OR(Tabulka2[[#This Row],[Data]]<$G$51,Tabulka2[[#This Row],[Data]]>$G$52),1,0)))","v":""},{"$f":"IF(Tabulka2[[#This Row],[OL]]=\"\",\"\",IF(Tabulka2[[#This Row],[OL]]>0,A985,\"\"))","v":""},null,null,null,null,null,null,null,null,null,null,null,null,null,null,null,"",null,""]
[null,null,{"$f":"IF(Tabulka2[[#This Row],[Data]]=\"\",\"\",IF(OR(Tabulka2[[#This Row],[Data]]<$G$57,Tabulka2[[#This Row],[Data]]>$G$58),2,IF(OR(Tabulka2[[#This Row],[Data]]<$G$51,Tabulka2[[#This Row],[Data]]>$G$52),1,0)))","v":""},{"$f":"IF(Tabulka2[[#This Row],[OL]]=\"\",\"\",IF(Tabulka2[[#This Row],[OL]]>0,A986,\"\"))","v":""},null,null,null,null,null,null,null,null,null,null,null,null,null,null,null,"",null,""]
[null,null,{"$f":"IF(Tabulka2[[#This Row],[Data]]=\"\",\"\",IF(OR(Tabulka2[[#This Row],[Data]]<$G$57,Tabulka2[[#This Row],[Data]]>$G$58),2,IF(OR(Tabulka2[[#This Row],[Data]]<$G$51,Tabulka2[[#This Row],[Data]]>$G$52),1,0)))","v":""},{"$f":"IF(Tabulka2[[#This Row],[OL]]=\"\",\"\",IF(Tabulka2[[#This Row],[OL]]>0,A987,\"\"))","v":""},null,null,null,null,null,null,null,null,null,null,null,null,null,null,null,"",null,""]
[null,null,{"$f":"IF(Tabulka2[[#This Row],[Data]]=\"\",\"\",IF(OR(Tabulka2[[#This Row],[Data]]<$G$57,Tabulka2[[#This Row],[Data]]>$G$58),2,IF(OR(Tabulka2[[#This Row],[Data]]<$G$51,Tabulka2[[#This Row],[Data]]>$G$52),1,0)))","v":""},{"$f":"IF(Tabulka2[[#This Row],[OL]]=\"\",\"\",IF(Tabulka2[[#This Row],[OL]]>0,A988,\"\"))","v":""},null,null,null,null,null,null,null,null,null,null,null,null,null,null,null,"",null,""]
[null,null,{"$f":"IF(Tabulka2[[#This Row],[Data]]=\"\",\"\",IF(OR(Tabulka2[[#This Row],[Data]]<$G$57,Tabulka2[[#This Row],[Data]]>$G$58),2,IF(OR(Tabulka2[[#This Row],[Data]]<$G$51,Tabulka2[[#This Row],[Data]]>$G$52),1,0)))","v":""},{"$f":"IF(Tabulka2[[#This Row],[OL]]=\"\",\"\",IF(Tabulka2[[#This Row],[OL]]>0,A989,\"\"))","v":""},null,null,null,null,null,null,null,null,null,null,null,null,null,null,null,"",null,""]
[null,null,{"$f":"IF(Tabulka2[[#This Row],[Data]]=\"\",\"\",IF(OR(Tabulka2[[#This Row],[Data]]<$G$57,Tabulka2[[#This Row],[Data]]>$G$58),2,IF(OR(Tabulka2[[#This Row],[Data]]<$G$51,Tabulka2[[#This Row],[Data]]>$G$52),1,0)))","v":""},{"$f":"IF(Tabulka2[[#This Row],[OL]]=\"\",\"\",IF(Tabulka2[[#This Row],[OL]]>0,A990,\"\"))","v":""},null,null,null,null,null,null,null,null,null,null,null,null,null,null,null,"",null,""]
[null,null,{"$f":"IF(Tabulka2[[#This Row],[Data]]=\"\",\"\",IF(OR(Tabulka2[[#This Row],[Data]]<$G$57,Tabulka2[[#This Row],[Data]]>$G$58),2,IF(OR(Tabulka2[[#This Row],[Data]]<$G$51,Tabulka2[[#This Row],[Data]]>$G$52),1,0)))","v":""},{"$f":"IF(Tabulka2[[#This Row],[OL]]=\"\",\"\",IF(Tabulka2[[#This Row],[OL]]>0,A991,\"\"))","v":""},null,null,null,null,null,null,null,null,null,null,null,null,null,null,null,"",null,""]
[null,null,{"$f":"IF(Tabulka2[[#This Row],[Data]]=\"\",\"\",IF(OR(Tabulka2[[#This Row],[Data]]<$G$57,Tabulka2[[#This Row],[Data]]>$G$58),2,IF(OR(Tabulka2[[#This Row],[Data]]<$G$51,Tabulka2[[#This Row],[Data]]>$G$52),1,0)))","v":""},{"$f":"IF(Tabulka2[[#This Row],[OL]]=\"\",\"\",IF(Tabulka2[[#This Row],[OL]]>0,A992,\"\"))","v":""},null,null,null,null,null,null,null,null,null,null,null,null,null,null,null,"",null,""]
[null,null,{"$f":"IF(Tabulka2[[#This Row],[Data]]=\"\",\"\",IF(OR(Tabulka2[[#This Row],[Data]]<$G$57,Tabulka2[[#This Row],[Data]]>$G$58),2,IF(OR(Tabulka2[[#This Row],[Data]]<$G$51,Tabulka2[[#This Row],[Data]]>$G$52),1,0)))","v":""},{"$f":"IF(Tabulka2[[#This Row],[OL]]=\"\",\"\",IF(Tabulka2[[#This Row],[OL]]>0,A993,\"\"))","v":""},null,null,null,null,null,null,null,null,null,null,null,null,null,null,null,"",null,""]
[null,null,{"$f":"IF(Tabulka2[[#This Row],[Data]]=\"\",\"\",IF(OR(Tabulka2[[#This Row],[Data]]<$G$57,Tabulka2[[#This Row],[Data]]>$G$58),2,IF(OR(Tabulka2[[#This Row],[Data]]<$G$51,Tabulka2[[#This Row],[Data]]>$G$52),1,0)))","v":""},{"$f":"IF(Tabulka2[[#This Row],[OL]]=\"\",\"\",IF(Tabulka2[[#This Row],[OL]]>0,A994,\"\"))","v":""},null,null,null,null,null,null,null,null,null,null,null,null,null,null,null,"",null,""]
[null,null,{"$f":"IF(Tabulka2[[#This Row],[Data]]=\"\",\"\",IF(OR(Tabulka2[[#This Row],[Data]]<$G$57,Tabulka2[[#This Row],[Data]]>$G$58),2,IF(OR(Tabulka2[[#This Row],[Data]]<$G$51,Tabulka2[[#This Row],[Data]]>$G$52),1,0)))","v":""},{"$f":"IF(Tabulka2[[#This Row],[OL]]=\"\",\"\",IF(Tabulka2[[#This Row],[OL]]>0,A995,\"\"))","v":""},null,null,null,null,null,null,null,null,null,null,null,null,null,null,null,"",null,""]
[null,null,{"$f":"IF(Tabulka2[[#This Row],[Data]]=\"\",\"\",IF(OR(Tabulka2[[#This Row],[Data]]<$G$57,Tabulka2[[#This Row],[Data]]>$G$58),2,IF(OR(Tabulka2[[#This Row],[Data]]<$G$51,Tabulka2[[#This Row],[Data]]>$G$52),1,0)))","v":""},{"$f":"IF(Tabulka2[[#This Row],[OL]]=\"\",\"\",IF(Tabulka2[[#This Row],[OL]]>0,A996,\"\"))","v":""},null,null,null,null,null,null,null,null,null,null,null,null,null,null,null,"",null,""]
[null,null,{"$f":"IF(Tabulka2[[#This Row],[Data]]=\"\",\"\",IF(OR(Tabulka2[[#This Row],[Data]]<$G$57,Tabulka2[[#This Row],[Data]]>$G$58),2,IF(OR(Tabulka2[[#This Row],[Data]]<$G$51,Tabulka2[[#This Row],[Data]]>$G$52),1,0)))","v":""},{"$f":"IF(Tabulka2[[#This Row],[OL]]=\"\",\"\",IF(Tabulka2[[#This Row],[OL]]>0,A997,\"\"))","v":""},null,null,null,null,null,null,null,null,null,null,null,null,null,null,null,"",null,""]
[null,null,{"$f":"IF(Tabulka2[[#This Row],[Data]]=\"\",\"\",IF(OR(Tabulka2[[#This Row],[Data]]<$G$57,Tabulka2[[#This Row],[Data]]>$G$58),2,IF(OR(Tabulka2[[#This Row],[Data]]<$G$51,Tabulka2[[#This Row],[Data]]>$G$52),1,0)))","v":""},{"$f":"IF(Tabulka2[[#This Row],[OL]]=\"\",\"\",IF(Tabulka2[[#This Row],[OL]]>0,A998,\"\"))","v":""},null,null,null,null,null,null,null,null,null,null,null,null,null,null,null,"",null,""]
[null,null,{"$f":"IF(Tabulka2[[#This Row],[Data]]=\"\",\"\",IF(OR(Tabulka2[[#This Row],[Data]]<$G$57,Tabulka2[[#This Row],[Data]]>$G$58),2,IF(OR(Tabulka2[[#This Row],[Data]]<$G$51,Tabulka2[[#This Row],[Data]]>$G$52),1,0)))","v":""},{"$f":"IF(Tabulka2[[#This Row],[OL]]=\"\",\"\",IF(Tabulka2[[#This Row],[OL]]>0,A999,\"\"))","v":""},null,null,null,null,null,null,null,null,null,null,null,null,null,null,null,"",null,""]
[null,null,{"$f":"IF(Tabulka2[[#This Row],[Data]]=\"\",\"\",IF(OR(Tabulka2[[#This Row],[Data]]<$G$57,Tabulka2[[#This Row],[Data]]>$G$58),2,IF(OR(Tabulka2[[#This Row],[Data]]<$G$51,Tabulka2[[#This Row],[Data]]>$G$52),1,0)))","v":""},{"$f":"IF(Tabulka2[[#This Row],[OL]]=\"\",\"\",IF(Tabulka2[[#This Row],[OL]]>0,A1000,\"\"))","v":""},null,null,null,null,null,null,null,null,null,null,null,null,null,null,null,"",null,""]
[null,null,{"$f":"IF(Tabulka2[[#This Row],[Data]]=\"\",\"\",IF(OR(Tabulka2[[#This Row],[Data]]<$G$57,Tabulka2[[#This Row],[Data]]>$G$58),2,IF(OR(Tabulka2[[#This Row],[Data]]<$G$51,Tabulka2[[#This Row],[Data]]>$G$52),1,0)))","v":""},{"$f":"IF(Tabulka2[[#This Row],[OL]]=\"\",\"\",IF(Tabulka2[[#This Row],[OL]]>0,A1001,\"\"))","v":""},null,null,null,null,null,null,null,null,null,null,null,null,null,null,null,"",null,""]
[null,null,{"$f":"IF(Tabulka2[[#This Row],[Data]]=\"\",\"\",IF(OR(Tabulka2[[#This Row],[Data]]<$G$57,Tabulka2[[#This Row],[Data]]>$G$58),2,IF(OR(Tabulka2[[#This Row],[Data]]<$G$51,Tabulka2[[#This Row],[Data]]>$G$52),1,0)))","v":""},{"$f":"IF(Tabulka2[[#This Row],[OL]]=\"\",\"\",IF(Tabulka2[[#This Row],[OL]]>0,A1002,\"\"))","v":""},null,null,null,null,null,null,null,null,null,null,null,null,null,null,null,"",null,""]
[null,null,{"$f":"IF(Tabulka2[[#This Row],[Data]]=\"\",\"\",IF(OR(Tabulka2[[#This Row],[Data]]<$G$57,Tabulka2[[#This Row],[Data]]>$G$58),2,IF(OR(Tabulka2[[#This Row],[Data]]<$G$51,Tabulka2[[#This Row],[Data]]>$G$52),1,0)))","v":""},{"$f":"IF(Tabulka2[[#This Row],[OL]]=\"\",\"\",IF(Tabulka2[[#This Row],[OL]]>0,A1003,\"\"))","v":""},null,null,null,null,null,null,null,null,null,null,null,null,null,null,null,"",null,""]
[null,null,{"$f":"IF(Tabulka2[[#This Row],[Data]]=\"\",\"\",IF(OR(Tabulka2[[#This Row],[Data]]<$G$57,Tabulka2[[#This Row],[Data]]>$G$58),2,IF(OR(Tabulka2[[#This Row],[Data]]<$G$51,Tabulka2[[#This Row],[Data]]>$G$52),1,0)))","v":""},{"$f":"IF(Tabulka2[[#This Row],[OL]]=\"\",\"\",IF(Tabulka2[[#This Row],[OL]]>0,A1004,\"\"))","v":""},null,null,null,null,null,null,null,null,null,null,null,null,null,null,null,"",null,""]
[null,null,{"$f":"IF(Tabulka2[[#This Row],[Data]]=\"\",\"\",IF(OR(Tabulka2[[#This Row],[Data]]<$G$57,Tabulka2[[#This Row],[Data]]>$G$58),2,IF(OR(Tabulka2[[#This Row],[Data]]<$G$51,Tabulka2[[#This Row],[Data]]>$G$52),1,0)))","v":""},{"$f":"IF(Tabulka2[[#This Row],[OL]]=\"\",\"\",IF(Tabulka2[[#This Row],[OL]]>0,A1005,\"\"))","v":""},null,null,null,null,null,null,null,null,null,null,null,null,null,null,null,"",null,""]
[null,null,{"$f":"IF(Tabulka2[[#This Row],[Data]]=\"\",\"\",IF(OR(Tabulka2[[#This Row],[Data]]<$G$57,Tabulka2[[#This Row],[Data]]>$G$58),2,IF(OR(Tabulka2[[#This Row],[Data]]<$G$51,Tabulka2[[#This Row],[Data]]>$G$52),1,0)))","v":""},{"$f":"IF(Tabulka2[[#This Row],[OL]]=\"\",\"\",IF(Tabulka2[[#This Row],[OL]]>0,A1006,\"\"))","v":""},null,null,null,null,null,null,null,null,null,null,null,null,null,null,null,"",null,""]
[null,null,{"$f":"IF(Tabulka2[[#This Row],[Data]]=\"\",\"\",IF(OR(Tabulka2[[#This Row],[Data]]<$G$57,Tabulka2[[#This Row],[Data]]>$G$58),2,IF(OR(Tabulka2[[#This Row],[Data]]<$G$51,Tabulka2[[#This Row],[Data]]>$G$52),1,0)))","v":""},{"$f":"IF(Tabulka2[[#This Row],[OL]]=\"\",\"\",IF(Tabulka2[[#This Row],[OL]]>0,A1007,\"\"))","v":""},null,null,null,null,null,null,null,null,null,null,null,null,null,null,null,"",null,""]
[null,null,{"$f":"IF(Tabulka2[[#This Row],[Data]]=\"\",\"\",IF(OR(Tabulka2[[#This Row],[Data]]<$G$57,Tabulka2[[#This Row],[Data]]>$G$58),2,IF(OR(Tabulka2[[#This Row],[Data]]<$G$51,Tabulka2[[#This Row],[Data]]>$G$52),1,0)))","v":""},{"$f":"IF(Tabulka2[[#This Row],[OL]]=\"\",\"\",IF(Tabulka2[[#This Row],[OL]]>0,A1008,\"\"))","v":""},null,null,null,null,null,null,null,null,null,null,null,null,null,null,null,"",null,""]
[null,null,{"$f":"IF(Tabulka2[[#This Row],[Data]]=\"\",\"\",IF(OR(Tabulka2[[#This Row],[Data]]<$G$57,Tabulka2[[#This Row],[Data]]>$G$58),2,IF(OR(Tabulka2[[#This Row],[Data]]<$G$51,Tabulka2[[#This Row],[Data]]>$G$52),1,0)))","v":""},{"$f":"IF(Tabulka2[[#This Row],[OL]]=\"\",\"\",IF(Tabulka2[[#This Row],[OL]]>0,A1009,\"\"))","v":""},null,null,null,null,null,null,null,null,null,null,null,null,null,null,null,"",null,""]
[null,null,{"$f":"IF(Tabulka2[[#This Row],[Data]]=\"\",\"\",IF(OR(Tabulka2[[#This Row],[Data]]<$G$57,Tabulka2[[#This Row],[Data]]>$G$58),2,IF(OR(Tabulka2[[#This Row],[Data]]<$G$51,Tabulka2[[#This Row],[Data]]>$G$52),1,0)))","v":""},{"$f":"IF(Tabulka2[[#This Row],[OL]]=\"\",\"\",IF(Tabulka2[[#This Row],[OL]]>0,A1010,\"\"))","v":""},null,null,null,null,null,null,null,null,null,null,null,null,null,null,null,"",null,""]
[null,null,{"$f":"IF(Tabulka2[[#This Row],[Data]]=\"\",\"\",IF(OR(Tabulka2[[#This Row],[Data]]<$G$57,Tabulka2[[#This Row],[Data]]>$G$58),2,IF(OR(Tabulka2[[#This Row],[Data]]<$G$51,Tabulka2[[#This Row],[Data]]>$G$52),1,0)))","v":""},{"$f":"IF(Tabulka2[[#This Row],[OL]]=\"\",\"\",IF(Tabulka2[[#This Row],[OL]]>0,A1011,\"\"))","v":""},null,null,null,null,null,null,null,null,null,null,null,null,null,null,null,"",null,""]
[null,null,{"$f":"IF(Tabulka2[[#This Row],[Data]]=\"\",\"\",IF(OR(Tabulka2[[#This Row],[Data]]<$G$57,Tabulka2[[#This Row],[Data]]>$G$58),2,IF(OR(Tabulka2[[#This Row],[Data]]<$G$51,Tabulka2[[#This Row],[Data]]>$G$52),1,0)))","v":""},{"$f":"IF(Tabulka2[[#This Row],[OL]]=\"\",\"\",IF(Tabulka2[[#This Row],[OL]]>0,A1012,\"\"))","v":""},null,null,null,null,null,null,null,null,null,null,null,null,null,null,null,"",null,""]
[null,null,{"$f":"IF(Tabulka2[[#This Row],[Data]]=\"\",\"\",IF(OR(Tabulka2[[#This Row],[Data]]<$G$57,Tabulka2[[#This Row],[Data]]>$G$58),2,IF(OR(Tabulka2[[#This Row],[Data]]<$G$51,Tabulka2[[#This Row],[Data]]>$G$52),1,0)))","v":""},{"$f":"IF(Tabulka2[[#This Row],[OL]]=\"\",\"\",IF(Tabulka2[[#This Row],[OL]]>0,A1013,\"\"))","v":""},null,null,null,null,null,null,null,null,null,null,null,null,null,null,null,"",null,""]
[null,null,{"$f":"IF(Tabulka2[[#This Row],[Data]]=\"\",\"\",IF(OR(Tabulka2[[#This Row],[Data]]<$G$57,Tabulka2[[#This Row],[Data]]>$G$58),2,IF(OR(Tabulka2[[#This Row],[Data]]<$G$51,Tabulka2[[#This Row],[Data]]>$G$52),1,0)))","v":""},{"$f":"IF(Tabulka2[[#This Row],[OL]]=\"\",\"\",IF(Tabulka2[[#This Row],[OL]]>0,A1014,\"\"))","v":""},null,null,null,null,null,null,null,null,null,null,null,null,null,null,null,"",null,""]
[null,null,{"$f":"IF(Tabulka2[[#This Row],[Data]]=\"\",\"\",IF(OR(Tabulka2[[#This Row],[Data]]<$G$57,Tabulka2[[#This Row],[Data]]>$G$58),2,IF(OR(Tabulka2[[#This Row],[Data]]<$G$51,Tabulka2[[#This Row],[Data]]>$G$52),1,0)))","v":""},{"$f":"IF(Tabulka2[[#This Row],[OL]]=\"\",\"\",IF(Tabulka2[[#This Row],[OL]]>0,A1015,\"\"))","v":""},null,null,null,null,null,null,null,null,null,null,null,null,null,null,null,"",null,""]
[null,null,{"$f":"IF(Tabulka2[[#This Row],[Data]]=\"\",\"\",IF(OR(Tabulka2[[#This Row],[Data]]<$G$57,Tabulka2[[#This Row],[Data]]>$G$58),2,IF(OR(Tabulka2[[#This Row],[Data]]<$G$51,Tabulka2[[#This Row],[Data]]>$G$52),1,0)))","v":""},{"$f":"IF(Tabulka2[[#This Row],[OL]]=\"\",\"\",IF(Tabulka2[[#This Row],[OL]]>0,A1016,\"\"))","v":""},null,null,null,null,null,null,null,null,null,null,null,null,null,null,null,"",null,""]
[null,null,{"$f":"IF(Tabulka2[[#This Row],[Data]]=\"\",\"\",IF(OR(Tabulka2[[#This Row],[Data]]<$G$57,Tabulka2[[#This Row],[Data]]>$G$58),2,IF(OR(Tabulka2[[#This Row],[Data]]<$G$51,Tabulka2[[#This Row],[Data]]>$G$52),1,0)))","v":""},{"$f":"IF(Tabulka2[[#This Row],[OL]]=\"\",\"\",IF(Tabulka2[[#This Row],[OL]]>0,A1017,\"\"))","v":""},null,null,null,null,null,null,null,null,null,null,null,null,null,null,null,"",null,""]
[null,null,{"$f":"IF(Tabulka2[[#This Row],[Data]]=\"\",\"\",IF(OR(Tabulka2[[#This Row],[Data]]<$G$57,Tabulka2[[#This Row],[Data]]>$G$58),2,IF(OR(Tabulka2[[#This Row],[Data]]<$G$51,Tabulka2[[#This Row],[Data]]>$G$52),1,0)))","v":""},{"$f":"IF(Tabulka2[[#This Row],[OL]]=\"\",\"\",IF(Tabulka2[[#This Row],[OL]]>0,A1018,\"\"))","v":""},null,null,null,null,null,null,null,null,null,null,null,null,null,null,null,"",null,""]
[null,null,{"$f":"IF(Tabulka2[[#This Row],[Data]]=\"\",\"\",IF(OR(Tabulka2[[#This Row],[Data]]<$G$57,Tabulka2[[#This Row],[Data]]>$G$58),2,IF(OR(Tabulka2[[#This Row],[Data]]<$G$51,Tabulka2[[#This Row],[Data]]>$G$52),1,0)))","v":""},{"$f":"IF(Tabulka2[[#This Row],[OL]]=\"\",\"\",IF(Tabulka2[[#This Row],[OL]]>0,A1019,\"\"))","v":""},null,null,null,null,null,null,null,null,null,null,null,null,null,null,null,"",null,""]
[null,null,{"$f":"IF(Tabulka2[[#This Row],[Data]]=\"\",\"\",IF(OR(Tabulka2[[#This Row],[Data]]<$G$57,Tabulka2[[#This Row],[Data]]>$G$58),2,IF(OR(Tabulka2[[#This Row],[Data]]<$G$51,Tabulka2[[#This Row],[Data]]>$G$52),1,0)))","v":""},{"$f":"IF(Tabulka2[[#This Row],[OL]]=\"\",\"\",IF(Tabulka2[[#This Row],[OL]]>0,A1020,\"\"))","v":""},null,null,null,null,null,null,null,null,null,null,null,null,null,null,null,"",null,""]
[null,null,{"$f":"IF(Tabulka2[[#This Row],[Data]]=\"\",\"\",IF(OR(Tabulka2[[#This Row],[Data]]<$G$57,Tabulka2[[#This Row],[Data]]>$G$58),2,IF(OR(Tabulka2[[#This Row],[Data]]<$G$51,Tabulka2[[#This Row],[Data]]>$G$52),1,0)))","v":""},{"$f":"IF(Tabulka2[[#This Row],[OL]]=\"\",\"\",IF(Tabulka2[[#This Row],[OL]]>0,A1021,\"\"))","v":""},null,null,null,null,null,null,null,null,null,null,null,null,null,null,null,"",null,""]
[null,null,{"$f":"IF(Tabulka2[[#This Row],[Data]]=\"\",\"\",IF(OR(Tabulka2[[#This Row],[Data]]<$G$57,Tabulka2[[#This Row],[Data]]>$G$58),2,IF(OR(Tabulka2[[#This Row],[Data]]<$G$51,Tabulka2[[#This Row],[Data]]>$G$52),1,0)))","v":""},{"$f":"IF(Tabulka2[[#This Row],[OL]]=\"\",\"\",IF(Tabulka2[[#This Row],[OL]]>0,A1022,\"\"))","v":""},null,null,null,null,null,null,null,null,null,null,null,null,null,null,null,"",null,""]
[null,null,{"$f":"IF(Tabulka2[[#This Row],[Data]]=\"\",\"\",IF(OR(Tabulka2[[#This Row],[Data]]<$G$57,Tabulka2[[#This Row],[Data]]>$G$58),2,IF(OR(Tabulka2[[#This Row],[Data]]<$G$51,Tabulka2[[#This Row],[Data]]>$G$52),1,0)))","v":""},{"$f":"IF(Tabulka2[[#This Row],[OL]]=\"\",\"\",IF(Tabulka2[[#This Row],[OL]]>0,A1023,\"\"))","v":""},null,null,null,null,null,null,null,null,null,null,null,null,null,null,null,"",null,""]
[null,null,{"$f":"IF(Tabulka2[[#This Row],[Data]]=\"\",\"\",IF(OR(Tabulka2[[#This Row],[Data]]<$G$57,Tabulka2[[#This Row],[Data]]>$G$58),2,IF(OR(Tabulka2[[#This Row],[Data]]<$G$51,Tabulka2[[#This Row],[Data]]>$G$52),1,0)))","v":""},{"$f":"IF(Tabulka2[[#This Row],[OL]]=\"\",\"\",IF(Tabulka2[[#This Row],[OL]]>0,A1024,\"\"))","v":""},null,null,null,null,null,null,null,null,null,null,null,null,null,null,null,"",null,""]
[null,null,{"$f":"IF(Tabulka2[[#This Row],[Data]]=\"\",\"\",IF(OR(Tabulka2[[#This Row],[Data]]<$G$57,Tabulka2[[#This Row],[Data]]>$G$58),2,IF(OR(Tabulka2[[#This Row],[Data]]<$G$51,Tabulka2[[#This Row],[Data]]>$G$52),1,0)))","v":""},{"$f":"IF(Tabulka2[[#This Row],[OL]]=\"\",\"\",IF(Tabulka2[[#This Row],[OL]]>0,A1025,\"\"))","v":""},null,null,null,null,null,null,null,null,null,null,null,null,null,null,null,"",null,""]
[null,null,{"$f":"IF(Tabulka2[[#This Row],[Data]]=\"\",\"\",IF(OR(Tabulka2[[#This Row],[Data]]<$G$57,Tabulka2[[#This Row],[Data]]>$G$58),2,IF(OR(Tabulka2[[#This Row],[Data]]<$G$51,Tabulka2[[#This Row],[Data]]>$G$52),1,0)))","v":""},{"$f":"IF(Tabulka2[[#This Row],[OL]]=\"\",\"\",IF(Tabulka2[[#This Row],[OL]]>0,A1026,\"\"))","v":""},null,null,null,null,null,null,null,null,null,null,null,null,null,null,null,"",null,""]
[null,null,{"$f":"IF(Tabulka2[[#This Row],[Data]]=\"\",\"\",IF(OR(Tabulka2[[#This Row],[Data]]<$G$57,Tabulka2[[#This Row],[Data]]>$G$58),2,IF(OR(Tabulka2[[#This Row],[Data]]<$G$51,Tabulka2[[#This Row],[Data]]>$G$52),1,0)))","v":""},{"$f":"IF(Tabulka2[[#This Row],[OL]]=\"\",\"\",IF(Tabulka2[[#This Row],[OL]]>0,A1027,\"\"))","v":""},null,null,null,null,null,null,null,null,null,null,null,null,null,null,null,"",null,""]
[null,null,{"$f":"IF(Tabulka2[[#This Row],[Data]]=\"\",\"\",IF(OR(Tabulka2[[#This Row],[Data]]<$G$57,Tabulka2[[#This Row],[Data]]>$G$58),2,IF(OR(Tabulka2[[#This Row],[Data]]<$G$51,Tabulka2[[#This Row],[Data]]>$G$52),1,0)))","v":""},{"$f":"IF(Tabulka2[[#This Row],[OL]]=\"\",\"\",IF(Tabulka2[[#This Row],[OL]]>0,A1028,\"\"))","v":""},null,null,null,null,null,null,null,null,null,null,null,null,null,null,null,"",null,""]
[null,null,{"$f":"IF(Tabulka2[[#This Row],[Data]]=\"\",\"\",IF(OR(Tabulka2[[#This Row],[Data]]<$G$57,Tabulka2[[#This Row],[Data]]>$G$58),2,IF(OR(Tabulka2[[#This Row],[Data]]<$G$51,Tabulka2[[#This Row],[Data]]>$G$52),1,0)))","v":""},{"$f":"IF(Tabulka2[[#This Row],[OL]]=\"\",\"\",IF(Tabulka2[[#This Row],[OL]]>0,A1029,\"\"))","v":""},null,null,null,null,null,null,null,null,null,null,null,null,null,null,null,"",null,""]
[null,null,{"$f":"IF(Tabulka2[[#This Row],[Data]]=\"\",\"\",IF(OR(Tabulka2[[#This Row],[Data]]<$G$57,Tabulka2[[#This Row],[Data]]>$G$58),2,IF(OR(Tabulka2[[#This Row],[Data]]<$G$51,Tabulka2[[#This Row],[Data]]>$G$52),1,0)))","v":""},{"$f":"IF(Tabulka2[[#This Row],[OL]]=\"\",\"\",IF(Tabulka2[[#This Row],[OL]]>0,A1030,\"\"))","v":""},null,null,null,null,null,null,null,null,null,null,null,null,null,null,null,"",null,""]
[null,null,{"$f":"IF(Tabulka2[[#This Row],[Data]]=\"\",\"\",IF(OR(Tabulka2[[#This Row],[Data]]<$G$57,Tabulka2[[#This Row],[Data]]>$G$58),2,IF(OR(Tabulka2[[#This Row],[Data]]<$G$51,Tabulka2[[#This Row],[Data]]>$G$52),1,0)))","v":""},{"$f":"IF(Tabulka2[[#This Row],[OL]]=\"\",\"\",IF(Tabulka2[[#This Row],[OL]]>0,A1031,\"\"))","v":""},null,null,null,null,null,null,null,null,null,null,null,null,null,null,null,"",null,""]
[null,null,{"$f":"IF(Tabulka2[[#This Row],[Data]]=\"\",\"\",IF(OR(Tabulka2[[#This Row],[Data]]<$G$57,Tabulka2[[#This Row],[Data]]>$G$58),2,IF(OR(Tabulka2[[#This Row],[Data]]<$G$51,Tabulka2[[#This Row],[Data]]>$G$52),1,0)))","v":""},{"$f":"IF(Tabulka2[[#This Row],[OL]]=\"\",\"\",IF(Tabulka2[[#This Row],[OL]]>0,A1032,\"\"))","v":""},null,null,null,null,null,null,null,null,null,null,null,null,null,null,null,"",null,""]
[null,null,{"$f":"IF(Tabulka2[[#This Row],[Data]]=\"\",\"\",IF(OR(Tabulka2[[#This Row],[Data]]<$G$57,Tabulka2[[#This Row],[Data]]>$G$58),2,IF(OR(Tabulka2[[#This Row],[Data]]<$G$51,Tabulka2[[#This Row],[Data]]>$G$52),1,0)))","v":""},{"$f":"IF(Tabulka2[[#This Row],[OL]]=\"\",\"\",IF(Tabulka2[[#This Row],[OL]]>0,A1033,\"\"))","v":""},null,null,null,null,null,null,null,null,null,null,null,null,null,null,null,"",null,""]
[null,null,{"$f":"IF(Tabulka2[[#This Row],[Data]]=\"\",\"\",IF(OR(Tabulka2[[#This Row],[Data]]<$G$57,Tabulka2[[#This Row],[Data]]>$G$58),2,IF(OR(Tabulka2[[#This Row],[Data]]<$G$51,Tabulka2[[#This Row],[Data]]>$G$52),1,0)))","v":""},{"$f":"IF(Tabulka2[[#This Row],[OL]]=\"\",\"\",IF(Tabulka2[[#This Row],[OL]]>0,A1034,\"\"))","v":""},null,null,null,null,null,null,null,null,null,null,null,null,null,null,null,"",null,""]
[null,null,{"$f":"IF(Tabulka2[[#This Row],[Data]]=\"\",\"\",IF(OR(Tabulka2[[#This Row],[Data]]<$G$57,Tabulka2[[#This Row],[Data]]>$G$58),2,IF(OR(Tabulka2[[#This Row],[Data]]<$G$51,Tabulka2[[#This Row],[Data]]>$G$52),1,0)))","v":""},{"$f":"IF(Tabulka2[[#This Row],[OL]]=\"\",\"\",IF(Tabulka2[[#This Row],[OL]]>0,A1035,\"\"))","v":""},null,null,null,null,null,null,null,null,null,null,null,null,null,null,null,"",null,""]
[null,null,{"$f":"IF(Tabulka2[[#This Row],[Data]]=\"\",\"\",IF(OR(Tabulka2[[#This Row],[Data]]<$G$57,Tabulka2[[#This Row],[Data]]>$G$58),2,IF(OR(Tabulka2[[#This Row],[Data]]<$G$51,Tabulka2[[#This Row],[Data]]>$G$52),1,0)))","v":""},{"$f":"IF(Tabulka2[[#This Row],[OL]]=\"\",\"\",IF(Tabulka2[[#This Row],[OL]]>0,A1036,\"\"))","v":""},null,null,null,null,null,null,null,null,null,null,null,null,null,null,null,"",null,""]
[null,null,{"$f":"IF(Tabulka2[[#This Row],[Data]]=\"\",\"\",IF(OR(Tabulka2[[#This Row],[Data]]<$G$57,Tabulka2[[#This Row],[Data]]>$G$58),2,IF(OR(Tabulka2[[#This Row],[Data]]<$G$51,Tabulka2[[#This Row],[Data]]>$G$52),1,0)))","v":""},{"$f":"IF(Tabulka2[[#This Row],[OL]]=\"\",\"\",IF(Tabulka2[[#This Row],[OL]]>0,A1037,\"\"))","v":""},null,null,null,null,null,null,null,null,null,null,null,null,null,null,null,"",null,""]
[null,null,{"$f":"IF(Tabulka2[[#This Row],[Data]]=\"\",\"\",IF(OR(Tabulka2[[#This Row],[Data]]<$G$57,Tabulka2[[#This Row],[Data]]>$G$58),2,IF(OR(Tabulka2[[#This Row],[Data]]<$G$51,Tabulka2[[#This Row],[Data]]>$G$52),1,0)))","v":""},{"$f":"IF(Tabulka2[[#This Row],[OL]]=\"\",\"\",IF(Tabulka2[[#This Row],[OL]]>0,A1038,\"\"))","v":""},null,null,null,null,null,null,null,null,null,null,null,null,null,null,null,"",null,""]
[null,null,{"$f":"IF(Tabulka2[[#This Row],[Data]]=\"\",\"\",IF(OR(Tabulka2[[#This Row],[Data]]<$G$57,Tabulka2[[#This Row],[Data]]>$G$58),2,IF(OR(Tabulka2[[#This Row],[Data]]<$G$51,Tabulka2[[#This Row],[Data]]>$G$52),1,0)))","v":""},{"$f":"IF(Tabulka2[[#This Row],[OL]]=\"\",\"\",IF(Tabulka2[[#This Row],[OL]]>0,A1039,\"\"))","v":""},null,null,null,null,null,null,null,null,null,null,null,null,null,null,null,"",null,""]
[null,null,{"$f":"IF(Tabulka2[[#This Row],[Data]]=\"\",\"\",IF(OR(Tabulka2[[#This Row],[Data]]<$G$57,Tabulka2[[#This Row],[Data]]>$G$58),2,IF(OR(Tabulka2[[#This Row],[Data]]<$G$51,Tabulka2[[#This Row],[Data]]>$G$52),1,0)))","v":""},{"$f":"IF(Tabulka2[[#This Row],[OL]]=\"\",\"\",IF(Tabulka2[[#This Row],[OL]]>0,A1040,\"\"))","v":""},null,null,null,null,null,null,null,null,null,null,null,null,null,null,null,"",null,""]
[null,null,{"$f":"IF(Tabulka2[[#This Row],[Data]]=\"\",\"\",IF(OR(Tabulka2[[#This Row],[Data]]<$G$57,Tabulka2[[#This Row],[Data]]>$G$58),2,IF(OR(Tabulka2[[#This Row],[Data]]<$G$51,Tabulka2[[#This Row],[Data]]>$G$52),1,0)))","v":""},{"$f":"IF(Tabulka2[[#This Row],[OL]]=\"\",\"\",IF(Tabulka2[[#This Row],[OL]]>0,A1041,\"\"))","v":""},null,null,null,null,null,null,null,null,null,null,null,null,null,null,null,"",null,""]
[null,null,{"$f":"IF(Tabulka2[[#This Row],[Data]]=\"\",\"\",IF(OR(Tabulka2[[#This Row],[Data]]<$G$57,Tabulka2[[#This Row],[Data]]>$G$58),2,IF(OR(Tabulka2[[#This Row],[Data]]<$G$51,Tabulka2[[#This Row],[Data]]>$G$52),1,0)))","v":""},{"$f":"IF(Tabulka2[[#This Row],[OL]]=\"\",\"\",IF(Tabulka2[[#This Row],[OL]]>0,A1042,\"\"))","v":""},null,null,null,null,null,null,null,null,null,null,null,null,null,null,null,"",null,""]
[null,null,{"$f":"IF(Tabulka2[[#This Row],[Data]]=\"\",\"\",IF(OR(Tabulka2[[#This Row],[Data]]<$G$57,Tabulka2[[#This Row],[Data]]>$G$58),2,IF(OR(Tabulka2[[#This Row],[Data]]<$G$51,Tabulka2[[#This Row],[Data]]>$G$52),1,0)))","v":""},{"$f":"IF(Tabulka2[[#This Row],[OL]]=\"\",\"\",IF(Tabulka2[[#This Row],[OL]]>0,A1043,\"\"))","v":""},null,null,null,null,null,null,null,null,null,null,null,null,null,null,null,"",null,""]
[null,null,{"$f":"IF(Tabulka2[[#This Row],[Data]]=\"\",\"\",IF(OR(Tabulka2[[#This Row],[Data]]<$G$57,Tabulka2[[#This Row],[Data]]>$G$58),2,IF(OR(Tabulka2[[#This Row],[Data]]<$G$51,Tabulka2[[#This Row],[Data]]>$G$52),1,0)))","v":""},{"$f":"IF(Tabulka2[[#This Row],[OL]]=\"\",\"\",IF(Tabulka2[[#This Row],[OL]]>0,A1044,\"\"))","v":""},null,null,null,null,null,null,null,null,null,null,null,null,null,null,null,"",null,""]
[null,null,{"$f":"IF(Tabulka2[[#This Row],[Data]]=\"\",\"\",IF(OR(Tabulka2[[#This Row],[Data]]<$G$57,Tabulka2[[#This Row],[Data]]>$G$58),2,IF(OR(Tabulka2[[#This Row],[Data]]<$G$51,Tabulka2[[#This Row],[Data]]>$G$52),1,0)))","v":""},{"$f":"IF(Tabulka2[[#This Row],[OL]]=\"\",\"\",IF(Tabulka2[[#This Row],[OL]]>0,A1045,\"\"))","v":""},null,null,null,null,null,null,null,null,null,null,null,null,null,null,null,"",null,""]
[null,null,{"$f":"IF(Tabulka2[[#This Row],[Data]]=\"\",\"\",IF(OR(Tabulka2[[#This Row],[Data]]<$G$57,Tabulka2[[#This Row],[Data]]>$G$58),2,IF(OR(Tabulka2[[#This Row],[Data]]<$G$51,Tabulka2[[#This Row],[Data]]>$G$52),1,0)))","v":""},{"$f":"IF(Tabulka2[[#This Row],[OL]]=\"\",\"\",IF(Tabulka2[[#This Row],[OL]]>0,A1046,\"\"))","v":""},null,null,null,null,null,null,null,null,null,null,null,null,null,null,null,"",null,""]
[null,null,{"$f":"IF(Tabulka2[[#This Row],[Data]]=\"\",\"\",IF(OR(Tabulka2[[#This Row],[Data]]<$G$57,Tabulka2[[#This Row],[Data]]>$G$58),2,IF(OR(Tabulka2[[#This Row],[Data]]<$G$51,Tabulka2[[#This Row],[Data]]>$G$52),1,0)))","v":""},{"$f":"IF(Tabulka2[[#This Row],[OL]]=\"\",\"\",IF(Tabulka2[[#This Row],[OL]]>0,A1047,\"\"))","v":""},null,null,null,null,null,null,null,null,null,null,null,null,null,null,null,"",null,""]
[null,null,{"$f":"IF(Tabulka2[[#This Row],[Data]]=\"\",\"\",IF(OR(Tabulka2[[#This Row],[Data]]<$G$57,Tabulka2[[#This Row],[Data]]>$G$58),2,IF(OR(Tabulka2[[#This Row],[Data]]<$G$51,Tabulka2[[#This Row],[Data]]>$G$52),1,0)))","v":""},{"$f":"IF(Tabulka2[[#This Row],[OL]]=\"\",\"\",IF(Tabulka2[[#This Row],[OL]]>0,A1048,\"\"))","v":""},null,null,null,null,null,null,null,null,null,null,null,null,null,null,null,"",null,""]
[null,null,{"$f":"IF(Tabulka2[[#This Row],[Data]]=\"\",\"\",IF(OR(Tabulka2[[#This Row],[Data]]<$G$57,Tabulka2[[#This Row],[Data]]>$G$58),2,IF(OR(Tabulka2[[#This Row],[Data]]<$G$51,Tabulka2[[#This Row],[Data]]>$G$52),1,0)))","v":""},{"$f":"IF(Tabulka2[[#This Row],[OL]]=\"\",\"\",IF(Tabulka2[[#This Row],[OL]]>0,A1049,\"\"))","v":""},null,null,null,null,null,null,null,null,null,null,null,null,null,null,null,"",null,""]
[null,null,{"$f":"IF(Tabulka2[[#This Row],[Data]]=\"\",\"\",IF(OR(Tabulka2[[#This Row],[Data]]<$G$57,Tabulka2[[#This Row],[Data]]>$G$58),2,IF(OR(Tabulka2[[#This Row],[Data]]<$G$51,Tabulka2[[#This Row],[Data]]>$G$52),1,0)))","v":""},{"$f":"IF(Tabulka2[[#This Row],[OL]]=\"\",\"\",IF(Tabulka2[[#This Row],[OL]]>0,A1050,\"\"))","v":""},null,null,null,null,null,null,null,null,null,null,null,null,null,null,null,"",null,""]
[null,null,{"$f":"IF(Tabulka2[[#This Row],[Data]]=\"\",\"\",IF(OR(Tabulka2[[#This Row],[Data]]<$G$57,Tabulka2[[#This Row],[Data]]>$G$58),2,IF(OR(Tabulka2[[#This Row],[Data]]<$G$51,Tabulka2[[#This Row],[Data]]>$G$52),1,0)))","v":""},{"$f":"IF(Tabulka2[[#This Row],[OL]]=\"\",\"\",IF(Tabulka2[[#This Row],[OL]]>0,A1051,\"\"))","v":""},null,null,null,null,null,null,null,null,null,null,null,null,null,null,null,"",null,""]
[null,null,{"$f":"IF(Tabulka2[[#This Row],[Data]]=\"\",\"\",IF(OR(Tabulka2[[#This Row],[Data]]<$G$57,Tabulka2[[#This Row],[Data]]>$G$58),2,IF(OR(Tabulka2[[#This Row],[Data]]<$G$51,Tabulka2[[#This Row],[Data]]>$G$52),1,0)))","v":""},{"$f":"IF(Tabulka2[[#This Row],[OL]]=\"\",\"\",IF(Tabulka2[[#This Row],[OL]]>0,A1052,\"\"))","v":""},null,null,null,null,null,null,null,null,null,null,null,null,null,null,null,"",null,""]
[null,null,{"$f":"IF(Tabulka2[[#This Row],[Data]]=\"\",\"\",IF(OR(Tabulka2[[#This Row],[Data]]<$G$57,Tabulka2[[#This Row],[Data]]>$G$58),2,IF(OR(Tabulka2[[#This Row],[Data]]<$G$51,Tabulka2[[#This Row],[Data]]>$G$52),1,0)))","v":""},{"$f":"IF(Tabulka2[[#This Row],[OL]]=\"\",\"\",IF(Tabulka2[[#This Row],[OL]]>0,A1053,\"\"))","v":""},null,null,null,null,null,null,null,null,null,null,null,null,null,null,null,"",null,""]
[null,null,{"$f":"IF(Tabulka2[[#This Row],[Data]]=\"\",\"\",IF(OR(Tabulka2[[#This Row],[Data]]<$G$57,Tabulka2[[#This Row],[Data]]>$G$58),2,IF(OR(Tabulka2[[#This Row],[Data]]<$G$51,Tabulka2[[#This Row],[Data]]>$G$52),1,0)))","v":""},{"$f":"IF(Tabulka2[[#This Row],[OL]]=\"\",\"\",IF(Tabulka2[[#This Row],[OL]]>0,A1054,\"\"))","v":""},null,null,null,null,null,null,null,null,null,null,null,null,null,null,null,"",null,""]
[null,null,{"$f":"IF(Tabulka2[[#This Row],[Data]]=\"\",\"\",IF(OR(Tabulka2[[#This Row],[Data]]<$G$57,Tabulka2[[#This Row],[Data]]>$G$58),2,IF(OR(Tabulka2[[#This Row],[Data]]<$G$51,Tabulka2[[#This Row],[Data]]>$G$52),1,0)))","v":""},{"$f":"IF(Tabulka2[[#This Row],[OL]]=\"\",\"\",IF(Tabulka2[[#This Row],[OL]]>0,A1055,\"\"))","v":""},null,null,null,null,null,null,null,null,null,null,null,null,null,null,null,"",null,""]
[null,null,{"$f":"IF(Tabulka2[[#This Row],[Data]]=\"\",\"\",IF(OR(Tabulka2[[#This Row],[Data]]<$G$57,Tabulka2[[#This Row],[Data]]>$G$58),2,IF(OR(Tabulka2[[#This Row],[Data]]<$G$51,Tabulka2[[#This Row],[Data]]>$G$52),1,0)))","v":""},{"$f":"IF(Tabulka2[[#This Row],[OL]]=\"\",\"\",IF(Tabulka2[[#This Row],[OL]]>0,A1056,\"\"))","v":""},null,null,null,null,null,null,null,null,null,null,null,null,null,null,null,"",null,""]
[null,null,{"$f":"IF(Tabulka2[[#This Row],[Data]]=\"\",\"\",IF(OR(Tabulka2[[#This Row],[Data]]<$G$57,Tabulka2[[#This Row],[Data]]>$G$58),2,IF(OR(Tabulka2[[#This Row],[Data]]<$G$51,Tabulka2[[#This Row],[Data]]>$G$52),1,0)))","v":""},{"$f":"IF(Tabulka2[[#This Row],[OL]]=\"\",\"\",IF(Tabulka2[[#This Row],[OL]]>0,A1057,\"\"))","v":""},null,null,null,null,null,null,null,null,null,null,null,null,null,null,null,"",null,""]
[null,null,{"$f":"IF(Tabulka2[[#This Row],[Data]]=\"\",\"\",IF(OR(Tabulka2[[#This Row],[Data]]<$G$57,Tabulka2[[#This Row],[Data]]>$G$58),2,IF(OR(Tabulka2[[#This Row],[Data]]<$G$51,Tabulka2[[#This Row],[Data]]>$G$52),1,0)))","v":""},{"$f":"IF(Tabulka2[[#This Row],[OL]]=\"\",\"\",IF(Tabulka2[[#This Row],[OL]]>0,A1058,\"\"))","v":""},null,null,null,null,null,null,null,null,null,null,null,null,null,null,null,"",null,""]
[null,null,{"$f":"IF(Tabulka2[[#This Row],[Data]]=\"\",\"\",IF(OR(Tabulka2[[#This Row],[Data]]<$G$57,Tabulka2[[#This Row],[Data]]>$G$58),2,IF(OR(Tabulka2[[#This Row],[Data]]<$G$51,Tabulka2[[#This Row],[Data]]>$G$52),1,0)))","v":""},{"$f":"IF(Tabulka2[[#This Row],[OL]]=\"\",\"\",IF(Tabulka2[[#This Row],[OL]]>0,A1059,\"\"))","v":""},null,null,null,null,null,null,null,null,null,null,null,null,null,null,null,"",null,""]
[null,null,{"$f":"IF(Tabulka2[[#This Row],[Data]]=\"\",\"\",IF(OR(Tabulka2[[#This Row],[Data]]<$G$57,Tabulka2[[#This Row],[Data]]>$G$58),2,IF(OR(Tabulka2[[#This Row],[Data]]<$G$51,Tabulka2[[#This Row],[Data]]>$G$52),1,0)))","v":""},{"$f":"IF(Tabulka2[[#This Row],[OL]]=\"\",\"\",IF(Tabulka2[[#This Row],[OL]]>0,A1060,\"\"))","v":""},null,null,null,null,null,null,null,null,null,null,null,null,null,null,null,"",null,""]
[null,null,{"$f":"IF(Tabulka2[[#This Row],[Data]]=\"\",\"\",IF(OR(Tabulka2[[#This Row],[Data]]<$G$57,Tabulka2[[#This Row],[Data]]>$G$58),2,IF(OR(Tabulka2[[#This Row],[Data]]<$G$51,Tabulka2[[#This Row],[Data]]>$G$52),1,0)))","v":""},{"$f":"IF(Tabulka2[[#This Row],[OL]]=\"\",\"\",IF(Tabulka2[[#This Row],[OL]]>0,A1061,\"\"))","v":""},null,null,null,null,null,null,null,null,null,null,null,null,null,null,null,"",null,""]
[null,null,{"$f":"IF(Tabulka2[[#This Row],[Data]]=\"\",\"\",IF(OR(Tabulka2[[#This Row],[Data]]<$G$57,Tabulka2[[#This Row],[Data]]>$G$58),2,IF(OR(Tabulka2[[#This Row],[Data]]<$G$51,Tabulka2[[#This Row],[Data]]>$G$52),1,0)))","v":""},{"$f":"IF(Tabulka2[[#This Row],[OL]]=\"\",\"\",IF(Tabulka2[[#This Row],[OL]]>0,A1062,\"\"))","v":""},null,null,null,null,null,null,null,null,null,null,null,null,null,null,null,"",null,""]
[null,null,{"$f":"IF(Tabulka2[[#This Row],[Data]]=\"\",\"\",IF(OR(Tabulka2[[#This Row],[Data]]<$G$57,Tabulka2[[#This Row],[Data]]>$G$58),2,IF(OR(Tabulka2[[#This Row],[Data]]<$G$51,Tabulka2[[#This Row],[Data]]>$G$52),1,0)))","v":""},{"$f":"IF(Tabulka2[[#This Row],[OL]]=\"\",\"\",IF(Tabulka2[[#This Row],[OL]]>0,A1063,\"\"))","v":""},null,null,null,null,null,null,null,null,null,null,null,null,null,null,null,"",null,""]
[null,null,{"$f":"IF(Tabulka2[[#This Row],[Data]]=\"\",\"\",IF(OR(Tabulka2[[#This Row],[Data]]<$G$57,Tabulka2[[#This Row],[Data]]>$G$58),2,IF(OR(Tabulka2[[#This Row],[Data]]<$G$51,Tabulka2[[#This Row],[Data]]>$G$52),1,0)))","v":""},{"$f":"IF(Tabulka2[[#This Row],[OL]]=\"\",\"\",IF(Tabulka2[[#This Row],[OL]]>0,A1064,\"\"))","v":""},null,null,null,null,null,null,null,null,null,null,null,null,null,null,null,"",null,""]
[null,null,{"$f":"IF(Tabulka2[[#This Row],[Data]]=\"\",\"\",IF(OR(Tabulka2[[#This Row],[Data]]<$G$57,Tabulka2[[#This Row],[Data]]>$G$58),2,IF(OR(Tabulka2[[#This Row],[Data]]<$G$51,Tabulka2[[#This Row],[Data]]>$G$52),1,0)))","v":""},{"$f":"IF(Tabulka2[[#This Row],[OL]]=\"\",\"\",IF(Tabulka2[[#This Row],[OL]]>0,A1065,\"\"))","v":""},null,null,null,null,null,null,null,null,null,null,null,null,null,null,null,"",null,""]
[null,null,{"$f":"IF(Tabulka2[[#This Row],[Data]]=\"\",\"\",IF(OR(Tabulka2[[#This Row],[Data]]<$G$57,Tabulka2[[#This Row],[Data]]>$G$58),2,IF(OR(Tabulka2[[#This Row],[Data]]<$G$51,Tabulka2[[#This Row],[Data]]>$G$52),1,0)))","v":""},{"$f":"IF(Tabulka2[[#This Row],[OL]]=\"\",\"\",IF(Tabulka2[[#This Row],[OL]]>0,A1066,\"\"))","v":""},null,null,null,null,null,null,null,null,null,null,null,null,null,null,null,"",null,""]
[null,null,{"$f":"IF(Tabulka2[[#This Row],[Data]]=\"\",\"\",IF(OR(Tabulka2[[#This Row],[Data]]<$G$57,Tabulka2[[#This Row],[Data]]>$G$58),2,IF(OR(Tabulka2[[#This Row],[Data]]<$G$51,Tabulka2[[#This Row],[Data]]>$G$52),1,0)))","v":""},{"$f":"IF(Tabulka2[[#This Row],[OL]]=\"\",\"\",IF(Tabulka2[[#This Row],[OL]]>0,A1067,\"\"))","v":""},null,null,null,null,null,null,null,null,null,null,null,null,null,null,null,"",null,""]
[null,null,{"$f":"IF(Tabulka2[[#This Row],[Data]]=\"\",\"\",IF(OR(Tabulka2[[#This Row],[Data]]<$G$57,Tabulka2[[#This Row],[Data]]>$G$58),2,IF(OR(Tabulka2[[#This Row],[Data]]<$G$51,Tabulka2[[#This Row],[Data]]>$G$52),1,0)))","v":""},{"$f":"IF(Tabulka2[[#This Row],[OL]]=\"\",\"\",IF(Tabulka2[[#This Row],[OL]]>0,A1068,\"\"))","v":""},null,null,null,null,null,null,null,null,null,null,null,null,null,null,null,"",null,""]
[null,null,{"$f":"IF(Tabulka2[[#This Row],[Data]]=\"\",\"\",IF(OR(Tabulka2[[#This Row],[Data]]<$G$57,Tabulka2[[#This Row],[Data]]>$G$58),2,IF(OR(Tabulka2[[#This Row],[Data]]<$G$51,Tabulka2[[#This Row],[Data]]>$G$52),1,0)))","v":""},{"$f":"IF(Tabulka2[[#This Row],[OL]]=\"\",\"\",IF(Tabulka2[[#This Row],[OL]]>0,A1069,\"\"))","v":""},null,null,null,null,null,null,null,null,null,null,null,null,null,null,null,"",null,""]
[null,null,{"$f":"IF(Tabulka2[[#This Row],[Data]]=\"\",\"\",IF(OR(Tabulka2[[#This Row],[Data]]<$G$57,Tabulka2[[#This Row],[Data]]>$G$58),2,IF(OR(Tabulka2[[#This Row],[Data]]<$G$51,Tabulka2[[#This Row],[Data]]>$G$52),1,0)))","v":""},{"$f":"IF(Tabulka2[[#This Row],[OL]]=\"\",\"\",IF(Tabulka2[[#This Row],[OL]]>0,A1070,\"\"))","v":""},null,null,null,null,null,null,null,null,null,null,null,null,null,null,null,"",null,""]
[null,null,{"$f":"IF(Tabulka2[[#This Row],[Data]]=\"\",\"\",IF(OR(Tabulka2[[#This Row],[Data]]<$G$57,Tabulka2[[#This Row],[Data]]>$G$58),2,IF(OR(Tabulka2[[#This Row],[Data]]<$G$51,Tabulka2[[#This Row],[Data]]>$G$52),1,0)))","v":""},{"$f":"IF(Tabulka2[[#This Row],[OL]]=\"\",\"\",IF(Tabulka2[[#This Row],[OL]]>0,A1071,\"\"))","v":""},null,null,null,null,null,null,null,null,null,null,null,null,null,null,null,"",null,""]
[null,null,{"$f":"IF(Tabulka2[[#This Row],[Data]]=\"\",\"\",IF(OR(Tabulka2[[#This Row],[Data]]<$G$57,Tabulka2[[#This Row],[Data]]>$G$58),2,IF(OR(Tabulka2[[#This Row],[Data]]<$G$51,Tabulka2[[#This Row],[Data]]>$G$52),1,0)))","v":""},{"$f":"IF(Tabulka2[[#This Row],[OL]]=\"\",\"\",IF(Tabulka2[[#This Row],[OL]]>0,A1072,\"\"))","v":""},null,null,null,null,null,null,null,null,null,null,null,null,null,null,null,"",null,""]
[null,null,{"$f":"IF(Tabulka2[[#This Row],[Data]]=\"\",\"\",IF(OR(Tabulka2[[#This Row],[Data]]<$G$57,Tabulka2[[#This Row],[Data]]>$G$58),2,IF(OR(Tabulka2[[#This Row],[Data]]<$G$51,Tabulka2[[#This Row],[Data]]>$G$52),1,0)))","v":""},{"$f":"IF(Tabulka2[[#This Row],[OL]]=\"\",\"\",IF(Tabulka2[[#This Row],[OL]]>0,A1073,\"\"))","v":""},null,null,null,null,null,null,null,null,null,null,null,null,null,null,null,"",null,""]
[null,null,{"$f":"IF(Tabulka2[[#This Row],[Data]]=\"\",\"\",IF(OR(Tabulka2[[#This Row],[Data]]<$G$57,Tabulka2[[#This Row],[Data]]>$G$58),2,IF(OR(Tabulka2[[#This Row],[Data]]<$G$51,Tabulka2[[#This Row],[Data]]>$G$52),1,0)))","v":""},{"$f":"IF(Tabulka2[[#This Row],[OL]]=\"\",\"\",IF(Tabulka2[[#This Row],[OL]]>0,A1074,\"\"))","v":""},null,null,null,null,null,null,null,null,null,null,null,null,null,null,null,"",null,""]
[null,null,{"$f":"IF(Tabulka2[[#This Row],[Data]]=\"\",\"\",IF(OR(Tabulka2[[#This Row],[Data]]<$G$57,Tabulka2[[#This Row],[Data]]>$G$58),2,IF(OR(Tabulka2[[#This Row],[Data]]<$G$51,Tabulka2[[#This Row],[Data]]>$G$52),1,0)))","v":""},{"$f":"IF(Tabulka2[[#This Row],[OL]]=\"\",\"\",IF(Tabulka2[[#This Row],[OL]]>0,A1075,\"\"))","v":""},null,null,null,null,null,null,null,null,null,null,null,null,null,null,null,"",null,""]
[null,null,{"$f":"IF(Tabulka2[[#This Row],[Data]]=\"\",\"\",IF(OR(Tabulka2[[#This Row],[Data]]<$G$57,Tabulka2[[#This Row],[Data]]>$G$58),2,IF(OR(Tabulka2[[#This Row],[Data]]<$G$51,Tabulka2[[#This Row],[Data]]>$G$52),1,0)))","v":""},{"$f":"IF(Tabulka2[[#This Row],[OL]]=\"\",\"\",IF(Tabulka2[[#This Row],[OL]]>0,A1076,\"\"))","v":""},null,null,null,null,null,null,null,null,null,null,null,null,null,null,null,"",null,""]
[null,null,{"$f":"IF(Tabulka2[[#This Row],[Data]]=\"\",\"\",IF(OR(Tabulka2[[#This Row],[Data]]<$G$57,Tabulka2[[#This Row],[Data]]>$G$58),2,IF(OR(Tabulka2[[#This Row],[Data]]<$G$51,Tabulka2[[#This Row],[Data]]>$G$52),1,0)))","v":""},{"$f":"IF(Tabulka2[[#This Row],[OL]]=\"\",\"\",IF(Tabulka2[[#This Row],[OL]]>0,A1077,\"\"))","v":""},null,null,null,null,null,null,null,null,null,null,null,null,null,null,null,"",null,""]
[null,null,{"$f":"IF(Tabulka2[[#This Row],[Data]]=\"\",\"\",IF(OR(Tabulka2[[#This Row],[Data]]<$G$57,Tabulka2[[#This Row],[Data]]>$G$58),2,IF(OR(Tabulka2[[#This Row],[Data]]<$G$51,Tabulka2[[#This Row],[Data]]>$G$52),1,0)))","v":""},{"$f":"IF(Tabulka2[[#This Row],[OL]]=\"\",\"\",IF(Tabulka2[[#This Row],[OL]]>0,A1078,\"\"))","v":""},null,null,null,null,null,null,null,null,null,null,null,null,null,null,null,"",null,""]
[null,null,{"$f":"IF(Tabulka2[[#This Row],[Data]]=\"\",\"\",IF(OR(Tabulka2[[#This Row],[Data]]<$G$57,Tabulka2[[#This Row],[Data]]>$G$58),2,IF(OR(Tabulka2[[#This Row],[Data]]<$G$51,Tabulka2[[#This Row],[Data]]>$G$52),1,0)))","v":""},{"$f":"IF(Tabulka2[[#This Row],[OL]]=\"\",\"\",IF(Tabulka2[[#This Row],[OL]]>0,A1079,\"\"))","v":""},null,null,null,null,null,null,null,null,null,null,null,null,null,null,null,"",null,""]
[null,null,{"$f":"IF(Tabulka2[[#This Row],[Data]]=\"\",\"\",IF(OR(Tabulka2[[#This Row],[Data]]<$G$57,Tabulka2[[#This Row],[Data]]>$G$58),2,IF(OR(Tabulka2[[#This Row],[Data]]<$G$51,Tabulka2[[#This Row],[Data]]>$G$52),1,0)))","v":""},{"$f":"IF(Tabulka2[[#This Row],[OL]]=\"\",\"\",IF(Tabulka2[[#This Row],[OL]]>0,A1080,\"\"))","v":""},null,null,null,null,null,null,null,null,null,null,null,null,null,null,null,"",null,""]
[null,null,{"$f":"IF(Tabulka2[[#This Row],[Data]]=\"\",\"\",IF(OR(Tabulka2[[#This Row],[Data]]<$G$57,Tabulka2[[#This Row],[Data]]>$G$58),2,IF(OR(Tabulka2[[#This Row],[Data]]<$G$51,Tabulka2[[#This Row],[Data]]>$G$52),1,0)))","v":""},{"$f":"IF(Tabulka2[[#This Row],[OL]]=\"\",\"\",IF(Tabulka2[[#This Row],[OL]]>0,A1081,\"\"))","v":""},null,null,null,null,null,null,null,null,null,null,null,null,null,null,null,"",null,""]
[null,null,{"$f":"IF(Tabulka2[[#This Row],[Data]]=\"\",\"\",IF(OR(Tabulka2[[#This Row],[Data]]<$G$57,Tabulka2[[#This Row],[Data]]>$G$58),2,IF(OR(Tabulka2[[#This Row],[Data]]<$G$51,Tabulka2[[#This Row],[Data]]>$G$52),1,0)))","v":""},{"$f":"IF(Tabulka2[[#This Row],[OL]]=\"\",\"\",IF(Tabulka2[[#This Row],[OL]]>0,A1082,\"\"))","v":""},null,null,null,null,null,null,null,null,null,null,null,null,null,null,null,"",null,""]
[null,null,{"$f":"IF(Tabulka2[[#This Row],[Data]]=\"\",\"\",IF(OR(Tabulka2[[#This Row],[Data]]<$G$57,Tabulka2[[#This Row],[Data]]>$G$58),2,IF(OR(Tabulka2[[#This Row],[Data]]<$G$51,Tabulka2[[#This Row],[Data]]>$G$52),1,0)))","v":""},{"$f":"IF(Tabulka2[[#This Row],[OL]]=\"\",\"\",IF(Tabulka2[[#This Row],[OL]]>0,A1083,\"\"))","v":""},null,null,null,null,null,null,null,null,null,null,null,null,null,null,null,"",null,""]
[null,null,{"$f":"IF(Tabulka2[[#This Row],[Data]]=\"\",\"\",IF(OR(Tabulka2[[#This Row],[Data]]<$G$57,Tabulka2[[#This Row],[Data]]>$G$58),2,IF(OR(Tabulka2[[#This Row],[Data]]<$G$51,Tabulka2[[#This Row],[Data]]>$G$52),1,0)))","v":""},{"$f":"IF(Tabulka2[[#This Row],[OL]]=\"\",\"\",IF(Tabulka2[[#This Row],[OL]]>0,A1084,\"\"))","v":""},null,null,null,null,null,null,null,null,null,null,null,null,null,null,null,"",null,""]
[null,null,{"$f":"IF(Tabulka2[[#This Row],[Data]]=\"\",\"\",IF(OR(Tabulka2[[#This Row],[Data]]<$G$57,Tabulka2[[#This Row],[Data]]>$G$58),2,IF(OR(Tabulka2[[#This Row],[Data]]<$G$51,Tabulka2[[#This Row],[Data]]>$G$52),1,0)))","v":""},{"$f":"IF(Tabulka2[[#This Row],[OL]]=\"\",\"\",IF(Tabulka2[[#This Row],[OL]]>0,A1085,\"\"))","v":""},null,null,null,null,null,null,null,null,null,null,null,null,null,null,null,"",null,""]
[null,null,{"$f":"IF(Tabulka2[[#This Row],[Data]]=\"\",\"\",IF(OR(Tabulka2[[#This Row],[Data]]<$G$57,Tabulka2[[#This Row],[Data]]>$G$58),2,IF(OR(Tabulka2[[#This Row],[Data]]<$G$51,Tabulka2[[#This Row],[Data]]>$G$52),1,0)))","v":""},{"$f":"IF(Tabulka2[[#This Row],[OL]]=\"\",\"\",IF(Tabulka2[[#This Row],[OL]]>0,A1086,\"\"))","v":""},null,null,null,null,null,null,null,null,null,null,null,null,null,null,null,"",null,""]
[null,null,{"$f":"IF(Tabulka2[[#This Row],[Data]]=\"\",\"\",IF(OR(Tabulka2[[#This Row],[Data]]<$G$57,Tabulka2[[#This Row],[Data]]>$G$58),2,IF(OR(Tabulka2[[#This Row],[Data]]<$G$51,Tabulka2[[#This Row],[Data]]>$G$52),1,0)))","v":""},{"$f":"IF(Tabulka2[[#This Row],[OL]]=\"\",\"\",IF(Tabulka2[[#This Row],[OL]]>0,A1087,\"\"))","v":""},null,null,null,null,null,null,null,null,null,null,null,null,null,null,null,"",null,""]
[null,null,{"$f":"IF(Tabulka2[[#This Row],[Data]]=\"\",\"\",IF(OR(Tabulka2[[#This Row],[Data]]<$G$57,Tabulka2[[#This Row],[Data]]>$G$58),2,IF(OR(Tabulka2[[#This Row],[Data]]<$G$51,Tabulka2[[#This Row],[Data]]>$G$52),1,0)))","v":""},{"$f":"IF(Tabulka2[[#This Row],[OL]]=\"\",\"\",IF(Tabulka2[[#This Row],[OL]]>0,A1088,\"\"))","v":""},null,null,null,null,null,null,null,null,null,null,null,null,null,null,null,"",null,""]
[null,null,{"$f":"IF(Tabulka2[[#This Row],[Data]]=\"\",\"\",IF(OR(Tabulka2[[#This Row],[Data]]<$G$57,Tabulka2[[#This Row],[Data]]>$G$58),2,IF(OR(Tabulka2[[#This Row],[Data]]<$G$51,Tabulka2[[#This Row],[Data]]>$G$52),1,0)))","v":""},{"$f":"IF(Tabulka2[[#This Row],[OL]]=\"\",\"\",IF(Tabulka2[[#This Row],[OL]]>0,A1089,\"\"))","v":""},null,null,null,null,null,null,null,null,null,null,null,null,null,null,null,"",null,""]
[null,null,{"$f":"IF(Tabulka2[[#This Row],[Data]]=\"\",\"\",IF(OR(Tabulka2[[#This Row],[Data]]<$G$57,Tabulka2[[#This Row],[Data]]>$G$58),2,IF(OR(Tabulka2[[#This Row],[Data]]<$G$51,Tabulka2[[#This Row],[Data]]>$G$52),1,0)))","v":""},{"$f":"IF(Tabulka2[[#This Row],[OL]]=\"\",\"\",IF(Tabulka2[[#This Row],[OL]]>0,A1090,\"\"))","v":""},null,null,null,null,null,null,null,null,null,null,null,null,null,null,null,"",null,""]
[null,null,{"$f":"IF(Tabulka2[[#This Row],[Data]]=\"\",\"\",IF(OR(Tabulka2[[#This Row],[Data]]<$G$57,Tabulka2[[#This Row],[Data]]>$G$58),2,IF(OR(Tabulka2[[#This Row],[Data]]<$G$51,Tabulka2[[#This Row],[Data]]>$G$52),1,0)))","v":""},{"$f":"IF(Tabulka2[[#This Row],[OL]]=\"\",\"\",IF(Tabulka2[[#This Row],[OL]]>0,A1091,\"\"))","v":""},null,null,null,null,null,null,null,null,null,null,null,null,null,null,null,"",null,""]
[null,null,{"$f":"IF(Tabulka2[[#This Row],[Data]]=\"\",\"\",IF(OR(Tabulka2[[#This Row],[Data]]<$G$57,Tabulka2[[#This Row],[Data]]>$G$58),2,IF(OR(Tabulka2[[#This Row],[Data]]<$G$51,Tabulka2[[#This Row],[Data]]>$G$52),1,0)))","v":""},{"$f":"IF(Tabulka2[[#This Row],[OL]]=\"\",\"\",IF(Tabulka2[[#This Row],[OL]]>0,A1092,\"\"))","v":""},null,null,null,null,null,null,null,null,null,null,null,null,null,null,null,"",null,""]
[null,null,{"$f":"IF(Tabulka2[[#This Row],[Data]]=\"\",\"\",IF(OR(Tabulka2[[#This Row],[Data]]<$G$57,Tabulka2[[#This Row],[Data]]>$G$58),2,IF(OR(Tabulka2[[#This Row],[Data]]<$G$51,Tabulka2[[#This Row],[Data]]>$G$52),1,0)))","v":""},{"$f":"IF(Tabulka2[[#This Row],[OL]]=\"\",\"\",IF(Tabulka2[[#This Row],[OL]]>0,A1093,\"\"))","v":""},null,null,null,null,null,null,null,null,null,null,null,null,null,null,null,"",null,""]
[null,null,{"$f":"IF(Tabulka2[[#This Row],[Data]]=\"\",\"\",IF(OR(Tabulka2[[#This Row],[Data]]<$G$57,Tabulka2[[#This Row],[Data]]>$G$58),2,IF(OR(Tabulka2[[#This Row],[Data]]<$G$51,Tabulka2[[#This Row],[Data]]>$G$52),1,0)))","v":""},{"$f":"IF(Tabulka2[[#This Row],[OL]]=\"\",\"\",IF(Tabulka2[[#This Row],[OL]]>0,A1094,\"\"))","v":""},null,null,null,null,null,null,null,null,null,null,null,null,null,null,null,"",null,""]
[null,null,{"$f":"IF(Tabulka2[[#This Row],[Data]]=\"\",\"\",IF(OR(Tabulka2[[#This Row],[Data]]<$G$57,Tabulka2[[#This Row],[Data]]>$G$58),2,IF(OR(Tabulka2[[#This Row],[Data]]<$G$51,Tabulka2[[#This Row],[Data]]>$G$52),1,0)))","v":""},{"$f":"IF(Tabulka2[[#This Row],[OL]]=\"\",\"\",IF(Tabulka2[[#This Row],[OL]]>0,A1095,\"\"))","v":""},null,null,null,null,null,null,null,null,null,null,null,null,null,null,null,"",null,""]
[null,null,{"$f":"IF(Tabulka2[[#This Row],[Data]]=\"\",\"\",IF(OR(Tabulka2[[#This Row],[Data]]<$G$57,Tabulka2[[#This Row],[Data]]>$G$58),2,IF(OR(Tabulka2[[#This Row],[Data]]<$G$51,Tabulka2[[#This Row],[Data]]>$G$52),1,0)))","v":""},{"$f":"IF(Tabulka2[[#This Row],[OL]]=\"\",\"\",IF(Tabulka2[[#This Row],[OL]]>0,A1096,\"\"))","v":""},null,null,null,null,null,null,null,null,null,null,null,null,null,null,null,"",null,""]
[null,null,{"$f":"IF(Tabulka2[[#This Row],[Data]]=\"\",\"\",IF(OR(Tabulka2[[#This Row],[Data]]<$G$57,Tabulka2[[#This Row],[Data]]>$G$58),2,IF(OR(Tabulka2[[#This Row],[Data]]<$G$51,Tabulka2[[#This Row],[Data]]>$G$52),1,0)))","v":""},{"$f":"IF(Tabulka2[[#This Row],[OL]]=\"\",\"\",IF(Tabulka2[[#This Row],[OL]]>0,A1097,\"\"))","v":""},null,null,null,null,null,null,null,null,null,null,null,null,null,null,null,"",null,""]
[null,null,{"$f":"IF(Tabulka2[[#This Row],[Data]]=\"\",\"\",IF(OR(Tabulka2[[#This Row],[Data]]<$G$57,Tabulka2[[#This Row],[Data]]>$G$58),2,IF(OR(Tabulka2[[#This Row],[Data]]<$G$51,Tabulka2[[#This Row],[Data]]>$G$52),1,0)))","v":""},{"$f":"IF(Tabulka2[[#This Row],[OL]]=\"\",\"\",IF(Tabulka2[[#This Row],[OL]]>0,A1098,\"\"))","v":""},null,null,null,null,null,null,null,null,null,null,null,null,null,null,null,"",null,""]
[null,null,{"$f":"IF(Tabulka2[[#This Row],[Data]]=\"\",\"\",IF(OR(Tabulka2[[#This Row],[Data]]<$G$57,Tabulka2[[#This Row],[Data]]>$G$58),2,IF(OR(Tabulka2[[#This Row],[Data]]<$G$51,Tabulka2[[#This Row],[Data]]>$G$52),1,0)))","v":""},{"$f":"IF(Tabulka2[[#This Row],[OL]]=\"\",\"\",IF(Tabulka2[[#This Row],[OL]]>0,A1099,\"\"))","v":""},null,null,null,null,null,null,null,null,null,null,null,null,null,null,null,"",null,""]
[null,null,{"$f":"IF(Tabulka2[[#This Row],[Data]]=\"\",\"\",IF(OR(Tabulka2[[#This Row],[Data]]<$G$57,Tabulka2[[#This Row],[Data]]>$G$58),2,IF(OR(Tabulka2[[#This Row],[Data]]<$G$51,Tabulka2[[#This Row],[Data]]>$G$52),1,0)))","v":""},{"$f":"IF(Tabulka2[[#This Row],[OL]]=\"\",\"\",IF(Tabulka2[[#This Row],[OL]]>0,A1100,\"\"))","v":""},null,null,null,null,null,null,null,null,null,null,null,null,null,null,null,"",null,""]
[null,null,{"$f":"IF(Tabulka2[[#This Row],[Data]]=\"\",\"\",IF(OR(Tabulka2[[#This Row],[Data]]<$G$57,Tabulka2[[#This Row],[Data]]>$G$58),2,IF(OR(Tabulka2[[#This Row],[Data]]<$G$51,Tabulka2[[#This Row],[Data]]>$G$52),1,0)))","v":""},{"$f":"IF(Tabulka2[[#This Row],[OL]]=\"\",\"\",IF(Tabulka2[[#This Row],[OL]]>0,A1101,\"\"))","v":""},null,null,null,null,null,null,null,null,null,null,null,null,null,null,null,"",null,""]
[null,null,{"$f":"IF(Tabulka2[[#This Row],[Data]]=\"\",\"\",IF(OR(Tabulka2[[#This Row],[Data]]<$G$57,Tabulka2[[#This Row],[Data]]>$G$58),2,IF(OR(Tabulka2[[#This Row],[Data]]<$G$51,Tabulka2[[#This Row],[Data]]>$G$52),1,0)))","v":""},{"$f":"IF(Tabulka2[[#This Row],[OL]]=\"\",\"\",IF(Tabulka2[[#This Row],[OL]]>0,A1102,\"\"))","v":""},null,null,null,null,null,null,null,null,null,null,null,null,null,null,null,"",null,""]
[null,null,{"$f":"IF(Tabulka2[[#This Row],[Data]]=\"\",\"\",IF(OR(Tabulka2[[#This Row],[Data]]<$G$57,Tabulka2[[#This Row],[Data]]>$G$58),2,IF(OR(Tabulka2[[#This Row],[Data]]<$G$51,Tabulka2[[#This Row],[Data]]>$G$52),1,0)))","v":""},{"$f":"IF(Tabulka2[[#This Row],[OL]]=\"\",\"\",IF(Tabulka2[[#This Row],[OL]]>0,A1103,\"\"))","v":""},null,null,null,null,null,null,null,null,null,null,null,null,null,null,null,"",null,""]
[null,null,{"$f":"IF(Tabulka2[[#This Row],[Data]]=\"\",\"\",IF(OR(Tabulka2[[#This Row],[Data]]<$G$57,Tabulka2[[#This Row],[Data]]>$G$58),2,IF(OR(Tabulka2[[#This Row],[Data]]<$G$51,Tabulka2[[#This Row],[Data]]>$G$52),1,0)))","v":""},{"$f":"IF(Tabulka2[[#This Row],[OL]]=\"\",\"\",IF(Tabulka2[[#This Row],[OL]]>0,A1104,\"\"))","v":""},null,null,null,null,null,null,null,null,null,null,null,null,null,null,null,"",null,""]
[null,null,{"$f":"IF(Tabulka2[[#This Row],[Data]]=\"\",\"\",IF(OR(Tabulka2[[#This Row],[Data]]<$G$57,Tabulka2[[#This Row],[Data]]>$G$58),2,IF(OR(Tabulka2[[#This Row],[Data]]<$G$51,Tabulka2[[#This Row],[Data]]>$G$52),1,0)))","v":""},{"$f":"IF(Tabulka2[[#This Row],[OL]]=\"\",\"\",IF(Tabulka2[[#This Row],[OL]]>0,A1105,\"\"))","v":""},null,null,null,null,null,null,null,null,null,null,null,null,null,null,null,"",null,""]
[null,null,{"$f":"IF(Tabulka2[[#This Row],[Data]]=\"\",\"\",IF(OR(Tabulka2[[#This Row],[Data]]<$G$57,Tabulka2[[#This Row],[Data]]>$G$58),2,IF(OR(Tabulka2[[#This Row],[Data]]<$G$51,Tabulka2[[#This Row],[Data]]>$G$52),1,0)))","v":""},{"$f":"IF(Tabulka2[[#This Row],[OL]]=\"\",\"\",IF(Tabulka2[[#This Row],[OL]]>0,A1106,\"\"))","v":""},null,null,null,null,null,null,null,null,null,null,null,null,null,null,null,"",null,""]
[null,null,{"$f":"IF(Tabulka2[[#This Row],[Data]]=\"\",\"\",IF(OR(Tabulka2[[#This Row],[Data]]<$G$57,Tabulka2[[#This Row],[Data]]>$G$58),2,IF(OR(Tabulka2[[#This Row],[Data]]<$G$51,Tabulka2[[#This Row],[Data]]>$G$52),1,0)))","v":""},{"$f":"IF(Tabulka2[[#This Row],[OL]]=\"\",\"\",IF(Tabulka2[[#This Row],[OL]]>0,A1107,\"\"))","v":""},null,null,null,null,null,null,null,null,null,null,null,null,null,null,null,"",null,""]
[null,null,{"$f":"IF(Tabulka2[[#This Row],[Data]]=\"\",\"\",IF(OR(Tabulka2[[#This Row],[Data]]<$G$57,Tabulka2[[#This Row],[Data]]>$G$58),2,IF(OR(Tabulka2[[#This Row],[Data]]<$G$51,Tabulka2[[#This Row],[Data]]>$G$52),1,0)))","v":""},{"$f":"IF(Tabulka2[[#This Row],[OL]]=\"\",\"\",IF(Tabulka2[[#This Row],[OL]]>0,A1108,\"\"))","v":""},null,null,null,null,null,null,null,null,null,null,null,null,null,null,null,"",null,""]
[null,null,{"$f":"IF(Tabulka2[[#This Row],[Data]]=\"\",\"\",IF(OR(Tabulka2[[#This Row],[Data]]<$G$57,Tabulka2[[#This Row],[Data]]>$G$58),2,IF(OR(Tabulka2[[#This Row],[Data]]<$G$51,Tabulka2[[#This Row],[Data]]>$G$52),1,0)))","v":""},{"$f":"IF(Tabulka2[[#This Row],[OL]]=\"\",\"\",IF(Tabulka2[[#This Row],[OL]]>0,A1109,\"\"))","v":""},null,null,null,null,null,null,null,null,null,null,null,null,null,null,null,"",null,""]
[null,null,{"$f":"IF(Tabulka2[[#This Row],[Data]]=\"\",\"\",IF(OR(Tabulka2[[#This Row],[Data]]<$G$57,Tabulka2[[#This Row],[Data]]>$G$58),2,IF(OR(Tabulka2[[#This Row],[Data]]<$G$51,Tabulka2[[#This Row],[Data]]>$G$52),1,0)))","v":""},{"$f":"IF(Tabulka2[[#This Row],[OL]]=\"\",\"\",IF(Tabulka2[[#This Row],[OL]]>0,A1110,\"\"))","v":""},null,null,null,null,null,null,null,null,null,null,null,null,null,null,null,"",null,""]
[null,null,{"$f":"IF(Tabulka2[[#This Row],[Data]]=\"\",\"\",IF(OR(Tabulka2[[#This Row],[Data]]<$G$57,Tabulka2[[#This Row],[Data]]>$G$58),2,IF(OR(Tabulka2[[#This Row],[Data]]<$G$51,Tabulka2[[#This Row],[Data]]>$G$52),1,0)))","v":""},{"$f":"IF(Tabulka2[[#This Row],[OL]]=\"\",\"\",IF(Tabulka2[[#This Row],[OL]]>0,A1111,\"\"))","v":""},null,null,null,null,null,null,null,null,null,null,null,null,null,null,null,"",null,""]
[null,null,{"$f":"IF(Tabulka2[[#This Row],[Data]]=\"\",\"\",IF(OR(Tabulka2[[#This Row],[Data]]<$G$57,Tabulka2[[#This Row],[Data]]>$G$58),2,IF(OR(Tabulka2[[#This Row],[Data]]<$G$51,Tabulka2[[#This Row],[Data]]>$G$52),1,0)))","v":""},{"$f":"IF(Tabulka2[[#This Row],[OL]]=\"\",\"\",IF(Tabulka2[[#This Row],[OL]]>0,A1112,\"\"))","v":""},null,null,null,null,null,null,null,null,null,null,null,null,null,null,null,"",null,""]
[null,null,{"$f":"IF(Tabulka2[[#This Row],[Data]]=\"\",\"\",IF(OR(Tabulka2[[#This Row],[Data]]<$G$57,Tabulka2[[#This Row],[Data]]>$G$58),2,IF(OR(Tabulka2[[#This Row],[Data]]<$G$51,Tabulka2[[#This Row],[Data]]>$G$52),1,0)))","v":""},{"$f":"IF(Tabulka2[[#This Row],[OL]]=\"\",\"\",IF(Tabulka2[[#This Row],[OL]]>0,A1113,\"\"))","v":""},null,null,null,null,null,null,null,null,null,null,null,null,null,null,null,"",null,""]
[null,null,{"$f":"IF(Tabulka2[[#This Row],[Data]]=\"\",\"\",IF(OR(Tabulka2[[#This Row],[Data]]<$G$57,Tabulka2[[#This Row],[Data]]>$G$58),2,IF(OR(Tabulka2[[#This Row],[Data]]<$G$51,Tabulka2[[#This Row],[Data]]>$G$52),1,0)))","v":""},{"$f":"IF(Tabulka2[[#This Row],[OL]]=\"\",\"\",IF(Tabulka2[[#This Row],[OL]]>0,A1114,\"\"))","v":""},null,null,null,null,null,null,null,null,null,null,null,null,null,null,null,"",null,""]
[null,null,{"$f":"IF(Tabulka2[[#This Row],[Data]]=\"\",\"\",IF(OR(Tabulka2[[#This Row],[Data]]<$G$57,Tabulka2[[#This Row],[Data]]>$G$58),2,IF(OR(Tabulka2[[#This Row],[Data]]<$G$51,Tabulka2[[#This Row],[Data]]>$G$52),1,0)))","v":""},{"$f":"IF(Tabulka2[[#This Row],[OL]]=\"\",\"\",IF(Tabulka2[[#This Row],[OL]]>0,A1115,\"\"))","v":""},null,null,null,null,null,null,null,null,null,null,null,null,null,null,null,"",null,""]
[null,null,{"$f":"IF(Tabulka2[[#This Row],[Data]]=\"\",\"\",IF(OR(Tabulka2[[#This Row],[Data]]<$G$57,Tabulka2[[#This Row],[Data]]>$G$58),2,IF(OR(Tabulka2[[#This Row],[Data]]<$G$51,Tabulka2[[#This Row],[Data]]>$G$52),1,0)))","v":""},{"$f":"IF(Tabulka2[[#This Row],[OL]]=\"\",\"\",IF(Tabulka2[[#This Row],[OL]]>0,A1116,\"\"))","v":""},null,null,null,null,null,null,null,null,null,null,null,null,null,null,null,"",null,""]
[null,null,{"$f":"IF(Tabulka2[[#This Row],[Data]]=\"\",\"\",IF(OR(Tabulka2[[#This Row],[Data]]<$G$57,Tabulka2[[#This Row],[Data]]>$G$58),2,IF(OR(Tabulka2[[#This Row],[Data]]<$G$51,Tabulka2[[#This Row],[Data]]>$G$52),1,0)))","v":""},{"$f":"IF(Tabulka2[[#This Row],[OL]]=\"\",\"\",IF(Tabulka2[[#This Row],[OL]]>0,A1117,\"\"))","v":""},null,null,null,null,null,null,null,null,null,null,null,null,null,null,null,"",null,""]
[null,null,{"$f":"IF(Tabulka2[[#This Row],[Data]]=\"\",\"\",IF(OR(Tabulka2[[#This Row],[Data]]<$G$57,Tabulka2[[#This Row],[Data]]>$G$58),2,IF(OR(Tabulka2[[#This Row],[Data]]<$G$51,Tabulka2[[#This Row],[Data]]>$G$52),1,0)))","v":""},{"$f":"IF(Tabulka2[[#This Row],[OL]]=\"\",\"\",IF(Tabulka2[[#This Row],[OL]]>0,A1118,\"\"))","v":""},null,null,null,null,null,null,null,null,null,null,null,null,null,null,null,"",null,""]
[null,null,{"$f":"IF(Tabulka2[[#This Row],[Data]]=\"\",\"\",IF(OR(Tabulka2[[#This Row],[Data]]<$G$57,Tabulka2[[#This Row],[Data]]>$G$58),2,IF(OR(Tabulka2[[#This Row],[Data]]<$G$51,Tabulka2[[#This Row],[Data]]>$G$52),1,0)))","v":""},{"$f":"IF(Tabulka2[[#This Row],[OL]]=\"\",\"\",IF(Tabulka2[[#This Row],[OL]]>0,A1119,\"\"))","v":""},null,null,null,null,null,null,null,null,null,null,null,null,null,null,null,"",null,""]
[null,null,{"$f":"IF(Tabulka2[[#This Row],[Data]]=\"\",\"\",IF(OR(Tabulka2[[#This Row],[Data]]<$G$57,Tabulka2[[#This Row],[Data]]>$G$58),2,IF(OR(Tabulka2[[#This Row],[Data]]<$G$51,Tabulka2[[#This Row],[Data]]>$G$52),1,0)))","v":""},{"$f":"IF(Tabulka2[[#This Row],[OL]]=\"\",\"\",IF(Tabulka2[[#This Row],[OL]]>0,A1120,\"\"))","v":""},null,null,null,null,null,null,null,null,null,null,null,null,null,null,null,"",null,""]
[null,null,{"$f":"IF(Tabulka2[[#This Row],[Data]]=\"\",\"\",IF(OR(Tabulka2[[#This Row],[Data]]<$G$57,Tabulka2[[#This Row],[Data]]>$G$58),2,IF(OR(Tabulka2[[#This Row],[Data]]<$G$51,Tabulka2[[#This Row],[Data]]>$G$52),1,0)))","v":""},{"$f":"IF(Tabulka2[[#This Row],[OL]]=\"\",\"\",IF(Tabulka2[[#This Row],[OL]]>0,A1121,\"\"))","v":""},null,null,null,null,null,null,null,null,null,null,null,null,null,null,null,"",null,""]
[null,null,{"$f":"IF(Tabulka2[[#This Row],[Data]]=\"\",\"\",IF(OR(Tabulka2[[#This Row],[Data]]<$G$57,Tabulka2[[#This Row],[Data]]>$G$58),2,IF(OR(Tabulka2[[#This Row],[Data]]<$G$51,Tabulka2[[#This Row],[Data]]>$G$52),1,0)))","v":""},{"$f":"IF(Tabulka2[[#This Row],[OL]]=\"\",\"\",IF(Tabulka2[[#This Row],[OL]]>0,A1122,\"\"))","v":""},null,null,null,null,null,null,null,null,null,null,null,null,null,null,null,"",null,""]
[null,null,{"$f":"IF(Tabulka2[[#This Row],[Data]]=\"\",\"\",IF(OR(Tabulka2[[#This Row],[Data]]<$G$57,Tabulka2[[#This Row],[Data]]>$G$58),2,IF(OR(Tabulka2[[#This Row],[Data]]<$G$51,Tabulka2[[#This Row],[Data]]>$G$52),1,0)))","v":""},{"$f":"IF(Tabulka2[[#This Row],[OL]]=\"\",\"\",IF(Tabulka2[[#This Row],[OL]]>0,A1123,\"\"))","v":""},null,null,null,null,null,null,null,null,null,null,null,null,null,null,null,"",null,""]
[null,null,{"$f":"IF(Tabulka2[[#This Row],[Data]]=\"\",\"\",IF(OR(Tabulka2[[#This Row],[Data]]<$G$57,Tabulka2[[#This Row],[Data]]>$G$58),2,IF(OR(Tabulka2[[#This Row],[Data]]<$G$51,Tabulka2[[#This Row],[Data]]>$G$52),1,0)))","v":""},{"$f":"IF(Tabulka2[[#This Row],[OL]]=\"\",\"\",IF(Tabulka2[[#This Row],[OL]]>0,A1124,\"\"))","v":""},null,null,null,null,null,null,null,null,null,null,null,null,null,null,null,"",null,""]
[null,null,{"$f":"IF(Tabulka2[[#This Row],[Data]]=\"\",\"\",IF(OR(Tabulka2[[#This Row],[Data]]<$G$57,Tabulka2[[#This Row],[Data]]>$G$58),2,IF(OR(Tabulka2[[#This Row],[Data]]<$G$51,Tabulka2[[#This Row],[Data]]>$G$52),1,0)))","v":""},{"$f":"IF(Tabulka2[[#This Row],[OL]]=\"\",\"\",IF(Tabulka2[[#This Row],[OL]]>0,A1125,\"\"))","v":""},null,null,null,null,null,null,null,null,null,null,null,null,null,null,null,"",null,""]
[null,null,{"$f":"IF(Tabulka2[[#This Row],[Data]]=\"\",\"\",IF(OR(Tabulka2[[#This Row],[Data]]<$G$57,Tabulka2[[#This Row],[Data]]>$G$58),2,IF(OR(Tabulka2[[#This Row],[Data]]<$G$51,Tabulka2[[#This Row],[Data]]>$G$52),1,0)))","v":""},{"$f":"IF(Tabulka2[[#This Row],[OL]]=\"\",\"\",IF(Tabulka2[[#This Row],[OL]]>0,A1126,\"\"))","v":""},null,null,null,null,null,null,null,null,null,null,null,null,null,null,null,"",null,""]
[null,null,{"$f":"IF(Tabulka2[[#This Row],[Data]]=\"\",\"\",IF(OR(Tabulka2[[#This Row],[Data]]<$G$57,Tabulka2[[#This Row],[Data]]>$G$58),2,IF(OR(Tabulka2[[#This Row],[Data]]<$G$51,Tabulka2[[#This Row],[Data]]>$G$52),1,0)))","v":""},{"$f":"IF(Tabulka2[[#This Row],[OL]]=\"\",\"\",IF(Tabulka2[[#This Row],[OL]]>0,A1127,\"\"))","v":""},null,null,null,null,null,null,null,null,null,null,null,null,null,null,null,"",null,""]
[null,null,{"$f":"IF(Tabulka2[[#This Row],[Data]]=\"\",\"\",IF(OR(Tabulka2[[#This Row],[Data]]<$G$57,Tabulka2[[#This Row],[Data]]>$G$58),2,IF(OR(Tabulka2[[#This Row],[Data]]<$G$51,Tabulka2[[#This Row],[Data]]>$G$52),1,0)))","v":""},{"$f":"IF(Tabulka2[[#This Row],[OL]]=\"\",\"\",IF(Tabulka2[[#This Row],[OL]]>0,A1128,\"\"))","v":""},null,null,null,null,null,null,null,null,null,null,null,null,null,null,null,"",null,""]
[null,null,{"$f":"IF(Tabulka2[[#This Row],[Data]]=\"\",\"\",IF(OR(Tabulka2[[#This Row],[Data]]<$G$57,Tabulka2[[#This Row],[Data]]>$G$58),2,IF(OR(Tabulka2[[#This Row],[Data]]<$G$51,Tabulka2[[#This Row],[Data]]>$G$52),1,0)))","v":""},{"$f":"IF(Tabulka2[[#This Row],[OL]]=\"\",\"\",IF(Tabulka2[[#This Row],[OL]]>0,A1129,\"\"))","v":""},null,null,null,null,null,null,null,null,null,null,null,null,null,null,null,"",null,""]
[null,null,{"$f":"IF(Tabulka2[[#This Row],[Data]]=\"\",\"\",IF(OR(Tabulka2[[#This Row],[Data]]<$G$57,Tabulka2[[#This Row],[Data]]>$G$58),2,IF(OR(Tabulka2[[#This Row],[Data]]<$G$51,Tabulka2[[#This Row],[Data]]>$G$52),1,0)))","v":""},{"$f":"IF(Tabulka2[[#This Row],[OL]]=\"\",\"\",IF(Tabulka2[[#This Row],[OL]]>0,A1130,\"\"))","v":""},null,null,null,null,null,null,null,null,null,null,null,null,null,null,null,"",null,""]
[null,null,{"$f":"IF(Tabulka2[[#This Row],[Data]]=\"\",\"\",IF(OR(Tabulka2[[#This Row],[Data]]<$G$57,Tabulka2[[#This Row],[Data]]>$G$58),2,IF(OR(Tabulka2[[#This Row],[Data]]<$G$51,Tabulka2[[#This Row],[Data]]>$G$52),1,0)))","v":""},{"$f":"IF(Tabulka2[[#This Row],[OL]]=\"\",\"\",IF(Tabulka2[[#This Row],[OL]]>0,A1131,\"\"))","v":""},null,null,null,null,null,null,null,null,null,null,null,null,null,null,null,"",null,""]
[null,null,{"$f":"IF(Tabulka2[[#This Row],[Data]]=\"\",\"\",IF(OR(Tabulka2[[#This Row],[Data]]<$G$57,Tabulka2[[#This Row],[Data]]>$G$58),2,IF(OR(Tabulka2[[#This Row],[Data]]<$G$51,Tabulka2[[#This Row],[Data]]>$G$52),1,0)))","v":""},{"$f":"IF(Tabulka2[[#This Row],[OL]]=\"\",\"\",IF(Tabulka2[[#This Row],[OL]]>0,A1132,\"\"))","v":""},null,null,null,null,null,null,null,null,null,null,null,null,null,null,null,"",null,""]
[null,null,{"$f":"IF(Tabulka2[[#This Row],[Data]]=\"\",\"\",IF(OR(Tabulka2[[#This Row],[Data]]<$G$57,Tabulka2[[#This Row],[Data]]>$G$58),2,IF(OR(Tabulka2[[#This Row],[Data]]<$G$51,Tabulka2[[#This Row],[Data]]>$G$52),1,0)))","v":""},{"$f":"IF(Tabulka2[[#This Row],[OL]]=\"\",\"\",IF(Tabulka2[[#This Row],[OL]]>0,A1133,\"\"))","v":""},null,null,null,null,null,null,null,null,null,null,null,null,null,null,null,"",null,""]
[null,null,{"$f":"IF(Tabulka2[[#This Row],[Data]]=\"\",\"\",IF(OR(Tabulka2[[#This Row],[Data]]<$G$57,Tabulka2[[#This Row],[Data]]>$G$58),2,IF(OR(Tabulka2[[#This Row],[Data]]<$G$51,Tabulka2[[#This Row],[Data]]>$G$52),1,0)))","v":""},{"$f":"IF(Tabulka2[[#This Row],[OL]]=\"\",\"\",IF(Tabulka2[[#This Row],[OL]]>0,A1134,\"\"))","v":""},null,null,null,null,null,null,null,null,null,null,null,null,null,null,null,"",null,""]
[null,null,{"$f":"IF(Tabulka2[[#This Row],[Data]]=\"\",\"\",IF(OR(Tabulka2[[#This Row],[Data]]<$G$57,Tabulka2[[#This Row],[Data]]>$G$58),2,IF(OR(Tabulka2[[#This Row],[Data]]<$G$51,Tabulka2[[#This Row],[Data]]>$G$52),1,0)))","v":""},{"$f":"IF(Tabulka2[[#This Row],[OL]]=\"\",\"\",IF(Tabulka2[[#This Row],[OL]]>0,A1135,\"\"))","v":""},null,null,null,null,null,null,null,null,null,null,null,null,null,null,null,"",null,""]
[null,null,{"$f":"IF(Tabulka2[[#This Row],[Data]]=\"\",\"\",IF(OR(Tabulka2[[#This Row],[Data]]<$G$57,Tabulka2[[#This Row],[Data]]>$G$58),2,IF(OR(Tabulka2[[#This Row],[Data]]<$G$51,Tabulka2[[#This Row],[Data]]>$G$52),1,0)))","v":""},{"$f":"IF(Tabulka2[[#This Row],[OL]]=\"\",\"\",IF(Tabulka2[[#This Row],[OL]]>0,A1136,\"\"))","v":""},null,null,null,null,null,null,null,null,null,null,null,null,null,null,null,"",null,""]
[null,null,{"$f":"IF(Tabulka2[[#This Row],[Data]]=\"\",\"\",IF(OR(Tabulka2[[#This Row],[Data]]<$G$57,Tabulka2[[#This Row],[Data]]>$G$58),2,IF(OR(Tabulka2[[#This Row],[Data]]<$G$51,Tabulka2[[#This Row],[Data]]>$G$52),1,0)))","v":""},{"$f":"IF(Tabulka2[[#This Row],[OL]]=\"\",\"\",IF(Tabulka2[[#This Row],[OL]]>0,A1137,\"\"))","v":""},null,null,null,null,null,null,null,null,null,null,null,null,null,null,null,"",null,""]
[null,null,{"$f":"IF(Tabulka2[[#This Row],[Data]]=\"\",\"\",IF(OR(Tabulka2[[#This Row],[Data]]<$G$57,Tabulka2[[#This Row],[Data]]>$G$58),2,IF(OR(Tabulka2[[#This Row],[Data]]<$G$51,Tabulka2[[#This Row],[Data]]>$G$52),1,0)))","v":""},{"$f":"IF(Tabulka2[[#This Row],[OL]]=\"\",\"\",IF(Tabulka2[[#This Row],[OL]]>0,A1138,\"\"))","v":""},null,null,null,null,null,null,null,null,null,null,null,null,null,null,null,"",null,""]
[null,null,{"$f":"IF(Tabulka2[[#This Row],[Data]]=\"\",\"\",IF(OR(Tabulka2[[#This Row],[Data]]<$G$57,Tabulka2[[#This Row],[Data]]>$G$58),2,IF(OR(Tabulka2[[#This Row],[Data]]<$G$51,Tabulka2[[#This Row],[Data]]>$G$52),1,0)))","v":""},{"$f":"IF(Tabulka2[[#This Row],[OL]]=\"\",\"\",IF(Tabulka2[[#This Row],[OL]]>0,A1139,\"\"))","v":""},null,null,null,null,null,null,null,null,null,null,null,null,null,null,null,"",null,""]
[null,null,{"$f":"IF(Tabulka2[[#This Row],[Data]]=\"\",\"\",IF(OR(Tabulka2[[#This Row],[Data]]<$G$57,Tabulka2[[#This Row],[Data]]>$G$58),2,IF(OR(Tabulka2[[#This Row],[Data]]<$G$51,Tabulka2[[#This Row],[Data]]>$G$52),1,0)))","v":""},{"$f":"IF(Tabulka2[[#This Row],[OL]]=\"\",\"\",IF(Tabulka2[[#This Row],[OL]]>0,A1140,\"\"))","v":""},null,null,null,null,null,null,null,null,null,null,null,null,null,null,null,"",null,""]
[null,null,{"$f":"IF(Tabulka2[[#This Row],[Data]]=\"\",\"\",IF(OR(Tabulka2[[#This Row],[Data]]<$G$57,Tabulka2[[#This Row],[Data]]>$G$58),2,IF(OR(Tabulka2[[#This Row],[Data]]<$G$51,Tabulka2[[#This Row],[Data]]>$G$52),1,0)))","v":""},{"$f":"IF(Tabulka2[[#This Row],[OL]]=\"\",\"\",IF(Tabulka2[[#This Row],[OL]]>0,A1141,\"\"))","v":""},null,null,null,null,null,null,null,null,null,null,null,null,null,null,null,"",null,""]
[null,null,{"$f":"IF(Tabulka2[[#This Row],[Data]]=\"\",\"\",IF(OR(Tabulka2[[#This Row],[Data]]<$G$57,Tabulka2[[#This Row],[Data]]>$G$58),2,IF(OR(Tabulka2[[#This Row],[Data]]<$G$51,Tabulka2[[#This Row],[Data]]>$G$52),1,0)))","v":""},{"$f":"IF(Tabulka2[[#This Row],[OL]]=\"\",\"\",IF(Tabulka2[[#This Row],[OL]]>0,A1142,\"\"))","v":""},null,null,null,null,null,null,null,null,null,null,null,null,null,null,null,"",null,""]
[null,null,{"$f":"IF(Tabulka2[[#This Row],[Data]]=\"\",\"\",IF(OR(Tabulka2[[#This Row],[Data]]<$G$57,Tabulka2[[#This Row],[Data]]>$G$58),2,IF(OR(Tabulka2[[#This Row],[Data]]<$G$51,Tabulka2[[#This Row],[Data]]>$G$52),1,0)))","v":""},{"$f":"IF(Tabulka2[[#This Row],[OL]]=\"\",\"\",IF(Tabulka2[[#This Row],[OL]]>0,A1143,\"\"))","v":""},null,null,null,null,null,null,null,null,null,null,null,null,null,null,null,"",null,""]
[null,null,{"$f":"IF(Tabulka2[[#This Row],[Data]]=\"\",\"\",IF(OR(Tabulka2[[#This Row],[Data]]<$G$57,Tabulka2[[#This Row],[Data]]>$G$58),2,IF(OR(Tabulka2[[#This Row],[Data]]<$G$51,Tabulka2[[#This Row],[Data]]>$G$52),1,0)))","v":""},{"$f":"IF(Tabulka2[[#This Row],[OL]]=\"\",\"\",IF(Tabulka2[[#This Row],[OL]]>0,A1144,\"\"))","v":""},null,null,null,null,null,null,null,null,null,null,null,null,null,null,null,"",null,""]
[null,null,{"$f":"IF(Tabulka2[[#This Row],[Data]]=\"\",\"\",IF(OR(Tabulka2[[#This Row],[Data]]<$G$57,Tabulka2[[#This Row],[Data]]>$G$58),2,IF(OR(Tabulka2[[#This Row],[Data]]<$G$51,Tabulka2[[#This Row],[Data]]>$G$52),1,0)))","v":""},{"$f":"IF(Tabulka2[[#This Row],[OL]]=\"\",\"\",IF(Tabulka2[[#This Row],[OL]]>0,A1145,\"\"))","v":""},null,null,null,null,null,null,null,null,null,null,null,null,null,null,null,"",null,""]
[null,null,{"$f":"IF(Tabulka2[[#This Row],[Data]]=\"\",\"\",IF(OR(Tabulka2[[#This Row],[Data]]<$G$57,Tabulka2[[#This Row],[Data]]>$G$58),2,IF(OR(Tabulka2[[#This Row],[Data]]<$G$51,Tabulka2[[#This Row],[Data]]>$G$52),1,0)))","v":""},{"$f":"IF(Tabulka2[[#This Row],[OL]]=\"\",\"\",IF(Tabulka2[[#This Row],[OL]]>0,A1146,\"\"))","v":""},null,null,null,null,null,null,null,null,null,null,null,null,null,null,null,"",null,""]
[null,null,{"$f":"IF(Tabulka2[[#This Row],[Data]]=\"\",\"\",IF(OR(Tabulka2[[#This Row],[Data]]<$G$57,Tabulka2[[#This Row],[Data]]>$G$58),2,IF(OR(Tabulka2[[#This Row],[Data]]<$G$51,Tabulka2[[#This Row],[Data]]>$G$52),1,0)))","v":""},{"$f":"IF(Tabulka2[[#This Row],[OL]]=\"\",\"\",IF(Tabulka2[[#This Row],[OL]]>0,A1147,\"\"))","v":""},null,null,null,null,null,null,null,null,null,null,null,null,null,null,null,"",null,""]
[null,null,{"$f":"IF(Tabulka2[[#This Row],[Data]]=\"\",\"\",IF(OR(Tabulka2[[#This Row],[Data]]<$G$57,Tabulka2[[#This Row],[Data]]>$G$58),2,IF(OR(Tabulka2[[#This Row],[Data]]<$G$51,Tabulka2[[#This Row],[Data]]>$G$52),1,0)))","v":""},{"$f":"IF(Tabulka2[[#This Row],[OL]]=\"\",\"\",IF(Tabulka2[[#This Row],[OL]]>0,A1148,\"\"))","v":""},null,null,null,null,null,null,null,null,null,null,null,null,null,null,null,"",null,""]
[null,null,{"$f":"IF(Tabulka2[[#This Row],[Data]]=\"\",\"\",IF(OR(Tabulka2[[#This Row],[Data]]<$G$57,Tabulka2[[#This Row],[Data]]>$G$58),2,IF(OR(Tabulka2[[#This Row],[Data]]<$G$51,Tabulka2[[#This Row],[Data]]>$G$52),1,0)))","v":""},{"$f":"IF(Tabulka2[[#This Row],[OL]]=\"\",\"\",IF(Tabulka2[[#This Row],[OL]]>0,A1149,\"\"))","v":""},null,null,null,null,null,null,null,null,null,null,null,null,null,null,null,"",null,""]
[null,null,{"$f":"IF(Tabulka2[[#This Row],[Data]]=\"\",\"\",IF(OR(Tabulka2[[#This Row],[Data]]<$G$57,Tabulka2[[#This Row],[Data]]>$G$58),2,IF(OR(Tabulka2[[#This Row],[Data]]<$G$51,Tabulka2[[#This Row],[Data]]>$G$52),1,0)))","v":""},{"$f":"IF(Tabulka2[[#This Row],[OL]]=\"\",\"\",IF(Tabulka2[[#This Row],[OL]]>0,A1150,\"\"))","v":""},null,null,null,null,null,null,null,null,null,null,null,null,null,null,null,"",null,""]
[null,null,{"$f":"IF(Tabulka2[[#This Row],[Data]]=\"\",\"\",IF(OR(Tabulka2[[#This Row],[Data]]<$G$57,Tabulka2[[#This Row],[Data]]>$G$58),2,IF(OR(Tabulka2[[#This Row],[Data]]<$G$51,Tabulka2[[#This Row],[Data]]>$G$52),1,0)))","v":""},{"$f":"IF(Tabulka2[[#This Row],[OL]]=\"\",\"\",IF(Tabulka2[[#This Row],[OL]]>0,A1151,\"\"))","v":""},null,null,null,null,null,null,null,null,null,null,null,null,null,null,null,"",null,""]
[null,null,{"$f":"IF(Tabulka2[[#This Row],[Data]]=\"\",\"\",IF(OR(Tabulka2[[#This Row],[Data]]<$G$57,Tabulka2[[#This Row],[Data]]>$G$58),2,IF(OR(Tabulka2[[#This Row],[Data]]<$G$51,Tabulka2[[#This Row],[Data]]>$G$52),1,0)))","v":""},{"$f":"IF(Tabulka2[[#This Row],[OL]]=\"\",\"\",IF(Tabulka2[[#This Row],[OL]]>0,A1152,\"\"))","v":""},null,null,null,null,null,null,null,null,null,null,null,null,null,null,null,"",null,""]
[null,null,{"$f":"IF(Tabulka2[[#This Row],[Data]]=\"\",\"\",IF(OR(Tabulka2[[#This Row],[Data]]<$G$57,Tabulka2[[#This Row],[Data]]>$G$58),2,IF(OR(Tabulka2[[#This Row],[Data]]<$G$51,Tabulka2[[#This Row],[Data]]>$G$52),1,0)))","v":""},{"$f":"IF(Tabulka2[[#This Row],[OL]]=\"\",\"\",IF(Tabulka2[[#This Row],[OL]]>0,A1153,\"\"))","v":""},null,null,null,null,null,null,null,null,null,null,null,null,null,null,null,"",null,""]
[null,null,{"$f":"IF(Tabulka2[[#This Row],[Data]]=\"\",\"\",IF(OR(Tabulka2[[#This Row],[Data]]<$G$57,Tabulka2[[#This Row],[Data]]>$G$58),2,IF(OR(Tabulka2[[#This Row],[Data]]<$G$51,Tabulka2[[#This Row],[Data]]>$G$52),1,0)))","v":""},{"$f":"IF(Tabulka2[[#This Row],[OL]]=\"\",\"\",IF(Tabulka2[[#This Row],[OL]]>0,A1154,\"\"))","v":""},null,null,null,null,null,null,null,null,null,null,null,null,null,null,null,"",null,""]
[null,null,{"$f":"IF(Tabulka2[[#This Row],[Data]]=\"\",\"\",IF(OR(Tabulka2[[#This Row],[Data]]<$G$57,Tabulka2[[#This Row],[Data]]>$G$58),2,IF(OR(Tabulka2[[#This Row],[Data]]<$G$51,Tabulka2[[#This Row],[Data]]>$G$52),1,0)))","v":""},{"$f":"IF(Tabulka2[[#This Row],[OL]]=\"\",\"\",IF(Tabulka2[[#This Row],[OL]]>0,A1155,\"\"))","v":""},null,null,null,null,null,null,null,null,null,null,null,null,null,null,null,"",null,""]
[null,null,{"$f":"IF(Tabulka2[[#This Row],[Data]]=\"\",\"\",IF(OR(Tabulka2[[#This Row],[Data]]<$G$57,Tabulka2[[#This Row],[Data]]>$G$58),2,IF(OR(Tabulka2[[#This Row],[Data]]<$G$51,Tabulka2[[#This Row],[Data]]>$G$52),1,0)))","v":""},{"$f":"IF(Tabulka2[[#This Row],[OL]]=\"\",\"\",IF(Tabulka2[[#This Row],[OL]]>0,A1156,\"\"))","v":""},null,null,null,null,null,null,null,null,null,null,null,null,null,null,null,"",null,""]
[null,null,{"$f":"IF(Tabulka2[[#This Row],[Data]]=\"\",\"\",IF(OR(Tabulka2[[#This Row],[Data]]<$G$57,Tabulka2[[#This Row],[Data]]>$G$58),2,IF(OR(Tabulka2[[#This Row],[Data]]<$G$51,Tabulka2[[#This Row],[Data]]>$G$52),1,0)))","v":""},{"$f":"IF(Tabulka2[[#This Row],[OL]]=\"\",\"\",IF(Tabulka2[[#This Row],[OL]]>0,A1157,\"\"))","v":""},null,null,null,null,null,null,null,null,null,null,null,null,null,null,null,"",null,""]
[null,null,{"$f":"IF(Tabulka2[[#This Row],[Data]]=\"\",\"\",IF(OR(Tabulka2[[#This Row],[Data]]<$G$57,Tabulka2[[#This Row],[Data]]>$G$58),2,IF(OR(Tabulka2[[#This Row],[Data]]<$G$51,Tabulka2[[#This Row],[Data]]>$G$52),1,0)))","v":""},{"$f":"IF(Tabulka2[[#This Row],[OL]]=\"\",\"\",IF(Tabulka2[[#This Row],[OL]]>0,A1158,\"\"))","v":""},null,null,null,null,null,null,null,null,null,null,null,null,null,null,null,"",null,""]
[null,null,{"$f":"IF(Tabulka2[[#This Row],[Data]]=\"\",\"\",IF(OR(Tabulka2[[#This Row],[Data]]<$G$57,Tabulka2[[#This Row],[Data]]>$G$58),2,IF(OR(Tabulka2[[#This Row],[Data]]<$G$51,Tabulka2[[#This Row],[Data]]>$G$52),1,0)))","v":""},{"$f":"IF(Tabulka2[[#This Row],[OL]]=\"\",\"\",IF(Tabulka2[[#This Row],[OL]]>0,A1159,\"\"))","v":""},null,null,null,null,null,null,null,null,null,null,null,null,null,null,null,"",null,""]
[null,null,{"$f":"IF(Tabulka2[[#This Row],[Data]]=\"\",\"\",IF(OR(Tabulka2[[#This Row],[Data]]<$G$57,Tabulka2[[#This Row],[Data]]>$G$58),2,IF(OR(Tabulka2[[#This Row],[Data]]<$G$51,Tabulka2[[#This Row],[Data]]>$G$52),1,0)))","v":""},{"$f":"IF(Tabulka2[[#This Row],[OL]]=\"\",\"\",IF(Tabulka2[[#This Row],[OL]]>0,A1160,\"\"))","v":""},null,null,null,null,null,null,null,null,null,null,null,null,null,null,null,"",null,""]
[null,null,{"$f":"IF(Tabulka2[[#This Row],[Data]]=\"\",\"\",IF(OR(Tabulka2[[#This Row],[Data]]<$G$57,Tabulka2[[#This Row],[Data]]>$G$58),2,IF(OR(Tabulka2[[#This Row],[Data]]<$G$51,Tabulka2[[#This Row],[Data]]>$G$52),1,0)))","v":""},{"$f":"IF(Tabulka2[[#This Row],[OL]]=\"\",\"\",IF(Tabulka2[[#This Row],[OL]]>0,A1161,\"\"))","v":""},null,null,null,null,null,null,null,null,null,null,null,null,null,null,null,"",null,""]
[null,null,{"$f":"IF(Tabulka2[[#This Row],[Data]]=\"\",\"\",IF(OR(Tabulka2[[#This Row],[Data]]<$G$57,Tabulka2[[#This Row],[Data]]>$G$58),2,IF(OR(Tabulka2[[#This Row],[Data]]<$G$51,Tabulka2[[#This Row],[Data]]>$G$52),1,0)))","v":""},{"$f":"IF(Tabulka2[[#This Row],[OL]]=\"\",\"\",IF(Tabulka2[[#This Row],[OL]]>0,A1162,\"\"))","v":""},null,null,null,null,null,null,null,null,null,null,null,null,null,null,null,"",null,""]
[null,null,{"$f":"IF(Tabulka2[[#This Row],[Data]]=\"\",\"\",IF(OR(Tabulka2[[#This Row],[Data]]<$G$57,Tabulka2[[#This Row],[Data]]>$G$58),2,IF(OR(Tabulka2[[#This Row],[Data]]<$G$51,Tabulka2[[#This Row],[Data]]>$G$52),1,0)))","v":""},{"$f":"IF(Tabulka2[[#This Row],[OL]]=\"\",\"\",IF(Tabulka2[[#This Row],[OL]]>0,A1163,\"\"))","v":""},null,null,null,null,null,null,null,null,null,null,null,null,null,null,null,"",null,""]
[null,null,{"$f":"IF(Tabulka2[[#This Row],[Data]]=\"\",\"\",IF(OR(Tabulka2[[#This Row],[Data]]<$G$57,Tabulka2[[#This Row],[Data]]>$G$58),2,IF(OR(Tabulka2[[#This Row],[Data]]<$G$51,Tabulka2[[#This Row],[Data]]>$G$52),1,0)))","v":""},{"$f":"IF(Tabulka2[[#This Row],[OL]]=\"\",\"\",IF(Tabulka2[[#This Row],[OL]]>0,A1164,\"\"))","v":""},null,null,null,null,null,null,null,null,null,null,null,null,null,null,null,"",null,""]
[null,null,{"$f":"IF(Tabulka2[[#This Row],[Data]]=\"\",\"\",IF(OR(Tabulka2[[#This Row],[Data]]<$G$57,Tabulka2[[#This Row],[Data]]>$G$58),2,IF(OR(Tabulka2[[#This Row],[Data]]<$G$51,Tabulka2[[#This Row],[Data]]>$G$52),1,0)))","v":""},{"$f":"IF(Tabulka2[[#This Row],[OL]]=\"\",\"\",IF(Tabulka2[[#This Row],[OL]]>0,A1165,\"\"))","v":""},null,null,null,null,null,null,null,null,null,null,null,null,null,null,null,"",null,""]
[null,null,{"$f":"IF(Tabulka2[[#This Row],[Data]]=\"\",\"\",IF(OR(Tabulka2[[#This Row],[Data]]<$G$57,Tabulka2[[#This Row],[Data]]>$G$58),2,IF(OR(Tabulka2[[#This Row],[Data]]<$G$51,Tabulka2[[#This Row],[Data]]>$G$52),1,0)))","v":""},{"$f":"IF(Tabulka2[[#This Row],[OL]]=\"\",\"\",IF(Tabulka2[[#This Row],[OL]]>0,A1166,\"\"))","v":""},null,null,null,null,null,null,null,null,null,null,null,null,null,null,null,"",null,""]
[null,null,{"$f":"IF(Tabulka2[[#This Row],[Data]]=\"\",\"\",IF(OR(Tabulka2[[#This Row],[Data]]<$G$57,Tabulka2[[#This Row],[Data]]>$G$58),2,IF(OR(Tabulka2[[#This Row],[Data]]<$G$51,Tabulka2[[#This Row],[Data]]>$G$52),1,0)))","v":""},{"$f":"IF(Tabulka2[[#This Row],[OL]]=\"\",\"\",IF(Tabulka2[[#This Row],[OL]]>0,A1167,\"\"))","v":""},null,null,null,null,null,null,null,null,null,null,null,null,null,null,null,"",null,""]
[null,null,{"$f":"IF(Tabulka2[[#This Row],[Data]]=\"\",\"\",IF(OR(Tabulka2[[#This Row],[Data]]<$G$57,Tabulka2[[#This Row],[Data]]>$G$58),2,IF(OR(Tabulka2[[#This Row],[Data]]<$G$51,Tabulka2[[#This Row],[Data]]>$G$52),1,0)))","v":""},{"$f":"IF(Tabulka2[[#This Row],[OL]]=\"\",\"\",IF(Tabulka2[[#This Row],[OL]]>0,A1168,\"\"))","v":""},null,null,null,null,null,null,null,null,null,null,null,null,null,null,null,"",null,""]
[null,null,{"$f":"IF(Tabulka2[[#This Row],[Data]]=\"\",\"\",IF(OR(Tabulka2[[#This Row],[Data]]<$G$57,Tabulka2[[#This Row],[Data]]>$G$58),2,IF(OR(Tabulka2[[#This Row],[Data]]<$G$51,Tabulka2[[#This Row],[Data]]>$G$52),1,0)))","v":""},{"$f":"IF(Tabulka2[[#This Row],[OL]]=\"\",\"\",IF(Tabulka2[[#This Row],[OL]]>0,A1169,\"\"))","v":""},null,null,null,null,null,null,null,null,null,null,null,null,null,null,null,"",null,""]
[null,null,{"$f":"IF(Tabulka2[[#This Row],[Data]]=\"\",\"\",IF(OR(Tabulka2[[#This Row],[Data]]<$G$57,Tabulka2[[#This Row],[Data]]>$G$58),2,IF(OR(Tabulka2[[#This Row],[Data]]<$G$51,Tabulka2[[#This Row],[Data]]>$G$52),1,0)))","v":""},{"$f":"IF(Tabulka2[[#This Row],[OL]]=\"\",\"\",IF(Tabulka2[[#This Row],[OL]]>0,A1170,\"\"))","v":""},null,null,null,null,null,null,null,null,null,null,null,null,null,null,null,"",null,""]
[null,null,{"$f":"IF(Tabulka2[[#This Row],[Data]]=\"\",\"\",IF(OR(Tabulka2[[#This Row],[Data]]<$G$57,Tabulka2[[#This Row],[Data]]>$G$58),2,IF(OR(Tabulka2[[#This Row],[Data]]<$G$51,Tabulka2[[#This Row],[Data]]>$G$52),1,0)))","v":""},{"$f":"IF(Tabulka2[[#This Row],[OL]]=\"\",\"\",IF(Tabulka2[[#This Row],[OL]]>0,A1171,\"\"))","v":""},null,null,null,null,null,null,null,null,null,null,null,null,null,null,null,"",null,""]
[null,null,{"$f":"IF(Tabulka2[[#This Row],[Data]]=\"\",\"\",IF(OR(Tabulka2[[#This Row],[Data]]<$G$57,Tabulka2[[#This Row],[Data]]>$G$58),2,IF(OR(Tabulka2[[#This Row],[Data]]<$G$51,Tabulka2[[#This Row],[Data]]>$G$52),1,0)))","v":""},{"$f":"IF(Tabulka2[[#This Row],[OL]]=\"\",\"\",IF(Tabulka2[[#This Row],[OL]]>0,A1172,\"\"))","v":""},null,null,null,null,null,null,null,null,null,null,null,null,null,null,null,"",null,""]
[null,null,{"$f":"IF(Tabulka2[[#This Row],[Data]]=\"\",\"\",IF(OR(Tabulka2[[#This Row],[Data]]<$G$57,Tabulka2[[#This Row],[Data]]>$G$58),2,IF(OR(Tabulka2[[#This Row],[Data]]<$G$51,Tabulka2[[#This Row],[Data]]>$G$52),1,0)))","v":""},{"$f":"IF(Tabulka2[[#This Row],[OL]]=\"\",\"\",IF(Tabulka2[[#This Row],[OL]]>0,A1173,\"\"))","v":""},null,null,null,null,null,null,null,null,null,null,null,null,null,null,null,"",null,""]
[null,null,{"$f":"IF(Tabulka2[[#This Row],[Data]]=\"\",\"\",IF(OR(Tabulka2[[#This Row],[Data]]<$G$57,Tabulka2[[#This Row],[Data]]>$G$58),2,IF(OR(Tabulka2[[#This Row],[Data]]<$G$51,Tabulka2[[#This Row],[Data]]>$G$52),1,0)))","v":""},{"$f":"IF(Tabulka2[[#This Row],[OL]]=\"\",\"\",IF(Tabulka2[[#This Row],[OL]]>0,A1174,\"\"))","v":""},null,null,null,null,null,null,null,null,null,null,null,null,null,null,null,"",null,""]
[null,null,{"$f":"IF(Tabulka2[[#This Row],[Data]]=\"\",\"\",IF(OR(Tabulka2[[#This Row],[Data]]<$G$57,Tabulka2[[#This Row],[Data]]>$G$58),2,IF(OR(Tabulka2[[#This Row],[Data]]<$G$51,Tabulka2[[#This Row],[Data]]>$G$52),1,0)))","v":""},{"$f":"IF(Tabulka2[[#This Row],[OL]]=\"\",\"\",IF(Tabulka2[[#This Row],[OL]]>0,A1175,\"\"))","v":""},null,null,null,null,null,null,null,null,null,null,null,null,null,null,null,"",null,""]
[null,null,{"$f":"IF(Tabulka2[[#This Row],[Data]]=\"\",\"\",IF(OR(Tabulka2[[#This Row],[Data]]<$G$57,Tabulka2[[#This Row],[Data]]>$G$58),2,IF(OR(Tabulka2[[#This Row],[Data]]<$G$51,Tabulka2[[#This Row],[Data]]>$G$52),1,0)))","v":""},{"$f":"IF(Tabulka2[[#This Row],[OL]]=\"\",\"\",IF(Tabulka2[[#This Row],[OL]]>0,A1176,\"\"))","v":""},null,null,null,null,null,null,null,null,null,null,null,null,null,null,null,"",null,""]
[null,null,{"$f":"IF(Tabulka2[[#This Row],[Data]]=\"\",\"\",IF(OR(Tabulka2[[#This Row],[Data]]<$G$57,Tabulka2[[#This Row],[Data]]>$G$58),2,IF(OR(Tabulka2[[#This Row],[Data]]<$G$51,Tabulka2[[#This Row],[Data]]>$G$52),1,0)))","v":""},{"$f":"IF(Tabulka2[[#This Row],[OL]]=\"\",\"\",IF(Tabulka2[[#This Row],[OL]]>0,A1177,\"\"))","v":""},null,null,null,null,null,null,null,null,null,null,null,null,null,null,null,"",null,""]
[null,null,{"$f":"IF(Tabulka2[[#This Row],[Data]]=\"\",\"\",IF(OR(Tabulka2[[#This Row],[Data]]<$G$57,Tabulka2[[#This Row],[Data]]>$G$58),2,IF(OR(Tabulka2[[#This Row],[Data]]<$G$51,Tabulka2[[#This Row],[Data]]>$G$52),1,0)))","v":""},{"$f":"IF(Tabulka2[[#This Row],[OL]]=\"\",\"\",IF(Tabulka2[[#This Row],[OL]]>0,A1178,\"\"))","v":""},null,null,null,null,null,null,null,null,null,null,null,null,null,null,null,"",null,""]
[null,null,{"$f":"IF(Tabulka2[[#This Row],[Data]]=\"\",\"\",IF(OR(Tabulka2[[#This Row],[Data]]<$G$57,Tabulka2[[#This Row],[Data]]>$G$58),2,IF(OR(Tabulka2[[#This Row],[Data]]<$G$51,Tabulka2[[#This Row],[Data]]>$G$52),1,0)))","v":""},{"$f":"IF(Tabulka2[[#This Row],[OL]]=\"\",\"\",IF(Tabulka2[[#This Row],[OL]]>0,A1179,\"\"))","v":""},null,null,null,null,null,null,null,null,null,null,null,null,null,null,null,"",null,""]
[null,null,{"$f":"IF(Tabulka2[[#This Row],[Data]]=\"\",\"\",IF(OR(Tabulka2[[#This Row],[Data]]<$G$57,Tabulka2[[#This Row],[Data]]>$G$58),2,IF(OR(Tabulka2[[#This Row],[Data]]<$G$51,Tabulka2[[#This Row],[Data]]>$G$52),1,0)))","v":""},{"$f":"IF(Tabulka2[[#This Row],[OL]]=\"\",\"\",IF(Tabulka2[[#This Row],[OL]]>0,A1180,\"\"))","v":""},null,null,null,null,null,null,null,null,null,null,null,null,null,null,null,"",null,""]
[null,null,{"$f":"IF(Tabulka2[[#This Row],[Data]]=\"\",\"\",IF(OR(Tabulka2[[#This Row],[Data]]<$G$57,Tabulka2[[#This Row],[Data]]>$G$58),2,IF(OR(Tabulka2[[#This Row],[Data]]<$G$51,Tabulka2[[#This Row],[Data]]>$G$52),1,0)))","v":""},{"$f":"IF(Tabulka2[[#This Row],[OL]]=\"\",\"\",IF(Tabulka2[[#This Row],[OL]]>0,A1181,\"\"))","v":""},null,null,null,null,null,null,null,null,null,null,null,null,null,null,null,"",null,""]
[null,null,{"$f":"IF(Tabulka2[[#This Row],[Data]]=\"\",\"\",IF(OR(Tabulka2[[#This Row],[Data]]<$G$57,Tabulka2[[#This Row],[Data]]>$G$58),2,IF(OR(Tabulka2[[#This Row],[Data]]<$G$51,Tabulka2[[#This Row],[Data]]>$G$52),1,0)))","v":""},{"$f":"IF(Tabulka2[[#This Row],[OL]]=\"\",\"\",IF(Tabulka2[[#This Row],[OL]]>0,A1182,\"\"))","v":""},null,null,null,null,null,null,null,null,null,null,null,null,null,null,null,"",null,""]
[null,null,{"$f":"IF(Tabulka2[[#This Row],[Data]]=\"\",\"\",IF(OR(Tabulka2[[#This Row],[Data]]<$G$57,Tabulka2[[#This Row],[Data]]>$G$58),2,IF(OR(Tabulka2[[#This Row],[Data]]<$G$51,Tabulka2[[#This Row],[Data]]>$G$52),1,0)))","v":""},{"$f":"IF(Tabulka2[[#This Row],[OL]]=\"\",\"\",IF(Tabulka2[[#This Row],[OL]]>0,A1183,\"\"))","v":""},null,null,null,null,null,null,null,null,null,null,null,null,null,null,null,"",null,""]
[null,null,{"$f":"IF(Tabulka2[[#This Row],[Data]]=\"\",\"\",IF(OR(Tabulka2[[#This Row],[Data]]<$G$57,Tabulka2[[#This Row],[Data]]>$G$58),2,IF(OR(Tabulka2[[#This Row],[Data]]<$G$51,Tabulka2[[#This Row],[Data]]>$G$52),1,0)))","v":""},{"$f":"IF(Tabulka2[[#This Row],[OL]]=\"\",\"\",IF(Tabulka2[[#This Row],[OL]]>0,A1184,\"\"))","v":""},null,null,null,null,null,null,null,null,null,null,null,null,null,null,null,"",null,""]
[null,null,{"$f":"IF(Tabulka2[[#This Row],[Data]]=\"\",\"\",IF(OR(Tabulka2[[#This Row],[Data]]<$G$57,Tabulka2[[#This Row],[Data]]>$G$58),2,IF(OR(Tabulka2[[#This Row],[Data]]<$G$51,Tabulka2[[#This Row],[Data]]>$G$52),1,0)))","v":""},{"$f":"IF(Tabulka2[[#This Row],[OL]]=\"\",\"\",IF(Tabulka2[[#This Row],[OL]]>0,A1185,\"\"))","v":""},null,null,null,null,null,null,null,null,null,null,null,null,null,null,null,"",null,""]
[null,null,{"$f":"IF(Tabulka2[[#This Row],[Data]]=\"\",\"\",IF(OR(Tabulka2[[#This Row],[Data]]<$G$57,Tabulka2[[#This Row],[Data]]>$G$58),2,IF(OR(Tabulka2[[#This Row],[Data]]<$G$51,Tabulka2[[#This Row],[Data]]>$G$52),1,0)))","v":""},{"$f":"IF(Tabulka2[[#This Row],[OL]]=\"\",\"\",IF(Tabulka2[[#This Row],[OL]]>0,A1186,\"\"))","v":""},null,null,null,null,null,null,null,null,null,null,null,null,null,null,null,"",null,""]
[null,null,{"$f":"IF(Tabulka2[[#This Row],[Data]]=\"\",\"\",IF(OR(Tabulka2[[#This Row],[Data]]<$G$57,Tabulka2[[#This Row],[Data]]>$G$58),2,IF(OR(Tabulka2[[#This Row],[Data]]<$G$51,Tabulka2[[#This Row],[Data]]>$G$52),1,0)))","v":""},{"$f":"IF(Tabulka2[[#This Row],[OL]]=\"\",\"\",IF(Tabulka2[[#This Row],[OL]]>0,A1187,\"\"))","v":""},null,null,null,null,null,null,null,null,null,null,null,null,null,null,null,"",null,""]
[null,null,{"$f":"IF(Tabulka2[[#This Row],[Data]]=\"\",\"\",IF(OR(Tabulka2[[#This Row],[Data]]<$G$57,Tabulka2[[#This Row],[Data]]>$G$58),2,IF(OR(Tabulka2[[#This Row],[Data]]<$G$51,Tabulka2[[#This Row],[Data]]>$G$52),1,0)))","v":""},{"$f":"IF(Tabulka2[[#This Row],[OL]]=\"\",\"\",IF(Tabulka2[[#This Row],[OL]]>0,A1188,\"\"))","v":""},null,null,null,null,null,null,null,null,null,null,null,null,null,null,null,"",null,""]
[null,null,{"$f":"IF(Tabulka2[[#This Row],[Data]]=\"\",\"\",IF(OR(Tabulka2[[#This Row],[Data]]<$G$57,Tabulka2[[#This Row],[Data]]>$G$58),2,IF(OR(Tabulka2[[#This Row],[Data]]<$G$51,Tabulka2[[#This Row],[Data]]>$G$52),1,0)))","v":""},{"$f":"IF(Tabulka2[[#This Row],[OL]]=\"\",\"\",IF(Tabulka2[[#This Row],[OL]]>0,A1189,\"\"))","v":""},null,null,null,null,null,null,null,null,null,null,null,null,null,null,null,"",null,""]
[null,null,{"$f":"IF(Tabulka2[[#This Row],[Data]]=\"\",\"\",IF(OR(Tabulka2[[#This Row],[Data]]<$G$57,Tabulka2[[#This Row],[Data]]>$G$58),2,IF(OR(Tabulka2[[#This Row],[Data]]<$G$51,Tabulka2[[#This Row],[Data]]>$G$52),1,0)))","v":""},{"$f":"IF(Tabulka2[[#This Row],[OL]]=\"\",\"\",IF(Tabulka2[[#This Row],[OL]]>0,A1190,\"\"))","v":""},null,null,null,null,null,null,null,null,null,null,null,null,null,null,null,"",null,""]
[null,null,{"$f":"IF(Tabulka2[[#This Row],[Data]]=\"\",\"\",IF(OR(Tabulka2[[#This Row],[Data]]<$G$57,Tabulka2[[#This Row],[Data]]>$G$58),2,IF(OR(Tabulka2[[#This Row],[Data]]<$G$51,Tabulka2[[#This Row],[Data]]>$G$52),1,0)))","v":""},{"$f":"IF(Tabulka2[[#This Row],[OL]]=\"\",\"\",IF(Tabulka2[[#This Row],[OL]]>0,A1191,\"\"))","v":""},null,null,null,null,null,null,null,null,null,null,null,null,null,null,null,"",null,""]
[null,null,{"$f":"IF(Tabulka2[[#This Row],[Data]]=\"\",\"\",IF(OR(Tabulka2[[#This Row],[Data]]<$G$57,Tabulka2[[#This Row],[Data]]>$G$58),2,IF(OR(Tabulka2[[#This Row],[Data]]<$G$51,Tabulka2[[#This Row],[Data]]>$G$52),1,0)))","v":""},{"$f":"IF(Tabulka2[[#This Row],[OL]]=\"\",\"\",IF(Tabulka2[[#This Row],[OL]]>0,A1192,\"\"))","v":""},null,null,null,null,null,null,null,null,null,null,null,null,null,null,null,"",null,""]
[null,null,{"$f":"IF(Tabulka2[[#This Row],[Data]]=\"\",\"\",IF(OR(Tabulka2[[#This Row],[Data]]<$G$57,Tabulka2[[#This Row],[Data]]>$G$58),2,IF(OR(Tabulka2[[#This Row],[Data]]<$G$51,Tabulka2[[#This Row],[Data]]>$G$52),1,0)))","v":""},{"$f":"IF(Tabulka2[[#This Row],[OL]]=\"\",\"\",IF(Tabulka2[[#This Row],[OL]]>0,A1193,\"\"))","v":""},null,null,null,null,null,null,null,null,null,null,null,null,null,null,null,"",null,""]
[null,null,{"$f":"IF(Tabulka2[[#This Row],[Data]]=\"\",\"\",IF(OR(Tabulka2[[#This Row],[Data]]<$G$57,Tabulka2[[#This Row],[Data]]>$G$58),2,IF(OR(Tabulka2[[#This Row],[Data]]<$G$51,Tabulka2[[#This Row],[Data]]>$G$52),1,0)))","v":""},{"$f":"IF(Tabulka2[[#This Row],[OL]]=\"\",\"\",IF(Tabulka2[[#This Row],[OL]]>0,A1194,\"\"))","v":""},null,null,null,null,null,null,null,null,null,null,null,null,null,null,null,"",null,""]
[null,null,{"$f":"IF(Tabulka2[[#This Row],[Data]]=\"\",\"\",IF(OR(Tabulka2[[#This Row],[Data]]<$G$57,Tabulka2[[#This Row],[Data]]>$G$58),2,IF(OR(Tabulka2[[#This Row],[Data]]<$G$51,Tabulka2[[#This Row],[Data]]>$G$52),1,0)))","v":""},{"$f":"IF(Tabulka2[[#This Row],[OL]]=\"\",\"\",IF(Tabulka2[[#This Row],[OL]]>0,A1195,\"\"))","v":""},null,null,null,null,null,null,null,null,null,null,null,null,null,null,null,"",null,""]
[null,null,{"$f":"IF(Tabulka2[[#This Row],[Data]]=\"\",\"\",IF(OR(Tabulka2[[#This Row],[Data]]<$G$57,Tabulka2[[#This Row],[Data]]>$G$58),2,IF(OR(Tabulka2[[#This Row],[Data]]<$G$51,Tabulka2[[#This Row],[Data]]>$G$52),1,0)))","v":""},{"$f":"IF(Tabulka2[[#This Row],[OL]]=\"\",\"\",IF(Tabulka2[[#This Row],[OL]]>0,A1196,\"\"))","v":""},null,null,null,null,null,null,null,null,null,null,null,null,null,null,null,"",null,""]
[null,null,{"$f":"IF(Tabulka2[[#This Row],[Data]]=\"\",\"\",IF(OR(Tabulka2[[#This Row],[Data]]<$G$57,Tabulka2[[#This Row],[Data]]>$G$58),2,IF(OR(Tabulka2[[#This Row],[Data]]<$G$51,Tabulka2[[#This Row],[Data]]>$G$52),1,0)))","v":""},{"$f":"IF(Tabulka2[[#This Row],[OL]]=\"\",\"\",IF(Tabulka2[[#This Row],[OL]]>0,A1197,\"\"))","v":""},null,null,null,null,null,null,null,null,null,null,null,null,null,null,null,"",null,""]
[null,null,{"$f":"IF(Tabulka2[[#This Row],[Data]]=\"\",\"\",IF(OR(Tabulka2[[#This Row],[Data]]<$G$57,Tabulka2[[#This Row],[Data]]>$G$58),2,IF(OR(Tabulka2[[#This Row],[Data]]<$G$51,Tabulka2[[#This Row],[Data]]>$G$52),1,0)))","v":""},{"$f":"IF(Tabulka2[[#This Row],[OL]]=\"\",\"\",IF(Tabulka2[[#This Row],[OL]]>0,A1198,\"\"))","v":""},null,null,null,null,null,null,null,null,null,null,null,null,null,null,null,"",null,""]
[null,null,{"$f":"IF(Tabulka2[[#This Row],[Data]]=\"\",\"\",IF(OR(Tabulka2[[#This Row],[Data]]<$G$57,Tabulka2[[#This Row],[Data]]>$G$58),2,IF(OR(Tabulka2[[#This Row],[Data]]<$G$51,Tabulka2[[#This Row],[Data]]>$G$52),1,0)))","v":""},{"$f":"IF(Tabulka2[[#This Row],[OL]]=\"\",\"\",IF(Tabulka2[[#This Row],[OL]]>0,A1199,\"\"))","v":""},null,null,null,null,null,null,null,null,null,null,null,null,null,null,null,"",null,""]
[null,null,{"$f":"IF(Tabulka2[[#This Row],[Data]]=\"\",\"\",IF(OR(Tabulka2[[#This Row],[Data]]<$G$57,Tabulka2[[#This Row],[Data]]>$G$58),2,IF(OR(Tabulka2[[#This Row],[Data]]<$G$51,Tabulka2[[#This Row],[Data]]>$G$52),1,0)))","v":""},{"$f":"IF(Tabulka2[[#This Row],[OL]]=\"\",\"\",IF(Tabulka2[[#This Row],[OL]]>0,A1200,\"\"))","v":""},null,null,null,null,null,null,null,null,null,null,null,null,null,null,null,"",null,""]
[null,null,{"$f":"IF(Tabulka2[[#This Row],[Data]]=\"\",\"\",IF(OR(Tabulka2[[#This Row],[Data]]<$G$57,Tabulka2[[#This Row],[Data]]>$G$58),2,IF(OR(Tabulka2[[#This Row],[Data]]<$G$51,Tabulka2[[#This Row],[Data]]>$G$52),1,0)))","v":""},{"$f":"IF(Tabulka2[[#This Row],[OL]]=\"\",\"\",IF(Tabulka2[[#This Row],[OL]]>0,A1201,\"\"))","v":""},null,null,null,null,null,null,null,null,null,null,null,null,null,null,null,"",null,""]
[null,null,{"$f":"IF(Tabulka2[[#This Row],[Data]]=\"\",\"\",IF(OR(Tabulka2[[#This Row],[Data]]<$G$57,Tabulka2[[#This Row],[Data]]>$G$58),2,IF(OR(Tabulka2[[#This Row],[Data]]<$G$51,Tabulka2[[#This Row],[Data]]>$G$52),1,0)))","v":""},{"$f":"IF(Tabulka2[[#This Row],[OL]]=\"\",\"\",IF(Tabulka2[[#This Row],[OL]]>0,A1202,\"\"))","v":""},null,null,null,null,null,null,null,null,null,null,null,null,null,null,null,"",null,""]
[null,null,{"$f":"IF(Tabulka2[[#This Row],[Data]]=\"\",\"\",IF(OR(Tabulka2[[#This Row],[Data]]<$G$57,Tabulka2[[#This Row],[Data]]>$G$58),2,IF(OR(Tabulka2[[#This Row],[Data]]<$G$51,Tabulka2[[#This Row],[Data]]>$G$52),1,0)))","v":""},{"$f":"IF(Tabulka2[[#This Row],[OL]]=\"\",\"\",IF(Tabulka2[[#This Row],[OL]]>0,A1203,\"\"))","v":""},null,null,null,null,null,null,null,null,null,null,null,null,null,null,null,"",null,""]
[null,null,{"$f":"IF(Tabulka2[[#This Row],[Data]]=\"\",\"\",IF(OR(Tabulka2[[#This Row],[Data]]<$G$57,Tabulka2[[#This Row],[Data]]>$G$58),2,IF(OR(Tabulka2[[#This Row],[Data]]<$G$51,Tabulka2[[#This Row],[Data]]>$G$52),1,0)))","v":""},{"$f":"IF(Tabulka2[[#This Row],[OL]]=\"\",\"\",IF(Tabulka2[[#This Row],[OL]]>0,A1204,\"\"))","v":""},null,null,null,null,null,null,null,null,null,null,null,null,null,null,null,"",null,""]
[null,null,{"$f":"IF(Tabulka2[[#This Row],[Data]]=\"\",\"\",IF(OR(Tabulka2[[#This Row],[Data]]<$G$57,Tabulka2[[#This Row],[Data]]>$G$58),2,IF(OR(Tabulka2[[#This Row],[Data]]<$G$51,Tabulka2[[#This Row],[Data]]>$G$52),1,0)))","v":""},{"$f":"IF(Tabulka2[[#This Row],[OL]]=\"\",\"\",IF(Tabulka2[[#This Row],[OL]]>0,A1205,\"\"))","v":""},null,null,null,null,null,null,null,null,null,null,null,null,null,null,null,"",null,""]
[null,null,{"$f":"IF(Tabulka2[[#This Row],[Data]]=\"\",\"\",IF(OR(Tabulka2[[#This Row],[Data]]<$G$57,Tabulka2[[#This Row],[Data]]>$G$58),2,IF(OR(Tabulka2[[#This Row],[Data]]<$G$51,Tabulka2[[#This Row],[Data]]>$G$52),1,0)))","v":""},{"$f":"IF(Tabulka2[[#This Row],[OL]]=\"\",\"\",IF(Tabulka2[[#This Row],[OL]]>0,A1206,\"\"))","v":""},null,null,null,null,null,null,null,null,null,null,null,null,null,null,null,"",null,""]
[null,null,{"$f":"IF(Tabulka2[[#This Row],[Data]]=\"\",\"\",IF(OR(Tabulka2[[#This Row],[Data]]<$G$57,Tabulka2[[#This Row],[Data]]>$G$58),2,IF(OR(Tabulka2[[#This Row],[Data]]<$G$51,Tabulka2[[#This Row],[Data]]>$G$52),1,0)))","v":""},{"$f":"IF(Tabulka2[[#This Row],[OL]]=\"\",\"\",IF(Tabulka2[[#This Row],[OL]]>0,A1207,\"\"))","v":""},null,null,null,null,null,null,null,null,null,null,null,null,null,null,null,"",null,""]
[null,null,{"$f":"IF(Tabulka2[[#This Row],[Data]]=\"\",\"\",IF(OR(Tabulka2[[#This Row],[Data]]<$G$57,Tabulka2[[#This Row],[Data]]>$G$58),2,IF(OR(Tabulka2[[#This Row],[Data]]<$G$51,Tabulka2[[#This Row],[Data]]>$G$52),1,0)))","v":""},{"$f":"IF(Tabulka2[[#This Row],[OL]]=\"\",\"\",IF(Tabulka2[[#This Row],[OL]]>0,A1208,\"\"))","v":""},null,null,null,null,null,null,null,null,null,null,null,null,null,null,null,"",null,""]
[null,null,{"$f":"IF(Tabulka2[[#This Row],[Data]]=\"\",\"\",IF(OR(Tabulka2[[#This Row],[Data]]<$G$57,Tabulka2[[#This Row],[Data]]>$G$58),2,IF(OR(Tabulka2[[#This Row],[Data]]<$G$51,Tabulka2[[#This Row],[Data]]>$G$52),1,0)))","v":""},{"$f":"IF(Tabulka2[[#This Row],[OL]]=\"\",\"\",IF(Tabulka2[[#This Row],[OL]]>0,A1209,\"\"))","v":""},null,null,null,null,null,null,null,null,null,null,null,null,null,null,null,"",null,""]
[null,null,{"$f":"IF(Tabulka2[[#This Row],[Data]]=\"\",\"\",IF(OR(Tabulka2[[#This Row],[Data]]<$G$57,Tabulka2[[#This Row],[Data]]>$G$58),2,IF(OR(Tabulka2[[#This Row],[Data]]<$G$51,Tabulka2[[#This Row],[Data]]>$G$52),1,0)))","v":""},{"$f":"IF(Tabulka2[[#This Row],[OL]]=\"\",\"\",IF(Tabulka2[[#This Row],[OL]]>0,A1210,\"\"))","v":""},null,null,null,null,null,null,null,null,null,null,null,null,null,null,null,"",null,""]
[null,null,{"$f":"IF(Tabulka2[[#This Row],[Data]]=\"\",\"\",IF(OR(Tabulka2[[#This Row],[Data]]<$G$57,Tabulka2[[#This Row],[Data]]>$G$58),2,IF(OR(Tabulka2[[#This Row],[Data]]<$G$51,Tabulka2[[#This Row],[Data]]>$G$52),1,0)))","v":""},{"$f":"IF(Tabulka2[[#This Row],[OL]]=\"\",\"\",IF(Tabulka2[[#This Row],[OL]]>0,A1211,\"\"))","v":""},null,null,null,null,null,null,null,null,null,null,null,null,null,null,null,"",null,""]
[null,null,{"$f":"IF(Tabulka2[[#This Row],[Data]]=\"\",\"\",IF(OR(Tabulka2[[#This Row],[Data]]<$G$57,Tabulka2[[#This Row],[Data]]>$G$58),2,IF(OR(Tabulka2[[#This Row],[Data]]<$G$51,Tabulka2[[#This Row],[Data]]>$G$52),1,0)))","v":""},{"$f":"IF(Tabulka2[[#This Row],[OL]]=\"\",\"\",IF(Tabulka2[[#This Row],[OL]]>0,A1212,\"\"))","v":""},null,null,null,null,null,null,null,null,null,null,null,null,null,null,null,"",null,""]
[null,null,{"$f":"IF(Tabulka2[[#This Row],[Data]]=\"\",\"\",IF(OR(Tabulka2[[#This Row],[Data]]<$G$57,Tabulka2[[#This Row],[Data]]>$G$58),2,IF(OR(Tabulka2[[#This Row],[Data]]<$G$51,Tabulka2[[#This Row],[Data]]>$G$52),1,0)))","v":""},{"$f":"IF(Tabulka2[[#This Row],[OL]]=\"\",\"\",IF(Tabulka2[[#This Row],[OL]]>0,A1213,\"\"))","v":""},null,null,null,null,null,null,null,null,null,null,null,null,null,null,null,"",null,""]
[null,null,{"$f":"IF(Tabulka2[[#This Row],[Data]]=\"\",\"\",IF(OR(Tabulka2[[#This Row],[Data]]<$G$57,Tabulka2[[#This Row],[Data]]>$G$58),2,IF(OR(Tabulka2[[#This Row],[Data]]<$G$51,Tabulka2[[#This Row],[Data]]>$G$52),1,0)))","v":""},{"$f":"IF(Tabulka2[[#This Row],[OL]]=\"\",\"\",IF(Tabulka2[[#This Row],[OL]]>0,A1214,\"\"))","v":""},null,null,null,null,null,null,null,null,null,null,null,null,null,null,null,"",null,""]
[null,null,{"$f":"IF(Tabulka2[[#This Row],[Data]]=\"\",\"\",IF(OR(Tabulka2[[#This Row],[Data]]<$G$57,Tabulka2[[#This Row],[Data]]>$G$58),2,IF(OR(Tabulka2[[#This Row],[Data]]<$G$51,Tabulka2[[#This Row],[Data]]>$G$52),1,0)))","v":""},{"$f":"IF(Tabulka2[[#This Row],[OL]]=\"\",\"\",IF(Tabulka2[[#This Row],[OL]]>0,A1215,\"\"))","v":""},null,null,null,null,null,null,null,null,null,null,null,null,null,null,null,"",null,""]
[null,null,{"$f":"IF(Tabulka2[[#This Row],[Data]]=\"\",\"\",IF(OR(Tabulka2[[#This Row],[Data]]<$G$57,Tabulka2[[#This Row],[Data]]>$G$58),2,IF(OR(Tabulka2[[#This Row],[Data]]<$G$51,Tabulka2[[#This Row],[Data]]>$G$52),1,0)))","v":""},{"$f":"IF(Tabulka2[[#This Row],[OL]]=\"\",\"\",IF(Tabulka2[[#This Row],[OL]]>0,A1216,\"\"))","v":""},null,null,null,null,null,null,null,null,null,null,null,null,null,null,null,"",null,""]
[null,null,{"$f":"IF(Tabulka2[[#This Row],[Data]]=\"\",\"\",IF(OR(Tabulka2[[#This Row],[Data]]<$G$57,Tabulka2[[#This Row],[Data]]>$G$58),2,IF(OR(Tabulka2[[#This Row],[Data]]<$G$51,Tabulka2[[#This Row],[Data]]>$G$52),1,0)))","v":""},{"$f":"IF(Tabulka2[[#This Row],[OL]]=\"\",\"\",IF(Tabulka2[[#This Row],[OL]]>0,A1217,\"\"))","v":""},null,null,null,null,null,null,null,null,null,null,null,null,null,null,null,"",null,""]
[null,null,{"$f":"IF(Tabulka2[[#This Row],[Data]]=\"\",\"\",IF(OR(Tabulka2[[#This Row],[Data]]<$G$57,Tabulka2[[#This Row],[Data]]>$G$58),2,IF(OR(Tabulka2[[#This Row],[Data]]<$G$51,Tabulka2[[#This Row],[Data]]>$G$52),1,0)))","v":""},{"$f":"IF(Tabulka2[[#This Row],[OL]]=\"\",\"\",IF(Tabulka2[[#This Row],[OL]]>0,A1218,\"\"))","v":""},null,null,null,null,null,null,null,null,null,null,null,null,null,null,null,"",null,""]
[null,null,{"$f":"IF(Tabulka2[[#This Row],[Data]]=\"\",\"\",IF(OR(Tabulka2[[#This Row],[Data]]<$G$57,Tabulka2[[#This Row],[Data]]>$G$58),2,IF(OR(Tabulka2[[#This Row],[Data]]<$G$51,Tabulka2[[#This Row],[Data]]>$G$52),1,0)))","v":""},{"$f":"IF(Tabulka2[[#This Row],[OL]]=\"\",\"\",IF(Tabulka2[[#This Row],[OL]]>0,A1219,\"\"))","v":""},null,null,null,null,null,null,null,null,null,null,null,null,null,null,null,"",null,""]
[null,null,{"$f":"IF(Tabulka2[[#This Row],[Data]]=\"\",\"\",IF(OR(Tabulka2[[#This Row],[Data]]<$G$57,Tabulka2[[#This Row],[Data]]>$G$58),2,IF(OR(Tabulka2[[#This Row],[Data]]<$G$51,Tabulka2[[#This Row],[Data]]>$G$52),1,0)))","v":""},{"$f":"IF(Tabulka2[[#This Row],[OL]]=\"\",\"\",IF(Tabulka2[[#This Row],[OL]]>0,A1220,\"\"))","v":""},null,null,null,null,null,null,null,null,null,null,null,null,null,null,null,"",null,""]
[null,null,{"$f":"IF(Tabulka2[[#This Row],[Data]]=\"\",\"\",IF(OR(Tabulka2[[#This Row],[Data]]<$G$57,Tabulka2[[#This Row],[Data]]>$G$58),2,IF(OR(Tabulka2[[#This Row],[Data]]<$G$51,Tabulka2[[#This Row],[Data]]>$G$52),1,0)))","v":""},{"$f":"IF(Tabulka2[[#This Row],[OL]]=\"\",\"\",IF(Tabulka2[[#This Row],[OL]]>0,A1221,\"\"))","v":""},null,null,null,null,null,null,null,null,null,null,null,null,null,null,null,"",null,""]
[null,null,{"$f":"IF(Tabulka2[[#This Row],[Data]]=\"\",\"\",IF(OR(Tabulka2[[#This Row],[Data]]<$G$57,Tabulka2[[#This Row],[Data]]>$G$58),2,IF(OR(Tabulka2[[#This Row],[Data]]<$G$51,Tabulka2[[#This Row],[Data]]>$G$52),1,0)))","v":""},{"$f":"IF(Tabulka2[[#This Row],[OL]]=\"\",\"\",IF(Tabulka2[[#This Row],[OL]]>0,A1222,\"\"))","v":""},null,null,null,null,null,null,null,null,null,null,null,null,null,null,null,"",null,""]
[null,null,{"$f":"IF(Tabulka2[[#This Row],[Data]]=\"\",\"\",IF(OR(Tabulka2[[#This Row],[Data]]<$G$57,Tabulka2[[#This Row],[Data]]>$G$58),2,IF(OR(Tabulka2[[#This Row],[Data]]<$G$51,Tabulka2[[#This Row],[Data]]>$G$52),1,0)))","v":""},{"$f":"IF(Tabulka2[[#This Row],[OL]]=\"\",\"\",IF(Tabulka2[[#This Row],[OL]]>0,A1223,\"\"))","v":""},null,null,null,null,null,null,null,null,null,null,null,null,null,null,null,"",null,""]
[null,null,{"$f":"IF(Tabulka2[[#This Row],[Data]]=\"\",\"\",IF(OR(Tabulka2[[#This Row],[Data]]<$G$57,Tabulka2[[#This Row],[Data]]>$G$58),2,IF(OR(Tabulka2[[#This Row],[Data]]<$G$51,Tabulka2[[#This Row],[Data]]>$G$52),1,0)))","v":""},{"$f":"IF(Tabulka2[[#This Row],[OL]]=\"\",\"\",IF(Tabulka2[[#This Row],[OL]]>0,A1224,\"\"))","v":""},null,null,null,null,null,null,null,null,null,null,null,null,null,null,null,"",null,""]
[null,null,{"$f":"IF(Tabulka2[[#This Row],[Data]]=\"\",\"\",IF(OR(Tabulka2[[#This Row],[Data]]<$G$57,Tabulka2[[#This Row],[Data]]>$G$58),2,IF(OR(Tabulka2[[#This Row],[Data]]<$G$51,Tabulka2[[#This Row],[Data]]>$G$52),1,0)))","v":""},{"$f":"IF(Tabulka2[[#This Row],[OL]]=\"\",\"\",IF(Tabulka2[[#This Row],[OL]]>0,A1225,\"\"))","v":""},null,null,null,null,null,null,null,null,null,null,null,null,null,null,null,"",null,""]
[null,null,{"$f":"IF(Tabulka2[[#This Row],[Data]]=\"\",\"\",IF(OR(Tabulka2[[#This Row],[Data]]<$G$57,Tabulka2[[#This Row],[Data]]>$G$58),2,IF(OR(Tabulka2[[#This Row],[Data]]<$G$51,Tabulka2[[#This Row],[Data]]>$G$52),1,0)))","v":""},{"$f":"IF(Tabulka2[[#This Row],[OL]]=\"\",\"\",IF(Tabulka2[[#This Row],[OL]]>0,A1226,\"\"))","v":""},null,null,null,null,null,null,null,null,null,null,null,null,null,null,null,"",null,""]
[null,null,{"$f":"IF(Tabulka2[[#This Row],[Data]]=\"\",\"\",IF(OR(Tabulka2[[#This Row],[Data]]<$G$57,Tabulka2[[#This Row],[Data]]>$G$58),2,IF(OR(Tabulka2[[#This Row],[Data]]<$G$51,Tabulka2[[#This Row],[Data]]>$G$52),1,0)))","v":""},{"$f":"IF(Tabulka2[[#This Row],[OL]]=\"\",\"\",IF(Tabulka2[[#This Row],[OL]]>0,A1227,\"\"))","v":""},null,null,null,null,null,null,null,null,null,null,null,null,null,null,null,"",null,""]
[null,null,{"$f":"IF(Tabulka2[[#This Row],[Data]]=\"\",\"\",IF(OR(Tabulka2[[#This Row],[Data]]<$G$57,Tabulka2[[#This Row],[Data]]>$G$58),2,IF(OR(Tabulka2[[#This Row],[Data]]<$G$51,Tabulka2[[#This Row],[Data]]>$G$52),1,0)))","v":""},{"$f":"IF(Tabulka2[[#This Row],[OL]]=\"\",\"\",IF(Tabulka2[[#This Row],[OL]]>0,A1228,\"\"))","v":""},null,null,null,null,null,null,null,null,null,null,null,null,null,null,null,"",null,""]
[null,null,{"$f":"IF(Tabulka2[[#This Row],[Data]]=\"\",\"\",IF(OR(Tabulka2[[#This Row],[Data]]<$G$57,Tabulka2[[#This Row],[Data]]>$G$58),2,IF(OR(Tabulka2[[#This Row],[Data]]<$G$51,Tabulka2[[#This Row],[Data]]>$G$52),1,0)))","v":""},{"$f":"IF(Tabulka2[[#This Row],[OL]]=\"\",\"\",IF(Tabulka2[[#This Row],[OL]]>0,A1229,\"\"))","v":""},null,null,null,null,null,null,null,null,null,null,null,null,null,null,null,"",null,""]
[null,null,{"$f":"IF(Tabulka2[[#This Row],[Data]]=\"\",\"\",IF(OR(Tabulka2[[#This Row],[Data]]<$G$57,Tabulka2[[#This Row],[Data]]>$G$58),2,IF(OR(Tabulka2[[#This Row],[Data]]<$G$51,Tabulka2[[#This Row],[Data]]>$G$52),1,0)))","v":""},{"$f":"IF(Tabulka2[[#This Row],[OL]]=\"\",\"\",IF(Tabulka2[[#This Row],[OL]]>0,A1230,\"\"))","v":""},null,null,null,null,null,null,null,null,null,null,null,null,null,null,null,"",null,""]
[null,null,{"$f":"IF(Tabulka2[[#This Row],[Data]]=\"\",\"\",IF(OR(Tabulka2[[#This Row],[Data]]<$G$57,Tabulka2[[#This Row],[Data]]>$G$58),2,IF(OR(Tabulka2[[#This Row],[Data]]<$G$51,Tabulka2[[#This Row],[Data]]>$G$52),1,0)))","v":""},{"$f":"IF(Tabulka2[[#This Row],[OL]]=\"\",\"\",IF(Tabulka2[[#This Row],[OL]]>0,A1231,\"\"))","v":""},null,null,null,null,null,null,null,null,null,null,null,null,null,null,null,"",null,""]
[null,null,{"$f":"IF(Tabulka2[[#This Row],[Data]]=\"\",\"\",IF(OR(Tabulka2[[#This Row],[Data]]<$G$57,Tabulka2[[#This Row],[Data]]>$G$58),2,IF(OR(Tabulka2[[#This Row],[Data]]<$G$51,Tabulka2[[#This Row],[Data]]>$G$52),1,0)))","v":""},{"$f":"IF(Tabulka2[[#This Row],[OL]]=\"\",\"\",IF(Tabulka2[[#This Row],[OL]]>0,A1232,\"\"))","v":""},null,null,null,null,null,null,null,null,null,null,null,null,null,null,null,"",null,""]
[null,null,{"$f":"IF(Tabulka2[[#This Row],[Data]]=\"\",\"\",IF(OR(Tabulka2[[#This Row],[Data]]<$G$57,Tabulka2[[#This Row],[Data]]>$G$58),2,IF(OR(Tabulka2[[#This Row],[Data]]<$G$51,Tabulka2[[#This Row],[Data]]>$G$52),1,0)))","v":""},{"$f":"IF(Tabulka2[[#This Row],[OL]]=\"\",\"\",IF(Tabulka2[[#This Row],[OL]]>0,A1233,\"\"))","v":""},null,null,null,null,null,null,null,null,null,null,null,null,null,null,null,"",null,""]
[null,null,{"$f":"IF(Tabulka2[[#This Row],[Data]]=\"\",\"\",IF(OR(Tabulka2[[#This Row],[Data]]<$G$57,Tabulka2[[#This Row],[Data]]>$G$58),2,IF(OR(Tabulka2[[#This Row],[Data]]<$G$51,Tabulka2[[#This Row],[Data]]>$G$52),1,0)))","v":""},{"$f":"IF(Tabulka2[[#This Row],[OL]]=\"\",\"\",IF(Tabulka2[[#This Row],[OL]]>0,A1234,\"\"))","v":""},null,null,null,null,null,null,null,null,null,null,null,null,null,null,null,"",null,""]
[null,null,{"$f":"IF(Tabulka2[[#This Row],[Data]]=\"\",\"\",IF(OR(Tabulka2[[#This Row],[Data]]<$G$57,Tabulka2[[#This Row],[Data]]>$G$58),2,IF(OR(Tabulka2[[#This Row],[Data]]<$G$51,Tabulka2[[#This Row],[Data]]>$G$52),1,0)))","v":""},{"$f":"IF(Tabulka2[[#This Row],[OL]]=\"\",\"\",IF(Tabulka2[[#This Row],[OL]]>0,A1235,\"\"))","v":""},null,null,null,null,null,null,null,null,null,null,null,null,null,null,null,"",null,""]
[null,null,{"$f":"IF(Tabulka2[[#This Row],[Data]]=\"\",\"\",IF(OR(Tabulka2[[#This Row],[Data]]<$G$57,Tabulka2[[#This Row],[Data]]>$G$58),2,IF(OR(Tabulka2[[#This Row],[Data]]<$G$51,Tabulka2[[#This Row],[Data]]>$G$52),1,0)))","v":""},{"$f":"IF(Tabulka2[[#This Row],[OL]]=\"\",\"\",IF(Tabulka2[[#This Row],[OL]]>0,A1236,\"\"))","v":""},null,null,null,null,null,null,null,null,null,null,null,null,null,null,null,"",null,""]
[null,null,{"$f":"IF(Tabulka2[[#This Row],[Data]]=\"\",\"\",IF(OR(Tabulka2[[#This Row],[Data]]<$G$57,Tabulka2[[#This Row],[Data]]>$G$58),2,IF(OR(Tabulka2[[#This Row],[Data]]<$G$51,Tabulka2[[#This Row],[Data]]>$G$52),1,0)))","v":""},{"$f":"IF(Tabulka2[[#This Row],[OL]]=\"\",\"\",IF(Tabulka2[[#This Row],[OL]]>0,A1237,\"\"))","v":""},null,null,null,null,null,null,null,null,null,null,null,null,null,null,null,"",null,""]
[null,null,{"$f":"IF(Tabulka2[[#This Row],[Data]]=\"\",\"\",IF(OR(Tabulka2[[#This Row],[Data]]<$G$57,Tabulka2[[#This Row],[Data]]>$G$58),2,IF(OR(Tabulka2[[#This Row],[Data]]<$G$51,Tabulka2[[#This Row],[Data]]>$G$52),1,0)))","v":""},{"$f":"IF(Tabulka2[[#This Row],[OL]]=\"\",\"\",IF(Tabulka2[[#This Row],[OL]]>0,A1238,\"\"))","v":""},null,null,null,null,null,null,null,null,null,null,null,null,null,null,null,"",null,""]
[null,null,{"$f":"IF(Tabulka2[[#This Row],[Data]]=\"\",\"\",IF(OR(Tabulka2[[#This Row],[Data]]<$G$57,Tabulka2[[#This Row],[Data]]>$G$58),2,IF(OR(Tabulka2[[#This Row],[Data]]<$G$51,Tabulka2[[#This Row],[Data]]>$G$52),1,0)))","v":""},{"$f":"IF(Tabulka2[[#This Row],[OL]]=\"\",\"\",IF(Tabulka2[[#This Row],[OL]]>0,A1239,\"\"))","v":""},null,null,null,null,null,null,null,null,null,null,null,null,null,null,null,"",null,""]
[null,null,{"$f":"IF(Tabulka2[[#This Row],[Data]]=\"\",\"\",IF(OR(Tabulka2[[#This Row],[Data]]<$G$57,Tabulka2[[#This Row],[Data]]>$G$58),2,IF(OR(Tabulka2[[#This Row],[Data]]<$G$51,Tabulka2[[#This Row],[Data]]>$G$52),1,0)))","v":""},{"$f":"IF(Tabulka2[[#This Row],[OL]]=\"\",\"\",IF(Tabulka2[[#This Row],[OL]]>0,A1240,\"\"))","v":""},null,null,null,null,null,null,null,null,null,null,null,null,null,null,null,"",null,""]
[null,null,{"$f":"IF(Tabulka2[[#This Row],[Data]]=\"\",\"\",IF(OR(Tabulka2[[#This Row],[Data]]<$G$57,Tabulka2[[#This Row],[Data]]>$G$58),2,IF(OR(Tabulka2[[#This Row],[Data]]<$G$51,Tabulka2[[#This Row],[Data]]>$G$52),1,0)))","v":""},{"$f":"IF(Tabulka2[[#This Row],[OL]]=\"\",\"\",IF(Tabulka2[[#This Row],[OL]]>0,A1241,\"\"))","v":""},null,null,null,null,null,null,null,null,null,null,null,null,null,null,null,"",null,""]
[null,null,{"$f":"IF(Tabulka2[[#This Row],[Data]]=\"\",\"\",IF(OR(Tabulka2[[#This Row],[Data]]<$G$57,Tabulka2[[#This Row],[Data]]>$G$58),2,IF(OR(Tabulka2[[#This Row],[Data]]<$G$51,Tabulka2[[#This Row],[Data]]>$G$52),1,0)))","v":""},{"$f":"IF(Tabulka2[[#This Row],[OL]]=\"\",\"\",IF(Tabulka2[[#This Row],[OL]]>0,A1242,\"\"))","v":""},null,null,null,null,null,null,null,null,null,null,null,null,null,null,null,"",null,""]
[null,null,{"$f":"IF(Tabulka2[[#This Row],[Data]]=\"\",\"\",IF(OR(Tabulka2[[#This Row],[Data]]<$G$57,Tabulka2[[#This Row],[Data]]>$G$58),2,IF(OR(Tabulka2[[#This Row],[Data]]<$G$51,Tabulka2[[#This Row],[Data]]>$G$52),1,0)))","v":""},{"$f":"IF(Tabulka2[[#This Row],[OL]]=\"\",\"\",IF(Tabulka2[[#This Row],[OL]]>0,A1243,\"\"))","v":""},null,null,null,null,null,null,null,null,null,null,null,null,null,null,null,"",null,""]
[null,null,{"$f":"IF(Tabulka2[[#This Row],[Data]]=\"\",\"\",IF(OR(Tabulka2[[#This Row],[Data]]<$G$57,Tabulka2[[#This Row],[Data]]>$G$58),2,IF(OR(Tabulka2[[#This Row],[Data]]<$G$51,Tabulka2[[#This Row],[Data]]>$G$52),1,0)))","v":""},{"$f":"IF(Tabulka2[[#This Row],[OL]]=\"\",\"\",IF(Tabulka2[[#This Row],[OL]]>0,A1244,\"\"))","v":""},null,null,null,null,null,null,null,null,null,null,null,null,null,null,null,"",null,""]
[null,null,{"$f":"IF(Tabulka2[[#This Row],[Data]]=\"\",\"\",IF(OR(Tabulka2[[#This Row],[Data]]<$G$57,Tabulka2[[#This Row],[Data]]>$G$58),2,IF(OR(Tabulka2[[#This Row],[Data]]<$G$51,Tabulka2[[#This Row],[Data]]>$G$52),1,0)))","v":""},{"$f":"IF(Tabulka2[[#This Row],[OL]]=\"\",\"\",IF(Tabulka2[[#This Row],[OL]]>0,A1245,\"\"))","v":""},null,null,null,null,null,null,null,null,null,null,null,null,null,null,null,"",null,""]
[null,null,{"$f":"IF(Tabulka2[[#This Row],[Data]]=\"\",\"\",IF(OR(Tabulka2[[#This Row],[Data]]<$G$57,Tabulka2[[#This Row],[Data]]>$G$58),2,IF(OR(Tabulka2[[#This Row],[Data]]<$G$51,Tabulka2[[#This Row],[Data]]>$G$52),1,0)))","v":""},{"$f":"IF(Tabulka2[[#This Row],[OL]]=\"\",\"\",IF(Tabulka2[[#This Row],[OL]]>0,A1246,\"\"))","v":""},null,null,null,null,null,null,null,null,null,null,null,null,null,null,null,"",null,""]
[null,null,{"$f":"IF(Tabulka2[[#This Row],[Data]]=\"\",\"\",IF(OR(Tabulka2[[#This Row],[Data]]<$G$57,Tabulka2[[#This Row],[Data]]>$G$58),2,IF(OR(Tabulka2[[#This Row],[Data]]<$G$51,Tabulka2[[#This Row],[Data]]>$G$52),1,0)))","v":""},{"$f":"IF(Tabulka2[[#This Row],[OL]]=\"\",\"\",IF(Tabulka2[[#This Row],[OL]]>0,A1247,\"\"))","v":""},null,null,null,null,null,null,null,null,null,null,null,null,null,null,null,"",null,""]
[null,null,{"$f":"IF(Tabulka2[[#This Row],[Data]]=\"\",\"\",IF(OR(Tabulka2[[#This Row],[Data]]<$G$57,Tabulka2[[#This Row],[Data]]>$G$58),2,IF(OR(Tabulka2[[#This Row],[Data]]<$G$51,Tabulka2[[#This Row],[Data]]>$G$52),1,0)))","v":""},{"$f":"IF(Tabulka2[[#This Row],[OL]]=\"\",\"\",IF(Tabulka2[[#This Row],[OL]]>0,A1248,\"\"))","v":""},null,null,null,null,null,null,null,null,null,null,null,null,null,null,null,"",null,""]
[null,null,{"$f":"IF(Tabulka2[[#This Row],[Data]]=\"\",\"\",IF(OR(Tabulka2[[#This Row],[Data]]<$G$57,Tabulka2[[#This Row],[Data]]>$G$58),2,IF(OR(Tabulka2[[#This Row],[Data]]<$G$51,Tabulka2[[#This Row],[Data]]>$G$52),1,0)))","v":""},{"$f":"IF(Tabulka2[[#This Row],[OL]]=\"\",\"\",IF(Tabulka2[[#This Row],[OL]]>0,A1249,\"\"))","v":""},null,null,null,null,null,null,null,null,null,null,null,null,null,null,null,"",null,""]
[null,null,{"$f":"IF(Tabulka2[[#This Row],[Data]]=\"\",\"\",IF(OR(Tabulka2[[#This Row],[Data]]<$G$57,Tabulka2[[#This Row],[Data]]>$G$58),2,IF(OR(Tabulka2[[#This Row],[Data]]<$G$51,Tabulka2[[#This Row],[Data]]>$G$52),1,0)))","v":""},{"$f":"IF(Tabulka2[[#This Row],[OL]]=\"\",\"\",IF(Tabulka2[[#This Row],[OL]]>0,A1250,\"\"))","v":""},null,null,null,null,null,null,null,null,null,null,null,null,null,null,null,"",null,""]
[null,null,{"$f":"IF(Tabulka2[[#This Row],[Data]]=\"\",\"\",IF(OR(Tabulka2[[#This Row],[Data]]<$G$57,Tabulka2[[#This Row],[Data]]>$G$58),2,IF(OR(Tabulka2[[#This Row],[Data]]<$G$51,Tabulka2[[#This Row],[Data]]>$G$52),1,0)))","v":""},{"$f":"IF(Tabulka2[[#This Row],[OL]]=\"\",\"\",IF(Tabulka2[[#This Row],[OL]]>0,A1251,\"\"))","v":""},null,null,null,null,null,null,null,null,null,null,null,null,null,null,null,"",null,""]
[null,null,{"$f":"IF(Tabulka2[[#This Row],[Data]]=\"\",\"\",IF(OR(Tabulka2[[#This Row],[Data]]<$G$57,Tabulka2[[#This Row],[Data]]>$G$58),2,IF(OR(Tabulka2[[#This Row],[Data]]<$G$51,Tabulka2[[#This Row],[Data]]>$G$52),1,0)))","v":""},{"$f":"IF(Tabulka2[[#This Row],[OL]]=\"\",\"\",IF(Tabulka2[[#This Row],[OL]]>0,A1252,\"\"))","v":""},null,null,null,null,null,null,null,null,null,null,null,null,null,null,null,"",null,""]
[null,null,{"$f":"IF(Tabulka2[[#This Row],[Data]]=\"\",\"\",IF(OR(Tabulka2[[#This Row],[Data]]<$G$57,Tabulka2[[#This Row],[Data]]>$G$58),2,IF(OR(Tabulka2[[#This Row],[Data]]<$G$51,Tabulka2[[#This Row],[Data]]>$G$52),1,0)))","v":""},{"$f":"IF(Tabulka2[[#This Row],[OL]]=\"\",\"\",IF(Tabulka2[[#This Row],[OL]]>0,A1253,\"\"))","v":""},null,null,null,null,null,null,null,null,null,null,null,null,null,null,null,"",null,""]
[null,null,{"$f":"IF(Tabulka2[[#This Row],[Data]]=\"\",\"\",IF(OR(Tabulka2[[#This Row],[Data]]<$G$57,Tabulka2[[#This Row],[Data]]>$G$58),2,IF(OR(Tabulka2[[#This Row],[Data]]<$G$51,Tabulka2[[#This Row],[Data]]>$G$52),1,0)))","v":""},{"$f":"IF(Tabulka2[[#This Row],[OL]]=\"\",\"\",IF(Tabulka2[[#This Row],[OL]]>0,A1254,\"\"))","v":""},null,null,null,null,null,null,null,null,null,null,null,null,null,null,null,"",null,""]
[null,null,{"$f":"IF(Tabulka2[[#This Row],[Data]]=\"\",\"\",IF(OR(Tabulka2[[#This Row],[Data]]<$G$57,Tabulka2[[#This Row],[Data]]>$G$58),2,IF(OR(Tabulka2[[#This Row],[Data]]<$G$51,Tabulka2[[#This Row],[Data]]>$G$52),1,0)))","v":""},{"$f":"IF(Tabulka2[[#This Row],[OL]]=\"\",\"\",IF(Tabulka2[[#This Row],[OL]]>0,A1255,\"\"))","v":""},null,null,null,null,null,null,null,null,null,null,null,null,null,null,null,"",null,""]
[null,null,{"$f":"IF(Tabulka2[[#This Row],[Data]]=\"\",\"\",IF(OR(Tabulka2[[#This Row],[Data]]<$G$57,Tabulka2[[#This Row],[Data]]>$G$58),2,IF(OR(Tabulka2[[#This Row],[Data]]<$G$51,Tabulka2[[#This Row],[Data]]>$G$52),1,0)))","v":""},{"$f":"IF(Tabulka2[[#This Row],[OL]]=\"\",\"\",IF(Tabulka2[[#This Row],[OL]]>0,A1256,\"\"))","v":""},null,null,null,null,null,null,null,null,null,null,null,null,null,null,null,"",null,""]
[null,null,{"$f":"IF(Tabulka2[[#This Row],[Data]]=\"\",\"\",IF(OR(Tabulka2[[#This Row],[Data]]<$G$57,Tabulka2[[#This Row],[Data]]>$G$58),2,IF(OR(Tabulka2[[#This Row],[Data]]<$G$51,Tabulka2[[#This Row],[Data]]>$G$52),1,0)))","v":""},{"$f":"IF(Tabulka2[[#This Row],[OL]]=\"\",\"\",IF(Tabulka2[[#This Row],[OL]]>0,A1257,\"\"))","v":""},null,null,null,null,null,null,null,null,null,null,null,null,null,null,null,"",null,""]
[null,null,{"$f":"IF(Tabulka2[[#This Row],[Data]]=\"\",\"\",IF(OR(Tabulka2[[#This Row],[Data]]<$G$57,Tabulka2[[#This Row],[Data]]>$G$58),2,IF(OR(Tabulka2[[#This Row],[Data]]<$G$51,Tabulka2[[#This Row],[Data]]>$G$52),1,0)))","v":""},{"$f":"IF(Tabulka2[[#This Row],[OL]]=\"\",\"\",IF(Tabulka2[[#This Row],[OL]]>0,A1258,\"\"))","v":""},null,null,null,null,null,null,null,null,null,null,null,null,null,null,null,"",null,""]
[null,null,{"$f":"IF(Tabulka2[[#This Row],[Data]]=\"\",\"\",IF(OR(Tabulka2[[#This Row],[Data]]<$G$57,Tabulka2[[#This Row],[Data]]>$G$58),2,IF(OR(Tabulka2[[#This Row],[Data]]<$G$51,Tabulka2[[#This Row],[Data]]>$G$52),1,0)))","v":""},{"$f":"IF(Tabulka2[[#This Row],[OL]]=\"\",\"\",IF(Tabulka2[[#This Row],[OL]]>0,A1259,\"\"))","v":""},null,null,null,null,null,null,null,null,null,null,null,null,null,null,null,"",null,""]
[null,null,{"$f":"IF(Tabulka2[[#This Row],[Data]]=\"\",\"\",IF(OR(Tabulka2[[#This Row],[Data]]<$G$57,Tabulka2[[#This Row],[Data]]>$G$58),2,IF(OR(Tabulka2[[#This Row],[Data]]<$G$51,Tabulka2[[#This Row],[Data]]>$G$52),1,0)))","v":""},{"$f":"IF(Tabulka2[[#This Row],[OL]]=\"\",\"\",IF(Tabulka2[[#This Row],[OL]]>0,A1260,\"\"))","v":""},null,null,null,null,null,null,null,null,null,null,null,null,null,null,null,"",null,""]
[null,null,{"$f":"IF(Tabulka2[[#This Row],[Data]]=\"\",\"\",IF(OR(Tabulka2[[#This Row],[Data]]<$G$57,Tabulka2[[#This Row],[Data]]>$G$58),2,IF(OR(Tabulka2[[#This Row],[Data]]<$G$51,Tabulka2[[#This Row],[Data]]>$G$52),1,0)))","v":""},{"$f":"IF(Tabulka2[[#This Row],[OL]]=\"\",\"\",IF(Tabulka2[[#This Row],[OL]]>0,A1261,\"\"))","v":""},null,null,null,null,null,null,null,null,null,null,null,null,null,null,null,"",null,""]
[null,null,{"$f":"IF(Tabulka2[[#This Row],[Data]]=\"\",\"\",IF(OR(Tabulka2[[#This Row],[Data]]<$G$57,Tabulka2[[#This Row],[Data]]>$G$58),2,IF(OR(Tabulka2[[#This Row],[Data]]<$G$51,Tabulka2[[#This Row],[Data]]>$G$52),1,0)))","v":""},{"$f":"IF(Tabulka2[[#This Row],[OL]]=\"\",\"\",IF(Tabulka2[[#This Row],[OL]]>0,A1262,\"\"))","v":""},null,null,null,null,null,null,null,null,null,null,null,null,null,null,null,"",null,""]
[null,null,{"$f":"IF(Tabulka2[[#This Row],[Data]]=\"\",\"\",IF(OR(Tabulka2[[#This Row],[Data]]<$G$57,Tabulka2[[#This Row],[Data]]>$G$58),2,IF(OR(Tabulka2[[#This Row],[Data]]<$G$51,Tabulka2[[#This Row],[Data]]>$G$52),1,0)))","v":""},{"$f":"IF(Tabulka2[[#This Row],[OL]]=\"\",\"\",IF(Tabulka2[[#This Row],[OL]]>0,A1263,\"\"))","v":""},null,null,null,null,null,null,null,null,null,null,null,null,null,null,null,"",null,""]
[null,null,{"$f":"IF(Tabulka2[[#This Row],[Data]]=\"\",\"\",IF(OR(Tabulka2[[#This Row],[Data]]<$G$57,Tabulka2[[#This Row],[Data]]>$G$58),2,IF(OR(Tabulka2[[#This Row],[Data]]<$G$51,Tabulka2[[#This Row],[Data]]>$G$52),1,0)))","v":""},{"$f":"IF(Tabulka2[[#This Row],[OL]]=\"\",\"\",IF(Tabulka2[[#This Row],[OL]]>0,A1264,\"\"))","v":""},null,null,null,null,null,null,null,null,null,null,null,null,null,null,null,"",null,""]
[null,null,{"$f":"IF(Tabulka2[[#This Row],[Data]]=\"\",\"\",IF(OR(Tabulka2[[#This Row],[Data]]<$G$57,Tabulka2[[#This Row],[Data]]>$G$58),2,IF(OR(Tabulka2[[#This Row],[Data]]<$G$51,Tabulka2[[#This Row],[Data]]>$G$52),1,0)))","v":""},{"$f":"IF(Tabulka2[[#This Row],[OL]]=\"\",\"\",IF(Tabulka2[[#This Row],[OL]]>0,A1265,\"\"))","v":""},null,null,null,null,null,null,null,null,null,null,null,null,null,null,null,"",null,""]
[null,null,{"$f":"IF(Tabulka2[[#This Row],[Data]]=\"\",\"\",IF(OR(Tabulka2[[#This Row],[Data]]<$G$57,Tabulka2[[#This Row],[Data]]>$G$58),2,IF(OR(Tabulka2[[#This Row],[Data]]<$G$51,Tabulka2[[#This Row],[Data]]>$G$52),1,0)))","v":""},{"$f":"IF(Tabulka2[[#This Row],[OL]]=\"\",\"\",IF(Tabulka2[[#This Row],[OL]]>0,A1266,\"\"))","v":""},null,null,null,null,null,null,null,null,null,null,null,null,null,null,null,"",null,""]
[null,null,{"$f":"IF(Tabulka2[[#This Row],[Data]]=\"\",\"\",IF(OR(Tabulka2[[#This Row],[Data]]<$G$57,Tabulka2[[#This Row],[Data]]>$G$58),2,IF(OR(Tabulka2[[#This Row],[Data]]<$G$51,Tabulka2[[#This Row],[Data]]>$G$52),1,0)))","v":""},{"$f":"IF(Tabulka2[[#This Row],[OL]]=\"\",\"\",IF(Tabulka2[[#This Row],[OL]]>0,A1267,\"\"))","v":""},null,null,null,null,null,null,null,null,null,null,null,null,null,null,null,"",null,""]
[null,null,{"$f":"IF(Tabulka2[[#This Row],[Data]]=\"\",\"\",IF(OR(Tabulka2[[#This Row],[Data]]<$G$57,Tabulka2[[#This Row],[Data]]>$G$58),2,IF(OR(Tabulka2[[#This Row],[Data]]<$G$51,Tabulka2[[#This Row],[Data]]>$G$52),1,0)))","v":""},{"$f":"IF(Tabulka2[[#This Row],[OL]]=\"\",\"\",IF(Tabulka2[[#This Row],[OL]]>0,A1268,\"\"))","v":""},null,null,null,null,null,null,null,null,null,null,null,null,null,null,null,"",null,""]
[null,null,{"$f":"IF(Tabulka2[[#This Row],[Data]]=\"\",\"\",IF(OR(Tabulka2[[#This Row],[Data]]<$G$57,Tabulka2[[#This Row],[Data]]>$G$58),2,IF(OR(Tabulka2[[#This Row],[Data]]<$G$51,Tabulka2[[#This Row],[Data]]>$G$52),1,0)))","v":""},{"$f":"IF(Tabulka2[[#This Row],[OL]]=\"\",\"\",IF(Tabulka2[[#This Row],[OL]]>0,A1269,\"\"))","v":""},null,null,null,null,null,null,null,null,null,null,null,null,null,null,null,"",null,""]
[null,null,{"$f":"IF(Tabulka2[[#This Row],[Data]]=\"\",\"\",IF(OR(Tabulka2[[#This Row],[Data]]<$G$57,Tabulka2[[#This Row],[Data]]>$G$58),2,IF(OR(Tabulka2[[#This Row],[Data]]<$G$51,Tabulka2[[#This Row],[Data]]>$G$52),1,0)))","v":""},{"$f":"IF(Tabulka2[[#This Row],[OL]]=\"\",\"\",IF(Tabulka2[[#This Row],[OL]]>0,A1270,\"\"))","v":""},null,null,null,null,null,null,null,null,null,null,null,null,null,null,null,"",null,""]
[null,null,{"$f":"IF(Tabulka2[[#This Row],[Data]]=\"\",\"\",IF(OR(Tabulka2[[#This Row],[Data]]<$G$57,Tabulka2[[#This Row],[Data]]>$G$58),2,IF(OR(Tabulka2[[#This Row],[Data]]<$G$51,Tabulka2[[#This Row],[Data]]>$G$52),1,0)))","v":""},{"$f":"IF(Tabulka2[[#This Row],[OL]]=\"\",\"\",IF(Tabulka2[[#This Row],[OL]]>0,A1271,\"\"))","v":""},null,null,null,null,null,null,null,null,null,null,null,null,null,null,null,"",null,""]
[null,null,{"$f":"IF(Tabulka2[[#This Row],[Data]]=\"\",\"\",IF(OR(Tabulka2[[#This Row],[Data]]<$G$57,Tabulka2[[#This Row],[Data]]>$G$58),2,IF(OR(Tabulka2[[#This Row],[Data]]<$G$51,Tabulka2[[#This Row],[Data]]>$G$52),1,0)))","v":""},{"$f":"IF(Tabulka2[[#This Row],[OL]]=\"\",\"\",IF(Tabulka2[[#This Row],[OL]]>0,A1272,\"\"))","v":""},null,null,null,null,null,null,null,null,null,null,null,null,null,null,null,"",null,""]
[null,null,{"$f":"IF(Tabulka2[[#This Row],[Data]]=\"\",\"\",IF(OR(Tabulka2[[#This Row],[Data]]<$G$57,Tabulka2[[#This Row],[Data]]>$G$58),2,IF(OR(Tabulka2[[#This Row],[Data]]<$G$51,Tabulka2[[#This Row],[Data]]>$G$52),1,0)))","v":""},{"$f":"IF(Tabulka2[[#This Row],[OL]]=\"\",\"\",IF(Tabulka2[[#This Row],[OL]]>0,A1273,\"\"))","v":""},null,null,null,null,null,null,null,null,null,null,null,null,null,null,null,"",null,""]
[null,null,{"$f":"IF(Tabulka2[[#This Row],[Data]]=\"\",\"\",IF(OR(Tabulka2[[#This Row],[Data]]<$G$57,Tabulka2[[#This Row],[Data]]>$G$58),2,IF(OR(Tabulka2[[#This Row],[Data]]<$G$51,Tabulka2[[#This Row],[Data]]>$G$52),1,0)))","v":""},{"$f":"IF(Tabulka2[[#This Row],[OL]]=\"\",\"\",IF(Tabulka2[[#This Row],[OL]]>0,A1274,\"\"))","v":""},null,null,null,null,null,null,null,null,null,null,null,null,null,null,null,"",null,""]
[null,null,{"$f":"IF(Tabulka2[[#This Row],[Data]]=\"\",\"\",IF(OR(Tabulka2[[#This Row],[Data]]<$G$57,Tabulka2[[#This Row],[Data]]>$G$58),2,IF(OR(Tabulka2[[#This Row],[Data]]<$G$51,Tabulka2[[#This Row],[Data]]>$G$52),1,0)))","v":""},{"$f":"IF(Tabulka2[[#This Row],[OL]]=\"\",\"\",IF(Tabulka2[[#This Row],[OL]]>0,A1275,\"\"))","v":""},null,null,null,null,null,null,null,null,null,null,null,null,null,null,null,"",null,""]
[null,null,{"$f":"IF(Tabulka2[[#This Row],[Data]]=\"\",\"\",IF(OR(Tabulka2[[#This Row],[Data]]<$G$57,Tabulka2[[#This Row],[Data]]>$G$58),2,IF(OR(Tabulka2[[#This Row],[Data]]<$G$51,Tabulka2[[#This Row],[Data]]>$G$52),1,0)))","v":""},{"$f":"IF(Tabulka2[[#This Row],[OL]]=\"\",\"\",IF(Tabulka2[[#This Row],[OL]]>0,A1276,\"\"))","v":""},null,null,null,null,null,null,null,null,null,null,null,null,null,null,null,"",null,""]
[null,null,{"$f":"IF(Tabulka2[[#This Row],[Data]]=\"\",\"\",IF(OR(Tabulka2[[#This Row],[Data]]<$G$57,Tabulka2[[#This Row],[Data]]>$G$58),2,IF(OR(Tabulka2[[#This Row],[Data]]<$G$51,Tabulka2[[#This Row],[Data]]>$G$52),1,0)))","v":""},{"$f":"IF(Tabulka2[[#This Row],[OL]]=\"\",\"\",IF(Tabulka2[[#This Row],[OL]]>0,A1277,\"\"))","v":""},null,null,null,null,null,null,null,null,null,null,null,null,null,null,null,"",null,""]
[null,null,{"$f":"IF(Tabulka2[[#This Row],[Data]]=\"\",\"\",IF(OR(Tabulka2[[#This Row],[Data]]<$G$57,Tabulka2[[#This Row],[Data]]>$G$58),2,IF(OR(Tabulka2[[#This Row],[Data]]<$G$51,Tabulka2[[#This Row],[Data]]>$G$52),1,0)))","v":""},{"$f":"IF(Tabulka2[[#This Row],[OL]]=\"\",\"\",IF(Tabulka2[[#This Row],[OL]]>0,A1278,\"\"))","v":""},null,null,null,null,null,null,null,null,null,null,null,null,null,null,null,"",null,""]
[null,null,{"$f":"IF(Tabulka2[[#This Row],[Data]]=\"\",\"\",IF(OR(Tabulka2[[#This Row],[Data]]<$G$57,Tabulka2[[#This Row],[Data]]>$G$58),2,IF(OR(Tabulka2[[#This Row],[Data]]<$G$51,Tabulka2[[#This Row],[Data]]>$G$52),1,0)))","v":""},{"$f":"IF(Tabulka2[[#This Row],[OL]]=\"\",\"\",IF(Tabulka2[[#This Row],[OL]]>0,A1279,\"\"))","v":""},null,null,null,null,null,null,null,null,null,null,null,null,null,null,null,"",null,""]
[null,null,{"$f":"IF(Tabulka2[[#This Row],[Data]]=\"\",\"\",IF(OR(Tabulka2[[#This Row],[Data]]<$G$57,Tabulka2[[#This Row],[Data]]>$G$58),2,IF(OR(Tabulka2[[#This Row],[Data]]<$G$51,Tabulka2[[#This Row],[Data]]>$G$52),1,0)))","v":""},{"$f":"IF(Tabulka2[[#This Row],[OL]]=\"\",\"\",IF(Tabulka2[[#This Row],[OL]]>0,A1280,\"\"))","v":""},null,null,null,null,null,null,null,null,null,null,null,null,null,null,null,"",null,""]
[null,null,{"$f":"IF(Tabulka2[[#This Row],[Data]]=\"\",\"\",IF(OR(Tabulka2[[#This Row],[Data]]<$G$57,Tabulka2[[#This Row],[Data]]>$G$58),2,IF(OR(Tabulka2[[#This Row],[Data]]<$G$51,Tabulka2[[#This Row],[Data]]>$G$52),1,0)))","v":""},{"$f":"IF(Tabulka2[[#This Row],[OL]]=\"\",\"\",IF(Tabulka2[[#This Row],[OL]]>0,A1281,\"\"))","v":""},null,null,null,null,null,null,null,null,null,null,null,null,null,null,null,"",null,""]
[null,null,{"$f":"IF(Tabulka2[[#This Row],[Data]]=\"\",\"\",IF(OR(Tabulka2[[#This Row],[Data]]<$G$57,Tabulka2[[#This Row],[Data]]>$G$58),2,IF(OR(Tabulka2[[#This Row],[Data]]<$G$51,Tabulka2[[#This Row],[Data]]>$G$52),1,0)))","v":""},{"$f":"IF(Tabulka2[[#This Row],[OL]]=\"\",\"\",IF(Tabulka2[[#This Row],[OL]]>0,A1282,\"\"))","v":""},null,null,null,null,null,null,null,null,null,null,null,null,null,null,null,"",null,""]
[null,null,{"$f":"IF(Tabulka2[[#This Row],[Data]]=\"\",\"\",IF(OR(Tabulka2[[#This Row],[Data]]<$G$57,Tabulka2[[#This Row],[Data]]>$G$58),2,IF(OR(Tabulka2[[#This Row],[Data]]<$G$51,Tabulka2[[#This Row],[Data]]>$G$52),1,0)))","v":""},{"$f":"IF(Tabulka2[[#This Row],[OL]]=\"\",\"\",IF(Tabulka2[[#This Row],[OL]]>0,A1283,\"\"))","v":""},null,null,null,null,null,null,null,null,null,null,null,null,null,null,null,"",null,""]
[null,null,{"$f":"IF(Tabulka2[[#This Row],[Data]]=\"\",\"\",IF(OR(Tabulka2[[#This Row],[Data]]<$G$57,Tabulka2[[#This Row],[Data]]>$G$58),2,IF(OR(Tabulka2[[#This Row],[Data]]<$G$51,Tabulka2[[#This Row],[Data]]>$G$52),1,0)))","v":""},{"$f":"IF(Tabulka2[[#This Row],[OL]]=\"\",\"\",IF(Tabulka2[[#This Row],[OL]]>0,A1284,\"\"))","v":""},null,null,null,null,null,null,null,null,null,null,null,null,null,null,null,"",null,""]
[null,null,{"$f":"IF(Tabulka2[[#This Row],[Data]]=\"\",\"\",IF(OR(Tabulka2[[#This Row],[Data]]<$G$57,Tabulka2[[#This Row],[Data]]>$G$58),2,IF(OR(Tabulka2[[#This Row],[Data]]<$G$51,Tabulka2[[#This Row],[Data]]>$G$52),1,0)))","v":""},{"$f":"IF(Tabulka2[[#This Row],[OL]]=\"\",\"\",IF(Tabulka2[[#This Row],[OL]]>0,A1285,\"\"))","v":""},null,null,null,null,null,null,null,null,null,null,null,null,null,null,null,"",null,""]
[null,null,{"$f":"IF(Tabulka2[[#This Row],[Data]]=\"\",\"\",IF(OR(Tabulka2[[#This Row],[Data]]<$G$57,Tabulka2[[#This Row],[Data]]>$G$58),2,IF(OR(Tabulka2[[#This Row],[Data]]<$G$51,Tabulka2[[#This Row],[Data]]>$G$52),1,0)))","v":""},{"$f":"IF(Tabulka2[[#This Row],[OL]]=\"\",\"\",IF(Tabulka2[[#This Row],[OL]]>0,A1286,\"\"))","v":""},null,null,null,null,null,null,null,null,null,null,null,null,null,null,null,"",null,""]
[null,null,{"$f":"IF(Tabulka2[[#This Row],[Data]]=\"\",\"\",IF(OR(Tabulka2[[#This Row],[Data]]<$G$57,Tabulka2[[#This Row],[Data]]>$G$58),2,IF(OR(Tabulka2[[#This Row],[Data]]<$G$51,Tabulka2[[#This Row],[Data]]>$G$52),1,0)))","v":""},{"$f":"IF(Tabulka2[[#This Row],[OL]]=\"\",\"\",IF(Tabulka2[[#This Row],[OL]]>0,A1287,\"\"))","v":""},null,null,null,null,null,null,null,null,null,null,null,null,null,null,null,"",null,""]
[null,null,{"$f":"IF(Tabulka2[[#This Row],[Data]]=\"\",\"\",IF(OR(Tabulka2[[#This Row],[Data]]<$G$57,Tabulka2[[#This Row],[Data]]>$G$58),2,IF(OR(Tabulka2[[#This Row],[Data]]<$G$51,Tabulka2[[#This Row],[Data]]>$G$52),1,0)))","v":""},{"$f":"IF(Tabulka2[[#This Row],[OL]]=\"\",\"\",IF(Tabulka2[[#This Row],[OL]]>0,A1288,\"\"))","v":""},null,null,null,null,null,null,null,null,null,null,null,null,null,null,null,"",null,""]
[null,null,{"$f":"IF(Tabulka2[[#This Row],[Data]]=\"\",\"\",IF(OR(Tabulka2[[#This Row],[Data]]<$G$57,Tabulka2[[#This Row],[Data]]>$G$58),2,IF(OR(Tabulka2[[#This Row],[Data]]<$G$51,Tabulka2[[#This Row],[Data]]>$G$52),1,0)))","v":""},{"$f":"IF(Tabulka2[[#This Row],[OL]]=\"\",\"\",IF(Tabulka2[[#This Row],[OL]]>0,A1289,\"\"))","v":""},null,null,null,null,null,null,null,null,null,null,null,null,null,null,null,"",null,""]
[null,null,{"$f":"IF(Tabulka2[[#This Row],[Data]]=\"\",\"\",IF(OR(Tabulka2[[#This Row],[Data]]<$G$57,Tabulka2[[#This Row],[Data]]>$G$58),2,IF(OR(Tabulka2[[#This Row],[Data]]<$G$51,Tabulka2[[#This Row],[Data]]>$G$52),1,0)))","v":""},{"$f":"IF(Tabulka2[[#This Row],[OL]]=\"\",\"\",IF(Tabulka2[[#This Row],[OL]]>0,A1290,\"\"))","v":""},null,null,null,null,null,null,null,null,null,null,null,null,null,null,null,"",null,""]
[null,null,{"$f":"IF(Tabulka2[[#This Row],[Data]]=\"\",\"\",IF(OR(Tabulka2[[#This Row],[Data]]<$G$57,Tabulka2[[#This Row],[Data]]>$G$58),2,IF(OR(Tabulka2[[#This Row],[Data]]<$G$51,Tabulka2[[#This Row],[Data]]>$G$52),1,0)))","v":""},{"$f":"IF(Tabulka2[[#This Row],[OL]]=\"\",\"\",IF(Tabulka2[[#This Row],[OL]]>0,A1291,\"\"))","v":""},null,null,null,null,null,null,null,null,null,null,null,null,null,null,null,"",null,""]
[null,null,{"$f":"IF(Tabulka2[[#This Row],[Data]]=\"\",\"\",IF(OR(Tabulka2[[#This Row],[Data]]<$G$57,Tabulka2[[#This Row],[Data]]>$G$58),2,IF(OR(Tabulka2[[#This Row],[Data]]<$G$51,Tabulka2[[#This Row],[Data]]>$G$52),1,0)))","v":""},{"$f":"IF(Tabulka2[[#This Row],[OL]]=\"\",\"\",IF(Tabulka2[[#This Row],[OL]]>0,A1292,\"\"))","v":""},null,null,null,null,null,null,null,null,null,null,null,null,null,null,null,"",null,""]
[null,null,{"$f":"IF(Tabulka2[[#This Row],[Data]]=\"\",\"\",IF(OR(Tabulka2[[#This Row],[Data]]<$G$57,Tabulka2[[#This Row],[Data]]>$G$58),2,IF(OR(Tabulka2[[#This Row],[Data]]<$G$51,Tabulka2[[#This Row],[Data]]>$G$52),1,0)))","v":""},{"$f":"IF(Tabulka2[[#This Row],[OL]]=\"\",\"\",IF(Tabulka2[[#This Row],[OL]]>0,A1293,\"\"))","v":""},null,null,null,null,null,null,null,null,null,null,null,null,null,null,null,"",null,""]
[null,null,{"$f":"IF(Tabulka2[[#This Row],[Data]]=\"\",\"\",IF(OR(Tabulka2[[#This Row],[Data]]<$G$57,Tabulka2[[#This Row],[Data]]>$G$58),2,IF(OR(Tabulka2[[#This Row],[Data]]<$G$51,Tabulka2[[#This Row],[Data]]>$G$52),1,0)))","v":""},{"$f":"IF(Tabulka2[[#This Row],[OL]]=\"\",\"\",IF(Tabulka2[[#This Row],[OL]]>0,A1294,\"\"))","v":""},null,null,null,null,null,null,null,null,null,null,null,null,null,null,null,"",null,""]
[null,null,{"$f":"IF(Tabulka2[[#This Row],[Data]]=\"\",\"\",IF(OR(Tabulka2[[#This Row],[Data]]<$G$57,Tabulka2[[#This Row],[Data]]>$G$58),2,IF(OR(Tabulka2[[#This Row],[Data]]<$G$51,Tabulka2[[#This Row],[Data]]>$G$52),1,0)))","v":""},{"$f":"IF(Tabulka2[[#This Row],[OL]]=\"\",\"\",IF(Tabulka2[[#This Row],[OL]]>0,A1295,\"\"))","v":""},null,null,null,null,null,null,null,null,null,null,null,null,null,null,null,"",null,""]
[null,null,{"$f":"IF(Tabulka2[[#This Row],[Data]]=\"\",\"\",IF(OR(Tabulka2[[#This Row],[Data]]<$G$57,Tabulka2[[#This Row],[Data]]>$G$58),2,IF(OR(Tabulka2[[#This Row],[Data]]<$G$51,Tabulka2[[#This Row],[Data]]>$G$52),1,0)))","v":""},{"$f":"IF(Tabulka2[[#This Row],[OL]]=\"\",\"\",IF(Tabulka2[[#This Row],[OL]]>0,A1296,\"\"))","v":""},null,null,null,null,null,null,null,null,null,null,null,null,null,null,null,"",null,""]
[null,null,{"$f":"IF(Tabulka2[[#This Row],[Data]]=\"\",\"\",IF(OR(Tabulka2[[#This Row],[Data]]<$G$57,Tabulka2[[#This Row],[Data]]>$G$58),2,IF(OR(Tabulka2[[#This Row],[Data]]<$G$51,Tabulka2[[#This Row],[Data]]>$G$52),1,0)))","v":""},{"$f":"IF(Tabulka2[[#This Row],[OL]]=\"\",\"\",IF(Tabulka2[[#This Row],[OL]]>0,A1297,\"\"))","v":""},null,null,null,null,null,null,null,null,null,null,null,null,null,null,null,"",null,""]
[null,null,{"$f":"IF(Tabulka2[[#This Row],[Data]]=\"\",\"\",IF(OR(Tabulka2[[#This Row],[Data]]<$G$57,Tabulka2[[#This Row],[Data]]>$G$58),2,IF(OR(Tabulka2[[#This Row],[Data]]<$G$51,Tabulka2[[#This Row],[Data]]>$G$52),1,0)))","v":""},{"$f":"IF(Tabulka2[[#This Row],[OL]]=\"\",\"\",IF(Tabulka2[[#This Row],[OL]]>0,A1298,\"\"))","v":""},null,null,null,null,null,null,null,null,null,null,null,null,null,null,null,"",null,""]
[null,null,{"$f":"IF(Tabulka2[[#This Row],[Data]]=\"\",\"\",IF(OR(Tabulka2[[#This Row],[Data]]<$G$57,Tabulka2[[#This Row],[Data]]>$G$58),2,IF(OR(Tabulka2[[#This Row],[Data]]<$G$51,Tabulka2[[#This Row],[Data]]>$G$52),1,0)))","v":""},{"$f":"IF(Tabulka2[[#This Row],[OL]]=\"\",\"\",IF(Tabulka2[[#This Row],[OL]]>0,A1299,\"\"))","v":""},null,null,null,null,null,null,null,null,null,null,null,null,null,null,null,"",null,""]
[null,null,{"$f":"IF(Tabulka2[[#This Row],[Data]]=\"\",\"\",IF(OR(Tabulka2[[#This Row],[Data]]<$G$57,Tabulka2[[#This Row],[Data]]>$G$58),2,IF(OR(Tabulka2[[#This Row],[Data]]<$G$51,Tabulka2[[#This Row],[Data]]>$G$52),1,0)))","v":""},{"$f":"IF(Tabulka2[[#This Row],[OL]]=\"\",\"\",IF(Tabulka2[[#This Row],[OL]]>0,A1300,\"\"))","v":""},null,null,null,null,null,null,null,null,null,null,null,null,null,null,null,"",null,""]
[null,null,{"$f":"IF(Tabulka2[[#This Row],[Data]]=\"\",\"\",IF(OR(Tabulka2[[#This Row],[Data]]<$G$57,Tabulka2[[#This Row],[Data]]>$G$58),2,IF(OR(Tabulka2[[#This Row],[Data]]<$G$51,Tabulka2[[#This Row],[Data]]>$G$52),1,0)))","v":""},{"$f":"IF(Tabulka2[[#This Row],[OL]]=\"\",\"\",IF(Tabulka2[[#This Row],[OL]]>0,A1301,\"\"))","v":""},null,null,null,null,null,null,null,null,null,null,null,null,null,null,null,"",null,""]
[null,null,{"$f":"IF(Tabulka2[[#This Row],[Data]]=\"\",\"\",IF(OR(Tabulka2[[#This Row],[Data]]<$G$57,Tabulka2[[#This Row],[Data]]>$G$58),2,IF(OR(Tabulka2[[#This Row],[Data]]<$G$51,Tabulka2[[#This Row],[Data]]>$G$52),1,0)))","v":""},{"$f":"IF(Tabulka2[[#This Row],[OL]]=\"\",\"\",IF(Tabulka2[[#This Row],[OL]]>0,A1302,\"\"))","v":""},null,null,null,null,null,null,null,null,null,null,null,null,null,null,null,"",null,""]
[null,null,{"$f":"IF(Tabulka2[[#This Row],[Data]]=\"\",\"\",IF(OR(Tabulka2[[#This Row],[Data]]<$G$57,Tabulka2[[#This Row],[Data]]>$G$58),2,IF(OR(Tabulka2[[#This Row],[Data]]<$G$51,Tabulka2[[#This Row],[Data]]>$G$52),1,0)))","v":""},{"$f":"IF(Tabulka2[[#This Row],[OL]]=\"\",\"\",IF(Tabulka2[[#This Row],[OL]]>0,A1303,\"\"))","v":""},null,null,null,null,null,null,null,null,null,null,null,null,null,null,null,"",null,""]
[null,null,{"$f":"IF(Tabulka2[[#This Row],[Data]]=\"\",\"\",IF(OR(Tabulka2[[#This Row],[Data]]<$G$57,Tabulka2[[#This Row],[Data]]>$G$58),2,IF(OR(Tabulka2[[#This Row],[Data]]<$G$51,Tabulka2[[#This Row],[Data]]>$G$52),1,0)))","v":""},{"$f":"IF(Tabulka2[[#This Row],[OL]]=\"\",\"\",IF(Tabulka2[[#This Row],[OL]]>0,A1304,\"\"))","v":""},null,null,null,null,null,null,null,null,null,null,null,null,null,null,null,"",null,""]
[null,null,{"$f":"IF(Tabulka2[[#This Row],[Data]]=\"\",\"\",IF(OR(Tabulka2[[#This Row],[Data]]<$G$57,Tabulka2[[#This Row],[Data]]>$G$58),2,IF(OR(Tabulka2[[#This Row],[Data]]<$G$51,Tabulka2[[#This Row],[Data]]>$G$52),1,0)))","v":""},{"$f":"IF(Tabulka2[[#This Row],[OL]]=\"\",\"\",IF(Tabulka2[[#This Row],[OL]]>0,A1305,\"\"))","v":""},null,null,null,null,null,null,null,null,null,null,null,null,null,null,null,"",null,""]
[null,null,{"$f":"IF(Tabulka2[[#This Row],[Data]]=\"\",\"\",IF(OR(Tabulka2[[#This Row],[Data]]<$G$57,Tabulka2[[#This Row],[Data]]>$G$58),2,IF(OR(Tabulka2[[#This Row],[Data]]<$G$51,Tabulka2[[#This Row],[Data]]>$G$52),1,0)))","v":""},{"$f":"IF(Tabulka2[[#This Row],[OL]]=\"\",\"\",IF(Tabulka2[[#This Row],[OL]]>0,A1306,\"\"))","v":""},null,null,null,null,null,null,null,null,null,null,null,null,null,null,null,"",null,""]
[null,null,{"$f":"IF(Tabulka2[[#This Row],[Data]]=\"\",\"\",IF(OR(Tabulka2[[#This Row],[Data]]<$G$57,Tabulka2[[#This Row],[Data]]>$G$58),2,IF(OR(Tabulka2[[#This Row],[Data]]<$G$51,Tabulka2[[#This Row],[Data]]>$G$52),1,0)))","v":""},{"$f":"IF(Tabulka2[[#This Row],[OL]]=\"\",\"\",IF(Tabulka2[[#This Row],[OL]]>0,A1307,\"\"))","v":""},null,null,null,null,null,null,null,null,null,null,null,null,null,null,null,"",null,""]
[null,null,{"$f":"IF(Tabulka2[[#This Row],[Data]]=\"\",\"\",IF(OR(Tabulka2[[#This Row],[Data]]<$G$57,Tabulka2[[#This Row],[Data]]>$G$58),2,IF(OR(Tabulka2[[#This Row],[Data]]<$G$51,Tabulka2[[#This Row],[Data]]>$G$52),1,0)))","v":""},{"$f":"IF(Tabulka2[[#This Row],[OL]]=\"\",\"\",IF(Tabulka2[[#This Row],[OL]]>0,A1308,\"\"))","v":""},null,null,null,null,null,null,null,null,null,null,null,null,null,null,null,"",null,""]
[null,null,{"$f":"IF(Tabulka2[[#This Row],[Data]]=\"\",\"\",IF(OR(Tabulka2[[#This Row],[Data]]<$G$57,Tabulka2[[#This Row],[Data]]>$G$58),2,IF(OR(Tabulka2[[#This Row],[Data]]<$G$51,Tabulka2[[#This Row],[Data]]>$G$52),1,0)))","v":""},{"$f":"IF(Tabulka2[[#This Row],[OL]]=\"\",\"\",IF(Tabulka2[[#This Row],[OL]]>0,A1309,\"\"))","v":""},null,null,null,null,null,null,null,null,null,null,null,null,null,null,null,"",null,""]
[null,null,{"$f":"IF(Tabulka2[[#This Row],[Data]]=\"\",\"\",IF(OR(Tabulka2[[#This Row],[Data]]<$G$57,Tabulka2[[#This Row],[Data]]>$G$58),2,IF(OR(Tabulka2[[#This Row],[Data]]<$G$51,Tabulka2[[#This Row],[Data]]>$G$52),1,0)))","v":""},{"$f":"IF(Tabulka2[[#This Row],[OL]]=\"\",\"\",IF(Tabulka2[[#This Row],[OL]]>0,A1310,\"\"))","v":""},null,null,null,null,null,null,null,null,null,null,null,null,null,null,null,"",null,""]
[null,null,{"$f":"IF(Tabulka2[[#This Row],[Data]]=\"\",\"\",IF(OR(Tabulka2[[#This Row],[Data]]<$G$57,Tabulka2[[#This Row],[Data]]>$G$58),2,IF(OR(Tabulka2[[#This Row],[Data]]<$G$51,Tabulka2[[#This Row],[Data]]>$G$52),1,0)))","v":""},{"$f":"IF(Tabulka2[[#This Row],[OL]]=\"\",\"\",IF(Tabulka2[[#This Row],[OL]]>0,A1311,\"\"))","v":""},null,null,null,null,null,null,null,null,null,null,null,null,null,null,null,"",null,""]
[null,null,{"$f":"IF(Tabulka2[[#This Row],[Data]]=\"\",\"\",IF(OR(Tabulka2[[#This Row],[Data]]<$G$57,Tabulka2[[#This Row],[Data]]>$G$58),2,IF(OR(Tabulka2[[#This Row],[Data]]<$G$51,Tabulka2[[#This Row],[Data]]>$G$52),1,0)))","v":""},{"$f":"IF(Tabulka2[[#This Row],[OL]]=\"\",\"\",IF(Tabulka2[[#This Row],[OL]]>0,A1312,\"\"))","v":""},null,null,null,null,null,null,null,null,null,null,null,null,null,null,null,"",null,""]
[null,null,{"$f":"IF(Tabulka2[[#This Row],[Data]]=\"\",\"\",IF(OR(Tabulka2[[#This Row],[Data]]<$G$57,Tabulka2[[#This Row],[Data]]>$G$58),2,IF(OR(Tabulka2[[#This Row],[Data]]<$G$51,Tabulka2[[#This Row],[Data]]>$G$52),1,0)))","v":""},{"$f":"IF(Tabulka2[[#This Row],[OL]]=\"\",\"\",IF(Tabulka2[[#This Row],[OL]]>0,A1313,\"\"))","v":""},null,null,null,null,null,null,null,null,null,null,null,null,null,null,null,"",null,""]
[null,null,{"$f":"IF(Tabulka2[[#This Row],[Data]]=\"\",\"\",IF(OR(Tabulka2[[#This Row],[Data]]<$G$57,Tabulka2[[#This Row],[Data]]>$G$58),2,IF(OR(Tabulka2[[#This Row],[Data]]<$G$51,Tabulka2[[#This Row],[Data]]>$G$52),1,0)))","v":""},{"$f":"IF(Tabulka2[[#This Row],[OL]]=\"\",\"\",IF(Tabulka2[[#This Row],[OL]]>0,A1314,\"\"))","v":""},null,null,null,null,null,null,null,null,null,null,null,null,null,null,null,"",null,""]
[null,null,{"$f":"IF(Tabulka2[[#This Row],[Data]]=\"\",\"\",IF(OR(Tabulka2[[#This Row],[Data]]<$G$57,Tabulka2[[#This Row],[Data]]>$G$58),2,IF(OR(Tabulka2[[#This Row],[Data]]<$G$51,Tabulka2[[#This Row],[Data]]>$G$52),1,0)))","v":""},{"$f":"IF(Tabulka2[[#This Row],[OL]]=\"\",\"\",IF(Tabulka2[[#This Row],[OL]]>0,A1315,\"\"))","v":""},null,null,null,null,null,null,null,null,null,null,null,null,null,null,null,"",null,""]
[null,null,{"$f":"IF(Tabulka2[[#This Row],[Data]]=\"\",\"\",IF(OR(Tabulka2[[#This Row],[Data]]<$G$57,Tabulka2[[#This Row],[Data]]>$G$58),2,IF(OR(Tabulka2[[#This Row],[Data]]<$G$51,Tabulka2[[#This Row],[Data]]>$G$52),1,0)))","v":""},{"$f":"IF(Tabulka2[[#This Row],[OL]]=\"\",\"\",IF(Tabulka2[[#This Row],[OL]]>0,A1316,\"\"))","v":""},null,null,null,null,null,null,null,null,null,null,null,null,null,null,null,"",null,""]
[null,null,{"$f":"IF(Tabulka2[[#This Row],[Data]]=\"\",\"\",IF(OR(Tabulka2[[#This Row],[Data]]<$G$57,Tabulka2[[#This Row],[Data]]>$G$58),2,IF(OR(Tabulka2[[#This Row],[Data]]<$G$51,Tabulka2[[#This Row],[Data]]>$G$52),1,0)))","v":""},{"$f":"IF(Tabulka2[[#This Row],[OL]]=\"\",\"\",IF(Tabulka2[[#This Row],[OL]]>0,A1317,\"\"))","v":""},null,null,null,null,null,null,null,null,null,null,null,null,null,null,null,"",null,""]
[null,null,{"$f":"IF(Tabulka2[[#This Row],[Data]]=\"\",\"\",IF(OR(Tabulka2[[#This Row],[Data]]<$G$57,Tabulka2[[#This Row],[Data]]>$G$58),2,IF(OR(Tabulka2[[#This Row],[Data]]<$G$51,Tabulka2[[#This Row],[Data]]>$G$52),1,0)))","v":""},{"$f":"IF(Tabulka2[[#This Row],[OL]]=\"\",\"\",IF(Tabulka2[[#This Row],[OL]]>0,A1318,\"\"))","v":""},null,null,null,null,null,null,null,null,null,null,null,null,null,null,null,"",null,""]
[null,null,{"$f":"IF(Tabulka2[[#This Row],[Data]]=\"\",\"\",IF(OR(Tabulka2[[#This Row],[Data]]<$G$57,Tabulka2[[#This Row],[Data]]>$G$58),2,IF(OR(Tabulka2[[#This Row],[Data]]<$G$51,Tabulka2[[#This Row],[Data]]>$G$52),1,0)))","v":""},{"$f":"IF(Tabulka2[[#This Row],[OL]]=\"\",\"\",IF(Tabulka2[[#This Row],[OL]]>0,A1319,\"\"))","v":""},null,null,null,null,null,null,null,null,null,null,null,null,null,null,null,"",null,""]
[null,null,{"$f":"IF(Tabulka2[[#This Row],[Data]]=\"\",\"\",IF(OR(Tabulka2[[#This Row],[Data]]<$G$57,Tabulka2[[#This Row],[Data]]>$G$58),2,IF(OR(Tabulka2[[#This Row],[Data]]<$G$51,Tabulka2[[#This Row],[Data]]>$G$52),1,0)))","v":""},{"$f":"IF(Tabulka2[[#This Row],[OL]]=\"\",\"\",IF(Tabulka2[[#This Row],[OL]]>0,A1320,\"\"))","v":""},null,null,null,null,null,null,null,null,null,null,null,null,null,null,null,"",null,""]
[null,null,{"$f":"IF(Tabulka2[[#This Row],[Data]]=\"\",\"\",IF(OR(Tabulka2[[#This Row],[Data]]<$G$57,Tabulka2[[#This Row],[Data]]>$G$58),2,IF(OR(Tabulka2[[#This Row],[Data]]<$G$51,Tabulka2[[#This Row],[Data]]>$G$52),1,0)))","v":""},{"$f":"IF(Tabulka2[[#This Row],[OL]]=\"\",\"\",IF(Tabulka2[[#This Row],[OL]]>0,A1321,\"\"))","v":""},null,null,null,null,null,null,null,null,null,null,null,null,null,null,null,"",null,""]
[null,null,{"$f":"IF(Tabulka2[[#This Row],[Data]]=\"\",\"\",IF(OR(Tabulka2[[#This Row],[Data]]<$G$57,Tabulka2[[#This Row],[Data]]>$G$58),2,IF(OR(Tabulka2[[#This Row],[Data]]<$G$51,Tabulka2[[#This Row],[Data]]>$G$52),1,0)))","v":""},{"$f":"IF(Tabulka2[[#This Row],[OL]]=\"\",\"\",IF(Tabulka2[[#This Row],[OL]]>0,A1322,\"\"))","v":""},null,null,null,null,null,null,null,null,null,null,null,null,null,null,null,"",null,""]
[null,null,{"$f":"IF(Tabulka2[[#This Row],[Data]]=\"\",\"\",IF(OR(Tabulka2[[#This Row],[Data]]<$G$57,Tabulka2[[#This Row],[Data]]>$G$58),2,IF(OR(Tabulka2[[#This Row],[Data]]<$G$51,Tabulka2[[#This Row],[Data]]>$G$52),1,0)))","v":""},{"$f":"IF(Tabulka2[[#This Row],[OL]]=\"\",\"\",IF(Tabulka2[[#This Row],[OL]]>0,A1323,\"\"))","v":""},null,null,null,null,null,null,null,null,null,null,null,null,null,null,null,"",null,""]
[null,null,{"$f":"IF(Tabulka2[[#This Row],[Data]]=\"\",\"\",IF(OR(Tabulka2[[#This Row],[Data]]<$G$57,Tabulka2[[#This Row],[Data]]>$G$58),2,IF(OR(Tabulka2[[#This Row],[Data]]<$G$51,Tabulka2[[#This Row],[Data]]>$G$52),1,0)))","v":""},{"$f":"IF(Tabulka2[[#This Row],[OL]]=\"\",\"\",IF(Tabulka2[[#This Row],[OL]]>0,A1324,\"\"))","v":""},null,null,null,null,null,null,null,null,null,null,null,null,null,null,null,"",null,""]
[null,null,{"$f":"IF(Tabulka2[[#This Row],[Data]]=\"\",\"\",IF(OR(Tabulka2[[#This Row],[Data]]<$G$57,Tabulka2[[#This Row],[Data]]>$G$58),2,IF(OR(Tabulka2[[#This Row],[Data]]<$G$51,Tabulka2[[#This Row],[Data]]>$G$52),1,0)))","v":""},{"$f":"IF(Tabulka2[[#This Row],[OL]]=\"\",\"\",IF(Tabulka2[[#This Row],[OL]]>0,A1325,\"\"))","v":""},null,null,null,null,null,null,null,null,null,null,null,null,null,null,null,"",null,""]
[null,null,{"$f":"IF(Tabulka2[[#This Row],[Data]]=\"\",\"\",IF(OR(Tabulka2[[#This Row],[Data]]<$G$57,Tabulka2[[#This Row],[Data]]>$G$58),2,IF(OR(Tabulka2[[#This Row],[Data]]<$G$51,Tabulka2[[#This Row],[Data]]>$G$52),1,0)))","v":""},{"$f":"IF(Tabulka2[[#This Row],[OL]]=\"\",\"\",IF(Tabulka2[[#This Row],[OL]]>0,A1326,\"\"))","v":""},null,null,null,null,null,null,null,null,null,null,null,null,null,null,null,"",null,""]
[null,null,{"$f":"IF(Tabulka2[[#This Row],[Data]]=\"\",\"\",IF(OR(Tabulka2[[#This Row],[Data]]<$G$57,Tabulka2[[#This Row],[Data]]>$G$58),2,IF(OR(Tabulka2[[#This Row],[Data]]<$G$51,Tabulka2[[#This Row],[Data]]>$G$52),1,0)))","v":""},{"$f":"IF(Tabulka2[[#This Row],[OL]]=\"\",\"\",IF(Tabulka2[[#This Row],[OL]]>0,A1327,\"\"))","v":""},null,null,null,null,null,null,null,null,null,null,null,null,null,null,null,"",null,""]
[null,null,{"$f":"IF(Tabulka2[[#This Row],[Data]]=\"\",\"\",IF(OR(Tabulka2[[#This Row],[Data]]<$G$57,Tabulka2[[#This Row],[Data]]>$G$58),2,IF(OR(Tabulka2[[#This Row],[Data]]<$G$51,Tabulka2[[#This Row],[Data]]>$G$52),1,0)))","v":""},{"$f":"IF(Tabulka2[[#This Row],[OL]]=\"\",\"\",IF(Tabulka2[[#This Row],[OL]]>0,A1328,\"\"))","v":""},null,null,null,null,null,null,null,null,null,null,null,null,null,null,null,"",null,""]
[null,null,{"$f":"IF(Tabulka2[[#This Row],[Data]]=\"\",\"\",IF(OR(Tabulka2[[#This Row],[Data]]<$G$57,Tabulka2[[#This Row],[Data]]>$G$58),2,IF(OR(Tabulka2[[#This Row],[Data]]<$G$51,Tabulka2[[#This Row],[Data]]>$G$52),1,0)))","v":""},{"$f":"IF(Tabulka2[[#This Row],[OL]]=\"\",\"\",IF(Tabulka2[[#This Row],[OL]]>0,A1329,\"\"))","v":""},null,null,null,null,null,null,null,null,null,null,null,null,null,null,null,"",null,""]
[null,null,{"$f":"IF(Tabulka2[[#This Row],[Data]]=\"\",\"\",IF(OR(Tabulka2[[#This Row],[Data]]<$G$57,Tabulka2[[#This Row],[Data]]>$G$58),2,IF(OR(Tabulka2[[#This Row],[Data]]<$G$51,Tabulka2[[#This Row],[Data]]>$G$52),1,0)))","v":""},{"$f":"IF(Tabulka2[[#This Row],[OL]]=\"\",\"\",IF(Tabulka2[[#This Row],[OL]]>0,A1330,\"\"))","v":""},null,null,null,null,null,null,null,null,null,null,null,null,null,null,null,"",null,""]
[null,null,{"$f":"IF(Tabulka2[[#This Row],[Data]]=\"\",\"\",IF(OR(Tabulka2[[#This Row],[Data]]<$G$57,Tabulka2[[#This Row],[Data]]>$G$58),2,IF(OR(Tabulka2[[#This Row],[Data]]<$G$51,Tabulka2[[#This Row],[Data]]>$G$52),1,0)))","v":""},{"$f":"IF(Tabulka2[[#This Row],[OL]]=\"\",\"\",IF(Tabulka2[[#This Row],[OL]]>0,A1331,\"\"))","v":""},null,null,null,null,null,null,null,null,null,null,null,null,null,null,null,"",null,""]
[null,null,{"$f":"IF(Tabulka2[[#This Row],[Data]]=\"\",\"\",IF(OR(Tabulka2[[#This Row],[Data]]<$G$57,Tabulka2[[#This Row],[Data]]>$G$58),2,IF(OR(Tabulka2[[#This Row],[Data]]<$G$51,Tabulka2[[#This Row],[Data]]>$G$52),1,0)))","v":""},{"$f":"IF(Tabulka2[[#This Row],[OL]]=\"\",\"\",IF(Tabulka2[[#This Row],[OL]]>0,A1332,\"\"))","v":""},null,null,null,null,null,null,null,null,null,null,null,null,null,null,null,"",null,""]
[null,null,{"$f":"IF(Tabulka2[[#This Row],[Data]]=\"\",\"\",IF(OR(Tabulka2[[#This Row],[Data]]<$G$57,Tabulka2[[#This Row],[Data]]>$G$58),2,IF(OR(Tabulka2[[#This Row],[Data]]<$G$51,Tabulka2[[#This Row],[Data]]>$G$52),1,0)))","v":""},{"$f":"IF(Tabulka2[[#This Row],[OL]]=\"\",\"\",IF(Tabulka2[[#This Row],[OL]]>0,A1333,\"\"))","v":""},null,null,null,null,null,null,null,null,null,null,null,null,null,null,null,"",null,""]
[null,null,{"$f":"IF(Tabulka2[[#This Row],[Data]]=\"\",\"\",IF(OR(Tabulka2[[#This Row],[Data]]<$G$57,Tabulka2[[#This Row],[Data]]>$G$58),2,IF(OR(Tabulka2[[#This Row],[Data]]<$G$51,Tabulka2[[#This Row],[Data]]>$G$52),1,0)))","v":""},{"$f":"IF(Tabulka2[[#This Row],[OL]]=\"\",\"\",IF(Tabulka2[[#This Row],[OL]]>0,A1334,\"\"))","v":""},null,null,null,null,null,null,null,null,null,null,null,null,null,null,null,"",null,""]
[null,null,{"$f":"IF(Tabulka2[[#This Row],[Data]]=\"\",\"\",IF(OR(Tabulka2[[#This Row],[Data]]<$G$57,Tabulka2[[#This Row],[Data]]>$G$58),2,IF(OR(Tabulka2[[#This Row],[Data]]<$G$51,Tabulka2[[#This Row],[Data]]>$G$52),1,0)))","v":""},{"$f":"IF(Tabulka2[[#This Row],[OL]]=\"\",\"\",IF(Tabulka2[[#This Row],[OL]]>0,A1335,\"\"))","v":""},null,null,null,null,null,null,null,null,null,null,null,null,null,null,null,"",null,""]
[null,null,{"$f":"IF(Tabulka2[[#This Row],[Data]]=\"\",\"\",IF(OR(Tabulka2[[#This Row],[Data]]<$G$57,Tabulka2[[#This Row],[Data]]>$G$58),2,IF(OR(Tabulka2[[#This Row],[Data]]<$G$51,Tabulka2[[#This Row],[Data]]>$G$52),1,0)))","v":""},{"$f":"IF(Tabulka2[[#This Row],[OL]]=\"\",\"\",IF(Tabulka2[[#This Row],[OL]]>0,A1336,\"\"))","v":""},null,null,null,null,null,null,null,null,null,null,null,null,null,null,null,"",null,""]
[null,null,{"$f":"IF(Tabulka2[[#This Row],[Data]]=\"\",\"\",IF(OR(Tabulka2[[#This Row],[Data]]<$G$57,Tabulka2[[#This Row],[Data]]>$G$58),2,IF(OR(Tabulka2[[#This Row],[Data]]<$G$51,Tabulka2[[#This Row],[Data]]>$G$52),1,0)))","v":""},{"$f":"IF(Tabulka2[[#This Row],[OL]]=\"\",\"\",IF(Tabulka2[[#This Row],[OL]]>0,A1337,\"\"))","v":""},null,null,null,null,null,null,null,null,null,null,null,null,null,null,null,"",null,""]
[null,null,{"$f":"IF(Tabulka2[[#This Row],[Data]]=\"\",\"\",IF(OR(Tabulka2[[#This Row],[Data]]<$G$57,Tabulka2[[#This Row],[Data]]>$G$58),2,IF(OR(Tabulka2[[#This Row],[Data]]<$G$51,Tabulka2[[#This Row],[Data]]>$G$52),1,0)))","v":""},{"$f":"IF(Tabulka2[[#This Row],[OL]]=\"\",\"\",IF(Tabulka2[[#This Row],[OL]]>0,A1338,\"\"))","v":""},null,null,null,null,null,null,null,null,null,null,null,null,null,null,null,"",null,""]
[null,null,{"$f":"IF(Tabulka2[[#This Row],[Data]]=\"\",\"\",IF(OR(Tabulka2[[#This Row],[Data]]<$G$57,Tabulka2[[#This Row],[Data]]>$G$58),2,IF(OR(Tabulka2[[#This Row],[Data]]<$G$51,Tabulka2[[#This Row],[Data]]>$G$52),1,0)))","v":""},{"$f":"IF(Tabulka2[[#This Row],[OL]]=\"\",\"\",IF(Tabulka2[[#This Row],[OL]]>0,A1339,\"\"))","v":""},null,null,null,null,null,null,null,null,null,null,null,null,null,null,null,"",null,""]
[null,null,{"$f":"IF(Tabulka2[[#This Row],[Data]]=\"\",\"\",IF(OR(Tabulka2[[#This Row],[Data]]<$G$57,Tabulka2[[#This Row],[Data]]>$G$58),2,IF(OR(Tabulka2[[#This Row],[Data]]<$G$51,Tabulka2[[#This Row],[Data]]>$G$52),1,0)))","v":""},{"$f":"IF(Tabulka2[[#This Row],[OL]]=\"\",\"\",IF(Tabulka2[[#This Row],[OL]]>0,A1340,\"\"))","v":""},null,null,null,null,null,null,null,null,null,null,null,null,null,null,null,"",null,""]
[null,null,{"$f":"IF(Tabulka2[[#This Row],[Data]]=\"\",\"\",IF(OR(Tabulka2[[#This Row],[Data]]<$G$57,Tabulka2[[#This Row],[Data]]>$G$58),2,IF(OR(Tabulka2[[#This Row],[Data]]<$G$51,Tabulka2[[#This Row],[Data]]>$G$52),1,0)))","v":""},{"$f":"IF(Tabulka2[[#This Row],[OL]]=\"\",\"\",IF(Tabulka2[[#This Row],[OL]]>0,A1341,\"\"))","v":""},null,null,null,null,null,null,null,null,null,null,null,null,null,null,null,"",null,""]
[null,null,{"$f":"IF(Tabulka2[[#This Row],[Data]]=\"\",\"\",IF(OR(Tabulka2[[#This Row],[Data]]<$G$57,Tabulka2[[#This Row],[Data]]>$G$58),2,IF(OR(Tabulka2[[#This Row],[Data]]<$G$51,Tabulka2[[#This Row],[Data]]>$G$52),1,0)))","v":""},{"$f":"IF(Tabulka2[[#This Row],[OL]]=\"\",\"\",IF(Tabulka2[[#This Row],[OL]]>0,A1342,\"\"))","v":""},null,null,null,null,null,null,null,null,null,null,null,null,null,null,null,"",null,""]
[null,null,{"$f":"IF(Tabulka2[[#This Row],[Data]]=\"\",\"\",IF(OR(Tabulka2[[#This Row],[Data]]<$G$57,Tabulka2[[#This Row],[Data]]>$G$58),2,IF(OR(Tabulka2[[#This Row],[Data]]<$G$51,Tabulka2[[#This Row],[Data]]>$G$52),1,0)))","v":""},{"$f":"IF(Tabulka2[[#This Row],[OL]]=\"\",\"\",IF(Tabulka2[[#This Row],[OL]]>0,A1343,\"\"))","v":""},null,null,null,null,null,null,null,null,null,null,null,null,null,null,null,"",null,""]
[null,null,{"$f":"IF(Tabulka2[[#This Row],[Data]]=\"\",\"\",IF(OR(Tabulka2[[#This Row],[Data]]<$G$57,Tabulka2[[#This Row],[Data]]>$G$58),2,IF(OR(Tabulka2[[#This Row],[Data]]<$G$51,Tabulka2[[#This Row],[Data]]>$G$52),1,0)))","v":""},{"$f":"IF(Tabulka2[[#This Row],[OL]]=\"\",\"\",IF(Tabulka2[[#This Row],[OL]]>0,A1344,\"\"))","v":""},null,null,null,null,null,null,null,null,null,null,null,null,null,null,null,"",null,""]
[null,null,{"$f":"IF(Tabulka2[[#This Row],[Data]]=\"\",\"\",IF(OR(Tabulka2[[#This Row],[Data]]<$G$57,Tabulka2[[#This Row],[Data]]>$G$58),2,IF(OR(Tabulka2[[#This Row],[Data]]<$G$51,Tabulka2[[#This Row],[Data]]>$G$52),1,0)))","v":""},{"$f":"IF(Tabulka2[[#This Row],[OL]]=\"\",\"\",IF(Tabulka2[[#This Row],[OL]]>0,A1345,\"\"))","v":""},null,null,null,null,null,null,null,null,null,null,null,null,null,null,null,"",null,""]
[null,null,{"$f":"IF(Tabulka2[[#This Row],[Data]]=\"\",\"\",IF(OR(Tabulka2[[#This Row],[Data]]<$G$57,Tabulka2[[#This Row],[Data]]>$G$58),2,IF(OR(Tabulka2[[#This Row],[Data]]<$G$51,Tabulka2[[#This Row],[Data]]>$G$52),1,0)))","v":""},{"$f":"IF(Tabulka2[[#This Row],[OL]]=\"\",\"\",IF(Tabulka2[[#This Row],[OL]]>0,A1346,\"\"))","v":""},null,null,null,null,null,null,null,null,null,null,null,null,null,null,null,"",null,""]
[null,null,{"$f":"IF(Tabulka2[[#This Row],[Data]]=\"\",\"\",IF(OR(Tabulka2[[#This Row],[Data]]<$G$57,Tabulka2[[#This Row],[Data]]>$G$58),2,IF(OR(Tabulka2[[#This Row],[Data]]<$G$51,Tabulka2[[#This Row],[Data]]>$G$52),1,0)))","v":""},{"$f":"IF(Tabulka2[[#This Row],[OL]]=\"\",\"\",IF(Tabulka2[[#This Row],[OL]]>0,A1347,\"\"))","v":""},null,null,null,null,null,null,null,null,null,null,null,null,null,null,null,"",null,""]
[null,null,{"$f":"IF(Tabulka2[[#This Row],[Data]]=\"\",\"\",IF(OR(Tabulka2[[#This Row],[Data]]<$G$57,Tabulka2[[#This Row],[Data]]>$G$58),2,IF(OR(Tabulka2[[#This Row],[Data]]<$G$51,Tabulka2[[#This Row],[Data]]>$G$52),1,0)))","v":""},{"$f":"IF(Tabulka2[[#This Row],[OL]]=\"\",\"\",IF(Tabulka2[[#This Row],[OL]]>0,A1348,\"\"))","v":""},null,null,null,null,null,null,null,null,null,null,null,null,null,null,null,"",null,""]
[null,null,{"$f":"IF(Tabulka2[[#This Row],[Data]]=\"\",\"\",IF(OR(Tabulka2[[#This Row],[Data]]<$G$57,Tabulka2[[#This Row],[Data]]>$G$58),2,IF(OR(Tabulka2[[#This Row],[Data]]<$G$51,Tabulka2[[#This Row],[Data]]>$G$52),1,0)))","v":""},{"$f":"IF(Tabulka2[[#This Row],[OL]]=\"\",\"\",IF(Tabulka2[[#This Row],[OL]]>0,A1349,\"\"))","v":""},null,null,null,null,null,null,null,null,null,null,null,null,null,null,null,"",null,""]
[null,null,{"$f":"IF(Tabulka2[[#This Row],[Data]]=\"\",\"\",IF(OR(Tabulka2[[#This Row],[Data]]<$G$57,Tabulka2[[#This Row],[Data]]>$G$58),2,IF(OR(Tabulka2[[#This Row],[Data]]<$G$51,Tabulka2[[#This Row],[Data]]>$G$52),1,0)))","v":""},{"$f":"IF(Tabulka2[[#This Row],[OL]]=\"\",\"\",IF(Tabulka2[[#This Row],[OL]]>0,A1350,\"\"))","v":""},null,null,null,null,null,null,null,null,null,null,null,null,null,null,null,"",null,""]
[null,null,{"$f":"IF(Tabulka2[[#This Row],[Data]]=\"\",\"\",IF(OR(Tabulka2[[#This Row],[Data]]<$G$57,Tabulka2[[#This Row],[Data]]>$G$58),2,IF(OR(Tabulka2[[#This Row],[Data]]<$G$51,Tabulka2[[#This Row],[Data]]>$G$52),1,0)))","v":""},{"$f":"IF(Tabulka2[[#This Row],[OL]]=\"\",\"\",IF(Tabulka2[[#This Row],[OL]]>0,A1351,\"\"))","v":""},null,null,null,null,null,null,null,null,null,null,null,null,null,null,null,"",null,""]
[null,null,{"$f":"IF(Tabulka2[[#This Row],[Data]]=\"\",\"\",IF(OR(Tabulka2[[#This Row],[Data]]<$G$57,Tabulka2[[#This Row],[Data]]>$G$58),2,IF(OR(Tabulka2[[#This Row],[Data]]<$G$51,Tabulka2[[#This Row],[Data]]>$G$52),1,0)))","v":""},{"$f":"IF(Tabulka2[[#This Row],[OL]]=\"\",\"\",IF(Tabulka2[[#This Row],[OL]]>0,A1352,\"\"))","v":""},null,null,null,null,null,null,null,null,null,null,null,null,null,null,null,"",null,""]
[null,null,{"$f":"IF(Tabulka2[[#This Row],[Data]]=\"\",\"\",IF(OR(Tabulka2[[#This Row],[Data]]<$G$57,Tabulka2[[#This Row],[Data]]>$G$58),2,IF(OR(Tabulka2[[#This Row],[Data]]<$G$51,Tabulka2[[#This Row],[Data]]>$G$52),1,0)))","v":""},{"$f":"IF(Tabulka2[[#This Row],[OL]]=\"\",\"\",IF(Tabulka2[[#This Row],[OL]]>0,A1353,\"\"))","v":""},null,null,null,null,null,null,null,null,null,null,null,null,null,null,null,"",null,""]
[null,null,{"$f":"IF(Tabulka2[[#This Row],[Data]]=\"\",\"\",IF(OR(Tabulka2[[#This Row],[Data]]<$G$57,Tabulka2[[#This Row],[Data]]>$G$58),2,IF(OR(Tabulka2[[#This Row],[Data]]<$G$51,Tabulka2[[#This Row],[Data]]>$G$52),1,0)))","v":""},{"$f":"IF(Tabulka2[[#This Row],[OL]]=\"\",\"\",IF(Tabulka2[[#This Row],[OL]]>0,A1354,\"\"))","v":""},null,null,null,null,null,null,null,null,null,null,null,null,null,null,null,"",null,""]
[null,null,{"$f":"IF(Tabulka2[[#This Row],[Data]]=\"\",\"\",IF(OR(Tabulka2[[#This Row],[Data]]<$G$57,Tabulka2[[#This Row],[Data]]>$G$58),2,IF(OR(Tabulka2[[#This Row],[Data]]<$G$51,Tabulka2[[#This Row],[Data]]>$G$52),1,0)))","v":""},{"$f":"IF(Tabulka2[[#This Row],[OL]]=\"\",\"\",IF(Tabulka2[[#This Row],[OL]]>0,A1355,\"\"))","v":""},null,null,null,null,null,null,null,null,null,null,null,null,null,null,null,"",null,""]
[null,null,{"$f":"IF(Tabulka2[[#This Row],[Data]]=\"\",\"\",IF(OR(Tabulka2[[#This Row],[Data]]<$G$57,Tabulka2[[#This Row],[Data]]>$G$58),2,IF(OR(Tabulka2[[#This Row],[Data]]<$G$51,Tabulka2[[#This Row],[Data]]>$G$52),1,0)))","v":""},{"$f":"IF(Tabulka2[[#This Row],[OL]]=\"\",\"\",IF(Tabulka2[[#This Row],[OL]]>0,A1356,\"\"))","v":""},null,null,null,null,null,null,null,null,null,null,null,null,null,null,null,"",null,""]
[null,null,{"$f":"IF(Tabulka2[[#This Row],[Data]]=\"\",\"\",IF(OR(Tabulka2[[#This Row],[Data]]<$G$57,Tabulka2[[#This Row],[Data]]>$G$58),2,IF(OR(Tabulka2[[#This Row],[Data]]<$G$51,Tabulka2[[#This Row],[Data]]>$G$52),1,0)))","v":""},{"$f":"IF(Tabulka2[[#This Row],[OL]]=\"\",\"\",IF(Tabulka2[[#This Row],[OL]]>0,A1357,\"\"))","v":""},null,null,null,null,null,null,null,null,null,null,null,null,null,null,null,"",null,""]
[null,null,{"$f":"IF(Tabulka2[[#This Row],[Data]]=\"\",\"\",IF(OR(Tabulka2[[#This Row],[Data]]<$G$57,Tabulka2[[#This Row],[Data]]>$G$58),2,IF(OR(Tabulka2[[#This Row],[Data]]<$G$51,Tabulka2[[#This Row],[Data]]>$G$52),1,0)))","v":""},{"$f":"IF(Tabulka2[[#This Row],[OL]]=\"\",\"\",IF(Tabulka2[[#This Row],[OL]]>0,A1358,\"\"))","v":""},null,null,null,null,null,null,null,null,null,null,null,null,null,null,null,"",null,""]
[null,null,{"$f":"IF(Tabulka2[[#This Row],[Data]]=\"\",\"\",IF(OR(Tabulka2[[#This Row],[Data]]<$G$57,Tabulka2[[#This Row],[Data]]>$G$58),2,IF(OR(Tabulka2[[#This Row],[Data]]<$G$51,Tabulka2[[#This Row],[Data]]>$G$52),1,0)))","v":""},{"$f":"IF(Tabulka2[[#This Row],[OL]]=\"\",\"\",IF(Tabulka2[[#This Row],[OL]]>0,A1359,\"\"))","v":""},null,null,null,null,null,null,null,null,null,null,null,null,null,null,null,"",null,""]
[null,null,{"$f":"IF(Tabulka2[[#This Row],[Data]]=\"\",\"\",IF(OR(Tabulka2[[#This Row],[Data]]<$G$57,Tabulka2[[#This Row],[Data]]>$G$58),2,IF(OR(Tabulka2[[#This Row],[Data]]<$G$51,Tabulka2[[#This Row],[Data]]>$G$52),1,0)))","v":""},{"$f":"IF(Tabulka2[[#This Row],[OL]]=\"\",\"\",IF(Tabulka2[[#This Row],[OL]]>0,A1360,\"\"))","v":""},null,null,null,null,null,null,null,null,null,null,null,null,null,null,null,"",null,""]
[null,null,{"$f":"IF(Tabulka2[[#This Row],[Data]]=\"\",\"\",IF(OR(Tabulka2[[#This Row],[Data]]<$G$57,Tabulka2[[#This Row],[Data]]>$G$58),2,IF(OR(Tabulka2[[#This Row],[Data]]<$G$51,Tabulka2[[#This Row],[Data]]>$G$52),1,0)))","v":""},{"$f":"IF(Tabulka2[[#This Row],[OL]]=\"\",\"\",IF(Tabulka2[[#This Row],[OL]]>0,A1361,\"\"))","v":""},null,null,null,null,null,null,null,null,null,null,null,null,null,null,null,"",null,""]
[null,null,{"$f":"IF(Tabulka2[[#This Row],[Data]]=\"\",\"\",IF(OR(Tabulka2[[#This Row],[Data]]<$G$57,Tabulka2[[#This Row],[Data]]>$G$58),2,IF(OR(Tabulka2[[#This Row],[Data]]<$G$51,Tabulka2[[#This Row],[Data]]>$G$52),1,0)))","v":""},{"$f":"IF(Tabulka2[[#This Row],[OL]]=\"\",\"\",IF(Tabulka2[[#This Row],[OL]]>0,A1362,\"\"))","v":""},null,null,null,null,null,null,null,null,null,null,null,null,null,null,null,"",null,""]
[null,null,{"$f":"IF(Tabulka2[[#This Row],[Data]]=\"\",\"\",IF(OR(Tabulka2[[#This Row],[Data]]<$G$57,Tabulka2[[#This Row],[Data]]>$G$58),2,IF(OR(Tabulka2[[#This Row],[Data]]<$G$51,Tabulka2[[#This Row],[Data]]>$G$52),1,0)))","v":""},{"$f":"IF(Tabulka2[[#This Row],[OL]]=\"\",\"\",IF(Tabulka2[[#This Row],[OL]]>0,A1363,\"\"))","v":""},null,null,null,null,null,null,null,null,null,null,null,null,null,null,null,"",null,""]
[null,null,{"$f":"IF(Tabulka2[[#This Row],[Data]]=\"\",\"\",IF(OR(Tabulka2[[#This Row],[Data]]<$G$57,Tabulka2[[#This Row],[Data]]>$G$58),2,IF(OR(Tabulka2[[#This Row],[Data]]<$G$51,Tabulka2[[#This Row],[Data]]>$G$52),1,0)))","v":""},{"$f":"IF(Tabulka2[[#This Row],[OL]]=\"\",\"\",IF(Tabulka2[[#This Row],[OL]]>0,A1364,\"\"))","v":""},null,null,null,null,null,null,null,null,null,null,null,null,null,null,null,"",null,""]
[null,null,{"$f":"IF(Tabulka2[[#This Row],[Data]]=\"\",\"\",IF(OR(Tabulka2[[#This Row],[Data]]<$G$57,Tabulka2[[#This Row],[Data]]>$G$58),2,IF(OR(Tabulka2[[#This Row],[Data]]<$G$51,Tabulka2[[#This Row],[Data]]>$G$52),1,0)))","v":""},{"$f":"IF(Tabulka2[[#This Row],[OL]]=\"\",\"\",IF(Tabulka2[[#This Row],[OL]]>0,A1365,\"\"))","v":""},null,null,null,null,null,null,null,null,null,null,null,null,null,null,null,"",null,""]
[null,null,{"$f":"IF(Tabulka2[[#This Row],[Data]]=\"\",\"\",IF(OR(Tabulka2[[#This Row],[Data]]<$G$57,Tabulka2[[#This Row],[Data]]>$G$58),2,IF(OR(Tabulka2[[#This Row],[Data]]<$G$51,Tabulka2[[#This Row],[Data]]>$G$52),1,0)))","v":""},{"$f":"IF(Tabulka2[[#This Row],[OL]]=\"\",\"\",IF(Tabulka2[[#This Row],[OL]]>0,A1366,\"\"))","v":""},null,null,null,null,null,null,null,null,null,null,null,null,null,null,null,"",null,""]
[null,null,{"$f":"IF(Tabulka2[[#This Row],[Data]]=\"\",\"\",IF(OR(Tabulka2[[#This Row],[Data]]<$G$57,Tabulka2[[#This Row],[Data]]>$G$58),2,IF(OR(Tabulka2[[#This Row],[Data]]<$G$51,Tabulka2[[#This Row],[Data]]>$G$52),1,0)))","v":""},{"$f":"IF(Tabulka2[[#This Row],[OL]]=\"\",\"\",IF(Tabulka2[[#This Row],[OL]]>0,A1367,\"\"))","v":""},null,null,null,null,null,null,null,null,null,null,null,null,null,null,null,"",null,""]
[null,null,{"$f":"IF(Tabulka2[[#This Row],[Data]]=\"\",\"\",IF(OR(Tabulka2[[#This Row],[Data]]<$G$57,Tabulka2[[#This Row],[Data]]>$G$58),2,IF(OR(Tabulka2[[#This Row],[Data]]<$G$51,Tabulka2[[#This Row],[Data]]>$G$52),1,0)))","v":""},{"$f":"IF(Tabulka2[[#This Row],[OL]]=\"\",\"\",IF(Tabulka2[[#This Row],[OL]]>0,A1368,\"\"))","v":""},null,null,null,null,null,null,null,null,null,null,null,null,null,null,null,"",null,""]
[null,null,{"$f":"IF(Tabulka2[[#This Row],[Data]]=\"\",\"\",IF(OR(Tabulka2[[#This Row],[Data]]<$G$57,Tabulka2[[#This Row],[Data]]>$G$58),2,IF(OR(Tabulka2[[#This Row],[Data]]<$G$51,Tabulka2[[#This Row],[Data]]>$G$52),1,0)))","v":""},{"$f":"IF(Tabulka2[[#This Row],[OL]]=\"\",\"\",IF(Tabulka2[[#This Row],[OL]]>0,A1369,\"\"))","v":""},null,null,null,null,null,null,null,null,null,null,null,null,null,null,null,"",null,""]
[null,null,{"$f":"IF(Tabulka2[[#This Row],[Data]]=\"\",\"\",IF(OR(Tabulka2[[#This Row],[Data]]<$G$57,Tabulka2[[#This Row],[Data]]>$G$58),2,IF(OR(Tabulka2[[#This Row],[Data]]<$G$51,Tabulka2[[#This Row],[Data]]>$G$52),1,0)))","v":""},{"$f":"IF(Tabulka2[[#This Row],[OL]]=\"\",\"\",IF(Tabulka2[[#This Row],[OL]]>0,A1370,\"\"))","v":""},null,null,null,null,null,null,null,null,null,null,null,null,null,null,null,"",null,""]
[null,null,{"$f":"IF(Tabulka2[[#This Row],[Data]]=\"\",\"\",IF(OR(Tabulka2[[#This Row],[Data]]<$G$57,Tabulka2[[#This Row],[Data]]>$G$58),2,IF(OR(Tabulka2[[#This Row],[Data]]<$G$51,Tabulka2[[#This Row],[Data]]>$G$52),1,0)))","v":""},{"$f":"IF(Tabulka2[[#This Row],[OL]]=\"\",\"\",IF(Tabulka2[[#This Row],[OL]]>0,A1371,\"\"))","v":""},null,null,null,null,null,null,null,null,null,null,null,null,null,null,null,"",null,""]
[null,null,{"$f":"IF(Tabulka2[[#This Row],[Data]]=\"\",\"\",IF(OR(Tabulka2[[#This Row],[Data]]<$G$57,Tabulka2[[#This Row],[Data]]>$G$58),2,IF(OR(Tabulka2[[#This Row],[Data]]<$G$51,Tabulka2[[#This Row],[Data]]>$G$52),1,0)))","v":""},{"$f":"IF(Tabulka2[[#This Row],[OL]]=\"\",\"\",IF(Tabulka2[[#This Row],[OL]]>0,A1372,\"\"))","v":""},null,null,null,null,null,null,null,null,null,null,null,null,null,null,null,"",null,""]
[null,null,{"$f":"IF(Tabulka2[[#This Row],[Data]]=\"\",\"\",IF(OR(Tabulka2[[#This Row],[Data]]<$G$57,Tabulka2[[#This Row],[Data]]>$G$58),2,IF(OR(Tabulka2[[#This Row],[Data]]<$G$51,Tabulka2[[#This Row],[Data]]>$G$52),1,0)))","v":""},{"$f":"IF(Tabulka2[[#This Row],[OL]]=\"\",\"\",IF(Tabulka2[[#This Row],[OL]]>0,A1373,\"\"))","v":""},null,null,null,null,null,null,null,null,null,null,null,null,null,null,null,"",null,""]
[null,null,{"$f":"IF(Tabulka2[[#This Row],[Data]]=\"\",\"\",IF(OR(Tabulka2[[#This Row],[Data]]<$G$57,Tabulka2[[#This Row],[Data]]>$G$58),2,IF(OR(Tabulka2[[#This Row],[Data]]<$G$51,Tabulka2[[#This Row],[Data]]>$G$52),1,0)))","v":""},{"$f":"IF(Tabulka2[[#This Row],[OL]]=\"\",\"\",IF(Tabulka2[[#This Row],[OL]]>0,A1374,\"\"))","v":""},null,null,null,null,null,null,null,null,null,null,null,null,null,null,null,"",null,""]
[null,null,{"$f":"IF(Tabulka2[[#This Row],[Data]]=\"\",\"\",IF(OR(Tabulka2[[#This Row],[Data]]<$G$57,Tabulka2[[#This Row],[Data]]>$G$58),2,IF(OR(Tabulka2[[#This Row],[Data]]<$G$51,Tabulka2[[#This Row],[Data]]>$G$52),1,0)))","v":""},{"$f":"IF(Tabulka2[[#This Row],[OL]]=\"\",\"\",IF(Tabulka2[[#This Row],[OL]]>0,A1375,\"\"))","v":""},null,null,null,null,null,null,null,null,null,null,null,null,null,null,null,"",null,""]
[null,null,{"$f":"IF(Tabulka2[[#This Row],[Data]]=\"\",\"\",IF(OR(Tabulka2[[#This Row],[Data]]<$G$57,Tabulka2[[#This Row],[Data]]>$G$58),2,IF(OR(Tabulka2[[#This Row],[Data]]<$G$51,Tabulka2[[#This Row],[Data]]>$G$52),1,0)))","v":""},{"$f":"IF(Tabulka2[[#This Row],[OL]]=\"\",\"\",IF(Tabulka2[[#This Row],[OL]]>0,A1376,\"\"))","v":""},null,null,null,null,null,null,null,null,null,null,null,null,null,null,null,"",null,""]
[null,null,{"$f":"IF(Tabulka2[[#This Row],[Data]]=\"\",\"\",IF(OR(Tabulka2[[#This Row],[Data]]<$G$57,Tabulka2[[#This Row],[Data]]>$G$58),2,IF(OR(Tabulka2[[#This Row],[Data]]<$G$51,Tabulka2[[#This Row],[Data]]>$G$52),1,0)))","v":""},{"$f":"IF(Tabulka2[[#This Row],[OL]]=\"\",\"\",IF(Tabulka2[[#This Row],[OL]]>0,A1377,\"\"))","v":""},null,null,null,null,null,null,null,null,null,null,null,null,null,null,null,"",null,""]
[null,null,{"$f":"IF(Tabulka2[[#This Row],[Data]]=\"\",\"\",IF(OR(Tabulka2[[#This Row],[Data]]<$G$57,Tabulka2[[#This Row],[Data]]>$G$58),2,IF(OR(Tabulka2[[#This Row],[Data]]<$G$51,Tabulka2[[#This Row],[Data]]>$G$52),1,0)))","v":""},{"$f":"IF(Tabulka2[[#This Row],[OL]]=\"\",\"\",IF(Tabulka2[[#This Row],[OL]]>0,A1378,\"\"))","v":""},null,null,null,null,null,null,null,null,null,null,null,null,null,null,null,"",null,""]
[null,null,{"$f":"IF(Tabulka2[[#This Row],[Data]]=\"\",\"\",IF(OR(Tabulka2[[#This Row],[Data]]<$G$57,Tabulka2[[#This Row],[Data]]>$G$58),2,IF(OR(Tabulka2[[#This Row],[Data]]<$G$51,Tabulka2[[#This Row],[Data]]>$G$52),1,0)))","v":""},{"$f":"IF(Tabulka2[[#This Row],[OL]]=\"\",\"\",IF(Tabulka2[[#This Row],[OL]]>0,A1379,\"\"))","v":""},null,null,null,null,null,null,null,null,null,null,null,null,null,null,null,"",null,""]
[null,null,{"$f":"IF(Tabulka2[[#This Row],[Data]]=\"\",\"\",IF(OR(Tabulka2[[#This Row],[Data]]<$G$57,Tabulka2[[#This Row],[Data]]>$G$58),2,IF(OR(Tabulka2[[#This Row],[Data]]<$G$51,Tabulka2[[#This Row],[Data]]>$G$52),1,0)))","v":""},{"$f":"IF(Tabulka2[[#This Row],[OL]]=\"\",\"\",IF(Tabulka2[[#This Row],[OL]]>0,A1380,\"\"))","v":""},null,null,null,null,null,null,null,null,null,null,null,null,null,null,null,"",null,""]
[null,null,{"$f":"IF(Tabulka2[[#This Row],[Data]]=\"\",\"\",IF(OR(Tabulka2[[#This Row],[Data]]<$G$57,Tabulka2[[#This Row],[Data]]>$G$58),2,IF(OR(Tabulka2[[#This Row],[Data]]<$G$51,Tabulka2[[#This Row],[Data]]>$G$52),1,0)))","v":""},{"$f":"IF(Tabulka2[[#This Row],[OL]]=\"\",\"\",IF(Tabulka2[[#This Row],[OL]]>0,A1381,\"\"))","v":""},null,null,null,null,null,null,null,null,null,null,null,null,null,null,null,"",null,""]
[null,null,{"$f":"IF(Tabulka2[[#This Row],[Data]]=\"\",\"\",IF(OR(Tabulka2[[#This Row],[Data]]<$G$57,Tabulka2[[#This Row],[Data]]>$G$58),2,IF(OR(Tabulka2[[#This Row],[Data]]<$G$51,Tabulka2[[#This Row],[Data]]>$G$52),1,0)))","v":""},{"$f":"IF(Tabulka2[[#This Row],[OL]]=\"\",\"\",IF(Tabulka2[[#This Row],[OL]]>0,A1382,\"\"))","v":""},null,null,null,null,null,null,null,null,null,null,null,null,null,null,null,"",null,""]
[null,null,{"$f":"IF(Tabulka2[[#This Row],[Data]]=\"\",\"\",IF(OR(Tabulka2[[#This Row],[Data]]<$G$57,Tabulka2[[#This Row],[Data]]>$G$58),2,IF(OR(Tabulka2[[#This Row],[Data]]<$G$51,Tabulka2[[#This Row],[Data]]>$G$52),1,0)))","v":""},{"$f":"IF(Tabulka2[[#This Row],[OL]]=\"\",\"\",IF(Tabulka2[[#This Row],[OL]]>0,A1383,\"\"))","v":""},null,null,null,null,null,null,null,null,null,null,null,null,null,null,null,"",null,""]
[null,null,{"$f":"IF(Tabulka2[[#This Row],[Data]]=\"\",\"\",IF(OR(Tabulka2[[#This Row],[Data]]<$G$57,Tabulka2[[#This Row],[Data]]>$G$58),2,IF(OR(Tabulka2[[#This Row],[Data]]<$G$51,Tabulka2[[#This Row],[Data]]>$G$52),1,0)))","v":""},{"$f":"IF(Tabulka2[[#This Row],[OL]]=\"\",\"\",IF(Tabulka2[[#This Row],[OL]]>0,A1384,\"\"))","v":""},null,null,null,null,null,null,null,null,null,null,null,null,null,null,null,"",null,""]
[null,null,{"$f":"IF(Tabulka2[[#This Row],[Data]]=\"\",\"\",IF(OR(Tabulka2[[#This Row],[Data]]<$G$57,Tabulka2[[#This Row],[Data]]>$G$58),2,IF(OR(Tabulka2[[#This Row],[Data]]<$G$51,Tabulka2[[#This Row],[Data]]>$G$52),1,0)))","v":""},{"$f":"IF(Tabulka2[[#This Row],[OL]]=\"\",\"\",IF(Tabulka2[[#This Row],[OL]]>0,A1385,\"\"))","v":""},null,null,null,null,null,null,null,null,null,null,null,null,null,null,null,"",null,""]
[null,null,{"$f":"IF(Tabulka2[[#This Row],[Data]]=\"\",\"\",IF(OR(Tabulka2[[#This Row],[Data]]<$G$57,Tabulka2[[#This Row],[Data]]>$G$58),2,IF(OR(Tabulka2[[#This Row],[Data]]<$G$51,Tabulka2[[#This Row],[Data]]>$G$52),1,0)))","v":""},{"$f":"IF(Tabulka2[[#This Row],[OL]]=\"\",\"\",IF(Tabulka2[[#This Row],[OL]]>0,A1386,\"\"))","v":""},null,null,null,null,null,null,null,null,null,null,null,null,null,null,null,"",null,""]
[null,null,{"$f":"IF(Tabulka2[[#This Row],[Data]]=\"\",\"\",IF(OR(Tabulka2[[#This Row],[Data]]<$G$57,Tabulka2[[#This Row],[Data]]>$G$58),2,IF(OR(Tabulka2[[#This Row],[Data]]<$G$51,Tabulka2[[#This Row],[Data]]>$G$52),1,0)))","v":""},{"$f":"IF(Tabulka2[[#This Row],[OL]]=\"\",\"\",IF(Tabulka2[[#This Row],[OL]]>0,A1387,\"\"))","v":""},null,null,null,null,null,null,null,null,null,null,null,null,null,null,null,"",null,""]
[null,null,{"$f":"IF(Tabulka2[[#This Row],[Data]]=\"\",\"\",IF(OR(Tabulka2[[#This Row],[Data]]<$G$57,Tabulka2[[#This Row],[Data]]>$G$58),2,IF(OR(Tabulka2[[#This Row],[Data]]<$G$51,Tabulka2[[#This Row],[Data]]>$G$52),1,0)))","v":""},{"$f":"IF(Tabulka2[[#This Row],[OL]]=\"\",\"\",IF(Tabulka2[[#This Row],[OL]]>0,A1388,\"\"))","v":""},null,null,null,null,null,null,null,null,null,null,null,null,null,null,null,"",null,""]
[null,null,{"$f":"IF(Tabulka2[[#This Row],[Data]]=\"\",\"\",IF(OR(Tabulka2[[#This Row],[Data]]<$G$57,Tabulka2[[#This Row],[Data]]>$G$58),2,IF(OR(Tabulka2[[#This Row],[Data]]<$G$51,Tabulka2[[#This Row],[Data]]>$G$52),1,0)))","v":""},{"$f":"IF(Tabulka2[[#This Row],[OL]]=\"\",\"\",IF(Tabulka2[[#This Row],[OL]]>0,A1389,\"\"))","v":""},null,null,null,null,null,null,null,null,null,null,null,null,null,null,null,"",null,""]
[null,null,{"$f":"IF(Tabulka2[[#This Row],[Data]]=\"\",\"\",IF(OR(Tabulka2[[#This Row],[Data]]<$G$57,Tabulka2[[#This Row],[Data]]>$G$58),2,IF(OR(Tabulka2[[#This Row],[Data]]<$G$51,Tabulka2[[#This Row],[Data]]>$G$52),1,0)))","v":""},{"$f":"IF(Tabulka2[[#This Row],[OL]]=\"\",\"\",IF(Tabulka2[[#This Row],[OL]]>0,A1390,\"\"))","v":""},null,null,null,null,null,null,null,null,null,null,null,null,null,null,null,"",null,""]
[null,null,{"$f":"IF(Tabulka2[[#This Row],[Data]]=\"\",\"\",IF(OR(Tabulka2[[#This Row],[Data]]<$G$57,Tabulka2[[#This Row],[Data]]>$G$58),2,IF(OR(Tabulka2[[#This Row],[Data]]<$G$51,Tabulka2[[#This Row],[Data]]>$G$52),1,0)))","v":""},{"$f":"IF(Tabulka2[[#This Row],[OL]]=\"\",\"\",IF(Tabulka2[[#This Row],[OL]]>0,A1391,\"\"))","v":""},null,null,null,null,null,null,null,null,null,null,null,null,null,null,null,"",null,""]
[null,null,{"$f":"IF(Tabulka2[[#This Row],[Data]]=\"\",\"\",IF(OR(Tabulka2[[#This Row],[Data]]<$G$57,Tabulka2[[#This Row],[Data]]>$G$58),2,IF(OR(Tabulka2[[#This Row],[Data]]<$G$51,Tabulka2[[#This Row],[Data]]>$G$52),1,0)))","v":""},{"$f":"IF(Tabulka2[[#This Row],[OL]]=\"\",\"\",IF(Tabulka2[[#This Row],[OL]]>0,A1392,\"\"))","v":""},null,null,null,null,null,null,null,null,null,null,null,null,null,null,null,"",null,""]
[null,null,{"$f":"IF(Tabulka2[[#This Row],[Data]]=\"\",\"\",IF(OR(Tabulka2[[#This Row],[Data]]<$G$57,Tabulka2[[#This Row],[Data]]>$G$58),2,IF(OR(Tabulka2[[#This Row],[Data]]<$G$51,Tabulka2[[#This Row],[Data]]>$G$52),1,0)))","v":""},{"$f":"IF(Tabulka2[[#This Row],[OL]]=\"\",\"\",IF(Tabulka2[[#This Row],[OL]]>0,A1393,\"\"))","v":""},null,null,null,null,null,null,null,null,null,null,null,null,null,null,null,"",null,""]
[null,null,{"$f":"IF(Tabulka2[[#This Row],[Data]]=\"\",\"\",IF(OR(Tabulka2[[#This Row],[Data]]<$G$57,Tabulka2[[#This Row],[Data]]>$G$58),2,IF(OR(Tabulka2[[#This Row],[Data]]<$G$51,Tabulka2[[#This Row],[Data]]>$G$52),1,0)))","v":""},{"$f":"IF(Tabulka2[[#This Row],[OL]]=\"\",\"\",IF(Tabulka2[[#This Row],[OL]]>0,A1394,\"\"))","v":""},null,null,null,null,null,null,null,null,null,null,null,null,null,null,null,"",null,""]
[null,null,{"$f":"IF(Tabulka2[[#This Row],[Data]]=\"\",\"\",IF(OR(Tabulka2[[#This Row],[Data]]<$G$57,Tabulka2[[#This Row],[Data]]>$G$58),2,IF(OR(Tabulka2[[#This Row],[Data]]<$G$51,Tabulka2[[#This Row],[Data]]>$G$52),1,0)))","v":""},{"$f":"IF(Tabulka2[[#This Row],[OL]]=\"\",\"\",IF(Tabulka2[[#This Row],[OL]]>0,A1395,\"\"))","v":""},null,null,null,null,null,null,null,null,null,null,null,null,null,null,null,"",null,""]
[null,null,{"$f":"IF(Tabulka2[[#This Row],[Data]]=\"\",\"\",IF(OR(Tabulka2[[#This Row],[Data]]<$G$57,Tabulka2[[#This Row],[Data]]>$G$58),2,IF(OR(Tabulka2[[#This Row],[Data]]<$G$51,Tabulka2[[#This Row],[Data]]>$G$52),1,0)))","v":""},{"$f":"IF(Tabulka2[[#This Row],[OL]]=\"\",\"\",IF(Tabulka2[[#This Row],[OL]]>0,A1396,\"\"))","v":""},null,null,null,null,null,null,null,null,null,null,null,null,null,null,null,"",null,""]
[null,null,{"$f":"IF(Tabulka2[[#This Row],[Data]]=\"\",\"\",IF(OR(Tabulka2[[#This Row],[Data]]<$G$57,Tabulka2[[#This Row],[Data]]>$G$58),2,IF(OR(Tabulka2[[#This Row],[Data]]<$G$51,Tabulka2[[#This Row],[Data]]>$G$52),1,0)))","v":""},{"$f":"IF(Tabulka2[[#This Row],[OL]]=\"\",\"\",IF(Tabulka2[[#This Row],[OL]]>0,A1397,\"\"))","v":""},null,null,null,null,null,null,null,null,null,null,null,null,null,null,null,"",null,""]
[null,null,{"$f":"IF(Tabulka2[[#This Row],[Data]]=\"\",\"\",IF(OR(Tabulka2[[#This Row],[Data]]<$G$57,Tabulka2[[#This Row],[Data]]>$G$58),2,IF(OR(Tabulka2[[#This Row],[Data]]<$G$51,Tabulka2[[#This Row],[Data]]>$G$52),1,0)))","v":""},{"$f":"IF(Tabulka2[[#This Row],[OL]]=\"\",\"\",IF(Tabulka2[[#This Row],[OL]]>0,A1398,\"\"))","v":""},null,null,null,null,null,null,null,null,null,null,null,null,null,null,null,"",null,""]
[null,null,{"$f":"IF(Tabulka2[[#This Row],[Data]]=\"\",\"\",IF(OR(Tabulka2[[#This Row],[Data]]<$G$57,Tabulka2[[#This Row],[Data]]>$G$58),2,IF(OR(Tabulka2[[#This Row],[Data]]<$G$51,Tabulka2[[#This Row],[Data]]>$G$52),1,0)))","v":""},{"$f":"IF(Tabulka2[[#This Row],[OL]]=\"\",\"\",IF(Tabulka2[[#This Row],[OL]]>0,A1399,\"\"))","v":""},null,null,null,null,null,null,null,null,null,null,null,null,null,null,null,"",null,""]
[null,null,{"$f":"IF(Tabulka2[[#This Row],[Data]]=\"\",\"\",IF(OR(Tabulka2[[#This Row],[Data]]<$G$57,Tabulka2[[#This Row],[Data]]>$G$58),2,IF(OR(Tabulka2[[#This Row],[Data]]<$G$51,Tabulka2[[#This Row],[Data]]>$G$52),1,0)))","v":""},{"$f":"IF(Tabulka2[[#This Row],[OL]]=\"\",\"\",IF(Tabulka2[[#This Row],[OL]]>0,A1400,\"\"))","v":""},null,null,null,null,null,null,null,null,null,null,null,null,null,null,null,"",null,""]
[null,null,{"$f":"IF(Tabulka2[[#This Row],[Data]]=\"\",\"\",IF(OR(Tabulka2[[#This Row],[Data]]<$G$57,Tabulka2[[#This Row],[Data]]>$G$58),2,IF(OR(Tabulka2[[#This Row],[Data]]<$G$51,Tabulka2[[#This Row],[Data]]>$G$52),1,0)))","v":""},{"$f":"IF(Tabulka2[[#This Row],[OL]]=\"\",\"\",IF(Tabulka2[[#This Row],[OL]]>0,A1401,\"\"))","v":""},null,null,null,null,null,null,null,null,null,null,null,null,null,null,null,"",null,""]
[null,null,{"$f":"IF(Tabulka2[[#This Row],[Data]]=\"\",\"\",IF(OR(Tabulka2[[#This Row],[Data]]<$G$57,Tabulka2[[#This Row],[Data]]>$G$58),2,IF(OR(Tabulka2[[#This Row],[Data]]<$G$51,Tabulka2[[#This Row],[Data]]>$G$52),1,0)))","v":""},{"$f":"IF(Tabulka2[[#This Row],[OL]]=\"\",\"\",IF(Tabulka2[[#This Row],[OL]]>0,A1402,\"\"))","v":""},null,null,null,null,null,null,null,null,null,null,null,null,null,null,null,"",null,""]
[null,null,{"$f":"IF(Tabulka2[[#This Row],[Data]]=\"\",\"\",IF(OR(Tabulka2[[#This Row],[Data]]<$G$57,Tabulka2[[#This Row],[Data]]>$G$58),2,IF(OR(Tabulka2[[#This Row],[Data]]<$G$51,Tabulka2[[#This Row],[Data]]>$G$52),1,0)))","v":""},{"$f":"IF(Tabulka2[[#This Row],[OL]]=\"\",\"\",IF(Tabulka2[[#This Row],[OL]]>0,A1403,\"\"))","v":""},null,null,null,null,null,null,null,null,null,null,null,null,null,null,null,"",null,""]
[null,null,{"$f":"IF(Tabulka2[[#This Row],[Data]]=\"\",\"\",IF(OR(Tabulka2[[#This Row],[Data]]<$G$57,Tabulka2[[#This Row],[Data]]>$G$58),2,IF(OR(Tabulka2[[#This Row],[Data]]<$G$51,Tabulka2[[#This Row],[Data]]>$G$52),1,0)))","v":""},{"$f":"IF(Tabulka2[[#This Row],[OL]]=\"\",\"\",IF(Tabulka2[[#This Row],[OL]]>0,A1404,\"\"))","v":""},null,null,null,null,null,null,null,null,null,null,null,null,null,null,null,"",null,""]
[null,null,{"$f":"IF(Tabulka2[[#This Row],[Data]]=\"\",\"\",IF(OR(Tabulka2[[#This Row],[Data]]<$G$57,Tabulka2[[#This Row],[Data]]>$G$58),2,IF(OR(Tabulka2[[#This Row],[Data]]<$G$51,Tabulka2[[#This Row],[Data]]>$G$52),1,0)))","v":""},{"$f":"IF(Tabulka2[[#This Row],[OL]]=\"\",\"\",IF(Tabulka2[[#This Row],[OL]]>0,A1405,\"\"))","v":""},null,null,null,null,null,null,null,null,null,null,null,null,null,null,null,"",null,""]
[null,null,{"$f":"IF(Tabulka2[[#This Row],[Data]]=\"\",\"\",IF(OR(Tabulka2[[#This Row],[Data]]<$G$57,Tabulka2[[#This Row],[Data]]>$G$58),2,IF(OR(Tabulka2[[#This Row],[Data]]<$G$51,Tabulka2[[#This Row],[Data]]>$G$52),1,0)))","v":""},{"$f":"IF(Tabulka2[[#This Row],[OL]]=\"\",\"\",IF(Tabulka2[[#This Row],[OL]]>0,A1406,\"\"))","v":""},null,null,null,null,null,null,null,null,null,null,null,null,null,null,null,"",null,""]
[null,null,{"$f":"IF(Tabulka2[[#This Row],[Data]]=\"\",\"\",IF(OR(Tabulka2[[#This Row],[Data]]<$G$57,Tabulka2[[#This Row],[Data]]>$G$58),2,IF(OR(Tabulka2[[#This Row],[Data]]<$G$51,Tabulka2[[#This Row],[Data]]>$G$52),1,0)))","v":""},{"$f":"IF(Tabulka2[[#This Row],[OL]]=\"\",\"\",IF(Tabulka2[[#This Row],[OL]]>0,A1407,\"\"))","v":""},null,null,null,null,null,null,null,null,null,null,null,null,null,null,null,"",null,""]
[null,null,{"$f":"IF(Tabulka2[[#This Row],[Data]]=\"\",\"\",IF(OR(Tabulka2[[#This Row],[Data]]<$G$57,Tabulka2[[#This Row],[Data]]>$G$58),2,IF(OR(Tabulka2[[#This Row],[Data]]<$G$51,Tabulka2[[#This Row],[Data]]>$G$52),1,0)))","v":""},{"$f":"IF(Tabulka2[[#This Row],[OL]]=\"\",\"\",IF(Tabulka2[[#This Row],[OL]]>0,A1408,\"\"))","v":""},null,null,null,null,null,null,null,null,null,null,null,null,null,null,null,"",null,""]
[null,null,{"$f":"IF(Tabulka2[[#This Row],[Data]]=\"\",\"\",IF(OR(Tabulka2[[#This Row],[Data]]<$G$57,Tabulka2[[#This Row],[Data]]>$G$58),2,IF(OR(Tabulka2[[#This Row],[Data]]<$G$51,Tabulka2[[#This Row],[Data]]>$G$52),1,0)))","v":""},{"$f":"IF(Tabulka2[[#This Row],[OL]]=\"\",\"\",IF(Tabulka2[[#This Row],[OL]]>0,A1409,\"\"))","v":""},null,null,null,null,null,null,null,null,null,null,null,null,null,null,null,"",null,""]
[null,null,{"$f":"IF(Tabulka2[[#This Row],[Data]]=\"\",\"\",IF(OR(Tabulka2[[#This Row],[Data]]<$G$57,Tabulka2[[#This Row],[Data]]>$G$58),2,IF(OR(Tabulka2[[#This Row],[Data]]<$G$51,Tabulka2[[#This Row],[Data]]>$G$52),1,0)))","v":""},{"$f":"IF(Tabulka2[[#This Row],[OL]]=\"\",\"\",IF(Tabulka2[[#This Row],[OL]]>0,A1410,\"\"))","v":""},null,null,null,null,null,null,null,null,null,null,null,null,null,null,null,"",null,""]
[null,null,{"$f":"IF(Tabulka2[[#This Row],[Data]]=\"\",\"\",IF(OR(Tabulka2[[#This Row],[Data]]<$G$57,Tabulka2[[#This Row],[Data]]>$G$58),2,IF(OR(Tabulka2[[#This Row],[Data]]<$G$51,Tabulka2[[#This Row],[Data]]>$G$52),1,0)))","v":""},{"$f":"IF(Tabulka2[[#This Row],[OL]]=\"\",\"\",IF(Tabulka2[[#This Row],[OL]]>0,A1411,\"\"))","v":""},null,null,null,null,null,null,null,null,null,null,null,null,null,null,null,"",null,""]
[null,null,{"$f":"IF(Tabulka2[[#This Row],[Data]]=\"\",\"\",IF(OR(Tabulka2[[#This Row],[Data]]<$G$57,Tabulka2[[#This Row],[Data]]>$G$58),2,IF(OR(Tabulka2[[#This Row],[Data]]<$G$51,Tabulka2[[#This Row],[Data]]>$G$52),1,0)))","v":""},{"$f":"IF(Tabulka2[[#This Row],[OL]]=\"\",\"\",IF(Tabulka2[[#This Row],[OL]]>0,A1412,\"\"))","v":""},null,null,null,null,null,null,null,null,null,null,null,null,null,null,null,"",null,""]
[null,null,{"$f":"IF(Tabulka2[[#This Row],[Data]]=\"\",\"\",IF(OR(Tabulka2[[#This Row],[Data]]<$G$57,Tabulka2[[#This Row],[Data]]>$G$58),2,IF(OR(Tabulka2[[#This Row],[Data]]<$G$51,Tabulka2[[#This Row],[Data]]>$G$52),1,0)))","v":""},{"$f":"IF(Tabulka2[[#This Row],[OL]]=\"\",\"\",IF(Tabulka2[[#This Row],[OL]]>0,A1413,\"\"))","v":""},null,null,null,null,null,null,null,null,null,null,null,null,null,null,null,"",null,""]
[null,null,{"$f":"IF(Tabulka2[[#This Row],[Data]]=\"\",\"\",IF(OR(Tabulka2[[#This Row],[Data]]<$G$57,Tabulka2[[#This Row],[Data]]>$G$58),2,IF(OR(Tabulka2[[#This Row],[Data]]<$G$51,Tabulka2[[#This Row],[Data]]>$G$52),1,0)))","v":""},{"$f":"IF(Tabulka2[[#This Row],[OL]]=\"\",\"\",IF(Tabulka2[[#This Row],[OL]]>0,A1414,\"\"))","v":""},null,null,null,null,null,null,null,null,null,null,null,null,null,null,null,"",null,""]
[null,null,{"$f":"IF(Tabulka2[[#This Row],[Data]]=\"\",\"\",IF(OR(Tabulka2[[#This Row],[Data]]<$G$57,Tabulka2[[#This Row],[Data]]>$G$58),2,IF(OR(Tabulka2[[#This Row],[Data]]<$G$51,Tabulka2[[#This Row],[Data]]>$G$52),1,0)))","v":""},{"$f":"IF(Tabulka2[[#This Row],[OL]]=\"\",\"\",IF(Tabulka2[[#This Row],[OL]]>0,A1415,\"\"))","v":""},null,null,null,null,null,null,null,null,null,null,null,null,null,null,null,"",null,""]
[null,null,{"$f":"IF(Tabulka2[[#This Row],[Data]]=\"\",\"\",IF(OR(Tabulka2[[#This Row],[Data]]<$G$57,Tabulka2[[#This Row],[Data]]>$G$58),2,IF(OR(Tabulka2[[#This Row],[Data]]<$G$51,Tabulka2[[#This Row],[Data]]>$G$52),1,0)))","v":""},{"$f":"IF(Tabulka2[[#This Row],[OL]]=\"\",\"\",IF(Tabulka2[[#This Row],[OL]]>0,A1416,\"\"))","v":""},null,null,null,null,null,null,null,null,null,null,null,null,null,null,null,"",null,""]
[null,null,{"$f":"IF(Tabulka2[[#This Row],[Data]]=\"\",\"\",IF(OR(Tabulka2[[#This Row],[Data]]<$G$57,Tabulka2[[#This Row],[Data]]>$G$58),2,IF(OR(Tabulka2[[#This Row],[Data]]<$G$51,Tabulka2[[#This Row],[Data]]>$G$52),1,0)))","v":""},{"$f":"IF(Tabulka2[[#This Row],[OL]]=\"\",\"\",IF(Tabulka2[[#This Row],[OL]]>0,A1417,\"\"))","v":""},null,null,null,null,null,null,null,null,null,null,null,null,null,null,null,"",null,""]
[null,null,{"$f":"IF(Tabulka2[[#This Row],[Data]]=\"\",\"\",IF(OR(Tabulka2[[#This Row],[Data]]<$G$57,Tabulka2[[#This Row],[Data]]>$G$58),2,IF(OR(Tabulka2[[#This Row],[Data]]<$G$51,Tabulka2[[#This Row],[Data]]>$G$52),1,0)))","v":""},{"$f":"IF(Tabulka2[[#This Row],[OL]]=\"\",\"\",IF(Tabulka2[[#This Row],[OL]]>0,A1418,\"\"))","v":""},null,null,null,null,null,null,null,null,null,null,null,null,null,null,null,"",null,""]
[null,null,{"$f":"IF(Tabulka2[[#This Row],[Data]]=\"\",\"\",IF(OR(Tabulka2[[#This Row],[Data]]<$G$57,Tabulka2[[#This Row],[Data]]>$G$58),2,IF(OR(Tabulka2[[#This Row],[Data]]<$G$51,Tabulka2[[#This Row],[Data]]>$G$52),1,0)))","v":""},{"$f":"IF(Tabulka2[[#This Row],[OL]]=\"\",\"\",IF(Tabulka2[[#This Row],[OL]]>0,A1419,\"\"))","v":""},null,null,null,null,null,null,null,null,null,null,null,null,null,null,null,"",null,""]
[null,null,{"$f":"IF(Tabulka2[[#This Row],[Data]]=\"\",\"\",IF(OR(Tabulka2[[#This Row],[Data]]<$G$57,Tabulka2[[#This Row],[Data]]>$G$58),2,IF(OR(Tabulka2[[#This Row],[Data]]<$G$51,Tabulka2[[#This Row],[Data]]>$G$52),1,0)))","v":""},{"$f":"IF(Tabulka2[[#This Row],[OL]]=\"\",\"\",IF(Tabulka2[[#This Row],[OL]]>0,A1420,\"\"))","v":""},null,null,null,null,null,null,null,null,null,null,null,null,null,null,null,"",null,""]
[null,null,{"$f":"IF(Tabulka2[[#This Row],[Data]]=\"\",\"\",IF(OR(Tabulka2[[#This Row],[Data]]<$G$57,Tabulka2[[#This Row],[Data]]>$G$58),2,IF(OR(Tabulka2[[#This Row],[Data]]<$G$51,Tabulka2[[#This Row],[Data]]>$G$52),1,0)))","v":""},{"$f":"IF(Tabulka2[[#This Row],[OL]]=\"\",\"\",IF(Tabulka2[[#This Row],[OL]]>0,A1421,\"\"))","v":""},null,null,null,null,null,null,null,null,null,null,null,null,null,null,null,"",null,""]
[null,null,{"$f":"IF(Tabulka2[[#This Row],[Data]]=\"\",\"\",IF(OR(Tabulka2[[#This Row],[Data]]<$G$57,Tabulka2[[#This Row],[Data]]>$G$58),2,IF(OR(Tabulka2[[#This Row],[Data]]<$G$51,Tabulka2[[#This Row],[Data]]>$G$52),1,0)))","v":""},{"$f":"IF(Tabulka2[[#This Row],[OL]]=\"\",\"\",IF(Tabulka2[[#This Row],[OL]]>0,A1422,\"\"))","v":""},null,null,null,null,null,null,null,null,null,null,null,null,null,null,null,"",null,""]
[null,null,{"$f":"IF(Tabulka2[[#This Row],[Data]]=\"\",\"\",IF(OR(Tabulka2[[#This Row],[Data]]<$G$57,Tabulka2[[#This Row],[Data]]>$G$58),2,IF(OR(Tabulka2[[#This Row],[Data]]<$G$51,Tabulka2[[#This Row],[Data]]>$G$52),1,0)))","v":""},{"$f":"IF(Tabulka2[[#This Row],[OL]]=\"\",\"\",IF(Tabulka2[[#This Row],[OL]]>0,A1423,\"\"))","v":""},null,null,null,null,null,null,null,null,null,null,null,null,null,null,null,"",null,""]
[null,null,{"$f":"IF(Tabulka2[[#This Row],[Data]]=\"\",\"\",IF(OR(Tabulka2[[#This Row],[Data]]<$G$57,Tabulka2[[#This Row],[Data]]>$G$58),2,IF(OR(Tabulka2[[#This Row],[Data]]<$G$51,Tabulka2[[#This Row],[Data]]>$G$52),1,0)))","v":""},{"$f":"IF(Tabulka2[[#This Row],[OL]]=\"\",\"\",IF(Tabulka2[[#This Row],[OL]]>0,A1424,\"\"))","v":""},null,null,null,null,null,null,null,null,null,null,null,null,null,null,null,"",null,""]
[null,null,{"$f":"IF(Tabulka2[[#This Row],[Data]]=\"\",\"\",IF(OR(Tabulka2[[#This Row],[Data]]<$G$57,Tabulka2[[#This Row],[Data]]>$G$58),2,IF(OR(Tabulka2[[#This Row],[Data]]<$G$51,Tabulka2[[#This Row],[Data]]>$G$52),1,0)))","v":""},{"$f":"IF(Tabulka2[[#This Row],[OL]]=\"\",\"\",IF(Tabulka2[[#This Row],[OL]]>0,A1425,\"\"))","v":""},null,null,null,null,null,null,null,null,null,null,null,null,null,null,null,"",null,""]
[null,null,{"$f":"IF(Tabulka2[[#This Row],[Data]]=\"\",\"\",IF(OR(Tabulka2[[#This Row],[Data]]<$G$57,Tabulka2[[#This Row],[Data]]>$G$58),2,IF(OR(Tabulka2[[#This Row],[Data]]<$G$51,Tabulka2[[#This Row],[Data]]>$G$52),1,0)))","v":""},{"$f":"IF(Tabulka2[[#This Row],[OL]]=\"\",\"\",IF(Tabulka2[[#This Row],[OL]]>0,A1426,\"\"))","v":""},null,null,null,null,null,null,null,null,null,null,null,null,null,null,null,"",null,""]
[null,null,{"$f":"IF(Tabulka2[[#This Row],[Data]]=\"\",\"\",IF(OR(Tabulka2[[#This Row],[Data]]<$G$57,Tabulka2[[#This Row],[Data]]>$G$58),2,IF(OR(Tabulka2[[#This Row],[Data]]<$G$51,Tabulka2[[#This Row],[Data]]>$G$52),1,0)))","v":""},{"$f":"IF(Tabulka2[[#This Row],[OL]]=\"\",\"\",IF(Tabulka2[[#This Row],[OL]]>0,A1427,\"\"))","v":""},null,null,null,null,null,null,null,null,null,null,null,null,null,null,null,"",null,""]
[null,null,{"$f":"IF(Tabulka2[[#This Row],[Data]]=\"\",\"\",IF(OR(Tabulka2[[#This Row],[Data]]<$G$57,Tabulka2[[#This Row],[Data]]>$G$58),2,IF(OR(Tabulka2[[#This Row],[Data]]<$G$51,Tabulka2[[#This Row],[Data]]>$G$52),1,0)))","v":""},{"$f":"IF(Tabulka2[[#This Row],[OL]]=\"\",\"\",IF(Tabulka2[[#This Row],[OL]]>0,A1428,\"\"))","v":""},null,null,null,null,null,null,null,null,null,null,null,null,null,null,null,"",null,""]
[null,null,{"$f":"IF(Tabulka2[[#This Row],[Data]]=\"\",\"\",IF(OR(Tabulka2[[#This Row],[Data]]<$G$57,Tabulka2[[#This Row],[Data]]>$G$58),2,IF(OR(Tabulka2[[#This Row],[Data]]<$G$51,Tabulka2[[#This Row],[Data]]>$G$52),1,0)))","v":""},{"$f":"IF(Tabulka2[[#This Row],[OL]]=\"\",\"\",IF(Tabulka2[[#This Row],[OL]]>0,A1429,\"\"))","v":""},null,null,null,null,null,null,null,null,null,null,null,null,null,null,null,"",null,""]
[null,null,{"$f":"IF(Tabulka2[[#This Row],[Data]]=\"\",\"\",IF(OR(Tabulka2[[#This Row],[Data]]<$G$57,Tabulka2[[#This Row],[Data]]>$G$58),2,IF(OR(Tabulka2[[#This Row],[Data]]<$G$51,Tabulka2[[#This Row],[Data]]>$G$52),1,0)))","v":""},{"$f":"IF(Tabulka2[[#This Row],[OL]]=\"\",\"\",IF(Tabulka2[[#This Row],[OL]]>0,A1430,\"\"))","v":""},null,null,null,null,null,null,null,null,null,null,null,null,null,null,null,"",null,""]
[null,null,{"$f":"IF(Tabulka2[[#This Row],[Data]]=\"\",\"\",IF(OR(Tabulka2[[#This Row],[Data]]<$G$57,Tabulka2[[#This Row],[Data]]>$G$58),2,IF(OR(Tabulka2[[#This Row],[Data]]<$G$51,Tabulka2[[#This Row],[Data]]>$G$52),1,0)))","v":""},{"$f":"IF(Tabulka2[[#This Row],[OL]]=\"\",\"\",IF(Tabulka2[[#This Row],[OL]]>0,A1431,\"\"))","v":""},null,null,null,null,null,null,null,null,null,null,null,null,null,null,null,"",null,""]
[null,null,{"$f":"IF(Tabulka2[[#This Row],[Data]]=\"\",\"\",IF(OR(Tabulka2[[#This Row],[Data]]<$G$57,Tabulka2[[#This Row],[Data]]>$G$58),2,IF(OR(Tabulka2[[#This Row],[Data]]<$G$51,Tabulka2[[#This Row],[Data]]>$G$52),1,0)))","v":""},{"$f":"IF(Tabulka2[[#This Row],[OL]]=\"\",\"\",IF(Tabulka2[[#This Row],[OL]]>0,A1432,\"\"))","v":""},null,null,null,null,null,null,null,null,null,null,null,null,null,null,null,"",null,""]
[null,null,{"$f":"IF(Tabulka2[[#This Row],[Data]]=\"\",\"\",IF(OR(Tabulka2[[#This Row],[Data]]<$G$57,Tabulka2[[#This Row],[Data]]>$G$58),2,IF(OR(Tabulka2[[#This Row],[Data]]<$G$51,Tabulka2[[#This Row],[Data]]>$G$52),1,0)))","v":""},{"$f":"IF(Tabulka2[[#This Row],[OL]]=\"\",\"\",IF(Tabulka2[[#This Row],[OL]]>0,A1433,\"\"))","v":""},null,null,null,null,null,null,null,null,null,null,null,null,null,null,null,"",null,""]
[null,null,{"$f":"IF(Tabulka2[[#This Row],[Data]]=\"\",\"\",IF(OR(Tabulka2[[#This Row],[Data]]<$G$57,Tabulka2[[#This Row],[Data]]>$G$58),2,IF(OR(Tabulka2[[#This Row],[Data]]<$G$51,Tabulka2[[#This Row],[Data]]>$G$52),1,0)))","v":""},{"$f":"IF(Tabulka2[[#This Row],[OL]]=\"\",\"\",IF(Tabulka2[[#This Row],[OL]]>0,A1434,\"\"))","v":""},null,null,null,null,null,null,null,null,null,null,null,null,null,null,null,"",null,""]
[null,null,{"$f":"IF(Tabulka2[[#This Row],[Data]]=\"\",\"\",IF(OR(Tabulka2[[#This Row],[Data]]<$G$57,Tabulka2[[#This Row],[Data]]>$G$58),2,IF(OR(Tabulka2[[#This Row],[Data]]<$G$51,Tabulka2[[#This Row],[Data]]>$G$52),1,0)))","v":""},{"$f":"IF(Tabulka2[[#This Row],[OL]]=\"\",\"\",IF(Tabulka2[[#This Row],[OL]]>0,A1435,\"\"))","v":""},null,null,null,null,null,null,null,null,null,null,null,null,null,null,null,"",null,""]
[null,null,{"$f":"IF(Tabulka2[[#This Row],[Data]]=\"\",\"\",IF(OR(Tabulka2[[#This Row],[Data]]<$G$57,Tabulka2[[#This Row],[Data]]>$G$58),2,IF(OR(Tabulka2[[#This Row],[Data]]<$G$51,Tabulka2[[#This Row],[Data]]>$G$52),1,0)))","v":""},{"$f":"IF(Tabulka2[[#This Row],[OL]]=\"\",\"\",IF(Tabulka2[[#This Row],[OL]]>0,A1436,\"\"))","v":""},null,null,null,null,null,null,null,null,null,null,null,null,null,null,null,"",null,""]
[null,null,{"$f":"IF(Tabulka2[[#This Row],[Data]]=\"\",\"\",IF(OR(Tabulka2[[#This Row],[Data]]<$G$57,Tabulka2[[#This Row],[Data]]>$G$58),2,IF(OR(Tabulka2[[#This Row],[Data]]<$G$51,Tabulka2[[#This Row],[Data]]>$G$52),1,0)))","v":""},{"$f":"IF(Tabulka2[[#This Row],[OL]]=\"\",\"\",IF(Tabulka2[[#This Row],[OL]]>0,A1437,\"\"))","v":""},null,null,null,null,null,null,null,null,null,null,null,null,null,null,null,"",null,""]
[null,null,{"$f":"IF(Tabulka2[[#This Row],[Data]]=\"\",\"\",IF(OR(Tabulka2[[#This Row],[Data]]<$G$57,Tabulka2[[#This Row],[Data]]>$G$58),2,IF(OR(Tabulka2[[#This Row],[Data]]<$G$51,Tabulka2[[#This Row],[Data]]>$G$52),1,0)))","v":""},{"$f":"IF(Tabulka2[[#This Row],[OL]]=\"\",\"\",IF(Tabulka2[[#This Row],[OL]]>0,A1438,\"\"))","v":""},null,null,null,null,null,null,null,null,null,null,null,null,null,null,null,"",null,""]
[null,null,{"$f":"IF(Tabulka2[[#This Row],[Data]]=\"\",\"\",IF(OR(Tabulka2[[#This Row],[Data]]<$G$57,Tabulka2[[#This Row],[Data]]>$G$58),2,IF(OR(Tabulka2[[#This Row],[Data]]<$G$51,Tabulka2[[#This Row],[Data]]>$G$52),1,0)))","v":""},{"$f":"IF(Tabulka2[[#This Row],[OL]]=\"\",\"\",IF(Tabulka2[[#This Row],[OL]]>0,A1439,\"\"))","v":""},null,null,null,null,null,null,null,null,null,null,null,null,null,null,null,"",null,""]
[null,null,{"$f":"IF(Tabulka2[[#This Row],[Data]]=\"\",\"\",IF(OR(Tabulka2[[#This Row],[Data]]<$G$57,Tabulka2[[#This Row],[Data]]>$G$58),2,IF(OR(Tabulka2[[#This Row],[Data]]<$G$51,Tabulka2[[#This Row],[Data]]>$G$52),1,0)))","v":""},{"$f":"IF(Tabulka2[[#This Row],[OL]]=\"\",\"\",IF(Tabulka2[[#This Row],[OL]]>0,A1440,\"\"))","v":""},null,null,null,null,null,null,null,null,null,null,null,null,null,null,null,"",null,""]
[null,null,{"$f":"IF(Tabulka2[[#This Row],[Data]]=\"\",\"\",IF(OR(Tabulka2[[#This Row],[Data]]<$G$57,Tabulka2[[#This Row],[Data]]>$G$58),2,IF(OR(Tabulka2[[#This Row],[Data]]<$G$51,Tabulka2[[#This Row],[Data]]>$G$52),1,0)))","v":""},{"$f":"IF(Tabulka2[[#This Row],[OL]]=\"\",\"\",IF(Tabulka2[[#This Row],[OL]]>0,A1441,\"\"))","v":""},null,null,null,null,null,null,null,null,null,null,null,null,null,null,null,"",null,""]
[null,null,{"$f":"IF(Tabulka2[[#This Row],[Data]]=\"\",\"\",IF(OR(Tabulka2[[#This Row],[Data]]<$G$57,Tabulka2[[#This Row],[Data]]>$G$58),2,IF(OR(Tabulka2[[#This Row],[Data]]<$G$51,Tabulka2[[#This Row],[Data]]>$G$52),1,0)))","v":""},{"$f":"IF(Tabulka2[[#This Row],[OL]]=\"\",\"\",IF(Tabulka2[[#This Row],[OL]]>0,A1442,\"\"))","v":""},null,null,null,null,null,null,null,null,null,null,null,null,null,null,null,"",null,""]
[null,null,{"$f":"IF(Tabulka2[[#This Row],[Data]]=\"\",\"\",IF(OR(Tabulka2[[#This Row],[Data]]<$G$57,Tabulka2[[#This Row],[Data]]>$G$58),2,IF(OR(Tabulka2[[#This Row],[Data]]<$G$51,Tabulka2[[#This Row],[Data]]>$G$52),1,0)))","v":""},{"$f":"IF(Tabulka2[[#This Row],[OL]]=\"\",\"\",IF(Tabulka2[[#This Row],[OL]]>0,A1443,\"\"))","v":""},null,null,null,null,null,null,null,null,null,null,null,null,null,null,null,"",null,""]
[null,null,{"$f":"IF(Tabulka2[[#This Row],[Data]]=\"\",\"\",IF(OR(Tabulka2[[#This Row],[Data]]<$G$57,Tabulka2[[#This Row],[Data]]>$G$58),2,IF(OR(Tabulka2[[#This Row],[Data]]<$G$51,Tabulka2[[#This Row],[Data]]>$G$52),1,0)))","v":""},{"$f":"IF(Tabulka2[[#This Row],[OL]]=\"\",\"\",IF(Tabulka2[[#This Row],[OL]]>0,A1444,\"\"))","v":""},null,null,null,null,null,null,null,null,null,null,null,null,null,null,null,"",null,""]
[null,null,{"$f":"IF(Tabulka2[[#This Row],[Data]]=\"\",\"\",IF(OR(Tabulka2[[#This Row],[Data]]<$G$57,Tabulka2[[#This Row],[Data]]>$G$58),2,IF(OR(Tabulka2[[#This Row],[Data]]<$G$51,Tabulka2[[#This Row],[Data]]>$G$52),1,0)))","v":""},{"$f":"IF(Tabulka2[[#This Row],[OL]]=\"\",\"\",IF(Tabulka2[[#This Row],[OL]]>0,A1445,\"\"))","v":""},null,null,null,null,null,null,null,null,null,null,null,null,null,null,null,"",null,""]
[null,null,{"$f":"IF(Tabulka2[[#This Row],[Data]]=\"\",\"\",IF(OR(Tabulka2[[#This Row],[Data]]<$G$57,Tabulka2[[#This Row],[Data]]>$G$58),2,IF(OR(Tabulka2[[#This Row],[Data]]<$G$51,Tabulka2[[#This Row],[Data]]>$G$52),1,0)))","v":""},{"$f":"IF(Tabulka2[[#This Row],[OL]]=\"\",\"\",IF(Tabulka2[[#This Row],[OL]]>0,A1446,\"\"))","v":""},null,null,null,null,null,null,null,null,null,null,null,null,null,null,null,"",null,""]
[null,null,{"$f":"IF(Tabulka2[[#This Row],[Data]]=\"\",\"\",IF(OR(Tabulka2[[#This Row],[Data]]<$G$57,Tabulka2[[#This Row],[Data]]>$G$58),2,IF(OR(Tabulka2[[#This Row],[Data]]<$G$51,Tabulka2[[#This Row],[Data]]>$G$52),1,0)))","v":""},{"$f":"IF(Tabulka2[[#This Row],[OL]]=\"\",\"\",IF(Tabulka2[[#This Row],[OL]]>0,A1447,\"\"))","v":""},null,null,null,null,null,null,null,null,null,null,null,null,null,null,null,"",null,""]
[null,null,{"$f":"IF(Tabulka2[[#This Row],[Data]]=\"\",\"\",IF(OR(Tabulka2[[#This Row],[Data]]<$G$57,Tabulka2[[#This Row],[Data]]>$G$58),2,IF(OR(Tabulka2[[#This Row],[Data]]<$G$51,Tabulka2[[#This Row],[Data]]>$G$52),1,0)))","v":""},{"$f":"IF(Tabulka2[[#This Row],[OL]]=\"\",\"\",IF(Tabulka2[[#This Row],[OL]]>0,A1448,\"\"))","v":""},null,null,null,null,null,null,null,null,null,null,null,null,null,null,null,"",null,""]
[null,null,{"$f":"IF(Tabulka2[[#This Row],[Data]]=\"\",\"\",IF(OR(Tabulka2[[#This Row],[Data]]<$G$57,Tabulka2[[#This Row],[Data]]>$G$58),2,IF(OR(Tabulka2[[#This Row],[Data]]<$G$51,Tabulka2[[#This Row],[Data]]>$G$52),1,0)))","v":""},{"$f":"IF(Tabulka2[[#This Row],[OL]]=\"\",\"\",IF(Tabulka2[[#This Row],[OL]]>0,A1449,\"\"))","v":""},null,null,null,null,null,null,null,null,null,null,null,null,null,null,null,"",null,""]
[null,null,{"$f":"IF(Tabulka2[[#This Row],[Data]]=\"\",\"\",IF(OR(Tabulka2[[#This Row],[Data]]<$G$57,Tabulka2[[#This Row],[Data]]>$G$58),2,IF(OR(Tabulka2[[#This Row],[Data]]<$G$51,Tabulka2[[#This Row],[Data]]>$G$52),1,0)))","v":""},{"$f":"IF(Tabulka2[[#This Row],[OL]]=\"\",\"\",IF(Tabulka2[[#This Row],[OL]]>0,A1450,\"\"))","v":""},null,null,null,null,null,null,null,null,null,null,null,null,null,null,null,"",null,""]
[null,null,{"$f":"IF(Tabulka2[[#This Row],[Data]]=\"\",\"\",IF(OR(Tabulka2[[#This Row],[Data]]<$G$57,Tabulka2[[#This Row],[Data]]>$G$58),2,IF(OR(Tabulka2[[#This Row],[Data]]<$G$51,Tabulka2[[#This Row],[Data]]>$G$52),1,0)))","v":""},{"$f":"IF(Tabulka2[[#This Row],[OL]]=\"\",\"\",IF(Tabulka2[[#This Row],[OL]]>0,A1451,\"\"))","v":""},null,null,null,null,null,null,null,null,null,null,null,null,null,null,null,"",null,""]
[null,null,{"$f":"IF(Tabulka2[[#This Row],[Data]]=\"\",\"\",IF(OR(Tabulka2[[#This Row],[Data]]<$G$57,Tabulka2[[#This Row],[Data]]>$G$58),2,IF(OR(Tabulka2[[#This Row],[Data]]<$G$51,Tabulka2[[#This Row],[Data]]>$G$52),1,0)))","v":""},{"$f":"IF(Tabulka2[[#This Row],[OL]]=\"\",\"\",IF(Tabulka2[[#This Row],[OL]]>0,A1452,\"\"))","v":""},null,null,null,null,null,null,null,null,null,null,null,null,null,null,null,"",null,""]
[null,null,{"$f":"IF(Tabulka2[[#This Row],[Data]]=\"\",\"\",IF(OR(Tabulka2[[#This Row],[Data]]<$G$57,Tabulka2[[#This Row],[Data]]>$G$58),2,IF(OR(Tabulka2[[#This Row],[Data]]<$G$51,Tabulka2[[#This Row],[Data]]>$G$52),1,0)))","v":""},{"$f":"IF(Tabulka2[[#This Row],[OL]]=\"\",\"\",IF(Tabulka2[[#This Row],[OL]]>0,A1453,\"\"))","v":""},null,null,null,null,null,null,null,null,null,null,null,null,null,null,null,"",null,""]
[null,null,{"$f":"IF(Tabulka2[[#This Row],[Data]]=\"\",\"\",IF(OR(Tabulka2[[#This Row],[Data]]<$G$57,Tabulka2[[#This Row],[Data]]>$G$58),2,IF(OR(Tabulka2[[#This Row],[Data]]<$G$51,Tabulka2[[#This Row],[Data]]>$G$52),1,0)))","v":""},{"$f":"IF(Tabulka2[[#This Row],[OL]]=\"\",\"\",IF(Tabulka2[[#This Row],[OL]]>0,A1454,\"\"))","v":""},null,null,null,null,null,null,null,null,null,null,null,null,null,null,null,"",null,""]
[null,null,{"$f":"IF(Tabulka2[[#This Row],[Data]]=\"\",\"\",IF(OR(Tabulka2[[#This Row],[Data]]<$G$57,Tabulka2[[#This Row],[Data]]>$G$58),2,IF(OR(Tabulka2[[#This Row],[Data]]<$G$51,Tabulka2[[#This Row],[Data]]>$G$52),1,0)))","v":""},{"$f":"IF(Tabulka2[[#This Row],[OL]]=\"\",\"\",IF(Tabulka2[[#This Row],[OL]]>0,A1455,\"\"))","v":""},null,null,null,null,null,null,null,null,null,null,null,null,null,null,null,"",null,""]
[null,null,{"$f":"IF(Tabulka2[[#This Row],[Data]]=\"\",\"\",IF(OR(Tabulka2[[#This Row],[Data]]<$G$57,Tabulka2[[#This Row],[Data]]>$G$58),2,IF(OR(Tabulka2[[#This Row],[Data]]<$G$51,Tabulka2[[#This Row],[Data]]>$G$52),1,0)))","v":""},{"$f":"IF(Tabulka2[[#This Row],[OL]]=\"\",\"\",IF(Tabulka2[[#This Row],[OL]]>0,A1456,\"\"))","v":""},null,null,null,null,null,null,null,null,null,null,null,null,null,null,null,"",null,""]
[null,null,{"$f":"IF(Tabulka2[[#This Row],[Data]]=\"\",\"\",IF(OR(Tabulka2[[#This Row],[Data]]<$G$57,Tabulka2[[#This Row],[Data]]>$G$58),2,IF(OR(Tabulka2[[#This Row],[Data]]<$G$51,Tabulka2[[#This Row],[Data]]>$G$52),1,0)))","v":""},{"$f":"IF(Tabulka2[[#This Row],[OL]]=\"\",\"\",IF(Tabulka2[[#This Row],[OL]]>0,A1457,\"\"))","v":""},null,null,null,null,null,null,null,null,null,null,null,null,null,null,null,"",null,""]
[null,null,{"$f":"IF(Tabulka2[[#This Row],[Data]]=\"\",\"\",IF(OR(Tabulka2[[#This Row],[Data]]<$G$57,Tabulka2[[#This Row],[Data]]>$G$58),2,IF(OR(Tabulka2[[#This Row],[Data]]<$G$51,Tabulka2[[#This Row],[Data]]>$G$52),1,0)))","v":""},{"$f":"IF(Tabulka2[[#This Row],[OL]]=\"\",\"\",IF(Tabulka2[[#This Row],[OL]]>0,A1458,\"\"))","v":""},null,null,null,null,null,null,null,null,null,null,null,null,null,null,null,"",null,""]
[null,null,{"$f":"IF(Tabulka2[[#This Row],[Data]]=\"\",\"\",IF(OR(Tabulka2[[#This Row],[Data]]<$G$57,Tabulka2[[#This Row],[Data]]>$G$58),2,IF(OR(Tabulka2[[#This Row],[Data]]<$G$51,Tabulka2[[#This Row],[Data]]>$G$52),1,0)))","v":""},{"$f":"IF(Tabulka2[[#This Row],[OL]]=\"\",\"\",IF(Tabulka2[[#This Row],[OL]]>0,A1459,\"\"))","v":""},null,null,null,null,null,null,null,null,null,null,null,null,null,null,null,"",null,""]
[null,null,{"$f":"IF(Tabulka2[[#This Row],[Data]]=\"\",\"\",IF(OR(Tabulka2[[#This Row],[Data]]<$G$57,Tabulka2[[#This Row],[Data]]>$G$58),2,IF(OR(Tabulka2[[#This Row],[Data]]<$G$51,Tabulka2[[#This Row],[Data]]>$G$52),1,0)))","v":""},{"$f":"IF(Tabulka2[[#This Row],[OL]]=\"\",\"\",IF(Tabulka2[[#This Row],[OL]]>0,A1460,\"\"))","v":""},null,null,null,null,null,null,null,null,null,null,null,null,null,null,null,"",null,""]
[null,null,{"$f":"IF(Tabulka2[[#This Row],[Data]]=\"\",\"\",IF(OR(Tabulka2[[#This Row],[Data]]<$G$57,Tabulka2[[#This Row],[Data]]>$G$58),2,IF(OR(Tabulka2[[#This Row],[Data]]<$G$51,Tabulka2[[#This Row],[Data]]>$G$52),1,0)))","v":""},{"$f":"IF(Tabulka2[[#This Row],[OL]]=\"\",\"\",IF(Tabulka2[[#This Row],[OL]]>0,A1461,\"\"))","v":""},null,null,null,null,null,null,null,null,null,null,null,null,null,null,null,"",null,""]
[null,null,{"$f":"IF(Tabulka2[[#This Row],[Data]]=\"\",\"\",IF(OR(Tabulka2[[#This Row],[Data]]<$G$57,Tabulka2[[#This Row],[Data]]>$G$58),2,IF(OR(Tabulka2[[#This Row],[Data]]<$G$51,Tabulka2[[#This Row],[Data]]>$G$52),1,0)))","v":""},{"$f":"IF(Tabulka2[[#This Row],[OL]]=\"\",\"\",IF(Tabulka2[[#This Row],[OL]]>0,A1462,\"\"))","v":""},null,null,null,null,null,null,null,null,null,null,null,null,null,null,null,"",null,""]
[null,null,{"$f":"IF(Tabulka2[[#This Row],[Data]]=\"\",\"\",IF(OR(Tabulka2[[#This Row],[Data]]<$G$57,Tabulka2[[#This Row],[Data]]>$G$58),2,IF(OR(Tabulka2[[#This Row],[Data]]<$G$51,Tabulka2[[#This Row],[Data]]>$G$52),1,0)))","v":""},{"$f":"IF(Tabulka2[[#This Row],[OL]]=\"\",\"\",IF(Tabulka2[[#This Row],[OL]]>0,A1463,\"\"))","v":""},null,null,null,null,null,null,null,null,null,null,null,null,null,null,null,"",null,""]
[null,null,{"$f":"IF(Tabulka2[[#This Row],[Data]]=\"\",\"\",IF(OR(Tabulka2[[#This Row],[Data]]<$G$57,Tabulka2[[#This Row],[Data]]>$G$58),2,IF(OR(Tabulka2[[#This Row],[Data]]<$G$51,Tabulka2[[#This Row],[Data]]>$G$52),1,0)))","v":""},{"$f":"IF(Tabulka2[[#This Row],[OL]]=\"\",\"\",IF(Tabulka2[[#This Row],[OL]]>0,A1464,\"\"))","v":""},null,null,null,null,null,null,null,null,null,null,null,null,null,null,null,"",null,""]
[null,null,{"$f":"IF(Tabulka2[[#This Row],[Data]]=\"\",\"\",IF(OR(Tabulka2[[#This Row],[Data]]<$G$57,Tabulka2[[#This Row],[Data]]>$G$58),2,IF(OR(Tabulka2[[#This Row],[Data]]<$G$51,Tabulka2[[#This Row],[Data]]>$G$52),1,0)))","v":""},{"$f":"IF(Tabulka2[[#This Row],[OL]]=\"\",\"\",IF(Tabulka2[[#This Row],[OL]]>0,A1465,\"\"))","v":""},null,null,null,null,null,null,null,null,null,null,null,null,null,null,null,"",null,""]
[null,null,{"$f":"IF(Tabulka2[[#This Row],[Data]]=\"\",\"\",IF(OR(Tabulka2[[#This Row],[Data]]<$G$57,Tabulka2[[#This Row],[Data]]>$G$58),2,IF(OR(Tabulka2[[#This Row],[Data]]<$G$51,Tabulka2[[#This Row],[Data]]>$G$52),1,0)))","v":""},{"$f":"IF(Tabulka2[[#This Row],[OL]]=\"\",\"\",IF(Tabulka2[[#This Row],[OL]]>0,A1466,\"\"))","v":""},null,null,null,null,null,null,null,null,null,null,null,null,null,null,null,"",null,""]
[null,null,{"$f":"IF(Tabulka2[[#This Row],[Data]]=\"\",\"\",IF(OR(Tabulka2[[#This Row],[Data]]<$G$57,Tabulka2[[#This Row],[Data]]>$G$58),2,IF(OR(Tabulka2[[#This Row],[Data]]<$G$51,Tabulka2[[#This Row],[Data]]>$G$52),1,0)))","v":""},{"$f":"IF(Tabulka2[[#This Row],[OL]]=\"\",\"\",IF(Tabulka2[[#This Row],[OL]]>0,A1467,\"\"))","v":""},null,null,null,null,null,null,null,null,null,null,null,null,null,null,null,"",null,""]
[null,null,{"$f":"IF(Tabulka2[[#This Row],[Data]]=\"\",\"\",IF(OR(Tabulka2[[#This Row],[Data]]<$G$57,Tabulka2[[#This Row],[Data]]>$G$58),2,IF(OR(Tabulka2[[#This Row],[Data]]<$G$51,Tabulka2[[#This Row],[Data]]>$G$52),1,0)))","v":""},{"$f":"IF(Tabulka2[[#This Row],[OL]]=\"\",\"\",IF(Tabulka2[[#This Row],[OL]]>0,A1468,\"\"))","v":""},null,null,null,null,null,null,null,null,null,null,null,null,null,null,null,"",null,""]
[null,null,{"$f":"IF(Tabulka2[[#This Row],[Data]]=\"\",\"\",IF(OR(Tabulka2[[#This Row],[Data]]<$G$57,Tabulka2[[#This Row],[Data]]>$G$58),2,IF(OR(Tabulka2[[#This Row],[Data]]<$G$51,Tabulka2[[#This Row],[Data]]>$G$52),1,0)))","v":""},{"$f":"IF(Tabulka2[[#This Row],[OL]]=\"\",\"\",IF(Tabulka2[[#This Row],[OL]]>0,A1469,\"\"))","v":""},null,null,null,null,null,null,null,null,null,null,null,null,null,null,null,"",null,""]
[null,null,{"$f":"IF(Tabulka2[[#This Row],[Data]]=\"\",\"\",IF(OR(Tabulka2[[#This Row],[Data]]<$G$57,Tabulka2[[#This Row],[Data]]>$G$58),2,IF(OR(Tabulka2[[#This Row],[Data]]<$G$51,Tabulka2[[#This Row],[Data]]>$G$52),1,0)))","v":""},{"$f":"IF(Tabulka2[[#This Row],[OL]]=\"\",\"\",IF(Tabulka2[[#This Row],[OL]]>0,A1470,\"\"))","v":""},null,null,null,null,null,null,null,null,null,null,null,null,null,null,null,"",null,""]
[null,null,{"$f":"IF(Tabulka2[[#This Row],[Data]]=\"\",\"\",IF(OR(Tabulka2[[#This Row],[Data]]<$G$57,Tabulka2[[#This Row],[Data]]>$G$58),2,IF(OR(Tabulka2[[#This Row],[Data]]<$G$51,Tabulka2[[#This Row],[Data]]>$G$52),1,0)))","v":""},{"$f":"IF(Tabulka2[[#This Row],[OL]]=\"\",\"\",IF(Tabulka2[[#This Row],[OL]]>0,A1471,\"\"))","v":""},null,null,null,null,null,null,null,null,null,null,null,null,null,null,null,"",null,""]
[null,null,{"$f":"IF(Tabulka2[[#This Row],[Data]]=\"\",\"\",IF(OR(Tabulka2[[#This Row],[Data]]<$G$57,Tabulka2[[#This Row],[Data]]>$G$58),2,IF(OR(Tabulka2[[#This Row],[Data]]<$G$51,Tabulka2[[#This Row],[Data]]>$G$52),1,0)))","v":""},{"$f":"IF(Tabulka2[[#This Row],[OL]]=\"\",\"\",IF(Tabulka2[[#This Row],[OL]]>0,A1472,\"\"))","v":""},null,null,null,null,null,null,null,null,null,null,null,null,null,null,null,"",null,""]
[null,null,{"$f":"IF(Tabulka2[[#This Row],[Data]]=\"\",\"\",IF(OR(Tabulka2[[#This Row],[Data]]<$G$57,Tabulka2[[#This Row],[Data]]>$G$58),2,IF(OR(Tabulka2[[#This Row],[Data]]<$G$51,Tabulka2[[#This Row],[Data]]>$G$52),1,0)))","v":""},{"$f":"IF(Tabulka2[[#This Row],[OL]]=\"\",\"\",IF(Tabulka2[[#This Row],[OL]]>0,A1473,\"\"))","v":""},null,null,null,null,null,null,null,null,null,null,null,null,null,null,null,"",null,""]
[null,null,{"$f":"IF(Tabulka2[[#This Row],[Data]]=\"\",\"\",IF(OR(Tabulka2[[#This Row],[Data]]<$G$57,Tabulka2[[#This Row],[Data]]>$G$58),2,IF(OR(Tabulka2[[#This Row],[Data]]<$G$51,Tabulka2[[#This Row],[Data]]>$G$52),1,0)))","v":""},{"$f":"IF(Tabulka2[[#This Row],[OL]]=\"\",\"\",IF(Tabulka2[[#This Row],[OL]]>0,A1474,\"\"))","v":""},null,null,null,null,null,null,null,null,null,null,null,null,null,null,null,"",null,""]
[null,null,{"$f":"IF(Tabulka2[[#This Row],[Data]]=\"\",\"\",IF(OR(Tabulka2[[#This Row],[Data]]<$G$57,Tabulka2[[#This Row],[Data]]>$G$58),2,IF(OR(Tabulka2[[#This Row],[Data]]<$G$51,Tabulka2[[#This Row],[Data]]>$G$52),1,0)))","v":""},{"$f":"IF(Tabulka2[[#This Row],[OL]]=\"\",\"\",IF(Tabulka2[[#This Row],[OL]]>0,A1475,\"\"))","v":""},null,null,null,null,null,null,null,null,null,null,null,null,null,null,null,"",null,""]
[null,null,{"$f":"IF(Tabulka2[[#This Row],[Data]]=\"\",\"\",IF(OR(Tabulka2[[#This Row],[Data]]<$G$57,Tabulka2[[#This Row],[Data]]>$G$58),2,IF(OR(Tabulka2[[#This Row],[Data]]<$G$51,Tabulka2[[#This Row],[Data]]>$G$52),1,0)))","v":""},{"$f":"IF(Tabulka2[[#This Row],[OL]]=\"\",\"\",IF(Tabulka2[[#This Row],[OL]]>0,A1476,\"\"))","v":""},null,null,null,null,null,null,null,null,null,null,null,null,null,null,null,"",null,""]
[null,null,{"$f":"IF(Tabulka2[[#This Row],[Data]]=\"\",\"\",IF(OR(Tabulka2[[#This Row],[Data]]<$G$57,Tabulka2[[#This Row],[Data]]>$G$58),2,IF(OR(Tabulka2[[#This Row],[Data]]<$G$51,Tabulka2[[#This Row],[Data]]>$G$52),1,0)))","v":""},{"$f":"IF(Tabulka2[[#This Row],[OL]]=\"\",\"\",IF(Tabulka2[[#This Row],[OL]]>0,A1477,\"\"))","v":""},null,null,null,null,null,null,null,null,null,null,null,null,null,null,null,"",null,""]
[null,null,{"$f":"IF(Tabulka2[[#This Row],[Data]]=\"\",\"\",IF(OR(Tabulka2[[#This Row],[Data]]<$G$57,Tabulka2[[#This Row],[Data]]>$G$58),2,IF(OR(Tabulka2[[#This Row],[Data]]<$G$51,Tabulka2[[#This Row],[Data]]>$G$52),1,0)))","v":""},{"$f":"IF(Tabulka2[[#This Row],[OL]]=\"\",\"\",IF(Tabulka2[[#This Row],[OL]]>0,A1478,\"\"))","v":""},null,null,null,null,null,null,null,null,null,null,null,null,null,null,null,"",null,""]
[null,null,{"$f":"IF(Tabulka2[[#This Row],[Data]]=\"\",\"\",IF(OR(Tabulka2[[#This Row],[Data]]<$G$57,Tabulka2[[#This Row],[Data]]>$G$58),2,IF(OR(Tabulka2[[#This Row],[Data]]<$G$51,Tabulka2[[#This Row],[Data]]>$G$52),1,0)))","v":""},{"$f":"IF(Tabulka2[[#This Row],[OL]]=\"\",\"\",IF(Tabulka2[[#This Row],[OL]]>0,A1479,\"\"))","v":""},null,null,null,null,null,null,null,null,null,null,null,null,null,null,null,"",null,""]
[null,null,{"$f":"IF(Tabulka2[[#This Row],[Data]]=\"\",\"\",IF(OR(Tabulka2[[#This Row],[Data]]<$G$57,Tabulka2[[#This Row],[Data]]>$G$58),2,IF(OR(Tabulka2[[#This Row],[Data]]<$G$51,Tabulka2[[#This Row],[Data]]>$G$52),1,0)))","v":""},{"$f":"IF(Tabulka2[[#This Row],[OL]]=\"\",\"\",IF(Tabulka2[[#This Row],[OL]]>0,A1480,\"\"))","v":""},null,null,null,null,null,null,null,null,null,null,null,null,null,null,null,"",null,""]
[null,null,{"$f":"IF(Tabulka2[[#This Row],[Data]]=\"\",\"\",IF(OR(Tabulka2[[#This Row],[Data]]<$G$57,Tabulka2[[#This Row],[Data]]>$G$58),2,IF(OR(Tabulka2[[#This Row],[Data]]<$G$51,Tabulka2[[#This Row],[Data]]>$G$52),1,0)))","v":""},{"$f":"IF(Tabulka2[[#This Row],[OL]]=\"\",\"\",IF(Tabulka2[[#This Row],[OL]]>0,A1481,\"\"))","v":""},null,null,null,null,null,null,null,null,null,null,null,null,null,null,null,"",null,""]
[null,null,{"$f":"IF(Tabulka2[[#This Row],[Data]]=\"\",\"\",IF(OR(Tabulka2[[#This Row],[Data]]<$G$57,Tabulka2[[#This Row],[Data]]>$G$58),2,IF(OR(Tabulka2[[#This Row],[Data]]<$G$51,Tabulka2[[#This Row],[Data]]>$G$52),1,0)))","v":""},{"$f":"IF(Tabulka2[[#This Row],[OL]]=\"\",\"\",IF(Tabulka2[[#This Row],[OL]]>0,A1482,\"\"))","v":""},null,null,null,null,null,null,null,null,null,null,null,null,null,null,null,"",null,""]
[null,null,{"$f":"IF(Tabulka2[[#This Row],[Data]]=\"\",\"\",IF(OR(Tabulka2[[#This Row],[Data]]<$G$57,Tabulka2[[#This Row],[Data]]>$G$58),2,IF(OR(Tabulka2[[#This Row],[Data]]<$G$51,Tabulka2[[#This Row],[Data]]>$G$52),1,0)))","v":""},{"$f":"IF(Tabulka2[[#This Row],[OL]]=\"\",\"\",IF(Tabulka2[[#This Row],[OL]]>0,A1483,\"\"))","v":""},null,null,null,null,null,null,null,null,null,null,null,null,null,null,null,"",null,""]
[null,null,{"$f":"IF(Tabulka2[[#This Row],[Data]]=\"\",\"\",IF(OR(Tabulka2[[#This Row],[Data]]<$G$57,Tabulka2[[#This Row],[Data]]>$G$58),2,IF(OR(Tabulka2[[#This Row],[Data]]<$G$51,Tabulka2[[#This Row],[Data]]>$G$52),1,0)))","v":""},{"$f":"IF(Tabulka2[[#This Row],[OL]]=\"\",\"\",IF(Tabulka2[[#This Row],[OL]]>0,A1484,\"\"))","v":""},null,null,null,null,null,null,null,null,null,null,null,null,null,null,null,"",null,""]
[null,null,{"$f":"IF(Tabulka2[[#This Row],[Data]]=\"\",\"\",IF(OR(Tabulka2[[#This Row],[Data]]<$G$57,Tabulka2[[#This Row],[Data]]>$G$58),2,IF(OR(Tabulka2[[#This Row],[Data]]<$G$51,Tabulka2[[#This Row],[Data]]>$G$52),1,0)))","v":""},{"$f":"IF(Tabulka2[[#This Row],[OL]]=\"\",\"\",IF(Tabulka2[[#This Row],[OL]]>0,A1485,\"\"))","v":""},null,null,null,null,null,null,null,null,null,null,null,null,null,null,null,"",null,""]
[null,null,{"$f":"IF(Tabulka2[[#This Row],[Data]]=\"\",\"\",IF(OR(Tabulka2[[#This Row],[Data]]<$G$57,Tabulka2[[#This Row],[Data]]>$G$58),2,IF(OR(Tabulka2[[#This Row],[Data]]<$G$51,Tabulka2[[#This Row],[Data]]>$G$52),1,0)))","v":""},{"$f":"IF(Tabulka2[[#This Row],[OL]]=\"\",\"\",IF(Tabulka2[[#This Row],[OL]]>0,A1486,\"\"))","v":""},null,null,null,null,null,null,null,null,null,null,null,null,null,null,null,"",null,""]
[null,null,{"$f":"IF(Tabulka2[[#This Row],[Data]]=\"\",\"\",IF(OR(Tabulka2[[#This Row],[Data]]<$G$57,Tabulka2[[#This Row],[Data]]>$G$58),2,IF(OR(Tabulka2[[#This Row],[Data]]<$G$51,Tabulka2[[#This Row],[Data]]>$G$52),1,0)))","v":""},{"$f":"IF(Tabulka2[[#This Row],[OL]]=\"\",\"\",IF(Tabulka2[[#This Row],[OL]]>0,A1487,\"\"))","v":""},null,null,null,null,null,null,null,null,null,null,null,null,null,null,null,"",null,""]
[null,null,{"$f":"IF(Tabulka2[[#This Row],[Data]]=\"\",\"\",IF(OR(Tabulka2[[#This Row],[Data]]<$G$57,Tabulka2[[#This Row],[Data]]>$G$58),2,IF(OR(Tabulka2[[#This Row],[Data]]<$G$51,Tabulka2[[#This Row],[Data]]>$G$52),1,0)))","v":""},{"$f":"IF(Tabulka2[[#This Row],[OL]]=\"\",\"\",IF(Tabulka2[[#This Row],[OL]]>0,A1488,\"\"))","v":""},null,null,null,null,null,null,null,null,null,null,null,null,null,null,null,"",null,""]
[null,null,{"$f":"IF(Tabulka2[[#This Row],[Data]]=\"\",\"\",IF(OR(Tabulka2[[#This Row],[Data]]<$G$57,Tabulka2[[#This Row],[Data]]>$G$58),2,IF(OR(Tabulka2[[#This Row],[Data]]<$G$51,Tabulka2[[#This Row],[Data]]>$G$52),1,0)))","v":""},{"$f":"IF(Tabulka2[[#This Row],[OL]]=\"\",\"\",IF(Tabulka2[[#This Row],[OL]]>0,A1489,\"\"))","v":""},null,null,null,null,null,null,null,null,null,null,null,null,null,null,null,"",null,""]
[null,null,{"$f":"IF(Tabulka2[[#This Row],[Data]]=\"\",\"\",IF(OR(Tabulka2[[#This Row],[Data]]<$G$57,Tabulka2[[#This Row],[Data]]>$G$58),2,IF(OR(Tabulka2[[#This Row],[Data]]<$G$51,Tabulka2[[#This Row],[Data]]>$G$52),1,0)))","v":""},{"$f":"IF(Tabulka2[[#This Row],[OL]]=\"\",\"\",IF(Tabulka2[[#This Row],[OL]]>0,A1490,\"\"))","v":""},null,null,null,null,null,null,null,null,null,null,null,null,null,null,null,"",null,""]
[null,null,{"$f":"IF(Tabulka2[[#This Row],[Data]]=\"\",\"\",IF(OR(Tabulka2[[#This Row],[Data]]<$G$57,Tabulka2[[#This Row],[Data]]>$G$58),2,IF(OR(Tabulka2[[#This Row],[Data]]<$G$51,Tabulka2[[#This Row],[Data]]>$G$52),1,0)))","v":""},{"$f":"IF(Tabulka2[[#This Row],[OL]]=\"\",\"\",IF(Tabulka2[[#This Row],[OL]]>0,A1491,\"\"))","v":""},null,null,null,null,null,null,null,null,null,null,null,null,null,null,null,"",null,""]
[null,null,{"$f":"IF(Tabulka2[[#This Row],[Data]]=\"\",\"\",IF(OR(Tabulka2[[#This Row],[Data]]<$G$57,Tabulka2[[#This Row],[Data]]>$G$58),2,IF(OR(Tabulka2[[#This Row],[Data]]<$G$51,Tabulka2[[#This Row],[Data]]>$G$52),1,0)))","v":""},{"$f":"IF(Tabulka2[[#This Row],[OL]]=\"\",\"\",IF(Tabulka2[[#This Row],[OL]]>0,A1492,\"\"))","v":""},null,null,null,null,null,null,null,null,null,null,null,null,null,null,null,"",null,""]
[null,null,{"$f":"IF(Tabulka2[[#This Row],[Data]]=\"\",\"\",IF(OR(Tabulka2[[#This Row],[Data]]<$G$57,Tabulka2[[#This Row],[Data]]>$G$58),2,IF(OR(Tabulka2[[#This Row],[Data]]<$G$51,Tabulka2[[#This Row],[Data]]>$G$52),1,0)))","v":""},{"$f":"IF(Tabulka2[[#This Row],[OL]]=\"\",\"\",IF(Tabulka2[[#This Row],[OL]]>0,A1493,\"\"))","v":""},null,null,null,null,null,null,null,null,null,null,null,null,null,null,null,"",null,""]
[null,null,{"$f":"IF(Tabulka2[[#This Row],[Data]]=\"\",\"\",IF(OR(Tabulka2[[#This Row],[Data]]<$G$57,Tabulka2[[#This Row],[Data]]>$G$58),2,IF(OR(Tabulka2[[#This Row],[Data]]<$G$51,Tabulka2[[#This Row],[Data]]>$G$52),1,0)))","v":""},{"$f":"IF(Tabulka2[[#This Row],[OL]]=\"\",\"\",IF(Tabulka2[[#This Row],[OL]]>0,A1494,\"\"))","v":""},null,null,null,null,null,null,null,null,null,null,null,null,null,null,null,"",null,""]
[null,null,{"$f":"IF(Tabulka2[[#This Row],[Data]]=\"\",\"\",IF(OR(Tabulka2[[#This Row],[Data]]<$G$57,Tabulka2[[#This Row],[Data]]>$G$58),2,IF(OR(Tabulka2[[#This Row],[Data]]<$G$51,Tabulka2[[#This Row],[Data]]>$G$52),1,0)))","v":""},{"$f":"IF(Tabulka2[[#This Row],[OL]]=\"\",\"\",IF(Tabulka2[[#This Row],[OL]]>0,A1495,\"\"))","v":""},null,null,null,null,null,null,null,null,null,null,null,null,null,null,null,"",null,""]
[null,null,{"$f":"IF(Tabulka2[[#This Row],[Data]]=\"\",\"\",IF(OR(Tabulka2[[#This Row],[Data]]<$G$57,Tabulka2[[#This Row],[Data]]>$G$58),2,IF(OR(Tabulka2[[#This Row],[Data]]<$G$51,Tabulka2[[#This Row],[Data]]>$G$52),1,0)))","v":""},{"$f":"IF(Tabulka2[[#This Row],[OL]]=\"\",\"\",IF(Tabulka2[[#This Row],[OL]]>0,A1496,\"\"))","v":""},null,null,null,null,null,null,null,null,null,null,null,null,null,null,null,"",null,""]
[null,null,{"$f":"IF(Tabulka2[[#This Row],[Data]]=\"\",\"\",IF(OR(Tabulka2[[#This Row],[Data]]<$G$57,Tabulka2[[#This Row],[Data]]>$G$58),2,IF(OR(Tabulka2[[#This Row],[Data]]<$G$51,Tabulka2[[#This Row],[Data]]>$G$52),1,0)))","v":""},{"$f":"IF(Tabulka2[[#This Row],[OL]]=\"\",\"\",IF(Tabulka2[[#This Row],[OL]]>0,A1497,\"\"))","v":""},null,null,null,null,null,null,null,null,null,null,null,null,null,null,null,"",null,""]
[null,null,{"$f":"IF(Tabulka2[[#This Row],[Data]]=\"\",\"\",IF(OR(Tabulka2[[#This Row],[Data]]<$G$57,Tabulka2[[#This Row],[Data]]>$G$58),2,IF(OR(Tabulka2[[#This Row],[Data]]<$G$51,Tabulka2[[#This Row],[Data]]>$G$52),1,0)))","v":""},{"$f":"IF(Tabulka2[[#This Row],[OL]]=\"\",\"\",IF(Tabulka2[[#This Row],[OL]]>0,A1498,\"\"))","v":""},null,null,null,null,null,null,null,null,null,null,null,null,null,null,null,"",null,""]
[null,null,{"$f":"IF(Tabulka2[[#This Row],[Data]]=\"\",\"\",IF(OR(Tabulka2[[#This Row],[Data]]<$G$57,Tabulka2[[#This Row],[Data]]>$G$58),2,IF(OR(Tabulka2[[#This Row],[Data]]<$G$51,Tabulka2[[#This Row],[Data]]>$G$52),1,0)))","v":""},{"$f":"IF(Tabulka2[[#This Row],[OL]]=\"\",\"\",IF(Tabulka2[[#This Row],[OL]]>0,A1499,\"\"))","v":""},null,null,null,null,null,null,null,null,null,null,null,null,null,null,null,"",null,""]
[null,null,{"$f":"IF(Tabulka2[[#This Row],[Data]]=\"\",\"\",IF(OR(Tabulka2[[#This Row],[Data]]<$G$57,Tabulka2[[#This Row],[Data]]>$G$58),2,IF(OR(Tabulka2[[#This Row],[Data]]<$G$51,Tabulka2[[#This Row],[Data]]>$G$52),1,0)))","v":""},{"$f":"IF(Tabulka2[[#This Row],[OL]]=\"\",\"\",IF(Tabulka2[[#This Row],[OL]]>0,A1500,\"\"))","v":""},null,null,null,null,null,null,null,null,null,null,null,null,null,null,null,"",null,""]
[null,null,{"$f":"IF(Tabulka2[[#This Row],[Data]]=\"\",\"\",IF(OR(Tabulka2[[#This Row],[Data]]<$G$57,Tabulka2[[#This Row],[Data]]>$G$58),2,IF(OR(Tabulka2[[#This Row],[Data]]<$G$51,Tabulka2[[#This Row],[Data]]>$G$52),1,0)))","v":""},{"$f":"IF(Tabulka2[[#This Row],[OL]]=\"\",\"\",IF(Tabulka2[[#This Row],[OL]]>0,A1501,\"\"))","v":""},null,null,null,null,null,null,null,null,null,null,null,null,null,null,null,"",null,""]
[null,null,{"$f":"IF(Tabulka2[[#This Row],[Data]]=\"\",\"\",IF(OR(Tabulka2[[#This Row],[Data]]<$G$57,Tabulka2[[#This Row],[Data]]>$G$58),2,IF(OR(Tabulka2[[#This Row],[Data]]<$G$51,Tabulka2[[#This Row],[Data]]>$G$52),1,0)))","v":""},{"$f":"IF(Tabulka2[[#This Row],[OL]]=\"\",\"\",IF(Tabulka2[[#This Row],[OL]]>0,A1502,\"\"))","v":""},null,null,null,null,null,null,null,null,null,null,null,null,null,null,null,"",null,""]
[null,null,{"$f":"IF(Tabulka2[[#This Row],[Data]]=\"\",\"\",IF(OR(Tabulka2[[#This Row],[Data]]<$G$57,Tabulka2[[#This Row],[Data]]>$G$58),2,IF(OR(Tabulka2[[#This Row],[Data]]<$G$51,Tabulka2[[#This Row],[Data]]>$G$52),1,0)))","v":""},{"$f":"IF(Tabulka2[[#This Row],[OL]]=\"\",\"\",IF(Tabulka2[[#This Row],[OL]]>0,A1503,\"\"))","v":""},null,null,null,null,null,null,null,null,null,null,null,null,null,null,null,"",null,""]
[null,null,{"$f":"IF(Tabulka2[[#This Row],[Data]]=\"\",\"\",IF(OR(Tabulka2[[#This Row],[Data]]<$G$57,Tabulka2[[#This Row],[Data]]>$G$58),2,IF(OR(Tabulka2[[#This Row],[Data]]<$G$51,Tabulka2[[#This Row],[Data]]>$G$52),1,0)))","v":""},{"$f":"IF(Tabulka2[[#This Row],[OL]]=\"\",\"\",IF(Tabulka2[[#This Row],[OL]]>0,A1504,\"\"))","v":""},null,null,null,null,null,null,null,null,null,null,null,null,null,null,null,"",null,""]
[null,null,{"$f":"IF(Tabulka2[[#This Row],[Data]]=\"\",\"\",IF(OR(Tabulka2[[#This Row],[Data]]<$G$57,Tabulka2[[#This Row],[Data]]>$G$58),2,IF(OR(Tabulka2[[#This Row],[Data]]<$G$51,Tabulka2[[#This Row],[Data]]>$G$52),1,0)))","v":""},{"$f":"IF(Tabulka2[[#This Row],[OL]]=\"\",\"\",IF(Tabulka2[[#This Row],[OL]]>0,A1505,\"\"))","v":""},null,null,null,null,null,null,null,null,null,null,null,null,null,null,null,"",null,""]
[null,null,{"$f":"IF(Tabulka2[[#This Row],[Data]]=\"\",\"\",IF(OR(Tabulka2[[#This Row],[Data]]<$G$57,Tabulka2[[#This Row],[Data]]>$G$58),2,IF(OR(Tabulka2[[#This Row],[Data]]<$G$51,Tabulka2[[#This Row],[Data]]>$G$52),1,0)))","v":""},{"$f":"IF(Tabulka2[[#This Row],[OL]]=\"\",\"\",IF(Tabulka2[[#This Row],[OL]]>0,A1506,\"\"))","v":""},null,null,null,null,null,null,null,null,null,null,null,null,null,null,null,"",null,""]
[null,null,{"$f":"IF(Tabulka2[[#This Row],[Data]]=\"\",\"\",IF(OR(Tabulka2[[#This Row],[Data]]<$G$57,Tabulka2[[#This Row],[Data]]>$G$58),2,IF(OR(Tabulka2[[#This Row],[Data]]<$G$51,Tabulka2[[#This Row],[Data]]>$G$52),1,0)))","v":""},{"$f":"IF(Tabulka2[[#This Row],[OL]]=\"\",\"\",IF(Tabulka2[[#This Row],[OL]]>0,A1507,\"\"))","v":""},null,null,null,null,null,null,null,null,null,null,null,null,null,null,null,"",null,""]
[null,null,{"$f":"IF(Tabulka2[[#This Row],[Data]]=\"\",\"\",IF(OR(Tabulka2[[#This Row],[Data]]<$G$57,Tabulka2[[#This Row],[Data]]>$G$58),2,IF(OR(Tabulka2[[#This Row],[Data]]<$G$51,Tabulka2[[#This Row],[Data]]>$G$52),1,0)))","v":""},{"$f":"IF(Tabulka2[[#This Row],[OL]]=\"\",\"\",IF(Tabulka2[[#This Row],[OL]]>0,A1508,\"\"))","v":""},null,null,null,null,null,null,null,null,null,null,null,null,null,null,null,"",null,""]
[null,null,{"$f":"IF(Tabulka2[[#This Row],[Data]]=\"\",\"\",IF(OR(Tabulka2[[#This Row],[Data]]<$G$57,Tabulka2[[#This Row],[Data]]>$G$58),2,IF(OR(Tabulka2[[#This Row],[Data]]<$G$51,Tabulka2[[#This Row],[Data]]>$G$52),1,0)))","v":""},{"$f":"IF(Tabulka2[[#This Row],[OL]]=\"\",\"\",IF(Tabulka2[[#This Row],[OL]]>0,A1509,\"\"))","v":""},null,null,null,null,null,null,null,null,null,null,null,null,null,null,null,"",null,""]
[null,null,{"$f":"IF(Tabulka2[[#This Row],[Data]]=\"\",\"\",IF(OR(Tabulka2[[#This Row],[Data]]<$G$57,Tabulka2[[#This Row],[Data]]>$G$58),2,IF(OR(Tabulka2[[#This Row],[Data]]<$G$51,Tabulka2[[#This Row],[Data]]>$G$52),1,0)))","v":""},{"$f":"IF(Tabulka2[[#This Row],[OL]]=\"\",\"\",IF(Tabulka2[[#This Row],[OL]]>0,A1510,\"\"))","v":""},null,null,null,null,null,null,null,null,null,null,null,null,null,null,null,"",null,""]
[null,null,{"$f":"IF(Tabulka2[[#This Row],[Data]]=\"\",\"\",IF(OR(Tabulka2[[#This Row],[Data]]<$G$57,Tabulka2[[#This Row],[Data]]>$G$58),2,IF(OR(Tabulka2[[#This Row],[Data]]<$G$51,Tabulka2[[#This Row],[Data]]>$G$52),1,0)))","v":""},{"$f":"IF(Tabulka2[[#This Row],[OL]]=\"\",\"\",IF(Tabulka2[[#This Row],[OL]]>0,A1511,\"\"))","v":""},null,null,null,null,null,null,null,null,null,null,null,null,null,null,null,"",null,""]
[null,null,{"$f":"IF(Tabulka2[[#This Row],[Data]]=\"\",\"\",IF(OR(Tabulka2[[#This Row],[Data]]<$G$57,Tabulka2[[#This Row],[Data]]>$G$58),2,IF(OR(Tabulka2[[#This Row],[Data]]<$G$51,Tabulka2[[#This Row],[Data]]>$G$52),1,0)))","v":""},{"$f":"IF(Tabulka2[[#This Row],[OL]]=\"\",\"\",IF(Tabulka2[[#This Row],[OL]]>0,A1512,\"\"))","v":""},null,null,null,null,null,null,null,null,null,null,null,null,null,null,null,"",null,""]
[null,null,{"$f":"IF(Tabulka2[[#This Row],[Data]]=\"\",\"\",IF(OR(Tabulka2[[#This Row],[Data]]<$G$57,Tabulka2[[#This Row],[Data]]>$G$58),2,IF(OR(Tabulka2[[#This Row],[Data]]<$G$51,Tabulka2[[#This Row],[Data]]>$G$52),1,0)))","v":""},{"$f":"IF(Tabulka2[[#This Row],[OL]]=\"\",\"\",IF(Tabulka2[[#This Row],[OL]]>0,A1513,\"\"))","v":""},null,null,null,null,null,null,null,null,null,null,null,null,null,null,null,"",null,""]
[null,null,{"$f":"IF(Tabulka2[[#This Row],[Data]]=\"\",\"\",IF(OR(Tabulka2[[#This Row],[Data]]<$G$57,Tabulka2[[#This Row],[Data]]>$G$58),2,IF(OR(Tabulka2[[#This Row],[Data]]<$G$51,Tabulka2[[#This Row],[Data]]>$G$52),1,0)))","v":""},{"$f":"IF(Tabulka2[[#This Row],[OL]]=\"\",\"\",IF(Tabulka2[[#This Row],[OL]]>0,A1514,\"\"))","v":""},null,null,null,null,null,null,null,null,null,null,null,null,null,null,null,"",null,""]
[null,null,{"$f":"IF(Tabulka2[[#This Row],[Data]]=\"\",\"\",IF(OR(Tabulka2[[#This Row],[Data]]<$G$57,Tabulka2[[#This Row],[Data]]>$G$58),2,IF(OR(Tabulka2[[#This Row],[Data]]<$G$51,Tabulka2[[#This Row],[Data]]>$G$52),1,0)))","v":""},{"$f":"IF(Tabulka2[[#This Row],[OL]]=\"\",\"\",IF(Tabulka2[[#This Row],[OL]]>0,A1515,\"\"))","v":""},null,null,null,null,null,null,null,null,null,null,null,null,null,null,null,"",null,""]
[null,null,{"$f":"IF(Tabulka2[[#This Row],[Data]]=\"\",\"\",IF(OR(Tabulka2[[#This Row],[Data]]<$G$57,Tabulka2[[#This Row],[Data]]>$G$58),2,IF(OR(Tabulka2[[#This Row],[Data]]<$G$51,Tabulka2[[#This Row],[Data]]>$G$52),1,0)))","v":""},{"$f":"IF(Tabulka2[[#This Row],[OL]]=\"\",\"\",IF(Tabulka2[[#This Row],[OL]]>0,A1516,\"\"))","v":""},null,null,null,null,null,null,null,null,null,null,null,null,null,null,null,"",null,""]
[null,null,{"$f":"IF(Tabulka2[[#This Row],[Data]]=\"\",\"\",IF(OR(Tabulka2[[#This Row],[Data]]<$G$57,Tabulka2[[#This Row],[Data]]>$G$58),2,IF(OR(Tabulka2[[#This Row],[Data]]<$G$51,Tabulka2[[#This Row],[Data]]>$G$52),1,0)))","v":""},{"$f":"IF(Tabulka2[[#This Row],[OL]]=\"\",\"\",IF(Tabulka2[[#This Row],[OL]]>0,A1517,\"\"))","v":""},null,null,null,null,null,null,null,null,null,null,null,null,null,null,null,"",null,""]
[null,null,{"$f":"IF(Tabulka2[[#This Row],[Data]]=\"\",\"\",IF(OR(Tabulka2[[#This Row],[Data]]<$G$57,Tabulka2[[#This Row],[Data]]>$G$58),2,IF(OR(Tabulka2[[#This Row],[Data]]<$G$51,Tabulka2[[#This Row],[Data]]>$G$52),1,0)))","v":""},{"$f":"IF(Tabulka2[[#This Row],[OL]]=\"\",\"\",IF(Tabulka2[[#This Row],[OL]]>0,A1518,\"\"))","v":""},null,null,null,null,null,null,null,null,null,null,null,null,null,null,null,"",null,""]
[null,null,{"$f":"IF(Tabulka2[[#This Row],[Data]]=\"\",\"\",IF(OR(Tabulka2[[#This Row],[Data]]<$G$57,Tabulka2[[#This Row],[Data]]>$G$58),2,IF(OR(Tabulka2[[#This Row],[Data]]<$G$51,Tabulka2[[#This Row],[Data]]>$G$52),1,0)))","v":""},{"$f":"IF(Tabulka2[[#This Row],[OL]]=\"\",\"\",IF(Tabulka2[[#This Row],[OL]]>0,A1519,\"\"))","v":""},null,null,null,null,null,null,null,null,null,null,null,null,null,null,null,"",null,""]
[null,null,{"$f":"IF(Tabulka2[[#This Row],[Data]]=\"\",\"\",IF(OR(Tabulka2[[#This Row],[Data]]<$G$57,Tabulka2[[#This Row],[Data]]>$G$58),2,IF(OR(Tabulka2[[#This Row],[Data]]<$G$51,Tabulka2[[#This Row],[Data]]>$G$52),1,0)))","v":""},{"$f":"IF(Tabulka2[[#This Row],[OL]]=\"\",\"\",IF(Tabulka2[[#This Row],[OL]]>0,A1520,\"\"))","v":""},null,null,null,null,null,null,null,null,null,null,null,null,null,null,null,"",null,""]
[null,null,{"$f":"IF(Tabulka2[[#This Row],[Data]]=\"\",\"\",IF(OR(Tabulka2[[#This Row],[Data]]<$G$57,Tabulka2[[#This Row],[Data]]>$G$58),2,IF(OR(Tabulka2[[#This Row],[Data]]<$G$51,Tabulka2[[#This Row],[Data]]>$G$52),1,0)))","v":""},{"$f":"IF(Tabulka2[[#This Row],[OL]]=\"\",\"\",IF(Tabulka2[[#This Row],[OL]]>0,A1521,\"\"))","v":""},null,null,null,null,null,null,null,null,null,null,null,null,null,null,null,"",null,""]
[null,null,{"$f":"IF(Tabulka2[[#This Row],[Data]]=\"\",\"\",IF(OR(Tabulka2[[#This Row],[Data]]<$G$57,Tabulka2[[#This Row],[Data]]>$G$58),2,IF(OR(Tabulka2[[#This Row],[Data]]<$G$51,Tabulka2[[#This Row],[Data]]>$G$52),1,0)))","v":""},{"$f":"IF(Tabulka2[[#This Row],[OL]]=\"\",\"\",IF(Tabulka2[[#This Row],[OL]]>0,A1522,\"\"))","v":""},null,null,null,null,null,null,null,null,null,null,null,null,null,null,null,"",null,""]
[null,null,{"$f":"IF(Tabulka2[[#This Row],[Data]]=\"\",\"\",IF(OR(Tabulka2[[#This Row],[Data]]<$G$57,Tabulka2[[#This Row],[Data]]>$G$58),2,IF(OR(Tabulka2[[#This Row],[Data]]<$G$51,Tabulka2[[#This Row],[Data]]>$G$52),1,0)))","v":""},{"$f":"IF(Tabulka2[[#This Row],[OL]]=\"\",\"\",IF(Tabulka2[[#This Row],[OL]]>0,A1523,\"\"))","v":""},null,null,null,null,null,null,null,null,null,null,null,null,null,null,null,"",null,""]
[null,null,{"$f":"IF(Tabulka2[[#This Row],[Data]]=\"\",\"\",IF(OR(Tabulka2[[#This Row],[Data]]<$G$57,Tabulka2[[#This Row],[Data]]>$G$58),2,IF(OR(Tabulka2[[#This Row],[Data]]<$G$51,Tabulka2[[#This Row],[Data]]>$G$52),1,0)))","v":""},{"$f":"IF(Tabulka2[[#This Row],[OL]]=\"\",\"\",IF(Tabulka2[[#This Row],[OL]]>0,A1524,\"\"))","v":""},null,null,null,null,null,null,null,null,null,null,null,null,null,null,null,"",null,""]
[null,null,{"$f":"IF(Tabulka2[[#This Row],[Data]]=\"\",\"\",IF(OR(Tabulka2[[#This Row],[Data]]<$G$57,Tabulka2[[#This Row],[Data]]>$G$58),2,IF(OR(Tabulka2[[#This Row],[Data]]<$G$51,Tabulka2[[#This Row],[Data]]>$G$52),1,0)))","v":""},{"$f":"IF(Tabulka2[[#This Row],[OL]]=\"\",\"\",IF(Tabulka2[[#This Row],[OL]]>0,A1525,\"\"))","v":""},null,null,null,null,null,null,null,null,null,null,null,null,null,null,null,"",null,""]
[null,null,{"$f":"IF(Tabulka2[[#This Row],[Data]]=\"\",\"\",IF(OR(Tabulka2[[#This Row],[Data]]<$G$57,Tabulka2[[#This Row],[Data]]>$G$58),2,IF(OR(Tabulka2[[#This Row],[Data]]<$G$51,Tabulka2[[#This Row],[Data]]>$G$52),1,0)))","v":""},{"$f":"IF(Tabulka2[[#This Row],[OL]]=\"\",\"\",IF(Tabulka2[[#This Row],[OL]]>0,A1526,\"\"))","v":""},null,null,null,null,null,null,null,null,null,null,null,null,null,null,null,"",null,""]
[null,null,{"$f":"IF(Tabulka2[[#This Row],[Data]]=\"\",\"\",IF(OR(Tabulka2[[#This Row],[Data]]<$G$57,Tabulka2[[#This Row],[Data]]>$G$58),2,IF(OR(Tabulka2[[#This Row],[Data]]<$G$51,Tabulka2[[#This Row],[Data]]>$G$52),1,0)))","v":""},{"$f":"IF(Tabulka2[[#This Row],[OL]]=\"\",\"\",IF(Tabulka2[[#This Row],[OL]]>0,A1527,\"\"))","v":""},null,null,null,null,null,null,null,null,null,null,null,null,null,null,null,"",null,""]
[null,null,{"$f":"IF(Tabulka2[[#This Row],[Data]]=\"\",\"\",IF(OR(Tabulka2[[#This Row],[Data]]<$G$57,Tabulka2[[#This Row],[Data]]>$G$58),2,IF(OR(Tabulka2[[#This Row],[Data]]<$G$51,Tabulka2[[#This Row],[Data]]>$G$52),1,0)))","v":""},{"$f":"IF(Tabulka2[[#This Row],[OL]]=\"\",\"\",IF(Tabulka2[[#This Row],[OL]]>0,A1528,\"\"))","v":""},null,null,null,null,null,null,null,null,null,null,null,null,null,null,null,"",null,""]
[null,null,{"$f":"IF(Tabulka2[[#This Row],[Data]]=\"\",\"\",IF(OR(Tabulka2[[#This Row],[Data]]<$G$57,Tabulka2[[#This Row],[Data]]>$G$58),2,IF(OR(Tabulka2[[#This Row],[Data]]<$G$51,Tabulka2[[#This Row],[Data]]>$G$52),1,0)))","v":""},{"$f":"IF(Tabulka2[[#This Row],[OL]]=\"\",\"\",IF(Tabulka2[[#This Row],[OL]]>0,A1529,\"\"))","v":""},null,null,null,null,null,null,null,null,null,null,null,null,null,null,null,"",null,""]
[null,null,{"$f":"IF(Tabulka2[[#This Row],[Data]]=\"\",\"\",IF(OR(Tabulka2[[#This Row],[Data]]<$G$57,Tabulka2[[#This Row],[Data]]>$G$58),2,IF(OR(Tabulka2[[#This Row],[Data]]<$G$51,Tabulka2[[#This Row],[Data]]>$G$52),1,0)))","v":""},{"$f":"IF(Tabulka2[[#This Row],[OL]]=\"\",\"\",IF(Tabulka2[[#This Row],[OL]]>0,A1530,\"\"))","v":""},null,null,null,null,null,null,null,null,null,null,null,null,null,null,null,"",null,""]
[null,null,{"$f":"IF(Tabulka2[[#This Row],[Data]]=\"\",\"\",IF(OR(Tabulka2[[#This Row],[Data]]<$G$57,Tabulka2[[#This Row],[Data]]>$G$58),2,IF(OR(Tabulka2[[#This Row],[Data]]<$G$51,Tabulka2[[#This Row],[Data]]>$G$52),1,0)))","v":""},{"$f":"IF(Tabulka2[[#This Row],[OL]]=\"\",\"\",IF(Tabulka2[[#This Row],[OL]]>0,A1531,\"\"))","v":""},null,null,null,null,null,null,null,null,null,null,null,null,null,null,null,"",null,""]
[null,null,{"$f":"IF(Tabulka2[[#This Row],[Data]]=\"\",\"\",IF(OR(Tabulka2[[#This Row],[Data]]<$G$57,Tabulka2[[#This Row],[Data]]>$G$58),2,IF(OR(Tabulka2[[#This Row],[Data]]<$G$51,Tabulka2[[#This Row],[Data]]>$G$52),1,0)))","v":""},{"$f":"IF(Tabulka2[[#This Row],[OL]]=\"\",\"\",IF(Tabulka2[[#This Row],[OL]]>0,A1532,\"\"))","v":""},null,null,null,null,null,null,null,null,null,null,null,null,null,null,null,"",null,""]
[null,null,{"$f":"IF(Tabulka2[[#This Row],[Data]]=\"\",\"\",IF(OR(Tabulka2[[#This Row],[Data]]<$G$57,Tabulka2[[#This Row],[Data]]>$G$58),2,IF(OR(Tabulka2[[#This Row],[Data]]<$G$51,Tabulka2[[#This Row],[Data]]>$G$52),1,0)))","v":""},{"$f":"IF(Tabulka2[[#This Row],[OL]]=\"\",\"\",IF(Tabulka2[[#This Row],[OL]]>0,A1533,\"\"))","v":""},null,null,null,null,null,null,null,null,null,null,null,null,null,null,null,"",null,""]
[null,null,{"$f":"IF(Tabulka2[[#This Row],[Data]]=\"\",\"\",IF(OR(Tabulka2[[#This Row],[Data]]<$G$57,Tabulka2[[#This Row],[Data]]>$G$58),2,IF(OR(Tabulka2[[#This Row],[Data]]<$G$51,Tabulka2[[#This Row],[Data]]>$G$52),1,0)))","v":""},{"$f":"IF(Tabulka2[[#This Row],[OL]]=\"\",\"\",IF(Tabulka2[[#This Row],[OL]]>0,A1534,\"\"))","v":""},null,null,null,null,null,null,null,null,null,null,null,null,null,null,null,"",null,""]
[null,null,{"$f":"IF(Tabulka2[[#This Row],[Data]]=\"\",\"\",IF(OR(Tabulka2[[#This Row],[Data]]<$G$57,Tabulka2[[#This Row],[Data]]>$G$58),2,IF(OR(Tabulka2[[#This Row],[Data]]<$G$51,Tabulka2[[#This Row],[Data]]>$G$52),1,0)))","v":""},{"$f":"IF(Tabulka2[[#This Row],[OL]]=\"\",\"\",IF(Tabulka2[[#This Row],[OL]]>0,A1535,\"\"))","v":""},null,null,null,null,null,null,null,null,null,null,null,null,null,null,null,"",null,""]
[null,null,{"$f":"IF(Tabulka2[[#This Row],[Data]]=\"\",\"\",IF(OR(Tabulka2[[#This Row],[Data]]<$G$57,Tabulka2[[#This Row],[Data]]>$G$58),2,IF(OR(Tabulka2[[#This Row],[Data]]<$G$51,Tabulka2[[#This Row],[Data]]>$G$52),1,0)))","v":""},{"$f":"IF(Tabulka2[[#This Row],[OL]]=\"\",\"\",IF(Tabulka2[[#This Row],[OL]]>0,A1536,\"\"))","v":""},null,null,null,null,null,null,null,null,null,null,null,null,null,null,null,"",null,""]
[null,null,{"$f":"IF(Tabulka2[[#This Row],[Data]]=\"\",\"\",IF(OR(Tabulka2[[#This Row],[Data]]<$G$57,Tabulka2[[#This Row],[Data]]>$G$58),2,IF(OR(Tabulka2[[#This Row],[Data]]<$G$51,Tabulka2[[#This Row],[Data]]>$G$52),1,0)))","v":""},{"$f":"IF(Tabulka2[[#This Row],[OL]]=\"\",\"\",IF(Tabulka2[[#This Row],[OL]]>0,A1537,\"\"))","v":""},null,null,null,null,null,null,null,null,null,null,null,null,null,null,null,"",null,""]
[null,null,{"$f":"IF(Tabulka2[[#This Row],[Data]]=\"\",\"\",IF(OR(Tabulka2[[#This Row],[Data]]<$G$57,Tabulka2[[#This Row],[Data]]>$G$58),2,IF(OR(Tabulka2[[#This Row],[Data]]<$G$51,Tabulka2[[#This Row],[Data]]>$G$52),1,0)))","v":""},{"$f":"IF(Tabulka2[[#This Row],[OL]]=\"\",\"\",IF(Tabulka2[[#This Row],[OL]]>0,A1538,\"\"))","v":""},null,null,null,null,null,null,null,null,null,null,null,null,null,null,null,"",null,""]
[null,null,{"$f":"IF(Tabulka2[[#This Row],[Data]]=\"\",\"\",IF(OR(Tabulka2[[#This Row],[Data]]<$G$57,Tabulka2[[#This Row],[Data]]>$G$58),2,IF(OR(Tabulka2[[#This Row],[Data]]<$G$51,Tabulka2[[#This Row],[Data]]>$G$52),1,0)))","v":""},{"$f":"IF(Tabulka2[[#This Row],[OL]]=\"\",\"\",IF(Tabulka2[[#This Row],[OL]]>0,A1539,\"\"))","v":""},null,null,null,null,null,null,null,null,null,null,null,null,null,null,null,"",null,""]
[null,null,{"$f":"IF(Tabulka2[[#This Row],[Data]]=\"\",\"\",IF(OR(Tabulka2[[#This Row],[Data]]<$G$57,Tabulka2[[#This Row],[Data]]>$G$58),2,IF(OR(Tabulka2[[#This Row],[Data]]<$G$51,Tabulka2[[#This Row],[Data]]>$G$52),1,0)))","v":""},{"$f":"IF(Tabulka2[[#This Row],[OL]]=\"\",\"\",IF(Tabulka2[[#This Row],[OL]]>0,A1540,\"\"))","v":""},null,null,null,null,null,null,null,null,null,null,null,null,null,null,null,"",null,""]
[null,null,{"$f":"IF(Tabulka2[[#This Row],[Data]]=\"\",\"\",IF(OR(Tabulka2[[#This Row],[Data]]<$G$57,Tabulka2[[#This Row],[Data]]>$G$58),2,IF(OR(Tabulka2[[#This Row],[Data]]<$G$51,Tabulka2[[#This Row],[Data]]>$G$52),1,0)))","v":""},{"$f":"IF(Tabulka2[[#This Row],[OL]]=\"\",\"\",IF(Tabulka2[[#This Row],[OL]]>0,A1541,\"\"))","v":""},null,null,null,null,null,null,null,null,null,null,null,null,null,null,null,"",null,""]
[null,null,{"$f":"IF(Tabulka2[[#This Row],[Data]]=\"\",\"\",IF(OR(Tabulka2[[#This Row],[Data]]<$G$57,Tabulka2[[#This Row],[Data]]>$G$58),2,IF(OR(Tabulka2[[#This Row],[Data]]<$G$51,Tabulka2[[#This Row],[Data]]>$G$52),1,0)))","v":""},{"$f":"IF(Tabulka2[[#This Row],[OL]]=\"\",\"\",IF(Tabulka2[[#This Row],[OL]]>0,A1542,\"\"))","v":""},null,null,null,null,null,null,null,null,null,null,null,null,null,null,null,"",null,""]
[null,null,{"$f":"IF(Tabulka2[[#This Row],[Data]]=\"\",\"\",IF(OR(Tabulka2[[#This Row],[Data]]<$G$57,Tabulka2[[#This Row],[Data]]>$G$58),2,IF(OR(Tabulka2[[#This Row],[Data]]<$G$51,Tabulka2[[#This Row],[Data]]>$G$52),1,0)))","v":""},{"$f":"IF(Tabulka2[[#This Row],[OL]]=\"\",\"\",IF(Tabulka2[[#This Row],[OL]]>0,A1543,\"\"))","v":""},null,null,null,null,null,null,null,null,null,null,null,null,null,null,null,"",null,""]
[null,null,{"$f":"IF(Tabulka2[[#This Row],[Data]]=\"\",\"\",IF(OR(Tabulka2[[#This Row],[Data]]<$G$57,Tabulka2[[#This Row],[Data]]>$G$58),2,IF(OR(Tabulka2[[#This Row],[Data]]<$G$51,Tabulka2[[#This Row],[Data]]>$G$52),1,0)))","v":""},{"$f":"IF(Tabulka2[[#This Row],[OL]]=\"\",\"\",IF(Tabulka2[[#This Row],[OL]]>0,A1544,\"\"))","v":""},null,null,null,null,null,null,null,null,null,null,null,null,null,null,null,"",null,""]
[null,null,{"$f":"IF(Tabulka2[[#This Row],[Data]]=\"\",\"\",IF(OR(Tabulka2[[#This Row],[Data]]<$G$57,Tabulka2[[#This Row],[Data]]>$G$58),2,IF(OR(Tabulka2[[#This Row],[Data]]<$G$51,Tabulka2[[#This Row],[Data]]>$G$52),1,0)))","v":""},{"$f":"IF(Tabulka2[[#This Row],[OL]]=\"\",\"\",IF(Tabulka2[[#This Row],[OL]]>0,A1545,\"\"))","v":""},null,null,null,null,null,null,null,null,null,null,null,null,null,null,null,"",null,""]
[null,null,{"$f":"IF(Tabulka2[[#This Row],[Data]]=\"\",\"\",IF(OR(Tabulka2[[#This Row],[Data]]<$G$57,Tabulka2[[#This Row],[Data]]>$G$58),2,IF(OR(Tabulka2[[#This Row],[Data]]<$G$51,Tabulka2[[#This Row],[Data]]>$G$52),1,0)))","v":""},{"$f":"IF(Tabulka2[[#This Row],[OL]]=\"\",\"\",IF(Tabulka2[[#This Row],[OL]]>0,A1546,\"\"))","v":""},null,null,null,null,null,null,null,null,null,null,null,null,null,null,null,"",null,""]
[null,null,{"$f":"IF(Tabulka2[[#This Row],[Data]]=\"\",\"\",IF(OR(Tabulka2[[#This Row],[Data]]<$G$57,Tabulka2[[#This Row],[Data]]>$G$58),2,IF(OR(Tabulka2[[#This Row],[Data]]<$G$51,Tabulka2[[#This Row],[Data]]>$G$52),1,0)))","v":""},{"$f":"IF(Tabulka2[[#This Row],[OL]]=\"\",\"\",IF(Tabulka2[[#This Row],[OL]]>0,A1547,\"\"))","v":""},null,null,null,null,null,null,null,null,null,null,null,null,null,null,null,"",null,""]
[null,null,{"$f":"IF(Tabulka2[[#This Row],[Data]]=\"\",\"\",IF(OR(Tabulka2[[#This Row],[Data]]<$G$57,Tabulka2[[#This Row],[Data]]>$G$58),2,IF(OR(Tabulka2[[#This Row],[Data]]<$G$51,Tabulka2[[#This Row],[Data]]>$G$52),1,0)))","v":""},{"$f":"IF(Tabulka2[[#This Row],[OL]]=\"\",\"\",IF(Tabulka2[[#This Row],[OL]]>0,A1548,\"\"))","v":""},null,null,null,null,null,null,null,null,null,null,null,null,null,null,null,"",null,""]
[null,null,{"$f":"IF(Tabulka2[[#This Row],[Data]]=\"\",\"\",IF(OR(Tabulka2[[#This Row],[Data]]<$G$57,Tabulka2[[#This Row],[Data]]>$G$58),2,IF(OR(Tabulka2[[#This Row],[Data]]<$G$51,Tabulka2[[#This Row],[Data]]>$G$52),1,0)))","v":""},{"$f":"IF(Tabulka2[[#This Row],[OL]]=\"\",\"\",IF(Tabulka2[[#This Row],[OL]]>0,A1549,\"\"))","v":""},null,null,null,null,null,null,null,null,null,null,null,null,null,null,null,"",null,""]
[null,null,{"$f":"IF(Tabulka2[[#This Row],[Data]]=\"\",\"\",IF(OR(Tabulka2[[#This Row],[Data]]<$G$57,Tabulka2[[#This Row],[Data]]>$G$58),2,IF(OR(Tabulka2[[#This Row],[Data]]<$G$51,Tabulka2[[#This Row],[Data]]>$G$52),1,0)))","v":""},{"$f":"IF(Tabulka2[[#This Row],[OL]]=\"\",\"\",IF(Tabulka2[[#This Row],[OL]]>0,A1550,\"\"))","v":""},null,null,null,null,null,null,null,null,null,null,null,null,null,null,null,"",null,""]
[null,null,{"$f":"IF(Tabulka2[[#This Row],[Data]]=\"\",\"\",IF(OR(Tabulka2[[#This Row],[Data]]<$G$57,Tabulka2[[#This Row],[Data]]>$G$58),2,IF(OR(Tabulka2[[#This Row],[Data]]<$G$51,Tabulka2[[#This Row],[Data]]>$G$52),1,0)))","v":""},{"$f":"IF(Tabulka2[[#This Row],[OL]]=\"\",\"\",IF(Tabulka2[[#This Row],[OL]]>0,A1551,\"\"))","v":""},null,null,null,null,null,null,null,null,null,null,null,null,null,null,null,"",null,""]
[null,null,{"$f":"IF(Tabulka2[[#This Row],[Data]]=\"\",\"\",IF(OR(Tabulka2[[#This Row],[Data]]<$G$57,Tabulka2[[#This Row],[Data]]>$G$58),2,IF(OR(Tabulka2[[#This Row],[Data]]<$G$51,Tabulka2[[#This Row],[Data]]>$G$52),1,0)))","v":""},{"$f":"IF(Tabulka2[[#This Row],[OL]]=\"\",\"\",IF(Tabulka2[[#This Row],[OL]]>0,A1552,\"\"))","v":""},null,null,null,null,null,null,null,null,null,null,null,null,null,null,null,"",null,""]
[null,null,{"$f":"IF(Tabulka2[[#This Row],[Data]]=\"\",\"\",IF(OR(Tabulka2[[#This Row],[Data]]<$G$57,Tabulka2[[#This Row],[Data]]>$G$58),2,IF(OR(Tabulka2[[#This Row],[Data]]<$G$51,Tabulka2[[#This Row],[Data]]>$G$52),1,0)))","v":""},{"$f":"IF(Tabulka2[[#This Row],[OL]]=\"\",\"\",IF(Tabulka2[[#This Row],[OL]]>0,A1553,\"\"))","v":""},null,null,null,null,null,null,null,null,null,null,null,null,null,null,null,"",null,""]
[null,null,{"$f":"IF(Tabulka2[[#This Row],[Data]]=\"\",\"\",IF(OR(Tabulka2[[#This Row],[Data]]<$G$57,Tabulka2[[#This Row],[Data]]>$G$58),2,IF(OR(Tabulka2[[#This Row],[Data]]<$G$51,Tabulka2[[#This Row],[Data]]>$G$52),1,0)))","v":""},{"$f":"IF(Tabulka2[[#This Row],[OL]]=\"\",\"\",IF(Tabulka2[[#This Row],[OL]]>0,A1554,\"\"))","v":""},null,null,null,null,null,null,null,null,null,null,null,null,null,null,null,"",null,""]
[null,null,{"$f":"IF(Tabulka2[[#This Row],[Data]]=\"\",\"\",IF(OR(Tabulka2[[#This Row],[Data]]<$G$57,Tabulka2[[#This Row],[Data]]>$G$58),2,IF(OR(Tabulka2[[#This Row],[Data]]<$G$51,Tabulka2[[#This Row],[Data]]>$G$52),1,0)))","v":""},{"$f":"IF(Tabulka2[[#This Row],[OL]]=\"\",\"\",IF(Tabulka2[[#This Row],[OL]]>0,A1555,\"\"))","v":""},null,null,null,null,null,null,null,null,null,null,null,null,null,null,null,"",null,""]
[null,null,{"$f":"IF(Tabulka2[[#This Row],[Data]]=\"\",\"\",IF(OR(Tabulka2[[#This Row],[Data]]<$G$57,Tabulka2[[#This Row],[Data]]>$G$58),2,IF(OR(Tabulka2[[#This Row],[Data]]<$G$51,Tabulka2[[#This Row],[Data]]>$G$52),1,0)))","v":""},{"$f":"IF(Tabulka2[[#This Row],[OL]]=\"\",\"\",IF(Tabulka2[[#This Row],[OL]]>0,A1556,\"\"))","v":""},null,null,null,null,null,null,null,null,null,null,null,null,null,null,null,"",null,""]
[null,null,{"$f":"IF(Tabulka2[[#This Row],[Data]]=\"\",\"\",IF(OR(Tabulka2[[#This Row],[Data]]<$G$57,Tabulka2[[#This Row],[Data]]>$G$58),2,IF(OR(Tabulka2[[#This Row],[Data]]<$G$51,Tabulka2[[#This Row],[Data]]>$G$52),1,0)))","v":""},{"$f":"IF(Tabulka2[[#This Row],[OL]]=\"\",\"\",IF(Tabulka2[[#This Row],[OL]]>0,A1557,\"\"))","v":""},null,null,null,null,null,null,null,null,null,null,null,null,null,null,null,"",null,""]
[null,null,{"$f":"IF(Tabulka2[[#This Row],[Data]]=\"\",\"\",IF(OR(Tabulka2[[#This Row],[Data]]<$G$57,Tabulka2[[#This Row],[Data]]>$G$58),2,IF(OR(Tabulka2[[#This Row],[Data]]<$G$51,Tabulka2[[#This Row],[Data]]>$G$52),1,0)))","v":""},{"$f":"IF(Tabulka2[[#This Row],[OL]]=\"\",\"\",IF(Tabulka2[[#This Row],[OL]]>0,A1558,\"\"))","v":""},null,null,null,null,null,null,null,null,null,null,null,null,null,null,null,"",null,""]
[null,null,{"$f":"IF(Tabulka2[[#This Row],[Data]]=\"\",\"\",IF(OR(Tabulka2[[#This Row],[Data]]<$G$57,Tabulka2[[#This Row],[Data]]>$G$58),2,IF(OR(Tabulka2[[#This Row],[Data]]<$G$51,Tabulka2[[#This Row],[Data]]>$G$52),1,0)))","v":""},{"$f":"IF(Tabulka2[[#This Row],[OL]]=\"\",\"\",IF(Tabulka2[[#This Row],[OL]]>0,A1559,\"\"))","v":""},null,null,null,null,null,null,null,null,null,null,null,null,null,null,null,"",null,""]
[null,null,{"$f":"IF(Tabulka2[[#This Row],[Data]]=\"\",\"\",IF(OR(Tabulka2[[#This Row],[Data]]<$G$57,Tabulka2[[#This Row],[Data]]>$G$58),2,IF(OR(Tabulka2[[#This Row],[Data]]<$G$51,Tabulka2[[#This Row],[Data]]>$G$52),1,0)))","v":""},{"$f":"IF(Tabulka2[[#This Row],[OL]]=\"\",\"\",IF(Tabulka2[[#This Row],[OL]]>0,A1560,\"\"))","v":""},null,null,null,null,null,null,null,null,null,null,null,null,null,null,null,"",null,""]
[null,null,{"$f":"IF(Tabulka2[[#This Row],[Data]]=\"\",\"\",IF(OR(Tabulka2[[#This Row],[Data]]<$G$57,Tabulka2[[#This Row],[Data]]>$G$58),2,IF(OR(Tabulka2[[#This Row],[Data]]<$G$51,Tabulka2[[#This Row],[Data]]>$G$52),1,0)))","v":""},{"$f":"IF(Tabulka2[[#This Row],[OL]]=\"\",\"\",IF(Tabulka2[[#This Row],[OL]]>0,A1561,\"\"))","v":""},null,null,null,null,null,null,null,null,null,null,null,null,null,null,null,"",null,""]
[null,null,{"$f":"IF(Tabulka2[[#This Row],[Data]]=\"\",\"\",IF(OR(Tabulka2[[#This Row],[Data]]<$G$57,Tabulka2[[#This Row],[Data]]>$G$58),2,IF(OR(Tabulka2[[#This Row],[Data]]<$G$51,Tabulka2[[#This Row],[Data]]>$G$52),1,0)))","v":""},{"$f":"IF(Tabulka2[[#This Row],[OL]]=\"\",\"\",IF(Tabulka2[[#This Row],[OL]]>0,A1562,\"\"))","v":""},null,null,null,null,null,null,null,null,null,null,null,null,null,null,null,"",null,""]
[null,null,{"$f":"IF(Tabulka2[[#This Row],[Data]]=\"\",\"\",IF(OR(Tabulka2[[#This Row],[Data]]<$G$57,Tabulka2[[#This Row],[Data]]>$G$58),2,IF(OR(Tabulka2[[#This Row],[Data]]<$G$51,Tabulka2[[#This Row],[Data]]>$G$52),1,0)))","v":""},{"$f":"IF(Tabulka2[[#This Row],[OL]]=\"\",\"\",IF(Tabulka2[[#This Row],[OL]]>0,A1563,\"\"))","v":""},null,null,null,null,null,null,null,null,null,null,null,null,null,null,null,"",null,""]
[null,null,{"$f":"IF(Tabulka2[[#This Row],[Data]]=\"\",\"\",IF(OR(Tabulka2[[#This Row],[Data]]<$G$57,Tabulka2[[#This Row],[Data]]>$G$58),2,IF(OR(Tabulka2[[#This Row],[Data]]<$G$51,Tabulka2[[#This Row],[Data]]>$G$52),1,0)))","v":""},{"$f":"IF(Tabulka2[[#This Row],[OL]]=\"\",\"\",IF(Tabulka2[[#This Row],[OL]]>0,A1564,\"\"))","v":""},null,null,null,null,null,null,null,null,null,null,null,null,null,null,null,"",null,""]
[null,null,{"$f":"IF(Tabulka2[[#This Row],[Data]]=\"\",\"\",IF(OR(Tabulka2[[#This Row],[Data]]<$G$57,Tabulka2[[#This Row],[Data]]>$G$58),2,IF(OR(Tabulka2[[#This Row],[Data]]<$G$51,Tabulka2[[#This Row],[Data]]>$G$52),1,0)))","v":""},{"$f":"IF(Tabulka2[[#This Row],[OL]]=\"\",\"\",IF(Tabulka2[[#This Row],[OL]]>0,A1565,\"\"))","v":""},null,null,null,null,null,null,null,null,null,null,null,null,null,null,null,"",null,""]
[null,null,{"$f":"IF(Tabulka2[[#This Row],[Data]]=\"\",\"\",IF(OR(Tabulka2[[#This Row],[Data]]<$G$57,Tabulka2[[#This Row],[Data]]>$G$58),2,IF(OR(Tabulka2[[#This Row],[Data]]<$G$51,Tabulka2[[#This Row],[Data]]>$G$52),1,0)))","v":""},{"$f":"IF(Tabulka2[[#This Row],[OL]]=\"\",\"\",IF(Tabulka2[[#This Row],[OL]]>0,A1566,\"\"))","v":""},null,null,null,null,null,null,null,null,null,null,null,null,null,null,null,"",null,""]
[null,null,{"$f":"IF(Tabulka2[[#This Row],[Data]]=\"\",\"\",IF(OR(Tabulka2[[#This Row],[Data]]<$G$57,Tabulka2[[#This Row],[Data]]>$G$58),2,IF(OR(Tabulka2[[#This Row],[Data]]<$G$51,Tabulka2[[#This Row],[Data]]>$G$52),1,0)))","v":""},{"$f":"IF(Tabulka2[[#This Row],[OL]]=\"\",\"\",IF(Tabulka2[[#This Row],[OL]]>0,A1567,\"\"))","v":""},null,null,null,null,null,null,null,null,null,null,null,null,null,null,null,"",null,""]
[null,null,{"$f":"IF(Tabulka2[[#This Row],[Data]]=\"\",\"\",IF(OR(Tabulka2[[#This Row],[Data]]<$G$57,Tabulka2[[#This Row],[Data]]>$G$58),2,IF(OR(Tabulka2[[#This Row],[Data]]<$G$51,Tabulka2[[#This Row],[Data]]>$G$52),1,0)))","v":""},{"$f":"IF(Tabulka2[[#This Row],[OL]]=\"\",\"\",IF(Tabulka2[[#This Row],[OL]]>0,A1568,\"\"))","v":""},null,null,null,null,null,null,null,null,null,null,null,null,null,null,null,"",null,""]
[null,null,{"$f":"IF(Tabulka2[[#This Row],[Data]]=\"\",\"\",IF(OR(Tabulka2[[#This Row],[Data]]<$G$57,Tabulka2[[#This Row],[Data]]>$G$58),2,IF(OR(Tabulka2[[#This Row],[Data]]<$G$51,Tabulka2[[#This Row],[Data]]>$G$52),1,0)))","v":""},{"$f":"IF(Tabulka2[[#This Row],[OL]]=\"\",\"\",IF(Tabulka2[[#This Row],[OL]]>0,A1569,\"\"))","v":""},null,null,null,null,null,null,null,null,null,null,null,null,null,null,null,"",null,""]
[null,null,{"$f":"IF(Tabulka2[[#This Row],[Data]]=\"\",\"\",IF(OR(Tabulka2[[#This Row],[Data]]<$G$57,Tabulka2[[#This Row],[Data]]>$G$58),2,IF(OR(Tabulka2[[#This Row],[Data]]<$G$51,Tabulka2[[#This Row],[Data]]>$G$52),1,0)))","v":""},{"$f":"IF(Tabulka2[[#This Row],[OL]]=\"\",\"\",IF(Tabulka2[[#This Row],[OL]]>0,A1570,\"\"))","v":""},null,null,null,null,null,null,null,null,null,null,null,null,null,null,null,"",null,""]
[null,null,{"$f":"IF(Tabulka2[[#This Row],[Data]]=\"\",\"\",IF(OR(Tabulka2[[#This Row],[Data]]<$G$57,Tabulka2[[#This Row],[Data]]>$G$58),2,IF(OR(Tabulka2[[#This Row],[Data]]<$G$51,Tabulka2[[#This Row],[Data]]>$G$52),1,0)))","v":""},{"$f":"IF(Tabulka2[[#This Row],[OL]]=\"\",\"\",IF(Tabulka2[[#This Row],[OL]]>0,A1571,\"\"))","v":""},null,null,null,null,null,null,null,null,null,null,null,null,null,null,null,"",null,""]
[null,null,{"$f":"IF(Tabulka2[[#This Row],[Data]]=\"\",\"\",IF(OR(Tabulka2[[#This Row],[Data]]<$G$57,Tabulka2[[#This Row],[Data]]>$G$58),2,IF(OR(Tabulka2[[#This Row],[Data]]<$G$51,Tabulka2[[#This Row],[Data]]>$G$52),1,0)))","v":""},{"$f":"IF(Tabulka2[[#This Row],[OL]]=\"\",\"\",IF(Tabulka2[[#This Row],[OL]]>0,A1572,\"\"))","v":""},null,null,null,null,null,null,null,null,null,null,null,null,null,null,null,"",null,""]
[null,null,{"$f":"IF(Tabulka2[[#This Row],[Data]]=\"\",\"\",IF(OR(Tabulka2[[#This Row],[Data]]<$G$57,Tabulka2[[#This Row],[Data]]>$G$58),2,IF(OR(Tabulka2[[#This Row],[Data]]<$G$51,Tabulka2[[#This Row],[Data]]>$G$52),1,0)))","v":""},{"$f":"IF(Tabulka2[[#This Row],[OL]]=\"\",\"\",IF(Tabulka2[[#This Row],[OL]]>0,A1573,\"\"))","v":""},null,null,null,null,null,null,null,null,null,null,null,null,null,null,null,"",null,""]
[null,null,{"$f":"IF(Tabulka2[[#This Row],[Data]]=\"\",\"\",IF(OR(Tabulka2[[#This Row],[Data]]<$G$57,Tabulka2[[#This Row],[Data]]>$G$58),2,IF(OR(Tabulka2[[#This Row],[Data]]<$G$51,Tabulka2[[#This Row],[Data]]>$G$52),1,0)))","v":""},{"$f":"IF(Tabulka2[[#This Row],[OL]]=\"\",\"\",IF(Tabulka2[[#This Row],[OL]]>0,A1574,\"\"))","v":""},null,null,null,null,null,null,null,null,null,null,null,null,null,null,null,"",null,""]
[null,null,{"$f":"IF(Tabulka2[[#This Row],[Data]]=\"\",\"\",IF(OR(Tabulka2[[#This Row],[Data]]<$G$57,Tabulka2[[#This Row],[Data]]>$G$58),2,IF(OR(Tabulka2[[#This Row],[Data]]<$G$51,Tabulka2[[#This Row],[Data]]>$G$52),1,0)))","v":""},{"$f":"IF(Tabulka2[[#This Row],[OL]]=\"\",\"\",IF(Tabulka2[[#This Row],[OL]]>0,A1575,\"\"))","v":""},null,null,null,null,null,null,null,null,null,null,null,null,null,null,null,"",null,""]
[null,null,{"$f":"IF(Tabulka2[[#This Row],[Data]]=\"\",\"\",IF(OR(Tabulka2[[#This Row],[Data]]<$G$57,Tabulka2[[#This Row],[Data]]>$G$58),2,IF(OR(Tabulka2[[#This Row],[Data]]<$G$51,Tabulka2[[#This Row],[Data]]>$G$52),1,0)))","v":""},{"$f":"IF(Tabulka2[[#This Row],[OL]]=\"\",\"\",IF(Tabulka2[[#This Row],[OL]]>0,A1576,\"\"))","v":""},null,null,null,null,null,null,null,null,null,null,null,null,null,null,null,"",null,""]
[null,null,{"$f":"IF(Tabulka2[[#This Row],[Data]]=\"\",\"\",IF(OR(Tabulka2[[#This Row],[Data]]<$G$57,Tabulka2[[#This Row],[Data]]>$G$58),2,IF(OR(Tabulka2[[#This Row],[Data]]<$G$51,Tabulka2[[#This Row],[Data]]>$G$52),1,0)))","v":""},{"$f":"IF(Tabulka2[[#This Row],[OL]]=\"\",\"\",IF(Tabulka2[[#This Row],[OL]]>0,A1577,\"\"))","v":""},null,null,null,null,null,null,null,null,null,null,null,null,null,null,null,"",null,""]
[null,null,{"$f":"IF(Tabulka2[[#This Row],[Data]]=\"\",\"\",IF(OR(Tabulka2[[#This Row],[Data]]<$G$57,Tabulka2[[#This Row],[Data]]>$G$58),2,IF(OR(Tabulka2[[#This Row],[Data]]<$G$51,Tabulka2[[#This Row],[Data]]>$G$52),1,0)))","v":""},{"$f":"IF(Tabulka2[[#This Row],[OL]]=\"\",\"\",IF(Tabulka2[[#This Row],[OL]]>0,A1578,\"\"))","v":""},null,null,null,null,null,null,null,null,null,null,null,null,null,null,null,"",null,""]
[null,null,{"$f":"IF(Tabulka2[[#This Row],[Data]]=\"\",\"\",IF(OR(Tabulka2[[#This Row],[Data]]<$G$57,Tabulka2[[#This Row],[Data]]>$G$58),2,IF(OR(Tabulka2[[#This Row],[Data]]<$G$51,Tabulka2[[#This Row],[Data]]>$G$52),1,0)))","v":""},{"$f":"IF(Tabulka2[[#This Row],[OL]]=\"\",\"\",IF(Tabulka2[[#This Row],[OL]]>0,A1579,\"\"))","v":""},null,null,null,null,null,null,null,null,null,null,null,null,null,null,null,"",null,""]
[null,null,{"$f":"IF(Tabulka2[[#This Row],[Data]]=\"\",\"\",IF(OR(Tabulka2[[#This Row],[Data]]<$G$57,Tabulka2[[#This Row],[Data]]>$G$58),2,IF(OR(Tabulka2[[#This Row],[Data]]<$G$51,Tabulka2[[#This Row],[Data]]>$G$52),1,0)))","v":""},{"$f":"IF(Tabulka2[[#This Row],[OL]]=\"\",\"\",IF(Tabulka2[[#This Row],[OL]]>0,A1580,\"\"))","v":""},null,null,null,null,null,null,null,null,null,null,null,null,null,null,null,"",null,""]
[null,null,{"$f":"IF(Tabulka2[[#This Row],[Data]]=\"\",\"\",IF(OR(Tabulka2[[#This Row],[Data]]<$G$57,Tabulka2[[#This Row],[Data]]>$G$58),2,IF(OR(Tabulka2[[#This Row],[Data]]<$G$51,Tabulka2[[#This Row],[Data]]>$G$52),1,0)))","v":""},{"$f":"IF(Tabulka2[[#This Row],[OL]]=\"\",\"\",IF(Tabulka2[[#This Row],[OL]]>0,A1581,\"\"))","v":""},null,null,null,null,null,null,null,null,null,null,null,null,null,null,null,"",null,""]
[null,null,{"$f":"IF(Tabulka2[[#This Row],[Data]]=\"\",\"\",IF(OR(Tabulka2[[#This Row],[Data]]<$G$57,Tabulka2[[#This Row],[Data]]>$G$58),2,IF(OR(Tabulka2[[#This Row],[Data]]<$G$51,Tabulka2[[#This Row],[Data]]>$G$52),1,0)))","v":""},{"$f":"IF(Tabulka2[[#This Row],[OL]]=\"\",\"\",IF(Tabulka2[[#This Row],[OL]]>0,A1582,\"\"))","v":""},null,null,null,null,null,null,null,null,null,null,null,null,null,null,null,"",null,""]
[null,null,{"$f":"IF(Tabulka2[[#This Row],[Data]]=\"\",\"\",IF(OR(Tabulka2[[#This Row],[Data]]<$G$57,Tabulka2[[#This Row],[Data]]>$G$58),2,IF(OR(Tabulka2[[#This Row],[Data]]<$G$51,Tabulka2[[#This Row],[Data]]>$G$52),1,0)))","v":""},{"$f":"IF(Tabulka2[[#This Row],[OL]]=\"\",\"\",IF(Tabulka2[[#This Row],[OL]]>0,A1583,\"\"))","v":""},null,null,null,null,null,null,null,null,null,null,null,null,null,null,null,"",null,""]
[null,null,{"$f":"IF(Tabulka2[[#This Row],[Data]]=\"\",\"\",IF(OR(Tabulka2[[#This Row],[Data]]<$G$57,Tabulka2[[#This Row],[Data]]>$G$58),2,IF(OR(Tabulka2[[#This Row],[Data]]<$G$51,Tabulka2[[#This Row],[Data]]>$G$52),1,0)))","v":""},{"$f":"IF(Tabulka2[[#This Row],[OL]]=\"\",\"\",IF(Tabulka2[[#This Row],[OL]]>0,A1584,\"\"))","v":""},null,null,null,null,null,null,null,null,null,null,null,null,null,null,null,"",null,""]
[null,null,{"$f":"IF(Tabulka2[[#This Row],[Data]]=\"\",\"\",IF(OR(Tabulka2[[#This Row],[Data]]<$G$57,Tabulka2[[#This Row],[Data]]>$G$58),2,IF(OR(Tabulka2[[#This Row],[Data]]<$G$51,Tabulka2[[#This Row],[Data]]>$G$52),1,0)))","v":""},{"$f":"IF(Tabulka2[[#This Row],[OL]]=\"\",\"\",IF(Tabulka2[[#This Row],[OL]]>0,A1585,\"\"))","v":""},null,null,null,null,null,null,null,null,null,null,null,null,null,null,null,"",null,""]
[null,null,{"$f":"IF(Tabulka2[[#This Row],[Data]]=\"\",\"\",IF(OR(Tabulka2[[#This Row],[Data]]<$G$57,Tabulka2[[#This Row],[Data]]>$G$58),2,IF(OR(Tabulka2[[#This Row],[Data]]<$G$51,Tabulka2[[#This Row],[Data]]>$G$52),1,0)))","v":""},{"$f":"IF(Tabulka2[[#This Row],[OL]]=\"\",\"\",IF(Tabulka2[[#This Row],[OL]]>0,A1586,\"\"))","v":""},null,null,null,null,null,null,null,null,null,null,null,null,null,null,null,"",null,""]
[null,null,{"$f":"IF(Tabulka2[[#This Row],[Data]]=\"\",\"\",IF(OR(Tabulka2[[#This Row],[Data]]<$G$57,Tabulka2[[#This Row],[Data]]>$G$58),2,IF(OR(Tabulka2[[#This Row],[Data]]<$G$51,Tabulka2[[#This Row],[Data]]>$G$52),1,0)))","v":""},{"$f":"IF(Tabulka2[[#This Row],[OL]]=\"\",\"\",IF(Tabulka2[[#This Row],[OL]]>0,A1587,\"\"))","v":""},null,null,null,null,null,null,null,null,null,null,null,null,null,null,null,"",null,""]
[null,null,{"$f":"IF(Tabulka2[[#This Row],[Data]]=\"\",\"\",IF(OR(Tabulka2[[#This Row],[Data]]<$G$57,Tabulka2[[#This Row],[Data]]>$G$58),2,IF(OR(Tabulka2[[#This Row],[Data]]<$G$51,Tabulka2[[#This Row],[Data]]>$G$52),1,0)))","v":""},{"$f":"IF(Tabulka2[[#This Row],[OL]]=\"\",\"\",IF(Tabulka2[[#This Row],[OL]]>0,A1588,\"\"))","v":""},null,null,null,null,null,null,null,null,null,null,null,null,null,null,null,"",null,""]
[null,null,{"$f":"IF(Tabulka2[[#This Row],[Data]]=\"\",\"\",IF(OR(Tabulka2[[#This Row],[Data]]<$G$57,Tabulka2[[#This Row],[Data]]>$G$58),2,IF(OR(Tabulka2[[#This Row],[Data]]<$G$51,Tabulka2[[#This Row],[Data]]>$G$52),1,0)))","v":""},{"$f":"IF(Tabulka2[[#This Row],[OL]]=\"\",\"\",IF(Tabulka2[[#This Row],[OL]]>0,A1589,\"\"))","v":""},null,null,null,null,null,null,null,null,null,null,null,null,null,null,null,"",null,""]
[null,null,{"$f":"IF(Tabulka2[[#This Row],[Data]]=\"\",\"\",IF(OR(Tabulka2[[#This Row],[Data]]<$G$57,Tabulka2[[#This Row],[Data]]>$G$58),2,IF(OR(Tabulka2[[#This Row],[Data]]<$G$51,Tabulka2[[#This Row],[Data]]>$G$52),1,0)))","v":""},{"$f":"IF(Tabulka2[[#This Row],[OL]]=\"\",\"\",IF(Tabulka2[[#This Row],[OL]]>0,A1590,\"\"))","v":""},null,null,null,null,null,null,null,null,null,null,null,null,null,null,null,"",null,""]
[null,null,{"$f":"IF(Tabulka2[[#This Row],[Data]]=\"\",\"\",IF(OR(Tabulka2[[#This Row],[Data]]<$G$57,Tabulka2[[#This Row],[Data]]>$G$58),2,IF(OR(Tabulka2[[#This Row],[Data]]<$G$51,Tabulka2[[#This Row],[Data]]>$G$52),1,0)))","v":""},{"$f":"IF(Tabulka2[[#This Row],[OL]]=\"\",\"\",IF(Tabulka2[[#This Row],[OL]]>0,A1591,\"\"))","v":""},null,null,null,null,null,null,null,null,null,null,null,null,null,null,null,"",null,""]
[null,null,{"$f":"IF(Tabulka2[[#This Row],[Data]]=\"\",\"\",IF(OR(Tabulka2[[#This Row],[Data]]<$G$57,Tabulka2[[#This Row],[Data]]>$G$58),2,IF(OR(Tabulka2[[#This Row],[Data]]<$G$51,Tabulka2[[#This Row],[Data]]>$G$52),1,0)))","v":""},{"$f":"IF(Tabulka2[[#This Row],[OL]]=\"\",\"\",IF(Tabulka2[[#This Row],[OL]]>0,A1592,\"\"))","v":""},null,null,null,null,null,null,null,null,null,null,null,null,null,null,null,"",null,""]
[null,null,{"$f":"IF(Tabulka2[[#This Row],[Data]]=\"\",\"\",IF(OR(Tabulka2[[#This Row],[Data]]<$G$57,Tabulka2[[#This Row],[Data]]>$G$58),2,IF(OR(Tabulka2[[#This Row],[Data]]<$G$51,Tabulka2[[#This Row],[Data]]>$G$52),1,0)))","v":""},{"$f":"IF(Tabulka2[[#This Row],[OL]]=\"\",\"\",IF(Tabulka2[[#This Row],[OL]]>0,A1593,\"\"))","v":""},null,null,null,null,null,null,null,null,null,null,null,null,null,null,null,"",null,""]
[null,null,{"$f":"IF(Tabulka2[[#This Row],[Data]]=\"\",\"\",IF(OR(Tabulka2[[#This Row],[Data]]<$G$57,Tabulka2[[#This Row],[Data]]>$G$58),2,IF(OR(Tabulka2[[#This Row],[Data]]<$G$51,Tabulka2[[#This Row],[Data]]>$G$52),1,0)))","v":""},{"$f":"IF(Tabulka2[[#This Row],[OL]]=\"\",\"\",IF(Tabulka2[[#This Row],[OL]]>0,A1594,\"\"))","v":""},null,null,null,null,null,null,null,null,null,null,null,null,null,null,null,"",null,""]
[null,null,{"$f":"IF(Tabulka2[[#This Row],[Data]]=\"\",\"\",IF(OR(Tabulka2[[#This Row],[Data]]<$G$57,Tabulka2[[#This Row],[Data]]>$G$58),2,IF(OR(Tabulka2[[#This Row],[Data]]<$G$51,Tabulka2[[#This Row],[Data]]>$G$52),1,0)))","v":""},{"$f":"IF(Tabulka2[[#This Row],[OL]]=\"\",\"\",IF(Tabulka2[[#This Row],[OL]]>0,A1595,\"\"))","v":""},null,null,null,null,null,null,null,null,null,null,null,null,null,null,null,"",null,""]
[null,null,{"$f":"IF(Tabulka2[[#This Row],[Data]]=\"\",\"\",IF(OR(Tabulka2[[#This Row],[Data]]<$G$57,Tabulka2[[#This Row],[Data]]>$G$58),2,IF(OR(Tabulka2[[#This Row],[Data]]<$G$51,Tabulka2[[#This Row],[Data]]>$G$52),1,0)))","v":""},{"$f":"IF(Tabulka2[[#This Row],[OL]]=\"\",\"\",IF(Tabulka2[[#This Row],[OL]]>0,A1596,\"\"))","v":""},null,null,null,null,null,null,null,null,null,null,null,null,null,null,null,"",null,""]
[null,null,{"$f":"IF(Tabulka2[[#This Row],[Data]]=\"\",\"\",IF(OR(Tabulka2[[#This Row],[Data]]<$G$57,Tabulka2[[#This Row],[Data]]>$G$58),2,IF(OR(Tabulka2[[#This Row],[Data]]<$G$51,Tabulka2[[#This Row],[Data]]>$G$52),1,0)))","v":""},{"$f":"IF(Tabulka2[[#This Row],[OL]]=\"\",\"\",IF(Tabulka2[[#This Row],[OL]]>0,A1597,\"\"))","v":""},null,null,null,null,null,null,null,null,null,null,null,null,null,null,null,"",null,""]
[null,null,{"$f":"IF(Tabulka2[[#This Row],[Data]]=\"\",\"\",IF(OR(Tabulka2[[#This Row],[Data]]<$G$57,Tabulka2[[#This Row],[Data]]>$G$58),2,IF(OR(Tabulka2[[#This Row],[Data]]<$G$51,Tabulka2[[#This Row],[Data]]>$G$52),1,0)))","v":""},{"$f":"IF(Tabulka2[[#This Row],[OL]]=\"\",\"\",IF(Tabulka2[[#This Row],[OL]]>0,A1598,\"\"))","v":""},null,null,null,null,null,null,null,null,null,null,null,null,null,null,null,"",null,""]
[null,null,{"$f":"IF(Tabulka2[[#This Row],[Data]]=\"\",\"\",IF(OR(Tabulka2[[#This Row],[Data]]<$G$57,Tabulka2[[#This Row],[Data]]>$G$58),2,IF(OR(Tabulka2[[#This Row],[Data]]<$G$51,Tabulka2[[#This Row],[Data]]>$G$52),1,0)))","v":""},{"$f":"IF(Tabulka2[[#This Row],[OL]]=\"\",\"\",IF(Tabulka2[[#This Row],[OL]]>0,A1599,\"\"))","v":""},null,null,null,null,null,null,null,null,null,null,null,null,null,null,null,"",null,""]
[null,null,{"$f":"IF(Tabulka2[[#This Row],[Data]]=\"\",\"\",IF(OR(Tabulka2[[#This Row],[Data]]<$G$57,Tabulka2[[#This Row],[Data]]>$G$58),2,IF(OR(Tabulka2[[#This Row],[Data]]<$G$51,Tabulka2[[#This Row],[Data]]>$G$52),1,0)))","v":""},{"$f":"IF(Tabulka2[[#This Row],[OL]]=\"\",\"\",IF(Tabulka2[[#This Row],[OL]]>0,A1600,\"\"))","v":""},null,null,null,null,null,null,null,null,null,null,null,null,null,null,null,"",null,""]
[null,null,{"$f":"IF(Tabulka2[[#This Row],[Data]]=\"\",\"\",IF(OR(Tabulka2[[#This Row],[Data]]<$G$57,Tabulka2[[#This Row],[Data]]>$G$58),2,IF(OR(Tabulka2[[#This Row],[Data]]<$G$51,Tabulka2[[#This Row],[Data]]>$G$52),1,0)))","v":""},{"$f":"IF(Tabulka2[[#This Row],[OL]]=\"\",\"\",IF(Tabulka2[[#This Row],[OL]]>0,A1601,\"\"))","v":""},null,null,null,null,null,null,null,null,null,null,null,null,null,null,null,"",null,""]
[null,null,{"$f":"IF(Tabulka2[[#This Row],[Data]]=\"\",\"\",IF(OR(Tabulka2[[#This Row],[Data]]<$G$57,Tabulka2[[#This Row],[Data]]>$G$58),2,IF(OR(Tabulka2[[#This Row],[Data]]<$G$51,Tabulka2[[#This Row],[Data]]>$G$52),1,0)))","v":""},{"$f":"IF(Tabulka2[[#This Row],[OL]]=\"\",\"\",IF(Tabulka2[[#This Row],[OL]]>0,A1602,\"\"))","v":""},null,null,null,null,null,null,null,null,null,null,null,null,null,null,null,"",null,""]
[null,null,{"$f":"IF(Tabulka2[[#This Row],[Data]]=\"\",\"\",IF(OR(Tabulka2[[#This Row],[Data]]<$G$57,Tabulka2[[#This Row],[Data]]>$G$58),2,IF(OR(Tabulka2[[#This Row],[Data]]<$G$51,Tabulka2[[#This Row],[Data]]>$G$52),1,0)))","v":""},{"$f":"IF(Tabulka2[[#This Row],[OL]]=\"\",\"\",IF(Tabulka2[[#This Row],[OL]]>0,A1603,\"\"))","v":""},null,null,null,null,null,null,null,null,null,null,null,null,null,null,null,"",null,""]
[null,null,{"$f":"IF(Tabulka2[[#This Row],[Data]]=\"\",\"\",IF(OR(Tabulka2[[#This Row],[Data]]<$G$57,Tabulka2[[#This Row],[Data]]>$G$58),2,IF(OR(Tabulka2[[#This Row],[Data]]<$G$51,Tabulka2[[#This Row],[Data]]>$G$52),1,0)))","v":""},{"$f":"IF(Tabulka2[[#This Row],[OL]]=\"\",\"\",IF(Tabulka2[[#This Row],[OL]]>0,A1604,\"\"))","v":""},null,null,null,null,null,null,null,null,null,null,null,null,null,null,null,"",null,""]
[null,null,{"$f":"IF(Tabulka2[[#This Row],[Data]]=\"\",\"\",IF(OR(Tabulka2[[#This Row],[Data]]<$G$57,Tabulka2[[#This Row],[Data]]>$G$58),2,IF(OR(Tabulka2[[#This Row],[Data]]<$G$51,Tabulka2[[#This Row],[Data]]>$G$52),1,0)))","v":""},{"$f":"IF(Tabulka2[[#This Row],[OL]]=\"\",\"\",IF(Tabulka2[[#This Row],[OL]]>0,A1605,\"\"))","v":""},null,null,null,null,null,null,null,null,null,null,null,null,null,null,null,"",null,""]
[null,null,{"$f":"IF(Tabulka2[[#This Row],[Data]]=\"\",\"\",IF(OR(Tabulka2[[#This Row],[Data]]<$G$57,Tabulka2[[#This Row],[Data]]>$G$58),2,IF(OR(Tabulka2[[#This Row],[Data]]<$G$51,Tabulka2[[#This Row],[Data]]>$G$52),1,0)))","v":""},{"$f":"IF(Tabulka2[[#This Row],[OL]]=\"\",\"\",IF(Tabulka2[[#This Row],[OL]]>0,A1606,\"\"))","v":""},null,null,null,null,null,null,null,null,null,null,null,null,null,null,null,"",null,""]
[null,null,{"$f":"IF(Tabulka2[[#This Row],[Data]]=\"\",\"\",IF(OR(Tabulka2[[#This Row],[Data]]<$G$57,Tabulka2[[#This Row],[Data]]>$G$58),2,IF(OR(Tabulka2[[#This Row],[Data]]<$G$51,Tabulka2[[#This Row],[Data]]>$G$52),1,0)))","v":""},{"$f":"IF(Tabulka2[[#This Row],[OL]]=\"\",\"\",IF(Tabulka2[[#This Row],[OL]]>0,A1607,\"\"))","v":""},null,null,null,null,null,null,null,null,null,null,null,null,null,null,null,"",null,""]
[null,null,{"$f":"IF(Tabulka2[[#This Row],[Data]]=\"\",\"\",IF(OR(Tabulka2[[#This Row],[Data]]<$G$57,Tabulka2[[#This Row],[Data]]>$G$58),2,IF(OR(Tabulka2[[#This Row],[Data]]<$G$51,Tabulka2[[#This Row],[Data]]>$G$52),1,0)))","v":""},{"$f":"IF(Tabulka2[[#This Row],[OL]]=\"\",\"\",IF(Tabulka2[[#This Row],[OL]]>0,A1608,\"\"))","v":""},null,null,null,null,null,null,null,null,null,null,null,null,null,null,null,"",null,""]
[null,null,{"$f":"IF(Tabulka2[[#This Row],[Data]]=\"\",\"\",IF(OR(Tabulka2[[#This Row],[Data]]<$G$57,Tabulka2[[#This Row],[Data]]>$G$58),2,IF(OR(Tabulka2[[#This Row],[Data]]<$G$51,Tabulka2[[#This Row],[Data]]>$G$52),1,0)))","v":""},{"$f":"IF(Tabulka2[[#This Row],[OL]]=\"\",\"\",IF(Tabulka2[[#This Row],[OL]]>0,A1609,\"\"))","v":""},null,null,null,null,null,null,null,null,null,null,null,null,null,null,null,"",null,""]
[null,null,{"$f":"IF(Tabulka2[[#This Row],[Data]]=\"\",\"\",IF(OR(Tabulka2[[#This Row],[Data]]<$G$57,Tabulka2[[#This Row],[Data]]>$G$58),2,IF(OR(Tabulka2[[#This Row],[Data]]<$G$51,Tabulka2[[#This Row],[Data]]>$G$52),1,0)))","v":""},{"$f":"IF(Tabulka2[[#This Row],[OL]]=\"\",\"\",IF(Tabulka2[[#This Row],[OL]]>0,A1610,\"\"))","v":""},null,null,null,null,null,null,null,null,null,null,null,null,null,null,null,"",null,""]
[null,null,{"$f":"IF(Tabulka2[[#This Row],[Data]]=\"\",\"\",IF(OR(Tabulka2[[#This Row],[Data]]<$G$57,Tabulka2[[#This Row],[Data]]>$G$58),2,IF(OR(Tabulka2[[#This Row],[Data]]<$G$51,Tabulka2[[#This Row],[Data]]>$G$52),1,0)))","v":""},{"$f":"IF(Tabulka2[[#This Row],[OL]]=\"\",\"\",IF(Tabulka2[[#This Row],[OL]]>0,A1611,\"\"))","v":""},null,null,null,null,null,null,null,null,null,null,null,null,null,null,null,"",null,""]
[null,null,{"$f":"IF(Tabulka2[[#This Row],[Data]]=\"\",\"\",IF(OR(Tabulka2[[#This Row],[Data]]<$G$57,Tabulka2[[#This Row],[Data]]>$G$58),2,IF(OR(Tabulka2[[#This Row],[Data]]<$G$51,Tabulka2[[#This Row],[Data]]>$G$52),1,0)))","v":""},{"$f":"IF(Tabulka2[[#This Row],[OL]]=\"\",\"\",IF(Tabulka2[[#This Row],[OL]]>0,A1612,\"\"))","v":""},null,null,null,null,null,null,null,null,null,null,null,null,null,null,null,"",null,""]
[null,null,{"$f":"IF(Tabulka2[[#This Row],[Data]]=\"\",\"\",IF(OR(Tabulka2[[#This Row],[Data]]<$G$57,Tabulka2[[#This Row],[Data]]>$G$58),2,IF(OR(Tabulka2[[#This Row],[Data]]<$G$51,Tabulka2[[#This Row],[Data]]>$G$52),1,0)))","v":""},{"$f":"IF(Tabulka2[[#This Row],[OL]]=\"\",\"\",IF(Tabulka2[[#This Row],[OL]]>0,A1613,\"\"))","v":""},null,null,null,null,null,null,null,null,null,null,null,null,null,null,null,"",null,""]
[null,null,{"$f":"IF(Tabulka2[[#This Row],[Data]]=\"\",\"\",IF(OR(Tabulka2[[#This Row],[Data]]<$G$57,Tabulka2[[#This Row],[Data]]>$G$58),2,IF(OR(Tabulka2[[#This Row],[Data]]<$G$51,Tabulka2[[#This Row],[Data]]>$G$52),1,0)))","v":""},{"$f":"IF(Tabulka2[[#This Row],[OL]]=\"\",\"\",IF(Tabulka2[[#This Row],[OL]]>0,A1614,\"\"))","v":""},null,null,null,null,null,null,null,null,null,null,null,null,null,null,null,"",null,""]
[null,null,{"$f":"IF(Tabulka2[[#This Row],[Data]]=\"\",\"\",IF(OR(Tabulka2[[#This Row],[Data]]<$G$57,Tabulka2[[#This Row],[Data]]>$G$58),2,IF(OR(Tabulka2[[#This Row],[Data]]<$G$51,Tabulka2[[#This Row],[Data]]>$G$52),1,0)))","v":""},{"$f":"IF(Tabulka2[[#This Row],[OL]]=\"\",\"\",IF(Tabulka2[[#This Row],[OL]]>0,A1615,\"\"))","v":""},null,null,null,null,null,null,null,null,null,null,null,null,null,null,null,"",null,""]
[null,null,{"$f":"IF(Tabulka2[[#This Row],[Data]]=\"\",\"\",IF(OR(Tabulka2[[#This Row],[Data]]<$G$57,Tabulka2[[#This Row],[Data]]>$G$58),2,IF(OR(Tabulka2[[#This Row],[Data]]<$G$51,Tabulka2[[#This Row],[Data]]>$G$52),1,0)))","v":""},{"$f":"IF(Tabulka2[[#This Row],[OL]]=\"\",\"\",IF(Tabulka2[[#This Row],[OL]]>0,A1616,\"\"))","v":""},null,null,null,null,null,null,null,null,null,null,null,null,null,null,null,"",null,""]
[null,null,{"$f":"IF(Tabulka2[[#This Row],[Data]]=\"\",\"\",IF(OR(Tabulka2[[#This Row],[Data]]<$G$57,Tabulka2[[#This Row],[Data]]>$G$58),2,IF(OR(Tabulka2[[#This Row],[Data]]<$G$51,Tabulka2[[#This Row],[Data]]>$G$52),1,0)))","v":""},{"$f":"IF(Tabulka2[[#This Row],[OL]]=\"\",\"\",IF(Tabulka2[[#This Row],[OL]]>0,A1617,\"\"))","v":""},null,null,null,null,null,null,null,null,null,null,null,null,null,null,null,"",null,""]
[null,null,{"$f":"IF(Tabulka2[[#This Row],[Data]]=\"\",\"\",IF(OR(Tabulka2[[#This Row],[Data]]<$G$57,Tabulka2[[#This Row],[Data]]>$G$58),2,IF(OR(Tabulka2[[#This Row],[Data]]<$G$51,Tabulka2[[#This Row],[Data]]>$G$52),1,0)))","v":""},{"$f":"IF(Tabulka2[[#This Row],[OL]]=\"\",\"\",IF(Tabulka2[[#This Row],[OL]]>0,A1618,\"\"))","v":""},null,null,null,null,null,null,null,null,null,null,null,null,null,null,null,"",null,""]
[null,null,{"$f":"IF(Tabulka2[[#This Row],[Data]]=\"\",\"\",IF(OR(Tabulka2[[#This Row],[Data]]<$G$57,Tabulka2[[#This Row],[Data]]>$G$58),2,IF(OR(Tabulka2[[#This Row],[Data]]<$G$51,Tabulka2[[#This Row],[Data]]>$G$52),1,0)))","v":""},{"$f":"IF(Tabulka2[[#This Row],[OL]]=\"\",\"\",IF(Tabulka2[[#This Row],[OL]]>0,A1619,\"\"))","v":""},null,null,null,null,null,null,null,null,null,null,null,null,null,null,null,"",null,""]
[null,null,{"$f":"IF(Tabulka2[[#This Row],[Data]]=\"\",\"\",IF(OR(Tabulka2[[#This Row],[Data]]<$G$57,Tabulka2[[#This Row],[Data]]>$G$58),2,IF(OR(Tabulka2[[#This Row],[Data]]<$G$51,Tabulka2[[#This Row],[Data]]>$G$52),1,0)))","v":""},{"$f":"IF(Tabulka2[[#This Row],[OL]]=\"\",\"\",IF(Tabulka2[[#This Row],[OL]]>0,A1620,\"\"))","v":""},null,null,null,null,null,null,null,null,null,null,null,null,null,null,null,"",null,""]
[null,null,{"$f":"IF(Tabulka2[[#This Row],[Data]]=\"\",\"\",IF(OR(Tabulka2[[#This Row],[Data]]<$G$57,Tabulka2[[#This Row],[Data]]>$G$58),2,IF(OR(Tabulka2[[#This Row],[Data]]<$G$51,Tabulka2[[#This Row],[Data]]>$G$52),1,0)))","v":""},{"$f":"IF(Tabulka2[[#This Row],[OL]]=\"\",\"\",IF(Tabulka2[[#This Row],[OL]]>0,A1621,\"\"))","v":""},null,null,null,null,null,null,null,null,null,null,null,null,null,null,null,"",null,""]
[null,null,{"$f":"IF(Tabulka2[[#This Row],[Data]]=\"\",\"\",IF(OR(Tabulka2[[#This Row],[Data]]<$G$57,Tabulka2[[#This Row],[Data]]>$G$58),2,IF(OR(Tabulka2[[#This Row],[Data]]<$G$51,Tabulka2[[#This Row],[Data]]>$G$52),1,0)))","v":""},{"$f":"IF(Tabulka2[[#This Row],[OL]]=\"\",\"\",IF(Tabulka2[[#This Row],[OL]]>0,A1622,\"\"))","v":""},null,null,null,null,null,null,null,null,null,null,null,null,null,null,null,"",null,""]
[null,null,{"$f":"IF(Tabulka2[[#This Row],[Data]]=\"\",\"\",IF(OR(Tabulka2[[#This Row],[Data]]<$G$57,Tabulka2[[#This Row],[Data]]>$G$58),2,IF(OR(Tabulka2[[#This Row],[Data]]<$G$51,Tabulka2[[#This Row],[Data]]>$G$52),1,0)))","v":""},{"$f":"IF(Tabulka2[[#This Row],[OL]]=\"\",\"\",IF(Tabulka2[[#This Row],[OL]]>0,A1623,\"\"))","v":""},null,null,null,null,null,null,null,null,null,null,null,null,null,null,null,"",null,""]
[null,null,{"$f":"IF(Tabulka2[[#This Row],[Data]]=\"\",\"\",IF(OR(Tabulka2[[#This Row],[Data]]<$G$57,Tabulka2[[#This Row],[Data]]>$G$58),2,IF(OR(Tabulka2[[#This Row],[Data]]<$G$51,Tabulka2[[#This Row],[Data]]>$G$52),1,0)))","v":""},{"$f":"IF(Tabulka2[[#This Row],[OL]]=\"\",\"\",IF(Tabulka2[[#This Row],[OL]]>0,A1624,\"\"))","v":""},null,null,null,null,null,null,null,null,null,null,null,null,null,null,null,"",null,""]
[null,null,{"$f":"IF(Tabulka2[[#This Row],[Data]]=\"\",\"\",IF(OR(Tabulka2[[#This Row],[Data]]<$G$57,Tabulka2[[#This Row],[Data]]>$G$58),2,IF(OR(Tabulka2[[#This Row],[Data]]<$G$51,Tabulka2[[#This Row],[Data]]>$G$52),1,0)))","v":""},{"$f":"IF(Tabulka2[[#This Row],[OL]]=\"\",\"\",IF(Tabulka2[[#This Row],[OL]]>0,A1625,\"\"))","v":""},null,null,null,null,null,null,null,null,null,null,null,null,null,null,null,"",null,""]
[null,null,{"$f":"IF(Tabulka2[[#This Row],[Data]]=\"\",\"\",IF(OR(Tabulka2[[#This Row],[Data]]<$G$57,Tabulka2[[#This Row],[Data]]>$G$58),2,IF(OR(Tabulka2[[#This Row],[Data]]<$G$51,Tabulka2[[#This Row],[Data]]>$G$52),1,0)))","v":""},{"$f":"IF(Tabulka2[[#This Row],[OL]]=\"\",\"\",IF(Tabulka2[[#This Row],[OL]]>0,A1626,\"\"))","v":""},null,null,null,null,null,null,null,null,null,null,null,null,null,null,null,"",null,""]
[null,null,{"$f":"IF(Tabulka2[[#This Row],[Data]]=\"\",\"\",IF(OR(Tabulka2[[#This Row],[Data]]<$G$57,Tabulka2[[#This Row],[Data]]>$G$58),2,IF(OR(Tabulka2[[#This Row],[Data]]<$G$51,Tabulka2[[#This Row],[Data]]>$G$52),1,0)))","v":""},{"$f":"IF(Tabulka2[[#This Row],[OL]]=\"\",\"\",IF(Tabulka2[[#This Row],[OL]]>0,A1627,\"\"))","v":""},null,null,null,null,null,null,null,null,null,null,null,null,null,null,null,"",null,""]
[null,null,{"$f":"IF(Tabulka2[[#This Row],[Data]]=\"\",\"\",IF(OR(Tabulka2[[#This Row],[Data]]<$G$57,Tabulka2[[#This Row],[Data]]>$G$58),2,IF(OR(Tabulka2[[#This Row],[Data]]<$G$51,Tabulka2[[#This Row],[Data]]>$G$52),1,0)))","v":""},{"$f":"IF(Tabulka2[[#This Row],[OL]]=\"\",\"\",IF(Tabulka2[[#This Row],[OL]]>0,A1628,\"\"))","v":""},null,null,null,null,null,null,null,null,null,null,null,null,null,null,null,"",null,""]
[null,null,{"$f":"IF(Tabulka2[[#This Row],[Data]]=\"\",\"\",IF(OR(Tabulka2[[#This Row],[Data]]<$G$57,Tabulka2[[#This Row],[Data]]>$G$58),2,IF(OR(Tabulka2[[#This Row],[Data]]<$G$51,Tabulka2[[#This Row],[Data]]>$G$52),1,0)))","v":""},{"$f":"IF(Tabulka2[[#This Row],[OL]]=\"\",\"\",IF(Tabulka2[[#This Row],[OL]]>0,A1629,\"\"))","v":""},null,null,null,null,null,null,null,null,null,null,null,null,null,null,null,"",null,""]
[null,null,{"$f":"IF(Tabulka2[[#This Row],[Data]]=\"\",\"\",IF(OR(Tabulka2[[#This Row],[Data]]<$G$57,Tabulka2[[#This Row],[Data]]>$G$58),2,IF(OR(Tabulka2[[#This Row],[Data]]<$G$51,Tabulka2[[#This Row],[Data]]>$G$52),1,0)))","v":""},{"$f":"IF(Tabulka2[[#This Row],[OL]]=\"\",\"\",IF(Tabulka2[[#This Row],[OL]]>0,A1630,\"\"))","v":""},null,null,null,null,null,null,null,null,null,null,null,null,null,null,null,"",null,""]
[null,null,{"$f":"IF(Tabulka2[[#This Row],[Data]]=\"\",\"\",IF(OR(Tabulka2[[#This Row],[Data]]<$G$57,Tabulka2[[#This Row],[Data]]>$G$58),2,IF(OR(Tabulka2[[#This Row],[Data]]<$G$51,Tabulka2[[#This Row],[Data]]>$G$52),1,0)))","v":""},{"$f":"IF(Tabulka2[[#This Row],[OL]]=\"\",\"\",IF(Tabulka2[[#This Row],[OL]]>0,A1631,\"\"))","v":""},null,null,null,null,null,null,null,null,null,null,null,null,null,null,null,"",null,""]
[null,null,{"$f":"IF(Tabulka2[[#This Row],[Data]]=\"\",\"\",IF(OR(Tabulka2[[#This Row],[Data]]<$G$57,Tabulka2[[#This Row],[Data]]>$G$58),2,IF(OR(Tabulka2[[#This Row],[Data]]<$G$51,Tabulka2[[#This Row],[Data]]>$G$52),1,0)))","v":""},{"$f":"IF(Tabulka2[[#This Row],[OL]]=\"\",\"\",IF(Tabulka2[[#This Row],[OL]]>0,A1632,\"\"))","v":""},null,null,null,null,null,null,null,null,null,null,null,null,null,null,null,"",null,""]
[null,null,{"$f":"IF(Tabulka2[[#This Row],[Data]]=\"\",\"\",IF(OR(Tabulka2[[#This Row],[Data]]<$G$57,Tabulka2[[#This Row],[Data]]>$G$58),2,IF(OR(Tabulka2[[#This Row],[Data]]<$G$51,Tabulka2[[#This Row],[Data]]>$G$52),1,0)))","v":""},{"$f":"IF(Tabulka2[[#This Row],[OL]]=\"\",\"\",IF(Tabulka2[[#This Row],[OL]]>0,A1633,\"\"))","v":""},null,null,null,null,null,null,null,null,null,null,null,null,null,null,null,"",null,""]
[null,null,{"$f":"IF(Tabulka2[[#This Row],[Data]]=\"\",\"\",IF(OR(Tabulka2[[#This Row],[Data]]<$G$57,Tabulka2[[#This Row],[Data]]>$G$58),2,IF(OR(Tabulka2[[#This Row],[Data]]<$G$51,Tabulka2[[#This Row],[Data]]>$G$52),1,0)))","v":""},{"$f":"IF(Tabulka2[[#This Row],[OL]]=\"\",\"\",IF(Tabulka2[[#This Row],[OL]]>0,A1634,\"\"))","v":""},null,null,null,null,null,null,null,null,null,null,null,null,null,null,null,"",null,""]
[null,null,{"$f":"IF(Tabulka2[[#This Row],[Data]]=\"\",\"\",IF(OR(Tabulka2[[#This Row],[Data]]<$G$57,Tabulka2[[#This Row],[Data]]>$G$58),2,IF(OR(Tabulka2[[#This Row],[Data]]<$G$51,Tabulka2[[#This Row],[Data]]>$G$52),1,0)))","v":""},{"$f":"IF(Tabulka2[[#This Row],[OL]]=\"\",\"\",IF(Tabulka2[[#This Row],[OL]]>0,A1635,\"\"))","v":""},null,null,null,null,null,null,null,null,null,null,null,null,null,null,null,"",null,""]
[null,null,{"$f":"IF(Tabulka2[[#This Row],[Data]]=\"\",\"\",IF(OR(Tabulka2[[#This Row],[Data]]<$G$57,Tabulka2[[#This Row],[Data]]>$G$58),2,IF(OR(Tabulka2[[#This Row],[Data]]<$G$51,Tabulka2[[#This Row],[Data]]>$G$52),1,0)))","v":""},{"$f":"IF(Tabulka2[[#This Row],[OL]]=\"\",\"\",IF(Tabulka2[[#This Row],[OL]]>0,A1636,\"\"))","v":""},null,null,null,null,null,null,null,null,null,null,null,null,null,null,null,"",null,""]
[null,null,{"$f":"IF(Tabulka2[[#This Row],[Data]]=\"\",\"\",IF(OR(Tabulka2[[#This Row],[Data]]<$G$57,Tabulka2[[#This Row],[Data]]>$G$58),2,IF(OR(Tabulka2[[#This Row],[Data]]<$G$51,Tabulka2[[#This Row],[Data]]>$G$52),1,0)))","v":""},{"$f":"IF(Tabulka2[[#This Row],[OL]]=\"\",\"\",IF(Tabulka2[[#This Row],[OL]]>0,A1637,\"\"))","v":""},null,null,null,null,null,null,null,null,null,null,null,null,null,null,null,"",null,""]
[null,null,{"$f":"IF(Tabulka2[[#This Row],[Data]]=\"\",\"\",IF(OR(Tabulka2[[#This Row],[Data]]<$G$57,Tabulka2[[#This Row],[Data]]>$G$58),2,IF(OR(Tabulka2[[#This Row],[Data]]<$G$51,Tabulka2[[#This Row],[Data]]>$G$52),1,0)))","v":""},{"$f":"IF(Tabulka2[[#This Row],[OL]]=\"\",\"\",IF(Tabulka2[[#This Row],[OL]]>0,A1638,\"\"))","v":""},null,null,null,null,null,null,null,null,null,null,null,null,null,null,null,"",null,""]
[null,null,{"$f":"IF(Tabulka2[[#This Row],[Data]]=\"\",\"\",IF(OR(Tabulka2[[#This Row],[Data]]<$G$57,Tabulka2[[#This Row],[Data]]>$G$58),2,IF(OR(Tabulka2[[#This Row],[Data]]<$G$51,Tabulka2[[#This Row],[Data]]>$G$52),1,0)))","v":""},{"$f":"IF(Tabulka2[[#This Row],[OL]]=\"\",\"\",IF(Tabulka2[[#This Row],[OL]]>0,A1639,\"\"))","v":""},null,null,null,null,null,null,null,null,null,null,null,null,null,null,null,"",null,""]
[null,null,{"$f":"IF(Tabulka2[[#This Row],[Data]]=\"\",\"\",IF(OR(Tabulka2[[#This Row],[Data]]<$G$57,Tabulka2[[#This Row],[Data]]>$G$58),2,IF(OR(Tabulka2[[#This Row],[Data]]<$G$51,Tabulka2[[#This Row],[Data]]>$G$52),1,0)))","v":""},{"$f":"IF(Tabulka2[[#This Row],[OL]]=\"\",\"\",IF(Tabulka2[[#This Row],[OL]]>0,A1640,\"\"))","v":""},null,null,null,null,null,null,null,null,null,null,null,null,null,null,null,"",null,""]
[null,null,{"$f":"IF(Tabulka2[[#This Row],[Data]]=\"\",\"\",IF(OR(Tabulka2[[#This Row],[Data]]<$G$57,Tabulka2[[#This Row],[Data]]>$G$58),2,IF(OR(Tabulka2[[#This Row],[Data]]<$G$51,Tabulka2[[#This Row],[Data]]>$G$52),1,0)))","v":""},{"$f":"IF(Tabulka2[[#This Row],[OL]]=\"\",\"\",IF(Tabulka2[[#This Row],[OL]]>0,A1641,\"\"))","v":""},null,null,null,null,null,null,null,null,null,null,null,null,null,null,null,"",null,""]
[null,null,{"$f":"IF(Tabulka2[[#This Row],[Data]]=\"\",\"\",IF(OR(Tabulka2[[#This Row],[Data]]<$G$57,Tabulka2[[#This Row],[Data]]>$G$58),2,IF(OR(Tabulka2[[#This Row],[Data]]<$G$51,Tabulka2[[#This Row],[Data]]>$G$52),1,0)))","v":""},{"$f":"IF(Tabulka2[[#This Row],[OL]]=\"\",\"\",IF(Tabulka2[[#This Row],[OL]]>0,A1642,\"\"))","v":""},null,null,null,null,null,null,null,null,null,null,null,null,null,null,null,"",null,""]
[null,null,{"$f":"IF(Tabulka2[[#This Row],[Data]]=\"\",\"\",IF(OR(Tabulka2[[#This Row],[Data]]<$G$57,Tabulka2[[#This Row],[Data]]>$G$58),2,IF(OR(Tabulka2[[#This Row],[Data]]<$G$51,Tabulka2[[#This Row],[Data]]>$G$52),1,0)))","v":""},{"$f":"IF(Tabulka2[[#This Row],[OL]]=\"\",\"\",IF(Tabulka2[[#This Row],[OL]]>0,A1643,\"\"))","v":""},null,null,null,null,null,null,null,null,null,null,null,null,null,null,null,"",null,""]
[null,null,{"$f":"IF(Tabulka2[[#This Row],[Data]]=\"\",\"\",IF(OR(Tabulka2[[#This Row],[Data]]<$G$57,Tabulka2[[#This Row],[Data]]>$G$58),2,IF(OR(Tabulka2[[#This Row],[Data]]<$G$51,Tabulka2[[#This Row],[Data]]>$G$52),1,0)))","v":""},{"$f":"IF(Tabulka2[[#This Row],[OL]]=\"\",\"\",IF(Tabulka2[[#This Row],[OL]]>0,A1644,\"\"))","v":""},null,null,null,null,null,null,null,null,null,null,null,null,null,null,null,"",null,""]
[null,null,{"$f":"IF(Tabulka2[[#This Row],[Data]]=\"\",\"\",IF(OR(Tabulka2[[#This Row],[Data]]<$G$57,Tabulka2[[#This Row],[Data]]>$G$58),2,IF(OR(Tabulka2[[#This Row],[Data]]<$G$51,Tabulka2[[#This Row],[Data]]>$G$52),1,0)))","v":""},{"$f":"IF(Tabulka2[[#This Row],[OL]]=\"\",\"\",IF(Tabulka2[[#This Row],[OL]]>0,A1645,\"\"))","v":""},null,null,null,null,null,null,null,null,null,null,null,null,null,null,null,"",null,""]
[null,null,{"$f":"IF(Tabulka2[[#This Row],[Data]]=\"\",\"\",IF(OR(Tabulka2[[#This Row],[Data]]<$G$57,Tabulka2[[#This Row],[Data]]>$G$58),2,IF(OR(Tabulka2[[#This Row],[Data]]<$G$51,Tabulka2[[#This Row],[Data]]>$G$52),1,0)))","v":""},{"$f":"IF(Tabulka2[[#This Row],[OL]]=\"\",\"\",IF(Tabulka2[[#This Row],[OL]]>0,A1646,\"\"))","v":""},null,null,null,null,null,null,null,null,null,null,null,null,null,null,null,"",null,""]
[null,null,{"$f":"IF(Tabulka2[[#This Row],[Data]]=\"\",\"\",IF(OR(Tabulka2[[#This Row],[Data]]<$G$57,Tabulka2[[#This Row],[Data]]>$G$58),2,IF(OR(Tabulka2[[#This Row],[Data]]<$G$51,Tabulka2[[#This Row],[Data]]>$G$52),1,0)))","v":""},{"$f":"IF(Tabulka2[[#This Row],[OL]]=\"\",\"\",IF(Tabulka2[[#This Row],[OL]]>0,A1647,\"\"))","v":""},null,null,null,null,null,null,null,null,null,null,null,null,null,null,null,"",null,""]
[null,null,{"$f":"IF(Tabulka2[[#This Row],[Data]]=\"\",\"\",IF(OR(Tabulka2[[#This Row],[Data]]<$G$57,Tabulka2[[#This Row],[Data]]>$G$58),2,IF(OR(Tabulka2[[#This Row],[Data]]<$G$51,Tabulka2[[#This Row],[Data]]>$G$52),1,0)))","v":""},{"$f":"IF(Tabulka2[[#This Row],[OL]]=\"\",\"\",IF(Tabulka2[[#This Row],[OL]]>0,A1648,\"\"))","v":""},null,null,null,null,null,null,null,null,null,null,null,null,null,null,null,"",null,""]
[null,null,{"$f":"IF(Tabulka2[[#This Row],[Data]]=\"\",\"\",IF(OR(Tabulka2[[#This Row],[Data]]<$G$57,Tabulka2[[#This Row],[Data]]>$G$58),2,IF(OR(Tabulka2[[#This Row],[Data]]<$G$51,Tabulka2[[#This Row],[Data]]>$G$52),1,0)))","v":""},{"$f":"IF(Tabulka2[[#This Row],[OL]]=\"\",\"\",IF(Tabulka2[[#This Row],[OL]]>0,A1649,\"\"))","v":""},null,null,null,null,null,null,null,null,null,null,null,null,null,null,null,"",null,""]
[null,null,{"$f":"IF(Tabulka2[[#This Row],[Data]]=\"\",\"\",IF(OR(Tabulka2[[#This Row],[Data]]<$G$57,Tabulka2[[#This Row],[Data]]>$G$58),2,IF(OR(Tabulka2[[#This Row],[Data]]<$G$51,Tabulka2[[#This Row],[Data]]>$G$52),1,0)))","v":""},{"$f":"IF(Tabulka2[[#This Row],[OL]]=\"\",\"\",IF(Tabulka2[[#This Row],[OL]]>0,A1650,\"\"))","v":""},null,null,null,null,null,null,null,null,null,null,null,null,null,null,null,"",null,""]
[null,null,{"$f":"IF(Tabulka2[[#This Row],[Data]]=\"\",\"\",IF(OR(Tabulka2[[#This Row],[Data]]<$G$57,Tabulka2[[#This Row],[Data]]>$G$58),2,IF(OR(Tabulka2[[#This Row],[Data]]<$G$51,Tabulka2[[#This Row],[Data]]>$G$52),1,0)))","v":""},{"$f":"IF(Tabulka2[[#This Row],[OL]]=\"\",\"\",IF(Tabulka2[[#This Row],[OL]]>0,A1651,\"\"))","v":""},null,null,null,null,null,null,null,null,null,null,null,null,null,null,null,"",null,""]
[null,null,{"$f":"IF(Tabulka2[[#This Row],[Data]]=\"\",\"\",IF(OR(Tabulka2[[#This Row],[Data]]<$G$57,Tabulka2[[#This Row],[Data]]>$G$58),2,IF(OR(Tabulka2[[#This Row],[Data]]<$G$51,Tabulka2[[#This Row],[Data]]>$G$52),1,0)))","v":""},{"$f":"IF(Tabulka2[[#This Row],[OL]]=\"\",\"\",IF(Tabulka2[[#This Row],[OL]]>0,A1652,\"\"))","v":""},null,null,null,null,null,null,null,null,null,null,null,null,null,null,null,"",null,""]
[null,null,{"$f":"IF(Tabulka2[[#This Row],[Data]]=\"\",\"\",IF(OR(Tabulka2[[#This Row],[Data]]<$G$57,Tabulka2[[#This Row],[Data]]>$G$58),2,IF(OR(Tabulka2[[#This Row],[Data]]<$G$51,Tabulka2[[#This Row],[Data]]>$G$52),1,0)))","v":""},{"$f":"IF(Tabulka2[[#This Row],[OL]]=\"\",\"\",IF(Tabulka2[[#This Row],[OL]]>0,A1653,\"\"))","v":""},null,null,null,null,null,null,null,null,null,null,null,null,null,null,null,"",null,""]
[null,null,{"$f":"IF(Tabulka2[[#This Row],[Data]]=\"\",\"\",IF(OR(Tabulka2[[#This Row],[Data]]<$G$57,Tabulka2[[#This Row],[Data]]>$G$58),2,IF(OR(Tabulka2[[#This Row],[Data]]<$G$51,Tabulka2[[#This Row],[Data]]>$G$52),1,0)))","v":""},{"$f":"IF(Tabulka2[[#This Row],[OL]]=\"\",\"\",IF(Tabulka2[[#This Row],[OL]]>0,A1654,\"\"))","v":""},null,null,null,null,null,null,null,null,null,null,null,null,null,null,null,"",null,""]
[null,null,{"$f":"IF(Tabulka2[[#This Row],[Data]]=\"\",\"\",IF(OR(Tabulka2[[#This Row],[Data]]<$G$57,Tabulka2[[#This Row],[Data]]>$G$58),2,IF(OR(Tabulka2[[#This Row],[Data]]<$G$51,Tabulka2[[#This Row],[Data]]>$G$52),1,0)))","v":""},{"$f":"IF(Tabulka2[[#This Row],[OL]]=\"\",\"\",IF(Tabulka2[[#This Row],[OL]]>0,A1655,\"\"))","v":""},null,null,null,null,null,null,null,null,null,null,null,null,null,null,null,"",null,""]
[null,null,{"$f":"IF(Tabulka2[[#This Row],[Data]]=\"\",\"\",IF(OR(Tabulka2[[#This Row],[Data]]<$G$57,Tabulka2[[#This Row],[Data]]>$G$58),2,IF(OR(Tabulka2[[#This Row],[Data]]<$G$51,Tabulka2[[#This Row],[Data]]>$G$52),1,0)))","v":""},{"$f":"IF(Tabulka2[[#This Row],[OL]]=\"\",\"\",IF(Tabulka2[[#This Row],[OL]]>0,A1656,\"\"))","v":""},null,null,null,null,null,null,null,null,null,null,null,null,null,null,null,"",null,""]
[null,null,{"$f":"IF(Tabulka2[[#This Row],[Data]]=\"\",\"\",IF(OR(Tabulka2[[#This Row],[Data]]<$G$57,Tabulka2[[#This Row],[Data]]>$G$58),2,IF(OR(Tabulka2[[#This Row],[Data]]<$G$51,Tabulka2[[#This Row],[Data]]>$G$52),1,0)))","v":""},{"$f":"IF(Tabulka2[[#This Row],[OL]]=\"\",\"\",IF(Tabulka2[[#This Row],[OL]]>0,A1657,\"\"))","v":""},null,null,null,null,null,null,null,null,null,null,null,null,null,null,null,"",null,""]
[null,null,{"$f":"IF(Tabulka2[[#This Row],[Data]]=\"\",\"\",IF(OR(Tabulka2[[#This Row],[Data]]<$G$57,Tabulka2[[#This Row],[Data]]>$G$58),2,IF(OR(Tabulka2[[#This Row],[Data]]<$G$51,Tabulka2[[#This Row],[Data]]>$G$52),1,0)))","v":""},{"$f":"IF(Tabulka2[[#This Row],[OL]]=\"\",\"\",IF(Tabulka2[[#This Row],[OL]]>0,A1658,\"\"))","v":""},null,null,null,null,null,null,null,null,null,null,null,null,null,null,null,"",null,""]
[null,null,{"$f":"IF(Tabulka2[[#This Row],[Data]]=\"\",\"\",IF(OR(Tabulka2[[#This Row],[Data]]<$G$57,Tabulka2[[#This Row],[Data]]>$G$58),2,IF(OR(Tabulka2[[#This Row],[Data]]<$G$51,Tabulka2[[#This Row],[Data]]>$G$52),1,0)))","v":""},{"$f":"IF(Tabulka2[[#This Row],[OL]]=\"\",\"\",IF(Tabulka2[[#This Row],[OL]]>0,A1659,\"\"))","v":""},null,null,null,null,null,null,null,null,null,null,null,null,null,null,null,"",null,""]
[null,null,{"$f":"IF(Tabulka2[[#This Row],[Data]]=\"\",\"\",IF(OR(Tabulka2[[#This Row],[Data]]<$G$57,Tabulka2[[#This Row],[Data]]>$G$58),2,IF(OR(Tabulka2[[#This Row],[Data]]<$G$51,Tabulka2[[#This Row],[Data]]>$G$52),1,0)))","v":""},{"$f":"IF(Tabulka2[[#This Row],[OL]]=\"\",\"\",IF(Tabulka2[[#This Row],[OL]]>0,A1660,\"\"))","v":""},null,null,null,null,null,null,null,null,null,null,null,null,null,null,null,"",null,""]
[null,null,{"$f":"IF(Tabulka2[[#This Row],[Data]]=\"\",\"\",IF(OR(Tabulka2[[#This Row],[Data]]<$G$57,Tabulka2[[#This Row],[Data]]>$G$58),2,IF(OR(Tabulka2[[#This Row],[Data]]<$G$51,Tabulka2[[#This Row],[Data]]>$G$52),1,0)))","v":""},{"$f":"IF(Tabulka2[[#This Row],[OL]]=\"\",\"\",IF(Tabulka2[[#This Row],[OL]]>0,A1661,\"\"))","v":""},null,null,null,null,null,null,null,null,null,null,null,null,null,null,null,"",null,""]
[null,null,{"$f":"IF(Tabulka2[[#This Row],[Data]]=\"\",\"\",IF(OR(Tabulka2[[#This Row],[Data]]<$G$57,Tabulka2[[#This Row],[Data]]>$G$58),2,IF(OR(Tabulka2[[#This Row],[Data]]<$G$51,Tabulka2[[#This Row],[Data]]>$G$52),1,0)))","v":""},{"$f":"IF(Tabulka2[[#This Row],[OL]]=\"\",\"\",IF(Tabulka2[[#This Row],[OL]]>0,A1662,\"\"))","v":""},null,null,null,null,null,null,null,null,null,null,null,null,null,null,null,"",null,""]
[null,null,{"$f":"IF(Tabulka2[[#This Row],[Data]]=\"\",\"\",IF(OR(Tabulka2[[#This Row],[Data]]<$G$57,Tabulka2[[#This Row],[Data]]>$G$58),2,IF(OR(Tabulka2[[#This Row],[Data]]<$G$51,Tabulka2[[#This Row],[Data]]>$G$52),1,0)))","v":""},{"$f":"IF(Tabulka2[[#This Row],[OL]]=\"\",\"\",IF(Tabulka2[[#This Row],[OL]]>0,A1663,\"\"))","v":""},null,null,null,null,null,null,null,null,null,null,null,null,null,null,null,"",null,""]
[null,null,{"$f":"IF(Tabulka2[[#This Row],[Data]]=\"\",\"\",IF(OR(Tabulka2[[#This Row],[Data]]<$G$57,Tabulka2[[#This Row],[Data]]>$G$58),2,IF(OR(Tabulka2[[#This Row],[Data]]<$G$51,Tabulka2[[#This Row],[Data]]>$G$52),1,0)))","v":""},{"$f":"IF(Tabulka2[[#This Row],[OL]]=\"\",\"\",IF(Tabulka2[[#This Row],[OL]]>0,A1664,\"\"))","v":""},null,null,null,null,null,null,null,null,null,null,null,null,null,null,null,"",null,""]
[null,null,{"$f":"IF(Tabulka2[[#This Row],[Data]]=\"\",\"\",IF(OR(Tabulka2[[#This Row],[Data]]<$G$57,Tabulka2[[#This Row],[Data]]>$G$58),2,IF(OR(Tabulka2[[#This Row],[Data]]<$G$51,Tabulka2[[#This Row],[Data]]>$G$52),1,0)))","v":""},{"$f":"IF(Tabulka2[[#This Row],[OL]]=\"\",\"\",IF(Tabulka2[[#This Row],[OL]]>0,A1665,\"\"))","v":""},null,null,null,null,null,null,null,null,null,null,null,null,null,null,null,"",null,""]
[null,null,{"$f":"IF(Tabulka2[[#This Row],[Data]]=\"\",\"\",IF(OR(Tabulka2[[#This Row],[Data]]<$G$57,Tabulka2[[#This Row],[Data]]>$G$58),2,IF(OR(Tabulka2[[#This Row],[Data]]<$G$51,Tabulka2[[#This Row],[Data]]>$G$52),1,0)))","v":""},{"$f":"IF(Tabulka2[[#This Row],[OL]]=\"\",\"\",IF(Tabulka2[[#This Row],[OL]]>0,A1666,\"\"))","v":""},null,null,null,null,null,null,null,null,null,null,null,null,null,null,null,"",null,""]
[null,null,{"$f":"IF(Tabulka2[[#This Row],[Data]]=\"\",\"\",IF(OR(Tabulka2[[#This Row],[Data]]<$G$57,Tabulka2[[#This Row],[Data]]>$G$58),2,IF(OR(Tabulka2[[#This Row],[Data]]<$G$51,Tabulka2[[#This Row],[Data]]>$G$52),1,0)))","v":""},{"$f":"IF(Tabulka2[[#This Row],[OL]]=\"\",\"\",IF(Tabulka2[[#This Row],[OL]]>0,A1667,\"\"))","v":""},null,null,null,null,null,null,null,null,null,null,null,null,null,null,null,"",null,""]
[null,null,{"$f":"IF(Tabulka2[[#This Row],[Data]]=\"\",\"\",IF(OR(Tabulka2[[#This Row],[Data]]<$G$57,Tabulka2[[#This Row],[Data]]>$G$58),2,IF(OR(Tabulka2[[#This Row],[Data]]<$G$51,Tabulka2[[#This Row],[Data]]>$G$52),1,0)))","v":""},{"$f":"IF(Tabulka2[[#This Row],[OL]]=\"\",\"\",IF(Tabulka2[[#This Row],[OL]]>0,A1668,\"\"))","v":""},null,null,null,null,null,null,null,null,null,null,null,null,null,null,null,"",null,""]
[null,null,{"$f":"IF(Tabulka2[[#This Row],[Data]]=\"\",\"\",IF(OR(Tabulka2[[#This Row],[Data]]<$G$57,Tabulka2[[#This Row],[Data]]>$G$58),2,IF(OR(Tabulka2[[#This Row],[Data]]<$G$51,Tabulka2[[#This Row],[Data]]>$G$52),1,0)))","v":""},{"$f":"IF(Tabulka2[[#This Row],[OL]]=\"\",\"\",IF(Tabulka2[[#This Row],[OL]]>0,A1669,\"\"))","v":""},null,null,null,null,null,null,null,null,null,null,null,null,null,null,null,"",null,""]
[null,null,{"$f":"IF(Tabulka2[[#This Row],[Data]]=\"\",\"\",IF(OR(Tabulka2[[#This Row],[Data]]<$G$57,Tabulka2[[#This Row],[Data]]>$G$58),2,IF(OR(Tabulka2[[#This Row],[Data]]<$G$51,Tabulka2[[#This Row],[Data]]>$G$52),1,0)))","v":""},{"$f":"IF(Tabulka2[[#This Row],[OL]]=\"\",\"\",IF(Tabulka2[[#This Row],[OL]]>0,A1670,\"\"))","v":""},null,null,null,null,null,null,null,null,null,null,null,null,null,null,null,"",null,""]
[null,null,{"$f":"IF(Tabulka2[[#This Row],[Data]]=\"\",\"\",IF(OR(Tabulka2[[#This Row],[Data]]<$G$57,Tabulka2[[#This Row],[Data]]>$G$58),2,IF(OR(Tabulka2[[#This Row],[Data]]<$G$51,Tabulka2[[#This Row],[Data]]>$G$52),1,0)))","v":""},{"$f":"IF(Tabulka2[[#This Row],[OL]]=\"\",\"\",IF(Tabulka2[[#This Row],[OL]]>0,A1671,\"\"))","v":""},null,null,null,null,null,null,null,null,null,null,null,null,null,null,null,"",null,""]
[null,null,{"$f":"IF(Tabulka2[[#This Row],[Data]]=\"\",\"\",IF(OR(Tabulka2[[#This Row],[Data]]<$G$57,Tabulka2[[#This Row],[Data]]>$G$58),2,IF(OR(Tabulka2[[#This Row],[Data]]<$G$51,Tabulka2[[#This Row],[Data]]>$G$52),1,0)))","v":""},{"$f":"IF(Tabulka2[[#This Row],[OL]]=\"\",\"\",IF(Tabulka2[[#This Row],[OL]]>0,A1672,\"\"))","v":""},null,null,null,null,null,null,null,null,null,null,null,null,null,null,null,"",null,""]
[null,null,{"$f":"IF(Tabulka2[[#This Row],[Data]]=\"\",\"\",IF(OR(Tabulka2[[#This Row],[Data]]<$G$57,Tabulka2[[#This Row],[Data]]>$G$58),2,IF(OR(Tabulka2[[#This Row],[Data]]<$G$51,Tabulka2[[#This Row],[Data]]>$G$52),1,0)))","v":""},{"$f":"IF(Tabulka2[[#This Row],[OL]]=\"\",\"\",IF(Tabulka2[[#This Row],[OL]]>0,A1673,\"\"))","v":""},null,null,null,null,null,null,null,null,null,null,null,null,null,null,null,"",null,""]
[null,null,{"$f":"IF(Tabulka2[[#This Row],[Data]]=\"\",\"\",IF(OR(Tabulka2[[#This Row],[Data]]<$G$57,Tabulka2[[#This Row],[Data]]>$G$58),2,IF(OR(Tabulka2[[#This Row],[Data]]<$G$51,Tabulka2[[#This Row],[Data]]>$G$52),1,0)))","v":""},{"$f":"IF(Tabulka2[[#This Row],[OL]]=\"\",\"\",IF(Tabulka2[[#This Row],[OL]]>0,A1674,\"\"))","v":""},null,null,null,null,null,null,null,null,null,null,null,null,null,null,null,"",null,""]
[null,null,{"$f":"IF(Tabulka2[[#This Row],[Data]]=\"\",\"\",IF(OR(Tabulka2[[#This Row],[Data]]<$G$57,Tabulka2[[#This Row],[Data]]>$G$58),2,IF(OR(Tabulka2[[#This Row],[Data]]<$G$51,Tabulka2[[#This Row],[Data]]>$G$52),1,0)))","v":""},{"$f":"IF(Tabulka2[[#This Row],[OL]]=\"\",\"\",IF(Tabulka2[[#This Row],[OL]]>0,A1675,\"\"))","v":""},null,null,null,null,null,null,null,null,null,null,null,null,null,null,null,"",null,""]
[null,null,{"$f":"IF(Tabulka2[[#This Row],[Data]]=\"\",\"\",IF(OR(Tabulka2[[#This Row],[Data]]<$G$57,Tabulka2[[#This Row],[Data]]>$G$58),2,IF(OR(Tabulka2[[#This Row],[Data]]<$G$51,Tabulka2[[#This Row],[Data]]>$G$52),1,0)))","v":""},{"$f":"IF(Tabulka2[[#This Row],[OL]]=\"\",\"\",IF(Tabulka2[[#This Row],[OL]]>0,A1676,\"\"))","v":""},null,null,null,null,null,null,null,null,null,null,null,null,null,null,null,"",null,""]
[null,null,{"$f":"IF(Tabulka2[[#This Row],[Data]]=\"\",\"\",IF(OR(Tabulka2[[#This Row],[Data]]<$G$57,Tabulka2[[#This Row],[Data]]>$G$58),2,IF(OR(Tabulka2[[#This Row],[Data]]<$G$51,Tabulka2[[#This Row],[Data]]>$G$52),1,0)))","v":""},{"$f":"IF(Tabulka2[[#This Row],[OL]]=\"\",\"\",IF(Tabulka2[[#This Row],[OL]]>0,A1677,\"\"))","v":""},null,null,null,null,null,null,null,null,null,null,null,null,null,null,null,"",null,""]
[null,null,{"$f":"IF(Tabulka2[[#This Row],[Data]]=\"\",\"\",IF(OR(Tabulka2[[#This Row],[Data]]<$G$57,Tabulka2[[#This Row],[Data]]>$G$58),2,IF(OR(Tabulka2[[#This Row],[Data]]<$G$51,Tabulka2[[#This Row],[Data]]>$G$52),1,0)))","v":""},{"$f":"IF(Tabulka2[[#This Row],[OL]]=\"\",\"\",IF(Tabulka2[[#This Row],[OL]]>0,A1678,\"\"))","v":""},null,null,null,null,null,null,null,null,null,null,null,null,null,null,null,"",null,""]
[null,null,{"$f":"IF(Tabulka2[[#This Row],[Data]]=\"\",\"\",IF(OR(Tabulka2[[#This Row],[Data]]<$G$57,Tabulka2[[#This Row],[Data]]>$G$58),2,IF(OR(Tabulka2[[#This Row],[Data]]<$G$51,Tabulka2[[#This Row],[Data]]>$G$52),1,0)))","v":""},{"$f":"IF(Tabulka2[[#This Row],[OL]]=\"\",\"\",IF(Tabulka2[[#This Row],[OL]]>0,A1679,\"\"))","v":""},null,null,null,null,null,null,null,null,null,null,null,null,null,null,null,"",null,""]
[null,null,{"$f":"IF(Tabulka2[[#This Row],[Data]]=\"\",\"\",IF(OR(Tabulka2[[#This Row],[Data]]<$G$57,Tabulka2[[#This Row],[Data]]>$G$58),2,IF(OR(Tabulka2[[#This Row],[Data]]<$G$51,Tabulka2[[#This Row],[Data]]>$G$52),1,0)))","v":""},{"$f":"IF(Tabulka2[[#This Row],[OL]]=\"\",\"\",IF(Tabulka2[[#This Row],[OL]]>0,A1680,\"\"))","v":""},null,null,null,null,null,null,null,null,null,null,null,null,null,null,null,"",null,""]
[null,null,{"$f":"IF(Tabulka2[[#This Row],[Data]]=\"\",\"\",IF(OR(Tabulka2[[#This Row],[Data]]<$G$57,Tabulka2[[#This Row],[Data]]>$G$58),2,IF(OR(Tabulka2[[#This Row],[Data]]<$G$51,Tabulka2[[#This Row],[Data]]>$G$52),1,0)))","v":""},{"$f":"IF(Tabulka2[[#This Row],[OL]]=\"\",\"\",IF(Tabulka2[[#This Row],[OL]]>0,A1681,\"\"))","v":""},null,null,null,null,null,null,null,null,null,null,null,null,null,null,null,"",null,""]
[null,null,{"$f":"IF(Tabulka2[[#This Row],[Data]]=\"\",\"\",IF(OR(Tabulka2[[#This Row],[Data]]<$G$57,Tabulka2[[#This Row],[Data]]>$G$58),2,IF(OR(Tabulka2[[#This Row],[Data]]<$G$51,Tabulka2[[#This Row],[Data]]>$G$52),1,0)))","v":""},{"$f":"IF(Tabulka2[[#This Row],[OL]]=\"\",\"\",IF(Tabulka2[[#This Row],[OL]]>0,A1682,\"\"))","v":""},null,null,null,null,null,null,null,null,null,null,null,null,null,null,null,"",null,""]
[null,null,{"$f":"IF(Tabulka2[[#This Row],[Data]]=\"\",\"\",IF(OR(Tabulka2[[#This Row],[Data]]<$G$57,Tabulka2[[#This Row],[Data]]>$G$58),2,IF(OR(Tabulka2[[#This Row],[Data]]<$G$51,Tabulka2[[#This Row],[Data]]>$G$52),1,0)))","v":""},{"$f":"IF(Tabulka2[[#This Row],[OL]]=\"\",\"\",IF(Tabulka2[[#This Row],[OL]]>0,A1683,\"\"))","v":""},null,null,null,null,null,null,null,null,null,null,null,null,null,null,null,"",null,""]
[null,null,{"$f":"IF(Tabulka2[[#This Row],[Data]]=\"\",\"\",IF(OR(Tabulka2[[#This Row],[Data]]<$G$57,Tabulka2[[#This Row],[Data]]>$G$58),2,IF(OR(Tabulka2[[#This Row],[Data]]<$G$51,Tabulka2[[#This Row],[Data]]>$G$52),1,0)))","v":""},{"$f":"IF(Tabulka2[[#This Row],[OL]]=\"\",\"\",IF(Tabulka2[[#This Row],[OL]]>0,A1684,\"\"))","v":""},null,null,null,null,null,null,null,null,null,null,null,null,null,null,null,"",null,""]
[null,null,{"$f":"IF(Tabulka2[[#This Row],[Data]]=\"\",\"\",IF(OR(Tabulka2[[#This Row],[Data]]<$G$57,Tabulka2[[#This Row],[Data]]>$G$58),2,IF(OR(Tabulka2[[#This Row],[Data]]<$G$51,Tabulka2[[#This Row],[Data]]>$G$52),1,0)))","v":""},{"$f":"IF(Tabulka2[[#This Row],[OL]]=\"\",\"\",IF(Tabulka2[[#This Row],[OL]]>0,A1685,\"\"))","v":""},null,null,null,null,null,null,null,null,null,null,null,null,null,null,null,"",null,""]
[null,null,{"$f":"IF(Tabulka2[[#This Row],[Data]]=\"\",\"\",IF(OR(Tabulka2[[#This Row],[Data]]<$G$57,Tabulka2[[#This Row],[Data]]>$G$58),2,IF(OR(Tabulka2[[#This Row],[Data]]<$G$51,Tabulka2[[#This Row],[Data]]>$G$52),1,0)))","v":""},{"$f":"IF(Tabulka2[[#This Row],[OL]]=\"\",\"\",IF(Tabulka2[[#This Row],[OL]]>0,A1686,\"\"))","v":""},null,null,null,null,null,null,null,null,null,null,null,null,null,null,null,"",null,""]
[null,null,{"$f":"IF(Tabulka2[[#This Row],[Data]]=\"\",\"\",IF(OR(Tabulka2[[#This Row],[Data]]<$G$57,Tabulka2[[#This Row],[Data]]>$G$58),2,IF(OR(Tabulka2[[#This Row],[Data]]<$G$51,Tabulka2[[#This Row],[Data]]>$G$52),1,0)))","v":""},{"$f":"IF(Tabulka2[[#This Row],[OL]]=\"\",\"\",IF(Tabulka2[[#This Row],[OL]]>0,A1687,\"\"))","v":""},null,null,null,null,null,null,null,null,null,null,null,null,null,null,null,"",null,""]
[null,null,{"$f":"IF(Tabulka2[[#This Row],[Data]]=\"\",\"\",IF(OR(Tabulka2[[#This Row],[Data]]<$G$57,Tabulka2[[#This Row],[Data]]>$G$58),2,IF(OR(Tabulka2[[#This Row],[Data]]<$G$51,Tabulka2[[#This Row],[Data]]>$G$52),1,0)))","v":""},{"$f":"IF(Tabulka2[[#This Row],[OL]]=\"\",\"\",IF(Tabulka2[[#This Row],[OL]]>0,A1688,\"\"))","v":""},null,null,null,null,null,null,null,null,null,null,null,null,null,null,null,"",null,""]
[null,null,{"$f":"IF(Tabulka2[[#This Row],[Data]]=\"\",\"\",IF(OR(Tabulka2[[#This Row],[Data]]<$G$57,Tabulka2[[#This Row],[Data]]>$G$58),2,IF(OR(Tabulka2[[#This Row],[Data]]<$G$51,Tabulka2[[#This Row],[Data]]>$G$52),1,0)))","v":""},{"$f":"IF(Tabulka2[[#This Row],[OL]]=\"\",\"\",IF(Tabulka2[[#This Row],[OL]]>0,A1689,\"\"))","v":""},null,null,null,null,null,null,null,null,null,null,null,null,null,null,null,"",null,""]
[null,null,{"$f":"IF(Tabulka2[[#This Row],[Data]]=\"\",\"\",IF(OR(Tabulka2[[#This Row],[Data]]<$G$57,Tabulka2[[#This Row],[Data]]>$G$58),2,IF(OR(Tabulka2[[#This Row],[Data]]<$G$51,Tabulka2[[#This Row],[Data]]>$G$52),1,0)))","v":""},{"$f":"IF(Tabulka2[[#This Row],[OL]]=\"\",\"\",IF(Tabulka2[[#This Row],[OL]]>0,A1690,\"\"))","v":""},null,null,null,null,null,null,null,null,null,null,null,null,null,null,null,"",null,""]
[null,null,{"$f":"IF(Tabulka2[[#This Row],[Data]]=\"\",\"\",IF(OR(Tabulka2[[#This Row],[Data]]<$G$57,Tabulka2[[#This Row],[Data]]>$G$58),2,IF(OR(Tabulka2[[#This Row],[Data]]<$G$51,Tabulka2[[#This Row],[Data]]>$G$52),1,0)))","v":""},{"$f":"IF(Tabulka2[[#This Row],[OL]]=\"\",\"\",IF(Tabulka2[[#This Row],[OL]]>0,A1691,\"\"))","v":""},null,null,null,null,null,null,null,null,null,null,null,null,null,null,null,"",null,""]
[null,null,{"$f":"IF(Tabulka2[[#This Row],[Data]]=\"\",\"\",IF(OR(Tabulka2[[#This Row],[Data]]<$G$57,Tabulka2[[#This Row],[Data]]>$G$58),2,IF(OR(Tabulka2[[#This Row],[Data]]<$G$51,Tabulka2[[#This Row],[Data]]>$G$52),1,0)))","v":""},{"$f":"IF(Tabulka2[[#This Row],[OL]]=\"\",\"\",IF(Tabulka2[[#This Row],[OL]]>0,A1692,\"\"))","v":""},null,null,null,null,null,null,null,null,null,null,null,null,null,null,null,"",null,""]
[null,null,{"$f":"IF(Tabulka2[[#This Row],[Data]]=\"\",\"\",IF(OR(Tabulka2[[#This Row],[Data]]<$G$57,Tabulka2[[#This Row],[Data]]>$G$58),2,IF(OR(Tabulka2[[#This Row],[Data]]<$G$51,Tabulka2[[#This Row],[Data]]>$G$52),1,0)))","v":""},{"$f":"IF(Tabulka2[[#This Row],[OL]]=\"\",\"\",IF(Tabulka2[[#This Row],[OL]]>0,A1693,\"\"))","v":""},null,null,null,null,null,null,null,null,null,null,null,null,null,null,null,"",null,""]
[null,null,{"$f":"IF(Tabulka2[[#This Row],[Data]]=\"\",\"\",IF(OR(Tabulka2[[#This Row],[Data]]<$G$57,Tabulka2[[#This Row],[Data]]>$G$58),2,IF(OR(Tabulka2[[#This Row],[Data]]<$G$51,Tabulka2[[#This Row],[Data]]>$G$52),1,0)))","v":""},{"$f":"IF(Tabulka2[[#This Row],[OL]]=\"\",\"\",IF(Tabulka2[[#This Row],[OL]]>0,A1694,\"\"))","v":""},null,null,null,null,null,null,null,null,null,null,null,null,null,null,null,"",null,""]
[null,null,{"$f":"IF(Tabulka2[[#This Row],[Data]]=\"\",\"\",IF(OR(Tabulka2[[#This Row],[Data]]<$G$57,Tabulka2[[#This Row],[Data]]>$G$58),2,IF(OR(Tabulka2[[#This Row],[Data]]<$G$51,Tabulka2[[#This Row],[Data]]>$G$52),1,0)))","v":""},{"$f":"IF(Tabulka2[[#This Row],[OL]]=\"\",\"\",IF(Tabulka2[[#This Row],[OL]]>0,A1695,\"\"))","v":""},null,null,null,null,null,null,null,null,null,null,null,null,null,null,null,"",null,""]
[null,null,{"$f":"IF(Tabulka2[[#This Row],[Data]]=\"\",\"\",IF(OR(Tabulka2[[#This Row],[Data]]<$G$57,Tabulka2[[#This Row],[Data]]>$G$58),2,IF(OR(Tabulka2[[#This Row],[Data]]<$G$51,Tabulka2[[#This Row],[Data]]>$G$52),1,0)))","v":""},{"$f":"IF(Tabulka2[[#This Row],[OL]]=\"\",\"\",IF(Tabulka2[[#This Row],[OL]]>0,A1696,\"\"))","v":""},null,null,null,null,null,null,null,null,null,null,null,null,null,null,null,"",null,""]
[null,null,{"$f":"IF(Tabulka2[[#This Row],[Data]]=\"\",\"\",IF(OR(Tabulka2[[#This Row],[Data]]<$G$57,Tabulka2[[#This Row],[Data]]>$G$58),2,IF(OR(Tabulka2[[#This Row],[Data]]<$G$51,Tabulka2[[#This Row],[Data]]>$G$52),1,0)))","v":""},{"$f":"IF(Tabulka2[[#This Row],[OL]]=\"\",\"\",IF(Tabulka2[[#This Row],[OL]]>0,A1697,\"\"))","v":""},null,null,null,null,null,null,null,null,null,null,null,null,null,null,null,"",null,""]
[null,null,{"$f":"IF(Tabulka2[[#This Row],[Data]]=\"\",\"\",IF(OR(Tabulka2[[#This Row],[Data]]<$G$57,Tabulka2[[#This Row],[Data]]>$G$58),2,IF(OR(Tabulka2[[#This Row],[Data]]<$G$51,Tabulka2[[#This Row],[Data]]>$G$52),1,0)))","v":""},{"$f":"IF(Tabulka2[[#This Row],[OL]]=\"\",\"\",IF(Tabulka2[[#This Row],[OL]]>0,A1698,\"\"))","v":""},null,null,null,null,null,null,null,null,null,null,null,null,null,null,null,"",null,""]
[null,null,{"$f":"IF(Tabulka2[[#This Row],[Data]]=\"\",\"\",IF(OR(Tabulka2[[#This Row],[Data]]<$G$57,Tabulka2[[#This Row],[Data]]>$G$58),2,IF(OR(Tabulka2[[#This Row],[Data]]<$G$51,Tabulka2[[#This Row],[Data]]>$G$52),1,0)))","v":""},{"$f":"IF(Tabulka2[[#This Row],[OL]]=\"\",\"\",IF(Tabulka2[[#This Row],[OL]]>0,A1699,\"\"))","v":""},null,null,null,null,null,null,null,null,null,null,null,null,null,null,null,"",null,""]
[null,null,{"$f":"IF(Tabulka2[[#This Row],[Data]]=\"\",\"\",IF(OR(Tabulka2[[#This Row],[Data]]<$G$57,Tabulka2[[#This Row],[Data]]>$G$58),2,IF(OR(Tabulka2[[#This Row],[Data]]<$G$51,Tabulka2[[#This Row],[Data]]>$G$52),1,0)))","v":""},{"$f":"IF(Tabulka2[[#This Row],[OL]]=\"\",\"\",IF(Tabulka2[[#This Row],[OL]]>0,A1700,\"\"))","v":""},null,null,null,null,null,null,null,null,null,null,null,null,null,null,null,"",null,""]
[null,null,{"$f":"IF(Tabulka2[[#This Row],[Data]]=\"\",\"\",IF(OR(Tabulka2[[#This Row],[Data]]<$G$57,Tabulka2[[#This Row],[Data]]>$G$58),2,IF(OR(Tabulka2[[#This Row],[Data]]<$G$51,Tabulka2[[#This Row],[Data]]>$G$52),1,0)))","v":""},{"$f":"IF(Tabulka2[[#This Row],[OL]]=\"\",\"\",IF(Tabulka2[[#This Row],[OL]]>0,A1701,\"\"))","v":""},null,null,null,null,null,null,null,null,null,null,null,null,null,null,null,"",null,""]
[null,null,{"$f":"IF(Tabulka2[[#This Row],[Data]]=\"\",\"\",IF(OR(Tabulka2[[#This Row],[Data]]<$G$57,Tabulka2[[#This Row],[Data]]>$G$58),2,IF(OR(Tabulka2[[#This Row],[Data]]<$G$51,Tabulka2[[#This Row],[Data]]>$G$52),1,0)))","v":""},{"$f":"IF(Tabulka2[[#This Row],[OL]]=\"\",\"\",IF(Tabulka2[[#This Row],[OL]]>0,A1702,\"\"))","v":""},null,null,null,null,null,null,null,null,null,null,null,null,null,null,null,"",null,""]
[null,null,{"$f":"IF(Tabulka2[[#This Row],[Data]]=\"\",\"\",IF(OR(Tabulka2[[#This Row],[Data]]<$G$57,Tabulka2[[#This Row],[Data]]>$G$58),2,IF(OR(Tabulka2[[#This Row],[Data]]<$G$51,Tabulka2[[#This Row],[Data]]>$G$52),1,0)))","v":""},{"$f":"IF(Tabulka2[[#This Row],[OL]]=\"\",\"\",IF(Tabulka2[[#This Row],[OL]]>0,A1703,\"\"))","v":""},null,null,null,null,null,null,null,null,null,null,null,null,null,null,null,"",null,""]
[null,null,{"$f":"IF(Tabulka2[[#This Row],[Data]]=\"\",\"\",IF(OR(Tabulka2[[#This Row],[Data]]<$G$57,Tabulka2[[#This Row],[Data]]>$G$58),2,IF(OR(Tabulka2[[#This Row],[Data]]<$G$51,Tabulka2[[#This Row],[Data]]>$G$52),1,0)))","v":""},{"$f":"IF(Tabulka2[[#This Row],[OL]]=\"\",\"\",IF(Tabulka2[[#This Row],[OL]]>0,A1704,\"\"))","v":""},null,null,null,null,null,null,null,null,null,null,null,null,null,null,null,"",null,""]
[null,null,{"$f":"IF(Tabulka2[[#This Row],[Data]]=\"\",\"\",IF(OR(Tabulka2[[#This Row],[Data]]<$G$57,Tabulka2[[#This Row],[Data]]>$G$58),2,IF(OR(Tabulka2[[#This Row],[Data]]<$G$51,Tabulka2[[#This Row],[Data]]>$G$52),1,0)))","v":""},{"$f":"IF(Tabulka2[[#This Row],[OL]]=\"\",\"\",IF(Tabulka2[[#This Row],[OL]]>0,A1705,\"\"))","v":""},null,null,null,null,null,null,null,null,null,null,null,null,null,null,null,"",null,""]
[null,null,{"$f":"IF(Tabulka2[[#This Row],[Data]]=\"\",\"\",IF(OR(Tabulka2[[#This Row],[Data]]<$G$57,Tabulka2[[#This Row],[Data]]>$G$58),2,IF(OR(Tabulka2[[#This Row],[Data]]<$G$51,Tabulka2[[#This Row],[Data]]>$G$52),1,0)))","v":""},{"$f":"IF(Tabulka2[[#This Row],[OL]]=\"\",\"\",IF(Tabulka2[[#This Row],[OL]]>0,A1706,\"\"))","v":""},null,null,null,null,null,null,null,null,null,null,null,null,null,null,null,"",null,""]
[null,null,{"$f":"IF(Tabulka2[[#This Row],[Data]]=\"\",\"\",IF(OR(Tabulka2[[#This Row],[Data]]<$G$57,Tabulka2[[#This Row],[Data]]>$G$58),2,IF(OR(Tabulka2[[#This Row],[Data]]<$G$51,Tabulka2[[#This Row],[Data]]>$G$52),1,0)))","v":""},{"$f":"IF(Tabulka2[[#This Row],[OL]]=\"\",\"\",IF(Tabulka2[[#This Row],[OL]]>0,A1707,\"\"))","v":""},null,null,null,null,null,null,null,null,null,null,null,null,null,null,null,"",null,""]
[null,null,{"$f":"IF(Tabulka2[[#This Row],[Data]]=\"\",\"\",IF(OR(Tabulka2[[#This Row],[Data]]<$G$57,Tabulka2[[#This Row],[Data]]>$G$58),2,IF(OR(Tabulka2[[#This Row],[Data]]<$G$51,Tabulka2[[#This Row],[Data]]>$G$52),1,0)))","v":""},{"$f":"IF(Tabulka2[[#This Row],[OL]]=\"\",\"\",IF(Tabulka2[[#This Row],[OL]]>0,A1708,\"\"))","v":""},null,null,null,null,null,null,null,null,null,null,null,null,null,null,null,"",null,""]
[null,null,{"$f":"IF(Tabulka2[[#This Row],[Data]]=\"\",\"\",IF(OR(Tabulka2[[#This Row],[Data]]<$G$57,Tabulka2[[#This Row],[Data]]>$G$58),2,IF(OR(Tabulka2[[#This Row],[Data]]<$G$51,Tabulka2[[#This Row],[Data]]>$G$52),1,0)))","v":""},{"$f":"IF(Tabulka2[[#This Row],[OL]]=\"\",\"\",IF(Tabulka2[[#This Row],[OL]]>0,A1709,\"\"))","v":""},null,null,null,null,null,null,null,null,null,null,null,null,null,null,null,"",null,""]
[null,null,{"$f":"IF(Tabulka2[[#This Row],[Data]]=\"\",\"\",IF(OR(Tabulka2[[#This Row],[Data]]<$G$57,Tabulka2[[#This Row],[Data]]>$G$58),2,IF(OR(Tabulka2[[#This Row],[Data]]<$G$51,Tabulka2[[#This Row],[Data]]>$G$52),1,0)))","v":""},{"$f":"IF(Tabulka2[[#This Row],[OL]]=\"\",\"\",IF(Tabulka2[[#This Row],[OL]]>0,A1710,\"\"))","v":""},null,null,null,null,null,null,null,null,null,null,null,null,null,null,null,"",null,""]
[null,null,{"$f":"IF(Tabulka2[[#This Row],[Data]]=\"\",\"\",IF(OR(Tabulka2[[#This Row],[Data]]<$G$57,Tabulka2[[#This Row],[Data]]>$G$58),2,IF(OR(Tabulka2[[#This Row],[Data]]<$G$51,Tabulka2[[#This Row],[Data]]>$G$52),1,0)))","v":""},{"$f":"IF(Tabulka2[[#This Row],[OL]]=\"\",\"\",IF(Tabulka2[[#This Row],[OL]]>0,A1711,\"\"))","v":""},null,null,null,null,null,null,null,null,null,null,null,null,null,null,null,"",null,""]
[null,null,{"$f":"IF(Tabulka2[[#This Row],[Data]]=\"\",\"\",IF(OR(Tabulka2[[#This Row],[Data]]<$G$57,Tabulka2[[#This Row],[Data]]>$G$58),2,IF(OR(Tabulka2[[#This Row],[Data]]<$G$51,Tabulka2[[#This Row],[Data]]>$G$52),1,0)))","v":""},{"$f":"IF(Tabulka2[[#This Row],[OL]]=\"\",\"\",IF(Tabulka2[[#This Row],[OL]]>0,A1712,\"\"))","v":""},null,null,null,null,null,null,null,null,null,null,null,null,null,null,null,"",null,""]
[null,null,{"$f":"IF(Tabulka2[[#This Row],[Data]]=\"\",\"\",IF(OR(Tabulka2[[#This Row],[Data]]<$G$57,Tabulka2[[#This Row],[Data]]>$G$58),2,IF(OR(Tabulka2[[#This Row],[Data]]<$G$51,Tabulka2[[#This Row],[Data]]>$G$52),1,0)))","v":""},{"$f":"IF(Tabulka2[[#This Row],[OL]]=\"\",\"\",IF(Tabulka2[[#This Row],[OL]]>0,A1713,\"\"))","v":""},null,null,null,null,null,null,null,null,null,null,null,null,null,null,null,"",null,""]
[null,null,{"$f":"IF(Tabulka2[[#This Row],[Data]]=\"\",\"\",IF(OR(Tabulka2[[#This Row],[Data]]<$G$57,Tabulka2[[#This Row],[Data]]>$G$58),2,IF(OR(Tabulka2[[#This Row],[Data]]<$G$51,Tabulka2[[#This Row],[Data]]>$G$52),1,0)))","v":""},{"$f":"IF(Tabulka2[[#This Row],[OL]]=\"\",\"\",IF(Tabulka2[[#This Row],[OL]]>0,A1714,\"\"))","v":""},null,null,null,null,null,null,null,null,null,null,null,null,null,null,null,"",null,""]
[null,null,{"$f":"IF(Tabulka2[[#This Row],[Data]]=\"\",\"\",IF(OR(Tabulka2[[#This Row],[Data]]<$G$57,Tabulka2[[#This Row],[Data]]>$G$58),2,IF(OR(Tabulka2[[#This Row],[Data]]<$G$51,Tabulka2[[#This Row],[Data]]>$G$52),1,0)))","v":""},{"$f":"IF(Tabulka2[[#This Row],[OL]]=\"\",\"\",IF(Tabulka2[[#This Row],[OL]]>0,A1715,\"\"))","v":""},null,null,null,null,null,null,null,null,null,null,null,null,null,null,null,"",null,""]
[null,null,{"$f":"IF(Tabulka2[[#This Row],[Data]]=\"\",\"\",IF(OR(Tabulka2[[#This Row],[Data]]<$G$57,Tabulka2[[#This Row],[Data]]>$G$58),2,IF(OR(Tabulka2[[#This Row],[Data]]<$G$51,Tabulka2[[#This Row],[Data]]>$G$52),1,0)))","v":""},{"$f":"IF(Tabulka2[[#This Row],[OL]]=\"\",\"\",IF(Tabulka2[[#This Row],[OL]]>0,A1716,\"\"))","v":""},null,null,null,null,null,null,null,null,null,null,null,null,null,null,null,"",null,""]
[null,null,{"$f":"IF(Tabulka2[[#This Row],[Data]]=\"\",\"\",IF(OR(Tabulka2[[#This Row],[Data]]<$G$57,Tabulka2[[#This Row],[Data]]>$G$58),2,IF(OR(Tabulka2[[#This Row],[Data]]<$G$51,Tabulka2[[#This Row],[Data]]>$G$52),1,0)))","v":""},{"$f":"IF(Tabulka2[[#This Row],[OL]]=\"\",\"\",IF(Tabulka2[[#This Row],[OL]]>0,A1717,\"\"))","v":""},null,null,null,null,null,null,null,null,null,null,null,null,null,null,null,"",null,""]
[null,null,{"$f":"IF(Tabulka2[[#This Row],[Data]]=\"\",\"\",IF(OR(Tabulka2[[#This Row],[Data]]<$G$57,Tabulka2[[#This Row],[Data]]>$G$58),2,IF(OR(Tabulka2[[#This Row],[Data]]<$G$51,Tabulka2[[#This Row],[Data]]>$G$52),1,0)))","v":""},{"$f":"IF(Tabulka2[[#This Row],[OL]]=\"\",\"\",IF(Tabulka2[[#This Row],[OL]]>0,A1718,\"\"))","v":""},null,null,null,null,null,null,null,null,null,null,null,null,null,null,null,"",null,""]
[null,null,{"$f":"IF(Tabulka2[[#This Row],[Data]]=\"\",\"\",IF(OR(Tabulka2[[#This Row],[Data]]<$G$57,Tabulka2[[#This Row],[Data]]>$G$58),2,IF(OR(Tabulka2[[#This Row],[Data]]<$G$51,Tabulka2[[#This Row],[Data]]>$G$52),1,0)))","v":""},{"$f":"IF(Tabulka2[[#This Row],[OL]]=\"\",\"\",IF(Tabulka2[[#This Row],[OL]]>0,A1719,\"\"))","v":""},null,null,null,null,null,null,null,null,null,null,null,null,null,null,null,"",null,""]
[null,null,{"$f":"IF(Tabulka2[[#This Row],[Data]]=\"\",\"\",IF(OR(Tabulka2[[#This Row],[Data]]<$G$57,Tabulka2[[#This Row],[Data]]>$G$58),2,IF(OR(Tabulka2[[#This Row],[Data]]<$G$51,Tabulka2[[#This Row],[Data]]>$G$52),1,0)))","v":""},{"$f":"IF(Tabulka2[[#This Row],[OL]]=\"\",\"\",IF(Tabulka2[[#This Row],[OL]]>0,A1720,\"\"))","v":""},null,null,null,null,null,null,null,null,null,null,null,null,null,null,null,"",null,""]
[null,null,{"$f":"IF(Tabulka2[[#This Row],[Data]]=\"\",\"\",IF(OR(Tabulka2[[#This Row],[Data]]<$G$57,Tabulka2[[#This Row],[Data]]>$G$58),2,IF(OR(Tabulka2[[#This Row],[Data]]<$G$51,Tabulka2[[#This Row],[Data]]>$G$52),1,0)))","v":""},{"$f":"IF(Tabulka2[[#This Row],[OL]]=\"\",\"\",IF(Tabulka2[[#This Row],[OL]]>0,A1721,\"\"))","v":""},null,null,null,null,null,null,null,null,null,null,null,null,null,null,null,"",null,""]
[null,null,{"$f":"IF(Tabulka2[[#This Row],[Data]]=\"\",\"\",IF(OR(Tabulka2[[#This Row],[Data]]<$G$57,Tabulka2[[#This Row],[Data]]>$G$58),2,IF(OR(Tabulka2[[#This Row],[Data]]<$G$51,Tabulka2[[#This Row],[Data]]>$G$52),1,0)))","v":""},{"$f":"IF(Tabulka2[[#This Row],[OL]]=\"\",\"\",IF(Tabulka2[[#This Row],[OL]]>0,A1722,\"\"))","v":""},null,null,null,null,null,null,null,null,null,null,null,null,null,null,null,"",null,""]
[null,null,{"$f":"IF(Tabulka2[[#This Row],[Data]]=\"\",\"\",IF(OR(Tabulka2[[#This Row],[Data]]<$G$57,Tabulka2[[#This Row],[Data]]>$G$58),2,IF(OR(Tabulka2[[#This Row],[Data]]<$G$51,Tabulka2[[#This Row],[Data]]>$G$52),1,0)))","v":""},{"$f":"IF(Tabulka2[[#This Row],[OL]]=\"\",\"\",IF(Tabulka2[[#This Row],[OL]]>0,A1723,\"\"))","v":""},null,null,null,null,null,null,null,null,null,null,null,null,null,null,null,"",null,""]
[null,null,{"$f":"IF(Tabulka2[[#This Row],[Data]]=\"\",\"\",IF(OR(Tabulka2[[#This Row],[Data]]<$G$57,Tabulka2[[#This Row],[Data]]>$G$58),2,IF(OR(Tabulka2[[#This Row],[Data]]<$G$51,Tabulka2[[#This Row],[Data]]>$G$52),1,0)))","v":""},{"$f":"IF(Tabulka2[[#This Row],[OL]]=\"\",\"\",IF(Tabulka2[[#This Row],[OL]]>0,A1724,\"\"))","v":""},null,null,null,null,null,null,null,null,null,null,null,null,null,null,null,"",null,""]
[null,null,{"$f":"IF(Tabulka2[[#This Row],[Data]]=\"\",\"\",IF(OR(Tabulka2[[#This Row],[Data]]<$G$57,Tabulka2[[#This Row],[Data]]>$G$58),2,IF(OR(Tabulka2[[#This Row],[Data]]<$G$51,Tabulka2[[#This Row],[Data]]>$G$52),1,0)))","v":""},{"$f":"IF(Tabulka2[[#This Row],[OL]]=\"\",\"\",IF(Tabulka2[[#This Row],[OL]]>0,A1725,\"\"))","v":""},null,null,null,null,null,null,null,null,null,null,null,null,null,null,null,"",null,""]
[null,null,{"$f":"IF(Tabulka2[[#This Row],[Data]]=\"\",\"\",IF(OR(Tabulka2[[#This Row],[Data]]<$G$57,Tabulka2[[#This Row],[Data]]>$G$58),2,IF(OR(Tabulka2[[#This Row],[Data]]<$G$51,Tabulka2[[#This Row],[Data]]>$G$52),1,0)))","v":""},{"$f":"IF(Tabulka2[[#This Row],[OL]]=\"\",\"\",IF(Tabulka2[[#This Row],[OL]]>0,A1726,\"\"))","v":""},null,null,null,null,null,null,null,null,null,null,null,null,null,null,null,"",null,""]
[null,null,{"$f":"IF(Tabulka2[[#This Row],[Data]]=\"\",\"\",IF(OR(Tabulka2[[#This Row],[Data]]<$G$57,Tabulka2[[#This Row],[Data]]>$G$58),2,IF(OR(Tabulka2[[#This Row],[Data]]<$G$51,Tabulka2[[#This Row],[Data]]>$G$52),1,0)))","v":""},{"$f":"IF(Tabulka2[[#This Row],[OL]]=\"\",\"\",IF(Tabulka2[[#This Row],[OL]]>0,A1727,\"\"))","v":""},null,null,null,null,null,null,null,null,null,null,null,null,null,null,null,"",null,""]
[null,null,{"$f":"IF(Tabulka2[[#This Row],[Data]]=\"\",\"\",IF(OR(Tabulka2[[#This Row],[Data]]<$G$57,Tabulka2[[#This Row],[Data]]>$G$58),2,IF(OR(Tabulka2[[#This Row],[Data]]<$G$51,Tabulka2[[#This Row],[Data]]>$G$52),1,0)))","v":""},{"$f":"IF(Tabulka2[[#This Row],[OL]]=\"\",\"\",IF(Tabulka2[[#This Row],[OL]]>0,A1728,\"\"))","v":""},null,null,null,null,null,null,null,null,null,null,null,null,null,null,null,"",null,""]
[null,null,{"$f":"IF(Tabulka2[[#This Row],[Data]]=\"\",\"\",IF(OR(Tabulka2[[#This Row],[Data]]<$G$57,Tabulka2[[#This Row],[Data]]>$G$58),2,IF(OR(Tabulka2[[#This Row],[Data]]<$G$51,Tabulka2[[#This Row],[Data]]>$G$52),1,0)))","v":""},{"$f":"IF(Tabulka2[[#This Row],[OL]]=\"\",\"\",IF(Tabulka2[[#This Row],[OL]]>0,A1729,\"\"))","v":""},null,null,null,null,null,null,null,null,null,null,null,null,null,null,null,"",null,""]
[null,null,{"$f":"IF(Tabulka2[[#This Row],[Data]]=\"\",\"\",IF(OR(Tabulka2[[#This Row],[Data]]<$G$57,Tabulka2[[#This Row],[Data]]>$G$58),2,IF(OR(Tabulka2[[#This Row],[Data]]<$G$51,Tabulka2[[#This Row],[Data]]>$G$52),1,0)))","v":""},{"$f":"IF(Tabulka2[[#This Row],[OL]]=\"\",\"\",IF(Tabulka2[[#This Row],[OL]]>0,A1730,\"\"))","v":""},null,null,null,null,null,null,null,null,null,null,null,null,null,null,null,"",null,""]
[null,null,{"$f":"IF(Tabulka2[[#This Row],[Data]]=\"\",\"\",IF(OR(Tabulka2[[#This Row],[Data]]<$G$57,Tabulka2[[#This Row],[Data]]>$G$58),2,IF(OR(Tabulka2[[#This Row],[Data]]<$G$51,Tabulka2[[#This Row],[Data]]>$G$52),1,0)))","v":""},{"$f":"IF(Tabulka2[[#This Row],[OL]]=\"\",\"\",IF(Tabulka2[[#This Row],[OL]]>0,A1731,\"\"))","v":""},null,null,null,null,null,null,null,null,null,null,null,null,null,null,null,"",null,""]
[null,null,{"$f":"IF(Tabulka2[[#This Row],[Data]]=\"\",\"\",IF(OR(Tabulka2[[#This Row],[Data]]<$G$57,Tabulka2[[#This Row],[Data]]>$G$58),2,IF(OR(Tabulka2[[#This Row],[Data]]<$G$51,Tabulka2[[#This Row],[Data]]>$G$52),1,0)))","v":""},{"$f":"IF(Tabulka2[[#This Row],[OL]]=\"\",\"\",IF(Tabulka2[[#This Row],[OL]]>0,A1732,\"\"))","v":""},null,null,null,null,null,null,null,null,null,null,null,null,null,null,null,"",null,""]
[null,null,{"$f":"IF(Tabulka2[[#This Row],[Data]]=\"\",\"\",IF(OR(Tabulka2[[#This Row],[Data]]<$G$57,Tabulka2[[#This Row],[Data]]>$G$58),2,IF(OR(Tabulka2[[#This Row],[Data]]<$G$51,Tabulka2[[#This Row],[Data]]>$G$52),1,0)))","v":""},{"$f":"IF(Tabulka2[[#This Row],[OL]]=\"\",\"\",IF(Tabulka2[[#This Row],[OL]]>0,A1733,\"\"))","v":""},null,null,null,null,null,null,null,null,null,null,null,null,null,null,null,"",null,""]
[null,null,{"$f":"IF(Tabulka2[[#This Row],[Data]]=\"\",\"\",IF(OR(Tabulka2[[#This Row],[Data]]<$G$57,Tabulka2[[#This Row],[Data]]>$G$58),2,IF(OR(Tabulka2[[#This Row],[Data]]<$G$51,Tabulka2[[#This Row],[Data]]>$G$52),1,0)))","v":""},{"$f":"IF(Tabulka2[[#This Row],[OL]]=\"\",\"\",IF(Tabulka2[[#This Row],[OL]]>0,A1734,\"\"))","v":""},null,null,null,null,null,null,null,null,null,null,null,null,null,null,null,"",null,""]
[null,null,{"$f":"IF(Tabulka2[[#This Row],[Data]]=\"\",\"\",IF(OR(Tabulka2[[#This Row],[Data]]<$G$57,Tabulka2[[#This Row],[Data]]>$G$58),2,IF(OR(Tabulka2[[#This Row],[Data]]<$G$51,Tabulka2[[#This Row],[Data]]>$G$52),1,0)))","v":""},{"$f":"IF(Tabulka2[[#This Row],[OL]]=\"\",\"\",IF(Tabulka2[[#This Row],[OL]]>0,A1735,\"\"))","v":""},null,null,null,null,null,null,null,null,null,null,null,null,null,null,null,"",null,""]
[null,null,{"$f":"IF(Tabulka2[[#This Row],[Data]]=\"\",\"\",IF(OR(Tabulka2[[#This Row],[Data]]<$G$57,Tabulka2[[#This Row],[Data]]>$G$58),2,IF(OR(Tabulka2[[#This Row],[Data]]<$G$51,Tabulka2[[#This Row],[Data]]>$G$52),1,0)))","v":""},{"$f":"IF(Tabulka2[[#This Row],[OL]]=\"\",\"\",IF(Tabulka2[[#This Row],[OL]]>0,A1736,\"\"))","v":""},null,null,null,null,null,null,null,null,null,null,null,null,null,null,null,"",null,""]
[null,null,{"$f":"IF(Tabulka2[[#This Row],[Data]]=\"\",\"\",IF(OR(Tabulka2[[#This Row],[Data]]<$G$57,Tabulka2[[#This Row],[Data]]>$G$58),2,IF(OR(Tabulka2[[#This Row],[Data]]<$G$51,Tabulka2[[#This Row],[Data]]>$G$52),1,0)))","v":""},{"$f":"IF(Tabulka2[[#This Row],[OL]]=\"\",\"\",IF(Tabulka2[[#This Row],[OL]]>0,A1737,\"\"))","v":""}]

{"sheet":"Histogram numerické proměnné","index":3,"n_rows":1734,"n_cols":13,"rows_kept":1734,"cut":false,"hidden":false,"merged":[[6,5,6,7],[2,0,2,11]]}
["Histogram numerické proměnné",null,null,null,null,null,null,null,null,null,null,"© Martina Litschmannová 2011"]
["Popis:"]
["Tento applet zpracovává data z listu Numerická proměnná. Umožňuje vytvořit histogram pro numerická data. Dělení do intervalu (max. 20) lze provést buď automaticky nastavením počtu kategorií na posuvníku nebo uživatelsky. Uživatelské nastavení se provádí zadáním horních mezí jednotlivých intervalů do světle modrých polí E14 - E33."]
[]
[]
[{"$f":"CONCATENATE(\"Počet kategorií histogramu: \",C7)","v":"Počet kategorií histogramu: 20"},null,null,"Šířka intervalu:",{"$f":"(MAX(Tabulka6[Data])-MIN(Tabulka6[Data]))/C7","v":3.05},null,null,null,null,null,null,null,{"$f":"87/5","v":17.399999999999999}]
[1,20,20,null,20,"Doporučený počet kategorií:",null,null,null,{"$f":"IF(Rozsah=0,\"\",ROUND(IF(M7>100,10*LOG10(M7),IF(M7>40,2*SQRT(M7),1+1.4426*LN(M7))),0))","v":20},null,"n",{"$f":"Rozsah","v":100}]
[]
["¥"]
["Data",null,"Mezní hodnoty intervalů (uživatelsky)",null,"Popis kategorií","Interval","Četnost","Četnost"]
[{"$f":"IF('Numerická proměnná'!A14=\"\",\"\",'Numerická proměnná'!A14)","v":91},null,10,null,null,{"$f":"IF(C11=\"\",\"\",CONCATENATE(\"<\",FLOOR(MIN(Tabulka6[Data]),1),\"; \",C11,\">\"))","v":"<45; 10>"},{"$f":"FREQUENCY(A11:A1734,C11:C30)","v":0},{"$f":"IF(AND(Rozsah<>0,C10<>\"\",20-COUNTIF($C$11:$C$30,\"\")+12>ROW()),G11,\"\")","v":0}]
[{"$f":"IF('Numerická proměnná'!A15=\"\",\"\",'Numerická proměnná'!A15)","v":95},null,50,null,null,{"$f":"IF(AND(C11=\"\",C12=\"\"),\"\",IF(C11>MAX(Tabulka6[Data]),\"Dolní mez překročila maximum!\",IF(C12=\"\",CONCATENATE(\"(\",C11,\"; \",CEILING(MAX(Tabulka6[Data]),1),\">\"),CONCATENATE(\"(\",C11,\"; \",C12,\">\"))))","v":"(10; 50>"},1,1]
[{"$f":"IF('Numerická proměnná'!A16=\"\",\"\",'Numerická proměnná'!A16)","v":94},null,null,null,null,{"$f":"IF(AND(C12=\"\",C13=\"\"),\"\",IF(C12>MAX(Tabulka6[Data]),\"Dolní mez překročila maximum!\",IF(C13=\"\",CONCATENATE(\"(\",C12,\"; \",CEILING(MAX(Tabulka6[Data]),1),\">\"),CONCATENATE(\"(\",C12,\"; \",C13,\">\"))))","v":"(50; 106>"},99,99]
[{"$f":"IF('Numerická proměnná'!A17=\"\",\"\",'Numerická proměnná'!A17)","v":45},null,null,null,null,{"$f":"IF(AND(C13=\"\",C14=\"\"),\"\",IF(C13>MAX(Tabulka6[Data]),\"Dolní mez překročila maximum!\",IF(C14=\"\",CONCATENATE(\"(\",C13,\"; \",CEILING(MAX(Tabulka6[Data]),1),\">\"),CONCATENATE(\"(\",C13,\"; \",C14,\">\"))))","v":""},{"$error":"#N/A"},""]
[{"$f":"IF('Numerická proměnná'!A18=\"\",\"\",'Numerická proměnná'!A18)","v":97},null,null,null,null,{"$f":"IF(AND(C14=\"\",C15=\"\"),\"\",IF(C14>MAX(Tabulka6[Data]),\"Dolní mez překročila maximum!\",IF(C15=\"\",CONCATENATE(\"(\",C14,\"; \",CEILING(MAX(Tabulka6[Data]),1),\">\"),CONCATENATE(\"(\",C14,\"; \",C15,\">\"))))","v":""},{"$error":"#N/A"},""]
[{"$f":"IF('Numerická proměnná'!A19=\"\",\"\",'Numerická proměnná'!A19)","v":91},null,null,null,null,{"$f":"IF(AND(C15=\"\",C16=\"\"),\"\",IF(C15>MAX(Tabulka6[Data]),\"Dolní mez překročila maximum!\",IF(C16=\"\",CONCATENATE(\"(\",C15,\"; \",CEILING(MAX(Tabulka6[Data]),1),\">\"),CONCATENATE(\"(\",C15,\"; \",C16,\">\"))))","v":""},{"$error":"#N/A"},""]
[{"$f":"IF('Numerická proměnná'!A20=\"\",\"\",'Numerická proměnná'!A20)","v":79},null,null,null,null,{"$f":"IF(AND(C16=\"\",C17=\"\"),\"\",IF(C16>MAX(Tabulka6[Data]),\"Dolní mez překročila maximum!\",IF(C17=\"\",CONCATENATE(\"(\",C16,\"; \",CEILING(MAX(Tabulka6[Data]),1),\">\"),CONCATENATE(\"(\",C16,\"; \",C17,\">\"))))","v":""},{"$error":"#N/A"},""]
[{"$f":"IF('Numerická proměnná'!A21=\"\",\"\",'Numerická proměnná'!A21)","v":100},null,null,null,null,{"$f":"IF(AND(C17=\"\",C18=\"\"),\"\",IF(C17>MAX(Tabulka6[Data]),\"Dolní mez překročila maximum!\",IF(C18=\"\",CONCATENATE(\"(\",C17,\"; \",CEILING(MAX(Tabulka6[Data]),1),\">\"),CONCATENATE(\"(\",C17,\"; \",C18,\">\"))))","v":""},{"$error":"#N/A"},""]
[{"$f":"IF('Numerická proměnná'!A22=\"\",\"\",'Numerická proměnná'!A22)","v":81},null,null,null,null,{"$f":"IF(AND(C18=\"\",C19=\"\"),\"\",IF(C18>MAX(Tabulka6[Data]),\"Dolní mez překročila maximum!\",IF(C19=\"\",CONCATENATE(\"(\",C18,\"; \",CEILING(MAX(Tabulka6[Data]),1),\">\"),CONCATENATE(\"(\",C18,\"; \",C19,\">\"))))","v":""},{"$error":"#N/A"},""]
[{"$f":"IF('Numerická proměnná'!A23=\"\",\"\",'Numerická proměnná'!A23)","v":89},null,null,null,null,{"$f":"IF(AND(C19=\"\",C20=\"\"),\"\",IF(C19>MAX(Tabulka6[Data]),\"Dolní mez překročila maximum!\",IF(C20=\"\",CONCATENATE(\"(\",C19,\"; \",CEILING(MAX(Tabulka6[Data]),1),\">\"),CONCATENATE(\"(\",C19,\"; \",C20,\">\"))))","v":""},{"$error":"#N/A"},""]
[{"$f":"IF('Numerická proměnná'!A24=\"\",\"\",'Numerická proměnná'!A24)","v":92},null,null,null,null,{"$f":"IF(AND(C20=\"\",C21=\"\"),\"\",IF(C20>MAX(Tabulka6[Data]),\"Dolní mez překročila maximum!\",IF(C21=\"\",CONCATENATE(\"(\",C20,\"; \",CEILING(MAX(Tabulka6[Data]),1),\">\"),CONCATENATE(\"(\",C20,\"; \",C21,\">\"))))","v":""},{"$error":"#N/A"},""]
[{"$f":"IF('Numerická proměnná'!A25=\"\",\"\",'Numerická proměnná'!A25)","v":82},null,null,null,null,{"$f":"IF(AND(C21=\"\",C22=\"\"),\"\",IF(C21>MAX(Tabulka6[Data]),\"Dolní mez překročila maximum!\",IF(C22=\"\",CONCATENATE(\"(\",C21,\"; \",CEILING(MAX(Tabulka6[Data]),1),\">\"),CONCATENATE(\"(\",C21,\"; \",C22,\">\"))))","v":""},{"$error":"#N/A"},""]
[{"$f":"IF('Numerická proměnná'!A26=\"\",\"\",'Numerická proměnná'!A26)","v":100},null,null,null,null,{"$f":"IF(AND(C22=\"\",C23=\"\"),\"\",IF(C22>MAX(Tabulka6[Data]),\"Dolní mez překročila maximum!\",IF(C23=\"\",CONCATENATE(\"(\",C22,\"; \",CEILING(MAX(Tabulka6[Data]),1),\">\"),CONCATENATE(\"(\",C22,\"; \",C23,\">\"))))","v":""},{"$error":"#N/A"},""]
[{"$f":"IF('Numerická proměnná'!A27=\"\",\"\",'Numerická proměnná'!A27)","v":87},null,null,null,null,{"$f":"IF(AND(C23=\"\",C24=\"\"),\"\",IF(C23>MAX(Tabulka6[Data]),\"Dolní mez překročila maximum!\",IF(C24=\"\",CONCATENATE(\"(\",C23,\"; \",CEILING(MAX(Tabulka6[Data]),1),\">\"),CONCATENATE(\"(\",C23,\"; \",C24,\">\"))))","v":""},{"$error":"#N/A"},""]
[{"$f":"IF('Numerická proměnná'!A28=\"\",\"\",'Numerická proměnná'!A28)","v":92},null,null,null,null,{"$f":"IF(AND(C24=\"\",C25=\"\"),\"\",IF(C24>MAX(Tabulka6[Data]),\"Dolní mez překročila maximum!\",IF(C25=\"\",CONCATENATE(\"(\",C24,\"; \",CEILING(MAX(Tabulka6[Data]),1),\">\"),CONCATENATE(\"(\",C24,\"; \",C25,\">\"))))","v":""},{"$error":"#N/A"},""]
[{"$f":"IF('Numerická proměnná'!A29=\"\",\"\",'Numerická proměnná'!A29)","v":94},null,null,null,null,{"$f":"IF(AND(C25=\"\",C26=\"\"),\"\",IF(C25>MAX(Tabulka6[Data]),\"Dolní mez překročila maximum!\",IF(C26=\"\",CONCATENATE(\"(\",C25,\"; \",CEILING(MAX(Tabulka6[Data]),1),\">\"),CONCATENATE(\"(\",C25,\"; \",C26,\">\"))))","v":""},{"$error":"#N/A"},""]
[{"$f":"IF('Numerická proměnná'!A30=\"\",\"\",'Numerická proměnná'!A30)","v":86},null,null,null,null,{"$f":"IF(AND(C26=\"\",C27=\"\"),\"\",IF(C26>MAX(Tabulka6[Data]),\"Dolní mez překročila maximum!\",IF(C27=\"\",CONCATENATE(\"(\",C26,\"; \",CEILING(MAX(Tabulka6[Data]),1),\">\"),CONCATENATE(\"(\",C26,\"; \",C27,\">\"))))","v":""},{"$error":"#N/A"},""]
[{"$f":"IF('Numerická proměnná'!A31=\"\",\"\",'Numerická proměnná'!A31)","v":98},null,null,null,null,{"$f":"IF(AND(C27=\"\",C28=\"\"),\"\",IF(C27>MAX(Tabulka6[Data]),\"Dolní mez překročila maximum!\",IF(C28=\"\",CONCATENATE(\"(\",C27,\"; \",CEILING(MAX(Tabulka6[Data]),1),\">\"),CONCATENATE(\"(\",C27,\"; \",C28,\">\"))))","v":""},{"$error":"#N/A"},""]
[{"$f":"IF('Numerická proměnná'!A32=\"\",\"\",'Numerická proměnná'!A32)","v":104},null,null,null,null,{"$f":"IF(AND(C28=\"\",C29=\"\"),\"\",IF(C28>MAX(Tabulka6[Data]),\"Dolní mez překročila maximum!\",IF(C29=\"\",CONCATENATE(\"(\",C28,\"; \",CEILING(MAX(Tabulka6[Data]),1),\">\"),CONCATENATE(\"(\",C28,\"; \",C29,\">\"))))","v":""},{"$error":"#N/A"},""]
[{"$f":"IF('Numerická proměnná'!A33=\"\",\"\",'Numerická proměnná'!A33)","v":88},null,null,null,null,{"$f":"IF(AND(C29=\"\",C30=\"\"),\"\",IF(C29>MAX(Tabulka6[Data]),\"Dolní mez překročila maximum!\",IF(C30=\"\",CONCATENATE(\"(\",C29,\"; \",CEILING(MAX(Tabulka6[Data]),1),\">\"),CONCATENATE(\"(\",C29,\"; \",C30,\">\"))))","v":""},{"$error":"#N/A"},""]
[{"$f":"IF('Numerická proměnná'!A34=\"\",\"\",'Numerická proměnná'!A34)","v":97},null,null,null,null,{"$f":"IF(AND(C30=\"\",C31=\"\"),\"\",IF(C30>MAX(Tabulka6[Data]),\"Dolní mez překročila maximum!\",IF(C31=\"\",CONCATENATE(\"(\",C30,\"; \",CEILING(MAX(Tabulka6[Data]),1),\">\"),CONCATENATE(\"(\",C30,\"; \",C31,\">\"))))","v":""},{"$error":"#N/A"}]
[{"$f":"IF('Numerická proměnná'!A35=\"\",\"\",'Numerická proměnná'!A35)","v":81}]
[{"$f":"IF('Numerická proměnná'!A36=\"\",\"\",'Numerická proměnná'!A36)","v":92},null,"Mezní hodnoty intervalů",null,"Popis kategorií","Interval","Četnost","Četnost"]
[{"$f":"IF('Numerická proměnná'!A37=\"\",\"\",'Numerická proměnná'!A37)","v":88},1,{"$f":"IF(AND(ROW()<=$C$7+33,Rozsah<>0),ROUND(MIN(Tabulka6[Data])+B34*$E$6,1),\"\")","v":48.1},null,null,{"$f":"IF(C34=\"\",\"\",CONCATENATE(\"<\",FLOOR(MIN(Tabulka6[Data]),0.1),\"; \",C34,\">\"))","v":"<45; 48,1>"},{"$f":"FREQUENCY(Tabulka6[Data],C34:C53)","v":1},{"$f":"IF(AND(Rozsah<>0,20-COUNTIF($C$34:$C$53,\"\")+35>ROW()),G34,\"\")","v":1}]
[{"$f":"IF('Numerická proměnná'!A38=\"\",\"\",'Numerická proměnná'!A38)","v":94},2,{"$f":"IF(AND(ROW()<$C$7+33,Rozsah<>0),ROUND(MIN(Tabulka6[Data])+B35*$E$6,1),\"\")","v":51.1},null,null,{"$f":"IF(AND(C34=\"\",C35=\"\"),\"\",IF($C$7 =1,\"\",IF(C34>MAX(Tabulka6[Data]),\"Dolní mez překročila maximum!\",IF(C35=\"\",CONCATENATE(\"(\",C34,\"; \",CEILING(MAX(Tabulka6[Data]),0.1),\">\"),CONCATENATE(\"(\",C34,\"; \",C35,\">\")))))","v":"(48,1; 51,1>"},0,{"$f":"IF($C$7=1,\"\",IF(AND(Rozsah<>0,20-COUNTIF($C$34:$C$53,\"\")+35>ROW()),G35,\"\"))","v":0}]
[{"$f":"IF('Numerická proměnná'!A39=\"\",\"\",'Numerická proměnná'!A39)","v":101},3,{"$f":"IF(AND(ROW()<$C$7+33,Rozsah<>0),ROUND(MIN(Tabulka6[Data])+B36*$E$6,1),\"\")","v":54.2},null,null,{"$f":"IF(AND(C35=\"\",C36=\"\"),\"\",IF($C$7 =1,\"\",IF(C35>MAX(Tabulka6[Data]),\"Dolní mez překročila maximum!\",IF(C36=\"\",CONCATENATE(\"(\",C35,\"; \",CEILING(MAX(Tabulka6[Data]),0.1),\">\"),CONCATENATE(\"(\",C35,\"; \",C36,\">\")))))","v":"(51,1; 54,2>"},0,0]
[{"$f":"IF('Numerická proměnná'!A40=\"\",\"\",'Numerická proměnná'!A40)","v":91},4,{"$f":"IF(AND(ROW()<$C$7+33,Rozsah<>0),ROUND(MIN(Tabulka6[Data])+B37*$E$6,1),\"\")","v":57.2},null,null,{"$f":"IF(AND(C36=\"\",C37=\"\"),\"\",IF($C$7 =1,\"\",IF(C36>MAX(Tabulka6[Data]),\"Dolní mez překročila maximum!\",IF(C37=\"\",CONCATENATE(\"(\",C36,\"; \",CEILING(MAX(Tabulka6[Data]),0.1),\">\"),CONCATENATE(\"(\",C36,\"; \",C37,\">\")))))","v":"(54,2; 57,2>"},0,0]
[{"$f":"IF('Numerická proměnná'!A41=\"\",\"\",'Numerická proměnná'!A41)","v":91},5,{"$f":"IF(AND(ROW()<$C$7+33,Rozsah<>0),ROUND(MIN(Tabulka6[Data])+B38*$E$6,1),\"\")","v":60.3},null,null,{"$f":"IF(AND(C37=\"\",C38=\"\"),\"\",IF($C$7 =1,\"\",IF(C37>MAX(Tabulka6[Data]),\"Dolní mez překročila maximum!\",IF(C38=\"\",CONCATENATE(\"(\",C37,\"; \",CEILING(MAX(Tabulka6[Data]),0.1),\">\"),CONCATENATE(\"(\",C37,\"; \",C38,\">\")))))","v":"(57,2; 60,3>"},0,0]
[{"$f":"IF('Numerická proměnná'!A42=\"\",\"\",'Numerická proměnná'!A42)","v":93},6,{"$f":"IF(AND(ROW()<$C$7+33,Rozsah<>0),ROUND(MIN(Tabulka6[Data])+B39*$E$6,1),\"\")","v":63.3},null,null,{"$f":"IF(AND(C38=\"\",C39=\"\"),\"\",IF($C$7 =1,\"\",IF(C38>MAX(Tabulka6[Data]),\"Dolní mez překročila maximum!\",IF(C39=\"\",CONCATENATE(\"(\",C38,\"; \",CEILING(MAX(Tabulka6[Data]),0.1),\">\"),CONCATENATE(\"(\",C38,\"; \",C39,\">\")))))","v":"(60,3; 63,3>"},0,0]
[{"$f":"IF('Numerická proměnná'!A43=\"\",\"\",'Numerická proměnná'!A43)","v":89},7,{"$f":"IF(AND(ROW()<$C$7+33,Rozsah<>0),ROUND(MIN(Tabulka6[Data])+B40*$E$6,1),\"\")","v":66.400000000000006},null,null,{"$f":"IF(AND(C39=\"\",C40=\"\"),\"\",IF($C$7 =1,\"\",IF(C39>MAX(Tabulka6[Data]),\"Dolní mez překročila maximum!\",IF(C40=\"\",CONCATENATE(\"(\",C39,\"; \",CEILING(MAX(Tabulka6[Data]),0.1),\">\"),CONCATENATE(\"(\",C39,\"; \",C40,\">\")))))","v":"(63,3; 66,4>"},0,0]
[{"$f":"IF('Numerická proměnná'!A44=\"\",\"\",'Numerická proměnná'!A44)","v":87},8,{"$f":"IF(AND(ROW()<$C$7+33,Rozsah<>0),ROUND(MIN(Tabulka6[Data])+B41*$E$6,1),\"\")","v":69.400000000000006},null,null,{"$f":"IF(AND(C40=\"\",C41=\"\"),\"\",IF($C$7 =1,\"\",IF(C40>MAX(Tabulka6[Data]),\"Dolní mez překročila maximum!\",IF(C41=\"\",CONCATENATE(\"(\",C40,\"; \",CEILING(MAX(Tabulka6[Data]),0.1),\">\"),CONCATENATE(\"(\",C40,\"; \",C41,\">\")))))","v":"(66,4; 69,4>"},0,0]
[{"$f":"IF('Numerická proměnná'!A45=\"\",\"\",'Numerická proměnná'!A45)","v":85},9,{"$f":"IF(AND(ROW()<$C$7+33,Rozsah<>0),ROUND(MIN(Tabulka6[Data])+B42*$E$6,1),\"\")","v":72.5},null,null,{"$f":"IF(AND(C41=\"\",C42=\"\"),\"\",IF($C$7 =1,\"\",IF(C41>MAX(Tabulka6[Data]),\"Dolní mez překročila maximum!\",IF(C42=\"\",CONCATENATE(\"(\",C41,\"; \",CEILING(MAX(Tabulka6[Data]),0.1),\">\"),CONCATENATE(\"(\",C41,\"; \",C42,\">\")))))","v":"(69,4; 72,5>"},0,0]
[{"$f":"IF('Numerická proměnná'!A46=\"\",\"\",'Numerická proměnná'!A46)","v":87},10,{"$f":"IF(AND(ROW()<$C$7+33,Rozsah<>0),ROUND(MIN(Tabulka6[Data])+B43*$E$6,1),\"\")","v":75.5},null,null,{"$f":"IF(AND(C42=\"\",C43=\"\"),\"\",IF($C$7 =1,\"\",IF(C42>MAX(Tabulka6[Data]),\"Dolní mez překročila maximum!\",IF(C43=\"\",CONCATENATE(\"(\",C42,\"; \",CEILING(MAX(Tabulka6[Data]),0.1),\">\"),CONCATENATE(\"(\",C42,\"; \",C43,\">\")))))","v":"(72,5; 75,5>"},0,0]
[{"$f":"IF('Numerická proměnná'!A47=\"\",\"\",'Numerická proměnná'!A47)","v":95},11,{"$f":"IF(AND(ROW()<$C$7+33,Rozsah<>0),ROUND(MIN(Tabulka6[Data])+B44*$E$6,1),\"\")","v":78.599999999999994},null,null,{"$f":"IF(AND(C43=\"\",C44=\"\"),\"\",IF($C$7 =1,\"\",IF(C43>MAX(Tabulka6[Data]),\"Dolní mez překročila maximum!\",IF(C44=\"\",CONCATENATE(\"(\",C43,\"; \",CEILING(MAX(Tabulka6[Data]),0.1),\">\"),CONCATENATE(\"(\",C43,\"; \",C44,\">\")))))","v":"(75,5; 78,6>"},2,2]
[{"$f":"IF('Numerická proměnná'!A48=\"\",\"\",'Numerická proměnná'!A48)","v":84},12,{"$f":"IF(AND(ROW()<$C$7+33,Rozsah<>0),ROUND(MIN(Tabulka6[Data])+B45*$E$6,1),\"\")","v":81.599999999999994},null,null,{"$f":"IF(AND(C44=\"\",C45=\"\"),\"\",IF($C$7 =1,\"\",IF(C44>MAX(Tabulka6[Data]),\"Dolní mez překročila maximum!\",IF(C45=\"\",CONCATENATE(\"(\",C44,\"; \",CEILING(MAX(Tabulka6[Data]),0.1),\">\"),CONCATENATE(\"(\",C44,\"; \",C45,\">\")))))","v":"(78,6; 81,6>"},4,4]
[{"$f":"IF('Numerická proměnná'!A49=\"\",\"\",'Numerická proměnná'!A49)","v":91},13,{"$f":"IF(AND(ROW()<$C$7+33,Rozsah<>0),ROUND(MIN(Tabulka6[Data])+B46*$E$6,1),\"\")","v":84.7},null,null,{"$f":"IF(AND(C45=\"\",C46=\"\"),\"\",IF($C$7 =1,\"\",IF(C45>MAX(Tabulka6[Data]),\"Dolní mez překročila maximum!\",IF(C46=\"\",CONCATENATE(\"(\",C45,\"; \",CEILING(MAX(Tabulka6[Data]),0.1),\">\"),CONCATENATE(\"(\",C45,\"; \",C46,\">\")))))","v":"(81,6; 84,7>"},11,11]
[{"$f":"IF('Numerická proměnná'!A50=\"\",\"\",'Numerická proměnná'!A50)","v":98},14,{"$f":"IF(AND(ROW()<$C$7+33,Rozsah<>0),ROUND(MIN(Tabulka6[Data])+B47*$E$6,1),\"\")","v":87.7},null,null,{"$f":"IF(AND(C46=\"\",C47=\"\"),\"\",IF($C$7 =1,\"\",IF(C46>MAX(Tabulka6[Data]),\"Dolní mez překročila maximum!\",IF(C47=\"\",CONCATENATE(\"(\",C46,\"; \",CEILING(MAX(Tabulka6[Data]),0.1),\">\"),CONCATENATE(\"(\",C46,\"; \",C47,\">\")))))","v":"(84,7; 87,7>"},18,18]
[{"$f":"IF('Numerická proměnná'!A51=\"\",\"\",'Numerická proměnná'!A51)","v":97},15,{"$f":"IF(AND(ROW()<$C$7+33,Rozsah<>0),ROUND(MIN(Tabulka6[Data])+B48*$E$6,1),\"\")","v":90.8},null,null,{"$f":"IF(AND(C47=\"\",C48=\"\"),\"\",IF($C$7 =1,\"\",IF(C47>MAX(Tabulka6[Data]),\"Dolní mez překročila maximum!\",IF(C48=\"\",CONCATENATE(\"(\",C47,\"; \",CEILING(MAX(Tabulka6[Data]),0.1),\">\"),CONCATENATE(\"(\",C47,\"; \",C48,\">\")))))","v":"(87,7; 90,8>"},9,9]
[{"$f":"IF('Numerická proměnná'!A52=\"\",\"\",'Numerická proměnná'!A52)","v":85},16,{"$f":"IF(AND(ROW()<$C$7+33,Rozsah<>0),ROUND(MIN(Tabulka6[Data])+B49*$E$6,1),\"\")","v":93.8},null,null,{"$f":"IF(AND(C48=\"\",C49=\"\"),\"\",IF($C$7 =1,\"\",IF(C48>MAX(Tabulka6[Data]),\"Dolní mez překročila maximum!\",IF(C49=\"\",CONCATENATE(\"(\",C48,\"; \",CEILING(MAX(Tabulka6[Data]),0.1),\">\"),CONCATENATE(\"(\",C48,\"; \",C49,\">\")))))","v":"(90,8; 93,8>"},20,20]
[{"$f":"IF('Numerická proměnná'!A53=\"\",\"\",'Numerická proměnná'!A53)","v":90},17,{"$f":"IF(AND(ROW()<$C$7+33,Rozsah<>0),ROUND(MIN(Tabulka6[Data])+B50*$E$6,1),\"\")","v":96.9},null,null,{"$f":"IF(AND(C49=\"\",C50=\"\"),\"\",IF($C$7 =1,\"\",IF(C49>MAX(Tabulka6[Data]),\"Dolní mez překročila maximum!\",IF(C50=\"\",CONCATENATE(\"(\",C49,\"; \",CEILING(MAX(Tabulka6[Data]),0.1),\">\"),CONCATENATE(\"(\",C49,\"; \",C50,\">\")))))","v":"(93,8; 96,9>"},10,10]
[{"$f":"IF('Numerická proměnná'!A54=\"\",\"\",'Numerická proměnná'!A54)","v":91},18,{"$f":"IF(AND(ROW()<$C$7+33,Rozsah<>0),ROUND(MIN(Tabulka6[Data])+B51*$E$6,1),\"\")","v":99.9},null,null,{"$f":"IF(AND(C50=\"\",C51=\"\"),\"\",IF($C$7 =1,\"\",IF(C50>MAX(Tabulka6[Data]),\"Dolní mez překročila maximum!\",IF(C51=\"\",CONCATENATE(\"(\",C50,\"; \",CEILING(MAX(Tabulka6[Data]),0.1),\">\"),CONCATENATE(\"(\",C50,\"; \",C51,\">\")))))","v":"(96,9; 99,9>"},14,14]
[{"$f":"IF('Numerická proměnná'!A55=\"\",\"\",'Numerická proměnná'!A55)","v":95},19,{"$f":"IF(AND(ROW()<$C$7+33,Rozsah<>0),ROUND(MIN(Tabulka6[Data])+B52*$E$6,1),\"\")","v":103},null,null,{"$f":"IF(AND(C51=\"\",C52=\"\"),\"\",IF($C$7 =1,\"\",IF(C51>MAX(Tabulka6[Data]),\"Dolní mez překročila maximum!\",IF(C52=\"\",CONCATENATE(\"(\",C51,\"; \",CEILING(MAX(Tabulka6[Data]),0.1),\">\"),CONCATENATE(\"(\",C51,\"; \",C52,\">\")))))","v":"(99,9; 103>"},8,8]
[{"$f":"IF('Numerická proměnná'!A56=\"\",\"\",'Numerická proměnná'!A56)","v":101},20,{"$f":"IF(AND(ROW()<$C$7+33,Rozsah<>0),ROUND(MIN(Tabulka6[Data])+B53*$E$6,1),\"\")","v":""},null,null,{"$f":"IF(AND(C52=\"\",C53=\"\"),\"\",IF($C$7 =1,\"\",IF(C52>MAX(Tabulka6[Data]),\"Dolní mez překročila maximum!\",IF(C53=\"\",CONCATENATE(\"(\",C52,\"; \",CEILING(MAX(Tabulka6[Data]),0.1),\">\"),CONCATENATE(\"(\",C52,\"; \",C53,\">\")))))","v":"(103; 106>"},3,3]
[{"$f":"IF('Numerická proměnná'!A57=\"\",\"\",'Numerická proměnná'!A57)","v":96},null,null,null,null,{"$f":"IF(AND(C53=\"\",C54=\"\"),\"\",IF($C$7 =1,\"\",IF(C53>MAX(Tabulka6[Data]),\"Dolní mez překročila maximum!\",IF(C54=\"\",CONCATENATE(\"(\",C53,\"; \",CEILING(MAX(Tabulka6[Data]),0.1),\">\"),CONCATENATE(\"(\",C53,\"; \",C54,\">\")))))","v":""},{"$error":"#N/A"},""]
[{"$f":"IF('Numerická proměnná'!A58=\"\",\"\",'Numerická proměnná'!A58)","v":86}]
[{"$f":"IF('Numerická proměnná'!A59=\"\",\"\",'Numerická proměnná'!A59)","v":93}]
[{"$f":"IF('Numerická proměnná'!A60=\"\",\"\",'Numerická proměnná'!A60)","v":84}]
[{"$f":"IF('Numerická proměnná'!A61=\"\",\"\",'Numerická proměnná'!A61)","v":104}]
[{"$f":"IF('Numerická proměnná'!A62=\"\",\"\",'Numerická proměnná'!A62)","v":87}]
[{"$f":"IF('Numerická proměnná'!A63=\"\",\"\",'Numerická proměnná'!A63)","v":82}]
[{"$f":"IF('Numerická proměnná'!A64=\"\",\"\",'Numerická proměnná'!A64)","v":99}]
[{"$f":"IF('Numerická proměnná'!A65=\"\",\"\",'Numerická proměnná'!A65)","v":92}]
[{"$f":"IF('Numerická proměnná'!A66=\"\",\"\",'Numerická proměnná'!A66)","v":92}]
[{"$f":"IF('Numerická proměnná'!A67=\"\",\"\",'Numerická proměnná'!A67)","v":85}]
[{"$f":"IF('Numerická proměnná'!A68=\"\",\"\",'Numerická proměnná'!A68)","v":96}]
[{"$f":"IF('Numerická proměnná'!A69=\"\",\"\",'Numerická proměnná'!A69)","v":84}]
[{"$f":"IF('Numerická proměnná'!A70=\"\",\"\",'Numerická proměnná'!A70)","v":83}]
[{"$f":"IF('Numerická proměnná'!A71=\"\",\"\",'Numerická proměnná'!A71)","v":86}]
[{"$f":"IF('Numerická proměnná'!A72=\"\",\"\",'Numerická proměnná'!A72)","v":101}]
[{"$f":"IF('Numerická proměnná'!A73=\"\",\"\",'Numerická proměnná'!A73)","v":88}]
[{"$f":"IF('Numerická proměnná'!A74=\"\",\"\",'Numerická proměnná'!A74)","v":90}]
[{"$f":"IF('Numerická proměnná'!A75=\"\",\"\",'Numerická proměnná'!A75)","v":86}]
[{"$f":"IF('Numerická proměnná'!A76=\"\",\"\",'Numerická proměnná'!A76)","v":85}]
[{"$f":"IF('Numerická proměnná'!A77=\"\",\"\",'Numerická proměnná'!A77)","v":91}]
[{"$f":"IF('Numerická proměnná'!A78=\"\",\"\",'Numerická proměnná'!A78)","v":93}]
[{"$f":"IF('Numerická proměnná'!A79=\"\",\"\",'Numerická proměnná'!A79)","v":97}]
[{"$f":"IF('Numerická proměnná'!A80=\"\",\"\",'Numerická proměnná'!A80)","v":87}]
[{"$f":"IF('Numerická proměnná'!A81=\"\",\"\",'Numerická proměnná'!A81)","v":77}]
[{"$f":"IF('Numerická proměnná'!A82=\"\",\"\",'Numerická proměnná'!A82)","v":98}]
[{"$f":"IF('Numerická proměnná'!A83=\"\",\"\",'Numerická proměnná'!A83)","v":100}]
[{"$f":"IF('Numerická proměnná'!A84=\"\",\"\",'Numerická proměnná'!A84)","v":90}]
[{"$f":"IF('Numerická proměnná'!A85=\"\",\"\",'Numerická proměnná'!A85)","v":85}]
[{"$f":"IF('Numerická proměnná'!A86=\"\",\"\",'Numerická proměnná'!A86)","v":84}]
[{"$f":"IF('Numerická proměnná'!A87=\"\",\"\",'Numerická proměnná'!A87)","v":88}]
[{"$f":"IF('Numerická proměnná'!A88=\"\",\"\",'Numerická proměnná'!A88)","v":97}]
[{"$f":"IF('Numerická proměnná'!A89=\"\",\"\",'Numerická proměnná'!A89)","v":84}]
[{"$f":"IF('Numerická proměnná'!A90=\"\",\"\",'Numerická proměnná'!A90)","v":103}]
[{"$f":"IF('Numerická proměnná'!A91=\"\",\"\",'Numerická proměnná'!A91)","v":84}]
[{"$f":"IF('Numerická proměnná'!A92=\"\",\"\",'Numerická proměnná'!A92)","v":87}]
[{"$f":"IF('Numerická proměnná'!A93=\"\",\"\",'Numerická proměnná'!A93)","v":78}]
[{"$f":"IF('Numerická proměnná'!A94=\"\",\"\",'Numerická proměnná'!A94)","v":84}]
[{"$f":"IF('Numerická proměnná'!A95=\"\",\"\",'Numerická proměnná'!A95)","v":83}]
[{"$f":"IF('Numerická proměnná'!A96=\"\",\"\",'Numerická proměnná'!A96)","v":99}]
[{"$f":"IF('Numerická proměnná'!A97=\"\",\"\",'Numerická proměnná'!A97)","v":97}]
[{"$f":"IF('Numerická proměnná'!A98=\"\",\"\",'Numerická proměnná'!A98)","v":85}]
[{"$f":"IF('Numerická proměnná'!A99=\"\",\"\",'Numerická proměnná'!A99)","v":91}]
[{"$f":"IF('Numerická proměnná'!A100=\"\",\"\",'Numerická proměnná'!A100)","v":86}]
[{"$f":"IF('Numerická proměnná'!A101=\"\",\"\",'Numerická proměnná'!A101)","v":97}]
[{"$f":"IF('Numerická proměnná'!A102=\"\",\"\",'Numerická proměnná'!A102)","v":106}]
[{"$f":"IF('Numerická proměnná'!A103=\"\",\"\",'Numerická proměnná'!A103)","v":92}]
[{"$f":"IF('Numerická proměnná'!A104=\"\",\"\",'Numerická proměnná'!A104)","v":97}]
[{"$f":"IF('Numerická proměnná'!A105=\"\",\"\",'Numerická proměnná'!A105)","v":86}]
[{"$f":"IF('Numerická proměnná'!A106=\"\",\"\",'Numerická proměnná'!A106)","v":98}]
[{"$f":"IF('Numerická proměnná'!A107=\"\",\"\",'Numerická proměnná'!A107)","v":81}]
[{"$f":"IF('Numerická proměnná'!A108=\"\",\"\",'Numerická proměnná'!A108)","v":100}]
[{"$f":"IF('Numerická proměnná'!A109=\"\",\"\",'Numerická proměnná'!A109)","v":91}]
[{"$f":"IF('Numerická proměnná'!A110=\"\",\"\",'Numerická proměnná'!A110)","v":95}]
[{"$f":"IF('Numerická proměnná'!A111=\"\",\"\",'Numerická proměnná'!A111)","v":91}]
[{"$f":"IF('Numerická proměnná'!A112=\"\",\"\",'Numerická proměnná'!A112)","v":96}]
[{"$f":"IF('Numerická proměnná'!A113=\"\",\"\",'Numerická proměnná'!A113)","v":93}]
[{"$f":"IF('Numerická proměnná'!A114=\"\",\"\",'Numerická proměnná'!A114)","v":""}]
[{"$f":"IF('Numerická proměnná'!A115=\"\",\"\",'Numerická proměnná'!A115)","v":""}]
[{"$f":"IF('Numerická proměnná'!A116=\"\",\"\",'Numerická proměnná'!A116)","v":""}]
[{"$f":"IF('Numerická proměnná'!A117=\"\",\"\",'Numerická proměnná'!A117)","v":""}]
[{"$f":"IF('Numerická proměnná'!A118=\"\",\"\",'Numerická proměnná'!A118)","v":""}]
[{"$f":"IF('Numerická proměnná'!A119=\"\",\"\",'Numerická proměnná'!A119)","v":""}]
[{"$f":"IF('Numerická proměnná'!A120=\"\",\"\",'Numerická proměnná'!A120)","v":""}]
[{"$f":"IF('Numerická proměnná'!A121=\"\",\"\",'Numerická proměnná'!A121)","v":""}]
[{"$f":"IF('Numerická proměnná'!A122=\"\",\"\",'Numerická proměnná'!A122)","v":""}]
[{"$f":"IF('Numerická proměnná'!A123=\"\",\"\",'Numerická proměnná'!A123)","v":""}]
[{"$f":"IF('Numerická proměnná'!A124=\"\",\"\",'Numerická proměnná'!A124)","v":""}]
[{"$f":"IF('Numerická proměnná'!A125=\"\",\"\",'Numerická proměnná'!A125)","v":""}]
[{"$f":"IF('Numerická proměnná'!A126=\"\",\"\",'Numerická proměnná'!A126)","v":""}]
[{"$f":"IF('Numerická proměnná'!A127=\"\",\"\",'Numerická proměnná'!A127)","v":""}]
[{"$f":"IF('Numerická proměnná'!A128=\"\",\"\",'Numerická proměnná'!A128)","v":""}]
[{"$f":"IF('Numerická proměnná'!A129=\"\",\"\",'Numerická proměnná'!A129)","v":""}]
[{"$f":"IF('Numerická proměnná'!A130=\"\",\"\",'Numerická proměnná'!A130)","v":""}]
[{"$f":"IF('Numerická proměnná'!A131=\"\",\"\",'Numerická proměnná'!A131)","v":""}]
[{"$f":"IF('Numerická proměnná'!A132=\"\",\"\",'Numerická proměnná'!A132)","v":""}]
[{"$f":"IF('Numerická proměnná'!A133=\"\",\"\",'Numerická proměnná'!A133)","v":""}]
[{"$f":"IF('Numerická proměnná'!A134=\"\",\"\",'Numerická proměnná'!A134)","v":""}]
[{"$f":"IF('Numerická proměnná'!A135=\"\",\"\",'Numerická proměnná'!A135)","v":""}]
[{"$f":"IF('Numerická proměnná'!A136=\"\",\"\",'Numerická proměnná'!A136)","v":""}]
[{"$f":"IF('Numerická proměnná'!A137=\"\",\"\",'Numerická proměnná'!A137)","v":""}]
[{"$f":"IF('Numerická proměnná'!A138=\"\",\"\",'Numerická proměnná'!A138)","v":""}]
[{"$f":"IF('Numerická proměnná'!A139=\"\",\"\",'Numerická proměnná'!A139)","v":""}]
[{"$f":"IF('Numerická proměnná'!A140=\"\",\"\",'Numerická proměnná'!A140)","v":""}]
[{"$f":"IF('Numerická proměnná'!A141=\"\",\"\",'Numerická proměnná'!A141)","v":""}]
[{"$f":"IF('Numerická proměnná'!A142=\"\",\"\",'Numerická proměnná'!A142)","v":""}]
[{"$f":"IF('Numerická proměnná'!A143=\"\",\"\",'Numerická proměnná'!A143)","v":""}]
[{"$f":"IF('Numerická proměnná'!A144=\"\",\"\",'Numerická proměnná'!A144)","v":""}]
[{"$f":"IF('Numerická proměnná'!A145=\"\",\"\",'Numerická proměnná'!A145)","v":""}]
[{"$f":"IF('Numerická proměnná'!A146=\"\",\"\",'Numerická proměnná'!A146)","v":""}]
[{"$f":"IF('Numerická proměnná'!A147=\"\",\"\",'Numerická proměnná'!A147)","v":""}]
[{"$f":"IF('Numerická proměnná'!A148=\"\",\"\",'Numerická proměnná'!A148)","v":""}]
[{"$f":"IF('Numerická proměnná'!A149=\"\",\"\",'Numerická proměnná'!A149)","v":""}]
[{"$f":"IF('Numerická proměnná'!A150=\"\",\"\",'Numerická proměnná'!A150)","v":""}]
[{"$f":"IF('Numerická proměnná'!A151=\"\",\"\",'Numerická proměnná'!A151)","v":""}]
[{"$f":"IF('Numerická proměnná'!A152=\"\",\"\",'Numerická proměnná'!A152)","v":""}]
[{"$f":"IF('Numerická proměnná'!A153=\"\",\"\",'Numerická proměnná'!A153)","v":""}]
[{"$f":"IF('Numerická proměnná'!A154=\"\",\"\",'Numerická proměnná'!A154)","v":""}]
[{"$f":"IF('Numerická proměnná'!A155=\"\",\"\",'Numerická proměnná'!A155)","v":""}]
[{"$f":"IF('Numerická proměnná'!A156=\"\",\"\",'Numerická proměnná'!A156)","v":""}]
[{"$f":"IF('Numerická proměnná'!A157=\"\",\"\",'Numerická proměnná'!A157)","v":""}]
[{"$f":"IF('Numerická proměnná'!A158=\"\",\"\",'Numerická proměnná'!A158)","v":""}]
[{"$f":"IF('Numerická proměnná'!A159=\"\",\"\",'Numerická proměnná'!A159)","v":""}]
[{"$f":"IF('Numerická proměnná'!A160=\"\",\"\",'Numerická proměnná'!A160)","v":""}]
[{"$f":"IF('Numerická proměnná'!A161=\"\",\"\",'Numerická proměnná'!A161)","v":""}]
[{"$f":"IF('Numerická proměnná'!A162=\"\",\"\",'Numerická proměnná'!A162)","v":""}]
[{"$f":"IF('Numerická proměnná'!A163=\"\",\"\",'Numerická proměnná'!A163)","v":""}]
[{"$f":"IF('Numerická proměnná'!A164=\"\",\"\",'Numerická proměnná'!A164)","v":""}]
[{"$f":"IF('Numerická proměnná'!A165=\"\",\"\",'Numerická proměnná'!A165)","v":""}]
[{"$f":"IF('Numerická proměnná'!A166=\"\",\"\",'Numerická proměnná'!A166)","v":""}]
[{"$f":"IF('Numerická proměnná'!A167=\"\",\"\",'Numerická proměnná'!A167)","v":""}]
[{"$f":"IF('Numerická proměnná'!A168=\"\",\"\",'Numerická proměnná'!A168)","v":""}]
[{"$f":"IF('Numerická proměnná'!A169=\"\",\"\",'Numerická proměnná'!A169)","v":""}]
[{"$f":"IF('Numerická proměnná'!A170=\"\",\"\",'Numerická proměnná'!A170)","v":""}]
[{"$f":"IF('Numerická proměnná'!A171=\"\",\"\",'Numerická proměnná'!A171)","v":""}]
[{"$f":"IF('Numerická proměnná'!A172=\"\",\"\",'Numerická proměnná'!A172)","v":""}]
[{"$f":"IF('Numerická proměnná'!A173=\"\",\"\",'Numerická proměnná'!A173)","v":""}]
[{"$f":"IF('Numerická proměnná'!A174=\"\",\"\",'Numerická proměnná'!A174)","v":""}]
[{"$f":"IF('Numerická proměnná'!A175=\"\",\"\",'Numerická proměnná'!A175)","v":""}]
[{"$f":"IF('Numerická proměnná'!A176=\"\",\"\",'Numerická proměnná'!A176)","v":""}]
[{"$f":"IF('Numerická proměnná'!A177=\"\",\"\",'Numerická proměnná'!A177)","v":""}]
[{"$f":"IF('Numerická proměnná'!A178=\"\",\"\",'Numerická proměnná'!A178)","v":""}]
[{"$f":"IF('Numerická proměnná'!A179=\"\",\"\",'Numerická proměnná'!A179)","v":""}]
[{"$f":"IF('Numerická proměnná'!A180=\"\",\"\",'Numerická proměnná'!A180)","v":""}]
[{"$f":"IF('Numerická proměnná'!A181=\"\",\"\",'Numerická proměnná'!A181)","v":""}]
[{"$f":"IF('Numerická proměnná'!A182=\"\",\"\",'Numerická proměnná'!A182)","v":""}]
[{"$f":"IF('Numerická proměnná'!A183=\"\",\"\",'Numerická proměnná'!A183)","v":""}]
[{"$f":"IF('Numerická proměnná'!A184=\"\",\"\",'Numerická proměnná'!A184)","v":""}]
[{"$f":"IF('Numerická proměnná'!A185=\"\",\"\",'Numerická proměnná'!A185)","v":""}]
[{"$f":"IF('Numerická proměnná'!A186=\"\",\"\",'Numerická proměnná'!A186)","v":""}]
[{"$f":"IF('Numerická proměnná'!A187=\"\",\"\",'Numerická proměnná'!A187)","v":""}]
[{"$f":"IF('Numerická proměnná'!A188=\"\",\"\",'Numerická proměnná'!A188)","v":""}]
[{"$f":"IF('Numerická proměnná'!A189=\"\",\"\",'Numerická proměnná'!A189)","v":""}]
[{"$f":"IF('Numerická proměnná'!A190=\"\",\"\",'Numerická proměnná'!A190)","v":""}]
[{"$f":"IF('Numerická proměnná'!A191=\"\",\"\",'Numerická proměnná'!A191)","v":""}]
[{"$f":"IF('Numerická proměnná'!A192=\"\",\"\",'Numerická proměnná'!A192)","v":""}]
[{"$f":"IF('Numerická proměnná'!A193=\"\",\"\",'Numerická proměnná'!A193)","v":""}]
[{"$f":"IF('Numerická proměnná'!A194=\"\",\"\",'Numerická proměnná'!A194)","v":""}]
[{"$f":"IF('Numerická proměnná'!A195=\"\",\"\",'Numerická proměnná'!A195)","v":""}]
[{"$f":"IF('Numerická proměnná'!A196=\"\",\"\",'Numerická proměnná'!A196)","v":""}]
[{"$f":"IF('Numerická proměnná'!A197=\"\",\"\",'Numerická proměnná'!A197)","v":""}]
[{"$f":"IF('Numerická proměnná'!A198=\"\",\"\",'Numerická proměnná'!A198)","v":""}]
[{"$f":"IF('Numerická proměnná'!A199=\"\",\"\",'Numerická proměnná'!A199)","v":""}]
[{"$f":"IF('Numerická proměnná'!A200=\"\",\"\",'Numerická proměnná'!A200)","v":""}]
[{"$f":"IF('Numerická proměnná'!A201=\"\",\"\",'Numerická proměnná'!A201)","v":""}]
[{"$f":"IF('Numerická proměnná'!A202=\"\",\"\",'Numerická proměnná'!A202)","v":""}]
[{"$f":"IF('Numerická proměnná'!A203=\"\",\"\",'Numerická proměnná'!A203)","v":""}]
[{"$f":"IF('Numerická proměnná'!A204=\"\",\"\",'Numerická proměnná'!A204)","v":""}]
[{"$f":"IF('Numerická proměnná'!A205=\"\",\"\",'Numerická proměnná'!A205)","v":""}]
[{"$f":"IF('Numerická proměnná'!A206=\"\",\"\",'Numerická proměnná'!A206)","v":""}]
[{"$f":"IF('Numerická proměnná'!A207=\"\",\"\",'Numerická proměnná'!A207)","v":""}]
[{"$f":"IF('Numerická proměnná'!A208=\"\",\"\",'Numerická proměnná'!A208)","v":""}]
[{"$f":"IF('Numerická proměnná'!A209=\"\",\"\",'Numerická proměnná'!A209)","v":""}]
[{"$f":"IF('Numerická proměnná'!A210=\"\",\"\",'Numerická proměnná'!A210)","v":""}]
[{"$f":"IF('Numerická proměnná'!A211=\"\",\"\",'Numerická proměnná'!A211)","v":""}]
[{"$f":"IF('Numerická proměnná'!A212=\"\",\"\",'Numerická proměnná'!A212)","v":""}]
[{"$f":"IF('Numerická proměnná'!A213=\"\",\"\",'Numerická proměnná'!A213)","v":""}]
[{"$f":"IF('Numerická proměnná'!A214=\"\",\"\",'Numerická proměnná'!A214)","v":""}]
[{"$f":"IF('Numerická proměnná'!A215=\"\",\"\",'Numerická proměnná'!A215)","v":""}]
[{"$f":"IF('Numerická proměnná'!A216=\"\",\"\",'Numerická proměnná'!A216)","v":""}]
[{"$f":"IF('Numerická proměnná'!A217=\"\",\"\",'Numerická proměnná'!A217)","v":""}]
[{"$f":"IF('Numerická proměnná'!A218=\"\",\"\",'Numerická proměnná'!A218)","v":""}]
[{"$f":"IF('Numerická proměnná'!A219=\"\",\"\",'Numerická proměnná'!A219)","v":""}]
[{"$f":"IF('Numerická proměnná'!A220=\"\",\"\",'Numerická proměnná'!A220)","v":""}]
[{"$f":"IF('Numerická proměnná'!A221=\"\",\"\",'Numerická proměnná'!A221)","v":""}]
[{"$f":"IF('Numerická proměnná'!A222=\"\",\"\",'Numerická proměnná'!A222)","v":""}]
[{"$f":"IF('Numerická proměnná'!A223=\"\",\"\",'Numerická proměnná'!A223)","v":""}]
[{"$f":"IF('Numerická proměnná'!A224=\"\",\"\",'Numerická proměnná'!A224)","v":""}]
[{"$f":"IF('Numerická proměnná'!A225=\"\",\"\",'Numerická proměnná'!A225)","v":""}]
[{"$f":"IF('Numerická proměnná'!A226=\"\",\"\",'Numerická proměnná'!A226)","v":""}]
[{"$f":"IF('Numerická proměnná'!A227=\"\",\"\",'Numerická proměnná'!A227)","v":""}]
[{"$f":"IF('Numerická proměnná'!A228=\"\",\"\",'Numerická proměnná'!A228)","v":""}]
[{"$f":"IF('Numerická proměnná'!A229=\"\",\"\",'Numerická proměnná'!A229)","v":""}]
[{"$f":"IF('Numerická proměnná'!A230=\"\",\"\",'Numerická proměnná'!A230)","v":""}]
[{"$f":"IF('Numerická proměnná'!A231=\"\",\"\",'Numerická proměnná'!A231)","v":""}]
[{"$f":"IF('Numerická proměnná'!A232=\"\",\"\",'Numerická proměnná'!A232)","v":""}]
[{"$f":"IF('Numerická proměnná'!A233=\"\",\"\",'Numerická proměnná'!A233)","v":""}]
[{"$f":"IF('Numerická proměnná'!A234=\"\",\"\",'Numerická proměnná'!A234)","v":""}]
[{"$f":"IF('Numerická proměnná'!A235=\"\",\"\",'Numerická proměnná'!A235)","v":""}]
[{"$f":"IF('Numerická proměnná'!A236=\"\",\"\",'Numerická proměnná'!A236)","v":""}]
[{"$f":"IF('Numerická proměnná'!A237=\"\",\"\",'Numerická proměnná'!A237)","v":""}]
[{"$f":"IF('Numerická proměnná'!A238=\"\",\"\",'Numerická proměnná'!A238)","v":""}]
[{"$f":"IF('Numerická proměnná'!A239=\"\",\"\",'Numerická proměnná'!A239)","v":""}]
[{"$f":"IF('Numerická proměnná'!A240=\"\",\"\",'Numerická proměnná'!A240)","v":""}]
[{"$f":"IF('Numerická proměnná'!A241=\"\",\"\",'Numerická proměnná'!A241)","v":""}]
[{"$f":"IF('Numerická proměnná'!A242=\"\",\"\",'Numerická proměnná'!A242)","v":""}]
[{"$f":"IF('Numerická proměnná'!A243=\"\",\"\",'Numerická proměnná'!A243)","v":""}]
[{"$f":"IF('Numerická proměnná'!A244=\"\",\"\",'Numerická proměnná'!A244)","v":""}]
[{"$f":"IF('Numerická proměnná'!A245=\"\",\"\",'Numerická proměnná'!A245)","v":""}]
[{"$f":"IF('Numerická proměnná'!A246=\"\",\"\",'Numerická proměnná'!A246)","v":""}]
[{"$f":"IF('Numerická proměnná'!A247=\"\",\"\",'Numerická proměnná'!A247)","v":""}]
[{"$f":"IF('Numerická proměnná'!A248=\"\",\"\",'Numerická proměnná'!A248)","v":""}]
[{"$f":"IF('Numerická proměnná'!A249=\"\",\"\",'Numerická proměnná'!A249)","v":""}]
[{"$f":"IF('Numerická proměnná'!A250=\"\",\"\",'Numerická proměnná'!A250)","v":""}]
[{"$f":"IF('Numerická proměnná'!A251=\"\",\"\",'Numerická proměnná'!A251)","v":""}]
[{"$f":"IF('Numerická proměnná'!A252=\"\",\"\",'Numerická proměnná'!A252)","v":""}]
[{"$f":"IF('Numerická proměnná'!A253=\"\",\"\",'Numerická proměnná'!A253)","v":""}]
[{"$f":"IF('Numerická proměnná'!A254=\"\",\"\",'Numerická proměnná'!A254)","v":""}]
[{"$f":"IF('Numerická proměnná'!A255=\"\",\"\",'Numerická proměnná'!A255)","v":""}]
[{"$f":"IF('Numerická proměnná'!A256=\"\",\"\",'Numerická proměnná'!A256)","v":""}]
[{"$f":"IF('Numerická proměnná'!A257=\"\",\"\",'Numerická proměnná'!A257)","v":""}]
[{"$f":"IF('Numerická proměnná'!A258=\"\",\"\",'Numerická proměnná'!A258)","v":""}]
[{"$f":"IF('Numerická proměnná'!A259=\"\",\"\",'Numerická proměnná'!A259)","v":""}]
[{"$f":"IF('Numerická proměnná'!A260=\"\",\"\",'Numerická proměnná'!A260)","v":""}]
[{"$f":"IF('Numerická proměnná'!A261=\"\",\"\",'Numerická proměnná'!A261)","v":""}]
[{"$f":"IF('Numerická proměnná'!A262=\"\",\"\",'Numerická proměnná'!A262)","v":""}]
[{"$f":"IF('Numerická proměnná'!A263=\"\",\"\",'Numerická proměnná'!A263)","v":""}]
[{"$f":"IF('Numerická proměnná'!A264=\"\",\"\",'Numerická proměnná'!A264)","v":""}]
[{"$f":"IF('Numerická proměnná'!A265=\"\",\"\",'Numerická proměnná'!A265)","v":""}]
[{"$f":"IF('Numerická proměnná'!A266=\"\",\"\",'Numerická proměnná'!A266)","v":""}]
[{"$f":"IF('Numerická proměnná'!A267=\"\",\"\",'Numerická proměnná'!A267)","v":""}]
[{"$f":"IF('Numerická proměnná'!A268=\"\",\"\",'Numerická proměnná'!A268)","v":""}]
[{"$f":"IF('Numerická proměnná'!A269=\"\",\"\",'Numerická proměnná'!A269)","v":""}]
[{"$f":"IF('Numerická proměnná'!A270=\"\",\"\",'Numerická proměnná'!A270)","v":""}]
[{"$f":"IF('Numerická proměnná'!A271=\"\",\"\",'Numerická proměnná'!A271)","v":""}]
[{"$f":"IF('Numerická proměnná'!A272=\"\",\"\",'Numerická proměnná'!A272)","v":""}]
[{"$f":"IF('Numerická proměnná'!A273=\"\",\"\",'Numerická proměnná'!A273)","v":""}]
[{"$f":"IF('Numerická proměnná'!A274=\"\",\"\",'Numerická proměnná'!A274)","v":""}]
[{"$f":"IF('Numerická proměnná'!A275=\"\",\"\",'Numerická proměnná'!A275)","v":""}]
[{"$f":"IF('Numerická proměnná'!A276=\"\",\"\",'Numerická proměnná'!A276)","v":""}]
[{"$f":"IF('Numerická proměnná'!A277=\"\",\"\",'Numerická proměnná'!A277)","v":""}]
[{"$f":"IF('Numerická proměnná'!A278=\"\",\"\",'Numerická proměnná'!A278)","v":""}]
[{"$f":"IF('Numerická proměnná'!A279=\"\",\"\",'Numerická proměnná'!A279)","v":""}]
[{"$f":"IF('Numerická proměnná'!A280=\"\",\"\",'Numerická proměnná'!A280)","v":""}]
[{"$f":"IF('Numerická proměnná'!A281=\"\",\"\",'Numerická proměnná'!A281)","v":""}]
[{"$f":"IF('Numerická proměnná'!A282=\"\",\"\",'Numerická proměnná'!A282)","v":""}]
[{"$f":"IF('Numerická proměnná'!A283=\"\",\"\",'Numerická proměnná'!A283)","v":""}]
[{"$f":"IF('Numerická proměnná'!A284=\"\",\"\",'Numerická proměnná'!A284)","v":""}]
[{"$f":"IF('Numerická proměnná'!A285=\"\",\"\",'Numerická proměnná'!A285)","v":""}]
[{"$f":"IF('Numerická proměnná'!A286=\"\",\"\",'Numerická proměnná'!A286)","v":""}]
[{"$f":"IF('Numerická proměnná'!A287=\"\",\"\",'Numerická proměnná'!A287)","v":""}]
[{"$f":"IF('Numerická proměnná'!A288=\"\",\"\",'Numerická proměnná'!A288)","v":""}]
[{"$f":"IF('Numerická proměnná'!A289=\"\",\"\",'Numerická proměnná'!A289)","v":""}]
[{"$f":"IF('Numerická proměnná'!A290=\"\",\"\",'Numerická proměnná'!A290)","v":""}]
[{"$f":"IF('Numerická proměnná'!A291=\"\",\"\",'Numerická proměnná'!A291)","v":""}]
[{"$f":"IF('Numerická proměnná'!A292=\"\",\"\",'Numerická proměnná'!A292)","v":""}]
[{"$f":"IF('Numerická proměnná'!A293=\"\",\"\",'Numerická proměnná'!A293)","v":""}]
[{"$f":"IF('Numerická proměnná'!A294=\"\",\"\",'Numerická proměnná'!A294)","v":""}]
[{"$f":"IF('Numerická proměnná'!A295=\"\",\"\",'Numerická proměnná'!A295)","v":""}]
[{"$f":"IF('Numerická proměnná'!A296=\"\",\"\",'Numerická proměnná'!A296)","v":""}]
[{"$f":"IF('Numerická proměnná'!A297=\"\",\"\",'Numerická proměnná'!A297)","v":""}]
[{"$f":"IF('Numerická proměnná'!A298=\"\",\"\",'Numerická proměnná'!A298)","v":""}]
[{"$f":"IF('Numerická proměnná'!A299=\"\",\"\",'Numerická proměnná'!A299)","v":""}]
[{"$f":"IF('Numerická proměnná'!A300=\"\",\"\",'Numerická proměnná'!A300)","v":""}]
[{"$f":"IF('Numerická proměnná'!A301=\"\",\"\",'Numerická proměnná'!A301)","v":""}]
[{"$f":"IF('Numerická proměnná'!A302=\"\",\"\",'Numerická proměnná'!A302)","v":""}]
[{"$f":"IF('Numerická proměnná'!A303=\"\",\"\",'Numerická proměnná'!A303)","v":""}]
[{"$f":"IF('Numerická proměnná'!A304=\"\",\"\",'Numerická proměnná'!A304)","v":""}]
[{"$f":"IF('Numerická proměnná'!A305=\"\",\"\",'Numerická proměnná'!A305)","v":""}]
[{"$f":"IF('Numerická proměnná'!A306=\"\",\"\",'Numerická proměnná'!A306)","v":""}]
[{"$f":"IF('Numerická proměnná'!A307=\"\",\"\",'Numerická proměnná'!A307)","v":""}]
[{"$f":"IF('Numerická proměnná'!A308=\"\",\"\",'Numerická proměnná'!A308)","v":""}]
[{"$f":"IF('Numerická proměnná'!A309=\"\",\"\",'Numerická proměnná'!A309)","v":""}]
[{"$f":"IF('Numerická proměnná'!A310=\"\",\"\",'Numerická proměnná'!A310)","v":""}]
[{"$f":"IF('Numerická proměnná'!A311=\"\",\"\",'Numerická proměnná'!A311)","v":""}]
[{"$f":"IF('Numerická proměnná'!A312=\"\",\"\",'Numerická proměnná'!A312)","v":""}]
[{"$f":"IF('Numerická proměnná'!A313=\"\",\"\",'Numerická proměnná'!A313)","v":""}]
[{"$f":"IF('Numerická proměnná'!A314=\"\",\"\",'Numerická proměnná'!A314)","v":""}]
[{"$f":"IF('Numerická proměnná'!A315=\"\",\"\",'Numerická proměnná'!A315)","v":""}]
[{"$f":"IF('Numerická proměnná'!A316=\"\",\"\",'Numerická proměnná'!A316)","v":""}]
[{"$f":"IF('Numerická proměnná'!A317=\"\",\"\",'Numerická proměnná'!A317)","v":""}]
[{"$f":"IF('Numerická proměnná'!A318=\"\",\"\",'Numerická proměnná'!A318)","v":""}]
[{"$f":"IF('Numerická proměnná'!A319=\"\",\"\",'Numerická proměnná'!A319)","v":""}]
[{"$f":"IF('Numerická proměnná'!A320=\"\",\"\",'Numerická proměnná'!A320)","v":""}]
[{"$f":"IF('Numerická proměnná'!A321=\"\",\"\",'Numerická proměnná'!A321)","v":""}]
[{"$f":"IF('Numerická proměnná'!A322=\"\",\"\",'Numerická proměnná'!A322)","v":""}]
[{"$f":"IF('Numerická proměnná'!A323=\"\",\"\",'Numerická proměnná'!A323)","v":""}]
[{"$f":"IF('Numerická proměnná'!A324=\"\",\"\",'Numerická proměnná'!A324)","v":""}]
[{"$f":"IF('Numerická proměnná'!A325=\"\",\"\",'Numerická proměnná'!A325)","v":""}]
[{"$f":"IF('Numerická proměnná'!A326=\"\",\"\",'Numerická proměnná'!A326)","v":""}]
[{"$f":"IF('Numerická proměnná'!A327=\"\",\"\",'Numerická proměnná'!A327)","v":""}]
[{"$f":"IF('Numerická proměnná'!A328=\"\",\"\",'Numerická proměnná'!A328)","v":""}]
[{"$f":"IF('Numerická proměnná'!A329=\"\",\"\",'Numerická proměnná'!A329)","v":""}]
[{"$f":"IF('Numerická proměnná'!A330=\"\",\"\",'Numerická proměnná'!A330)","v":""}]
[{"$f":"IF('Numerická proměnná'!A331=\"\",\"\",'Numerická proměnná'!A331)","v":""}]
[{"$f":"IF('Numerická proměnná'!A332=\"\",\"\",'Numerická proměnná'!A332)","v":""}]
[{"$f":"IF('Numerická proměnná'!A333=\"\",\"\",'Numerická proměnná'!A333)","v":""}]
[{"$f":"IF('Numerická proměnná'!A334=\"\",\"\",'Numerická proměnná'!A334)","v":""}]
[{"$f":"IF('Numerická proměnná'!A335=\"\",\"\",'Numerická proměnná'!A335)","v":""}]
[{"$f":"IF('Numerická proměnná'!A336=\"\",\"\",'Numerická proměnná'!A336)","v":""}]
[{"$f":"IF('Numerická proměnná'!A337=\"\",\"\",'Numerická proměnná'!A337)","v":""}]
[{"$f":"IF('Numerická proměnná'!A338=\"\",\"\",'Numerická proměnná'!A338)","v":""}]
[{"$f":"IF('Numerická proměnná'!A339=\"\",\"\",'Numerická proměnná'!A339)","v":""}]
[{"$f":"IF('Numerická proměnná'!A340=\"\",\"\",'Numerická proměnná'!A340)","v":""}]
[{"$f":"IF('Numerická proměnná'!A341=\"\",\"\",'Numerická proměnná'!A341)","v":""}]
[{"$f":"IF('Numerická proměnná'!A342=\"\",\"\",'Numerická proměnná'!A342)","v":""}]
[{"$f":"IF('Numerická proměnná'!A343=\"\",\"\",'Numerická proměnná'!A343)","v":""}]
[{"$f":"IF('Numerická proměnná'!A344=\"\",\"\",'Numerická proměnná'!A344)","v":""}]
[{"$f":"IF('Numerická proměnná'!A345=\"\",\"\",'Numerická proměnná'!A345)","v":""}]
[{"$f":"IF('Numerická proměnná'!A346=\"\",\"\",'Numerická proměnná'!A346)","v":""}]
[{"$f":"IF('Numerická proměnná'!A347=\"\",\"\",'Numerická proměnná'!A347)","v":""}]
[{"$f":"IF('Numerická proměnná'!A348=\"\",\"\",'Numerická proměnná'!A348)","v":""}]
[{"$f":"IF('Numerická proměnná'!A349=\"\",\"\",'Numerická proměnná'!A349)","v":""}]
[{"$f":"IF('Numerická proměnná'!A350=\"\",\"\",'Numerická proměnná'!A350)","v":""}]
[{"$f":"IF('Numerická proměnná'!A351=\"\",\"\",'Numerická proměnná'!A351)","v":""}]
[{"$f":"IF('Numerická proměnná'!A352=\"\",\"\",'Numerická proměnná'!A352)","v":""}]
[{"$f":"IF('Numerická proměnná'!A353=\"\",\"\",'Numerická proměnná'!A353)","v":""}]
[{"$f":"IF('Numerická proměnná'!A354=\"\",\"\",'Numerická proměnná'!A354)","v":""}]
[{"$f":"IF('Numerická proměnná'!A355=\"\",\"\",'Numerická proměnná'!A355)","v":""}]
[{"$f":"IF('Numerická proměnná'!A356=\"\",\"\",'Numerická proměnná'!A356)","v":""}]
[{"$f":"IF('Numerická proměnná'!A357=\"\",\"\",'Numerická proměnná'!A357)","v":""}]
[{"$f":"IF('Numerická proměnná'!A358=\"\",\"\",'Numerická proměnná'!A358)","v":""}]
[{"$f":"IF('Numerická proměnná'!A359=\"\",\"\",'Numerická proměnná'!A359)","v":""}]
[{"$f":"IF('Numerická proměnná'!A360=\"\",\"\",'Numerická proměnná'!A360)","v":""}]
[{"$f":"IF('Numerická proměnná'!A361=\"\",\"\",'Numerická proměnná'!A361)","v":""}]
[{"$f":"IF('Numerická proměnná'!A362=\"\",\"\",'Numerická proměnná'!A362)","v":""}]
[{"$f":"IF('Numerická proměnná'!A363=\"\",\"\",'Numerická proměnná'!A363)","v":""}]
[{"$f":"IF('Numerická proměnná'!A364=\"\",\"\",'Numerická proměnná'!A364)","v":""}]
[{"$f":"IF('Numerická proměnná'!A365=\"\",\"\",'Numerická proměnná'!A365)","v":""}]
[{"$f":"IF('Numerická proměnná'!A366=\"\",\"\",'Numerická proměnná'!A366)","v":""}]
[{"$f":"IF('Numerická proměnná'!A367=\"\",\"\",'Numerická proměnná'!A367)","v":""}]
[{"$f":"IF('Numerická proměnná'!A368=\"\",\"\",'Numerická proměnná'!A368)","v":""}]
[{"$f":"IF('Numerická proměnná'!A369=\"\",\"\",'Numerická proměnná'!A369)","v":""}]
[{"$f":"IF('Numerická proměnná'!A370=\"\",\"\",'Numerická proměnná'!A370)","v":""}]
[{"$f":"IF('Numerická proměnná'!A371=\"\",\"\",'Numerická proměnná'!A371)","v":""}]
[{"$f":"IF('Numerická proměnná'!A372=\"\",\"\",'Numerická proměnná'!A372)","v":""}]
[{"$f":"IF('Numerická proměnná'!A373=\"\",\"\",'Numerická proměnná'!A373)","v":""}]
[{"$f":"IF('Numerická proměnná'!A374=\"\",\"\",'Numerická proměnná'!A374)","v":""}]
[{"$f":"IF('Numerická proměnná'!A375=\"\",\"\",'Numerická proměnná'!A375)","v":""}]
[{"$f":"IF('Numerická proměnná'!A376=\"\",\"\",'Numerická proměnná'!A376)","v":""}]
[{"$f":"IF('Numerická proměnná'!A377=\"\",\"\",'Numerická proměnná'!A377)","v":""}]
[{"$f":"IF('Numerická proměnná'!A378=\"\",\"\",'Numerická proměnná'!A378)","v":""}]
[{"$f":"IF('Numerická proměnná'!A379=\"\",\"\",'Numerická proměnná'!A379)","v":""}]
[{"$f":"IF('Numerická proměnná'!A380=\"\",\"\",'Numerická proměnná'!A380)","v":""}]
[{"$f":"IF('Numerická proměnná'!A381=\"\",\"\",'Numerická proměnná'!A381)","v":""}]
[{"$f":"IF('Numerická proměnná'!A382=\"\",\"\",'Numerická proměnná'!A382)","v":""}]
[{"$f":"IF('Numerická proměnná'!A383=\"\",\"\",'Numerická proměnná'!A383)","v":""}]
[{"$f":"IF('Numerická proměnná'!A384=\"\",\"\",'Numerická proměnná'!A384)","v":""}]
[{"$f":"IF('Numerická proměnná'!A385=\"\",\"\",'Numerická proměnná'!A385)","v":""}]
[{"$f":"IF('Numerická proměnná'!A386=\"\",\"\",'Numerická proměnná'!A386)","v":""}]
[{"$f":"IF('Numerická proměnná'!A387=\"\",\"\",'Numerická proměnná'!A387)","v":""}]
[{"$f":"IF('Numerická proměnná'!A388=\"\",\"\",'Numerická proměnná'!A388)","v":""}]
[{"$f":"IF('Numerická proměnná'!A389=\"\",\"\",'Numerická proměnná'!A389)","v":""}]
[{"$f":"IF('Numerická proměnná'!A390=\"\",\"\",'Numerická proměnná'!A390)","v":""}]
[{"$f":"IF('Numerická proměnná'!A391=\"\",\"\",'Numerická proměnná'!A391)","v":""}]
[{"$f":"IF('Numerická proměnná'!A392=\"\",\"\",'Numerická proměnná'!A392)","v":""}]
[{"$f":"IF('Numerická proměnná'!A393=\"\",\"\",'Numerická proměnná'!A393)","v":""}]
[{"$f":"IF('Numerická proměnná'!A394=\"\",\"\",'Numerická proměnná'!A394)","v":""}]
[{"$f":"IF('Numerická proměnná'!A395=\"\",\"\",'Numerická proměnná'!A395)","v":""}]
[{"$f":"IF('Numerická proměnná'!A396=\"\",\"\",'Numerická proměnná'!A396)","v":""}]
[{"$f":"IF('Numerická proměnná'!A397=\"\",\"\",'Numerická proměnná'!A397)","v":""}]
[{"$f":"IF('Numerická proměnná'!A398=\"\",\"\",'Numerická proměnná'!A398)","v":""}]
[{"$f":"IF('Numerická proměnná'!A399=\"\",\"\",'Numerická proměnná'!A399)","v":""}]
[{"$f":"IF('Numerická proměnná'!A400=\"\",\"\",'Numerická proměnná'!A400)","v":""}]
[{"$f":"IF('Numerická proměnná'!A401=\"\",\"\",'Numerická proměnná'!A401)","v":""}]
[{"$f":"IF('Numerická proměnná'!A402=\"\",\"\",'Numerická proměnná'!A402)","v":""}]
[{"$f":"IF('Numerická proměnná'!A403=\"\",\"\",'Numerická proměnná'!A403)","v":""}]
[{"$f":"IF('Numerická proměnná'!A404=\"\",\"\",'Numerická proměnná'!A404)","v":""}]
[{"$f":"IF('Numerická proměnná'!A405=\"\",\"\",'Numerická proměnná'!A405)","v":""}]
[{"$f":"IF('Numerická proměnná'!A406=\"\",\"\",'Numerická proměnná'!A406)","v":""}]
[{"$f":"IF('Numerická proměnná'!A407=\"\",\"\",'Numerická proměnná'!A407)","v":""}]
[{"$f":"IF('Numerická proměnná'!A408=\"\",\"\",'Numerická proměnná'!A408)","v":""}]
[{"$f":"IF('Numerická proměnná'!A409=\"\",\"\",'Numerická proměnná'!A409)","v":""}]
[{"$f":"IF('Numerická proměnná'!A410=\"\",\"\",'Numerická proměnná'!A410)","v":""}]
[{"$f":"IF('Numerická proměnná'!A411=\"\",\"\",'Numerická proměnná'!A411)","v":""}]
[{"$f":"IF('Numerická proměnná'!A412=\"\",\"\",'Numerická proměnná'!A412)","v":""}]
[{"$f":"IF('Numerická proměnná'!A413=\"\",\"\",'Numerická proměnná'!A413)","v":""}]
[{"$f":"IF('Numerická proměnná'!A414=\"\",\"\",'Numerická proměnná'!A414)","v":""}]
[{"$f":"IF('Numerická proměnná'!A415=\"\",\"\",'Numerická proměnná'!A415)","v":""}]
[{"$f":"IF('Numerická proměnná'!A416=\"\",\"\",'Numerická proměnná'!A416)","v":""}]
[{"$f":"IF('Numerická proměnná'!A417=\"\",\"\",'Numerická proměnná'!A417)","v":""}]
[{"$f":"IF('Numerická proměnná'!A418=\"\",\"\",'Numerická proměnná'!A418)","v":""}]
[{"$f":"IF('Numerická proměnná'!A419=\"\",\"\",'Numerická proměnná'!A419)","v":""}]
[{"$f":"IF('Numerická proměnná'!A420=\"\",\"\",'Numerická proměnná'!A420)","v":""}]
[{"$f":"IF('Numerická proměnná'!A421=\"\",\"\",'Numerická proměnná'!A421)","v":""}]
[{"$f":"IF('Numerická proměnná'!A422=\"\",\"\",'Numerická proměnná'!A422)","v":""}]
[{"$f":"IF('Numerická proměnná'!A423=\"\",\"\",'Numerická proměnná'!A423)","v":""}]
[{"$f":"IF('Numerická proměnná'!A424=\"\",\"\",'Numerická proměnná'!A424)","v":""}]
[{"$f":"IF('Numerická proměnná'!A425=\"\",\"\",'Numerická proměnná'!A425)","v":""}]
[{"$f":"IF('Numerická proměnná'!A426=\"\",\"\",'Numerická proměnná'!A426)","v":""}]
[{"$f":"IF('Numerická proměnná'!A427=\"\",\"\",'Numerická proměnná'!A427)","v":""}]
[{"$f":"IF('Numerická proměnná'!A428=\"\",\"\",'Numerická proměnná'!A428)","v":""}]
[{"$f":"IF('Numerická proměnná'!A429=\"\",\"\",'Numerická proměnná'!A429)","v":""}]
[{"$f":"IF('Numerická proměnná'!A430=\"\",\"\",'Numerická proměnná'!A430)","v":""}]
[{"$f":"IF('Numerická proměnná'!A431=\"\",\"\",'Numerická proměnná'!A431)","v":""}]
[{"$f":"IF('Numerická proměnná'!A432=\"\",\"\",'Numerická proměnná'!A432)","v":""}]
[{"$f":"IF('Numerická proměnná'!A433=\"\",\"\",'Numerická proměnná'!A433)","v":""}]
[{"$f":"IF('Numerická proměnná'!A434=\"\",\"\",'Numerická proměnná'!A434)","v":""}]
[{"$f":"IF('Numerická proměnná'!A435=\"\",\"\",'Numerická proměnná'!A435)","v":""}]
[{"$f":"IF('Numerická proměnná'!A436=\"\",\"\",'Numerická proměnná'!A436)","v":""}]
[{"$f":"IF('Numerická proměnná'!A437=\"\",\"\",'Numerická proměnná'!A437)","v":""}]
[{"$f":"IF('Numerická proměnná'!A438=\"\",\"\",'Numerická proměnná'!A438)","v":""}]
[{"$f":"IF('Numerická proměnná'!A439=\"\",\"\",'Numerická proměnná'!A439)","v":""}]
[{"$f":"IF('Numerická proměnná'!A440=\"\",\"\",'Numerická proměnná'!A440)","v":""}]
[{"$f":"IF('Numerická proměnná'!A441=\"\",\"\",'Numerická proměnná'!A441)","v":""}]
[{"$f":"IF('Numerická proměnná'!A442=\"\",\"\",'Numerická proměnná'!A442)","v":""}]
[{"$f":"IF('Numerická proměnná'!A443=\"\",\"\",'Numerická proměnná'!A443)","v":""}]
[{"$f":"IF('Numerická proměnná'!A444=\"\",\"\",'Numerická proměnná'!A444)","v":""}]
[{"$f":"IF('Numerická proměnná'!A445=\"\",\"\",'Numerická proměnná'!A445)","v":""}]
[{"$f":"IF('Numerická proměnná'!A446=\"\",\"\",'Numerická proměnná'!A446)","v":""}]
[{"$f":"IF('Numerická proměnná'!A447=\"\",\"\",'Numerická proměnná'!A447)","v":""}]
[{"$f":"IF('Numerická proměnná'!A448=\"\",\"\",'Numerická proměnná'!A448)","v":""}]
[{"$f":"IF('Numerická proměnná'!A449=\"\",\"\",'Numerická proměnná'!A449)","v":""}]
[{"$f":"IF('Numerická proměnná'!A450=\"\",\"\",'Numerická proměnná'!A450)","v":""}]
[{"$f":"IF('Numerická proměnná'!A451=\"\",\"\",'Numerická proměnná'!A451)","v":""}]
[{"$f":"IF('Numerická proměnná'!A452=\"\",\"\",'Numerická proměnná'!A452)","v":""}]
[{"$f":"IF('Numerická proměnná'!A453=\"\",\"\",'Numerická proměnná'!A453)","v":""}]
[{"$f":"IF('Numerická proměnná'!A454=\"\",\"\",'Numerická proměnná'!A454)","v":""}]
[{"$f":"IF('Numerická proměnná'!A455=\"\",\"\",'Numerická proměnná'!A455)","v":""}]
[{"$f":"IF('Numerická proměnná'!A456=\"\",\"\",'Numerická proměnná'!A456)","v":""}]
[{"$f":"IF('Numerická proměnná'!A457=\"\",\"\",'Numerická proměnná'!A457)","v":""}]
[{"$f":"IF('Numerická proměnná'!A458=\"\",\"\",'Numerická proměnná'!A458)","v":""}]
[{"$f":"IF('Numerická proměnná'!A459=\"\",\"\",'Numerická proměnná'!A459)","v":""}]
[{"$f":"IF('Numerická proměnná'!A460=\"\",\"\",'Numerická proměnná'!A460)","v":""}]
[{"$f":"IF('Numerická proměnná'!A461=\"\",\"\",'Numerická proměnná'!A461)","v":""}]
[{"$f":"IF('Numerická proměnná'!A462=\"\",\"\",'Numerická proměnná'!A462)","v":""}]
[{"$f":"IF('Numerická proměnná'!A463=\"\",\"\",'Numerická proměnná'!A463)","v":""}]
[{"$f":"IF('Numerická proměnná'!A464=\"\",\"\",'Numerická proměnná'!A464)","v":""}]
[{"$f":"IF('Numerická proměnná'!A465=\"\",\"\",'Numerická proměnná'!A465)","v":""}]
[{"$f":"IF('Numerická proměnná'!A466=\"\",\"\",'Numerická proměnná'!A466)","v":""}]
[{"$f":"IF('Numerická proměnná'!A467=\"\",\"\",'Numerická proměnná'!A467)","v":""}]
[{"$f":"IF('Numerická proměnná'!A468=\"\",\"\",'Numerická proměnná'!A468)","v":""}]
[{"$f":"IF('Numerická proměnná'!A469=\"\",\"\",'Numerická proměnná'!A469)","v":""}]
[{"$f":"IF('Numerická proměnná'!A470=\"\",\"\",'Numerická proměnná'!A470)","v":""}]
[{"$f":"IF('Numerická proměnná'!A471=\"\",\"\",'Numerická proměnná'!A471)","v":""}]
[{"$f":"IF('Numerická proměnná'!A472=\"\",\"\",'Numerická proměnná'!A472)","v":""}]
[{"$f":"IF('Numerická proměnná'!A473=\"\",\"\",'Numerická proměnná'!A473)","v":""}]
[{"$f":"IF('Numerická proměnná'!A474=\"\",\"\",'Numerická proměnná'!A474)","v":""}]
[{"$f":"IF('Numerická proměnná'!A475=\"\",\"\",'Numerická proměnná'!A475)","v":""}]
[{"$f":"IF('Numerická proměnná'!A476=\"\",\"\",'Numerická proměnná'!A476)","v":""}]
[{"$f":"IF('Numerická proměnná'!A477=\"\",\"\",'Numerická proměnná'!A477)","v":""}]
[{"$f":"IF('Numerická proměnná'!A478=\"\",\"\",'Numerická proměnná'!A478)","v":""}]
[{"$f":"IF('Numerická proměnná'!A479=\"\",\"\",'Numerická proměnná'!A479)","v":""}]
[{"$f":"IF('Numerická proměnná'!A480=\"\",\"\",'Numerická proměnná'!A480)","v":""}]
[{"$f":"IF('Numerická proměnná'!A481=\"\",\"\",'Numerická proměnná'!A481)","v":""}]
[{"$f":"IF('Numerická proměnná'!A482=\"\",\"\",'Numerická proměnná'!A482)","v":""}]
[{"$f":"IF('Numerická proměnná'!A483=\"\",\"\",'Numerická proměnná'!A483)","v":""}]
[{"$f":"IF('Numerická proměnná'!A484=\"\",\"\",'Numerická proměnná'!A484)","v":""}]
[{"$f":"IF('Numerická proměnná'!A485=\"\",\"\",'Numerická proměnná'!A485)","v":""}]
[{"$f":"IF('Numerická proměnná'!A486=\"\",\"\",'Numerická proměnná'!A486)","v":""}]
[{"$f":"IF('Numerická proměnná'!A487=\"\",\"\",'Numerická proměnná'!A487)","v":""}]
[{"$f":"IF('Numerická proměnná'!A488=\"\",\"\",'Numerická proměnná'!A488)","v":""}]
[{"$f":"IF('Numerická proměnná'!A489=\"\",\"\",'Numerická proměnná'!A489)","v":""}]
[{"$f":"IF('Numerická proměnná'!A490=\"\",\"\",'Numerická proměnná'!A490)","v":""}]
[{"$f":"IF('Numerická proměnná'!A491=\"\",\"\",'Numerická proměnná'!A491)","v":""}]
[{"$f":"IF('Numerická proměnná'!A492=\"\",\"\",'Numerická proměnná'!A492)","v":""}]
[{"$f":"IF('Numerická proměnná'!A493=\"\",\"\",'Numerická proměnná'!A493)","v":""}]
[{"$f":"IF('Numerická proměnná'!A494=\"\",\"\",'Numerická proměnná'!A494)","v":""}]
[{"$f":"IF('Numerická proměnná'!A495=\"\",\"\",'Numerická proměnná'!A495)","v":""}]
[{"$f":"IF('Numerická proměnná'!A496=\"\",\"\",'Numerická proměnná'!A496)","v":""}]
[{"$f":"IF('Numerická proměnná'!A497=\"\",\"\",'Numerická proměnná'!A497)","v":""}]
[{"$f":"IF('Numerická proměnná'!A498=\"\",\"\",'Numerická proměnná'!A498)","v":""}]
[{"$f":"IF('Numerická proměnná'!A499=\"\",\"\",'Numerická proměnná'!A499)","v":""}]
[{"$f":"IF('Numerická proměnná'!A500=\"\",\"\",'Numerická proměnná'!A500)","v":""}]
[{"$f":"IF('Numerická proměnná'!A501=\"\",\"\",'Numerická proměnná'!A501)","v":""}]
[{"$f":"IF('Numerická proměnná'!A502=\"\",\"\",'Numerická proměnná'!A502)","v":""}]
[{"$f":"IF('Numerická proměnná'!A503=\"\",\"\",'Numerická proměnná'!A503)","v":""}]
[{"$f":"IF('Numerická proměnná'!A504=\"\",\"\",'Numerická proměnná'!A504)","v":""}]
[{"$f":"IF('Numerická proměnná'!A505=\"\",\"\",'Numerická proměnná'!A505)","v":""}]
[{"$f":"IF('Numerická proměnná'!A506=\"\",\"\",'Numerická proměnná'!A506)","v":""}]
[{"$f":"IF('Numerická proměnná'!A507=\"\",\"\",'Numerická proměnná'!A507)","v":""}]
[{"$f":"IF('Numerická proměnná'!A508=\"\",\"\",'Numerická proměnná'!A508)","v":""}]
[{"$f":"IF('Numerická proměnná'!A509=\"\",\"\",'Numerická proměnná'!A509)","v":""}]
[{"$f":"IF('Numerická proměnná'!A510=\"\",\"\",'Numerická proměnná'!A510)","v":""}]
[{"$f":"IF('Numerická proměnná'!A511=\"\",\"\",'Numerická proměnná'!A511)","v":""}]
[{"$f":"IF('Numerická proměnná'!A512=\"\",\"\",'Numerická proměnná'!A512)","v":""}]
[{"$f":"IF('Numerická proměnná'!A513=\"\",\"\",'Numerická proměnná'!A513)","v":""}]
[{"$f":"IF('Numerická proměnná'!A514=\"\",\"\",'Numerická proměnná'!A514)","v":""}]
[{"$f":"IF('Numerická proměnná'!A515=\"\",\"\",'Numerická proměnná'!A515)","v":""}]
[{"$f":"IF('Numerická proměnná'!A516=\"\",\"\",'Numerická proměnná'!A516)","v":""}]
[{"$f":"IF('Numerická proměnná'!A517=\"\",\"\",'Numerická proměnná'!A517)","v":""}]
[{"$f":"IF('Numerická proměnná'!A518=\"\",\"\",'Numerická proměnná'!A518)","v":""}]
[{"$f":"IF('Numerická proměnná'!A519=\"\",\"\",'Numerická proměnná'!A519)","v":""}]
[{"$f":"IF('Numerická proměnná'!A520=\"\",\"\",'Numerická proměnná'!A520)","v":""}]
[{"$f":"IF('Numerická proměnná'!A521=\"\",\"\",'Numerická proměnná'!A521)","v":""}]
[{"$f":"IF('Numerická proměnná'!A522=\"\",\"\",'Numerická proměnná'!A522)","v":""}]
[{"$f":"IF('Numerická proměnná'!A523=\"\",\"\",'Numerická proměnná'!A523)","v":""}]
[{"$f":"IF('Numerická proměnná'!A524=\"\",\"\",'Numerická proměnná'!A524)","v":""}]
[{"$f":"IF('Numerická proměnná'!A525=\"\",\"\",'Numerická proměnná'!A525)","v":""}]
[{"$f":"IF('Numerická proměnná'!A526=\"\",\"\",'Numerická proměnná'!A526)","v":""}]
[{"$f":"IF('Numerická proměnná'!A527=\"\",\"\",'Numerická proměnná'!A527)","v":""}]
[{"$f":"IF('Numerická proměnná'!A528=\"\",\"\",'Numerická proměnná'!A528)","v":""}]
[{"$f":"IF('Numerická proměnná'!A529=\"\",\"\",'Numerická proměnná'!A529)","v":""}]
[{"$f":"IF('Numerická proměnná'!A530=\"\",\"\",'Numerická proměnná'!A530)","v":""}]
[{"$f":"IF('Numerická proměnná'!A531=\"\",\"\",'Numerická proměnná'!A531)","v":""}]
[{"$f":"IF('Numerická proměnná'!A532=\"\",\"\",'Numerická proměnná'!A532)","v":""}]
[{"$f":"IF('Numerická proměnná'!A533=\"\",\"\",'Numerická proměnná'!A533)","v":""}]
[{"$f":"IF('Numerická proměnná'!A534=\"\",\"\",'Numerická proměnná'!A534)","v":""}]
[{"$f":"IF('Numerická proměnná'!A535=\"\",\"\",'Numerická proměnná'!A535)","v":""}]
[{"$f":"IF('Numerická proměnná'!A536=\"\",\"\",'Numerická proměnná'!A536)","v":""}]
[{"$f":"IF('Numerická proměnná'!A537=\"\",\"\",'Numerická proměnná'!A537)","v":""}]
[{"$f":"IF('Numerická proměnná'!A538=\"\",\"\",'Numerická proměnná'!A538)","v":""}]
[{"$f":"IF('Numerická proměnná'!A539=\"\",\"\",'Numerická proměnná'!A539)","v":""}]
[{"$f":"IF('Numerická proměnná'!A540=\"\",\"\",'Numerická proměnná'!A540)","v":""}]
[{"$f":"IF('Numerická proměnná'!A541=\"\",\"\",'Numerická proměnná'!A541)","v":""}]
[{"$f":"IF('Numerická proměnná'!A542=\"\",\"\",'Numerická proměnná'!A542)","v":""}]
[{"$f":"IF('Numerická proměnná'!A543=\"\",\"\",'Numerická proměnná'!A543)","v":""}]
[{"$f":"IF('Numerická proměnná'!A544=\"\",\"\",'Numerická proměnná'!A544)","v":""}]
[{"$f":"IF('Numerická proměnná'!A545=\"\",\"\",'Numerická proměnná'!A545)","v":""}]
[{"$f":"IF('Numerická proměnná'!A546=\"\",\"\",'Numerická proměnná'!A546)","v":""}]
[{"$f":"IF('Numerická proměnná'!A547=\"\",\"\",'Numerická proměnná'!A547)","v":""}]
[{"$f":"IF('Numerická proměnná'!A548=\"\",\"\",'Numerická proměnná'!A548)","v":""}]
[{"$f":"IF('Numerická proměnná'!A549=\"\",\"\",'Numerická proměnná'!A549)","v":""}]
[{"$f":"IF('Numerická proměnná'!A550=\"\",\"\",'Numerická proměnná'!A550)","v":""}]
[{"$f":"IF('Numerická proměnná'!A551=\"\",\"\",'Numerická proměnná'!A551)","v":""}]
[{"$f":"IF('Numerická proměnná'!A552=\"\",\"\",'Numerická proměnná'!A552)","v":""}]
[{"$f":"IF('Numerická proměnná'!A553=\"\",\"\",'Numerická proměnná'!A553)","v":""}]
[{"$f":"IF('Numerická proměnná'!A554=\"\",\"\",'Numerická proměnná'!A554)","v":""}]
[{"$f":"IF('Numerická proměnná'!A555=\"\",\"\",'Numerická proměnná'!A555)","v":""}]
[{"$f":"IF('Numerická proměnná'!A556=\"\",\"\",'Numerická proměnná'!A556)","v":""}]
[{"$f":"IF('Numerická proměnná'!A557=\"\",\"\",'Numerická proměnná'!A557)","v":""}]
[{"$f":"IF('Numerická proměnná'!A558=\"\",\"\",'Numerická proměnná'!A558)","v":""}]
[{"$f":"IF('Numerická proměnná'!A559=\"\",\"\",'Numerická proměnná'!A559)","v":""}]
[{"$f":"IF('Numerická proměnná'!A560=\"\",\"\",'Numerická proměnná'!A560)","v":""}]
[{"$f":"IF('Numerická proměnná'!A561=\"\",\"\",'Numerická proměnná'!A561)","v":""}]
[{"$f":"IF('Numerická proměnná'!A562=\"\",\"\",'Numerická proměnná'!A562)","v":""}]
[{"$f":"IF('Numerická proměnná'!A563=\"\",\"\",'Numerická proměnná'!A563)","v":""}]
[{"$f":"IF('Numerická proměnná'!A564=\"\",\"\",'Numerická proměnná'!A564)","v":""}]
[{"$f":"IF('Numerická proměnná'!A565=\"\",\"\",'Numerická proměnná'!A565)","v":""}]
[{"$f":"IF('Numerická proměnná'!A566=\"\",\"\",'Numerická proměnná'!A566)","v":""}]
[{"$f":"IF('Numerická proměnná'!A567=\"\",\"\",'Numerická proměnná'!A567)","v":""}]
[{"$f":"IF('Numerická proměnná'!A568=\"\",\"\",'Numerická proměnná'!A568)","v":""}]
[{"$f":"IF('Numerická proměnná'!A569=\"\",\"\",'Numerická proměnná'!A569)","v":""}]
[{"$f":"IF('Numerická proměnná'!A570=\"\",\"\",'Numerická proměnná'!A570)","v":""}]
[{"$f":"IF('Numerická proměnná'!A571=\"\",\"\",'Numerická proměnná'!A571)","v":""}]
[{"$f":"IF('Numerická proměnná'!A572=\"\",\"\",'Numerická proměnná'!A572)","v":""}]
[{"$f":"IF('Numerická proměnná'!A573=\"\",\"\",'Numerická proměnná'!A573)","v":""}]
[{"$f":"IF('Numerická proměnná'!A574=\"\",\"\",'Numerická proměnná'!A574)","v":""}]
[{"$f":"IF('Numerická proměnná'!A575=\"\",\"\",'Numerická proměnná'!A575)","v":""}]
[{"$f":"IF('Numerická proměnná'!A576=\"\",\"\",'Numerická proměnná'!A576)","v":""}]
[{"$f":"IF('Numerická proměnná'!A577=\"\",\"\",'Numerická proměnná'!A577)","v":""}]
[{"$f":"IF('Numerická proměnná'!A578=\"\",\"\",'Numerická proměnná'!A578)","v":""}]
[{"$f":"IF('Numerická proměnná'!A579=\"\",\"\",'Numerická proměnná'!A579)","v":""}]
[{"$f":"IF('Numerická proměnná'!A580=\"\",\"\",'Numerická proměnná'!A580)","v":""}]
[{"$f":"IF('Numerická proměnná'!A581=\"\",\"\",'Numerická proměnná'!A581)","v":""}]
[{"$f":"IF('Numerická proměnná'!A582=\"\",\"\",'Numerická proměnná'!A582)","v":""}]
[{"$f":"IF('Numerická proměnná'!A583=\"\",\"\",'Numerická proměnná'!A583)","v":""}]
[{"$f":"IF('Numerická proměnná'!A584=\"\",\"\",'Numerická proměnná'!A584)","v":""}]
[{"$f":"IF('Numerická proměnná'!A585=\"\",\"\",'Numerická proměnná'!A585)","v":""}]
[{"$f":"IF('Numerická proměnná'!A586=\"\",\"\",'Numerická proměnná'!A586)","v":""}]
[{"$f":"IF('Numerická proměnná'!A587=\"\",\"\",'Numerická proměnná'!A587)","v":""}]
[{"$f":"IF('Numerická proměnná'!A588=\"\",\"\",'Numerická proměnná'!A588)","v":""}]
[{"$f":"IF('Numerická proměnná'!A589=\"\",\"\",'Numerická proměnná'!A589)","v":""}]
[{"$f":"IF('Numerická proměnná'!A590=\"\",\"\",'Numerická proměnná'!A590)","v":""}]
[{"$f":"IF('Numerická proměnná'!A591=\"\",\"\",'Numerická proměnná'!A591)","v":""}]
[{"$f":"IF('Numerická proměnná'!A592=\"\",\"\",'Numerická proměnná'!A592)","v":""}]
[{"$f":"IF('Numerická proměnná'!A593=\"\",\"\",'Numerická proměnná'!A593)","v":""}]
[{"$f":"IF('Numerická proměnná'!A594=\"\",\"\",'Numerická proměnná'!A594)","v":""}]
[{"$f":"IF('Numerická proměnná'!A595=\"\",\"\",'Numerická proměnná'!A595)","v":""}]
[{"$f":"IF('Numerická proměnná'!A596=\"\",\"\",'Numerická proměnná'!A596)","v":""}]
[{"$f":"IF('Numerická proměnná'!A597=\"\",\"\",'Numerická proměnná'!A597)","v":""}]
[{"$f":"IF('Numerická proměnná'!A598=\"\",\"\",'Numerická proměnná'!A598)","v":""}]
[{"$f":"IF('Numerická proměnná'!A599=\"\",\"\",'Numerická proměnná'!A599)","v":""}]
[{"$f":"IF('Numerická proměnná'!A600=\"\",\"\",'Numerická proměnná'!A600)","v":""}]
[{"$f":"IF('Numerická proměnná'!A601=\"\",\"\",'Numerická proměnná'!A601)","v":""}]
[{"$f":"IF('Numerická proměnná'!A602=\"\",\"\",'Numerická proměnná'!A602)","v":""}]
[{"$f":"IF('Numerická proměnná'!A603=\"\",\"\",'Numerická proměnná'!A603)","v":""}]
[{"$f":"IF('Numerická proměnná'!A604=\"\",\"\",'Numerická proměnná'!A604)","v":""}]
[{"$f":"IF('Numerická proměnná'!A605=\"\",\"\",'Numerická proměnná'!A605)","v":""}]
[{"$f":"IF('Numerická proměnná'!A606=\"\",\"\",'Numerická proměnná'!A606)","v":""}]
[{"$f":"IF('Numerická proměnná'!A607=\"\",\"\",'Numerická proměnná'!A607)","v":""}]
[{"$f":"IF('Numerická proměnná'!A608=\"\",\"\",'Numerická proměnná'!A608)","v":""}]
[{"$f":"IF('Numerická proměnná'!A609=\"\",\"\",'Numerická proměnná'!A609)","v":""}]
[{"$f":"IF('Numerická proměnná'!A610=\"\",\"\",'Numerická proměnná'!A610)","v":""}]
[{"$f":"IF('Numerická proměnná'!A611=\"\",\"\",'Numerická proměnná'!A611)","v":""}]
[{"$f":"IF('Numerická proměnná'!A612=\"\",\"\",'Numerická proměnná'!A612)","v":""}]
[{"$f":"IF('Numerická proměnná'!A613=\"\",\"\",'Numerická proměnná'!A613)","v":""}]
[{"$f":"IF('Numerická proměnná'!A614=\"\",\"\",'Numerická proměnná'!A614)","v":""}]
[{"$f":"IF('Numerická proměnná'!A615=\"\",\"\",'Numerická proměnná'!A615)","v":""}]
[{"$f":"IF('Numerická proměnná'!A616=\"\",\"\",'Numerická proměnná'!A616)","v":""}]
[{"$f":"IF('Numerická proměnná'!A617=\"\",\"\",'Numerická proměnná'!A617)","v":""}]
[{"$f":"IF('Numerická proměnná'!A618=\"\",\"\",'Numerická proměnná'!A618)","v":""}]
[{"$f":"IF('Numerická proměnná'!A619=\"\",\"\",'Numerická proměnná'!A619)","v":""}]
[{"$f":"IF('Numerická proměnná'!A620=\"\",\"\",'Numerická proměnná'!A620)","v":""}]
[{"$f":"IF('Numerická proměnná'!A621=\"\",\"\",'Numerická proměnná'!A621)","v":""}]
[{"$f":"IF('Numerická proměnná'!A622=\"\",\"\",'Numerická proměnná'!A622)","v":""}]
[{"$f":"IF('Numerická proměnná'!A623=\"\",\"\",'Numerická proměnná'!A623)","v":""}]
[{"$f":"IF('Numerická proměnná'!A624=\"\",\"\",'Numerická proměnná'!A624)","v":""}]
[{"$f":"IF('Numerická proměnná'!A625=\"\",\"\",'Numerická proměnná'!A625)","v":""}]
[{"$f":"IF('Numerická proměnná'!A626=\"\",\"\",'Numerická proměnná'!A626)","v":""}]
[{"$f":"IF('Numerická proměnná'!A627=\"\",\"\",'Numerická proměnná'!A627)","v":""}]
[{"$f":"IF('Numerická proměnná'!A628=\"\",\"\",'Numerická proměnná'!A628)","v":""}]
[{"$f":"IF('Numerická proměnná'!A629=\"\",\"\",'Numerická proměnná'!A629)","v":""}]
[{"$f":"IF('Numerická proměnná'!A630=\"\",\"\",'Numerická proměnná'!A630)","v":""}]
[{"$f":"IF('Numerická proměnná'!A631=\"\",\"\",'Numerická proměnná'!A631)","v":""}]
[{"$f":"IF('Numerická proměnná'!A632=\"\",\"\",'Numerická proměnná'!A632)","v":""}]
[{"$f":"IF('Numerická proměnná'!A633=\"\",\"\",'Numerická proměnná'!A633)","v":""}]
[{"$f":"IF('Numerická proměnná'!A634=\"\",\"\",'Numerická proměnná'!A634)","v":""}]
[{"$f":"IF('Numerická proměnná'!A635=\"\",\"\",'Numerická proměnná'!A635)","v":""}]
[{"$f":"IF('Numerická proměnná'!A636=\"\",\"\",'Numerická proměnná'!A636)","v":""}]
[{"$f":"IF('Numerická proměnná'!A637=\"\",\"\",'Numerická proměnná'!A637)","v":""}]
[{"$f":"IF('Numerická proměnná'!A638=\"\",\"\",'Numerická proměnná'!A638)","v":""}]
[{"$f":"IF('Numerická proměnná'!A639=\"\",\"\",'Numerická proměnná'!A639)","v":""}]
[{"$f":"IF('Numerická proměnná'!A640=\"\",\"\",'Numerická proměnná'!A640)","v":""}]
[{"$f":"IF('Numerická proměnná'!A641=\"\",\"\",'Numerická proměnná'!A641)","v":""}]
[{"$f":"IF('Numerická proměnná'!A642=\"\",\"\",'Numerická proměnná'!A642)","v":""}]
[{"$f":"IF('Numerická proměnná'!A643=\"\",\"\",'Numerická proměnná'!A643)","v":""}]
[{"$f":"IF('Numerická proměnná'!A644=\"\",\"\",'Numerická proměnná'!A644)","v":""}]
[{"$f":"IF('Numerická proměnná'!A645=\"\",\"\",'Numerická proměnná'!A645)","v":""}]
[{"$f":"IF('Numerická proměnná'!A646=\"\",\"\",'Numerická proměnná'!A646)","v":""}]
[{"$f":"IF('Numerická proměnná'!A647=\"\",\"\",'Numerická proměnná'!A647)","v":""}]
[{"$f":"IF('Numerická proměnná'!A648=\"\",\"\",'Numerická proměnná'!A648)","v":""}]
[{"$f":"IF('Numerická proměnná'!A649=\"\",\"\",'Numerická proměnná'!A649)","v":""}]
[{"$f":"IF('Numerická proměnná'!A650=\"\",\"\",'Numerická proměnná'!A650)","v":""}]
[{"$f":"IF('Numerická proměnná'!A651=\"\",\"\",'Numerická proměnná'!A651)","v":""}]
[{"$f":"IF('Numerická proměnná'!A652=\"\",\"\",'Numerická proměnná'!A652)","v":""}]
[{"$f":"IF('Numerická proměnná'!A653=\"\",\"\",'Numerická proměnná'!A653)","v":""}]
[{"$f":"IF('Numerická proměnná'!A654=\"\",\"\",'Numerická proměnná'!A654)","v":""}]
[{"$f":"IF('Numerická proměnná'!A655=\"\",\"\",'Numerická proměnná'!A655)","v":""}]
[{"$f":"IF('Numerická proměnná'!A656=\"\",\"\",'Numerická proměnná'!A656)","v":""}]
[{"$f":"IF('Numerická proměnná'!A657=\"\",\"\",'Numerická proměnná'!A657)","v":""}]
[{"$f":"IF('Numerická proměnná'!A658=\"\",\"\",'Numerická proměnná'!A658)","v":""}]
[{"$f":"IF('Numerická proměnná'!A659=\"\",\"\",'Numerická proměnná'!A659)","v":""}]
[{"$f":"IF('Numerická proměnná'!A660=\"\",\"\",'Numerická proměnná'!A660)","v":""}]
[{"$f":"IF('Numerická proměnná'!A661=\"\",\"\",'Numerická proměnná'!A661)","v":""}]
[{"$f":"IF('Numerická proměnná'!A662=\"\",\"\",'Numerická proměnná'!A662)","v":""}]
[{"$f":"IF('Numerická proměnná'!A663=\"\",\"\",'Numerická proměnná'!A663)","v":""}]
[{"$f":"IF('Numerická proměnná'!A664=\"\",\"\",'Numerická proměnná'!A664)","v":""}]
[{"$f":"IF('Numerická proměnná'!A665=\"\",\"\",'Numerická proměnná'!A665)","v":""}]
[{"$f":"IF('Numerická proměnná'!A666=\"\",\"\",'Numerická proměnná'!A666)","v":""}]
[{"$f":"IF('Numerická proměnná'!A667=\"\",\"\",'Numerická proměnná'!A667)","v":""}]
[{"$f":"IF('Numerická proměnná'!A668=\"\",\"\",'Numerická proměnná'!A668)","v":""}]
[{"$f":"IF('Numerická proměnná'!A669=\"\",\"\",'Numerická proměnná'!A669)","v":""}]
[{"$f":"IF('Numerická proměnná'!A670=\"\",\"\",'Numerická proměnná'!A670)","v":""}]
[{"$f":"IF('Numerická proměnná'!A671=\"\",\"\",'Numerická proměnná'!A671)","v":""}]
[{"$f":"IF('Numerická proměnná'!A672=\"\",\"\",'Numerická proměnná'!A672)","v":""}]
[{"$f":"IF('Numerická proměnná'!A673=\"\",\"\",'Numerická proměnná'!A673)","v":""}]
[{"$f":"IF('Numerická proměnná'!A674=\"\",\"\",'Numerická proměnná'!A674)","v":""}]
[{"$f":"IF('Numerická proměnná'!A675=\"\",\"\",'Numerická proměnná'!A675)","v":""}]
[{"$f":"IF('Numerická proměnná'!A676=\"\",\"\",'Numerická proměnná'!A676)","v":""}]
[{"$f":"IF('Numerická proměnná'!A677=\"\",\"\",'Numerická proměnná'!A677)","v":""}]
[{"$f":"IF('Numerická proměnná'!A678=\"\",\"\",'Numerická proměnná'!A678)","v":""}]
[{"$f":"IF('Numerická proměnná'!A679=\"\",\"\",'Numerická proměnná'!A679)","v":""}]
[{"$f":"IF('Numerická proměnná'!A680=\"\",\"\",'Numerická proměnná'!A680)","v":""}]
[{"$f":"IF('Numerická proměnná'!A681=\"\",\"\",'Numerická proměnná'!A681)","v":""}]
[{"$f":"IF('Numerická proměnná'!A682=\"\",\"\",'Numerická proměnná'!A682)","v":""}]
[{"$f":"IF('Numerická proměnná'!A683=\"\",\"\",'Numerická proměnná'!A683)","v":""}]
[{"$f":"IF('Numerická proměnná'!A684=\"\",\"\",'Numerická proměnná'!A684)","v":""}]
[{"$f":"IF('Numerická proměnná'!A685=\"\",\"\",'Numerická proměnná'!A685)","v":""}]
[{"$f":"IF('Numerická proměnná'!A686=\"\",\"\",'Numerická proměnná'!A686)","v":""}]
[{"$f":"IF('Numerická proměnná'!A687=\"\",\"\",'Numerická proměnná'!A687)","v":""}]
[{"$f":"IF('Numerická proměnná'!A688=\"\",\"\",'Numerická proměnná'!A688)","v":""}]
[{"$f":"IF('Numerická proměnná'!A689=\"\",\"\",'Numerická proměnná'!A689)","v":""}]
[{"$f":"IF('Numerická proměnná'!A690=\"\",\"\",'Numerická proměnná'!A690)","v":""}]
[{"$f":"IF('Numerická proměnná'!A691=\"\",\"\",'Numerická proměnná'!A691)","v":""}]
[{"$f":"IF('Numerická proměnná'!A692=\"\",\"\",'Numerická proměnná'!A692)","v":""}]
[{"$f":"IF('Numerická proměnná'!A693=\"\",\"\",'Numerická proměnná'!A693)","v":""}]
[{"$f":"IF('Numerická proměnná'!A694=\"\",\"\",'Numerická proměnná'!A694)","v":""}]
[{"$f":"IF('Numerická proměnná'!A695=\"\",\"\",'Numerická proměnná'!A695)","v":""}]
[{"$f":"IF('Numerická proměnná'!A696=\"\",\"\",'Numerická proměnná'!A696)","v":""}]
[{"$f":"IF('Numerická proměnná'!A697=\"\",\"\",'Numerická proměnná'!A697)","v":""}]
[{"$f":"IF('Numerická proměnná'!A698=\"\",\"\",'Numerická proměnná'!A698)","v":""}]
[{"$f":"IF('Numerická proměnná'!A699=\"\",\"\",'Numerická proměnná'!A699)","v":""}]
[{"$f":"IF('Numerická proměnná'!A700=\"\",\"\",'Numerická proměnná'!A700)","v":""}]
[{"$f":"IF('Numerická proměnná'!A701=\"\",\"\",'Numerická proměnná'!A701)","v":""}]
[{"$f":"IF('Numerická proměnná'!A702=\"\",\"\",'Numerická proměnná'!A702)","v":""}]
[{"$f":"IF('Numerická proměnná'!A703=\"\",\"\",'Numerická proměnná'!A703)","v":""}]
[{"$f":"IF('Numerická proměnná'!A704=\"\",\"\",'Numerická proměnná'!A704)","v":""}]
[{"$f":"IF('Numerická proměnná'!A705=\"\",\"\",'Numerická proměnná'!A705)","v":""}]
[{"$f":"IF('Numerická proměnná'!A706=\"\",\"\",'Numerická proměnná'!A706)","v":""}]
[{"$f":"IF('Numerická proměnná'!A707=\"\",\"\",'Numerická proměnná'!A707)","v":""}]
[{"$f":"IF('Numerická proměnná'!A708=\"\",\"\",'Numerická proměnná'!A708)","v":""}]
[{"$f":"IF('Numerická proměnná'!A709=\"\",\"\",'Numerická proměnná'!A709)","v":""}]
[{"$f":"IF('Numerická proměnná'!A710=\"\",\"\",'Numerická proměnná'!A710)","v":""}]
[{"$f":"IF('Numerická proměnná'!A711=\"\",\"\",'Numerická proměnná'!A711)","v":""}]
[{"$f":"IF('Numerická proměnná'!A712=\"\",\"\",'Numerická proměnná'!A712)","v":""}]
[{"$f":"IF('Numerická proměnná'!A713=\"\",\"\",'Numerická proměnná'!A713)","v":""}]
[{"$f":"IF('Numerická proměnná'!A714=\"\",\"\",'Numerická proměnná'!A714)","v":""}]
[{"$f":"IF('Numerická proměnná'!A715=\"\",\"\",'Numerická proměnná'!A715)","v":""}]
[{"$f":"IF('Numerická proměnná'!A716=\"\",\"\",'Numerická proměnná'!A716)","v":""}]
[{"$f":"IF('Numerická proměnná'!A717=\"\",\"\",'Numerická proměnná'!A717)","v":""}]
[{"$f":"IF('Numerická proměnná'!A718=\"\",\"\",'Numerická proměnná'!A718)","v":""}]
[{"$f":"IF('Numerická proměnná'!A719=\"\",\"\",'Numerická proměnná'!A719)","v":""}]
[{"$f":"IF('Numerická proměnná'!A720=\"\",\"\",'Numerická proměnná'!A720)","v":""}]
[{"$f":"IF('Numerická proměnná'!A721=\"\",\"\",'Numerická proměnná'!A721)","v":""}]
[{"$f":"IF('Numerická proměnná'!A722=\"\",\"\",'Numerická proměnná'!A722)","v":""}]
[{"$f":"IF('Numerická proměnná'!A723=\"\",\"\",'Numerická proměnná'!A723)","v":""}]
[{"$f":"IF('Numerická proměnná'!A724=\"\",\"\",'Numerická proměnná'!A724)","v":""}]
[{"$f":"IF('Numerická proměnná'!A725=\"\",\"\",'Numerická proměnná'!A725)","v":""}]
[{"$f":"IF('Numerická proměnná'!A726=\"\",\"\",'Numerická proměnná'!A726)","v":""}]
[{"$f":"IF('Numerická proměnná'!A727=\"\",\"\",'Numerická proměnná'!A727)","v":""}]
[{"$f":"IF('Numerická proměnná'!A728=\"\",\"\",'Numerická proměnná'!A728)","v":""}]
[{"$f":"IF('Numerická proměnná'!A729=\"\",\"\",'Numerická proměnná'!A729)","v":""}]
[{"$f":"IF('Numerická proměnná'!A730=\"\",\"\",'Numerická proměnná'!A730)","v":""}]
[{"$f":"IF('Numerická proměnná'!A731=\"\",\"\",'Numerická proměnná'!A731)","v":""}]
[{"$f":"IF('Numerická proměnná'!A732=\"\",\"\",'Numerická proměnná'!A732)","v":""}]
[{"$f":"IF('Numerická proměnná'!A733=\"\",\"\",'Numerická proměnná'!A733)","v":""}]
[{"$f":"IF('Numerická proměnná'!A734=\"\",\"\",'Numerická proměnná'!A734)","v":""}]
[{"$f":"IF('Numerická proměnná'!A735=\"\",\"\",'Numerická proměnná'!A735)","v":""}]
[{"$f":"IF('Numerická proměnná'!A736=\"\",\"\",'Numerická proměnná'!A736)","v":""}]
[{"$f":"IF('Numerická proměnná'!A737=\"\",\"\",'Numerická proměnná'!A737)","v":""}]
[{"$f":"IF('Numerická proměnná'!A738=\"\",\"\",'Numerická proměnná'!A738)","v":""}]
[{"$f":"IF('Numerická proměnná'!A739=\"\",\"\",'Numerická proměnná'!A739)","v":""}]
[{"$f":"IF('Numerická proměnná'!A740=\"\",\"\",'Numerická proměnná'!A740)","v":""}]
[{"$f":"IF('Numerická proměnná'!A741=\"\",\"\",'Numerická proměnná'!A741)","v":""}]
[{"$f":"IF('Numerická proměnná'!A742=\"\",\"\",'Numerická proměnná'!A742)","v":""}]
[{"$f":"IF('Numerická proměnná'!A743=\"\",\"\",'Numerická proměnná'!A743)","v":""}]
[{"$f":"IF('Numerická proměnná'!A744=\"\",\"\",'Numerická proměnná'!A744)","v":""}]
[{"$f":"IF('Numerická proměnná'!A745=\"\",\"\",'Numerická proměnná'!A745)","v":""}]
[{"$f":"IF('Numerická proměnná'!A746=\"\",\"\",'Numerická proměnná'!A746)","v":""}]
[{"$f":"IF('Numerická proměnná'!A747=\"\",\"\",'Numerická proměnná'!A747)","v":""}]
[{"$f":"IF('Numerická proměnná'!A748=\"\",\"\",'Numerická proměnná'!A748)","v":""}]
[{"$f":"IF('Numerická proměnná'!A749=\"\",\"\",'Numerická proměnná'!A749)","v":""}]
[{"$f":"IF('Numerická proměnná'!A750=\"\",\"\",'Numerická proměnná'!A750)","v":""}]
[{"$f":"IF('Numerická proměnná'!A751=\"\",\"\",'Numerická proměnná'!A751)","v":""}]
[{"$f":"IF('Numerická proměnná'!A752=\"\",\"\",'Numerická proměnná'!A752)","v":""}]
[{"$f":"IF('Numerická proměnná'!A753=\"\",\"\",'Numerická proměnná'!A753)","v":""}]
[{"$f":"IF('Numerická proměnná'!A754=\"\",\"\",'Numerická proměnná'!A754)","v":""}]
[{"$f":"IF('Numerická proměnná'!A755=\"\",\"\",'Numerická proměnná'!A755)","v":""}]
[{"$f":"IF('Numerická proměnná'!A756=\"\",\"\",'Numerická proměnná'!A756)","v":""}]
[{"$f":"IF('Numerická proměnná'!A757=\"\",\"\",'Numerická proměnná'!A757)","v":""}]
[{"$f":"IF('Numerická proměnná'!A758=\"\",\"\",'Numerická proměnná'!A758)","v":""}]
[{"$f":"IF('Numerická proměnná'!A759=\"\",\"\",'Numerická proměnná'!A759)","v":""}]
[{"$f":"IF('Numerická proměnná'!A760=\"\",\"\",'Numerická proměnná'!A760)","v":""}]
[{"$f":"IF('Numerická proměnná'!A761=\"\",\"\",'Numerická proměnná'!A761)","v":""}]
[{"$f":"IF('Numerická proměnná'!A762=\"\",\"\",'Numerická proměnná'!A762)","v":""}]
[{"$f":"IF('Numerická proměnná'!A763=\"\",\"\",'Numerická proměnná'!A763)","v":""}]
[{"$f":"IF('Numerická proměnná'!A764=\"\",\"\",'Numerická proměnná'!A764)","v":""}]
[{"$f":"IF('Numerická proměnná'!A765=\"\",\"\",'Numerická proměnná'!A765)","v":""}]
[{"$f":"IF('Numerická proměnná'!A766=\"\",\"\",'Numerická proměnná'!A766)","v":""}]
[{"$f":"IF('Numerická proměnná'!A767=\"\",\"\",'Numerická proměnná'!A767)","v":""}]
[{"$f":"IF('Numerická proměnná'!A768=\"\",\"\",'Numerická proměnná'!A768)","v":""}]
[{"$f":"IF('Numerická proměnná'!A769=\"\",\"\",'Numerická proměnná'!A769)","v":""}]
[{"$f":"IF('Numerická proměnná'!A770=\"\",\"\",'Numerická proměnná'!A770)","v":""}]
[{"$f":"IF('Numerická proměnná'!A771=\"\",\"\",'Numerická proměnná'!A771)","v":""}]
[{"$f":"IF('Numerická proměnná'!A772=\"\",\"\",'Numerická proměnná'!A772)","v":""}]
[{"$f":"IF('Numerická proměnná'!A773=\"\",\"\",'Numerická proměnná'!A773)","v":""}]
[{"$f":"IF('Numerická proměnná'!A774=\"\",\"\",'Numerická proměnná'!A774)","v":""}]
[{"$f":"IF('Numerická proměnná'!A775=\"\",\"\",'Numerická proměnná'!A775)","v":""}]
[{"$f":"IF('Numerická proměnná'!A776=\"\",\"\",'Numerická proměnná'!A776)","v":""}]
[{"$f":"IF('Numerická proměnná'!A777=\"\",\"\",'Numerická proměnná'!A777)","v":""}]
[{"$f":"IF('Numerická proměnná'!A778=\"\",\"\",'Numerická proměnná'!A778)","v":""}]
[{"$f":"IF('Numerická proměnná'!A779=\"\",\"\",'Numerická proměnná'!A779)","v":""}]
[{"$f":"IF('Numerická proměnná'!A780=\"\",\"\",'Numerická proměnná'!A780)","v":""}]
[{"$f":"IF('Numerická proměnná'!A781=\"\",\"\",'Numerická proměnná'!A781)","v":""}]
[{"$f":"IF('Numerická proměnná'!A782=\"\",\"\",'Numerická proměnná'!A782)","v":""}]
[{"$f":"IF('Numerická proměnná'!A783=\"\",\"\",'Numerická proměnná'!A783)","v":""}]
[{"$f":"IF('Numerická proměnná'!A784=\"\",\"\",'Numerická proměnná'!A784)","v":""}]
[{"$f":"IF('Numerická proměnná'!A785=\"\",\"\",'Numerická proměnná'!A785)","v":""}]
[{"$f":"IF('Numerická proměnná'!A786=\"\",\"\",'Numerická proměnná'!A786)","v":""}]
[{"$f":"IF('Numerická proměnná'!A787=\"\",\"\",'Numerická proměnná'!A787)","v":""}]
[{"$f":"IF('Numerická proměnná'!A788=\"\",\"\",'Numerická proměnná'!A788)","v":""}]
[{"$f":"IF('Numerická proměnná'!A789=\"\",\"\",'Numerická proměnná'!A789)","v":""}]
[{"$f":"IF('Numerická proměnná'!A790=\"\",\"\",'Numerická proměnná'!A790)","v":""}]
[{"$f":"IF('Numerická proměnná'!A791=\"\",\"\",'Numerická proměnná'!A791)","v":""}]
[{"$f":"IF('Numerická proměnná'!A792=\"\",\"\",'Numerická proměnná'!A792)","v":""}]
[{"$f":"IF('Numerická proměnná'!A793=\"\",\"\",'Numerická proměnná'!A793)","v":""}]
[{"$f":"IF('Numerická proměnná'!A794=\"\",\"\",'Numerická proměnná'!A794)","v":""}]
[{"$f":"IF('Numerická proměnná'!A795=\"\",\"\",'Numerická proměnná'!A795)","v":""}]
[{"$f":"IF('Numerická proměnná'!A796=\"\",\"\",'Numerická proměnná'!A796)","v":""}]
[{"$f":"IF('Numerická proměnná'!A797=\"\",\"\",'Numerická proměnná'!A797)","v":""}]
[{"$f":"IF('Numerická proměnná'!A798=\"\",\"\",'Numerická proměnná'!A798)","v":""}]
[{"$f":"IF('Numerická proměnná'!A799=\"\",\"\",'Numerická proměnná'!A799)","v":""}]
[{"$f":"IF('Numerická proměnná'!A800=\"\",\"\",'Numerická proměnná'!A800)","v":""}]
[{"$f":"IF('Numerická proměnná'!A801=\"\",\"\",'Numerická proměnná'!A801)","v":""}]
[{"$f":"IF('Numerická proměnná'!A802=\"\",\"\",'Numerická proměnná'!A802)","v":""}]
[{"$f":"IF('Numerická proměnná'!A803=\"\",\"\",'Numerická proměnná'!A803)","v":""}]
[{"$f":"IF('Numerická proměnná'!A804=\"\",\"\",'Numerická proměnná'!A804)","v":""}]
[{"$f":"IF('Numerická proměnná'!A805=\"\",\"\",'Numerická proměnná'!A805)","v":""}]
[{"$f":"IF('Numerická proměnná'!A806=\"\",\"\",'Numerická proměnná'!A806)","v":""}]
[{"$f":"IF('Numerická proměnná'!A807=\"\",\"\",'Numerická proměnná'!A807)","v":""}]
[{"$f":"IF('Numerická proměnná'!A808=\"\",\"\",'Numerická proměnná'!A808)","v":""}]
[{"$f":"IF('Numerická proměnná'!A809=\"\",\"\",'Numerická proměnná'!A809)","v":""}]
[{"$f":"IF('Numerická proměnná'!A810=\"\",\"\",'Numerická proměnná'!A810)","v":""}]
[{"$f":"IF('Numerická proměnná'!A811=\"\",\"\",'Numerická proměnná'!A811)","v":""}]
[{"$f":"IF('Numerická proměnná'!A812=\"\",\"\",'Numerická proměnná'!A812)","v":""}]
[{"$f":"IF('Numerická proměnná'!A813=\"\",\"\",'Numerická proměnná'!A813)","v":""}]
[{"$f":"IF('Numerická proměnná'!A814=\"\",\"\",'Numerická proměnná'!A814)","v":""}]
[{"$f":"IF('Numerická proměnná'!A815=\"\",\"\",'Numerická proměnná'!A815)","v":""}]
[{"$f":"IF('Numerická proměnná'!A816=\"\",\"\",'Numerická proměnná'!A816)","v":""}]
[{"$f":"IF('Numerická proměnná'!A817=\"\",\"\",'Numerická proměnná'!A817)","v":""}]
[{"$f":"IF('Numerická proměnná'!A818=\"\",\"\",'Numerická proměnná'!A818)","v":""}]
[{"$f":"IF('Numerická proměnná'!A819=\"\",\"\",'Numerická proměnná'!A819)","v":""}]
[{"$f":"IF('Numerická proměnná'!A820=\"\",\"\",'Numerická proměnná'!A820)","v":""}]
[{"$f":"IF('Numerická proměnná'!A821=\"\",\"\",'Numerická proměnná'!A821)","v":""}]
[{"$f":"IF('Numerická proměnná'!A822=\"\",\"\",'Numerická proměnná'!A822)","v":""}]
[{"$f":"IF('Numerická proměnná'!A823=\"\",\"\",'Numerická proměnná'!A823)","v":""}]
[{"$f":"IF('Numerická proměnná'!A824=\"\",\"\",'Numerická proměnná'!A824)","v":""}]
[{"$f":"IF('Numerická proměnná'!A825=\"\",\"\",'Numerická proměnná'!A825)","v":""}]
[{"$f":"IF('Numerická proměnná'!A826=\"\",\"\",'Numerická proměnná'!A826)","v":""}]
[{"$f":"IF('Numerická proměnná'!A827=\"\",\"\",'Numerická proměnná'!A827)","v":""}]
[{"$f":"IF('Numerická proměnná'!A828=\"\",\"\",'Numerická proměnná'!A828)","v":""}]
[{"$f":"IF('Numerická proměnná'!A829=\"\",\"\",'Numerická proměnná'!A829)","v":""}]
[{"$f":"IF('Numerická proměnná'!A830=\"\",\"\",'Numerická proměnná'!A830)","v":""}]
[{"$f":"IF('Numerická proměnná'!A831=\"\",\"\",'Numerická proměnná'!A831)","v":""}]
[{"$f":"IF('Numerická proměnná'!A832=\"\",\"\",'Numerická proměnná'!A832)","v":""}]
[{"$f":"IF('Numerická proměnná'!A833=\"\",\"\",'Numerická proměnná'!A833)","v":""}]
[{"$f":"IF('Numerická proměnná'!A834=\"\",\"\",'Numerická proměnná'!A834)","v":""}]
[{"$f":"IF('Numerická proměnná'!A835=\"\",\"\",'Numerická proměnná'!A835)","v":""}]
[{"$f":"IF('Numerická proměnná'!A836=\"\",\"\",'Numerická proměnná'!A836)","v":""}]
[{"$f":"IF('Numerická proměnná'!A837=\"\",\"\",'Numerická proměnná'!A837)","v":""}]
[{"$f":"IF('Numerická proměnná'!A838=\"\",\"\",'Numerická proměnná'!A838)","v":""}]
[{"$f":"IF('Numerická proměnná'!A839=\"\",\"\",'Numerická proměnná'!A839)","v":""}]
[{"$f":"IF('Numerická proměnná'!A840=\"\",\"\",'Numerická proměnná'!A840)","v":""}]
[{"$f":"IF('Numerická proměnná'!A841=\"\",\"\",'Numerická proměnná'!A841)","v":""}]
[{"$f":"IF('Numerická proměnná'!A842=\"\",\"\",'Numerická proměnná'!A842)","v":""}]
[{"$f":"IF('Numerická proměnná'!A843=\"\",\"\",'Numerická proměnná'!A843)","v":""}]
[{"$f":"IF('Numerická proměnná'!A844=\"\",\"\",'Numerická proměnná'!A844)","v":""}]
[{"$f":"IF('Numerická proměnná'!A845=\"\",\"\",'Numerická proměnná'!A845)","v":""}]
[{"$f":"IF('Numerická proměnná'!A846=\"\",\"\",'Numerická proměnná'!A846)","v":""}]
[{"$f":"IF('Numerická proměnná'!A847=\"\",\"\",'Numerická proměnná'!A847)","v":""}]
[{"$f":"IF('Numerická proměnná'!A848=\"\",\"\",'Numerická proměnná'!A848)","v":""}]
[{"$f":"IF('Numerická proměnná'!A849=\"\",\"\",'Numerická proměnná'!A849)","v":""}]
[{"$f":"IF('Numerická proměnná'!A850=\"\",\"\",'Numerická proměnná'!A850)","v":""}]
[{"$f":"IF('Numerická proměnná'!A851=\"\",\"\",'Numerická proměnná'!A851)","v":""}]
[{"$f":"IF('Numerická proměnná'!A852=\"\",\"\",'Numerická proměnná'!A852)","v":""}]
[{"$f":"IF('Numerická proměnná'!A853=\"\",\"\",'Numerická proměnná'!A853)","v":""}]
[{"$f":"IF('Numerická proměnná'!A854=\"\",\"\",'Numerická proměnná'!A854)","v":""}]
[{"$f":"IF('Numerická proměnná'!A855=\"\",\"\",'Numerická proměnná'!A855)","v":""}]
[{"$f":"IF('Numerická proměnná'!A856=\"\",\"\",'Numerická proměnná'!A856)","v":""}]
[{"$f":"IF('Numerická proměnná'!A857=\"\",\"\",'Numerická proměnná'!A857)","v":""}]
[{"$f":"IF('Numerická proměnná'!A858=\"\",\"\",'Numerická proměnná'!A858)","v":""}]
[{"$f":"IF('Numerická proměnná'!A859=\"\",\"\",'Numerická proměnná'!A859)","v":""}]
[{"$f":"IF('Numerická proměnná'!A860=\"\",\"\",'Numerická proměnná'!A860)","v":""}]
[{"$f":"IF('Numerická proměnná'!A861=\"\",\"\",'Numerická proměnná'!A861)","v":""}]
[{"$f":"IF('Numerická proměnná'!A862=\"\",\"\",'Numerická proměnná'!A862)","v":""}]
[{"$f":"IF('Numerická proměnná'!A863=\"\",\"\",'Numerická proměnná'!A863)","v":""}]
[{"$f":"IF('Numerická proměnná'!A864=\"\",\"\",'Numerická proměnná'!A864)","v":""}]
[{"$f":"IF('Numerická proměnná'!A865=\"\",\"\",'Numerická proměnná'!A865)","v":""}]
[{"$f":"IF('Numerická proměnná'!A866=\"\",\"\",'Numerická proměnná'!A866)","v":""}]
[{"$f":"IF('Numerická proměnná'!A867=\"\",\"\",'Numerická proměnná'!A867)","v":""}]
[{"$f":"IF('Numerická proměnná'!A868=\"\",\"\",'Numerická proměnná'!A868)","v":""}]
[{"$f":"IF('Numerická proměnná'!A869=\"\",\"\",'Numerická proměnná'!A869)","v":""}]
[{"$f":"IF('Numerická proměnná'!A870=\"\",\"\",'Numerická proměnná'!A870)","v":""}]
[{"$f":"IF('Numerická proměnná'!A871=\"\",\"\",'Numerická proměnná'!A871)","v":""}]
[{"$f":"IF('Numerická proměnná'!A872=\"\",\"\",'Numerická proměnná'!A872)","v":""}]
[{"$f":"IF('Numerická proměnná'!A873=\"\",\"\",'Numerická proměnná'!A873)","v":""}]
[{"$f":"IF('Numerická proměnná'!A874=\"\",\"\",'Numerická proměnná'!A874)","v":""}]
[{"$f":"IF('Numerická proměnná'!A875=\"\",\"\",'Numerická proměnná'!A875)","v":""}]
[{"$f":"IF('Numerická proměnná'!A876=\"\",\"\",'Numerická proměnná'!A876)","v":""}]
[{"$f":"IF('Numerická proměnná'!A877=\"\",\"\",'Numerická proměnná'!A877)","v":""}]
[{"$f":"IF('Numerická proměnná'!A878=\"\",\"\",'Numerická proměnná'!A878)","v":""}]
[{"$f":"IF('Numerická proměnná'!A879=\"\",\"\",'Numerická proměnná'!A879)","v":""}]
[{"$f":"IF('Numerická proměnná'!A880=\"\",\"\",'Numerická proměnná'!A880)","v":""}]
[{"$f":"IF('Numerická proměnná'!A881=\"\",\"\",'Numerická proměnná'!A881)","v":""}]
[{"$f":"IF('Numerická proměnná'!A882=\"\",\"\",'Numerická proměnná'!A882)","v":""}]
[{"$f":"IF('Numerická proměnná'!A883=\"\",\"\",'Numerická proměnná'!A883)","v":""}]
[{"$f":"IF('Numerická proměnná'!A884=\"\",\"\",'Numerická proměnná'!A884)","v":""}]
[{"$f":"IF('Numerická proměnná'!A885=\"\",\"\",'Numerická proměnná'!A885)","v":""}]
[{"$f":"IF('Numerická proměnná'!A886=\"\",\"\",'Numerická proměnná'!A886)","v":""}]
[{"$f":"IF('Numerická proměnná'!A887=\"\",\"\",'Numerická proměnná'!A887)","v":""}]
[{"$f":"IF('Numerická proměnná'!A888=\"\",\"\",'Numerická proměnná'!A888)","v":""}]
[{"$f":"IF('Numerická proměnná'!A889=\"\",\"\",'Numerická proměnná'!A889)","v":""}]
[{"$f":"IF('Numerická proměnná'!A890=\"\",\"\",'Numerická proměnná'!A890)","v":""}]
[{"$f":"IF('Numerická proměnná'!A891=\"\",\"\",'Numerická proměnná'!A891)","v":""}]
[{"$f":"IF('Numerická proměnná'!A892=\"\",\"\",'Numerická proměnná'!A892)","v":""}]
[{"$f":"IF('Numerická proměnná'!A893=\"\",\"\",'Numerická proměnná'!A893)","v":""}]
[{"$f":"IF('Numerická proměnná'!A894=\"\",\"\",'Numerická proměnná'!A894)","v":""}]
[{"$f":"IF('Numerická proměnná'!A895=\"\",\"\",'Numerická proměnná'!A895)","v":""}]
[{"$f":"IF('Numerická proměnná'!A896=\"\",\"\",'Numerická proměnná'!A896)","v":""}]
[{"$f":"IF('Numerická proměnná'!A897=\"\",\"\",'Numerická proměnná'!A897)","v":""}]
[{"$f":"IF('Numerická proměnná'!A898=\"\",\"\",'Numerická proměnná'!A898)","v":""}]
[{"$f":"IF('Numerická proměnná'!A899=\"\",\"\",'Numerická proměnná'!A899)","v":""}]
[{"$f":"IF('Numerická proměnná'!A900=\"\",\"\",'Numerická proměnná'!A900)","v":""}]
[{"$f":"IF('Numerická proměnná'!A901=\"\",\"\",'Numerická proměnná'!A901)","v":""}]
[{"$f":"IF('Numerická proměnná'!A902=\"\",\"\",'Numerická proměnná'!A902)","v":""}]
[{"$f":"IF('Numerická proměnná'!A903=\"\",\"\",'Numerická proměnná'!A903)","v":""}]
[{"$f":"IF('Numerická proměnná'!A904=\"\",\"\",'Numerická proměnná'!A904)","v":""}]
[{"$f":"IF('Numerická proměnná'!A905=\"\",\"\",'Numerická proměnná'!A905)","v":""}]
[{"$f":"IF('Numerická proměnná'!A906=\"\",\"\",'Numerická proměnná'!A906)","v":""}]
[{"$f":"IF('Numerická proměnná'!A907=\"\",\"\",'Numerická proměnná'!A907)","v":""}]
[{"$f":"IF('Numerická proměnná'!A908=\"\",\"\",'Numerická proměnná'!A908)","v":""}]
[{"$f":"IF('Numerická proměnná'!A909=\"\",\"\",'Numerická proměnná'!A909)","v":""}]
[{"$f":"IF('Numerická proměnná'!A910=\"\",\"\",'Numerická proměnná'!A910)","v":""}]
[{"$f":"IF('Numerická proměnná'!A911=\"\",\"\",'Numerická proměnná'!A911)","v":""}]
[{"$f":"IF('Numerická proměnná'!A912=\"\",\"\",'Numerická proměnná'!A912)","v":""}]
[{"$f":"IF('Numerická proměnná'!A913=\"\",\"\",'Numerická proměnná'!A913)","v":""}]
[{"$f":"IF('Numerická proměnná'!A914=\"\",\"\",'Numerická proměnná'!A914)","v":""}]
[{"$f":"IF('Numerická proměnná'!A915=\"\",\"\",'Numerická proměnná'!A915)","v":""}]
[{"$f":"IF('Numerická proměnná'!A916=\"\",\"\",'Numerická proměnná'!A916)","v":""}]
[{"$f":"IF('Numerická proměnná'!A917=\"\",\"\",'Numerická proměnná'!A917)","v":""}]
[{"$f":"IF('Numerická proměnná'!A918=\"\",\"\",'Numerická proměnná'!A918)","v":""}]
[{"$f":"IF('Numerická proměnná'!A919=\"\",\"\",'Numerická proměnná'!A919)","v":""}]
[{"$f":"IF('Numerická proměnná'!A920=\"\",\"\",'Numerická proměnná'!A920)","v":""}]
[{"$f":"IF('Numerická proměnná'!A921=\"\",\"\",'Numerická proměnná'!A921)","v":""}]
[{"$f":"IF('Numerická proměnná'!A922=\"\",\"\",'Numerická proměnná'!A922)","v":""}]
[{"$f":"IF('Numerická proměnná'!A923=\"\",\"\",'Numerická proměnná'!A923)","v":""}]
[{"$f":"IF('Numerická proměnná'!A924=\"\",\"\",'Numerická proměnná'!A924)","v":""}]
[{"$f":"IF('Numerická proměnná'!A925=\"\",\"\",'Numerická proměnná'!A925)","v":""}]
[{"$f":"IF('Numerická proměnná'!A926=\"\",\"\",'Numerická proměnná'!A926)","v":""}]
[{"$f":"IF('Numerická proměnná'!A927=\"\",\"\",'Numerická proměnná'!A927)","v":""}]
[{"$f":"IF('Numerická proměnná'!A928=\"\",\"\",'Numerická proměnná'!A928)","v":""}]
[{"$f":"IF('Numerická proměnná'!A929=\"\",\"\",'Numerická proměnná'!A929)","v":""}]
[{"$f":"IF('Numerická proměnná'!A930=\"\",\"\",'Numerická proměnná'!A930)","v":""}]
[{"$f":"IF('Numerická proměnná'!A931=\"\",\"\",'Numerická proměnná'!A931)","v":""}]
[{"$f":"IF('Numerická proměnná'!A932=\"\",\"\",'Numerická proměnná'!A932)","v":""}]
[{"$f":"IF('Numerická proměnná'!A933=\"\",\"\",'Numerická proměnná'!A933)","v":""}]
[{"$f":"IF('Numerická proměnná'!A934=\"\",\"\",'Numerická proměnná'!A934)","v":""}]
[{"$f":"IF('Numerická proměnná'!A935=\"\",\"\",'Numerická proměnná'!A935)","v":""}]
[{"$f":"IF('Numerická proměnná'!A936=\"\",\"\",'Numerická proměnná'!A936)","v":""}]
[{"$f":"IF('Numerická proměnná'!A937=\"\",\"\",'Numerická proměnná'!A937)","v":""}]
[{"$f":"IF('Numerická proměnná'!A938=\"\",\"\",'Numerická proměnná'!A938)","v":""}]
[{"$f":"IF('Numerická proměnná'!A939=\"\",\"\",'Numerická proměnná'!A939)","v":""}]
[{"$f":"IF('Numerická proměnná'!A940=\"\",\"\",'Numerická proměnná'!A940)","v":""}]
[{"$f":"IF('Numerická proměnná'!A941=\"\",\"\",'Numerická proměnná'!A941)","v":""}]
[{"$f":"IF('Numerická proměnná'!A942=\"\",\"\",'Numerická proměnná'!A942)","v":""}]
[{"$f":"IF('Numerická proměnná'!A943=\"\",\"\",'Numerická proměnná'!A943)","v":""}]
[{"$f":"IF('Numerická proměnná'!A944=\"\",\"\",'Numerická proměnná'!A944)","v":""}]
[{"$f":"IF('Numerická proměnná'!A945=\"\",\"\",'Numerická proměnná'!A945)","v":""}]
[{"$f":"IF('Numerická proměnná'!A946=\"\",\"\",'Numerická proměnná'!A946)","v":""}]
[{"$f":"IF('Numerická proměnná'!A947=\"\",\"\",'Numerická proměnná'!A947)","v":""}]
[{"$f":"IF('Numerická proměnná'!A948=\"\",\"\",'Numerická proměnná'!A948)","v":""}]
[{"$f":"IF('Numerická proměnná'!A949=\"\",\"\",'Numerická proměnná'!A949)","v":""}]
[{"$f":"IF('Numerická proměnná'!A950=\"\",\"\",'Numerická proměnná'!A950)","v":""}]
[{"$f":"IF('Numerická proměnná'!A951=\"\",\"\",'Numerická proměnná'!A951)","v":""}]
[{"$f":"IF('Numerická proměnná'!A952=\"\",\"\",'Numerická proměnná'!A952)","v":""}]
[{"$f":"IF('Numerická proměnná'!A953=\"\",\"\",'Numerická proměnná'!A953)","v":""}]
[{"$f":"IF('Numerická proměnná'!A954=\"\",\"\",'Numerická proměnná'!A954)","v":""}]
[{"$f":"IF('Numerická proměnná'!A955=\"\",\"\",'Numerická proměnná'!A955)","v":""}]
[{"$f":"IF('Numerická proměnná'!A956=\"\",\"\",'Numerická proměnná'!A956)","v":""}]
[{"$f":"IF('Numerická proměnná'!A957=\"\",\"\",'Numerická proměnná'!A957)","v":""}]
[{"$f":"IF('Numerická proměnná'!A958=\"\",\"\",'Numerická proměnná'!A958)","v":""}]
[{"$f":"IF('Numerická proměnná'!A959=\"\",\"\",'Numerická proměnná'!A959)","v":""}]
[{"$f":"IF('Numerická proměnná'!A960=\"\",\"\",'Numerická proměnná'!A960)","v":""}]
[{"$f":"IF('Numerická proměnná'!A961=\"\",\"\",'Numerická proměnná'!A961)","v":""}]
[{"$f":"IF('Numerická proměnná'!A962=\"\",\"\",'Numerická proměnná'!A962)","v":""}]
[{"$f":"IF('Numerická proměnná'!A963=\"\",\"\",'Numerická proměnná'!A963)","v":""}]
[{"$f":"IF('Numerická proměnná'!A964=\"\",\"\",'Numerická proměnná'!A964)","v":""}]
[{"$f":"IF('Numerická proměnná'!A965=\"\",\"\",'Numerická proměnná'!A965)","v":""}]
[{"$f":"IF('Numerická proměnná'!A966=\"\",\"\",'Numerická proměnná'!A966)","v":""}]
[{"$f":"IF('Numerická proměnná'!A967=\"\",\"\",'Numerická proměnná'!A967)","v":""}]
[{"$f":"IF('Numerická proměnná'!A968=\"\",\"\",'Numerická proměnná'!A968)","v":""}]
[{"$f":"IF('Numerická proměnná'!A969=\"\",\"\",'Numerická proměnná'!A969)","v":""}]
[{"$f":"IF('Numerická proměnná'!A970=\"\",\"\",'Numerická proměnná'!A970)","v":""}]
[{"$f":"IF('Numerická proměnná'!A971=\"\",\"\",'Numerická proměnná'!A971)","v":""}]
[{"$f":"IF('Numerická proměnná'!A972=\"\",\"\",'Numerická proměnná'!A972)","v":""}]
[{"$f":"IF('Numerická proměnná'!A973=\"\",\"\",'Numerická proměnná'!A973)","v":""}]
[{"$f":"IF('Numerická proměnná'!A974=\"\",\"\",'Numerická proměnná'!A974)","v":""}]
[{"$f":"IF('Numerická proměnná'!A975=\"\",\"\",'Numerická proměnná'!A975)","v":""}]
[{"$f":"IF('Numerická proměnná'!A976=\"\",\"\",'Numerická proměnná'!A976)","v":""}]
[{"$f":"IF('Numerická proměnná'!A977=\"\",\"\",'Numerická proměnná'!A977)","v":""}]
[{"$f":"IF('Numerická proměnná'!A978=\"\",\"\",'Numerická proměnná'!A978)","v":""}]
[{"$f":"IF('Numerická proměnná'!A979=\"\",\"\",'Numerická proměnná'!A979)","v":""}]
[{"$f":"IF('Numerická proměnná'!A980=\"\",\"\",'Numerická proměnná'!A980)","v":""}]
[{"$f":"IF('Numerická proměnná'!A981=\"\",\"\",'Numerická proměnná'!A981)","v":""}]
[{"$f":"IF('Numerická proměnná'!A982=\"\",\"\",'Numerická proměnná'!A982)","v":""}]
[{"$f":"IF('Numerická proměnná'!A983=\"\",\"\",'Numerická proměnná'!A983)","v":""}]
[{"$f":"IF('Numerická proměnná'!A984=\"\",\"\",'Numerická proměnná'!A984)","v":""}]
[{"$f":"IF('Numerická proměnná'!A985=\"\",\"\",'Numerická proměnná'!A985)","v":""}]
[{"$f":"IF('Numerická proměnná'!A986=\"\",\"\",'Numerická proměnná'!A986)","v":""}]
[{"$f":"IF('Numerická proměnná'!A987=\"\",\"\",'Numerická proměnná'!A987)","v":""}]
[{"$f":"IF('Numerická proměnná'!A988=\"\",\"\",'Numerická proměnná'!A988)","v":""}]
[{"$f":"IF('Numerická proměnná'!A989=\"\",\"\",'Numerická proměnná'!A989)","v":""}]
[{"$f":"IF('Numerická proměnná'!A990=\"\",\"\",'Numerická proměnná'!A990)","v":""}]
[{"$f":"IF('Numerická proměnná'!A991=\"\",\"\",'Numerická proměnná'!A991)","v":""}]
[{"$f":"IF('Numerická proměnná'!A992=\"\",\"\",'Numerická proměnná'!A992)","v":""}]
[{"$f":"IF('Numerická proměnná'!A993=\"\",\"\",'Numerická proměnná'!A993)","v":""}]
[{"$f":"IF('Numerická proměnná'!A994=\"\",\"\",'Numerická proměnná'!A994)","v":""}]
[{"$f":"IF('Numerická proměnná'!A995=\"\",\"\",'Numerická proměnná'!A995)","v":""}]
[{"$f":"IF('Numerická proměnná'!A996=\"\",\"\",'Numerická proměnná'!A996)","v":""}]
[{"$f":"IF('Numerická proměnná'!A997=\"\",\"\",'Numerická proměnná'!A997)","v":""}]
[{"$f":"IF('Numerická proměnná'!A998=\"\",\"\",'Numerická proměnná'!A998)","v":""}]
[{"$f":"IF('Numerická proměnná'!A999=\"\",\"\",'Numerická proměnná'!A999)","v":""}]
[{"$f":"IF('Numerická proměnná'!A1000=\"\",\"\",'Numerická proměnná'!A1000)","v":""}]
[{"$f":"IF('Numerická proměnná'!A1001=\"\",\"\",'Numerická proměnná'!A1001)","v":""}]
[{"$f":"IF('Numerická proměnná'!A1002=\"\",\"\",'Numerická proměnná'!A1002)","v":""}]
[{"$f":"IF('Numerická proměnná'!A1003=\"\",\"\",'Numerická proměnná'!A1003)","v":""}]
[{"$f":"IF('Numerická proměnná'!A1004=\"\",\"\",'Numerická proměnná'!A1004)","v":""}]
[{"$f":"IF('Numerická proměnná'!A1005=\"\",\"\",'Numerická proměnná'!A1005)","v":""}]
[{"$f":"IF('Numerická proměnná'!A1006=\"\",\"\",'Numerická proměnná'!A1006)","v":""}]
[{"$f":"IF('Numerická proměnná'!A1007=\"\",\"\",'Numerická proměnná'!A1007)","v":""}]
[{"$f":"IF('Numerická proměnná'!A1008=\"\",\"\",'Numerická proměnná'!A1008)","v":""}]
[{"$f":"IF('Numerická proměnná'!A1009=\"\",\"\",'Numerická proměnná'!A1009)","v":""}]
[{"$f":"IF('Numerická proměnná'!A1010=\"\",\"\",'Numerická proměnná'!A1010)","v":""}]
[{"$f":"IF('Numerická proměnná'!A1011=\"\",\"\",'Numerická proměnná'!A1011)","v":""}]
[{"$f":"IF('Numerická proměnná'!A1012=\"\",\"\",'Numerická proměnná'!A1012)","v":""}]
[{"$f":"IF('Numerická proměnná'!A1013=\"\",\"\",'Numerická proměnná'!A1013)","v":""}]
[{"$f":"IF('Numerická proměnná'!A1014=\"\",\"\",'Numerická proměnná'!A1014)","v":""}]
[{"$f":"IF('Numerická proměnná'!A1015=\"\",\"\",'Numerická proměnná'!A1015)","v":""}]
[{"$f":"IF('Numerická proměnná'!A1016=\"\",\"\",'Numerická proměnná'!A1016)","v":""}]
[{"$f":"IF('Numerická proměnná'!A1017=\"\",\"\",'Numerická proměnná'!A1017)","v":""}]
[{"$f":"IF('Numerická proměnná'!A1018=\"\",\"\",'Numerická proměnná'!A1018)","v":""}]
[{"$f":"IF('Numerická proměnná'!A1019=\"\",\"\",'Numerická proměnná'!A1019)","v":""}]
[{"$f":"IF('Numerická proměnná'!A1020=\"\",\"\",'Numerická proměnná'!A1020)","v":""}]
[{"$f":"IF('Numerická proměnná'!A1021=\"\",\"\",'Numerická proměnná'!A1021)","v":""}]
[{"$f":"IF('Numerická proměnná'!A1022=\"\",\"\",'Numerická proměnná'!A1022)","v":""}]
[{"$f":"IF('Numerická proměnná'!A1023=\"\",\"\",'Numerická proměnná'!A1023)","v":""}]
[{"$f":"IF('Numerická proměnná'!A1024=\"\",\"\",'Numerická proměnná'!A1024)","v":""}]
[{"$f":"IF('Numerická proměnná'!A1025=\"\",\"\",'Numerická proměnná'!A1025)","v":""}]
[{"$f":"IF('Numerická proměnná'!A1026=\"\",\"\",'Numerická proměnná'!A1026)","v":""}]
[{"$f":"IF('Numerická proměnná'!A1027=\"\",\"\",'Numerická proměnná'!A1027)","v":""}]
[{"$f":"IF('Numerická proměnná'!A1028=\"\",\"\",'Numerická proměnná'!A1028)","v":""}]
[{"$f":"IF('Numerická proměnná'!A1029=\"\",\"\",'Numerická proměnná'!A1029)","v":""}]
[{"$f":"IF('Numerická proměnná'!A1030=\"\",\"\",'Numerická proměnná'!A1030)","v":""}]
[{"$f":"IF('Numerická proměnná'!A1031=\"\",\"\",'Numerická proměnná'!A1031)","v":""}]
[{"$f":"IF('Numerická proměnná'!A1032=\"\",\"\",'Numerická proměnná'!A1032)","v":""}]
[{"$f":"IF('Numerická proměnná'!A1033=\"\",\"\",'Numerická proměnná'!A1033)","v":""}]
[{"$f":"IF('Numerická proměnná'!A1034=\"\",\"\",'Numerická proměnná'!A1034)","v":""}]
[{"$f":"IF('Numerická proměnná'!A1035=\"\",\"\",'Numerická proměnná'!A1035)","v":""}]
[{"$f":"IF('Numerická proměnná'!A1036=\"\",\"\",'Numerická proměnná'!A1036)","v":""}]
[{"$f":"IF('Numerická proměnná'!A1037=\"\",\"\",'Numerická proměnná'!A1037)","v":""}]
[{"$f":"IF('Numerická proměnná'!A1038=\"\",\"\",'Numerická proměnná'!A1038)","v":""}]
[{"$f":"IF('Numerická proměnná'!A1039=\"\",\"\",'Numerická proměnná'!A1039)","v":""}]
[{"$f":"IF('Numerická proměnná'!A1040=\"\",\"\",'Numerická proměnná'!A1040)","v":""}]
[{"$f":"IF('Numerická proměnná'!A1041=\"\",\"\",'Numerická proměnná'!A1041)","v":""}]
[{"$f":"IF('Numerická proměnná'!A1042=\"\",\"\",'Numerická proměnná'!A1042)","v":""}]
[{"$f":"IF('Numerická proměnná'!A1043=\"\",\"\",'Numerická proměnná'!A1043)","v":""}]
[{"$f":"IF('Numerická proměnná'!A1044=\"\",\"\",'Numerická proměnná'!A1044)","v":""}]
[{"$f":"IF('Numerická proměnná'!A1045=\"\",\"\",'Numerická proměnná'!A1045)","v":""}]
[{"$f":"IF('Numerická proměnná'!A1046=\"\",\"\",'Numerická proměnná'!A1046)","v":""}]
[{"$f":"IF('Numerická proměnná'!A1047=\"\",\"\",'Numerická proměnná'!A1047)","v":""}]
[{"$f":"IF('Numerická proměnná'!A1048=\"\",\"\",'Numerická proměnná'!A1048)","v":""}]
[{"$f":"IF('Numerická proměnná'!A1049=\"\",\"\",'Numerická proměnná'!A1049)","v":""}]
[{"$f":"IF('Numerická proměnná'!A1050=\"\",\"\",'Numerická proměnná'!A1050)","v":""}]
[{"$f":"IF('Numerická proměnná'!A1051=\"\",\"\",'Numerická proměnná'!A1051)","v":""}]
[{"$f":"IF('Numerická proměnná'!A1052=\"\",\"\",'Numerická proměnná'!A1052)","v":""}]
[{"$f":"IF('Numerická proměnná'!A1053=\"\",\"\",'Numerická proměnná'!A1053)","v":""}]
[{"$f":"IF('Numerická proměnná'!A1054=\"\",\"\",'Numerická proměnná'!A1054)","v":""}]
[{"$f":"IF('Numerická proměnná'!A1055=\"\",\"\",'Numerická proměnná'!A1055)","v":""}]
[{"$f":"IF('Numerická proměnná'!A1056=\"\",\"\",'Numerická proměnná'!A1056)","v":""}]
[{"$f":"IF('Numerická proměnná'!A1057=\"\",\"\",'Numerická proměnná'!A1057)","v":""}]
[{"$f":"IF('Numerická proměnná'!A1058=\"\",\"\",'Numerická proměnná'!A1058)","v":""}]
[{"$f":"IF('Numerická proměnná'!A1059=\"\",\"\",'Numerická proměnná'!A1059)","v":""}]
[{"$f":"IF('Numerická proměnná'!A1060=\"\",\"\",'Numerická proměnná'!A1060)","v":""}]
[{"$f":"IF('Numerická proměnná'!A1061=\"\",\"\",'Numerická proměnná'!A1061)","v":""}]
[{"$f":"IF('Numerická proměnná'!A1062=\"\",\"\",'Numerická proměnná'!A1062)","v":""}]
[{"$f":"IF('Numerická proměnná'!A1063=\"\",\"\",'Numerická proměnná'!A1063)","v":""}]
[{"$f":"IF('Numerická proměnná'!A1064=\"\",\"\",'Numerická proměnná'!A1064)","v":""}]
[{"$f":"IF('Numerická proměnná'!A1065=\"\",\"\",'Numerická proměnná'!A1065)","v":""}]
[{"$f":"IF('Numerická proměnná'!A1066=\"\",\"\",'Numerická proměnná'!A1066)","v":""}]
[{"$f":"IF('Numerická proměnná'!A1067=\"\",\"\",'Numerická proměnná'!A1067)","v":""}]
[{"$f":"IF('Numerická proměnná'!A1068=\"\",\"\",'Numerická proměnná'!A1068)","v":""}]
[{"$f":"IF('Numerická proměnná'!A1069=\"\",\"\",'Numerická proměnná'!A1069)","v":""}]
[{"$f":"IF('Numerická proměnná'!A1070=\"\",\"\",'Numerická proměnná'!A1070)","v":""}]
[{"$f":"IF('Numerická proměnná'!A1071=\"\",\"\",'Numerická proměnná'!A1071)","v":""}]
[{"$f":"IF('Numerická proměnná'!A1072=\"\",\"\",'Numerická proměnná'!A1072)","v":""}]
[{"$f":"IF('Numerická proměnná'!A1073=\"\",\"\",'Numerická proměnná'!A1073)","v":""}]
[{"$f":"IF('Numerická proměnná'!A1074=\"\",\"\",'Numerická proměnná'!A1074)","v":""}]
[{"$f":"IF('Numerická proměnná'!A1075=\"\",\"\",'Numerická proměnná'!A1075)","v":""}]
[{"$f":"IF('Numerická proměnná'!A1076=\"\",\"\",'Numerická proměnná'!A1076)","v":""}]
[{"$f":"IF('Numerická proměnná'!A1077=\"\",\"\",'Numerická proměnná'!A1077)","v":""}]
[{"$f":"IF('Numerická proměnná'!A1078=\"\",\"\",'Numerická proměnná'!A1078)","v":""}]
[{"$f":"IF('Numerická proměnná'!A1079=\"\",\"\",'Numerická proměnná'!A1079)","v":""}]
[{"$f":"IF('Numerická proměnná'!A1080=\"\",\"\",'Numerická proměnná'!A1080)","v":""}]
[{"$f":"IF('Numerická proměnná'!A1081=\"\",\"\",'Numerická proměnná'!A1081)","v":""}]
[{"$f":"IF('Numerická proměnná'!A1082=\"\",\"\",'Numerická proměnná'!A1082)","v":""}]
[{"$f":"IF('Numerická proměnná'!A1083=\"\",\"\",'Numerická proměnná'!A1083)","v":""}]
[{"$f":"IF('Numerická proměnná'!A1084=\"\",\"\",'Numerická proměnná'!A1084)","v":""}]
[{"$f":"IF('Numerická proměnná'!A1085=\"\",\"\",'Numerická proměnná'!A1085)","v":""}]
[{"$f":"IF('Numerická proměnná'!A1086=\"\",\"\",'Numerická proměnná'!A1086)","v":""}]
[{"$f":"IF('Numerická proměnná'!A1087=\"\",\"\",'Numerická proměnná'!A1087)","v":""}]
[{"$f":"IF('Numerická proměnná'!A1088=\"\",\"\",'Numerická proměnná'!A1088)","v":""}]
[{"$f":"IF('Numerická proměnná'!A1089=\"\",\"\",'Numerická proměnná'!A1089)","v":""}]
[{"$f":"IF('Numerická proměnná'!A1090=\"\",\"\",'Numerická proměnná'!A1090)","v":""}]
[{"$f":"IF('Numerická proměnná'!A1091=\"\",\"\",'Numerická proměnná'!A1091)","v":""}]
[{"$f":"IF('Numerická proměnná'!A1092=\"\",\"\",'Numerická proměnná'!A1092)","v":""}]
[{"$f":"IF('Numerická proměnná'!A1093=\"\",\"\",'Numerická proměnná'!A1093)","v":""}]
[{"$f":"IF('Numerická proměnná'!A1094=\"\",\"\",'Numerická proměnná'!A1094)","v":""}]
[{"$f":"IF('Numerická proměnná'!A1095=\"\",\"\",'Numerická proměnná'!A1095)","v":""}]
[{"$f":"IF('Numerická proměnná'!A1096=\"\",\"\",'Numerická proměnná'!A1096)","v":""}]
[{"$f":"IF('Numerická proměnná'!A1097=\"\",\"\",'Numerická proměnná'!A1097)","v":""}]
[{"$f":"IF('Numerická proměnná'!A1098=\"\",\"\",'Numerická proměnná'!A1098)","v":""}]
[{"$f":"IF('Numerická proměnná'!A1099=\"\",\"\",'Numerická proměnná'!A1099)","v":""}]
[{"$f":"IF('Numerická proměnná'!A1100=\"\",\"\",'Numerická proměnná'!A1100)","v":""}]
[{"$f":"IF('Numerická proměnná'!A1101=\"\",\"\",'Numerická proměnná'!A1101)","v":""}]
[{"$f":"IF('Numerická proměnná'!A1102=\"\",\"\",'Numerická proměnná'!A1102)","v":""}]
[{"$f":"IF('Numerická proměnná'!A1103=\"\",\"\",'Numerická proměnná'!A1103)","v":""}]
[{"$f":"IF('Numerická proměnná'!A1104=\"\",\"\",'Numerická proměnná'!A1104)","v":""}]
[{"$f":"IF('Numerická proměnná'!A1105=\"\",\"\",'Numerická proměnná'!A1105)","v":""}]
[{"$f":"IF('Numerická proměnná'!A1106=\"\",\"\",'Numerická proměnná'!A1106)","v":""}]
[{"$f":"IF('Numerická proměnná'!A1107=\"\",\"\",'Numerická proměnná'!A1107)","v":""}]
[{"$f":"IF('Numerická proměnná'!A1108=\"\",\"\",'Numerická proměnná'!A1108)","v":""}]
[{"$f":"IF('Numerická proměnná'!A1109=\"\",\"\",'Numerická proměnná'!A1109)","v":""}]
[{"$f":"IF('Numerická proměnná'!A1110=\"\",\"\",'Numerická proměnná'!A1110)","v":""}]
[{"$f":"IF('Numerická proměnná'!A1111=\"\",\"\",'Numerická proměnná'!A1111)","v":""}]
[{"$f":"IF('Numerická proměnná'!A1112=\"\",\"\",'Numerická proměnná'!A1112)","v":""}]
[{"$f":"IF('Numerická proměnná'!A1113=\"\",\"\",'Numerická proměnná'!A1113)","v":""}]
[{"$f":"IF('Numerická proměnná'!A1114=\"\",\"\",'Numerická proměnná'!A1114)","v":""}]
[{"$f":"IF('Numerická proměnná'!A1115=\"\",\"\",'Numerická proměnná'!A1115)","v":""}]
[{"$f":"IF('Numerická proměnná'!A1116=\"\",\"\",'Numerická proměnná'!A1116)","v":""}]
[{"$f":"IF('Numerická proměnná'!A1117=\"\",\"\",'Numerická proměnná'!A1117)","v":""}]
[{"$f":"IF('Numerická proměnná'!A1118=\"\",\"\",'Numerická proměnná'!A1118)","v":""}]
[{"$f":"IF('Numerická proměnná'!A1119=\"\",\"\",'Numerická proměnná'!A1119)","v":""}]
[{"$f":"IF('Numerická proměnná'!A1120=\"\",\"\",'Numerická proměnná'!A1120)","v":""}]
[{"$f":"IF('Numerická proměnná'!A1121=\"\",\"\",'Numerická proměnná'!A1121)","v":""}]
[{"$f":"IF('Numerická proměnná'!A1122=\"\",\"\",'Numerická proměnná'!A1122)","v":""}]
[{"$f":"IF('Numerická proměnná'!A1123=\"\",\"\",'Numerická proměnná'!A1123)","v":""}]
[{"$f":"IF('Numerická proměnná'!A1124=\"\",\"\",'Numerická proměnná'!A1124)","v":""}]
[{"$f":"IF('Numerická proměnná'!A1125=\"\",\"\",'Numerická proměnná'!A1125)","v":""}]
[{"$f":"IF('Numerická proměnná'!A1126=\"\",\"\",'Numerická proměnná'!A1126)","v":""}]
[{"$f":"IF('Numerická proměnná'!A1127=\"\",\"\",'Numerická proměnná'!A1127)","v":""}]
[{"$f":"IF('Numerická proměnná'!A1128=\"\",\"\",'Numerická proměnná'!A1128)","v":""}]
[{"$f":"IF('Numerická proměnná'!A1129=\"\",\"\",'Numerická proměnná'!A1129)","v":""}]
[{"$f":"IF('Numerická proměnná'!A1130=\"\",\"\",'Numerická proměnná'!A1130)","v":""}]
[{"$f":"IF('Numerická proměnná'!A1131=\"\",\"\",'Numerická proměnná'!A1131)","v":""}]
[{"$f":"IF('Numerická proměnná'!A1132=\"\",\"\",'Numerická proměnná'!A1132)","v":""}]
[{"$f":"IF('Numerická proměnná'!A1133=\"\",\"\",'Numerická proměnná'!A1133)","v":""}]
[{"$f":"IF('Numerická proměnná'!A1134=\"\",\"\",'Numerická proměnná'!A1134)","v":""}]
[{"$f":"IF('Numerická proměnná'!A1135=\"\",\"\",'Numerická proměnná'!A1135)","v":""}]
[{"$f":"IF('Numerická proměnná'!A1136=\"\",\"\",'Numerická proměnná'!A1136)","v":""}]
[{"$f":"IF('Numerická proměnná'!A1137=\"\",\"\",'Numerická proměnná'!A1137)","v":""}]
[{"$f":"IF('Numerická proměnná'!A1138=\"\",\"\",'Numerická proměnná'!A1138)","v":""}]
[{"$f":"IF('Numerická proměnná'!A1139=\"\",\"\",'Numerická proměnná'!A1139)","v":""}]
[{"$f":"IF('Numerická proměnná'!A1140=\"\",\"\",'Numerická proměnná'!A1140)","v":""}]
[{"$f":"IF('Numerická proměnná'!A1141=\"\",\"\",'Numerická proměnná'!A1141)","v":""}]
[{"$f":"IF('Numerická proměnná'!A1142=\"\",\"\",'Numerická proměnná'!A1142)","v":""}]
[{"$f":"IF('Numerická proměnná'!A1143=\"\",\"\",'Numerická proměnná'!A1143)","v":""}]
[{"$f":"IF('Numerická proměnná'!A1144=\"\",\"\",'Numerická proměnná'!A1144)","v":""}]
[{"$f":"IF('Numerická proměnná'!A1145=\"\",\"\",'Numerická proměnná'!A1145)","v":""}]
[{"$f":"IF('Numerická proměnná'!A1146=\"\",\"\",'Numerická proměnná'!A1146)","v":""}]
[{"$f":"IF('Numerická proměnná'!A1147=\"\",\"\",'Numerická proměnná'!A1147)","v":""}]
[{"$f":"IF('Numerická proměnná'!A1148=\"\",\"\",'Numerická proměnná'!A1148)","v":""}]
[{"$f":"IF('Numerická proměnná'!A1149=\"\",\"\",'Numerická proměnná'!A1149)","v":""}]
[{"$f":"IF('Numerická proměnná'!A1150=\"\",\"\",'Numerická proměnná'!A1150)","v":""}]
[{"$f":"IF('Numerická proměnná'!A1151=\"\",\"\",'Numerická proměnná'!A1151)","v":""}]
[{"$f":"IF('Numerická proměnná'!A1152=\"\",\"\",'Numerická proměnná'!A1152)","v":""}]
[{"$f":"IF('Numerická proměnná'!A1153=\"\",\"\",'Numerická proměnná'!A1153)","v":""}]
[{"$f":"IF('Numerická proměnná'!A1154=\"\",\"\",'Numerická proměnná'!A1154)","v":""}]
[{"$f":"IF('Numerická proměnná'!A1155=\"\",\"\",'Numerická proměnná'!A1155)","v":""}]
[{"$f":"IF('Numerická proměnná'!A1156=\"\",\"\",'Numerická proměnná'!A1156)","v":""}]
[{"$f":"IF('Numerická proměnná'!A1157=\"\",\"\",'Numerická proměnná'!A1157)","v":""}]
[{"$f":"IF('Numerická proměnná'!A1158=\"\",\"\",'Numerická proměnná'!A1158)","v":""}]
[{"$f":"IF('Numerická proměnná'!A1159=\"\",\"\",'Numerická proměnná'!A1159)","v":""}]
[{"$f":"IF('Numerická proměnná'!A1160=\"\",\"\",'Numerická proměnná'!A1160)","v":""}]
[{"$f":"IF('Numerická proměnná'!A1161=\"\",\"\",'Numerická proměnná'!A1161)","v":""}]
[{"$f":"IF('Numerická proměnná'!A1162=\"\",\"\",'Numerická proměnná'!A1162)","v":""}]
[{"$f":"IF('Numerická proměnná'!A1163=\"\",\"\",'Numerická proměnná'!A1163)","v":""}]
[{"$f":"IF('Numerická proměnná'!A1164=\"\",\"\",'Numerická proměnná'!A1164)","v":""}]
[{"$f":"IF('Numerická proměnná'!A1165=\"\",\"\",'Numerická proměnná'!A1165)","v":""}]
[{"$f":"IF('Numerická proměnná'!A1166=\"\",\"\",'Numerická proměnná'!A1166)","v":""}]
[{"$f":"IF('Numerická proměnná'!A1167=\"\",\"\",'Numerická proměnná'!A1167)","v":""}]
[{"$f":"IF('Numerická proměnná'!A1168=\"\",\"\",'Numerická proměnná'!A1168)","v":""}]
[{"$f":"IF('Numerická proměnná'!A1169=\"\",\"\",'Numerická proměnná'!A1169)","v":""}]
[{"$f":"IF('Numerická proměnná'!A1170=\"\",\"\",'Numerická proměnná'!A1170)","v":""}]
[{"$f":"IF('Numerická proměnná'!A1171=\"\",\"\",'Numerická proměnná'!A1171)","v":""}]
[{"$f":"IF('Numerická proměnná'!A1172=\"\",\"\",'Numerická proměnná'!A1172)","v":""}]
[{"$f":"IF('Numerická proměnná'!A1173=\"\",\"\",'Numerická proměnná'!A1173)","v":""}]
[{"$f":"IF('Numerická proměnná'!A1174=\"\",\"\",'Numerická proměnná'!A1174)","v":""}]
[{"$f":"IF('Numerická proměnná'!A1175=\"\",\"\",'Numerická proměnná'!A1175)","v":""}]
[{"$f":"IF('Numerická proměnná'!A1176=\"\",\"\",'Numerická proměnná'!A1176)","v":""}]
[{"$f":"IF('Numerická proměnná'!A1177=\"\",\"\",'Numerická proměnná'!A1177)","v":""}]
[{"$f":"IF('Numerická proměnná'!A1178=\"\",\"\",'Numerická proměnná'!A1178)","v":""}]
[{"$f":"IF('Numerická proměnná'!A1179=\"\",\"\",'Numerická proměnná'!A1179)","v":""}]
[{"$f":"IF('Numerická proměnná'!A1180=\"\",\"\",'Numerická proměnná'!A1180)","v":""}]
[{"$f":"IF('Numerická proměnná'!A1181=\"\",\"\",'Numerická proměnná'!A1181)","v":""}]
[{"$f":"IF('Numerická proměnná'!A1182=\"\",\"\",'Numerická proměnná'!A1182)","v":""}]
[{"$f":"IF('Numerická proměnná'!A1183=\"\",\"\",'Numerická proměnná'!A1183)","v":""}]
[{"$f":"IF('Numerická proměnná'!A1184=\"\",\"\",'Numerická proměnná'!A1184)","v":""}]
[{"$f":"IF('Numerická proměnná'!A1185=\"\",\"\",'Numerická proměnná'!A1185)","v":""}]
[{"$f":"IF('Numerická proměnná'!A1186=\"\",\"\",'Numerická proměnná'!A1186)","v":""}]
[{"$f":"IF('Numerická proměnná'!A1187=\"\",\"\",'Numerická proměnná'!A1187)","v":""}]
[{"$f":"IF('Numerická proměnná'!A1188=\"\",\"\",'Numerická proměnná'!A1188)","v":""}]
[{"$f":"IF('Numerická proměnná'!A1189=\"\",\"\",'Numerická proměnná'!A1189)","v":""}]
[{"$f":"IF('Numerická proměnná'!A1190=\"\",\"\",'Numerická proměnná'!A1190)","v":""}]
[{"$f":"IF('Numerická proměnná'!A1191=\"\",\"\",'Numerická proměnná'!A1191)","v":""}]
[{"$f":"IF('Numerická proměnná'!A1192=\"\",\"\",'Numerická proměnná'!A1192)","v":""}]
[{"$f":"IF('Numerická proměnná'!A1193=\"\",\"\",'Numerická proměnná'!A1193)","v":""}]
[{"$f":"IF('Numerická proměnná'!A1194=\"\",\"\",'Numerická proměnná'!A1194)","v":""}]
[{"$f":"IF('Numerická proměnná'!A1195=\"\",\"\",'Numerická proměnná'!A1195)","v":""}]
[{"$f":"IF('Numerická proměnná'!A1196=\"\",\"\",'Numerická proměnná'!A1196)","v":""}]
[{"$f":"IF('Numerická proměnná'!A1197=\"\",\"\",'Numerická proměnná'!A1197)","v":""}]
[{"$f":"IF('Numerická proměnná'!A1198=\"\",\"\",'Numerická proměnná'!A1198)","v":""}]
[{"$f":"IF('Numerická proměnná'!A1199=\"\",\"\",'Numerická proměnná'!A1199)","v":""}]
[{"$f":"IF('Numerická proměnná'!A1200=\"\",\"\",'Numerická proměnná'!A1200)","v":""}]
[{"$f":"IF('Numerická proměnná'!A1201=\"\",\"\",'Numerická proměnná'!A1201)","v":""}]
[{"$f":"IF('Numerická proměnná'!A1202=\"\",\"\",'Numerická proměnná'!A1202)","v":""}]
[{"$f":"IF('Numerická proměnná'!A1203=\"\",\"\",'Numerická proměnná'!A1203)","v":""}]
[{"$f":"IF('Numerická proměnná'!A1204=\"\",\"\",'Numerická proměnná'!A1204)","v":""}]
[{"$f":"IF('Numerická proměnná'!A1205=\"\",\"\",'Numerická proměnná'!A1205)","v":""}]
[{"$f":"IF('Numerická proměnná'!A1206=\"\",\"\",'Numerická proměnná'!A1206)","v":""}]
[{"$f":"IF('Numerická proměnná'!A1207=\"\",\"\",'Numerická proměnná'!A1207)","v":""}]
[{"$f":"IF('Numerická proměnná'!A1208=\"\",\"\",'Numerická proměnná'!A1208)","v":""}]
[{"$f":"IF('Numerická proměnná'!A1209=\"\",\"\",'Numerická proměnná'!A1209)","v":""}]
[{"$f":"IF('Numerická proměnná'!A1210=\"\",\"\",'Numerická proměnná'!A1210)","v":""}]
[{"$f":"IF('Numerická proměnná'!A1211=\"\",\"\",'Numerická proměnná'!A1211)","v":""}]
[{"$f":"IF('Numerická proměnná'!A1212=\"\",\"\",'Numerická proměnná'!A1212)","v":""}]
[{"$f":"IF('Numerická proměnná'!A1213=\"\",\"\",'Numerická proměnná'!A1213)","v":""}]
[{"$f":"IF('Numerická proměnná'!A1214=\"\",\"\",'Numerická proměnná'!A1214)","v":""}]
[{"$f":"IF('Numerická proměnná'!A1215=\"\",\"\",'Numerická proměnná'!A1215)","v":""}]
[{"$f":"IF('Numerická proměnná'!A1216=\"\",\"\",'Numerická proměnná'!A1216)","v":""}]
[{"$f":"IF('Numerická proměnná'!A1217=\"\",\"\",'Numerická proměnná'!A1217)","v":""}]
[{"$f":"IF('Numerická proměnná'!A1218=\"\",\"\",'Numerická proměnná'!A1218)","v":""}]
[{"$f":"IF('Numerická proměnná'!A1219=\"\",\"\",'Numerická proměnná'!A1219)","v":""}]
[{"$f":"IF('Numerická proměnná'!A1220=\"\",\"\",'Numerická proměnná'!A1220)","v":""}]
[{"$f":"IF('Numerická proměnná'!A1221=\"\",\"\",'Numerická proměnná'!A1221)","v":""}]
[{"$f":"IF('Numerická proměnná'!A1222=\"\",\"\",'Numerická proměnná'!A1222)","v":""}]
[{"$f":"IF('Numerická proměnná'!A1223=\"\",\"\",'Numerická proměnná'!A1223)","v":""}]
[{"$f":"IF('Numerická proměnná'!A1224=\"\",\"\",'Numerická proměnná'!A1224)","v":""}]
[{"$f":"IF('Numerická proměnná'!A1225=\"\",\"\",'Numerická proměnná'!A1225)","v":""}]
[{"$f":"IF('Numerická proměnná'!A1226=\"\",\"\",'Numerická proměnná'!A1226)","v":""}]
[{"$f":"IF('Numerická proměnná'!A1227=\"\",\"\",'Numerická proměnná'!A1227)","v":""}]
[{"$f":"IF('Numerická proměnná'!A1228=\"\",\"\",'Numerická proměnná'!A1228)","v":""}]
[{"$f":"IF('Numerická proměnná'!A1229=\"\",\"\",'Numerická proměnná'!A1229)","v":""}]
[{"$f":"IF('Numerická proměnná'!A1230=\"\",\"\",'Numerická proměnná'!A1230)","v":""}]
[{"$f":"IF('Numerická proměnná'!A1231=\"\",\"\",'Numerická proměnná'!A1231)","v":""}]
[{"$f":"IF('Numerická proměnná'!A1232=\"\",\"\",'Numerická proměnná'!A1232)","v":""}]
[{"$f":"IF('Numerická proměnná'!A1233=\"\",\"\",'Numerická proměnná'!A1233)","v":""}]
[{"$f":"IF('Numerická proměnná'!A1234=\"\",\"\",'Numerická proměnná'!A1234)","v":""}]
[{"$f":"IF('Numerická proměnná'!A1235=\"\",\"\",'Numerická proměnná'!A1235)","v":""}]
[{"$f":"IF('Numerická proměnná'!A1236=\"\",\"\",'Numerická proměnná'!A1236)","v":""}]
[{"$f":"IF('Numerická proměnná'!A1237=\"\",\"\",'Numerická proměnná'!A1237)","v":""}]
[{"$f":"IF('Numerická proměnná'!A1238=\"\",\"\",'Numerická proměnná'!A1238)","v":""}]
[{"$f":"IF('Numerická proměnná'!A1239=\"\",\"\",'Numerická proměnná'!A1239)","v":""}]
[{"$f":"IF('Numerická proměnná'!A1240=\"\",\"\",'Numerická proměnná'!A1240)","v":""}]
[{"$f":"IF('Numerická proměnná'!A1241=\"\",\"\",'Numerická proměnná'!A1241)","v":""}]
[{"$f":"IF('Numerická proměnná'!A1242=\"\",\"\",'Numerická proměnná'!A1242)","v":""}]
[{"$f":"IF('Numerická proměnná'!A1243=\"\",\"\",'Numerická proměnná'!A1243)","v":""}]
[{"$f":"IF('Numerická proměnná'!A1244=\"\",\"\",'Numerická proměnná'!A1244)","v":""}]
[{"$f":"IF('Numerická proměnná'!A1245=\"\",\"\",'Numerická proměnná'!A1245)","v":""}]
[{"$f":"IF('Numerická proměnná'!A1246=\"\",\"\",'Numerická proměnná'!A1246)","v":""}]
[{"$f":"IF('Numerická proměnná'!A1247=\"\",\"\",'Numerická proměnná'!A1247)","v":""}]
[{"$f":"IF('Numerická proměnná'!A1248=\"\",\"\",'Numerická proměnná'!A1248)","v":""}]
[{"$f":"IF('Numerická proměnná'!A1249=\"\",\"\",'Numerická proměnná'!A1249)","v":""}]
[{"$f":"IF('Numerická proměnná'!A1250=\"\",\"\",'Numerická proměnná'!A1250)","v":""}]
[{"$f":"IF('Numerická proměnná'!A1251=\"\",\"\",'Numerická proměnná'!A1251)","v":""}]
[{"$f":"IF('Numerická proměnná'!A1252=\"\",\"\",'Numerická proměnná'!A1252)","v":""}]
[{"$f":"IF('Numerická proměnná'!A1253=\"\",\"\",'Numerická proměnná'!A1253)","v":""}]
[{"$f":"IF('Numerická proměnná'!A1254=\"\",\"\",'Numerická proměnná'!A1254)","v":""}]
[{"$f":"IF('Numerická proměnná'!A1255=\"\",\"\",'Numerická proměnná'!A1255)","v":""}]
[{"$f":"IF('Numerická proměnná'!A1256=\"\",\"\",'Numerická proměnná'!A1256)","v":""}]
[{"$f":"IF('Numerická proměnná'!A1257=\"\",\"\",'Numerická proměnná'!A1257)","v":""}]
[{"$f":"IF('Numerická proměnná'!A1258=\"\",\"\",'Numerická proměnná'!A1258)","v":""}]
[{"$f":"IF('Numerická proměnná'!A1259=\"\",\"\",'Numerická proměnná'!A1259)","v":""}]
[{"$f":"IF('Numerická proměnná'!A1260=\"\",\"\",'Numerická proměnná'!A1260)","v":""}]
[{"$f":"IF('Numerická proměnná'!A1261=\"\",\"\",'Numerická proměnná'!A1261)","v":""}]
[{"$f":"IF('Numerická proměnná'!A1262=\"\",\"\",'Numerická proměnná'!A1262)","v":""}]
[{"$f":"IF('Numerická proměnná'!A1263=\"\",\"\",'Numerická proměnná'!A1263)","v":""}]
[{"$f":"IF('Numerická proměnná'!A1264=\"\",\"\",'Numerická proměnná'!A1264)","v":""}]
[{"$f":"IF('Numerická proměnná'!A1265=\"\",\"\",'Numerická proměnná'!A1265)","v":""}]
[{"$f":"IF('Numerická proměnná'!A1266=\"\",\"\",'Numerická proměnná'!A1266)","v":""}]
[{"$f":"IF('Numerická proměnná'!A1267=\"\",\"\",'Numerická proměnná'!A1267)","v":""}]
[{"$f":"IF('Numerická proměnná'!A1268=\"\",\"\",'Numerická proměnná'!A1268)","v":""}]
[{"$f":"IF('Numerická proměnná'!A1269=\"\",\"\",'Numerická proměnná'!A1269)","v":""}]
[{"$f":"IF('Numerická proměnná'!A1270=\"\",\"\",'Numerická proměnná'!A1270)","v":""}]
[{"$f":"IF('Numerická proměnná'!A1271=\"\",\"\",'Numerická proměnná'!A1271)","v":""}]
[{"$f":"IF('Numerická proměnná'!A1272=\"\",\"\",'Numerická proměnná'!A1272)","v":""}]
[{"$f":"IF('Numerická proměnná'!A1273=\"\",\"\",'Numerická proměnná'!A1273)","v":""}]
[{"$f":"IF('Numerická proměnná'!A1274=\"\",\"\",'Numerická proměnná'!A1274)","v":""}]
[{"$f":"IF('Numerická proměnná'!A1275=\"\",\"\",'Numerická proměnná'!A1275)","v":""}]
[{"$f":"IF('Numerická proměnná'!A1276=\"\",\"\",'Numerická proměnná'!A1276)","v":""}]
[{"$f":"IF('Numerická proměnná'!A1277=\"\",\"\",'Numerická proměnná'!A1277)","v":""}]
[{"$f":"IF('Numerická proměnná'!A1278=\"\",\"\",'Numerická proměnná'!A1278)","v":""}]
[{"$f":"IF('Numerická proměnná'!A1279=\"\",\"\",'Numerická proměnná'!A1279)","v":""}]
[{"$f":"IF('Numerická proměnná'!A1280=\"\",\"\",'Numerická proměnná'!A1280)","v":""}]
[{"$f":"IF('Numerická proměnná'!A1281=\"\",\"\",'Numerická proměnná'!A1281)","v":""}]
[{"$f":"IF('Numerická proměnná'!A1282=\"\",\"\",'Numerická proměnná'!A1282)","v":""}]
[{"$f":"IF('Numerická proměnná'!A1283=\"\",\"\",'Numerická proměnná'!A1283)","v":""}]
[{"$f":"IF('Numerická proměnná'!A1284=\"\",\"\",'Numerická proměnná'!A1284)","v":""}]
[{"$f":"IF('Numerická proměnná'!A1285=\"\",\"\",'Numerická proměnná'!A1285)","v":""}]
[{"$f":"IF('Numerická proměnná'!A1286=\"\",\"\",'Numerická proměnná'!A1286)","v":""}]
[{"$f":"IF('Numerická proměnná'!A1287=\"\",\"\",'Numerická proměnná'!A1287)","v":""}]
[{"$f":"IF('Numerická proměnná'!A1288=\"\",\"\",'Numerická proměnná'!A1288)","v":""}]
[{"$f":"IF('Numerická proměnná'!A1289=\"\",\"\",'Numerická proměnná'!A1289)","v":""}]
[{"$f":"IF('Numerická proměnná'!A1290=\"\",\"\",'Numerická proměnná'!A1290)","v":""}]
[{"$f":"IF('Numerická proměnná'!A1291=\"\",\"\",'Numerická proměnná'!A1291)","v":""}]
[{"$f":"IF('Numerická proměnná'!A1292=\"\",\"\",'Numerická proměnná'!A1292)","v":""}]
[{"$f":"IF('Numerická proměnná'!A1293=\"\",\"\",'Numerická proměnná'!A1293)","v":""}]
[{"$f":"IF('Numerická proměnná'!A1294=\"\",\"\",'Numerická proměnná'!A1294)","v":""}]
[{"$f":"IF('Numerická proměnná'!A1295=\"\",\"\",'Numerická proměnná'!A1295)","v":""}]
[{"$f":"IF('Numerická proměnná'!A1296=\"\",\"\",'Numerická proměnná'!A1296)","v":""}]
[{"$f":"IF('Numerická proměnná'!A1297=\"\",\"\",'Numerická proměnná'!A1297)","v":""}]
[{"$f":"IF('Numerická proměnná'!A1298=\"\",\"\",'Numerická proměnná'!A1298)","v":""}]
[{"$f":"IF('Numerická proměnná'!A1299=\"\",\"\",'Numerická proměnná'!A1299)","v":""}]
[{"$f":"IF('Numerická proměnná'!A1300=\"\",\"\",'Numerická proměnná'!A1300)","v":""}]
[{"$f":"IF('Numerická proměnná'!A1301=\"\",\"\",'Numerická proměnná'!A1301)","v":""}]
[{"$f":"IF('Numerická proměnná'!A1302=\"\",\"\",'Numerická proměnná'!A1302)","v":""}]
[{"$f":"IF('Numerická proměnná'!A1303=\"\",\"\",'Numerická proměnná'!A1303)","v":""}]
[{"$f":"IF('Numerická proměnná'!A1304=\"\",\"\",'Numerická proměnná'!A1304)","v":""}]
[{"$f":"IF('Numerická proměnná'!A1305=\"\",\"\",'Numerická proměnná'!A1305)","v":""}]
[{"$f":"IF('Numerická proměnná'!A1306=\"\",\"\",'Numerická proměnná'!A1306)","v":""}]
[{"$f":"IF('Numerická proměnná'!A1307=\"\",\"\",'Numerická proměnná'!A1307)","v":""}]
[{"$f":"IF('Numerická proměnná'!A1308=\"\",\"\",'Numerická proměnná'!A1308)","v":""}]
[{"$f":"IF('Numerická proměnná'!A1309=\"\",\"\",'Numerická proměnná'!A1309)","v":""}]
[{"$f":"IF('Numerická proměnná'!A1310=\"\",\"\",'Numerická proměnná'!A1310)","v":""}]
[{"$f":"IF('Numerická proměnná'!A1311=\"\",\"\",'Numerická proměnná'!A1311)","v":""}]
[{"$f":"IF('Numerická proměnná'!A1312=\"\",\"\",'Numerická proměnná'!A1312)","v":""}]
[{"$f":"IF('Numerická proměnná'!A1313=\"\",\"\",'Numerická proměnná'!A1313)","v":""}]
[{"$f":"IF('Numerická proměnná'!A1314=\"\",\"\",'Numerická proměnná'!A1314)","v":""}]
[{"$f":"IF('Numerická proměnná'!A1315=\"\",\"\",'Numerická proměnná'!A1315)","v":""}]
[{"$f":"IF('Numerická proměnná'!A1316=\"\",\"\",'Numerická proměnná'!A1316)","v":""}]
[{"$f":"IF('Numerická proměnná'!A1317=\"\",\"\",'Numerická proměnná'!A1317)","v":""}]
[{"$f":"IF('Numerická proměnná'!A1318=\"\",\"\",'Numerická proměnná'!A1318)","v":""}]
[{"$f":"IF('Numerická proměnná'!A1319=\"\",\"\",'Numerická proměnná'!A1319)","v":""}]
[{"$f":"IF('Numerická proměnná'!A1320=\"\",\"\",'Numerická proměnná'!A1320)","v":""}]
[{"$f":"IF('Numerická proměnná'!A1321=\"\",\"\",'Numerická proměnná'!A1321)","v":""}]
[{"$f":"IF('Numerická proměnná'!A1322=\"\",\"\",'Numerická proměnná'!A1322)","v":""}]
[{"$f":"IF('Numerická proměnná'!A1323=\"\",\"\",'Numerická proměnná'!A1323)","v":""}]
[{"$f":"IF('Numerická proměnná'!A1324=\"\",\"\",'Numerická proměnná'!A1324)","v":""}]
[{"$f":"IF('Numerická proměnná'!A1325=\"\",\"\",'Numerická proměnná'!A1325)","v":""}]
[{"$f":"IF('Numerická proměnná'!A1326=\"\",\"\",'Numerická proměnná'!A1326)","v":""}]
[{"$f":"IF('Numerická proměnná'!A1327=\"\",\"\",'Numerická proměnná'!A1327)","v":""}]
[{"$f":"IF('Numerická proměnná'!A1328=\"\",\"\",'Numerická proměnná'!A1328)","v":""}]
[{"$f":"IF('Numerická proměnná'!A1329=\"\",\"\",'Numerická proměnná'!A1329)","v":""}]
[{"$f":"IF('Numerická proměnná'!A1330=\"\",\"\",'Numerická proměnná'!A1330)","v":""}]
[{"$f":"IF('Numerická proměnná'!A1331=\"\",\"\",'Numerická proměnná'!A1331)","v":""}]
[{"$f":"IF('Numerická proměnná'!A1332=\"\",\"\",'Numerická proměnná'!A1332)","v":""}]
[{"$f":"IF('Numerická proměnná'!A1333=\"\",\"\",'Numerická proměnná'!A1333)","v":""}]
[{"$f":"IF('Numerická proměnná'!A1334=\"\",\"\",'Numerická proměnná'!A1334)","v":""}]
[{"$f":"IF('Numerická proměnná'!A1335=\"\",\"\",'Numerická proměnná'!A1335)","v":""}]
[{"$f":"IF('Numerická proměnná'!A1336=\"\",\"\",'Numerická proměnná'!A1336)","v":""}]
[{"$f":"IF('Numerická proměnná'!A1337=\"\",\"\",'Numerická proměnná'!A1337)","v":""}]
[{"$f":"IF('Numerická proměnná'!A1338=\"\",\"\",'Numerická proměnná'!A1338)","v":""}]
[{"$f":"IF('Numerická proměnná'!A1339=\"\",\"\",'Numerická proměnná'!A1339)","v":""}]
[{"$f":"IF('Numerická proměnná'!A1340=\"\",\"\",'Numerická proměnná'!A1340)","v":""}]
[{"$f":"IF('Numerická proměnná'!A1341=\"\",\"\",'Numerická proměnná'!A1341)","v":""}]
[{"$f":"IF('Numerická proměnná'!A1342=\"\",\"\",'Numerická proměnná'!A1342)","v":""}]
[{"$f":"IF('Numerická proměnná'!A1343=\"\",\"\",'Numerická proměnná'!A1343)","v":""}]
[{"$f":"IF('Numerická proměnná'!A1344=\"\",\"\",'Numerická proměnná'!A1344)","v":""}]
[{"$f":"IF('Numerická proměnná'!A1345=\"\",\"\",'Numerická proměnná'!A1345)","v":""}]
[{"$f":"IF('Numerická proměnná'!A1346=\"\",\"\",'Numerická proměnná'!A1346)","v":""}]
[{"$f":"IF('Numerická proměnná'!A1347=\"\",\"\",'Numerická proměnná'!A1347)","v":""}]
[{"$f":"IF('Numerická proměnná'!A1348=\"\",\"\",'Numerická proměnná'!A1348)","v":""}]
[{"$f":"IF('Numerická proměnná'!A1349=\"\",\"\",'Numerická proměnná'!A1349)","v":""}]
[{"$f":"IF('Numerická proměnná'!A1350=\"\",\"\",'Numerická proměnná'!A1350)","v":""}]
[{"$f":"IF('Numerická proměnná'!A1351=\"\",\"\",'Numerická proměnná'!A1351)","v":""}]
[{"$f":"IF('Numerická proměnná'!A1352=\"\",\"\",'Numerická proměnná'!A1352)","v":""}]
[{"$f":"IF('Numerická proměnná'!A1353=\"\",\"\",'Numerická proměnná'!A1353)","v":""}]
[{"$f":"IF('Numerická proměnná'!A1354=\"\",\"\",'Numerická proměnná'!A1354)","v":""}]
[{"$f":"IF('Numerická proměnná'!A1355=\"\",\"\",'Numerická proměnná'!A1355)","v":""}]
[{"$f":"IF('Numerická proměnná'!A1356=\"\",\"\",'Numerická proměnná'!A1356)","v":""}]
[{"$f":"IF('Numerická proměnná'!A1357=\"\",\"\",'Numerická proměnná'!A1357)","v":""}]
[{"$f":"IF('Numerická proměnná'!A1358=\"\",\"\",'Numerická proměnná'!A1358)","v":""}]
[{"$f":"IF('Numerická proměnná'!A1359=\"\",\"\",'Numerická proměnná'!A1359)","v":""}]
[{"$f":"IF('Numerická proměnná'!A1360=\"\",\"\",'Numerická proměnná'!A1360)","v":""}]
[{"$f":"IF('Numerická proměnná'!A1361=\"\",\"\",'Numerická proměnná'!A1361)","v":""}]
[{"$f":"IF('Numerická proměnná'!A1362=\"\",\"\",'Numerická proměnná'!A1362)","v":""}]
[{"$f":"IF('Numerická proměnná'!A1363=\"\",\"\",'Numerická proměnná'!A1363)","v":""}]
[{"$f":"IF('Numerická proměnná'!A1364=\"\",\"\",'Numerická proměnná'!A1364)","v":""}]
[{"$f":"IF('Numerická proměnná'!A1365=\"\",\"\",'Numerická proměnná'!A1365)","v":""}]
[{"$f":"IF('Numerická proměnná'!A1366=\"\",\"\",'Numerická proměnná'!A1366)","v":""}]
[{"$f":"IF('Numerická proměnná'!A1367=\"\",\"\",'Numerická proměnná'!A1367)","v":""}]
[{"$f":"IF('Numerická proměnná'!A1368=\"\",\"\",'Numerická proměnná'!A1368)","v":""}]
[{"$f":"IF('Numerická proměnná'!A1369=\"\",\"\",'Numerická proměnná'!A1369)","v":""}]
[{"$f":"IF('Numerická proměnná'!A1370=\"\",\"\",'Numerická proměnná'!A1370)","v":""}]
[{"$f":"IF('Numerická proměnná'!A1371=\"\",\"\",'Numerická proměnná'!A1371)","v":""}]
[{"$f":"IF('Numerická proměnná'!A1372=\"\",\"\",'Numerická proměnná'!A1372)","v":""}]
[{"$f":"IF('Numerická proměnná'!A1373=\"\",\"\",'Numerická proměnná'!A1373)","v":""}]
[{"$f":"IF('Numerická proměnná'!A1374=\"\",\"\",'Numerická proměnná'!A1374)","v":""}]
[{"$f":"IF('Numerická proměnná'!A1375=\"\",\"\",'Numerická proměnná'!A1375)","v":""}]
[{"$f":"IF('Numerická proměnná'!A1376=\"\",\"\",'Numerická proměnná'!A1376)","v":""}]
[{"$f":"IF('Numerická proměnná'!A1377=\"\",\"\",'Numerická proměnná'!A1377)","v":""}]
[{"$f":"IF('Numerická proměnná'!A1378=\"\",\"\",'Numerická proměnná'!A1378)","v":""}]
[{"$f":"IF('Numerická proměnná'!A1379=\"\",\"\",'Numerická proměnná'!A1379)","v":""}]
[{"$f":"IF('Numerická proměnná'!A1380=\"\",\"\",'Numerická proměnná'!A1380)","v":""}]
[{"$f":"IF('Numerická proměnná'!A1381=\"\",\"\",'Numerická proměnná'!A1381)","v":""}]
[{"$f":"IF('Numerická proměnná'!A1382=\"\",\"\",'Numerická proměnná'!A1382)","v":""}]
[{"$f":"IF('Numerická proměnná'!A1383=\"\",\"\",'Numerická proměnná'!A1383)","v":""}]
[{"$f":"IF('Numerická proměnná'!A1384=\"\",\"\",'Numerická proměnná'!A1384)","v":""}]
[{"$f":"IF('Numerická proměnná'!A1385=\"\",\"\",'Numerická proměnná'!A1385)","v":""}]
[{"$f":"IF('Numerická proměnná'!A1386=\"\",\"\",'Numerická proměnná'!A1386)","v":""}]
[{"$f":"IF('Numerická proměnná'!A1387=\"\",\"\",'Numerická proměnná'!A1387)","v":""}]
[{"$f":"IF('Numerická proměnná'!A1388=\"\",\"\",'Numerická proměnná'!A1388)","v":""}]
[{"$f":"IF('Numerická proměnná'!A1389=\"\",\"\",'Numerická proměnná'!A1389)","v":""}]
[{"$f":"IF('Numerická proměnná'!A1390=\"\",\"\",'Numerická proměnná'!A1390)","v":""}]
[{"$f":"IF('Numerická proměnná'!A1391=\"\",\"\",'Numerická proměnná'!A1391)","v":""}]
[{"$f":"IF('Numerická proměnná'!A1392=\"\",\"\",'Numerická proměnná'!A1392)","v":""}]
[{"$f":"IF('Numerická proměnná'!A1393=\"\",\"\",'Numerická proměnná'!A1393)","v":""}]
[{"$f":"IF('Numerická proměnná'!A1394=\"\",\"\",'Numerická proměnná'!A1394)","v":""}]
[{"$f":"IF('Numerická proměnná'!A1395=\"\",\"\",'Numerická proměnná'!A1395)","v":""}]
[{"$f":"IF('Numerická proměnná'!A1396=\"\",\"\",'Numerická proměnná'!A1396)","v":""}]
[{"$f":"IF('Numerická proměnná'!A1397=\"\",\"\",'Numerická proměnná'!A1397)","v":""}]
[{"$f":"IF('Numerická proměnná'!A1398=\"\",\"\",'Numerická proměnná'!A1398)","v":""}]
[{"$f":"IF('Numerická proměnná'!A1399=\"\",\"\",'Numerická proměnná'!A1399)","v":""}]
[{"$f":"IF('Numerická proměnná'!A1400=\"\",\"\",'Numerická proměnná'!A1400)","v":""}]
[{"$f":"IF('Numerická proměnná'!A1401=\"\",\"\",'Numerická proměnná'!A1401)","v":""}]
[{"$f":"IF('Numerická proměnná'!A1402=\"\",\"\",'Numerická proměnná'!A1402)","v":""}]
[{"$f":"IF('Numerická proměnná'!A1403=\"\",\"\",'Numerická proměnná'!A1403)","v":""}]
[{"$f":"IF('Numerická proměnná'!A1404=\"\",\"\",'Numerická proměnná'!A1404)","v":""}]
[{"$f":"IF('Numerická proměnná'!A1405=\"\",\"\",'Numerická proměnná'!A1405)","v":""}]
[{"$f":"IF('Numerická proměnná'!A1406=\"\",\"\",'Numerická proměnná'!A1406)","v":""}]
[{"$f":"IF('Numerická proměnná'!A1407=\"\",\"\",'Numerická proměnná'!A1407)","v":""}]
[{"$f":"IF('Numerická proměnná'!A1408=\"\",\"\",'Numerická proměnná'!A1408)","v":""}]
[{"$f":"IF('Numerická proměnná'!A1409=\"\",\"\",'Numerická proměnná'!A1409)","v":""}]
[{"$f":"IF('Numerická proměnná'!A1410=\"\",\"\",'Numerická proměnná'!A1410)","v":""}]
[{"$f":"IF('Numerická proměnná'!A1411=\"\",\"\",'Numerická proměnná'!A1411)","v":""}]
[{"$f":"IF('Numerická proměnná'!A1412=\"\",\"\",'Numerická proměnná'!A1412)","v":""}]
[{"$f":"IF('Numerická proměnná'!A1413=\"\",\"\",'Numerická proměnná'!A1413)","v":""}]
[{"$f":"IF('Numerická proměnná'!A1414=\"\",\"\",'Numerická proměnná'!A1414)","v":""}]
[{"$f":"IF('Numerická proměnná'!A1415=\"\",\"\",'Numerická proměnná'!A1415)","v":""}]
[{"$f":"IF('Numerická proměnná'!A1416=\"\",\"\",'Numerická proměnná'!A1416)","v":""}]
[{"$f":"IF('Numerická proměnná'!A1417=\"\",\"\",'Numerická proměnná'!A1417)","v":""}]
[{"$f":"IF('Numerická proměnná'!A1418=\"\",\"\",'Numerická proměnná'!A1418)","v":""}]
[{"$f":"IF('Numerická proměnná'!A1419=\"\",\"\",'Numerická proměnná'!A1419)","v":""}]
[{"$f":"IF('Numerická proměnná'!A1420=\"\",\"\",'Numerická proměnná'!A1420)","v":""}]
[{"$f":"IF('Numerická proměnná'!A1421=\"\",\"\",'Numerická proměnná'!A1421)","v":""}]
[{"$f":"IF('Numerická proměnná'!A1422=\"\",\"\",'Numerická proměnná'!A1422)","v":""}]
[{"$f":"IF('Numerická proměnná'!A1423=\"\",\"\",'Numerická proměnná'!A1423)","v":""}]
[{"$f":"IF('Numerická proměnná'!A1424=\"\",\"\",'Numerická proměnná'!A1424)","v":""}]
[{"$f":"IF('Numerická proměnná'!A1425=\"\",\"\",'Numerická proměnná'!A1425)","v":""}]
[{"$f":"IF('Numerická proměnná'!A1426=\"\",\"\",'Numerická proměnná'!A1426)","v":""}]
[{"$f":"IF('Numerická proměnná'!A1427=\"\",\"\",'Numerická proměnná'!A1427)","v":""}]
[{"$f":"IF('Numerická proměnná'!A1428=\"\",\"\",'Numerická proměnná'!A1428)","v":""}]
[{"$f":"IF('Numerická proměnná'!A1429=\"\",\"\",'Numerická proměnná'!A1429)","v":""}]
[{"$f":"IF('Numerická proměnná'!A1430=\"\",\"\",'Numerická proměnná'!A1430)","v":""}]
[{"$f":"IF('Numerická proměnná'!A1431=\"\",\"\",'Numerická proměnná'!A1431)","v":""}]
[{"$f":"IF('Numerická proměnná'!A1432=\"\",\"\",'Numerická proměnná'!A1432)","v":""}]
[{"$f":"IF('Numerická proměnná'!A1433=\"\",\"\",'Numerická proměnná'!A1433)","v":""}]
[{"$f":"IF('Numerická proměnná'!A1434=\"\",\"\",'Numerická proměnná'!A1434)","v":""}]
[{"$f":"IF('Numerická proměnná'!A1435=\"\",\"\",'Numerická proměnná'!A1435)","v":""}]
[{"$f":"IF('Numerická proměnná'!A1436=\"\",\"\",'Numerická proměnná'!A1436)","v":""}]
[{"$f":"IF('Numerická proměnná'!A1437=\"\",\"\",'Numerická proměnná'!A1437)","v":""}]
[{"$f":"IF('Numerická proměnná'!A1438=\"\",\"\",'Numerická proměnná'!A1438)","v":""}]
[{"$f":"IF('Numerická proměnná'!A1439=\"\",\"\",'Numerická proměnná'!A1439)","v":""}]
[{"$f":"IF('Numerická proměnná'!A1440=\"\",\"\",'Numerická proměnná'!A1440)","v":""}]
[{"$f":"IF('Numerická proměnná'!A1441=\"\",\"\",'Numerická proměnná'!A1441)","v":""}]
[{"$f":"IF('Numerická proměnná'!A1442=\"\",\"\",'Numerická proměnná'!A1442)","v":""}]
[{"$f":"IF('Numerická proměnná'!A1443=\"\",\"\",'Numerická proměnná'!A1443)","v":""}]
[{"$f":"IF('Numerická proměnná'!A1444=\"\",\"\",'Numerická proměnná'!A1444)","v":""}]
[{"$f":"IF('Numerická proměnná'!A1445=\"\",\"\",'Numerická proměnná'!A1445)","v":""}]
[{"$f":"IF('Numerická proměnná'!A1446=\"\",\"\",'Numerická proměnná'!A1446)","v":""}]
[{"$f":"IF('Numerická proměnná'!A1447=\"\",\"\",'Numerická proměnná'!A1447)","v":""}]
[{"$f":"IF('Numerická proměnná'!A1448=\"\",\"\",'Numerická proměnná'!A1448)","v":""}]
[{"$f":"IF('Numerická proměnná'!A1449=\"\",\"\",'Numerická proměnná'!A1449)","v":""}]
[{"$f":"IF('Numerická proměnná'!A1450=\"\",\"\",'Numerická proměnná'!A1450)","v":""}]
[{"$f":"IF('Numerická proměnná'!A1451=\"\",\"\",'Numerická proměnná'!A1451)","v":""}]
[{"$f":"IF('Numerická proměnná'!A1452=\"\",\"\",'Numerická proměnná'!A1452)","v":""}]
[{"$f":"IF('Numerická proměnná'!A1453=\"\",\"\",'Numerická proměnná'!A1453)","v":""}]
[{"$f":"IF('Numerická proměnná'!A1454=\"\",\"\",'Numerická proměnná'!A1454)","v":""}]
[{"$f":"IF('Numerická proměnná'!A1455=\"\",\"\",'Numerická proměnná'!A1455)","v":""}]
[{"$f":"IF('Numerická proměnná'!A1456=\"\",\"\",'Numerická proměnná'!A1456)","v":""}]
[{"$f":"IF('Numerická proměnná'!A1457=\"\",\"\",'Numerická proměnná'!A1457)","v":""}]
[{"$f":"IF('Numerická proměnná'!A1458=\"\",\"\",'Numerická proměnná'!A1458)","v":""}]
[{"$f":"IF('Numerická proměnná'!A1459=\"\",\"\",'Numerická proměnná'!A1459)","v":""}]
[{"$f":"IF('Numerická proměnná'!A1460=\"\",\"\",'Numerická proměnná'!A1460)","v":""}]
[{"$f":"IF('Numerická proměnná'!A1461=\"\",\"\",'Numerická proměnná'!A1461)","v":""}]
[{"$f":"IF('Numerická proměnná'!A1462=\"\",\"\",'Numerická proměnná'!A1462)","v":""}]
[{"$f":"IF('Numerická proměnná'!A1463=\"\",\"\",'Numerická proměnná'!A1463)","v":""}]
[{"$f":"IF('Numerická proměnná'!A1464=\"\",\"\",'Numerická proměnná'!A1464)","v":""}]
[{"$f":"IF('Numerická proměnná'!A1465=\"\",\"\",'Numerická proměnná'!A1465)","v":""}]
[{"$f":"IF('Numerická proměnná'!A1466=\"\",\"\",'Numerická proměnná'!A1466)","v":""}]
[{"$f":"IF('Numerická proměnná'!A1467=\"\",\"\",'Numerická proměnná'!A1467)","v":""}]
[{"$f":"IF('Numerická proměnná'!A1468=\"\",\"\",'Numerická proměnná'!A1468)","v":""}]
[{"$f":"IF('Numerická proměnná'!A1469=\"\",\"\",'Numerická proměnná'!A1469)","v":""}]
[{"$f":"IF('Numerická proměnná'!A1470=\"\",\"\",'Numerická proměnná'!A1470)","v":""}]
[{"$f":"IF('Numerická proměnná'!A1471=\"\",\"\",'Numerická proměnná'!A1471)","v":""}]
[{"$f":"IF('Numerická proměnná'!A1472=\"\",\"\",'Numerická proměnná'!A1472)","v":""}]
[{"$f":"IF('Numerická proměnná'!A1473=\"\",\"\",'Numerická proměnná'!A1473)","v":""}]
[{"$f":"IF('Numerická proměnná'!A1474=\"\",\"\",'Numerická proměnná'!A1474)","v":""}]
[{"$f":"IF('Numerická proměnná'!A1475=\"\",\"\",'Numerická proměnná'!A1475)","v":""}]
[{"$f":"IF('Numerická proměnná'!A1476=\"\",\"\",'Numerická proměnná'!A1476)","v":""}]
[{"$f":"IF('Numerická proměnná'!A1477=\"\",\"\",'Numerická proměnná'!A1477)","v":""}]
[{"$f":"IF('Numerická proměnná'!A1478=\"\",\"\",'Numerická proměnná'!A1478)","v":""}]
[{"$f":"IF('Numerická proměnná'!A1479=\"\",\"\",'Numerická proměnná'!A1479)","v":""}]
[{"$f":"IF('Numerická proměnná'!A1480=\"\",\"\",'Numerická proměnná'!A1480)","v":""}]
[{"$f":"IF('Numerická proměnná'!A1481=\"\",\"\",'Numerická proměnná'!A1481)","v":""}]
[{"$f":"IF('Numerická proměnná'!A1482=\"\",\"\",'Numerická proměnná'!A1482)","v":""}]
[{"$f":"IF('Numerická proměnná'!A1483=\"\",\"\",'Numerická proměnná'!A1483)","v":""}]
[{"$f":"IF('Numerická proměnná'!A1484=\"\",\"\",'Numerická proměnná'!A1484)","v":""}]
[{"$f":"IF('Numerická proměnná'!A1485=\"\",\"\",'Numerická proměnná'!A1485)","v":""}]
[{"$f":"IF('Numerická proměnná'!A1486=\"\",\"\",'Numerická proměnná'!A1486)","v":""}]
[{"$f":"IF('Numerická proměnná'!A1487=\"\",\"\",'Numerická proměnná'!A1487)","v":""}]
[{"$f":"IF('Numerická proměnná'!A1488=\"\",\"\",'Numerická proměnná'!A1488)","v":""}]
[{"$f":"IF('Numerická proměnná'!A1489=\"\",\"\",'Numerická proměnná'!A1489)","v":""}]
[{"$f":"IF('Numerická proměnná'!A1490=\"\",\"\",'Numerická proměnná'!A1490)","v":""}]
[{"$f":"IF('Numerická proměnná'!A1491=\"\",\"\",'Numerická proměnná'!A1491)","v":""}]
[{"$f":"IF('Numerická proměnná'!A1492=\"\",\"\",'Numerická proměnná'!A1492)","v":""}]
[{"$f":"IF('Numerická proměnná'!A1493=\"\",\"\",'Numerická proměnná'!A1493)","v":""}]
[{"$f":"IF('Numerická proměnná'!A1494=\"\",\"\",'Numerická proměnná'!A1494)","v":""}]
[{"$f":"IF('Numerická proměnná'!A1495=\"\",\"\",'Numerická proměnná'!A1495)","v":""}]
[{"$f":"IF('Numerická proměnná'!A1496=\"\",\"\",'Numerická proměnná'!A1496)","v":""}]
[{"$f":"IF('Numerická proměnná'!A1497=\"\",\"\",'Numerická proměnná'!A1497)","v":""}]
[{"$f":"IF('Numerická proměnná'!A1498=\"\",\"\",'Numerická proměnná'!A1498)","v":""}]
[{"$f":"IF('Numerická proměnná'!A1499=\"\",\"\",'Numerická proměnná'!A1499)","v":""}]
[{"$f":"IF('Numerická proměnná'!A1500=\"\",\"\",'Numerická proměnná'!A1500)","v":""}]
[{"$f":"IF('Numerická proměnná'!A1501=\"\",\"\",'Numerická proměnná'!A1501)","v":""}]
[{"$f":"IF('Numerická proměnná'!A1502=\"\",\"\",'Numerická proměnná'!A1502)","v":""}]
[{"$f":"IF('Numerická proměnná'!A1503=\"\",\"\",'Numerická proměnná'!A1503)","v":""}]
[{"$f":"IF('Numerická proměnná'!A1504=\"\",\"\",'Numerická proměnná'!A1504)","v":""}]
[{"$f":"IF('Numerická proměnná'!A1505=\"\",\"\",'Numerická proměnná'!A1505)","v":""}]
[{"$f":"IF('Numerická proměnná'!A1506=\"\",\"\",'Numerická proměnná'!A1506)","v":""}]
[{"$f":"IF('Numerická proměnná'!A1507=\"\",\"\",'Numerická proměnná'!A1507)","v":""}]
[{"$f":"IF('Numerická proměnná'!A1508=\"\",\"\",'Numerická proměnná'!A1508)","v":""}]
[{"$f":"IF('Numerická proměnná'!A1509=\"\",\"\",'Numerická proměnná'!A1509)","v":""}]
[{"$f":"IF('Numerická proměnná'!A1510=\"\",\"\",'Numerická proměnná'!A1510)","v":""}]
[{"$f":"IF('Numerická proměnná'!A1511=\"\",\"\",'Numerická proměnná'!A1511)","v":""}]
[{"$f":"IF('Numerická proměnná'!A1512=\"\",\"\",'Numerická proměnná'!A1512)","v":""}]
[{"$f":"IF('Numerická proměnná'!A1513=\"\",\"\",'Numerická proměnná'!A1513)","v":""}]
[{"$f":"IF('Numerická proměnná'!A1514=\"\",\"\",'Numerická proměnná'!A1514)","v":""}]
[{"$f":"IF('Numerická proměnná'!A1515=\"\",\"\",'Numerická proměnná'!A1515)","v":""}]
[{"$f":"IF('Numerická proměnná'!A1516=\"\",\"\",'Numerická proměnná'!A1516)","v":""}]
[{"$f":"IF('Numerická proměnná'!A1517=\"\",\"\",'Numerická proměnná'!A1517)","v":""}]
[{"$f":"IF('Numerická proměnná'!A1518=\"\",\"\",'Numerická proměnná'!A1518)","v":""}]
[{"$f":"IF('Numerická proměnná'!A1519=\"\",\"\",'Numerická proměnná'!A1519)","v":""}]
[{"$f":"IF('Numerická proměnná'!A1520=\"\",\"\",'Numerická proměnná'!A1520)","v":""}]
[{"$f":"IF('Numerická proměnná'!A1521=\"\",\"\",'Numerická proměnná'!A1521)","v":""}]
[{"$f":"IF('Numerická proměnná'!A1522=\"\",\"\",'Numerická proměnná'!A1522)","v":""}]
[{"$f":"IF('Numerická proměnná'!A1523=\"\",\"\",'Numerická proměnná'!A1523)","v":""}]
[{"$f":"IF('Numerická proměnná'!A1524=\"\",\"\",'Numerická proměnná'!A1524)","v":""}]
[{"$f":"IF('Numerická proměnná'!A1525=\"\",\"\",'Numerická proměnná'!A1525)","v":""}]
[{"$f":"IF('Numerická proměnná'!A1526=\"\",\"\",'Numerická proměnná'!A1526)","v":""}]
[{"$f":"IF('Numerická proměnná'!A1527=\"\",\"\",'Numerická proměnná'!A1527)","v":""}]
[{"$f":"IF('Numerická proměnná'!A1528=\"\",\"\",'Numerická proměnná'!A1528)","v":""}]
[{"$f":"IF('Numerická proměnná'!A1529=\"\",\"\",'Numerická proměnná'!A1529)","v":""}]
[{"$f":"IF('Numerická proměnná'!A1530=\"\",\"\",'Numerická proměnná'!A1530)","v":""}]
[{"$f":"IF('Numerická proměnná'!A1531=\"\",\"\",'Numerická proměnná'!A1531)","v":""}]
[{"$f":"IF('Numerická proměnná'!A1532=\"\",\"\",'Numerická proměnná'!A1532)","v":""}]
[{"$f":"IF('Numerická proměnná'!A1533=\"\",\"\",'Numerická proměnná'!A1533)","v":""}]
[{"$f":"IF('Numerická proměnná'!A1534=\"\",\"\",'Numerická proměnná'!A1534)","v":""}]
[{"$f":"IF('Numerická proměnná'!A1535=\"\",\"\",'Numerická proměnná'!A1535)","v":""}]
[{"$f":"IF('Numerická proměnná'!A1536=\"\",\"\",'Numerická proměnná'!A1536)","v":""}]
[{"$f":"IF('Numerická proměnná'!A1537=\"\",\"\",'Numerická proměnná'!A1537)","v":""}]
[{"$f":"IF('Numerická proměnná'!A1538=\"\",\"\",'Numerická proměnná'!A1538)","v":""}]
[{"$f":"IF('Numerická proměnná'!A1539=\"\",\"\",'Numerická proměnná'!A1539)","v":""}]
[{"$f":"IF('Numerická proměnná'!A1540=\"\",\"\",'Numerická proměnná'!A1540)","v":""}]
[{"$f":"IF('Numerická proměnná'!A1541=\"\",\"\",'Numerická proměnná'!A1541)","v":""}]
[{"$f":"IF('Numerická proměnná'!A1542=\"\",\"\",'Numerická proměnná'!A1542)","v":""}]
[{"$f":"IF('Numerická proměnná'!A1543=\"\",\"\",'Numerická proměnná'!A1543)","v":""}]
[{"$f":"IF('Numerická proměnná'!A1544=\"\",\"\",'Numerická proměnná'!A1544)","v":""}]
[{"$f":"IF('Numerická proměnná'!A1545=\"\",\"\",'Numerická proměnná'!A1545)","v":""}]
[{"$f":"IF('Numerická proměnná'!A1546=\"\",\"\",'Numerická proměnná'!A1546)","v":""}]
[{"$f":"IF('Numerická proměnná'!A1547=\"\",\"\",'Numerická proměnná'!A1547)","v":""}]
[{"$f":"IF('Numerická proměnná'!A1548=\"\",\"\",'Numerická proměnná'!A1548)","v":""}]
[{"$f":"IF('Numerická proměnná'!A1549=\"\",\"\",'Numerická proměnná'!A1549)","v":""}]
[{"$f":"IF('Numerická proměnná'!A1550=\"\",\"\",'Numerická proměnná'!A1550)","v":""}]
[{"$f":"IF('Numerická proměnná'!A1551=\"\",\"\",'Numerická proměnná'!A1551)","v":""}]
[{"$f":"IF('Numerická proměnná'!A1552=\"\",\"\",'Numerická proměnná'!A1552)","v":""}]
[{"$f":"IF('Numerická proměnná'!A1553=\"\",\"\",'Numerická proměnná'!A1553)","v":""}]
[{"$f":"IF('Numerická proměnná'!A1554=\"\",\"\",'Numerická proměnná'!A1554)","v":""}]
[{"$f":"IF('Numerická proměnná'!A1555=\"\",\"\",'Numerická proměnná'!A1555)","v":""}]
[{"$f":"IF('Numerická proměnná'!A1556=\"\",\"\",'Numerická proměnná'!A1556)","v":""}]
[{"$f":"IF('Numerická proměnná'!A1557=\"\",\"\",'Numerická proměnná'!A1557)","v":""}]
[{"$f":"IF('Numerická proměnná'!A1558=\"\",\"\",'Numerická proměnná'!A1558)","v":""}]
[{"$f":"IF('Numerická proměnná'!A1559=\"\",\"\",'Numerická proměnná'!A1559)","v":""}]
[{"$f":"IF('Numerická proměnná'!A1560=\"\",\"\",'Numerická proměnná'!A1560)","v":""}]
[{"$f":"IF('Numerická proměnná'!A1561=\"\",\"\",'Numerická proměnná'!A1561)","v":""}]
[{"$f":"IF('Numerická proměnná'!A1562=\"\",\"\",'Numerická proměnná'!A1562)","v":""}]
[{"$f":"IF('Numerická proměnná'!A1563=\"\",\"\",'Numerická proměnná'!A1563)","v":""}]
[{"$f":"IF('Numerická proměnná'!A1564=\"\",\"\",'Numerická proměnná'!A1564)","v":""}]
[{"$f":"IF('Numerická proměnná'!A1565=\"\",\"\",'Numerická proměnná'!A1565)","v":""}]
[{"$f":"IF('Numerická proměnná'!A1566=\"\",\"\",'Numerická proměnná'!A1566)","v":""}]
[{"$f":"IF('Numerická proměnná'!A1567=\"\",\"\",'Numerická proměnná'!A1567)","v":""}]
[{"$f":"IF('Numerická proměnná'!A1568=\"\",\"\",'Numerická proměnná'!A1568)","v":""}]
[{"$f":"IF('Numerická proměnná'!A1569=\"\",\"\",'Numerická proměnná'!A1569)","v":""}]
[{"$f":"IF('Numerická proměnná'!A1570=\"\",\"\",'Numerická proměnná'!A1570)","v":""}]
[{"$f":"IF('Numerická proměnná'!A1571=\"\",\"\",'Numerická proměnná'!A1571)","v":""}]
[{"$f":"IF('Numerická proměnná'!A1572=\"\",\"\",'Numerická proměnná'!A1572)","v":""}]
[{"$f":"IF('Numerická proměnná'!A1573=\"\",\"\",'Numerická proměnná'!A1573)","v":""}]
[{"$f":"IF('Numerická proměnná'!A1574=\"\",\"\",'Numerická proměnná'!A1574)","v":""}]
[{"$f":"IF('Numerická proměnná'!A1575=\"\",\"\",'Numerická proměnná'!A1575)","v":""}]
[{"$f":"IF('Numerická proměnná'!A1576=\"\",\"\",'Numerická proměnná'!A1576)","v":""}]
[{"$f":"IF('Numerická proměnná'!A1577=\"\",\"\",'Numerická proměnná'!A1577)","v":""}]
[{"$f":"IF('Numerická proměnná'!A1578=\"\",\"\",'Numerická proměnná'!A1578)","v":""}]
[{"$f":"IF('Numerická proměnná'!A1579=\"\",\"\",'Numerická proměnná'!A1579)","v":""}]
[{"$f":"IF('Numerická proměnná'!A1580=\"\",\"\",'Numerická proměnná'!A1580)","v":""}]
[{"$f":"IF('Numerická proměnná'!A1581=\"\",\"\",'Numerická proměnná'!A1581)","v":""}]
[{"$f":"IF('Numerická proměnná'!A1582=\"\",\"\",'Numerická proměnná'!A1582)","v":""}]
[{"$f":"IF('Numerická proměnná'!A1583=\"\",\"\",'Numerická proměnná'!A1583)","v":""}]
[{"$f":"IF('Numerická proměnná'!A1584=\"\",\"\",'Numerická proměnná'!A1584)","v":""}]
[{"$f":"IF('Numerická proměnná'!A1585=\"\",\"\",'Numerická proměnná'!A1585)","v":""}]
[{"$f":"IF('Numerická proměnná'!A1586=\"\",\"\",'Numerická proměnná'!A1586)","v":""}]
[{"$f":"IF('Numerická proměnná'!A1587=\"\",\"\",'Numerická proměnná'!A1587)","v":""}]
[{"$f":"IF('Numerická proměnná'!A1588=\"\",\"\",'Numerická proměnná'!A1588)","v":""}]
[{"$f":"IF('Numerická proměnná'!A1589=\"\",\"\",'Numerická proměnná'!A1589)","v":""}]
[{"$f":"IF('Numerická proměnná'!A1590=\"\",\"\",'Numerická proměnná'!A1590)","v":""}]
[{"$f":"IF('Numerická proměnná'!A1591=\"\",\"\",'Numerická proměnná'!A1591)","v":""}]
[{"$f":"IF('Numerická proměnná'!A1592=\"\",\"\",'Numerická proměnná'!A1592)","v":""}]
[{"$f":"IF('Numerická proměnná'!A1593=\"\",\"\",'Numerická proměnná'!A1593)","v":""}]
[{"$f":"IF('Numerická proměnná'!A1594=\"\",\"\",'Numerická proměnná'!A1594)","v":""}]
[{"$f":"IF('Numerická proměnná'!A1595=\"\",\"\",'Numerická proměnná'!A1595)","v":""}]
[{"$f":"IF('Numerická proměnná'!A1596=\"\",\"\",'Numerická proměnná'!A1596)","v":""}]
[{"$f":"IF('Numerická proměnná'!A1597=\"\",\"\",'Numerická proměnná'!A1597)","v":""}]
[{"$f":"IF('Numerická proměnná'!A1598=\"\",\"\",'Numerická proměnná'!A1598)","v":""}]
[{"$f":"IF('Numerická proměnná'!A1599=\"\",\"\",'Numerická proměnná'!A1599)","v":""}]
[{"$f":"IF('Numerická proměnná'!A1600=\"\",\"\",'Numerická proměnná'!A1600)","v":""}]
[{"$f":"IF('Numerická proměnná'!A1601=\"\",\"\",'Numerická proměnná'!A1601)","v":""}]
[{"$f":"IF('Numerická proměnná'!A1602=\"\",\"\",'Numerická proměnná'!A1602)","v":""}]
[{"$f":"IF('Numerická proměnná'!A1603=\"\",\"\",'Numerická proměnná'!A1603)","v":""}]
[{"$f":"IF('Numerická proměnná'!A1604=\"\",\"\",'Numerická proměnná'!A1604)","v":""}]
[{"$f":"IF('Numerická proměnná'!A1605=\"\",\"\",'Numerická proměnná'!A1605)","v":""}]
[{"$f":"IF('Numerická proměnná'!A1606=\"\",\"\",'Numerická proměnná'!A1606)","v":""}]
[{"$f":"IF('Numerická proměnná'!A1607=\"\",\"\",'Numerická proměnná'!A1607)","v":""}]
[{"$f":"IF('Numerická proměnná'!A1608=\"\",\"\",'Numerická proměnná'!A1608)","v":""}]
[{"$f":"IF('Numerická proměnná'!A1609=\"\",\"\",'Numerická proměnná'!A1609)","v":""}]
[{"$f":"IF('Numerická proměnná'!A1610=\"\",\"\",'Numerická proměnná'!A1610)","v":""}]
[{"$f":"IF('Numerická proměnná'!A1611=\"\",\"\",'Numerická proměnná'!A1611)","v":""}]
[{"$f":"IF('Numerická proměnná'!A1612=\"\",\"\",'Numerická proměnná'!A1612)","v":""}]
[{"$f":"IF('Numerická proměnná'!A1613=\"\",\"\",'Numerická proměnná'!A1613)","v":""}]
[{"$f":"IF('Numerická proměnná'!A1614=\"\",\"\",'Numerická proměnná'!A1614)","v":""}]
[{"$f":"IF('Numerická proměnná'!A1615=\"\",\"\",'Numerická proměnná'!A1615)","v":""}]
[{"$f":"IF('Numerická proměnná'!A1616=\"\",\"\",'Numerická proměnná'!A1616)","v":""}]
[{"$f":"IF('Numerická proměnná'!A1617=\"\",\"\",'Numerická proměnná'!A1617)","v":""}]
[{"$f":"IF('Numerická proměnná'!A1618=\"\",\"\",'Numerická proměnná'!A1618)","v":""}]
[{"$f":"IF('Numerická proměnná'!A1619=\"\",\"\",'Numerická proměnná'!A1619)","v":""}]
[{"$f":"IF('Numerická proměnná'!A1620=\"\",\"\",'Numerická proměnná'!A1620)","v":""}]
[{"$f":"IF('Numerická proměnná'!A1621=\"\",\"\",'Numerická proměnná'!A1621)","v":""}]
[{"$f":"IF('Numerická proměnná'!A1622=\"\",\"\",'Numerická proměnná'!A1622)","v":""}]
[{"$f":"IF('Numerická proměnná'!A1623=\"\",\"\",'Numerická proměnná'!A1623)","v":""}]
[{"$f":"IF('Numerická proměnná'!A1624=\"\",\"\",'Numerická proměnná'!A1624)","v":""}]
[{"$f":"IF('Numerická proměnná'!A1625=\"\",\"\",'Numerická proměnná'!A1625)","v":""}]
[{"$f":"IF('Numerická proměnná'!A1626=\"\",\"\",'Numerická proměnná'!A1626)","v":""}]
[{"$f":"IF('Numerická proměnná'!A1627=\"\",\"\",'Numerická proměnná'!A1627)","v":""}]
[{"$f":"IF('Numerická proměnná'!A1628=\"\",\"\",'Numerická proměnná'!A1628)","v":""}]
[{"$f":"IF('Numerická proměnná'!A1629=\"\",\"\",'Numerická proměnná'!A1629)","v":""}]
[{"$f":"IF('Numerická proměnná'!A1630=\"\",\"\",'Numerická proměnná'!A1630)","v":""}]
[{"$f":"IF('Numerická proměnná'!A1631=\"\",\"\",'Numerická proměnná'!A1631)","v":""}]
[{"$f":"IF('Numerická proměnná'!A1632=\"\",\"\",'Numerická proměnná'!A1632)","v":""}]
[{"$f":"IF('Numerická proměnná'!A1633=\"\",\"\",'Numerická proměnná'!A1633)","v":""}]
[{"$f":"IF('Numerická proměnná'!A1634=\"\",\"\",'Numerická proměnná'!A1634)","v":""}]
[{"$f":"IF('Numerická proměnná'!A1635=\"\",\"\",'Numerická proměnná'!A1635)","v":""}]
[{"$f":"IF('Numerická proměnná'!A1636=\"\",\"\",'Numerická proměnná'!A1636)","v":""}]
[{"$f":"IF('Numerická proměnná'!A1637=\"\",\"\",'Numerická proměnná'!A1637)","v":""}]
[{"$f":"IF('Numerická proměnná'!A1638=\"\",\"\",'Numerická proměnná'!A1638)","v":""}]
[{"$f":"IF('Numerická proměnná'!A1639=\"\",\"\",'Numerická proměnná'!A1639)","v":""}]
[{"$f":"IF('Numerická proměnná'!A1640=\"\",\"\",'Numerická proměnná'!A1640)","v":""}]
[{"$f":"IF('Numerická proměnná'!A1641=\"\",\"\",'Numerická proměnná'!A1641)","v":""}]
[{"$f":"IF('Numerická proměnná'!A1642=\"\",\"\",'Numerická proměnná'!A1642)","v":""}]
[{"$f":"IF('Numerická proměnná'!A1643=\"\",\"\",'Numerická proměnná'!A1643)","v":""}]
[{"$f":"IF('Numerická proměnná'!A1644=\"\",\"\",'Numerická proměnná'!A1644)","v":""}]
[{"$f":"IF('Numerická proměnná'!A1645=\"\",\"\",'Numerická proměnná'!A1645)","v":""}]
[{"$f":"IF('Numerická proměnná'!A1646=\"\",\"\",'Numerická proměnná'!A1646)","v":""}]
[{"$f":"IF('Numerická proměnná'!A1647=\"\",\"\",'Numerická proměnná'!A1647)","v":""}]
[{"$f":"IF('Numerická proměnná'!A1648=\"\",\"\",'Numerická proměnná'!A1648)","v":""}]
[{"$f":"IF('Numerická proměnná'!A1649=\"\",\"\",'Numerická proměnná'!A1649)","v":""}]
[{"$f":"IF('Numerická proměnná'!A1650=\"\",\"\",'Numerická proměnná'!A1650)","v":""}]
[{"$f":"IF('Numerická proměnná'!A1651=\"\",\"\",'Numerická proměnná'!A1651)","v":""}]
[{"$f":"IF('Numerická proměnná'!A1652=\"\",\"\",'Numerická proměnná'!A1652)","v":""}]
[{"$f":"IF('Numerická proměnná'!A1653=\"\",\"\",'Numerická proměnná'!A1653)","v":""}]
[{"$f":"IF('Numerická proměnná'!A1654=\"\",\"\",'Numerická proměnná'!A1654)","v":""}]
[{"$f":"IF('Numerická proměnná'!A1655=\"\",\"\",'Numerická proměnná'!A1655)","v":""}]
[{"$f":"IF('Numerická proměnná'!A1656=\"\",\"\",'Numerická proměnná'!A1656)","v":""}]
[{"$f":"IF('Numerická proměnná'!A1657=\"\",\"\",'Numerická proměnná'!A1657)","v":""}]
[{"$f":"IF('Numerická proměnná'!A1658=\"\",\"\",'Numerická proměnná'!A1658)","v":""}]
[{"$f":"IF('Numerická proměnná'!A1659=\"\",\"\",'Numerická proměnná'!A1659)","v":""}]
[{"$f":"IF('Numerická proměnná'!A1660=\"\",\"\",'Numerická proměnná'!A1660)","v":""}]
[{"$f":"IF('Numerická proměnná'!A1661=\"\",\"\",'Numerická proměnná'!A1661)","v":""}]
[{"$f":"IF('Numerická proměnná'!A1662=\"\",\"\",'Numerická proměnná'!A1662)","v":""}]
[{"$f":"IF('Numerická proměnná'!A1663=\"\",\"\",'Numerická proměnná'!A1663)","v":""}]
[{"$f":"IF('Numerická proměnná'!A1664=\"\",\"\",'Numerická proměnná'!A1664)","v":""}]
[{"$f":"IF('Numerická proměnná'!A1665=\"\",\"\",'Numerická proměnná'!A1665)","v":""}]
[{"$f":"IF('Numerická proměnná'!A1666=\"\",\"\",'Numerická proměnná'!A1666)","v":""}]
[{"$f":"IF('Numerická proměnná'!A1667=\"\",\"\",'Numerická proměnná'!A1667)","v":""}]
[{"$f":"IF('Numerická proměnná'!A1668=\"\",\"\",'Numerická proměnná'!A1668)","v":""}]
[{"$f":"IF('Numerická proměnná'!A1669=\"\",\"\",'Numerická proměnná'!A1669)","v":""}]
[{"$f":"IF('Numerická proměnná'!A1670=\"\",\"\",'Numerická proměnná'!A1670)","v":""}]
[{"$f":"IF('Numerická proměnná'!A1671=\"\",\"\",'Numerická proměnná'!A1671)","v":""}]
[{"$f":"IF('Numerická proměnná'!A1672=\"\",\"\",'Numerická proměnná'!A1672)","v":""}]
[{"$f":"IF('Numerická proměnná'!A1673=\"\",\"\",'Numerická proměnná'!A1673)","v":""}]
[{"$f":"IF('Numerická proměnná'!A1674=\"\",\"\",'Numerická proměnná'!A1674)","v":""}]
[{"$f":"IF('Numerická proměnná'!A1675=\"\",\"\",'Numerická proměnná'!A1675)","v":""}]
[{"$f":"IF('Numerická proměnná'!A1676=\"\",\"\",'Numerická proměnná'!A1676)","v":""}]
[{"$f":"IF('Numerická proměnná'!A1677=\"\",\"\",'Numerická proměnná'!A1677)","v":""}]
[{"$f":"IF('Numerická proměnná'!A1678=\"\",\"\",'Numerická proměnná'!A1678)","v":""}]
[{"$f":"IF('Numerická proměnná'!A1679=\"\",\"\",'Numerická proměnná'!A1679)","v":""}]
[{"$f":"IF('Numerická proměnná'!A1680=\"\",\"\",'Numerická proměnná'!A1680)","v":""}]
[{"$f":"IF('Numerická proměnná'!A1681=\"\",\"\",'Numerická proměnná'!A1681)","v":""}]
[{"$f":"IF('Numerická proměnná'!A1682=\"\",\"\",'Numerická proměnná'!A1682)","v":""}]
[{"$f":"IF('Numerická proměnná'!A1683=\"\",\"\",'Numerická proměnná'!A1683)","v":""}]
[{"$f":"IF('Numerická proměnná'!A1684=\"\",\"\",'Numerická proměnná'!A1684)","v":""}]
[{"$f":"IF('Numerická proměnná'!A1685=\"\",\"\",'Numerická proměnná'!A1685)","v":""}]
[{"$f":"IF('Numerická proměnná'!A1686=\"\",\"\",'Numerická proměnná'!A1686)","v":""}]
[{"$f":"IF('Numerická proměnná'!A1687=\"\",\"\",'Numerická proměnná'!A1687)","v":""}]
[{"$f":"IF('Numerická proměnná'!A1688=\"\",\"\",'Numerická proměnná'!A1688)","v":""}]
[{"$f":"IF('Numerická proměnná'!A1689=\"\",\"\",'Numerická proměnná'!A1689)","v":""}]
[{"$f":"IF('Numerická proměnná'!A1690=\"\",\"\",'Numerická proměnná'!A1690)","v":""}]
[{"$f":"IF('Numerická proměnná'!A1691=\"\",\"\",'Numerická proměnná'!A1691)","v":""}]
[{"$f":"IF('Numerická proměnná'!A1692=\"\",\"\",'Numerická proměnná'!A1692)","v":""}]
[{"$f":"IF('Numerická proměnná'!A1693=\"\",\"\",'Numerická proměnná'!A1693)","v":""}]
[{"$f":"IF('Numerická proměnná'!A1694=\"\",\"\",'Numerická proměnná'!A1694)","v":""}]
[{"$f":"IF('Numerická proměnná'!A1695=\"\",\"\",'Numerická proměnná'!A1695)","v":""}]
[{"$f":"IF('Numerická proměnná'!A1696=\"\",\"\",'Numerická proměnná'!A1696)","v":""}]
[{"$f":"IF('Numerická proměnná'!A1697=\"\",\"\",'Numerická proměnná'!A1697)","v":""}]
[{"$f":"IF('Numerická proměnná'!A1698=\"\",\"\",'Numerická proměnná'!A1698)","v":""}]
[{"$f":"IF('Numerická proměnná'!A1699=\"\",\"\",'Numerická proměnná'!A1699)","v":""}]
[{"$f":"IF('Numerická proměnná'!A1700=\"\",\"\",'Numerická proměnná'!A1700)","v":""}]
[{"$f":"IF('Numerická proměnná'!A1701=\"\",\"\",'Numerická proměnná'!A1701)","v":""}]
[{"$f":"IF('Numerická proměnná'!A1702=\"\",\"\",'Numerická proměnná'!A1702)","v":""}]
[{"$f":"IF('Numerická proměnná'!A1703=\"\",\"\",'Numerická proměnná'!A1703)","v":""}]
[{"$f":"IF('Numerická proměnná'!A1704=\"\",\"\",'Numerická proměnná'!A1704)","v":""}]
[{"$f":"IF('Numerická proměnná'!A1705=\"\",\"\",'Numerická proměnná'!A1705)","v":""}]
[{"$f":"IF('Numerická proměnná'!A1706=\"\",\"\",'Numerická proměnná'!A1706)","v":""}]
[{"$f":"IF('Numerická proměnná'!A1707=\"\",\"\",'Numerická proměnná'!A1707)","v":""}]
[{"$f":"IF('Numerická proměnná'!A1708=\"\",\"\",'Numerická proměnná'!A1708)","v":""}]
[{"$f":"IF('Numerická proměnná'!A1709=\"\",\"\",'Numerická proměnná'!A1709)","v":""}]
[{"$f":"IF('Numerická proměnná'!A1710=\"\",\"\",'Numerická proměnná'!A1710)","v":""}]
[{"$f":"IF('Numerická proměnná'!A1711=\"\",\"\",'Numerická proměnná'!A1711)","v":""}]
[{"$f":"IF('Numerická proměnná'!A1712=\"\",\"\",'Numerická proměnná'!A1712)","v":""}]
[{"$f":"IF('Numerická proměnná'!A1713=\"\",\"\",'Numerická proměnná'!A1713)","v":""}]
[{"$f":"IF('Numerická proměnná'!A1714=\"\",\"\",'Numerická proměnná'!A1714)","v":""}]
[{"$f":"IF('Numerická proměnná'!A1715=\"\",\"\",'Numerická proměnná'!A1715)","v":""}]
[{"$f":"IF('Numerická proměnná'!A1716=\"\",\"\",'Numerická proměnná'!A1716)","v":""}]
[{"$f":"IF('Numerická proměnná'!A1717=\"\",\"\",'Numerická proměnná'!A1717)","v":""}]
[{"$f":"IF('Numerická proměnná'!A1718=\"\",\"\",'Numerická proměnná'!A1718)","v":""}]
[{"$f":"IF('Numerická proměnná'!A1719=\"\",\"\",'Numerická proměnná'!A1719)","v":""}]
[{"$f":"IF('Numerická proměnná'!A1720=\"\",\"\",'Numerická proměnná'!A1720)","v":""}]
[{"$f":"IF('Numerická proměnná'!A1721=\"\",\"\",'Numerická proměnná'!A1721)","v":""}]
[{"$f":"IF('Numerická proměnná'!A1722=\"\",\"\",'Numerická proměnná'!A1722)","v":""}]
[{"$f":"IF('Numerická proměnná'!A1723=\"\",\"\",'Numerická proměnná'!A1723)","v":""}]
[{"$f":"IF('Numerická proměnná'!A1724=\"\",\"\",'Numerická proměnná'!A1724)","v":""}]
[{"$f":"IF('Numerická proměnná'!A1725=\"\",\"\",'Numerická proměnná'!A1725)","v":""}]
[{"$f":"IF('Numerická proměnná'!A1726=\"\",\"\",'Numerická proměnná'!A1726)","v":""}]
[{"$f":"IF('Numerická proměnná'!A1727=\"\",\"\",'Numerická proměnná'!A1727)","v":""}]
[{"$f":"IF('Numerická proměnná'!A1728=\"\",\"\",'Numerická proměnná'!A1728)","v":""}]
[{"$f":"IF('Numerická proměnná'!A1729=\"\",\"\",'Numerická proměnná'!A1729)","v":""}]
[{"$f":"IF('Numerická proměnná'!A1730=\"\",\"\",'Numerická proměnná'!A1730)","v":""}]
[{"$f":"IF('Numerická proměnná'!A1731=\"\",\"\",'Numerická proměnná'!A1731)","v":""}]
[{"$f":"IF('Numerická proměnná'!A1732=\"\",\"\",'Numerická proměnná'!A1732)","v":""}]
[{"$f":"IF('Numerická proměnná'!A1733=\"\",\"\",'Numerická proměnná'!A1733)","v":""}]
[{"$f":"IF('Numerická proměnná'!A1734=\"\",\"\",'Numerická proměnná'!A1734)","v":""}]
[{"$f":"IF('Numerická proměnná'!A1735=\"\",\"\",'Numerická proměnná'!A1735)","v":""}]
[{"$f":"IF('Numerická proměnná'!A1736=\"\",\"\",'Numerická proměnná'!A1736)","v":""}]
[{"$f":"IF('Numerická proměnná'!A1737=\"\",\"\",'Numerická proměnná'!A1737)","v":""}]

{"sheet":"Kategoriální proměnná","index":4,"n_rows":6350,"n_cols":12,"rows_kept":6350,"cut":false,"hidden":false,"merged":[[12,3,12,7],[10,3,10,4]]}
["Číselné charakteristiky kategoriální proměnné, histogram a výsečový graf",null,null,null,null,null,null,null,null,null,null,"© Martina Litschmannová 2011"]
["Popis:"]
["1. Stiskem tlačítka RESET vymažte původní data."]
["2. Zadejte nová data."]
["3. V poli D11 zadejte název proměnné."]
["4. Stiskněte tlačitko TABULKA ČETNOSTÍ."]
["5. V poli A11 zvolte typ proměnné (nominální nebo ordinální)."]
["6. Je-li proměnná ordinální, zadejte v modrých polích sloupce C pořadí jednotlivých kategorií (od nejnižší po nejvyšší) a stiskněte tlačítko SEŘADIT."]
[]
["Typ kategoriální proměnné",null,null,"Název proměnné"]
["nominální",null,null,null,null,null,null,null,null,"n",{"$f":"COUNTA(Tabulka5[Data])","v":5}]
[]
["Data",null,null,"Tabulka četnostÍ"]
["VÝBORNĚ",null,"Pořadí kategorie","Kategorie","Četnost","Relativní četnost","Kumulativní četnost","Kum. rel. četnost"]
["VÝBORNĚ",null,null,"DOBŘE",{"$f":"IF(D15=\"\",\"\",COUNTIF(Tabulka5[Data],D15))","v":2},{"$f":"IF(OR($K$11=0,D15=\"\"),\"\",IF(D16=\"\",1-H14,ROUND(E15/SUM($E$15:$E$6350),3)))","v":0.4},{"$f":"IF(OR(D15=\"\",$A$11=\"nominální\"),\"\",E15)","v":""},{"$f":"IF(OR($K$11=0,D15=\"\",$A$11=\"nominální\"),\"\",F15)","v":""},{"$f":"F15","v":0.4}]
["VÝBORNĚ",null,null,"VÝBORNĚ",{"$f":"IF(D16=\"\",\"\",COUNTIF(Tabulka5[Data],D16))","v":3},{"$f":"IF(OR($K$11=0,D16=\"\"),\"\",IF(D17=\"\",1-I15,ROUND(E16/SUM($E$15:$E$6350),3)))","v":0.6},{"$f":"IF(OR(D16=\"\",$A$11=\"nominální\"),\"\",G15+E16)","v":""},{"$f":"IF(OR($K$11=0,D16=\"\",$A$11=\"nominální\"),\"\",H15+F16)","v":""},{"$f":"IF(OR($K$11=0,D16=\"\"),\"\",I15+F16)","v":1}]
["DOBŘE",null,null,null,{"$f":"IF(D17=\"\",\"\",COUNTIF(Tabulka5[Data],D17))","v":""},{"$f":"IF(OR($K$11=0,D17=\"\"),\"\",IF(D18=\"\",1-I16,ROUND(E17/SUM($E$15:$E$6350),3)))","v":""},{"$f":"IF(OR(D17=\"\",$A$11=\"nominální\"),\"\",G16+E17)","v":""},{"$f":"IF(OR($K$11=0,D17=\"\",$A$11=\"nominální\"),\"\",H16+F17)","v":""},{"$f":"IF(OR($K$11=0,D17=\"\"),\"\",I16+F17)","v":""}]
["DOBŘE",null,null,null,{"$f":"IF(D18=\"\",\"\",COUNTIF(Tabulka5[Data],D18))","v":""},"","","",""]
[null,null,null,null,{"$f":"IF(D19=\"\",\"\",COUNTIF(Tabulka5[Data],D19))","v":""},"","","",""]
[null,null,null,null,{"$f":"IF(D20=\"\",\"\",COUNTIF(Tabulka5[Data],D20))","v":""},"","","",""]
[null,null,null,null,{"$f":"IF(D21=\"\",\"\",COUNTIF(Tabulka5[Data],D21))","v":""},"","","",""]
[null,null,null,null,{"$f":"IF(D22=\"\",\"\",COUNTIF(Tabulka5[Data],D22))","v":""},"","","",""]
[null,null,null,null,{"$f":"IF(D23=\"\",\"\",COUNTIF(Tabulka5[Data],D23))","v":""},"","","",""]
[null,null,null,null,{"$f":"IF(D24=\"\",\"\",COUNTIF(Tabulka5[Data],D24))","v":""},"","","",""]
[null,null,null,null,{"$f":"IF(D25=\"\",\"\",COUNTIF(Tabulka5[Data],D25))","v":""},"","","",""]
[null,null,null,null,{"$f":"IF(D26=\"\",\"\",COUNTIF(Tabulka5[Data],D26))","v":""},"","","",""]
[null,null,null,null,{"$f":"IF(D27=\"\",\"\",COUNTIF(Tabulka5[Data],D27))","v":""},"","","",""]
[null,null,null,null,{"$f":"IF(D28=\"\",\"\",COUNTIF(Tabulka5[Data],D28))","v":""},"","","",""]
[null,null,null,null,{"$f":"IF(D29=\"\",\"\",COUNTIF(Tabulka5[Data],D29))","v":""},"","","",""]
[null,null,null,null,{"$f":"IF(D30=\"\",\"\",COUNTIF(Tabulka5[Data],D30))","v":""},"","","",""]
[null,null,null,null,{"$f":"IF(D31=\"\",\"\",COUNTIF(Tabulka5[Data],D31))","v":""},"","","",""]
[null,null,null,null,{"$f":"IF(D32=\"\",\"\",COUNTIF(Tabulka5[Data],D32))","v":""},"","","",""]
[null,null,null,null,{"$f":"IF(D33=\"\",\"\",COUNTIF(Tabulka5[Data],D33))","v":""},"","","",""]
[null,null,null,null,{"$f":"IF(D34=\"\",\"\",COUNTIF(Tabulka5[Data],D34))","v":""},"","","",""]
[null,null,null,null,{"$f":"IF(D35=\"\",\"\",COUNTIF(Tabulka5[Data],D35))","v":""},"","","",""]
[null,null,null,null,{"$f":"IF(D36=\"\",\"\",COUNTIF(Tabulka5[Data],D36))","v":""},"","","",""]
[null,null,null,null,{"$f":"IF(D37=\"\",\"\",COUNTIF(Tabulka5[Data],D37))","v":""},"","","",""]
[null,null,null,null,{"$f":"IF(D38=\"\",\"\",COUNTIF(Tabulka5[Data],D38))","v":""},"","","",""]
[null,null,null,null,{"$f":"IF(D39=\"\",\"\",COUNTIF(Tabulka5[Data],D39))","v":""},"","","",""]
[null,null,null,null,{"$f":"IF(D40=\"\",\"\",COUNTIF(Tabulka5[Data],D40))","v":""},"","","",""]
[null,null,null,null,{"$f":"IF(D41=\"\",\"\",COUNTIF(Tabulka5[Data],D41))","v":""},"","","",""]
[null,null,null,null,{"$f":"IF(D42=\"\",\"\",COUNTIF(Tabulka5[Data],D42))","v":""},"","","",""]
[null,null,null,null,{"$f":"IF(D43=\"\",\"\",COUNTIF(Tabulka5[Data],D43))","v":""},"","","",""]
[null,null,null,null,{"$f":"IF(D44=\"\",\"\",COUNTIF(Tabulka5[Data],D44))","v":""},"","","",""]
[null,null,null,null,{"$f":"IF(D45=\"\",\"\",COUNTIF(Tabulka5[Data],D45))","v":""},"","","",""]
[null,null,null,null,{"$f":"IF(D46=\"\",\"\",COUNTIF(Tabulka5[Data],D46))","v":""},"","","",""]
[null,null,null,null,{"$f":"IF(D47=\"\",\"\",COUNTIF(Tabulka5[Data],D47))","v":""},"","","",""]
[null,null,null,null,{"$f":"IF(D48=\"\",\"\",COUNTIF(Tabulka5[Data],D48))","v":""},"","","",""]
[null,null,null,null,{"$f":"IF(D49=\"\",\"\",COUNTIF(Tabulka5[Data],D49))","v":""},"","","",""]
[null,null,null,null,{"$f":"IF(D50=\"\",\"\",COUNTIF(Tabulka5[Data],D50))","v":""},"","","",""]
[null,null,null,null,{"$f":"IF(D51=\"\",\"\",COUNTIF(Tabulka5[Data],D51))","v":""},"","","",""]
[null,null,null,null,{"$f":"IF(D52=\"\",\"\",COUNTIF(Tabulka5[Data],D52))","v":""},"","","",""]
[null,null,null,null,{"$f":"IF(D53=\"\",\"\",COUNTIF(Tabulka5[Data],D53))","v":""},"","","",""]
[null,null,null,null,{"$f":"IF(D54=\"\",\"\",COUNTIF(Tabulka5[Data],D54))","v":""},"","","",""]
[null,null,null,null,{"$f":"IF(D55=\"\",\"\",COUNTIF(Tabulka5[Data],D55))","v":""},"","","",""]
[null,null,null,null,{"$f":"IF(D56=\"\",\"\",COUNTIF(Tabulka5[Data],D56))","v":""},"","","",""]
[null,null,null,null,{"$f":"IF(D57=\"\",\"\",COUNTIF(Tabulka5[Data],D57))","v":""},"","","",""]
[null,null,null,null,{"$f":"IF(D58=\"\",\"\",COUNTIF(Tabulka5[Data],D58))","v":""},"","","",""]
[null,null,null,null,{"$f":"IF(D59=\"\",\"\",COUNTIF(Tabulka5[Data],D59))","v":""},"","","",""]
[null,null,null,null,{"$f":"IF(D60=\"\",\"\",COUNTIF(Tabulka5[Data],D60))","v":""},"","","",""]
[null,null,null,null,{"$f":"IF(D61=\"\",\"\",COUNTIF(Tabulka5[Data],D61))","v":""},"","","",""]
[null,null,null,null,{"$f":"IF(D62=\"\",\"\",COUNTIF(Tabulka5[Data],D62))","v":""},"","","",""]
[null,null,null,null,{"$f":"IF(D63=\"\",\"\",COUNTIF(Tabulka5[Data],D63))","v":""},"","","",""]
[null,null,null,null,{"$f":"IF(D64=\"\",\"\",COUNTIF(Tabulka5[Data],D64))","v":""},"","","",""]
[null,null,null,null,{"$f":"IF(D65=\"\",\"\",COUNTIF(Tabulka5[Data],D65))","v":""},"","","",""]
[null,null,null,null,{"$f":"IF(D66=\"\",\"\",COUNTIF(Tabulka5[Data],D66))","v":""},"","","",""]
[null,null,null,null,{"$f":"IF(D67=\"\",\"\",COUNTIF(Tabulka5[Data],D67))","v":""},"","","",""]
[null,null,null,null,{"$f":"IF(D68=\"\",\"\",COUNTIF(Tabulka5[Data],D68))","v":""},"","","",""]
[null,null,null,null,{"$f":"IF(D69=\"\",\"\",COUNTIF(Tabulka5[Data],D69))","v":""},"","","",""]
[null,null,null,null,{"$f":"IF(D70=\"\",\"\",COUNTIF(Tabulka5[Data],D70))","v":""},"","","",""]
[null,null,null,null,{"$f":"IF(D71=\"\",\"\",COUNTIF(Tabulka5[Data],D71))","v":""},"","","",""]
[null,null,null,null,{"$f":"IF(D72=\"\",\"\",COUNTIF(Tabulka5[Data],D72))","v":""},"","","",""]
[null,null,null,null,{"$f":"IF(D73=\"\",\"\",COUNTIF(Tabulka5[Data],D73))","v":""},"","","",""]
[null,null,null,null,{"$f":"IF(D74=\"\",\"\",COUNTIF(Tabulka5[Data],D74))","v":""},"","","",""]
[null,null,null,null,{"$f":"IF(D75=\"\",\"\",COUNTIF(Tabulka5[Data],D75))","v":""},"","","",""]
[null,null,null,null,{"$f":"IF(D76=\"\",\"\",COUNTIF(Tabulka5[Data],D76))","v":""},"","","",""]
[null,null,null,null,{"$f":"IF(D77=\"\",\"\",COUNTIF(Tabulka5[Data],D77))","v":""},"","","",""]
[null,null,null,null,{"$f":"IF(D78=\"\",\"\",COUNTIF(Tabulka5[Data],D78))","v":""},"","","",""]
[null,null,null,null,{"$f":"IF(D79=\"\",\"\",COUNTIF(Tabulka5[Data],D79))","v":""},"","","",""]
[null,null,null,null,{"$f":"IF(D80=\"\",\"\",COUNTIF(Tabulka5[Data],D80))","v":""},"","","",""]
[null,null,null,null,{"$f":"IF(D81=\"\",\"\",COUNTIF(Tabulka5[Data],D81))","v":""},{"$f":"IF(OR($K$11=0,D81=\"\"),\"\",IF(D82=\"\",1-I80,ROUND(E81/SUM($E$15:$E$6350),3)))","v":""},{"$f":"IF(OR(D81=\"\",$A$11=\"nominální\"),\"\",G80+E81)","v":""},{"$f":"IF(OR($K$11=0,D81=\"\",$A$11=\"nominální\"),\"\",H80+F81)","v":""},{"$f":"IF(OR($K$11=0,D81=\"\"),\"\",I80+F81)","v":""}]
[null,null,null,null,{"$f":"IF(D82=\"\",\"\",COUNTIF(Tabulka5[Data],D82))","v":""},"","","",""]
[null,null,null,null,{"$f":"IF(D83=\"\",\"\",COUNTIF(Tabulka5[Data],D83))","v":""},"","","",""]
[null,null,null,null,{"$f":"IF(D84=\"\",\"\",COUNTIF(Tabulka5[Data],D84))","v":""},"","","",""]
[null,null,null,null,{"$f":"IF(D85=\"\",\"\",COUNTIF(Tabulka5[Data],D85))","v":""},"","","",""]
[null,null,null,null,{"$f":"IF(D86=\"\",\"\",COUNTIF(Tabulka5[Data],D86))","v":""},"","","",""]
[null,null,null,null,{"$f":"IF(D87=\"\",\"\",COUNTIF(Tabulka5[Data],D87))","v":""},"","","",""]
[null,null,null,null,{"$f":"IF(D88=\"\",\"\",COUNTIF(Tabulka5[Data],D88))","v":""},"","","",""]
[null,null,null,null,{"$f":"IF(D89=\"\",\"\",COUNTIF(Tabulka5[Data],D89))","v":""},"","","",""]
[null,null,null,null,{"$f":"IF(D90=\"\",\"\",COUNTIF(Tabulka5[Data],D90))","v":""},"","","",""]
[null,null,null,null,{"$f":"IF(D91=\"\",\"\",COUNTIF(Tabulka5[Data],D91))","v":""},"","","",""]
[null,null,null,null,{"$f":"IF(D92=\"\",\"\",COUNTIF(Tabulka5[Data],D92))","v":""},"","","",""]
[null,null,null,null,{"$f":"IF(D93=\"\",\"\",COUNTIF(Tabulka5[Data],D93))","v":""},"","","",""]
[null,null,null,null,{"$f":"IF(D94=\"\",\"\",COUNTIF(Tabulka5[Data],D94))","v":""},"","","",""]
[null,null,null,null,{"$f":"IF(D95=\"\",\"\",COUNTIF(Tabulka5[Data],D95))","v":""},"","","",""]
[null,null,null,null,{"$f":"IF(D96=\"\",\"\",COUNTIF(Tabulka5[Data],D96))","v":""},"","","",""]
[null,null,null,null,{"$f":"IF(D97=\"\",\"\",COUNTIF(Tabulka5[Data],D97))","v":""},"","","",""]
[null,null,null,null,{"$f":"IF(D98=\"\",\"\",COUNTIF(Tabulka5[Data],D98))","v":""},"","","",""]
[null,null,null,null,{"$f":"IF(D99=\"\",\"\",COUNTIF(Tabulka5[Data],D99))","v":""},"","","",""]
[null,null,null,null,{"$f":"IF(D100=\"\",\"\",COUNTIF(Tabulka5[Data],D100))","v":""},"","","",""]
[null,null,null,null,{"$f":"IF(D101=\"\",\"\",COUNTIF(Tabulka5[Data],D101))","v":""},"","","",""]
[null,null,null,null,{"$f":"IF(D102=\"\",\"\",COUNTIF(Tabulka5[Data],D102))","v":""},"","","",""]
[null,null,null,null,{"$f":"IF(D103=\"\",\"\",COUNTIF(Tabulka5[Data],D103))","v":""},"","","",""]
[null,null,null,null,{"$f":"IF(D104=\"\",\"\",COUNTIF(Tabulka5[Data],D104))","v":""},"","","",""]
[null,null,null,null,{"$f":"IF(D105=\"\",\"\",COUNTIF(Tabulka5[Data],D105))","v":""},"","","",""]
[null,null,null,null,{"$f":"IF(D106=\"\",\"\",COUNTIF(Tabulka5[Data],D106))","v":""},"","","",""]
[null,null,null,null,{"$f":"IF(D107=\"\",\"\",COUNTIF(Tabulka5[Data],D107))","v":""},"","","",""]
[null,null,null,null,{"$f":"IF(D108=\"\",\"\",COUNTIF(Tabulka5[Data],D108))","v":""},"","","",""]
[null,null,null,null,{"$f":"IF(D109=\"\",\"\",COUNTIF(Tabulka5[Data],D109))","v":""},"","","",""]
[null,null,null,null,{"$f":"IF(D110=\"\",\"\",COUNTIF(Tabulka5[Data],D110))","v":""},"","","",""]
[null,null,null,null,{"$f":"IF(D111=\"\",\"\",COUNTIF(Tabulka5[Data],D111))","v":""},"","","",""]
[null,null,null,null,{"$f":"IF(D112=\"\",\"\",COUNTIF(Tabulka5[Data],D112))","v":""},"","","",""]
[null,null,null,null,{"$f":"IF(D113=\"\",\"\",COUNTIF(Tabulka5[Data],D113))","v":""},"","","",""]
[null,null,null,null,{"$f":"IF(D114=\"\",\"\",COUNTIF(Tabulka5[Data],D114))","v":""},"","","",""]
[null,null,null,null,{"$f":"IF(D115=\"\",\"\",COUNTIF(Tabulka5[Data],D115))","v":""},"","","",""]
[null,null,null,null,{"$f":"IF(D116=\"\",\"\",COUNTIF(Tabulka5[Data],D116))","v":""},"","","",""]
[null,null,null,null,{"$f":"IF(D117=\"\",\"\",COUNTIF(Tabulka5[Data],D117))","v":""},"","","",""]
[null,null,null,null,{"$f":"IF(D118=\"\",\"\",COUNTIF(Tabulka5[Data],D118))","v":""},"","","",""]
[null,null,null,null,{"$f":"IF(D119=\"\",\"\",COUNTIF(Tabulka5[Data],D119))","v":""},"","","",""]
[null,null,null,null,{"$f":"IF(D120=\"\",\"\",COUNTIF(Tabulka5[Data],D120))","v":""},"","","",""]
[null,null,null,null,{"$f":"IF(D121=\"\",\"\",COUNTIF(Tabulka5[Data],D121))","v":""},"","","",""]
[null,null,null,null,{"$f":"IF(D122=\"\",\"\",COUNTIF(Tabulka5[Data],D122))","v":""},"","","",""]
[null,null,null,null,{"$f":"IF(D123=\"\",\"\",COUNTIF(Tabulka5[Data],D123))","v":""},"","","",""]
[null,null,null,null,{"$f":"IF(D124=\"\",\"\",COUNTIF(Tabulka5[Data],D124))","v":""},"","","",""]
[null,null,null,null,{"$f":"IF(D125=\"\",\"\",COUNTIF(Tabulka5[Data],D125))","v":""},"","","",""]
[null,null,null,null,{"$f":"IF(D126=\"\",\"\",COUNTIF(Tabulka5[Data],D126))","v":""},"","","",""]
[null,null,null,null,{"$f":"IF(D127=\"\",\"\",COUNTIF(Tabulka5[Data],D127))","v":""},"","","",""]
[null,null,null,null,{"$f":"IF(D128=\"\",\"\",COUNTIF(Tabulka5[Data],D128))","v":""},"","","",""]
[null,null,null,null,{"$f":"IF(D129=\"\",\"\",COUNTIF(Tabulka5[Data],D129))","v":""},"","","",""]
[null,null,null,null,{"$f":"IF(D130=\"\",\"\",COUNTIF(Tabulka5[Data],D130))","v":""},"","","",""]
[null,null,null,null,{"$f":"IF(D131=\"\",\"\",COUNTIF(Tabulka5[Data],D131))","v":""},"","","",""]
[null,null,null,null,{"$f":"IF(D132=\"\",\"\",COUNTIF(Tabulka5[Data],D132))","v":""},"","","",""]
[null,null,null,null,{"$f":"IF(D133=\"\",\"\",COUNTIF(Tabulka5[Data],D133))","v":""},"","","",""]
[null,null,null,null,{"$f":"IF(D134=\"\",\"\",COUNTIF(Tabulka5[Data],D134))","v":""},"","","",""]
[null,null,null,null,{"$f":"IF(D135=\"\",\"\",COUNTIF(Tabulka5[Data],D135))","v":""},"","","",""]
[null,null,null,null,{"$f":"IF(D136=\"\",\"\",COUNTIF(Tabulka5[Data],D136))","v":""},"","","",""]
[null,null,null,null,{"$f":"IF(D137=\"\",\"\",COUNTIF(Tabulka5[Data],D137))","v":""},"","","",""]
[null,null,null,null,{"$f":"IF(D138=\"\",\"\",COUNTIF(Tabulka5[Data],D138))","v":""},"","","",""]
[null,null,null,null,{"$f":"IF(D139=\"\",\"\",COUNTIF(Tabulka5[Data],D139))","v":""},"","","",""]
[null,null,null,null,{"$f":"IF(D140=\"\",\"\",COUNTIF(Tabulka5[Data],D140))","v":""},"","","",""]
[null,null,null,null,{"$f":"IF(D141=\"\",\"\",COUNTIF(Tabulka5[Data],D141))","v":""},"","","",""]
[null,null,null,null,{"$f":"IF(D142=\"\",\"\",COUNTIF(Tabulka5[Data],D142))","v":""},"","","",""]
[null,null,null,null,{"$f":"IF(D143=\"\",\"\",COUNTIF(Tabulka5[Data],D143))","v":""},"","","",""]
[null,null,null,null,{"$f":"IF(D144=\"\",\"\",COUNTIF(Tabulka5[Data],D144))","v":""},"","","",""]
[null,null,null,null,{"$f":"IF(D145=\"\",\"\",COUNTIF(Tabulka5[Data],D145))","v":""},{"$f":"IF(OR($K$11=0,D145=\"\"),\"\",IF(D146=\"\",1-I144,ROUND(E145/SUM($E$15:$E$6350),3)))","v":""},{"$f":"IF(OR(D145=\"\",$A$11=\"nominální\"),\"\",G144+E145)","v":""},{"$f":"IF(OR($K$11=0,D145=\"\",$A$11=\"nominální\"),\"\",H144+F145)","v":""},{"$f":"IF(OR($K$11=0,D145=\"\"),\"\",I144+F145)","v":""}]
[null,null,null,null,{"$f":"IF(D146=\"\",\"\",COUNTIF(Tabulka5[Data],D146))","v":""},"","","",""]
[null,null,null,null,{"$f":"IF(D147=\"\",\"\",COUNTIF(Tabulka5[Data],D147))","v":""},"","","",""]
[null,null,null,null,{"$f":"IF(D148=\"\",\"\",COUNTIF(Tabulka5[Data],D148))","v":""},"","","",""]
[null,null,null,null,{"$f":"IF(D149=\"\",\"\",COUNTIF(Tabulka5[Data],D149))","v":""},"","","",""]
[null,null,null,null,{"$f":"IF(D150=\"\",\"\",COUNTIF(Tabulka5[Data],D150))","v":""},"","","",""]
[null,null,null,null,{"$f":"IF(D151=\"\",\"\",COUNTIF(Tabulka5[Data],D151))","v":""},"","","",""]
[null,null,null,null,{"$f":"IF(D152=\"\",\"\",COUNTIF(Tabulka5[Data],D152))","v":""},"","","",""]
[null,null,null,null,{"$f":"IF(D153=\"\",\"\",COUNTIF(Tabulka5[Data],D153))","v":""},"","","",""]
[null,null,null,null,{"$f":"IF(D154=\"\",\"\",COUNTIF(Tabulka5[Data],D154))","v":""},"","","",""]
[null,null,null,null,{"$f":"IF(D155=\"\",\"\",COUNTIF(Tabulka5[Data],D155))","v":""},"","","",""]
[null,null,null,null,{"$f":"IF(D156=\"\",\"\",COUNTIF(Tabulka5[Data],D156))","v":""},"","","",""]
[null,null,null,null,{"$f":"IF(D157=\"\",\"\",COUNTIF(Tabulka5[Data],D157))","v":""},"","","",""]
[null,null,null,null,{"$f":"IF(D158=\"\",\"\",COUNTIF(Tabulka5[Data],D158))","v":""},"","","",""]
[null,null,null,null,{"$f":"IF(D159=\"\",\"\",COUNTIF(Tabulka5[Data],D159))","v":""},"","","",""]
[null,null,null,null,{"$f":"IF(D160=\"\",\"\",COUNTIF(Tabulka5[Data],D160))","v":""},"","","",""]
[null,null,null,null,{"$f":"IF(D161=\"\",\"\",COUNTIF(Tabulka5[Data],D161))","v":""},"","","",""]
[null,null,null,null,{"$f":"IF(D162=\"\",\"\",COUNTIF(Tabulka5[Data],D162))","v":""},"","","",""]
[null,null,null,null,{"$f":"IF(D163=\"\",\"\",COUNTIF(Tabulka5[Data],D163))","v":""},"","","",""]
[null,null,null,null,{"$f":"IF(D164=\"\",\"\",COUNTIF(Tabulka5[Data],D164))","v":""},"","","",""]
[null,null,null,null,{"$f":"IF(D165=\"\",\"\",COUNTIF(Tabulka5[Data],D165))","v":""},"","","",""]
[null,null,null,null,{"$f":"IF(D166=\"\",\"\",COUNTIF(Tabulka5[Data],D166))","v":""},"","","",""]
[null,null,null,null,{"$f":"IF(D167=\"\",\"\",COUNTIF(Tabulka5[Data],D167))","v":""},"","","",""]
[null,null,null,null,{"$f":"IF(D168=\"\",\"\",COUNTIF(Tabulka5[Data],D168))","v":""},"","","",""]
[null,null,null,null,{"$f":"IF(D169=\"\",\"\",COUNTIF(Tabulka5[Data],D169))","v":""},"","","",""]
[null,null,null,null,{"$f":"IF(D170=\"\",\"\",COUNTIF(Tabulka5[Data],D170))","v":""},"","","",""]
[null,null,null,null,{"$f":"IF(D171=\"\",\"\",COUNTIF(Tabulka5[Data],D171))","v":""},"","","",""]
[null,null,null,null,{"$f":"IF(D172=\"\",\"\",COUNTIF(Tabulka5[Data],D172))","v":""},"","","",""]
[null,null,null,null,{"$f":"IF(D173=\"\",\"\",COUNTIF(Tabulka5[Data],D173))","v":""},"","","",""]
[null,null,null,null,{"$f":"IF(D174=\"\",\"\",COUNTIF(Tabulka5[Data],D174))","v":""},"","","",""]
[null,null,null,null,{"$f":"IF(D175=\"\",\"\",COUNTIF(Tabulka5[Data],D175))","v":""},"","","",""]
[null,null,null,null,{"$f":"IF(D176=\"\",\"\",COUNTIF(Tabulka5[Data],D176))","v":""},"","","",""]
[null,null,null,null,{"$f":"IF(D177=\"\",\"\",COUNTIF(Tabulka5[Data],D177))","v":""},"","","",""]
[null,null,null,null,{"$f":"IF(D178=\"\",\"\",COUNTIF(Tabulka5[Data],D178))","v":""},"","","",""]
[null,null,null,null,{"$f":"IF(D179=\"\",\"\",COUNTIF(Tabulka5[Data],D179))","v":""},"","","",""]
[null,null,null,null,{"$f":"IF(D180=\"\",\"\",COUNTIF(Tabulka5[Data],D180))","v":""},"","","",""]
[null,null,null,null,{"$f":"IF(D181=\"\",\"\",COUNTIF(Tabulka5[Data],D181))","v":""},"","","",""]
[null,null,null,null,{"$f":"IF(D182=\"\",\"\",COUNTIF(Tabulka5[Data],D182))","v":""},"","","",""]
[null,null,null,null,{"$f":"IF(D183=\"\",\"\",COUNTIF(Tabulka5[Data],D183))","v":""},"","","",""]
[null,null,null,null,{"$f":"IF(D184=\"\",\"\",COUNTIF(Tabulka5[Data],D184))","v":""},"","","",""]
[null,null,null,null,{"$f":"IF(D185=\"\",\"\",COUNTIF(Tabulka5[Data],D185))","v":""},"","","",""]
[null,null,null,null,{"$f":"IF(D186=\"\",\"\",COUNTIF(Tabulka5[Data],D186))","v":""},"","","",""]
[null,null,null,null,{"$f":"IF(D187=\"\",\"\",COUNTIF(Tabulka5[Data],D187))","v":""},"","","",""]
[null,null,null,null,{"$f":"IF(D188=\"\",\"\",COUNTIF(Tabulka5[Data],D188))","v":""},"","","",""]
[null,null,null,null,{"$f":"IF(D189=\"\",\"\",COUNTIF(Tabulka5[Data],D189))","v":""},"","","",""]
[null,null,null,null,{"$f":"IF(D190=\"\",\"\",COUNTIF(Tabulka5[Data],D190))","v":""},"","","",""]
[null,null,null,null,{"$f":"IF(D191=\"\",\"\",COUNTIF(Tabulka5[Data],D191))","v":""},"","","",""]
[null,null,null,null,{"$f":"IF(D192=\"\",\"\",COUNTIF(Tabulka5[Data],D192))","v":""},"","","",""]
[null,null,null,null,{"$f":"IF(D193=\"\",\"\",COUNTIF(Tabulka5[Data],D193))","v":""},"","","",""]
[null,null,null,null,{"$f":"IF(D194=\"\",\"\",COUNTIF(Tabulka5[Data],D194))","v":""},"","","",""]
[null,null,null,null,{"$f":"IF(D195=\"\",\"\",COUNTIF(Tabulka5[Data],D195))","v":""},"","","",""]
[null,null,null,null,{"$f":"IF(D196=\"\",\"\",COUNTIF(Tabulka5[Data],D196))","v":""},"","","",""]
[null,null,null,null,{"$f":"IF(D197=\"\",\"\",COUNTIF(Tabulka5[Data],D197))","v":""},"","","",""]
[null,null,null,null,{"$f":"IF(D198=\"\",\"\",COUNTIF(Tabulka5[Data],D198))","v":""},"","","",""]
[null,null,null,null,{"$f":"IF(D199=\"\",\"\",COUNTIF(Tabulka5[Data],D199))","v":""},"","","",""]
[null,null,null,null,{"$f":"IF(D200=\"\",\"\",COUNTIF(Tabulka5[Data],D200))","v":""},"","","",""]
[null,null,null,null,{"$f":"IF(D201=\"\",\"\",COUNTIF(Tabulka5[Data],D201))","v":""},"","","",""]
[null,null,null,null,{"$f":"IF(D202=\"\",\"\",COUNTIF(Tabulka5[Data],D202))","v":""},"","","",""]
[null,null,null,null,{"$f":"IF(D203=\"\",\"\",COUNTIF(Tabulka5[Data],D203))","v":""},"","","",""]
[null,null,null,null,{"$f":"IF(D204=\"\",\"\",COUNTIF(Tabulka5[Data],D204))","v":""},"","","",""]
[null,null,null,null,{"$f":"IF(D205=\"\",\"\",COUNTIF(Tabulka5[Data],D205))","v":""},"","","",""]
[null,null,null,null,{"$f":"IF(D206=\"\",\"\",COUNTIF(Tabulka5[Data],D206))","v":""},"","","",""]
[null,null,null,null,{"$f":"IF(D207=\"\",\"\",COUNTIF(Tabulka5[Data],D207))","v":""},"","","",""]
[null,null,null,null,{"$f":"IF(D208=\"\",\"\",COUNTIF(Tabulka5[Data],D208))","v":""},"","","",""]
[null,null,null,null,{"$f":"IF(D209=\"\",\"\",COUNTIF(Tabulka5[Data],D209))","v":""},{"$f":"IF(OR($K$11=0,D209=\"\"),\"\",IF(D210=\"\",1-I208,ROUND(E209/SUM($E$15:$E$6350),3)))","v":""},{"$f":"IF(OR(D209=\"\",$A$11=\"nominální\"),\"\",G208+E209)","v":""},{"$f":"IF(OR($K$11=0,D209=\"\",$A$11=\"nominální\"),\"\",H208+F209)","v":""},{"$f":"IF(OR($K$11=0,D209=\"\"),\"\",I208+F209)","v":""}]
[null,null,null,null,{"$f":"IF(D210=\"\",\"\",COUNTIF(Tabulka5[Data],D210))","v":""},"","","",""]
[null,null,null,null,{"$f":"IF(D211=\"\",\"\",COUNTIF(Tabulka5[Data],D211))","v":""},"","","",""]
[null,null,null,null,{"$f":"IF(D212=\"\",\"\",COUNTIF(Tabulka5[Data],D212))","v":""},"","","",""]
[null,null,null,null,{"$f":"IF(D213=\"\",\"\",COUNTIF(Tabulka5[Data],D213))","v":""},"","","",""]
[null,null,null,null,{"$f":"IF(D214=\"\",\"\",COUNTIF(Tabulka5[Data],D214))","v":""},"","","",""]
[null,null,null,null,{"$f":"IF(D215=\"\",\"\",COUNTIF(Tabulka5[Data],D215))","v":""},"","","",""]
[null,null,null,null,{"$f":"IF(D216=\"\",\"\",COUNTIF(Tabulka5[Data],D216))","v":""},"","","",""]
[null,null,null,null,{"$f":"IF(D217=\"\",\"\",COUNTIF(Tabulka5[Data],D217))","v":""},"","","",""]
[null,null,null,null,{"$f":"IF(D218=\"\",\"\",COUNTIF(Tabulka5[Data],D218))","v":""},"","","",""]
[null,null,null,null,{"$f":"IF(D219=\"\",\"\",COUNTIF(Tabulka5[Data],D219))","v":""},"","","",""]
[null,null,null,null,{"$f":"IF(D220=\"\",\"\",COUNTIF(Tabulka5[Data],D220))","v":""},"","","",""]
[null,null,null,null,{"$f":"IF(D221=\"\",\"\",COUNTIF(Tabulka5[Data],D221))","v":""},"","","",""]
[null,null,null,null,{"$f":"IF(D222=\"\",\"\",COUNTIF(Tabulka5[Data],D222))","v":""},"","","",""]
[null,null,null,null,{"$f":"IF(D223=\"\",\"\",COUNTIF(Tabulka5[Data],D223))","v":""},"","","",""]
[null,null,null,null,{"$f":"IF(D224=\"\",\"\",COUNTIF(Tabulka5[Data],D224))","v":""},"","","",""]
[null,null,null,null,{"$f":"IF(D225=\"\",\"\",COUNTIF(Tabulka5[Data],D225))","v":""},"","","",""]
[null,null,null,null,{"$f":"IF(D226=\"\",\"\",COUNTIF(Tabulka5[Data],D226))","v":""},"","","",""]
[null,null,null,null,{"$f":"IF(D227=\"\",\"\",COUNTIF(Tabulka5[Data],D227))","v":""},"","","",""]
[null,null,null,null,{"$f":"IF(D228=\"\",\"\",COUNTIF(Tabulka5[Data],D228))","v":""},"","","",""]
[null,null,null,null,{"$f":"IF(D229=\"\",\"\",COUNTIF(Tabulka5[Data],D229))","v":""},"","","",""]
[null,null,null,null,{"$f":"IF(D230=\"\",\"\",COUNTIF(Tabulka5[Data],D230))","v":""},"","","",""]
[null,null,null,null,{"$f":"IF(D231=\"\",\"\",COUNTIF(Tabulka5[Data],D231))","v":""},"","","",""]
[null,null,null,null,{"$f":"IF(D232=\"\",\"\",COUNTIF(Tabulka5[Data],D232))","v":""},"","","",""]
[null,null,null,null,{"$f":"IF(D233=\"\",\"\",COUNTIF(Tabulka5[Data],D233))","v":""},"","","",""]
[null,null,null,null,{"$f":"IF(D234=\"\",\"\",COUNTIF(Tabulka5[Data],D234))","v":""},"","","",""]
[null,null,null,null,{"$f":"IF(D235=\"\",\"\",COUNTIF(Tabulka5[Data],D235))","v":""},"","","",""]
[null,null,null,null,{"$f":"IF(D236=\"\",\"\",COUNTIF(Tabulka5[Data],D236))","v":""},"","","",""]
[null,null,null,null,{"$f":"IF(D237=\"\",\"\",COUNTIF(Tabulka5[Data],D237))","v":""},"","","",""]
[null,null,null,null,{"$f":"IF(D238=\"\",\"\",COUNTIF(Tabulka5[Data],D238))","v":""},"","","",""]
[null,null,null,null,{"$f":"IF(D239=\"\",\"\",COUNTIF(Tabulka5[Data],D239))","v":""},"","","",""]
[null,null,null,null,{"$f":"IF(D240=\"\",\"\",COUNTIF(Tabulka5[Data],D240))","v":""},"","","",""]
[null,null,null,null,{"$f":"IF(D241=\"\",\"\",COUNTIF(Tabulka5[Data],D241))","v":""},"","","",""]
[null,null,null,null,{"$f":"IF(D242=\"\",\"\",COUNTIF(Tabulka5[Data],D242))","v":""},"","","",""]
[null,null,null,null,{"$f":"IF(D243=\"\",\"\",COUNTIF(Tabulka5[Data],D243))","v":""},"","","",""]
[null,null,null,null,{"$f":"IF(D244=\"\",\"\",COUNTIF(Tabulka5[Data],D244))","v":""},"","","",""]
[null,null,null,null,{"$f":"IF(D245=\"\",\"\",COUNTIF(Tabulka5[Data],D245))","v":""},"","","",""]
[null,null,null,null,{"$f":"IF(D246=\"\",\"\",COUNTIF(Tabulka5[Data],D246))","v":""},"","","",""]
[null,null,null,null,{"$f":"IF(D247=\"\",\"\",COUNTIF(Tabulka5[Data],D247))","v":""},"","","",""]
[null,null,null,null,{"$f":"IF(D248=\"\",\"\",COUNTIF(Tabulka5[Data],D248))","v":""},"","","",""]
[null,null,null,null,{"$f":"IF(D249=\"\",\"\",COUNTIF(Tabulka5[Data],D249))","v":""},"","","",""]
[null,null,null,null,{"$f":"IF(D250=\"\",\"\",COUNTIF(Tabulka5[Data],D250))","v":""},"","","",""]
[null,null,null,null,{"$f":"IF(D251=\"\",\"\",COUNTIF(Tabulka5[Data],D251))","v":""},"","","",""]
[null,null,null,null,{"$f":"IF(D252=\"\",\"\",COUNTIF(Tabulka5[Data],D252))","v":""},"","","",""]
[null,null,null,null,{"$f":"IF(D253=\"\",\"\",COUNTIF(Tabulka5[Data],D253))","v":""},"","","",""]
[null,null,null,null,{"$f":"IF(D254=\"\",\"\",COUNTIF(Tabulka5[Data],D254))","v":""},"","","",""]
[null,null,null,null,{"$f":"IF(D255=\"\",\"\",COUNTIF(Tabulka5[Data],D255))","v":""},"","","",""]
[null,null,null,null,{"$f":"IF(D256=\"\",\"\",COUNTIF(Tabulka5[Data],D256))","v":""},"","","",""]
[null,null,null,null,{"$f":"IF(D257=\"\",\"\",COUNTIF(Tabulka5[Data],D257))","v":""},"","","",""]
[null,null,null,null,{"$f":"IF(D258=\"\",\"\",COUNTIF(Tabulka5[Data],D258))","v":""},"","","",""]
[null,null,null,null,{"$f":"IF(D259=\"\",\"\",COUNTIF(Tabulka5[Data],D259))","v":""},"","","",""]
[null,null,null,null,{"$f":"IF(D260=\"\",\"\",COUNTIF(Tabulka5[Data],D260))","v":""},"","","",""]
[null,null,null,null,{"$f":"IF(D261=\"\",\"\",COUNTIF(Tabulka5[Data],D261))","v":""},"","","",""]
[null,null,null,null,{"$f":"IF(D262=\"\",\"\",COUNTIF(Tabulka5[Data],D262))","v":""},"","","",""]
[null,null,null,null,{"$f":"IF(D263=\"\",\"\",COUNTIF(Tabulka5[Data],D263))","v":""},"","","",""]
[null,null,null,null,{"$f":"IF(D264=\"\",\"\",COUNTIF(Tabulka5[Data],D264))","v":""},"","","",""]
[null,null,null,null,{"$f":"IF(D265=\"\",\"\",COUNTIF(Tabulka5[Data],D265))","v":""},"","","",""]
[null,null,null,null,{"$f":"IF(D266=\"\",\"\",COUNTIF(Tabulka5[Data],D266))","v":""},"","","",""]
[null,null,null,null,{"$f":"IF(D267=\"\",\"\",COUNTIF(Tabulka5[Data],D267))","v":""},"","","",""]
[null,null,null,null,{"$f":"IF(D268=\"\",\"\",COUNTIF(Tabulka5[Data],D268))","v":""},"","","",""]
[null,null,null,null,{"$f":"IF(D269=\"\",\"\",COUNTIF(Tabulka5[Data],D269))","v":""},"","","",""]
[null,null,null,null,{"$f":"IF(D270=\"\",\"\",COUNTIF(Tabulka5[Data],D270))","v":""},"","","",""]
[null,null,null,null,{"$f":"IF(D271=\"\",\"\",COUNTIF(Tabulka5[Data],D271))","v":""},"","","",""]
[null,null,null,null,{"$f":"IF(D272=\"\",\"\",COUNTIF(Tabulka5[Data],D272))","v":""},"","","",""]
[null,null,null,null,{"$f":"IF(D273=\"\",\"\",COUNTIF(Tabulka5[Data],D273))","v":""},{"$f":"IF(OR($K$11=0,D273=\"\"),\"\",IF(D274=\"\",1-I272,ROUND(E273/SUM($E$15:$E$6350),3)))","v":""},{"$f":"IF(OR(D273=\"\",$A$11=\"nominální\"),\"\",G272+E273)","v":""},{"$f":"IF(OR($K$11=0,D273=\"\",$A$11=\"nominální\"),\"\",H272+F273)","v":""},{"$f":"IF(OR($K$11=0,D273=\"\"),\"\",I272+F273)","v":""}]
[null,null,null,null,{"$f":"IF(D274=\"\",\"\",COUNTIF(Tabulka5[Data],D274))","v":""},"","","",""]
[null,null,null,null,{"$f":"IF(D275=\"\",\"\",COUNTIF(Tabulka5[Data],D275))","v":""},"","","",""]
[null,null,null,null,{"$f":"IF(D276=\"\",\"\",COUNTIF(Tabulka5[Data],D276))","v":""},"","","",""]
[null,null,null,null,{"$f":"IF(D277=\"\",\"\",COUNTIF(Tabulka5[Data],D277))","v":""},"","","",""]
[null,null,null,null,{"$f":"IF(D278=\"\",\"\",COUNTIF(Tabulka5[Data],D278))","v":""},"","","",""]
[null,null,null,null,{"$f":"IF(D279=\"\",\"\",COUNTIF(Tabulka5[Data],D279))","v":""},"","","",""]
[null,null,null,null,{"$f":"IF(D280=\"\",\"\",COUNTIF(Tabulka5[Data],D280))","v":""},"","","",""]
[null,null,null,null,{"$f":"IF(D281=\"\",\"\",COUNTIF(Tabulka5[Data],D281))","v":""},"","","",""]
[null,null,null,null,{"$f":"IF(D282=\"\",\"\",COUNTIF(Tabulka5[Data],D282))","v":""},"","","",""]
[null,null,null,null,{"$f":"IF(D283=\"\",\"\",COUNTIF(Tabulka5[Data],D283))","v":""},"","","",""]
[null,null,null,null,{"$f":"IF(D284=\"\",\"\",COUNTIF(Tabulka5[Data],D284))","v":""},"","","",""]
[null,null,null,null,{"$f":"IF(D285=\"\",\"\",COUNTIF(Tabulka5[Data],D285))","v":""},"","","",""]
[null,null,null,null,{"$f":"IF(D286=\"\",\"\",COUNTIF(Tabulka5[Data],D286))","v":""},"","","",""]
[null,null,null,null,{"$f":"IF(D287=\"\",\"\",COUNTIF(Tabulka5[Data],D287))","v":""},"","","",""]
[null,null,null,null,{"$f":"IF(D288=\"\",\"\",COUNTIF(Tabulka5[Data],D288))","v":""},"","","",""]
[null,null,null,null,{"$f":"IF(D289=\"\",\"\",COUNTIF(Tabulka5[Data],D289))","v":""},"","","",""]
[null,null,null,null,{"$f":"IF(D290=\"\",\"\",COUNTIF(Tabulka5[Data],D290))","v":""},"","","",""]
[null,null,null,null,{"$f":"IF(D291=\"\",\"\",COUNTIF(Tabulka5[Data],D291))","v":""},"","","",""]
[null,null,null,null,{"$f":"IF(D292=\"\",\"\",COUNTIF(Tabulka5[Data],D292))","v":""},"","","",""]
[null,null,null,null,{"$f":"IF(D293=\"\",\"\",COUNTIF(Tabulka5[Data],D293))","v":""},"","","",""]
[null,null,null,null,{"$f":"IF(D294=\"\",\"\",COUNTIF(Tabulka5[Data],D294))","v":""},"","","",""]
[null,null,null,null,{"$f":"IF(D295=\"\",\"\",COUNTIF(Tabulka5[Data],D295))","v":""},"","","",""]
[null,null,null,null,{"$f":"IF(D296=\"\",\"\",COUNTIF(Tabulka5[Data],D296))","v":""},"","","",""]
[null,null,null,null,{"$f":"IF(D297=\"\",\"\",COUNTIF(Tabulka5[Data],D297))","v":""},"","","",""]
[null,null,null,null,{"$f":"IF(D298=\"\",\"\",COUNTIF(Tabulka5[Data],D298))","v":""},"","","",""]
[null,null,null,null,{"$f":"IF(D299=\"\",\"\",COUNTIF(Tabulka5[Data],D299))","v":""},"","","",""]
[null,null,null,null,{"$f":"IF(D300=\"\",\"\",COUNTIF(Tabulka5[Data],D300))","v":""},"","","",""]
[null,null,null,null,{"$f":"IF(D301=\"\",\"\",COUNTIF(Tabulka5[Data],D301))","v":""},"","","",""]
[null,null,null,null,{"$f":"IF(D302=\"\",\"\",COUNTIF(Tabulka5[Data],D302))","v":""},"","","",""]
[null,null,null,null,{"$f":"IF(D303=\"\",\"\",COUNTIF(Tabulka5[Data],D303))","v":""},"","","",""]
[null,null,null,null,{"$f":"IF(D304=\"\",\"\",COUNTIF(Tabulka5[Data],D304))","v":""},"","","",""]
[null,null,null,null,{"$f":"IF(D305=\"\",\"\",COUNTIF(Tabulka5[Data],D305))","v":""},"","","",""]
[null,null,null,null,{"$f":"IF(D306=\"\",\"\",COUNTIF(Tabulka5[Data],D306))","v":""},"","","",""]
[null,null,null,null,{"$f":"IF(D307=\"\",\"\",COUNTIF(Tabulka5[Data],D307))","v":""},"","","",""]
[null,null,null,null,{"$f":"IF(D308=\"\",\"\",COUNTIF(Tabulka5[Data],D308))","v":""},"","","",""]
[null,null,null,null,{"$f":"IF(D309=\"\",\"\",COUNTIF(Tabulka5[Data],D309))","v":""},"","","",""]
[null,null,null,null,{"$f":"IF(D310=\"\",\"\",COUNTIF(Tabulka5[Data],D310))","v":""},"","","",""]
[null,null,null,null,{"$f":"IF(D311=\"\",\"\",COUNTIF(Tabulka5[Data],D311))","v":""},"","","",""]
[null,null,null,null,{"$f":"IF(D312=\"\",\"\",COUNTIF(Tabulka5[Data],D312))","v":""},"","","",""]
[null,null,null,null,{"$f":"IF(D313=\"\",\"\",COUNTIF(Tabulka5[Data],D313))","v":""},"","","",""]
[null,null,null,null,{"$f":"IF(D314=\"\",\"\",COUNTIF(Tabulka5[Data],D314))","v":""},"","","",""]
[null,null,null,null,{"$f":"IF(D315=\"\",\"\",COUNTIF(Tabulka5[Data],D315))","v":""},"","","",""]
[null,null,null,null,{"$f":"IF(D316=\"\",\"\",COUNTIF(Tabulka5[Data],D316))","v":""},"","","",""]
[null,null,null,null,{"$f":"IF(D317=\"\",\"\",COUNTIF(Tabulka5[Data],D317))","v":""},"","","",""]
[null,null,null,null,{"$f":"IF(D318=\"\",\"\",COUNTIF(Tabulka5[Data],D318))","v":""},"","","",""]
[null,null,null,null,{"$f":"IF(D319=\"\",\"\",COUNTIF(Tabulka5[Data],D319))","v":""},"","","",""]
[null,null,null,null,{"$f":"IF(D320=\"\",\"\",COUNTIF(Tabulka5[Data],D320))","v":""},"","","",""]
[null,null,null,null,{"$f":"IF(D321=\"\",\"\",COUNTIF(Tabulka5[Data],D321))","v":""},"","","",""]
[null,null,null,null,{"$f":"IF(D322=\"\",\"\",COUNTIF(Tabulka5[Data],D322))","v":""},"","","",""]
[null,null,null,null,{"$f":"IF(D323=\"\",\"\",COUNTIF(Tabulka5[Data],D323))","v":""},"","","",""]
[null,null,null,null,{"$f":"IF(D324=\"\",\"\",COUNTIF(Tabulka5[Data],D324))","v":""},"","","",""]
[null,null,null,null,{"$f":"IF(D325=\"\",\"\",COUNTIF(Tabulka5[Data],D325))","v":""},"","","",""]
[null,null,null,null,{"$f":"IF(D326=\"\",\"\",COUNTIF(Tabulka5[Data],D326))","v":""},"","","",""]
[null,null,null,null,{"$f":"IF(D327=\"\",\"\",COUNTIF(Tabulka5[Data],D327))","v":""},"","","",""]
[null,null,null,null,{"$f":"IF(D328=\"\",\"\",COUNTIF(Tabulka5[Data],D328))","v":""},"","","",""]
[null,null,null,null,{"$f":"IF(D329=\"\",\"\",COUNTIF(Tabulka5[Data],D329))","v":""},"","","",""]
[null,null,null,null,{"$f":"IF(D330=\"\",\"\",COUNTIF(Tabulka5[Data],D330))","v":""},"","","",""]
[null,null,null,null,{"$f":"IF(D331=\"\",\"\",COUNTIF(Tabulka5[Data],D331))","v":""},"","","",""]
[null,null,null,null,{"$f":"IF(D332=\"\",\"\",COUNTIF(Tabulka5[Data],D332))","v":""},"","","",""]
[null,null,null,null,{"$f":"IF(D333=\"\",\"\",COUNTIF(Tabulka5[Data],D333))","v":""},"","","",""]
[null,null,null,null,{"$f":"IF(D334=\"\",\"\",COUNTIF(Tabulka5[Data],D334))","v":""},"","","",""]
[null,null,null,null,{"$f":"IF(D335=\"\",\"\",COUNTIF(Tabulka5[Data],D335))","v":""},"","","",""]
[null,null,null,null,{"$f":"IF(D336=\"\",\"\",COUNTIF(Tabulka5[Data],D336))","v":""},"","","",""]
[null,null,null,null,{"$f":"IF(D337=\"\",\"\",COUNTIF(Tabulka5[Data],D337))","v":""},{"$f":"IF(OR($K$11=0,D337=\"\"),\"\",IF(D338=\"\",1-I336,ROUND(E337/SUM($E$15:$E$6350),3)))","v":""},{"$f":"IF(OR(D337=\"\",$A$11=\"nominální\"),\"\",G336+E337)","v":""},{"$f":"IF(OR($K$11=0,D337=\"\",$A$11=\"nominální\"),\"\",H336+F337)","v":""},{"$f":"IF(OR($K$11=0,D337=\"\"),\"\",I336+F337)","v":""}]
[null,null,null,null,{"$f":"IF(D338=\"\",\"\",COUNTIF(Tabulka5[Data],D338))","v":""},"","","",""]
[null,null,null,null,{"$f":"IF(D339=\"\",\"\",COUNTIF(Tabulka5[Data],D339))","v":""},"","","",""]
[null,null,null,null,{"$f":"IF(D340=\"\",\"\",COUNTIF(Tabulka5[Data],D340))","v":""},"","","",""]
[null,null,null,null,{"$f":"IF(D341=\"\",\"\",COUNTIF(Tabulka5[Data],D341))","v":""},"","","",""]
[null,null,null,null,{"$f":"IF(D342=\"\",\"\",COUNTIF(Tabulka5[Data],D342))","v":""},"","","",""]
[null,null,null,null,{"$f":"IF(D343=\"\",\"\",COUNTIF(Tabulka5[Data],D343))","v":""},"","","",""]
[null,null,null,null,{"$f":"IF(D344=\"\",\"\",COUNTIF(Tabulka5[Data],D344))","v":""},"","","",""]
[null,null,null,null,{"$f":"IF(D345=\"\",\"\",COUNTIF(Tabulka5[Data],D345))","v":""},"","","",""]
[null,null,null,null,{"$f":"IF(D346=\"\",\"\",COUNTIF(Tabulka5[Data],D346))","v":""},"","","",""]
[null,null,null,null,{"$f":"IF(D347=\"\",\"\",COUNTIF(Tabulka5[Data],D347))","v":""},"","","",""]
[null,null,null,null,{"$f":"IF(D348=\"\",\"\",COUNTIF(Tabulka5[Data],D348))","v":""},"","","",""]
[null,null,null,null,{"$f":"IF(D349=\"\",\"\",COUNTIF(Tabulka5[Data],D349))","v":""},"","","",""]
[null,null,null,null,{"$f":"IF(D350=\"\",\"\",COUNTIF(Tabulka5[Data],D350))","v":""},"","","",""]
[null,null,null,null,{"$f":"IF(D351=\"\",\"\",COUNTIF(Tabulka5[Data],D351))","v":""},"","","",""]
[null,null,null,null,{"$f":"IF(D352=\"\",\"\",COUNTIF(Tabulka5[Data],D352))","v":""},"","","",""]
[null,null,null,null,{"$f":"IF(D353=\"\",\"\",COUNTIF(Tabulka5[Data],D353))","v":""},"","","",""]
[null,null,null,null,{"$f":"IF(D354=\"\",\"\",COUNTIF(Tabulka5[Data],D354))","v":""},"","","",""]
[null,null,null,null,{"$f":"IF(D355=\"\",\"\",COUNTIF(Tabulka5[Data],D355))","v":""},"","","",""]
[null,null,null,null,{"$f":"IF(D356=\"\",\"\",COUNTIF(Tabulka5[Data],D356))","v":""},"","","",""]
[null,null,null,null,{"$f":"IF(D357=\"\",\"\",COUNTIF(Tabulka5[Data],D357))","v":""},"","","",""]
[null,null,null,null,{"$f":"IF(D358=\"\",\"\",COUNTIF(Tabulka5[Data],D358))","v":""},"","","",""]
[null,null,null,null,{"$f":"IF(D359=\"\",\"\",COUNTIF(Tabulka5[Data],D359))","v":""},"","","",""]
[null,null,null,null,{"$f":"IF(D360=\"\",\"\",COUNTIF(Tabulka5[Data],D360))","v":""},"","","",""]
[null,null,null,null,{"$f":"IF(D361=\"\",\"\",COUNTIF(Tabulka5[Data],D361))","v":""},"","","",""]
[null,null,null,null,{"$f":"IF(D362=\"\",\"\",COUNTIF(Tabulka5[Data],D362))","v":""},"","","",""]
[null,null,null,null,{"$f":"IF(D363=\"\",\"\",COUNTIF(Tabulka5[Data],D363))","v":""},"","","",""]
[null,null,null,null,{"$f":"IF(D364=\"\",\"\",COUNTIF(Tabulka5[Data],D364))","v":""},"","","",""]
[null,null,null,null,{"$f":"IF(D365=\"\",\"\",COUNTIF(Tabulka5[Data],D365))","v":""},"","","",""]
[null,null,null,null,{"$f":"IF(D366=\"\",\"\",COUNTIF(Tabulka5[Data],D366))","v":""},"","","",""]
[null,null,null,null,{"$f":"IF(D367=\"\",\"\",COUNTIF(Tabulka5[Data],D367))","v":""},"","","",""]
[null,null,null,null,{"$f":"IF(D368=\"\",\"\",COUNTIF(Tabulka5[Data],D368))","v":""},"","","",""]
[null,null,null,null,{"$f":"IF(D369=\"\",\"\",COUNTIF(Tabulka5[Data],D369))","v":""},"","","",""]
[null,null,null,null,{"$f":"IF(D370=\"\",\"\",COUNTIF(Tabulka5[Data],D370))","v":""},"","","",""]
[null,null,null,null,{"$f":"IF(D371=\"\",\"\",COUNTIF(Tabulka5[Data],D371))","v":""},"","","",""]
[null,null,null,null,{"$f":"IF(D372=\"\",\"\",COUNTIF(Tabulka5[Data],D372))","v":""},"","","",""]
[null,null,null,null,{"$f":"IF(D373=\"\",\"\",COUNTIF(Tabulka5[Data],D373))","v":""},"","","",""]
[null,null,null,null,{"$f":"IF(D374=\"\",\"\",COUNTIF(Tabulka5[Data],D374))","v":""},"","","",""]
[null,null,null,null,{"$f":"IF(D375=\"\",\"\",COUNTIF(Tabulka5[Data],D375))","v":""},"","","",""]
[null,null,null,null,{"$f":"IF(D376=\"\",\"\",COUNTIF(Tabulka5[Data],D376))","v":""},"","","",""]
[null,null,null,null,{"$f":"IF(D377=\"\",\"\",COUNTIF(Tabulka5[Data],D377))","v":""},"","","",""]
[null,null,null,null,{"$f":"IF(D378=\"\",\"\",COUNTIF(Tabulka5[Data],D378))","v":""},"","","",""]
[null,null,null,null,{"$f":"IF(D379=\"\",\"\",COUNTIF(Tabulka5[Data],D379))","v":""},"","","",""]
[null,null,null,null,{"$f":"IF(D380=\"\",\"\",COUNTIF(Tabulka5[Data],D380))","v":""},"","","",""]
[null,null,null,null,{"$f":"IF(D381=\"\",\"\",COUNTIF(Tabulka5[Data],D381))","v":""},"","","",""]
[null,null,null,null,{"$f":"IF(D382=\"\",\"\",COUNTIF(Tabulka5[Data],D382))","v":""},"","","",""]
[null,null,null,null,{"$f":"IF(D383=\"\",\"\",COUNTIF(Tabulka5[Data],D383))","v":""},"","","",""]
[null,null,null,null,{"$f":"IF(D384=\"\",\"\",COUNTIF(Tabulka5[Data],D384))","v":""},"","","",""]
[null,null,null,null,{"$f":"IF(D385=\"\",\"\",COUNTIF(Tabulka5[Data],D385))","v":""},"","","",""]
[null,null,null,null,{"$f":"IF(D386=\"\",\"\",COUNTIF(Tabulka5[Data],D386))","v":""},"","","",""]
[null,null,null,null,{"$f":"IF(D387=\"\",\"\",COUNTIF(Tabulka5[Data],D387))","v":""},"","","",""]
[null,null,null,null,{"$f":"IF(D388=\"\",\"\",COUNTIF(Tabulka5[Data],D388))","v":""},"","","",""]
[null,null,null,null,{"$f":"IF(D389=\"\",\"\",COUNTIF(Tabulka5[Data],D389))","v":""},"","","",""]
[null,null,null,null,{"$f":"IF(D390=\"\",\"\",COUNTIF(Tabulka5[Data],D390))","v":""},"","","",""]
[null,null,null,null,{"$f":"IF(D391=\"\",\"\",COUNTIF(Tabulka5[Data],D391))","v":""},"","","",""]
[null,null,null,null,{"$f":"IF(D392=\"\",\"\",COUNTIF(Tabulka5[Data],D392))","v":""},"","","",""]
[null,null,null,null,{"$f":"IF(D393=\"\",\"\",COUNTIF(Tabulka5[Data],D393))","v":""},"","","",""]
[null,null,null,null,{"$f":"IF(D394=\"\",\"\",COUNTIF(Tabulka5[Data],D394))","v":""},"","","",""]
[null,null,null,null,{"$f":"IF(D395=\"\",\"\",COUNTIF(Tabulka5[Data],D395))","v":""},"","","",""]
[null,null,null,null,{"$f":"IF(D396=\"\",\"\",COUNTIF(Tabulka5[Data],D396))","v":""},"","","",""]
[null,null,null,null,{"$f":"IF(D397=\"\",\"\",COUNTIF(Tabulka5[Data],D397))","v":""},"","","",""]
[null,null,null,null,{"$f":"IF(D398=\"\",\"\",COUNTIF(Tabulka5[Data],D398))","v":""},"","","",""]
[null,null,null,null,{"$f":"IF(D399=\"\",\"\",COUNTIF(Tabulka5[Data],D399))","v":""},"","","",""]
[null,null,null,null,{"$f":"IF(D400=\"\",\"\",COUNTIF(Tabulka5[Data],D400))","v":""},"","","",""]
[null,null,null,null,{"$f":"IF(D401=\"\",\"\",COUNTIF(Tabulka5[Data],D401))","v":""},{"$f":"IF(OR($K$11=0,D401=\"\"),\"\",IF(D402=\"\",1-I400,ROUND(E401/SUM($E$15:$E$6350),3)))","v":""},{"$f":"IF(OR(D401=\"\",$A$11=\"nominální\"),\"\",G400+E401)","v":""},{"$f":"IF(OR($K$11=0,D401=\"\",$A$11=\"nominální\"),\"\",H400+F401)","v":""},{"$f":"IF(OR($K$11=0,D401=\"\"),\"\",I400+F401)","v":""}]
[null,null,null,null,{"$f":"IF(D402=\"\",\"\",COUNTIF(Tabulka5[Data],D402))","v":""},"","","",""]
[null,null,null,null,{"$f":"IF(D403=\"\",\"\",COUNTIF(Tabulka5[Data],D403))","v":""},"","","",""]
[null,null,null,null,{"$f":"IF(D404=\"\",\"\",COUNTIF(Tabulka5[Data],D404))","v":""},"","","",""]
[null,null,null,null,{"$f":"IF(D405=\"\",\"\",COUNTIF(Tabulka5[Data],D405))","v":""},"","","",""]
[null,null,null,null,{"$f":"IF(D406=\"\",\"\",COUNTIF(Tabulka5[Data],D406))","v":""},"","","",""]
[null,null,null,null,{"$f":"IF(D407=\"\",\"\",COUNTIF(Tabulka5[Data],D407))","v":""},"","","",""]
[null,null,null,null,{"$f":"IF(D408=\"\",\"\",COUNTIF(Tabulka5[Data],D408))","v":""},"","","",""]
[null,null,null,null,{"$f":"IF(D409=\"\",\"\",COUNTIF(Tabulka5[Data],D409))","v":""},"","","",""]
[null,null,null,null,{"$f":"IF(D410=\"\",\"\",COUNTIF(Tabulka5[Data],D410))","v":""},"","","",""]
[null,null,null,null,{"$f":"IF(D411=\"\",\"\",COUNTIF(Tabulka5[Data],D411))","v":""},"","","",""]
[null,null,null,null,{"$f":"IF(D412=\"\",\"\",COUNTIF(Tabulka5[Data],D412))","v":""},"","","",""]
[null,null,null,null,{"$f":"IF(D413=\"\",\"\",COUNTIF(Tabulka5[Data],D413))","v":""},"","","",""]
[null,null,null,null,{"$f":"IF(D414=\"\",\"\",COUNTIF(Tabulka5[Data],D414))","v":""},"","","",""]
[null,null,null,null,{"$f":"IF(D415=\"\",\"\",COUNTIF(Tabulka5[Data],D415))","v":""},"","","",""]
[null,null,null,null,{"$f":"IF(D416=\"\",\"\",COUNTIF(Tabulka5[Data],D416))","v":""},"","","",""]
[null,null,null,null,{"$f":"IF(D417=\"\",\"\",COUNTIF(Tabulka5[Data],D417))","v":""},"","","",""]
[null,null,null,null,{"$f":"IF(D418=\"\",\"\",COUNTIF(Tabulka5[Data],D418))","v":""},"","","",""]
[null,null,null,null,{"$f":"IF(D419=\"\",\"\",COUNTIF(Tabulka5[Data],D419))","v":""},"","","",""]
[null,null,null,null,{"$f":"IF(D420=\"\",\"\",COUNTIF(Tabulka5[Data],D420))","v":""},"","","",""]
[null,null,null,null,{"$f":"IF(D421=\"\",\"\",COUNTIF(Tabulka5[Data],D421))","v":""},"","","",""]
[null,null,null,null,{"$f":"IF(D422=\"\",\"\",COUNTIF(Tabulka5[Data],D422))","v":""},"","","",""]
[null,null,null,null,{"$f":"IF(D423=\"\",\"\",COUNTIF(Tabulka5[Data],D423))","v":""},"","","",""]
[null,null,null,null,{"$f":"IF(D424=\"\",\"\",COUNTIF(Tabulka5[Data],D424))","v":""},"","","",""]
[null,null,null,null,{"$f":"IF(D425=\"\",\"\",COUNTIF(Tabulka5[Data],D425))","v":""},"","","",""]
[null,null,null,null,{"$f":"IF(D426=\"\",\"\",COUNTIF(Tabulka5[Data],D426))","v":""},"","","",""]
[null,null,null,null,{"$f":"IF(D427=\"\",\"\",COUNTIF(Tabulka5[Data],D427))","v":""},"","","",""]
[null,null,null,null,{"$f":"IF(D428=\"\",\"\",COUNTIF(Tabulka5[Data],D428))","v":""},"","","",""]
[null,null,null,null,{"$f":"IF(D429=\"\",\"\",COUNTIF(Tabulka5[Data],D429))","v":""},"","","",""]
[null,null,null,null,{"$f":"IF(D430=\"\",\"\",COUNTIF(Tabulka5[Data],D430))","v":""},"","","",""]
[null,null,null,null,{"$f":"IF(D431=\"\",\"\",COUNTIF(Tabulka5[Data],D431))","v":""},"","","",""]
[null,null,null,null,{"$f":"IF(D432=\"\",\"\",COUNTIF(Tabulka5[Data],D432))","v":""},"","","",""]
[null,null,null,null,{"$f":"IF(D433=\"\",\"\",COUNTIF(Tabulka5[Data],D433))","v":""},"","","",""]
[null,null,null,null,{"$f":"IF(D434=\"\",\"\",COUNTIF(Tabulka5[Data],D434))","v":""},"","","",""]
[null,null,null,null,{"$f":"IF(D435=\"\",\"\",COUNTIF(Tabulka5[Data],D435))","v":""},"","","",""]
[null,null,null,null,{"$f":"IF(D436=\"\",\"\",COUNTIF(Tabulka5[Data],D436))","v":""},"","","",""]
[null,null,null,null,{"$f":"IF(D437=\"\",\"\",COUNTIF(Tabulka5[Data],D437))","v":""},"","","",""]
[null,null,null,null,{"$f":"IF(D438=\"\",\"\",COUNTIF(Tabulka5[Data],D438))","v":""},"","","",""]
[null,null,null,null,{"$f":"IF(D439=\"\",\"\",COUNTIF(Tabulka5[Data],D439))","v":""},"","","",""]
[null,null,null,null,{"$f":"IF(D440=\"\",\"\",COUNTIF(Tabulka5[Data],D440))","v":""},"","","",""]
[null,null,null,null,{"$f":"IF(D441=\"\",\"\",COUNTIF(Tabulka5[Data],D441))","v":""},"","","",""]
[null,null,null,null,{"$f":"IF(D442=\"\",\"\",COUNTIF(Tabulka5[Data],D442))","v":""},"","","",""]
[null,null,null,null,{"$f":"IF(D443=\"\",\"\",COUNTIF(Tabulka5[Data],D443))","v":""},"","","",""]
[null,null,null,null,{"$f":"IF(D444=\"\",\"\",COUNTIF(Tabulka5[Data],D444))","v":""},"","","",""]
[null,null,null,null,{"$f":"IF(D445=\"\",\"\",COUNTIF(Tabulka5[Data],D445))","v":""},"","","",""]
[null,null,null,null,{"$f":"IF(D446=\"\",\"\",COUNTIF(Tabulka5[Data],D446))","v":""},"","","",""]
[null,null,null,null,{"$f":"IF(D447=\"\",\"\",COUNTIF(Tabulka5[Data],D447))","v":""},"","","",""]
[null,null,null,null,{"$f":"IF(D448=\"\",\"\",COUNTIF(Tabulka5[Data],D448))","v":""},"","","",""]
[null,null,null,null,{"$f":"IF(D449=\"\",\"\",COUNTIF(Tabulka5[Data],D449))","v":""},"","","",""]
[null,null,null,null,{"$f":"IF(D450=\"\",\"\",COUNTIF(Tabulka5[Data],D450))","v":""},"","","",""]
[null,null,null,null,{"$f":"IF(D451=\"\",\"\",COUNTIF(Tabulka5[Data],D451))","v":""},"","","",""]
[null,null,null,null,{"$f":"IF(D452=\"\",\"\",COUNTIF(Tabulka5[Data],D452))","v":""},"","","",""]
[null,null,null,null,{"$f":"IF(D453=\"\",\"\",COUNTIF(Tabulka5[Data],D453))","v":""},"","","",""]
[null,null,null,null,{"$f":"IF(D454=\"\",\"\",COUNTIF(Tabulka5[Data],D454))","v":""},"","","",""]
[null,null,null,null,{"$f":"IF(D455=\"\",\"\",COUNTIF(Tabulka5[Data],D455))","v":""},"","","",""]
[null,null,null,null,{"$f":"IF(D456=\"\",\"\",COUNTIF(Tabulka5[Data],D456))","v":""},"","","",""]
[null,null,null,null,{"$f":"IF(D457=\"\",\"\",COUNTIF(Tabulka5[Data],D457))","v":""},"","","",""]
[null,null,null,null,{"$f":"IF(D458=\"\",\"\",COUNTIF(Tabulka5[Data],D458))","v":""},"","","",""]
[null,null,null,null,{"$f":"IF(D459=\"\",\"\",COUNTIF(Tabulka5[Data],D459))","v":""},"","","",""]
[null,null,null,null,{"$f":"IF(D460=\"\",\"\",COUNTIF(Tabulka5[Data],D460))","v":""},"","","",""]
[null,null,null,null,{"$f":"IF(D461=\"\",\"\",COUNTIF(Tabulka5[Data],D461))","v":""},"","","",""]
[null,null,null,null,{"$f":"IF(D462=\"\",\"\",COUNTIF(Tabulka5[Data],D462))","v":""},"","","",""]
[null,null,null,null,{"$f":"IF(D463=\"\",\"\",COUNTIF(Tabulka5[Data],D463))","v":""},"","","",""]
[null,null,null,null,{"$f":"IF(D464=\"\",\"\",COUNTIF(Tabulka5[Data],D464))","v":""},"","","",""]
[null,null,null,null,{"$f":"IF(D465=\"\",\"\",COUNTIF(Tabulka5[Data],D465))","v":""},{"$f":"IF(OR($K$11=0,D465=\"\"),\"\",IF(D466=\"\",1-I464,ROUND(E465/SUM($E$15:$E$6350),3)))","v":""},{"$f":"IF(OR(D465=\"\",$A$11=\"nominální\"),\"\",G464+E465)","v":""},{"$f":"IF(OR($K$11=0,D465=\"\",$A$11=\"nominální\"),\"\",H464+F465)","v":""},{"$f":"IF(OR($K$11=0,D465=\"\"),\"\",I464+F465)","v":""}]
[null,null,null,null,{"$f":"IF(D466=\"\",\"\",COUNTIF(Tabulka5[Data],D466))","v":""},"","","",""]
[null,null,null,null,{"$f":"IF(D467=\"\",\"\",COUNTIF(Tabulka5[Data],D467))","v":""},"","","",""]
[null,null,null,null,{"$f":"IF(D468=\"\",\"\",COUNTIF(Tabulka5[Data],D468))","v":""},"","","",""]
[null,null,null,null,{"$f":"IF(D469=\"\",\"\",COUNTIF(Tabulka5[Data],D469))","v":""},"","","",""]
[null,null,null,null,{"$f":"IF(D470=\"\",\"\",COUNTIF(Tabulka5[Data],D470))","v":""},"","","",""]
[null,null,null,null,{"$f":"IF(D471=\"\",\"\",COUNTIF(Tabulka5[Data],D471))","v":""},"","","",""]
[null,null,null,null,{"$f":"IF(D472=\"\",\"\",COUNTIF(Tabulka5[Data],D472))","v":""},"","","",""]
[null,null,null,null,{"$f":"IF(D473=\"\",\"\",COUNTIF(Tabulka5[Data],D473))","v":""},"","","",""]
[null,null,null,null,{"$f":"IF(D474=\"\",\"\",COUNTIF(Tabulka5[Data],D474))","v":""},"","","",""]
[null,null,null,null,{"$f":"IF(D475=\"\",\"\",COUNTIF(Tabulka5[Data],D475))","v":""},"","","",""]
[null,null,null,null,{"$f":"IF(D476=\"\",\"\",COUNTIF(Tabulka5[Data],D476))","v":""},"","","",""]
[null,null,null,null,{"$f":"IF(D477=\"\",\"\",COUNTIF(Tabulka5[Data],D477))","v":""},"","","",""]
[null,null,null,null,{"$f":"IF(D478=\"\",\"\",COUNTIF(Tabulka5[Data],D478))","v":""},"","","",""]
[null,null,null,null,{"$f":"IF(D479=\"\",\"\",COUNTIF(Tabulka5[Data],D479))","v":""},"","","",""]
[null,null,null,null,{"$f":"IF(D480=\"\",\"\",COUNTIF(Tabulka5[Data],D480))","v":""},"","","",""]
[null,null,null,null,{"$f":"IF(D481=\"\",\"\",COUNTIF(Tabulka5[Data],D481))","v":""},"","","",""]
[null,null,null,null,{"$f":"IF(D482=\"\",\"\",COUNTIF(Tabulka5[Data],D482))","v":""},"","","",""]
[null,null,null,null,{"$f":"IF(D483=\"\",\"\",COUNTIF(Tabulka5[Data],D483))","v":""},"","","",""]
[null,null,null,null,{"$f":"IF(D484=\"\",\"\",COUNTIF(Tabulka5[Data],D484))","v":""},"","","",""]
[null,null,null,null,{"$f":"IF(D485=\"\",\"\",COUNTIF(Tabulka5[Data],D485))","v":""},"","","",""]
[null,null,null,null,{"$f":"IF(D486=\"\",\"\",COUNTIF(Tabulka5[Data],D486))","v":""},"","","",""]
[null,null,null,null,{"$f":"IF(D487=\"\",\"\",COUNTIF(Tabulka5[Data],D487))","v":""},"","","",""]
[null,null,null,null,{"$f":"IF(D488=\"\",\"\",COUNTIF(Tabulka5[Data],D488))","v":""},"","","",""]
[null,null,null,null,{"$f":"IF(D489=\"\",\"\",COUNTIF(Tabulka5[Data],D489))","v":""},"","","",""]
[null,null,null,null,{"$f":"IF(D490=\"\",\"\",COUNTIF(Tabulka5[Data],D490))","v":""},"","","",""]
[null,null,null,null,{"$f":"IF(D491=\"\",\"\",COUNTIF(Tabulka5[Data],D491))","v":""},"","","",""]
[null,null,null,null,{"$f":"IF(D492=\"\",\"\",COUNTIF(Tabulka5[Data],D492))","v":""},"","","",""]
[null,null,null,null,{"$f":"IF(D493=\"\",\"\",COUNTIF(Tabulka5[Data],D493))","v":""},"","","",""]
[null,null,null,null,{"$f":"IF(D494=\"\",\"\",COUNTIF(Tabulka5[Data],D494))","v":""},"","","",""]
[null,null,null,null,{"$f":"IF(D495=\"\",\"\",COUNTIF(Tabulka5[Data],D495))","v":""},"","","",""]
[null,null,null,null,{"$f":"IF(D496=\"\",\"\",COUNTIF(Tabulka5[Data],D496))","v":""},"","","",""]
[null,null,null,null,{"$f":"IF(D497=\"\",\"\",COUNTIF(Tabulka5[Data],D497))","v":""},"","","",""]
[null,null,null,null,{"$f":"IF(D498=\"\",\"\",COUNTIF(Tabulka5[Data],D498))","v":""},"","","",""]
[null,null,null,null,{"$f":"IF(D499=\"\",\"\",COUNTIF(Tabulka5[Data],D499))","v":""},"","","",""]
[null,null,null,null,{"$f":"IF(D500=\"\",\"\",COUNTIF(Tabulka5[Data],D500))","v":""},"","","",""]
[null,null,null,null,{"$f":"IF(D501=\"\",\"\",COUNTIF(Tabulka5[Data],D501))","v":""},"","","",""]
[null,null,null,null,{"$f":"IF(D502=\"\",\"\",COUNTIF(Tabulka5[Data],D502))","v":""},"","","",""]
[null,null,null,null,{"$f":"IF(D503=\"\",\"\",COUNTIF(Tabulka5[Data],D503))","v":""},"","","",""]
[null,null,null,null,{"$f":"IF(D504=\"\",\"\",COUNTIF(Tabulka5[Data],D504))","v":""},"","","",""]
[null,null,null,null,{"$f":"IF(D505=\"\",\"\",COUNTIF(Tabulka5[Data],D505))","v":""},"","","",""]
[null,null,null,null,{"$f":"IF(D506=\"\",\"\",COUNTIF(Tabulka5[Data],D506))","v":""},"","","",""]
[null,null,null,null,{"$f":"IF(D507=\"\",\"\",COUNTIF(Tabulka5[Data],D507))","v":""},"","","",""]
[null,null,null,null,{"$f":"IF(D508=\"\",\"\",COUNTIF(Tabulka5[Data],D508))","v":""},"","","",""]
[null,null,null,null,{"$f":"IF(D509=\"\",\"\",COUNTIF(Tabulka5[Data],D509))","v":""},"","","",""]
[null,null,null,null,{"$f":"IF(D510=\"\",\"\",COUNTIF(Tabulka5[Data],D510))","v":""},"","","",""]
[null,null,null,null,{"$f":"IF(D511=\"\",\"\",COUNTIF(Tabulka5[Data],D511))","v":""},"","","",""]
[null,null,null,null,{"$f":"IF(D512=\"\",\"\",COUNTIF(Tabulka5[Data],D512))","v":""},"","","",""]
[null,null,null,null,{"$f":"IF(D513=\"\",\"\",COUNTIF(Tabulka5[Data],D513))","v":""},"","","",""]
[null,null,null,null,{"$f":"IF(D514=\"\",\"\",COUNTIF(Tabulka5[Data],D514))","v":""},"","","",""]
[null,null,null,null,{"$f":"IF(D515=\"\",\"\",COUNTIF(Tabulka5[Data],D515))","v":""},"","","",""]
[null,null,null,null,{"$f":"IF(D516=\"\",\"\",COUNTIF(Tabulka5[Data],D516))","v":""},"","","",""]
[null,null,null,null,{"$f":"IF(D517=\"\",\"\",COUNTIF(Tabulka5[Data],D517))","v":""},"","","",""]
[null,null,null,null,{"$f":"IF(D518=\"\",\"\",COUNTIF(Tabulka5[Data],D518))","v":""},"","","",""]
[null,null,null,null,{"$f":"IF(D519=\"\",\"\",COUNTIF(Tabulka5[Data],D519))","v":""},"","","",""]
[null,null,null,null,{"$f":"IF(D520=\"\",\"\",COUNTIF(Tabulka5[Data],D520))","v":""},"","","",""]
[null,null,null,null,{"$f":"IF(D521=\"\",\"\",COUNTIF(Tabulka5[Data],D521))","v":""},"","","",""]
[null,null,null,null,{"$f":"IF(D522=\"\",\"\",COUNTIF(Tabulka5[Data],D522))","v":""},"","","",""]
[null,null,null,null,{"$f":"IF(D523=\"\",\"\",COUNTIF(Tabulka5[Data],D523))","v":""},"","","",""]
[null,null,null,null,{"$f":"IF(D524=\"\",\"\",COUNTIF(Tabulka5[Data],D524))","v":""},"","","",""]
[null,null,null,null,{"$f":"IF(D525=\"\",\"\",COUNTIF(Tabulka5[Data],D525))","v":""},"","","",""]
[null,null,null,null,{"$f":"IF(D526=\"\",\"\",COUNTIF(Tabulka5[Data],D526))","v":""},"","","",""]
[null,null,null,null,{"$f":"IF(D527=\"\",\"\",COUNTIF(Tabulka5[Data],D527))","v":""},"","","",""]
[null,null,null,null,{"$f":"IF(D528=\"\",\"\",COUNTIF(Tabulka5[Data],D528))","v":""},"","","",""]
[null,null,null,null,{"$f":"IF(D529=\"\",\"\",COUNTIF(Tabulka5[Data],D529))","v":""},{"$f":"IF(OR($K$11=0,D529=\"\"),\"\",IF(D530=\"\",1-I528,ROUND(E529/SUM($E$15:$E$6350),3)))","v":""},{"$f":"IF(OR(D529=\"\",$A$11=\"nominální\"),\"\",G528+E529)","v":""},{"$f":"IF(OR($K$11=0,D529=\"\",$A$11=\"nominální\"),\"\",H528+F529)","v":""},{"$f":"IF(OR($K$11=0,D529=\"\"),\"\",I528+F529)","v":""}]
[null,null,null,null,{"$f":"IF(D530=\"\",\"\",COUNTIF(Tabulka5[Data],D530))","v":""},"","","",""]
[null,null,null,null,{"$f":"IF(D531=\"\",\"\",COUNTIF(Tabulka5[Data],D531))","v":""},"","","",""]
[null,null,null,null,{"$f":"IF(D532=\"\",\"\",COUNTIF(Tabulka5[Data],D532))","v":""},"","","",""]
[null,null,null,null,{"$f":"IF(D533=\"\",\"\",COUNTIF(Tabulka5[Data],D533))","v":""},"","","",""]
[null,null,null,null,{"$f":"IF(D534=\"\",\"\",COUNTIF(Tabulka5[Data],D534))","v":""},"","","",""]
[null,null,null,null,{"$f":"IF(D535=\"\",\"\",COUNTIF(Tabulka5[Data],D535))","v":""},"","","",""]
[null,null,null,null,{"$f":"IF(D536=\"\",\"\",COUNTIF(Tabulka5[Data],D536))","v":""},"","","",""]
[null,null,null,null,{"$f":"IF(D537=\"\",\"\",COUNTIF(Tabulka5[Data],D537))","v":""},"","","",""]
[null,null,null,null,{"$f":"IF(D538=\"\",\"\",COUNTIF(Tabulka5[Data],D538))","v":""},"","","",""]
[null,null,null,null,{"$f":"IF(D539=\"\",\"\",COUNTIF(Tabulka5[Data],D539))","v":""},"","","",""]
[null,null,null,null,{"$f":"IF(D540=\"\",\"\",COUNTIF(Tabulka5[Data],D540))","v":""},"","","",""]
[null,null,null,null,{"$f":"IF(D541=\"\",\"\",COUNTIF(Tabulka5[Data],D541))","v":""},"","","",""]
[null,null,null,null,{"$f":"IF(D542=\"\",\"\",COUNTIF(Tabulka5[Data],D542))","v":""},"","","",""]
[null,null,null,null,{"$f":"IF(D543=\"\",\"\",COUNTIF(Tabulka5[Data],D543))","v":""},"","","",""]
[null,null,null,null,{"$f":"IF(D544=\"\",\"\",COUNTIF(Tabulka5[Data],D544))","v":""},"","","",""]
[null,null,null,null,{"$f":"IF(D545=\"\",\"\",COUNTIF(Tabulka5[Data],D545))","v":""},"","","",""]
[null,null,null,null,{"$f":"IF(D546=\"\",\"\",COUNTIF(Tabulka5[Data],D546))","v":""},"","","",""]
[null,null,null,null,{"$f":"IF(D547=\"\",\"\",COUNTIF(Tabulka5[Data],D547))","v":""},"","","",""]
[null,null,null,null,{"$f":"IF(D548=\"\",\"\",COUNTIF(Tabulka5[Data],D548))","v":""},"","","",""]
[null,null,null,null,{"$f":"IF(D549=\"\",\"\",COUNTIF(Tabulka5[Data],D549))","v":""},"","","",""]
[null,null,null,null,{"$f":"IF(D550=\"\",\"\",COUNTIF(Tabulka5[Data],D550))","v":""},"","","",""]
[null,null,null,null,{"$f":"IF(D551=\"\",\"\",COUNTIF(Tabulka5[Data],D551))","v":""},"","","",""]
[null,null,null,null,{"$f":"IF(D552=\"\",\"\",COUNTIF(Tabulka5[Data],D552))","v":""},"","","",""]
[null,null,null,null,{"$f":"IF(D553=\"\",\"\",COUNTIF(Tabulka5[Data],D553))","v":""},"","","",""]
[null,null,null,null,{"$f":"IF(D554=\"\",\"\",COUNTIF(Tabulka5[Data],D554))","v":""},"","","",""]
[null,null,null,null,{"$f":"IF(D555=\"\",\"\",COUNTIF(Tabulka5[Data],D555))","v":""},"","","",""]
[null,null,null,null,{"$f":"IF(D556=\"\",\"\",COUNTIF(Tabulka5[Data],D556))","v":""},"","","",""]
[null,null,null,null,{"$f":"IF(D557=\"\",\"\",COUNTIF(Tabulka5[Data],D557))","v":""},"","","",""]
[null,null,null,null,{"$f":"IF(D558=\"\",\"\",COUNTIF(Tabulka5[Data],D558))","v":""},"","","",""]
[null,null,null,null,{"$f":"IF(D559=\"\",\"\",COUNTIF(Tabulka5[Data],D559))","v":""},"","","",""]
[null,null,null,null,{"$f":"IF(D560=\"\",\"\",COUNTIF(Tabulka5[Data],D560))","v":""},"","","",""]
[null,null,null,null,{"$f":"IF(D561=\"\",\"\",COUNTIF(Tabulka5[Data],D561))","v":""},"","","",""]
[null,null,null,null,{"$f":"IF(D562=\"\",\"\",COUNTIF(Tabulka5[Data],D562))","v":""},"","","",""]
[null,null,null,null,{"$f":"IF(D563=\"\",\"\",COUNTIF(Tabulka5[Data],D563))","v":""},"","","",""]
[null,null,null,null,{"$f":"IF(D564=\"\",\"\",COUNTIF(Tabulka5[Data],D564))","v":""},"","","",""]
[null,null,null,null,{"$f":"IF(D565=\"\",\"\",COUNTIF(Tabulka5[Data],D565))","v":""},"","","",""]
[null,null,null,null,{"$f":"IF(D566=\"\",\"\",COUNTIF(Tabulka5[Data],D566))","v":""},"","","",""]
[null,null,null,null,{"$f":"IF(D567=\"\",\"\",COUNTIF(Tabulka5[Data],D567))","v":""},"","","",""]
[null,null,null,null,{"$f":"IF(D568=\"\",\"\",COUNTIF(Tabulka5[Data],D568))","v":""},"","","",""]
[null,null,null,null,{"$f":"IF(D569=\"\",\"\",COUNTIF(Tabulka5[Data],D569))","v":""},"","","",""]
[null,null,null,null,{"$f":"IF(D570=\"\",\"\",COUNTIF(Tabulka5[Data],D570))","v":""},"","","",""]
[null,null,null,null,{"$f":"IF(D571=\"\",\"\",COUNTIF(Tabulka5[Data],D571))","v":""},"","","",""]
[null,null,null,null,{"$f":"IF(D572=\"\",\"\",COUNTIF(Tabulka5[Data],D572))","v":""},"","","",""]
[null,null,null,null,{"$f":"IF(D573=\"\",\"\",COUNTIF(Tabulka5[Data],D573))","v":""},"","","",""]
[null,null,null,null,{"$f":"IF(D574=\"\",\"\",COUNTIF(Tabulka5[Data],D574))","v":""},"","","",""]
[null,null,null,null,{"$f":"IF(D575=\"\",\"\",COUNTIF(Tabulka5[Data],D575))","v":""},"","","",""]
[null,null,null,null,{"$f":"IF(D576=\"\",\"\",COUNTIF(Tabulka5[Data],D576))","v":""},"","","",""]
[null,null,null,null,{"$f":"IF(D577=\"\",\"\",COUNTIF(Tabulka5[Data],D577))","v":""},"","","",""]
[null,null,null,null,{"$f":"IF(D578=\"\",\"\",COUNTIF(Tabulka5[Data],D578))","v":""},"","","",""]
[null,null,null,null,{"$f":"IF(D579=\"\",\"\",COUNTIF(Tabulka5[Data],D579))","v":""},"","","",""]
[null,null,null,null,{"$f":"IF(D580=\"\",\"\",COUNTIF(Tabulka5[Data],D580))","v":""},"","","",""]
[null,null,null,null,{"$f":"IF(D581=\"\",\"\",COUNTIF(Tabulka5[Data],D581))","v":""},"","","",""]
[null,null,null,null,{"$f":"IF(D582=\"\",\"\",COUNTIF(Tabulka5[Data],D582))","v":""},"","","",""]
[null,null,null,null,{"$f":"IF(D583=\"\",\"\",COUNTIF(Tabulka5[Data],D583))","v":""},"","","",""]
[null,null,null,null,{"$f":"IF(D584=\"\",\"\",COUNTIF(Tabulka5[Data],D584))","v":""},"","","",""]
[null,null,null,null,{"$f":"IF(D585=\"\",\"\",COUNTIF(Tabulka5[Data],D585))","v":""},"","","",""]
[null,null,null,null,{"$f":"IF(D586=\"\",\"\",COUNTIF(Tabulka5[Data],D586))","v":""},"","","",""]
[null,null,null,null,{"$f":"IF(D587=\"\",\"\",COUNTIF(Tabulka5[Data],D587))","v":""},"","","",""]
[null,null,null,null,{"$f":"IF(D588=\"\",\"\",COUNTIF(Tabulka5[Data],D588))","v":""},"","","",""]
[null,null,null,null,{"$f":"IF(D589=\"\",\"\",COUNTIF(Tabulka5[Data],D589))","v":""},"","","",""]
[null,null,null,null,{"$f":"IF(D590=\"\",\"\",COUNTIF(Tabulka5[Data],D590))","v":""},"","","",""]
[null,null,null,null,{"$f":"IF(D591=\"\",\"\",COUNTIF(Tabulka5[Data],D591))","v":""},"","","",""]
[null,null,null,null,{"$f":"IF(D592=\"\",\"\",COUNTIF(Tabulka5[Data],D592))","v":""},"","","",""]
[null,null,null,null,{"$f":"IF(D593=\"\",\"\",COUNTIF(Tabulka5[Data],D593))","v":""},{"$f":"IF(OR($K$11=0,D593=\"\"),\"\",IF(D594=\"\",1-I592,ROUND(E593/SUM($E$15:$E$6350),3)))","v":""},{"$f":"IF(OR(D593=\"\",$A$11=\"nominální\"),\"\",G592+E593)","v":""},{"$f":"IF(OR($K$11=0,D593=\"\",$A$11=\"nominální\"),\"\",H592+F593)","v":""},{"$f":"IF(OR($K$11=0,D593=\"\"),\"\",I592+F593)","v":""}]
[null,null,null,null,{"$f":"IF(D594=\"\",\"\",COUNTIF(Tabulka5[Data],D594))","v":""},"","","",""]
[null,null,null,null,{"$f":"IF(D595=\"\",\"\",COUNTIF(Tabulka5[Data],D595))","v":""},"","","",""]
[null,null,null,null,{"$f":"IF(D596=\"\",\"\",COUNTIF(Tabulka5[Data],D596))","v":""},"","","",""]
[null,null,null,null,{"$f":"IF(D597=\"\",\"\",COUNTIF(Tabulka5[Data],D597))","v":""},"","","",""]
[null,null,null,null,{"$f":"IF(D598=\"\",\"\",COUNTIF(Tabulka5[Data],D598))","v":""},"","","",""]
[null,null,null,null,{"$f":"IF(D599=\"\",\"\",COUNTIF(Tabulka5[Data],D599))","v":""},"","","",""]
[null,null,null,null,{"$f":"IF(D600=\"\",\"\",COUNTIF(Tabulka5[Data],D600))","v":""},"","","",""]
[null,null,null,null,{"$f":"IF(D601=\"\",\"\",COUNTIF(Tabulka5[Data],D601))","v":""},"","","",""]
[null,null,null,null,{"$f":"IF(D602=\"\",\"\",COUNTIF(Tabulka5[Data],D602))","v":""},"","","",""]
[null,null,null,null,{"$f":"IF(D603=\"\",\"\",COUNTIF(Tabulka5[Data],D603))","v":""},"","","",""]
[null,null,null,null,{"$f":"IF(D604=\"\",\"\",COUNTIF(Tabulka5[Data],D604))","v":""},"","","",""]
[null,null,null,null,{"$f":"IF(D605=\"\",\"\",COUNTIF(Tabulka5[Data],D605))","v":""},"","","",""]
[null,null,null,null,{"$f":"IF(D606=\"\",\"\",COUNTIF(Tabulka5[Data],D606))","v":""},"","","",""]
[null,null,null,null,{"$f":"IF(D607=\"\",\"\",COUNTIF(Tabulka5[Data],D607))","v":""},"","","",""]
[null,null,null,null,{"$f":"IF(D608=\"\",\"\",COUNTIF(Tabulka5[Data],D608))","v":""},"","","",""]
[null,null,null,null,{"$f":"IF(D609=\"\",\"\",COUNTIF(Tabulka5[Data],D609))","v":""},"","","",""]
[null,null,null,null,{"$f":"IF(D610=\"\",\"\",COUNTIF(Tabulka5[Data],D610))","v":""},"","","",""]
[null,null,null,null,{"$f":"IF(D611=\"\",\"\",COUNTIF(Tabulka5[Data],D611))","v":""},"","","",""]
[null,null,null,null,{"$f":"IF(D612=\"\",\"\",COUNTIF(Tabulka5[Data],D612))","v":""},"","","",""]
[null,null,null,null,{"$f":"IF(D613=\"\",\"\",COUNTIF(Tabulka5[Data],D613))","v":""},"","","",""]
[null,null,null,null,{"$f":"IF(D614=\"\",\"\",COUNTIF(Tabulka5[Data],D614))","v":""},"","","",""]
[null,null,null,null,{"$f":"IF(D615=\"\",\"\",COUNTIF(Tabulka5[Data],D615))","v":""},"","","",""]
[null,null,null,null,{"$f":"IF(D616=\"\",\"\",COUNTIF(Tabulka5[Data],D616))","v":""},"","","",""]
[null,null,null,null,{"$f":"IF(D617=\"\",\"\",COUNTIF(Tabulka5[Data],D617))","v":""},"","","",""]
[null,null,null,null,{"$f":"IF(D618=\"\",\"\",COUNTIF(Tabulka5[Data],D618))","v":""},"","","",""]
[null,null,null,null,{"$f":"IF(D619=\"\",\"\",COUNTIF(Tabulka5[Data],D619))","v":""},"","","",""]
[null,null,null,null,{"$f":"IF(D620=\"\",\"\",COUNTIF(Tabulka5[Data],D620))","v":""},"","","",""]
[null,null,null,null,{"$f":"IF(D621=\"\",\"\",COUNTIF(Tabulka5[Data],D621))","v":""},"","","",""]
[null,null,null,null,{"$f":"IF(D622=\"\",\"\",COUNTIF(Tabulka5[Data],D622))","v":""},"","","",""]
[null,null,null,null,{"$f":"IF(D623=\"\",\"\",COUNTIF(Tabulka5[Data],D623))","v":""},"","","",""]
[null,null,null,null,{"$f":"IF(D624=\"\",\"\",COUNTIF(Tabulka5[Data],D624))","v":""},"","","",""]
[null,null,null,null,{"$f":"IF(D625=\"\",\"\",COUNTIF(Tabulka5[Data],D625))","v":""},"","","",""]
[null,null,null,null,{"$f":"IF(D626=\"\",\"\",COUNTIF(Tabulka5[Data],D626))","v":""},"","","",""]
[null,null,null,null,{"$f":"IF(D627=\"\",\"\",COUNTIF(Tabulka5[Data],D627))","v":""},"","","",""]
[null,null,null,null,{"$f":"IF(D628=\"\",\"\",COUNTIF(Tabulka5[Data],D628))","v":""},"","","",""]
[null,null,null,null,{"$f":"IF(D629=\"\",\"\",COUNTIF(Tabulka5[Data],D629))","v":""},"","","",""]
[null,null,null,null,{"$f":"IF(D630=\"\",\"\",COUNTIF(Tabulka5[Data],D630))","v":""},"","","",""]
[null,null,null,null,{"$f":"IF(D631=\"\",\"\",COUNTIF(Tabulka5[Data],D631))","v":""},"","","",""]
[null,null,null,null,{"$f":"IF(D632=\"\",\"\",COUNTIF(Tabulka5[Data],D632))","v":""},"","","",""]
[null,null,null,null,{"$f":"IF(D633=\"\",\"\",COUNTIF(Tabulka5[Data],D633))","v":""},"","","",""]
[null,null,null,null,{"$f":"IF(D634=\"\",\"\",COUNTIF(Tabulka5[Data],D634))","v":""},"","","",""]
[null,null,null,null,{"$f":"IF(D635=\"\",\"\",COUNTIF(Tabulka5[Data],D635))","v":""},"","","",""]
[null,null,null,null,{"$f":"IF(D636=\"\",\"\",COUNTIF(Tabulka5[Data],D636))","v":""},"","","",""]
[null,null,null,null,{"$f":"IF(D637=\"\",\"\",COUNTIF(Tabulka5[Data],D637))","v":""},"","","",""]
[null,null,null,null,{"$f":"IF(D638=\"\",\"\",COUNTIF(Tabulka5[Data],D638))","v":""},"","","",""]
[null,null,null,null,{"$f":"IF(D639=\"\",\"\",COUNTIF(Tabulka5[Data],D639))","v":""},"","","",""]
[null,null,null,null,{"$f":"IF(D640=\"\",\"\",COUNTIF(Tabulka5[Data],D640))","v":""},"","","",""]
[null,null,null,null,{"$f":"IF(D641=\"\",\"\",COUNTIF(Tabulka5[Data],D641))","v":""},"","","",""]
[null,null,null,null,{"$f":"IF(D642=\"\",\"\",COUNTIF(Tabulka5[Data],D642))","v":""},"","","",""]
[null,null,null,null,{"$f":"IF(D643=\"\",\"\",COUNTIF(Tabulka5[Data],D643))","v":""},"","","",""]
[null,null,null,null,{"$f":"IF(D644=\"\",\"\",COUNTIF(Tabulka5[Data],D644))","v":""},"","","",""]
[null,null,null,null,{"$f":"IF(D645=\"\",\"\",COUNTIF(Tabulka5[Data],D645))","v":""},"","","",""]
[null,null,null,null,{"$f":"IF(D646=\"\",\"\",COUNTIF(Tabulka5[Data],D646))","v":""},"","","",""]
[null,null,null,null,{"$f":"IF(D647=\"\",\"\",COUNTIF(Tabulka5[Data],D647))","v":""},"","","",""]
[null,null,null,null,{"$f":"IF(D648=\"\",\"\",COUNTIF(Tabulka5[Data],D648))","v":""},"","","",""]
[null,null,null,null,{"$f":"IF(D649=\"\",\"\",COUNTIF(Tabulka5[Data],D649))","v":""},"","","",""]
[null,null,null,null,{"$f":"IF(D650=\"\",\"\",COUNTIF(Tabulka5[Data],D650))","v":""},"","","",""]
[null,null,null,null,{"$f":"IF(D651=\"\",\"\",COUNTIF(Tabulka5[Data],D651))","v":""},"","","",""]
[null,null,null,null,{"$f":"IF(D652=\"\",\"\",COUNTIF(Tabulka5[Data],D652))","v":""},"","","",""]
[null,null,null,null,{"$f":"IF(D653=\"\",\"\",COUNTIF(Tabulka5[Data],D653))","v":""},"","","",""]
[null,null,null,null,{"$f":"IF(D654=\"\",\"\",COUNTIF(Tabulka5[Data],D654))","v":""},"","","",""]
[null,null,null,null,{"$f":"IF(D655=\"\",\"\",COUNTIF(Tabulka5[Data],D655))","v":""},"","","",""]
[null,null,null,null,{"$f":"IF(D656=\"\",\"\",COUNTIF(Tabulka5[Data],D656))","v":""},"","","",""]
[null,null,null,null,{"$f":"IF(D657=\"\",\"\",COUNTIF(Tabulka5[Data],D657))","v":""},{"$f":"IF(OR($K$11=0,D657=\"\"),\"\",IF(D658=\"\",1-I656,ROUND(E657/SUM($E$15:$E$6350),3)))","v":""},{"$f":"IF(OR(D657=\"\",$A$11=\"nominální\"),\"\",G656+E657)","v":""},{"$f":"IF(OR($K$11=0,D657=\"\",$A$11=\"nominální\"),\"\",H656+F657)","v":""},{"$f":"IF(OR($K$11=0,D657=\"\"),\"\",I656+F657)","v":""}]
[null,null,null,null,{"$f":"IF(D658=\"\",\"\",COUNTIF(Tabulka5[Data],D658))","v":""},"","","",""]
[null,null,null,null,{"$f":"IF(D659=\"\",\"\",COUNTIF(Tabulka5[Data],D659))","v":""},"","","",""]
[null,null,null,null,{"$f":"IF(D660=\"\",\"\",COUNTIF(Tabulka5[Data],D660))","v":""},"","","",""]
[null,null,null,null,{"$f":"IF(D661=\"\",\"\",COUNTIF(Tabulka5[Data],D661))","v":""},"","","",""]
[null,null,null,null,{"$f":"IF(D662=\"\",\"\",COUNTIF(Tabulka5[Data],D662))","v":""},"","","",""]
[null,null,null,null,{"$f":"IF(D663=\"\",\"\",COUNTIF(Tabulka5[Data],D663))","v":""},"","","",""]
[null,null,null,null,{"$f":"IF(D664=\"\",\"\",COUNTIF(Tabulka5[Data],D664))","v":""},"","","",""]
[null,null,null,null,{"$f":"IF(D665=\"\",\"\",COUNTIF(Tabulka5[Data],D665))","v":""},"","","",""]
[null,null,null,null,{"$f":"IF(D666=\"\",\"\",COUNTIF(Tabulka5[Data],D666))","v":""},"","","",""]
[null,null,null,null,{"$f":"IF(D667=\"\",\"\",COUNTIF(Tabulka5[Data],D667))","v":""},"","","",""]
[null,null,null,null,{"$f":"IF(D668=\"\",\"\",COUNTIF(Tabulka5[Data],D668))","v":""},"","","",""]
[null,null,null,null,{"$f":"IF(D669=\"\",\"\",COUNTIF(Tabulka5[Data],D669))","v":""},"","","",""]
[null,null,null,null,{"$f":"IF(D670=\"\",\"\",COUNTIF(Tabulka5[Data],D670))","v":""},"","","",""]
[null,null,null,null,{"$f":"IF(D671=\"\",\"\",COUNTIF(Tabulka5[Data],D671))","v":""},"","","",""]
[null,null,null,null,{"$f":"IF(D672=\"\",\"\",COUNTIF(Tabulka5[Data],D672))","v":""},"","","",""]
[null,null,null,null,{"$f":"IF(D673=\"\",\"\",COUNTIF(Tabulka5[Data],D673))","v":""},"","","",""]
[null,null,null,null,{"$f":"IF(D674=\"\",\"\",COUNTIF(Tabulka5[Data],D674))","v":""},"","","",""]
[null,null,null,null,{"$f":"IF(D675=\"\",\"\",COUNTIF(Tabulka5[Data],D675))","v":""},"","","",""]
[null,null,null,null,{"$f":"IF(D676=\"\",\"\",COUNTIF(Tabulka5[Data],D676))","v":""},"","","",""]
[null,null,null,null,{"$f":"IF(D677=\"\",\"\",COUNTIF(Tabulka5[Data],D677))","v":""},"","","",""]
[null,null,null,null,{"$f":"IF(D678=\"\",\"\",COUNTIF(Tabulka5[Data],D678))","v":""},"","","",""]
[null,null,null,null,{"$f":"IF(D679=\"\",\"\",COUNTIF(Tabulka5[Data],D679))","v":""},"","","",""]
[null,null,null,null,{"$f":"IF(D680=\"\",\"\",COUNTIF(Tabulka5[Data],D680))","v":""},"","","",""]
[null,null,null,null,{"$f":"IF(D681=\"\",\"\",COUNTIF(Tabulka5[Data],D681))","v":""},"","","",""]
[null,null,null,null,{"$f":"IF(D682=\"\",\"\",COUNTIF(Tabulka5[Data],D682))","v":""},"","","",""]
[null,null,null,null,{"$f":"IF(D683=\"\",\"\",COUNTIF(Tabulka5[Data],D683))","v":""},"","","",""]
[null,null,null,null,{"$f":"IF(D684=\"\",\"\",COUNTIF(Tabulka5[Data],D684))","v":""},"","","",""]
[null,null,null,null,{"$f":"IF(D685=\"\",\"\",COUNTIF(Tabulka5[Data],D685))","v":""},"","","",""]
[null,null,null,null,{"$f":"IF(D686=\"\",\"\",COUNTIF(Tabulka5[Data],D686))","v":""},"","","",""]
[null,null,null,null,{"$f":"IF(D687=\"\",\"\",COUNTIF(Tabulka5[Data],D687))","v":""},"","","",""]
[null,null,null,null,{"$f":"IF(D688=\"\",\"\",COUNTIF(Tabulka5[Data],D688))","v":""},"","","",""]
[null,null,null,null,{"$f":"IF(D689=\"\",\"\",COUNTIF(Tabulka5[Data],D689))","v":""},"","","",""]
[null,null,null,null,{"$f":"IF(D690=\"\",\"\",COUNTIF(Tabulka5[Data],D690))","v":""},"","","",""]
[null,null,null,null,{"$f":"IF(D691=\"\",\"\",COUNTIF(Tabulka5[Data],D691))","v":""},"","","",""]
[null,null,null,null,{"$f":"IF(D692=\"\",\"\",COUNTIF(Tabulka5[Data],D692))","v":""},"","","",""]
[null,null,null,null,{"$f":"IF(D693=\"\",\"\",COUNTIF(Tabulka5[Data],D693))","v":""},"","","",""]
[null,null,null,null,{"$f":"IF(D694=\"\",\"\",COUNTIF(Tabulka5[Data],D694))","v":""},"","","",""]
[null,null,null,null,{"$f":"IF(D695=\"\",\"\",COUNTIF(Tabulka5[Data],D695))","v":""},"","","",""]
[null,null,null,null,{"$f":"IF(D696=\"\",\"\",COUNTIF(Tabulka5[Data],D696))","v":""},"","","",""]
[null,null,null,null,{"$f":"IF(D697=\"\",\"\",COUNTIF(Tabulka5[Data],D697))","v":""},"","","",""]
[null,null,null,null,{"$f":"IF(D698=\"\",\"\",COUNTIF(Tabulka5[Data],D698))","v":""},"","","",""]
[null,null,null,null,{"$f":"IF(D699=\"\",\"\",COUNTIF(Tabulka5[Data],D699))","v":""},"","","",""]
[null,null,null,null,{"$f":"IF(D700=\"\",\"\",COUNTIF(Tabulka5[Data],D700))","v":""},"","","",""]
[null,null,null,null,{"$f":"IF(D701=\"\",\"\",COUNTIF(Tabulka5[Data],D701))","v":""},"","","",""]
[null,null,null,null,{"$f":"IF(D702=\"\",\"\",COUNTIF(Tabulka5[Data],D702))","v":""},"","","",""]
[null,null,null,null,{"$f":"IF(D703=\"\",\"\",COUNTIF(Tabulka5[Data],D703))","v":""},"","","",""]
[null,null,null,null,{"$f":"IF(D704=\"\",\"\",COUNTIF(Tabulka5[Data],D704))","v":""},"","","",""]
[null,null,null,null,{"$f":"IF(D705=\"\",\"\",COUNTIF(Tabulka5[Data],D705))","v":""},"","","",""]
[null,null,null,null,{"$f":"IF(D706=\"\",\"\",COUNTIF(Tabulka5[Data],D706))","v":""},"","","",""]
[null,null,null,null,{"$f":"IF(D707=\"\",\"\",COUNTIF(Tabulka5[Data],D707))","v":""},"","","",""]
[null,null,null,null,{"$f":"IF(D708=\"\",\"\",COUNTIF(Tabulka5[Data],D708))","v":""},"","","",""]
[null,null,null,null,{"$f":"IF(D709=\"\",\"\",COUNTIF(Tabulka5[Data],D709))","v":""},"","","",""]
[null,null,null,null,{"$f":"IF(D710=\"\",\"\",COUNTIF(Tabulka5[Data],D710))","v":""},"","","",""]
[null,null,null,null,{"$f":"IF(D711=\"\",\"\",COUNTIF(Tabulka5[Data],D711))","v":""},"","","",""]
[null,null,null,null,{"$f":"IF(D712=\"\",\"\",COUNTIF(Tabulka5[Data],D712))","v":""},"","","",""]
[null,null,null,null,{"$f":"IF(D713=\"\",\"\",COUNTIF(Tabulka5[Data],D713))","v":""},"","","",""]
[null,null,null,null,{"$f":"IF(D714=\"\",\"\",COUNTIF(Tabulka5[Data],D714))","v":""},"","","",""]
[null,null,null,null,{"$f":"IF(D715=\"\",\"\",COUNTIF(Tabulka5[Data],D715))","v":""},"","","",""]
[null,null,null,null,{"$f":"IF(D716=\"\",\"\",COUNTIF(Tabulka5[Data],D716))","v":""},"","","",""]
[null,null,null,null,{"$f":"IF(D717=\"\",\"\",COUNTIF(Tabulka5[Data],D717))","v":""},"","","",""]
[null,null,null,null,{"$f":"IF(D718=\"\",\"\",COUNTIF(Tabulka5[Data],D718))","v":""},"","","",""]
[null,null,null,null,{"$f":"IF(D719=\"\",\"\",COUNTIF(Tabulka5[Data],D719))","v":""},"","","",""]
[null,null,null,null,{"$f":"IF(D720=\"\",\"\",COUNTIF(Tabulka5[Data],D720))","v":""},"","","",""]
[null,null,null,null,{"$f":"IF(D721=\"\",\"\",COUNTIF(Tabulka5[Data],D721))","v":""},{"$f":"IF(OR($K$11=0,D721=\"\"),\"\",IF(D722=\"\",1-I720,ROUND(E721/SUM($E$15:$E$6350),3)))","v":""},{"$f":"IF(OR(D721=\"\",$A$11=\"nominální\"),\"\",G720+E721)","v":""},{"$f":"IF(OR($K$11=0,D721=\"\",$A$11=\"nominální\"),\"\",H720+F721)","v":""},{"$f":"IF(OR($K$11=0,D721=\"\"),\"\",I720+F721)","v":""}]
[null,null,null,null,{"$f":"IF(D722=\"\",\"\",COUNTIF(Tabulka5[Data],D722))","v":""},"","","",""]
[null,null,null,null,{"$f":"IF(D723=\"\",\"\",COUNTIF(Tabulka5[Data],D723))","v":""},"","","",""]
[null,null,null,null,{"$f":"IF(D724=\"\",\"\",COUNTIF(Tabulka5[Data],D724))","v":""},"","","",""]
[null,null,null,null,{"$f":"IF(D725=\"\",\"\",COUNTIF(Tabulka5[Data],D725))","v":""},"","","",""]
[null,null,null,null,{"$f":"IF(D726=\"\",\"\",COUNTIF(Tabulka5[Data],D726))","v":""},"","","",""]
[null,null,null,null,{"$f":"IF(D727=\"\",\"\",COUNTIF(Tabulka5[Data],D727))","v":""},"","","",""]
[null,null,null,null,{"$f":"IF(D728=\"\",\"\",COUNTIF(Tabulka5[Data],D728))","v":""},"","","",""]
[null,null,null,null,{"$f":"IF(D729=\"\",\"\",COUNTIF(Tabulka5[Data],D729))","v":""},"","","",""]
[null,null,null,null,{"$f":"IF(D730=\"\",\"\",COUNTIF(Tabulka5[Data],D730))","v":""},"","","",""]
[null,null,null,null,{"$f":"IF(D731=\"\",\"\",COUNTIF(Tabulka5[Data],D731))","v":""},"","","",""]
[null,null,null,null,{"$f":"IF(D732=\"\",\"\",COUNTIF(Tabulka5[Data],D732))","v":""},"","","",""]
[null,null,null,null,{"$f":"IF(D733=\"\",\"\",COUNTIF(Tabulka5[Data],D733))","v":""},"","","",""]
[null,null,null,null,{"$f":"IF(D734=\"\",\"\",COUNTIF(Tabulka5[Data],D734))","v":""},"","","",""]
[null,null,null,null,{"$f":"IF(D735=\"\",\"\",COUNTIF(Tabulka5[Data],D735))","v":""},"","","",""]
[null,null,null,null,{"$f":"IF(D736=\"\",\"\",COUNTIF(Tabulka5[Data],D736))","v":""},"","","",""]
[null,null,null,null,{"$f":"IF(D737=\"\",\"\",COUNTIF(Tabulka5[Data],D737))","v":""},"","","",""]
[null,null,null,null,{"$f":"IF(D738=\"\",\"\",COUNTIF(Tabulka5[Data],D738))","v":""},"","","",""]
[null,null,null,null,{"$f":"IF(D739=\"\",\"\",COUNTIF(Tabulka5[Data],D739))","v":""},"","","",""]
[null,null,null,null,{"$f":"IF(D740=\"\",\"\",COUNTIF(Tabulka5[Data],D740))","v":""},"","","",""]
[null,null,null,null,{"$f":"IF(D741=\"\",\"\",COUNTIF(Tabulka5[Data],D741))","v":""},"","","",""]
[null,null,null,null,{"$f":"IF(D742=\"\",\"\",COUNTIF(Tabulka5[Data],D742))","v":""},"","","",""]
[null,null,null,null,{"$f":"IF(D743=\"\",\"\",COUNTIF(Tabulka5[Data],D743))","v":""},"","","",""]
[null,null,null,null,{"$f":"IF(D744=\"\",\"\",COUNTIF(Tabulka5[Data],D744))","v":""},"","","",""]
[null,null,null,null,{"$f":"IF(D745=\"\",\"\",COUNTIF(Tabulka5[Data],D745))","v":""},"","","",""]
[null,null,null,null,{"$f":"IF(D746=\"\",\"\",COUNTIF(Tabulka5[Data],D746))","v":""},"","","",""]
[null,null,null,null,{"$f":"IF(D747=\"\",\"\",COUNTIF(Tabulka5[Data],D747))","v":""},"","","",""]
[null,null,null,null,{"$f":"IF(D748=\"\",\"\",COUNTIF(Tabulka5[Data],D748))","v":""},"","","",""]
[null,null,null,null,{"$f":"IF(D749=\"\",\"\",COUNTIF(Tabulka5[Data],D749))","v":""},"","","",""]
[null,null,null,null,{"$f":"IF(D750=\"\",\"\",COUNTIF(Tabulka5[Data],D750))","v":""},"","","",""]
[null,null,null,null,{"$f":"IF(D751=\"\",\"\",COUNTIF(Tabulka5[Data],D751))","v":""},"","","",""]
[null,null,null,null,{"$f":"IF(D752=\"\",\"\",COUNTIF(Tabulka5[Data],D752))","v":""},"","","",""]
[null,null,null,null,{"$f":"IF(D753=\"\",\"\",COUNTIF(Tabulka5[Data],D753))","v":""},"","","",""]
[null,null,null,null,{"$f":"IF(D754=\"\",\"\",COUNTIF(Tabulka5[Data],D754))","v":""},"","","",""]
[null,null,null,null,{"$f":"IF(D755=\"\",\"\",COUNTIF(Tabulka5[Data],D755))","v":""},"","","",""]
[null,null,null,null,{"$f":"IF(D756=\"\",\"\",COUNTIF(Tabulka5[Data],D756))","v":""},"","","",""]
[null,null,null,null,{"$f":"IF(D757=\"\",\"\",COUNTIF(Tabulka5[Data],D757))","v":""},"","","",""]
[null,null,null,null,{"$f":"IF(D758=\"\",\"\",COUNTIF(Tabulka5[Data],D758))","v":""},"","","",""]
[null,null,null,null,{"$f":"IF(D759=\"\",\"\",COUNTIF(Tabulka5[Data],D759))","v":""},"","","",""]
[null,null,null,null,{"$f":"IF(D760=\"\",\"\",COUNTIF(Tabulka5[Data],D760))","v":""},"","","",""]
[null,null,null,null,{"$f":"IF(D761=\"\",\"\",COUNTIF(Tabulka5[Data],D761))","v":""},"","","",""]
[null,null,null,null,{"$f":"IF(D762=\"\",\"\",COUNTIF(Tabulka5[Data],D762))","v":""},"","","",""]
[null,null,null,null,{"$f":"IF(D763=\"\",\"\",COUNTIF(Tabulka5[Data],D763))","v":""},"","","",""]
[null,null,null,null,{"$f":"IF(D764=\"\",\"\",COUNTIF(Tabulka5[Data],D764))","v":""},"","","",""]
[null,null,null,null,{"$f":"IF(D765=\"\",\"\",COUNTIF(Tabulka5[Data],D765))","v":""},"","","",""]
[null,null,null,null,{"$f":"IF(D766=\"\",\"\",COUNTIF(Tabulka5[Data],D766))","v":""},"","","",""]
[null,null,null,null,{"$f":"IF(D767=\"\",\"\",COUNTIF(Tabulka5[Data],D767))","v":""},"","","",""]
[null,null,null,null,{"$f":"IF(D768=\"\",\"\",COUNTIF(Tabulka5[Data],D768))","v":""},"","","",""]
[null,null,null,null,{"$f":"IF(D769=\"\",\"\",COUNTIF(Tabulka5[Data],D769))","v":""},"","","",""]
[null,null,null,null,{"$f":"IF(D770=\"\",\"\",COUNTIF(Tabulka5[Data],D770))","v":""},"","","",""]
[null,null,null,null,{"$f":"IF(D771=\"\",\"\",COUNTIF(Tabulka5[Data],D771))","v":""},"","","",""]
[null,null,null,null,{"$f":"IF(D772=\"\",\"\",COUNTIF(Tabulka5[Data],D772))","v":""},"","","",""]
[null,null,null,null,{"$f":"IF(D773=\"\",\"\",COUNTIF(Tabulka5[Data],D773))","v":""},"","","",""]
[null,null,null,null,{"$f":"IF(D774=\"\",\"\",COUNTIF(Tabulka5[Data],D774))","v":""},"","","",""]
[null,null,null,null,{"$f":"IF(D775=\"\",\"\",COUNTIF(Tabulka5[Data],D775))","v":""},"","","",""]
[null,null,null,null,{"$f":"IF(D776=\"\",\"\",COUNTIF(Tabulka5[Data],D776))","v":""},"","","",""]
[null,null,null,null,{"$f":"IF(D777=\"\",\"\",COUNTIF(Tabulka5[Data],D777))","v":""},"","","",""]
[null,null,null,null,{"$f":"IF(D778=\"\",\"\",COUNTIF(Tabulka5[Data],D778))","v":""},"","","",""]
[null,null,null,null,{"$f":"IF(D779=\"\",\"\",COUNTIF(Tabulka5[Data],D779))","v":""},"","","",""]
[null,null,null,null,{"$f":"IF(D780=\"\",\"\",COUNTIF(Tabulka5[Data],D780))","v":""},"","","",""]
[null,null,null,null,{"$f":"IF(D781=\"\",\"\",COUNTIF(Tabulka5[Data],D781))","v":""},"","","",""]
[null,null,null,null,{"$f":"IF(D782=\"\",\"\",COUNTIF(Tabulka5[Data],D782))","v":""},"","","",""]
[null,null,null,null,{"$f":"IF(D783=\"\",\"\",COUNTIF(Tabulka5[Data],D783))","v":""},"","","",""]
[null,null,null,null,{"$f":"IF(D784=\"\",\"\",COUNTIF(Tabulka5[Data],D784))","v":""},"","","",""]
[null,null,null,null,{"$f":"IF(D785=\"\",\"\",COUNTIF(Tabulka5[Data],D785))","v":""},{"$f":"IF(OR($K$11=0,D785=\"\"),\"\",IF(D786=\"\",1-I784,ROUND(E785/SUM($E$15:$E$6350),3)))","v":""},{"$f":"IF(OR(D785=\"\",$A$11=\"nominální\"),\"\",G784+E785)","v":""},{"$f":"IF(OR($K$11=0,D785=\"\",$A$11=\"nominální\"),\"\",H784+F785)","v":""},{"$f":"IF(OR($K$11=0,D785=\"\"),\"\",I784+F785)","v":""}]
[null,null,null,null,{"$f":"IF(D786=\"\",\"\",COUNTIF(Tabulka5[Data],D786))","v":""},"","","",""]
[null,null,null,null,{"$f":"IF(D787=\"\",\"\",COUNTIF(Tabulka5[Data],D787))","v":""},"","","",""]
[null,null,null,null,{"$f":"IF(D788=\"\",\"\",COUNTIF(Tabulka5[Data],D788))","v":""},"","","",""]
[null,null,null,null,{"$f":"IF(D789=\"\",\"\",COUNTIF(Tabulka5[Data],D789))","v":""},"","","",""]
[null,null,null,null,{"$f":"IF(D790=\"\",\"\",COUNTIF(Tabulka5[Data],D790))","v":""},"","","",""]
[null,null,null,null,{"$f":"IF(D791=\"\",\"\",COUNTIF(Tabulka5[Data],D791))","v":""},"","","",""]
[null,null,null,null,{"$f":"IF(D792=\"\",\"\",COUNTIF(Tabulka5[Data],D792))","v":""},"","","",""]
[null,null,null,null,{"$f":"IF(D793=\"\",\"\",COUNTIF(Tabulka5[Data],D793))","v":""},"","","",""]
[null,null,null,null,{"$f":"IF(D794=\"\",\"\",COUNTIF(Tabulka5[Data],D794))","v":""},"","","",""]
[null,null,null,null,{"$f":"IF(D795=\"\",\"\",COUNTIF(Tabulka5[Data],D795))","v":""},"","","",""]
[null,null,null,null,{"$f":"IF(D796=\"\",\"\",COUNTIF(Tabulka5[Data],D796))","v":""},"","","",""]
[null,null,null,null,{"$f":"IF(D797=\"\",\"\",COUNTIF(Tabulka5[Data],D797))","v":""},"","","",""]
[null,null,null,null,{"$f":"IF(D798=\"\",\"\",COUNTIF(Tabulka5[Data],D798))","v":""},"","","",""]
[null,null,null,null,{"$f":"IF(D799=\"\",\"\",COUNTIF(Tabulka5[Data],D799))","v":""},"","","",""]
[null,null,null,null,{"$f":"IF(D800=\"\",\"\",COUNTIF(Tabulka5[Data],D800))","v":""},"","","",""]
[null,null,null,null,{"$f":"IF(D801=\"\",\"\",COUNTIF(Tabulka5[Data],D801))","v":""},"","","",""]
[null,null,null,null,{"$f":"IF(D802=\"\",\"\",COUNTIF(Tabulka5[Data],D802))","v":""},"","","",""]
[null,null,null,null,{"$f":"IF(D803=\"\",\"\",COUNTIF(Tabulka5[Data],D803))","v":""},"","","",""]
[null,null,null,null,{"$f":"IF(D804=\"\",\"\",COUNTIF(Tabulka5[Data],D804))","v":""},"","","",""]
[null,null,null,null,{"$f":"IF(D805=\"\",\"\",COUNTIF(Tabulka5[Data],D805))","v":""},"","","",""]
[null,null,null,null,{"$f":"IF(D806=\"\",\"\",COUNTIF(Tabulka5[Data],D806))","v":""},"","","",""]
[null,null,null,null,{"$f":"IF(D807=\"\",\"\",COUNTIF(Tabulka5[Data],D807))","v":""},"","","",""]
[null,null,null,null,{"$f":"IF(D808=\"\",\"\",COUNTIF(Tabulka5[Data],D808))","v":""},"","","",""]
[null,null,null,null,{"$f":"IF(D809=\"\",\"\",COUNTIF(Tabulka5[Data],D809))","v":""},"","","",""]
[null,null,null,null,{"$f":"IF(D810=\"\",\"\",COUNTIF(Tabulka5[Data],D810))","v":""},"","","",""]
[null,null,null,null,{"$f":"IF(D811=\"\",\"\",COUNTIF(Tabulka5[Data],D811))","v":""},"","","",""]
[null,null,null,null,{"$f":"IF(D812=\"\",\"\",COUNTIF(Tabulka5[Data],D812))","v":""},"","","",""]
[null,null,null,null,{"$f":"IF(D813=\"\",\"\",COUNTIF(Tabulka5[Data],D813))","v":""},"","","",""]
[null,null,null,null,{"$f":"IF(D814=\"\",\"\",COUNTIF(Tabulka5[Data],D814))","v":""},"","","",""]
[null,null,null,null,{"$f":"IF(D815=\"\",\"\",COUNTIF(Tabulka5[Data],D815))","v":""},"","","",""]
[null,null,null,null,{"$f":"IF(D816=\"\",\"\",COUNTIF(Tabulka5[Data],D816))","v":""},"","","",""]
[null,null,null,null,{"$f":"IF(D817=\"\",\"\",COUNTIF(Tabulka5[Data],D817))","v":""},"","","",""]
[null,null,null,null,{"$f":"IF(D818=\"\",\"\",COUNTIF(Tabulka5[Data],D818))","v":""},"","","",""]
[null,null,null,null,{"$f":"IF(D819=\"\",\"\",COUNTIF(Tabulka5[Data],D819))","v":""},"","","",""]
[null,null,null,null,{"$f":"IF(D820=\"\",\"\",COUNTIF(Tabulka5[Data],D820))","v":""},"","","",""]
[null,null,null,null,{"$f":"IF(D821=\"\",\"\",COUNTIF(Tabulka5[Data],D821))","v":""},"","","",""]
[null,null,null,null,{"$f":"IF(D822=\"\",\"\",COUNTIF(Tabulka5[Data],D822))","v":""},"","","",""]
[null,null,null,null,{"$f":"IF(D823=\"\",\"\",COUNTIF(Tabulka5[Data],D823))","v":""},"","","",""]
[null,null,null,null,{"$f":"IF(D824=\"\",\"\",COUNTIF(Tabulka5[Data],D824))","v":""},"","","",""]
[null,null,null,null,{"$f":"IF(D825=\"\",\"\",COUNTIF(Tabulka5[Data],D825))","v":""},"","","",""]
[null,null,null,null,{"$f":"IF(D826=\"\",\"\",COUNTIF(Tabulka5[Data],D826))","v":""},"","","",""]
[null,null,null,null,{"$f":"IF(D827=\"\",\"\",COUNTIF(Tabulka5[Data],D827))","v":""},"","","",""]
[null,null,null,null,{"$f":"IF(D828=\"\",\"\",COUNTIF(Tabulka5[Data],D828))","v":""},"","","",""]
[null,null,null,null,{"$f":"IF(D829=\"\",\"\",COUNTIF(Tabulka5[Data],D829))","v":""},"","","",""]
[null,null,null,null,{"$f":"IF(D830=\"\",\"\",COUNTIF(Tabulka5[Data],D830))","v":""},"","","",""]
[null,null,null,null,{"$f":"IF(D831=\"\",\"\",COUNTIF(Tabulka5[Data],D831))","v":""},"","","",""]
[null,null,null,null,{"$f":"IF(D832=\"\",\"\",COUNTIF(Tabulka5[Data],D832))","v":""},"","","",""]
[null,null,null,null,{"$f":"IF(D833=\"\",\"\",COUNTIF(Tabulka5[Data],D833))","v":""},"","","",""]
[null,null,null,null,{"$f":"IF(D834=\"\",\"\",COUNTIF(Tabulka5[Data],D834))","v":""},"","","",""]
[null,null,null,null,{"$f":"IF(D835=\"\",\"\",COUNTIF(Tabulka5[Data],D835))","v":""},"","","",""]
[null,null,null,null,{"$f":"IF(D836=\"\",\"\",COUNTIF(Tabulka5[Data],D836))","v":""},"","","",""]
[null,null,null,null,{"$f":"IF(D837=\"\",\"\",COUNTIF(Tabulka5[Data],D837))","v":""},"","","",""]
[null,null,null,null,{"$f":"IF(D838=\"\",\"\",COUNTIF(Tabulka5[Data],D838))","v":""},"","","",""]
[null,null,null,null,{"$f":"IF(D839=\"\",\"\",COUNTIF(Tabulka5[Data],D839))","v":""},"","","",""]
[null,null,null,null,{"$f":"IF(D840=\"\",\"\",COUNTIF(Tabulka5[Data],D840))","v":""},"","","",""]
[null,null,null,null,{"$f":"IF(D841=\"\",\"\",COUNTIF(Tabulka5[Data],D841))","v":""},"","","",""]
[null,null,null,null,{"$f":"IF(D842=\"\",\"\",COUNTIF(Tabulka5[Data],D842))","v":""},"","","",""]
[null,null,null,null,{"$f":"IF(D843=\"\",\"\",COUNTIF(Tabulka5[Data],D843))","v":""},"","","",""]
[null,null,null,null,{"$f":"IF(D844=\"\",\"\",COUNTIF(Tabulka5[Data],D844))","v":""},"","","",""]
[null,null,null,null,{"$f":"IF(D845=\"\",\"\",COUNTIF(Tabulka5[Data],D845))","v":""},"","","",""]
[null,null,null,null,{"$f":"IF(D846=\"\",\"\",COUNTIF(Tabulka5[Data],D846))","v":""},"","","",""]
[null,null,null,null,{"$f":"IF(D847=\"\",\"\",COUNTIF(Tabulka5[Data],D847))","v":""},"","","",""]
[null,null,null,null,{"$f":"IF(D848=\"\",\"\",COUNTIF(Tabulka5[Data],D848))","v":""},"","","",""]
[null,null,null,null,{"$f":"IF(D849=\"\",\"\",COUNTIF(Tabulka5[Data],D849))","v":""},{"$f":"IF(OR($K$11=0,D849=\"\"),\"\",IF(D850=\"\",1-I848,ROUND(E849/SUM($E$15:$E$6350),3)))","v":""},{"$f":"IF(OR(D849=\"\",$A$11=\"nominální\"),\"\",G848+E849)","v":""},{"$f":"IF(OR($K$11=0,D849=\"\",$A$11=\"nominální\"),\"\",H848+F849)","v":""},{"$f":"IF(OR($K$11=0,D849=\"\"),\"\",I848+F849)","v":""}]
[null,null,null,null,{"$f":"IF(D850=\"\",\"\",COUNTIF(Tabulka5[Data],D850))","v":""},"","","",""]
[null,null,null,null,{"$f":"IF(D851=\"\",\"\",COUNTIF(Tabulka5[Data],D851))","v":""},"","","",""]
[null,null,null,null,{"$f":"IF(D852=\"\",\"\",COUNTIF(Tabulka5[Data],D852))","v":""},"","","",""]
[null,null,null,null,{"$f":"IF(D853=\"\",\"\",COUNTIF(Tabulka5[Data],D853))","v":""},"","","",""]
[null,null,null,null,{"$f":"IF(D854=\"\",\"\",COUNTIF(Tabulka5[Data],D854))","v":""},"","","",""]
[null,null,null,null,{"$f":"IF(D855=\"\",\"\",COUNTIF(Tabulka5[Data],D855))","v":""},"","","",""]
[null,null,null,null,{"$f":"IF(D856=\"\",\"\",COUNTIF(Tabulka5[Data],D856))","v":""},"","","",""]
[null,null,null,null,{"$f":"IF(D857=\"\",\"\",COUNTIF(Tabulka5[Data],D857))","v":""},"","","",""]
[null,null,null,null,{"$f":"IF(D858=\"\",\"\",COUNTIF(Tabulka5[Data],D858))","v":""},"","","",""]
[null,null,null,null,{"$f":"IF(D859=\"\",\"\",COUNTIF(Tabulka5[Data],D859))","v":""},"","","",""]
[null,null,null,null,{"$f":"IF(D860=\"\",\"\",COUNTIF(Tabulka5[Data],D860))","v":""},"","","",""]
[null,null,null,null,{"$f":"IF(D861=\"\",\"\",COUNTIF(Tabulka5[Data],D861))","v":""},"","","",""]
[null,null,null,null,{"$f":"IF(D862=\"\",\"\",COUNTIF(Tabulka5[Data],D862))","v":""},"","","",""]
[null,null,null,null,{"$f":"IF(D863=\"\",\"\",COUNTIF(Tabulka5[Data],D863))","v":""},"","","",""]
[null,null,null,null,{"$f":"IF(D864=\"\",\"\",COUNTIF(Tabulka5[Data],D864))","v":""},"","","",""]
[null,null,null,null,{"$f":"IF(D865=\"\",\"\",COUNTIF(Tabulka5[Data],D865))","v":""},"","","",""]
[null,null,null,null,{"$f":"IF(D866=\"\",\"\",COUNTIF(Tabulka5[Data],D866))","v":""},"","","",""]
[null,null,null,null,{"$f":"IF(D867=\"\",\"\",COUNTIF(Tabulka5[Data],D867))","v":""},"","","",""]
[null,null,null,null,{"$f":"IF(D868=\"\",\"\",COUNTIF(Tabulka5[Data],D868))","v":""},"","","",""]
[null,null,null,null,{"$f":"IF(D869=\"\",\"\",COUNTIF(Tabulka5[Data],D869))","v":""},"","","",""]
[null,null,null,null,{"$f":"IF(D870=\"\",\"\",COUNTIF(Tabulka5[Data],D870))","v":""},"","","",""]
[null,null,null,null,{"$f":"IF(D871=\"\",\"\",COUNTIF(Tabulka5[Data],D871))","v":""},"","","",""]
[null,null,null,null,{"$f":"IF(D872=\"\",\"\",COUNTIF(Tabulka5[Data],D872))","v":""},"","","",""]
[null,null,null,null,{"$f":"IF(D873=\"\",\"\",COUNTIF(Tabulka5[Data],D873))","v":""},"","","",""]
[null,null,null,null,{"$f":"IF(D874=\"\",\"\",COUNTIF(Tabulka5[Data],D874))","v":""},"","","",""]
[null,null,null,null,{"$f":"IF(D875=\"\",\"\",COUNTIF(Tabulka5[Data],D875))","v":""},"","","",""]
[null,null,null,null,{"$f":"IF(D876=\"\",\"\",COUNTIF(Tabulka5[Data],D876))","v":""},"","","",""]
[null,null,null,null,{"$f":"IF(D877=\"\",\"\",COUNTIF(Tabulka5[Data],D877))","v":""},"","","",""]
[null,null,null,null,{"$f":"IF(D878=\"\",\"\",COUNTIF(Tabulka5[Data],D878))","v":""},"","","",""]
[null,null,null,null,{"$f":"IF(D879=\"\",\"\",COUNTIF(Tabulka5[Data],D879))","v":""},"","","",""]
[null,null,null,null,{"$f":"IF(D880=\"\",\"\",COUNTIF(Tabulka5[Data],D880))","v":""},"","","",""]
[null,null,null,null,{"$f":"IF(D881=\"\",\"\",COUNTIF(Tabulka5[Data],D881))","v":""},"","","",""]
[null,null,null,null,{"$f":"IF(D882=\"\",\"\",COUNTIF(Tabulka5[Data],D882))","v":""},"","","",""]
[null,null,null,null,{"$f":"IF(D883=\"\",\"\",COUNTIF(Tabulka5[Data],D883))","v":""},"","","",""]
[null,null,null,null,{"$f":"IF(D884=\"\",\"\",COUNTIF(Tabulka5[Data],D884))","v":""},"","","",""]
[null,null,null,null,{"$f":"IF(D885=\"\",\"\",COUNTIF(Tabulka5[Data],D885))","v":""},"","","",""]
[null,null,null,null,{"$f":"IF(D886=\"\",\"\",COUNTIF(Tabulka5[Data],D886))","v":""},"","","",""]
[null,null,null,null,{"$f":"IF(D887=\"\",\"\",COUNTIF(Tabulka5[Data],D887))","v":""},"","","",""]
[null,null,null,null,{"$f":"IF(D888=\"\",\"\",COUNTIF(Tabulka5[Data],D888))","v":""},"","","",""]
[null,null,null,null,{"$f":"IF(D889=\"\",\"\",COUNTIF(Tabulka5[Data],D889))","v":""},"","","",""]
[null,null,null,null,{"$f":"IF(D890=\"\",\"\",COUNTIF(Tabulka5[Data],D890))","v":""},"","","",""]
[null,null,null,null,{"$f":"IF(D891=\"\",\"\",COUNTIF(Tabulka5[Data],D891))","v":""},"","","",""]
[null,null,null,null,{"$f":"IF(D892=\"\",\"\",COUNTIF(Tabulka5[Data],D892))","v":""},"","","",""]
[null,null,null,null,{"$f":"IF(D893=\"\",\"\",COUNTIF(Tabulka5[Data],D893))","v":""},"","","",""]
[null,null,null,null,{"$f":"IF(D894=\"\",\"\",COUNTIF(Tabulka5[Data],D894))","v":""},"","","",""]
[null,null,null,null,{"$f":"IF(D895=\"\",\"\",COUNTIF(Tabulka5[Data],D895))","v":""},"","","",""]
[null,null,null,null,{"$f":"IF(D896=\"\",\"\",COUNTIF(Tabulka5[Data],D896))","v":""},"","","",""]
[null,null,null,null,{"$f":"IF(D897=\"\",\"\",COUNTIF(Tabulka5[Data],D897))","v":""},"","","",""]
[null,null,null,null,{"$f":"IF(D898=\"\",\"\",COUNTIF(Tabulka5[Data],D898))","v":""},"","","",""]
[null,null,null,null,{"$f":"IF(D899=\"\",\"\",COUNTIF(Tabulka5[Data],D899))","v":""},"","","",""]
[null,null,null,null,{"$f":"IF(D900=\"\",\"\",COUNTIF(Tabulka5[Data],D900))","v":""},"","","",""]
[null,null,null,null,{"$f":"IF(D901=\"\",\"\",COUNTIF(Tabulka5[Data],D901))","v":""},"","","",""]
[null,null,null,null,{"$f":"IF(D902=\"\",\"\",COUNTIF(Tabulka5[Data],D902))","v":""},"","","",""]
[null,null,null,null,{"$f":"IF(D903=\"\",\"\",COUNTIF(Tabulka5[Data],D903))","v":""},"","","",""]
[null,null,null,null,{"$f":"IF(D904=\"\",\"\",COUNTIF(Tabulka5[Data],D904))","v":""},"","","",""]
[null,null,null,null,{"$f":"IF(D905=\"\",\"\",COUNTIF(Tabulka5[Data],D905))","v":""},"","","",""]
[null,null,null,null,{"$f":"IF(D906=\"\",\"\",COUNTIF(Tabulka5[Data],D906))","v":""},"","","",""]
[null,null,null,null,{"$f":"IF(D907=\"\",\"\",COUNTIF(Tabulka5[Data],D907))","v":""},"","","",""]
[null,null,null,null,{"$f":"IF(D908=\"\",\"\",COUNTIF(Tabulka5[Data],D908))","v":""},"","","",""]
[null,null,null,null,{"$f":"IF(D909=\"\",\"\",COUNTIF(Tabulka5[Data],D909))","v":""},"","","",""]
[null,null,null,null,{"$f":"IF(D910=\"\",\"\",COUNTIF(Tabulka5[Data],D910))","v":""},"","","",""]
[null,null,null,null,{"$f":"IF(D911=\"\",\"\",COUNTIF(Tabulka5[Data],D911))","v":""},"","","",""]
[null,null,null,null,{"$f":"IF(D912=\"\",\"\",COUNTIF(Tabulka5[Data],D912))","v":""},"","","",""]
[null,null,null,null,{"$f":"IF(D913=\"\",\"\",COUNTIF(Tabulka5[Data],D913))","v":""},{"$f":"IF(OR($K$11=0,D913=\"\"),\"\",IF(D914=\"\",1-I912,ROUND(E913/SUM($E$15:$E$6350),3)))","v":""},{"$f":"IF(OR(D913=\"\",$A$11=\"nominální\"),\"\",G912+E913)","v":""},{"$f":"IF(OR($K$11=0,D913=\"\",$A$11=\"nominální\"),\"\",H912+F913)","v":""},{"$f":"IF(OR($K$11=0,D913=\"\"),\"\",I912+F913)","v":""}]
[null,null,null,null,{"$f":"IF(D914=\"\",\"\",COUNTIF(Tabulka5[Data],D914))","v":""},"","","",""]
[null,null,null,null,{"$f":"IF(D915=\"\",\"\",COUNTIF(Tabulka5[Data],D915))","v":""},"","","",""]
[null,null,null,null,{"$f":"IF(D916=\"\",\"\",COUNTIF(Tabulka5[Data],D916))","v":""},"","","",""]
[null,null,null,null,{"$f":"IF(D917=\"\",\"\",COUNTIF(Tabulka5[Data],D917))","v":""},"","","",""]
[null,null,null,null,{"$f":"IF(D918=\"\",\"\",COUNTIF(Tabulka5[Data],D918))","v":""},"","","",""]
[null,null,null,null,{"$f":"IF(D919=\"\",\"\",COUNTIF(Tabulka5[Data],D919))","v":""},"","","",""]
[null,null,null,null,{"$f":"IF(D920=\"\",\"\",COUNTIF(Tabulka5[Data],D920))","v":""},"","","",""]
[null,null,null,null,{"$f":"IF(D921=\"\",\"\",COUNTIF(Tabulka5[Data],D921))","v":""},"","","",""]
[null,null,null,null,{"$f":"IF(D922=\"\",\"\",COUNTIF(Tabulka5[Data],D922))","v":""},"","","",""]
[null,null,null,null,{"$f":"IF(D923=\"\",\"\",COUNTIF(Tabulka5[Data],D923))","v":""},"","","",""]
[null,null,null,null,{"$f":"IF(D924=\"\",\"\",COUNTIF(Tabulka5[Data],D924))","v":""},"","","",""]
[null,null,null,null,{"$f":"IF(D925=\"\",\"\",COUNTIF(Tabulka5[Data],D925))","v":""},"","","",""]
[null,null,null,null,{"$f":"IF(D926=\"\",\"\",COUNTIF(Tabulka5[Data],D926))","v":""},"","","",""]
[null,null,null,null,{"$f":"IF(D927=\"\",\"\",COUNTIF(Tabulka5[Data],D927))","v":""},"","","",""]
[null,null,null,null,{"$f":"IF(D928=\"\",\"\",COUNTIF(Tabulka5[Data],D928))","v":""},"","","",""]
[null,null,null,null,{"$f":"IF(D929=\"\",\"\",COUNTIF(Tabulka5[Data],D929))","v":""},"","","",""]
[null,null,null,null,{"$f":"IF(D930=\"\",\"\",COUNTIF(Tabulka5[Data],D930))","v":""},"","","",""]
[null,null,null,null,{"$f":"IF(D931=\"\",\"\",COUNTIF(Tabulka5[Data],D931))","v":""},"","","",""]
[null,null,null,null,{"$f":"IF(D932=\"\",\"\",COUNTIF(Tabulka5[Data],D932))","v":""},"","","",""]
[null,null,null,null,{"$f":"IF(D933=\"\",\"\",COUNTIF(Tabulka5[Data],D933))","v":""},"","","",""]
[null,null,null,null,{"$f":"IF(D934=\"\",\"\",COUNTIF(Tabulka5[Data],D934))","v":""},"","","",""]
[null,null,null,null,{"$f":"IF(D935=\"\",\"\",COUNTIF(Tabulka5[Data],D935))","v":""},"","","",""]
[null,null,null,null,{"$f":"IF(D936=\"\",\"\",COUNTIF(Tabulka5[Data],D936))","v":""},"","","",""]
[null,null,null,null,{"$f":"IF(D937=\"\",\"\",COUNTIF(Tabulka5[Data],D937))","v":""},"","","",""]
[null,null,null,null,{"$f":"IF(D938=\"\",\"\",COUNTIF(Tabulka5[Data],D938))","v":""},"","","",""]
[null,null,null,null,{"$f":"IF(D939=\"\",\"\",COUNTIF(Tabulka5[Data],D939))","v":""},"","","",""]
[null,null,null,null,{"$f":"IF(D940=\"\",\"\",COUNTIF(Tabulka5[Data],D940))","v":""},"","","",""]
[null,null,null,null,{"$f":"IF(D941=\"\",\"\",COUNTIF(Tabulka5[Data],D941))","v":""},"","","",""]
[null,null,null,null,{"$f":"IF(D942=\"\",\"\",COUNTIF(Tabulka5[Data],D942))","v":""},"","","",""]
[null,null,null,null,{"$f":"IF(D943=\"\",\"\",COUNTIF(Tabulka5[Data],D943))","v":""},"","","",""]
[null,null,null,null,{"$f":"IF(D944=\"\",\"\",COUNTIF(Tabulka5[Data],D944))","v":""},"","","",""]
[null,null,null,null,{"$f":"IF(D945=\"\",\"\",COUNTIF(Tabulka5[Data],D945))","v":""},"","","",""]
[null,null,null,null,{"$f":"IF(D946=\"\",\"\",COUNTIF(Tabulka5[Data],D946))","v":""},"","","",""]
[null,null,null,null,{"$f":"IF(D947=\"\",\"\",COUNTIF(Tabulka5[Data],D947))","v":""},"","","",""]
[null,null,null,null,{"$f":"IF(D948=\"\",\"\",COUNTIF(Tabulka5[Data],D948))","v":""},"","","",""]
[null,null,null,null,{"$f":"IF(D949=\"\",\"\",COUNTIF(Tabulka5[Data],D949))","v":""},"","","",""]
[null,null,null,null,{"$f":"IF(D950=\"\",\"\",COUNTIF(Tabulka5[Data],D950))","v":""},"","","",""]
[null,null,null,null,{"$f":"IF(D951=\"\",\"\",COUNTIF(Tabulka5[Data],D951))","v":""},"","","",""]
[null,null,null,null,{"$f":"IF(D952=\"\",\"\",COUNTIF(Tabulka5[Data],D952))","v":""},"","","",""]
[null,null,null,null,{"$f":"IF(D953=\"\",\"\",COUNTIF(Tabulka5[Data],D953))","v":""},"","","",""]
[null,null,null,null,{"$f":"IF(D954=\"\",\"\",COUNTIF(Tabulka5[Data],D954))","v":""},"","","",""]
[null,null,null,null,{"$f":"IF(D955=\"\",\"\",COUNTIF(Tabulka5[Data],D955))","v":""},"","","",""]
[null,null,null,null,{"$f":"IF(D956=\"\",\"\",COUNTIF(Tabulka5[Data],D956))","v":""},"","","",""]
[null,null,null,null,{"$f":"IF(D957=\"\",\"\",COUNTIF(Tabulka5[Data],D957))","v":""},"","","",""]
[null,null,null,null,{"$f":"IF(D958=\"\",\"\",COUNTIF(Tabulka5[Data],D958))","v":""},"","","",""]
[null,null,null,null,{"$f":"IF(D959=\"\",\"\",COUNTIF(Tabulka5[Data],D959))","v":""},"","","",""]
[null,null,null,null,{"$f":"IF(D960=\"\",\"\",COUNTIF(Tabulka5[Data],D960))","v":""},"","","",""]
[null,null,null,null,{"$f":"IF(D961=\"\",\"\",COUNTIF(Tabulka5[Data],D961))","v":""},"","","",""]
[null,null,null,null,{"$f":"IF(D962=\"\",\"\",COUNTIF(Tabulka5[Data],D962))","v":""},"","","",""]
[null,null,null,null,{"$f":"IF(D963=\"\",\"\",COUNTIF(Tabulka5[Data],D963))","v":""},"","","",""]
[null,null,null,null,{"$f":"IF(D964=\"\",\"\",COUNTIF(Tabulka5[Data],D964))","v":""},"","","",""]
[null,null,null,null,{"$f":"IF(D965=\"\",\"\",COUNTIF(Tabulka5[Data],D965))","v":""},"","","",""]
[null,null,null,null,{"$f":"IF(D966=\"\",\"\",COUNTIF(Tabulka5[Data],D966))","v":""},"","","",""]
[null,null,null,null,{"$f":"IF(D967=\"\",\"\",COUNTIF(Tabulka5[Data],D967))","v":""},"","","",""]
[null,null,null,null,{"$f":"IF(D968=\"\",\"\",COUNTIF(Tabulka5[Data],D968))","v":""},"","","",""]
[null,null,null,null,{"$f":"IF(D969=\"\",\"\",COUNTIF(Tabulka5[Data],D969))","v":""},"","","",""]
[null,null,null,null,{"$f":"IF(D970=\"\",\"\",COUNTIF(Tabulka5[Data],D970))","v":""},"","","",""]
[null,null,null,null,{"$f":"IF(D971=\"\",\"\",COUNTIF(Tabulka5[Data],D971))","v":""},"","","",""]
[null,null,null,null,{"$f":"IF(D972=\"\",\"\",COUNTIF(Tabulka5[Data],D972))","v":""},"","","",""]
[null,null,null,null,{"$f":"IF(D973=\"\",\"\",COUNTIF(Tabulka5[Data],D973))","v":""},"","","",""]
[null,null,null,null,{"$f":"IF(D974=\"\",\"\",COUNTIF(Tabulka5[Data],D974))","v":""},"","","",""]
[null,null,null,null,{"$f":"IF(D975=\"\",\"\",COUNTIF(Tabulka5[Data],D975))","v":""},"","","",""]
[null,null,null,null,{"$f":"IF(D976=\"\",\"\",COUNTIF(Tabulka5[Data],D976))","v":""},"","","",""]
[null,null,null,null,{"$f":"IF(D977=\"\",\"\",COUNTIF(Tabulka5[Data],D977))","v":""},{"$f":"IF(OR($K$11=0,D977=\"\"),\"\",IF(D978=\"\",1-I976,ROUND(E977/SUM($E$15:$E$6350),3)))","v":""},{"$f":"IF(OR(D977=\"\",$A$11=\"nominální\"),\"\",G976+E977)","v":""},{"$f":"IF(OR($K$11=0,D977=\"\",$A$11=\"nominální\"),\"\",H976+F977)","v":""},{"$f":"IF(OR($K$11=0,D977=\"\"),\"\",I976+F977)","v":""}]
[null,null,null,null,{"$f":"IF(D978=\"\",\"\",COUNTIF(Tabulka5[Data],D978))","v":""},"","","",""]
[null,null,null,null,{"$f":"IF(D979=\"\",\"\",COUNTIF(Tabulka5[Data],D979))","v":""},"","","",""]
[null,null,null,null,{"$f":"IF(D980=\"\",\"\",COUNTIF(Tabulka5[Data],D980))","v":""},"","","",""]
[null,null,null,null,{"$f":"IF(D981=\"\",\"\",COUNTIF(Tabulka5[Data],D981))","v":""},"","","",""]
[null,null,null,null,{"$f":"IF(D982=\"\",\"\",COUNTIF(Tabulka5[Data],D982))","v":""},"","","",""]
[null,null,null,null,{"$f":"IF(D983=\"\",\"\",COUNTIF(Tabulka5[Data],D983))","v":""},"","","",""]
[null,null,null,null,{"$f":"IF(D984=\"\",\"\",COUNTIF(Tabulka5[Data],D984))","v":""},"","","",""]
[null,null,null,null,{"$f":"IF(D985=\"\",\"\",COUNTIF(Tabulka5[Data],D985))","v":""},"","","",""]
[null,null,null,null,{"$f":"IF(D986=\"\",\"\",COUNTIF(Tabulka5[Data],D986))","v":""},"","","",""]
[null,null,null,null,{"$f":"IF(D987=\"\",\"\",COUNTIF(Tabulka5[Data],D987))","v":""},"","","",""]
[null,null,null,null,{"$f":"IF(D988=\"\",\"\",COUNTIF(Tabulka5[Data],D988))","v":""},"","","",""]
[null,null,null,null,{"$f":"IF(D989=\"\",\"\",COUNTIF(Tabulka5[Data],D989))","v":""},"","","",""]
[null,null,null,null,{"$f":"IF(D990=\"\",\"\",COUNTIF(Tabulka5[Data],D990))","v":""},"","","",""]
[null,null,null,null,{"$f":"IF(D991=\"\",\"\",COUNTIF(Tabulka5[Data],D991))","v":""},"","","",""]
[null,null,null,null,{"$f":"IF(D992=\"\",\"\",COUNTIF(Tabulka5[Data],D992))","v":""},"","","",""]
[null,null,null,null,{"$f":"IF(D993=\"\",\"\",COUNTIF(Tabulka5[Data],D993))","v":""},"","","",""]
[null,null,null,null,{"$f":"IF(D994=\"\",\"\",COUNTIF(Tabulka5[Data],D994))","v":""},"","","",""]
[null,null,null,null,{"$f":"IF(D995=\"\",\"\",COUNTIF(Tabulka5[Data],D995))","v":""},"","","",""]
[null,null,null,null,{"$f":"IF(D996=\"\",\"\",COUNTIF(Tabulka5[Data],D996))","v":""},"","","",""]
[null,null,null,null,{"$f":"IF(D997=\"\",\"\",COUNTIF(Tabulka5[Data],D997))","v":""},"","","",""]
[null,null,null,null,{"$f":"IF(D998=\"\",\"\",COUNTIF(Tabulka5[Data],D998))","v":""},"","","",""]
[null,null,null,null,{"$f":"IF(D999=\"\",\"\",COUNTIF(Tabulka5[Data],D999))","v":""},"","","",""]
[null,null,null,null,{"$f":"IF(D1000=\"\",\"\",COUNTIF(Tabulka5[Data],D1000))","v":""},"","","",""]
[null,null,null,null,{"$f":"IF(D1001=\"\",\"\",COUNTIF(Tabulka5[Data],D1001))","v":""},"","","",""]
[null,null,null,null,{"$f":"IF(D1002=\"\",\"\",COUNTIF(Tabulka5[Data],D1002))","v":""},"","","",""]
[null,null,null,null,{"$f":"IF(D1003=\"\",\"\",COUNTIF(Tabulka5[Data],D1003))","v":""},"","","",""]
[null,null,null,null,{"$f":"IF(D1004=\"\",\"\",COUNTIF(Tabulka5[Data],D1004))","v":""},"","","",""]
[null,null,null,null,{"$f":"IF(D1005=\"\",\"\",COUNTIF(Tabulka5[Data],D1005))","v":""},"","","",""]
[null,null,null,null,{"$f":"IF(D1006=\"\",\"\",COUNTIF(Tabulka5[Data],D1006))","v":""},"","","",""]
[null,null,null,null,{"$f":"IF(D1007=\"\",\"\",COUNTIF(Tabulka5[Data],D1007))","v":""},"","","",""]
[null,null,null,null,{"$f":"IF(D1008=\"\",\"\",COUNTIF(Tabulka5[Data],D1008))","v":""},"","","",""]
[null,null,null,null,{"$f":"IF(D1009=\"\",\"\",COUNTIF(Tabulka5[Data],D1009))","v":""},"","","",""]
[null,null,null,null,{"$f":"IF(D1010=\"\",\"\",COUNTIF(Tabulka5[Data],D1010))","v":""},"","","",""]
[null,null,null,null,{"$f":"IF(D1011=\"\",\"\",COUNTIF(Tabulka5[Data],D1011))","v":""},"","","",""]
[null,null,null,null,{"$f":"IF(D1012=\"\",\"\",COUNTIF(Tabulka5[Data],D1012))","v":""},"","","",""]
[null,null,null,null,{"$f":"IF(D1013=\"\",\"\",COUNTIF(Tabulka5[Data],D1013))","v":""},"","","",""]
[null,null,null,null,{"$f":"IF(D1014=\"\",\"\",COUNTIF(Tabulka5[Data],D1014))","v":""},"","","",""]
[null,null,null,null,{"$f":"IF(D1015=\"\",\"\",COUNTIF(Tabulka5[Data],D1015))","v":""},"","","",""]
[null,null,null,null,{"$f":"IF(D1016=\"\",\"\",COUNTIF(Tabulka5[Data],D1016))","v":""},"","","",""]
[null,null,null,null,{"$f":"IF(D1017=\"\",\"\",COUNTIF(Tabulka5[Data],D1017))","v":""},"","","",""]
[null,null,null,null,{"$f":"IF(D1018=\"\",\"\",COUNTIF(Tabulka5[Data],D1018))","v":""},"","","",""]
[null,null,null,null,{"$f":"IF(D1019=\"\",\"\",COUNTIF(Tabulka5[Data],D1019))","v":""},"","","",""]
[null,null,null,null,{"$f":"IF(D1020=\"\",\"\",COUNTIF(Tabulka5[Data],D1020))","v":""},"","","",""]
[null,null,null,null,{"$f":"IF(D1021=\"\",\"\",COUNTIF(Tabulka5[Data],D1021))","v":""},"","","",""]
[null,null,null,null,{"$f":"IF(D1022=\"\",\"\",COUNTIF(Tabulka5[Data],D1022))","v":""},"","","",""]
[null,null,null,null,{"$f":"IF(D1023=\"\",\"\",COUNTIF(Tabulka5[Data],D1023))","v":""},"","","",""]
[null,null,null,null,{"$f":"IF(D1024=\"\",\"\",COUNTIF(Tabulka5[Data],D1024))","v":""},"","","",""]
[null,null,null,null,{"$f":"IF(D1025=\"\",\"\",COUNTIF(Tabulka5[Data],D1025))","v":""},"","","",""]
[null,null,null,null,{"$f":"IF(D1026=\"\",\"\",COUNTIF(Tabulka5[Data],D1026))","v":""},"","","",""]
[null,null,null,null,{"$f":"IF(D1027=\"\",\"\",COUNTIF(Tabulka5[Data],D1027))","v":""},"","","",""]
[null,null,null,null,{"$f":"IF(D1028=\"\",\"\",COUNTIF(Tabulka5[Data],D1028))","v":""},"","","",""]
[null,null,null,null,{"$f":"IF(D1029=\"\",\"\",COUNTIF(Tabulka5[Data],D1029))","v":""},"","","",""]
[null,null,null,null,{"$f":"IF(D1030=\"\",\"\",COUNTIF(Tabulka5[Data],D1030))","v":""},"","","",""]
[null,null,null,null,{"$f":"IF(D1031=\"\",\"\",COUNTIF(Tabulka5[Data],D1031))","v":""},"","","",""]
[null,null,null,null,{"$f":"IF(D1032=\"\",\"\",COUNTIF(Tabulka5[Data],D1032))","v":""},"","","",""]
[null,null,null,null,{"$f":"IF(D1033=\"\",\"\",COUNTIF(Tabulka5[Data],D1033))","v":""},"","","",""]
[null,null,null,null,{"$f":"IF(D1034=\"\",\"\",COUNTIF(Tabulka5[Data],D1034))","v":""},"","","",""]
[null,null,null,null,{"$f":"IF(D1035=\"\",\"\",COUNTIF(Tabulka5[Data],D1035))","v":""},"","","",""]
[null,null,null,null,{"$f":"IF(D1036=\"\",\"\",COUNTIF(Tabulka5[Data],D1036))","v":""},"","","",""]
[null,null,null,null,{"$f":"IF(D1037=\"\",\"\",COUNTIF(Tabulka5[Data],D1037))","v":""},"","","",""]
[null,null,null,null,{"$f":"IF(D1038=\"\",\"\",COUNTIF(Tabulka5[Data],D1038))","v":""},"","","",""]
[null,null,null,null,{"$f":"IF(D1039=\"\",\"\",COUNTIF(Tabulka5[Data],D1039))","v":""},"","","",""]
[null,null,null,null,{"$f":"IF(D1040=\"\",\"\",COUNTIF(Tabulka5[Data],D1040))","v":""},"","","",""]
[null,null,null,null,{"$f":"IF(D1041=\"\",\"\",COUNTIF(Tabulka5[Data],D1041))","v":""},{"$f":"IF(OR($K$11=0,D1041=\"\"),\"\",IF(D1042=\"\",1-I1040,ROUND(E1041/SUM($E$15:$E$6350),3)))","v":""},{"$f":"IF(OR(D1041=\"\",$A$11=\"nominální\"),\"\",G1040+E1041)","v":""},{"$f":"IF(OR($K$11=0,D1041=\"\",$A$11=\"nominální\"),\"\",H1040+F1041)","v":""},{"$f":"IF(OR($K$11=0,D1041=\"\"),\"\",I1040+F1041)","v":""}]
[null,null,null,null,{"$f":"IF(D1042=\"\",\"\",COUNTIF(Tabulka5[Data],D1042))","v":""},"","","",""]
[null,null,null,null,{"$f":"IF(D1043=\"\",\"\",COUNTIF(Tabulka5[Data],D1043))","v":""},"","","",""]
[null,null,null,null,{"$f":"IF(D1044=\"\",\"\",COUNTIF(Tabulka5[Data],D1044))","v":""},"","","",""]
[null,null,null,null,{"$f":"IF(D1045=\"\",\"\",COUNTIF(Tabulka5[Data],D1045))","v":""},"","","",""]
[null,null,null,null,{"$f":"IF(D1046=\"\",\"\",COUNTIF(Tabulka5[Data],D1046))","v":""},"","","",""]
[null,null,null,null,{"$f":"IF(D1047=\"\",\"\",COUNTIF(Tabulka5[Data],D1047))","v":""},"","","",""]
[null,null,null,null,{"$f":"IF(D1048=\"\",\"\",COUNTIF(Tabulka5[Data],D1048))","v":""},"","","",""]
[null,null,null,null,{"$f":"IF(D1049=\"\",\"\",COUNTIF(Tabulka5[Data],D1049))","v":""},"","","",""]
[null,null,null,null,{"$f":"IF(D1050=\"\",\"\",COUNTIF(Tabulka5[Data],D1050))","v":""},"","","",""]
[null,null,null,null,{"$f":"IF(D1051=\"\",\"\",COUNTIF(Tabulka5[Data],D1051))","v":""},"","","",""]
[null,null,null,null,{"$f":"IF(D1052=\"\",\"\",COUNTIF(Tabulka5[Data],D1052))","v":""},"","","",""]
[null,null,null,null,{"$f":"IF(D1053=\"\",\"\",COUNTIF(Tabulka5[Data],D1053))","v":""},"","","",""]
[null,null,null,null,{"$f":"IF(D1054=\"\",\"\",COUNTIF(Tabulka5[Data],D1054))","v":""},"","","",""]
[null,null,null,null,{"$f":"IF(D1055=\"\",\"\",COUNTIF(Tabulka5[Data],D1055))","v":""},"","","",""]
[null,null,null,null,{"$f":"IF(D1056=\"\",\"\",COUNTIF(Tabulka5[Data],D1056))","v":""},"","","",""]
[null,null,null,null,{"$f":"IF(D1057=\"\",\"\",COUNTIF(Tabulka5[Data],D1057))","v":""},"","","",""]
[null,null,null,null,{"$f":"IF(D1058=\"\",\"\",COUNTIF(Tabulka5[Data],D1058))","v":""},"","","",""]
[null,null,null,null,{"$f":"IF(D1059=\"\",\"\",COUNTIF(Tabulka5[Data],D1059))","v":""},"","","",""]
[null,null,null,null,{"$f":"IF(D1060=\"\",\"\",COUNTIF(Tabulka5[Data],D1060))","v":""},"","","",""]
[null,null,null,null,{"$f":"IF(D1061=\"\",\"\",COUNTIF(Tabulka5[Data],D1061))","v":""},"","","",""]
[null,null,null,null,{"$f":"IF(D1062=\"\",\"\",COUNTIF(Tabulka5[Data],D1062))","v":""},"","","",""]
[null,null,null,null,{"$f":"IF(D1063=\"\",\"\",COUNTIF(Tabulka5[Data],D1063))","v":""},"","","",""]
[null,null,null,null,{"$f":"IF(D1064=\"\",\"\",COUNTIF(Tabulka5[Data],D1064))","v":""},"","","",""]
[null,null,null,null,{"$f":"IF(D1065=\"\",\"\",COUNTIF(Tabulka5[Data],D1065))","v":""},"","","",""]
[null,null,null,null,{"$f":"IF(D1066=\"\",\"\",COUNTIF(Tabulka5[Data],D1066))","v":""},"","","",""]
[null,null,null,null,{"$f":"IF(D1067=\"\",\"\",COUNTIF(Tabulka5[Data],D1067))","v":""},"","","",""]
[null,null,null,null,{"$f":"IF(D1068=\"\",\"\",COUNTIF(Tabulka5[Data],D1068))","v":""},"","","",""]
[null,null,null,null,{"$f":"IF(D1069=\"\",\"\",COUNTIF(Tabulka5[Data],D1069))","v":""},"","","",""]
[null,null,null,null,{"$f":"IF(D1070=\"\",\"\",COUNTIF(Tabulka5[Data],D1070))","v":""},"","","",""]
[null,null,null,null,{"$f":"IF(D1071=\"\",\"\",COUNTIF(Tabulka5[Data],D1071))","v":""},"","","",""]
[null,null,null,null,{"$f":"IF(D1072=\"\",\"\",COUNTIF(Tabulka5[Data],D1072))","v":""},"","","",""]
[null,null,null,null,{"$f":"IF(D1073=\"\",\"\",COUNTIF(Tabulka5[Data],D1073))","v":""},"","","",""]
[null,null,null,null,{"$f":"IF(D1074=\"\",\"\",COUNTIF(Tabulka5[Data],D1074))","v":""},"","","",""]
[null,null,null,null,{"$f":"IF(D1075=\"\",\"\",COUNTIF(Tabulka5[Data],D1075))","v":""},"","","",""]
[null,null,null,null,{"$f":"IF(D1076=\"\",\"\",COUNTIF(Tabulka5[Data],D1076))","v":""},"","","",""]
[null,null,null,null,{"$f":"IF(D1077=\"\",\"\",COUNTIF(Tabulka5[Data],D1077))","v":""},"","","",""]
[null,null,null,null,{"$f":"IF(D1078=\"\",\"\",COUNTIF(Tabulka5[Data],D1078))","v":""},"","","",""]
[null,null,null,null,{"$f":"IF(D1079=\"\",\"\",COUNTIF(Tabulka5[Data],D1079))","v":""},"","","",""]
[null,null,null,null,{"$f":"IF(D1080=\"\",\"\",COUNTIF(Tabulka5[Data],D1080))","v":""},"","","",""]
[null,null,null,null,{"$f":"IF(D1081=\"\",\"\",COUNTIF(Tabulka5[Data],D1081))","v":""},"","","",""]
[null,null,null,null,{"$f":"IF(D1082=\"\",\"\",COUNTIF(Tabulka5[Data],D1082))","v":""},"","","",""]
[null,null,null,null,{"$f":"IF(D1083=\"\",\"\",COUNTIF(Tabulka5[Data],D1083))","v":""},"","","",""]
[null,null,null,null,{"$f":"IF(D1084=\"\",\"\",COUNTIF(Tabulka5[Data],D1084))","v":""},"","","",""]
[null,null,null,null,{"$f":"IF(D1085=\"\",\"\",COUNTIF(Tabulka5[Data],D1085))","v":""},"","","",""]
[null,null,null,null,{"$f":"IF(D1086=\"\",\"\",COUNTIF(Tabulka5[Data],D1086))","v":""},"","","",""]
[null,null,null,null,{"$f":"IF(D1087=\"\",\"\",COUNTIF(Tabulka5[Data],D1087))","v":""},"","","",""]
[null,null,null,null,{"$f":"IF(D1088=\"\",\"\",COUNTIF(Tabulka5[Data],D1088))","v":""},"","","",""]
[null,null,null,null,{"$f":"IF(D1089=\"\",\"\",COUNTIF(Tabulka5[Data],D1089))","v":""},"","","",""]
[null,null,null,null,{"$f":"IF(D1090=\"\",\"\",COUNTIF(Tabulka5[Data],D1090))","v":""},"","","",""]
[null,null,null,null,{"$f":"IF(D1091=\"\",\"\",COUNTIF(Tabulka5[Data],D1091))","v":""},"","","",""]
[null,null,null,null,{"$f":"IF(D1092=\"\",\"\",COUNTIF(Tabulka5[Data],D1092))","v":""},"","","",""]
[null,null,null,null,{"$f":"IF(D1093=\"\",\"\",COUNTIF(Tabulka5[Data],D1093))","v":""},"","","",""]
[null,null,null,null,{"$f":"IF(D1094=\"\",\"\",COUNTIF(Tabulka5[Data],D1094))","v":""},"","","",""]
[null,null,null,null,{"$f":"IF(D1095=\"\",\"\",COUNTIF(Tabulka5[Data],D1095))","v":""},"","","",""]
[null,null,null,null,{"$f":"IF(D1096=\"\",\"\",COUNTIF(Tabulka5[Data],D1096))","v":""},"","","",""]
[null,null,null,null,{"$f":"IF(D1097=\"\",\"\",COUNTIF(Tabulka5[Data],D1097))","v":""},"","","",""]
[null,null,null,null,{"$f":"IF(D1098=\"\",\"\",COUNTIF(Tabulka5[Data],D1098))","v":""},"","","",""]
[null,null,null,null,{"$f":"IF(D1099=\"\",\"\",COUNTIF(Tabulka5[Data],D1099))","v":""},"","","",""]
[null,null,null,null,{"$f":"IF(D1100=\"\",\"\",COUNTIF(Tabulka5[Data],D1100))","v":""},"","","",""]
[null,null,null,null,{"$f":"IF(D1101=\"\",\"\",COUNTIF(Tabulka5[Data],D1101))","v":""},"","","",""]
[null,null,null,null,{"$f":"IF(D1102=\"\",\"\",COUNTIF(Tabulka5[Data],D1102))","v":""},"","","",""]
[null,null,null,null,{"$f":"IF(D1103=\"\",\"\",COUNTIF(Tabulka5[Data],D1103))","v":""},"","","",""]
[null,null,null,null,{"$f":"IF(D1104=\"\",\"\",COUNTIF(Tabulka5[Data],D1104))","v":""},"","","",""]
[null,null,null,null,{"$f":"IF(D1105=\"\",\"\",COUNTIF(Tabulka5[Data],D1105))","v":""},{"$f":"IF(OR($K$11=0,D1105=\"\"),\"\",IF(D1106=\"\",1-I1104,ROUND(E1105/SUM($E$15:$E$6350),3)))","v":""},{"$f":"IF(OR(D1105=\"\",$A$11=\"nominální\"),\"\",G1104+E1105)","v":""},{"$f":"IF(OR($K$11=0,D1105=\"\",$A$11=\"nominální\"),\"\",H1104+F1105)","v":""},{"$f":"IF(OR($K$11=0,D1105=\"\"),\"\",I1104+F1105)","v":""}]
[null,null,null,null,{"$f":"IF(D1106=\"\",\"\",COUNTIF(Tabulka5[Data],D1106))","v":""},"","","",""]
[null,null,null,null,{"$f":"IF(D1107=\"\",\"\",COUNTIF(Tabulka5[Data],D1107))","v":""},"","","",""]
[null,null,null,null,{"$f":"IF(D1108=\"\",\"\",COUNTIF(Tabulka5[Data],D1108))","v":""},"","","",""]
[null,null,null,null,{"$f":"IF(D1109=\"\",\"\",COUNTIF(Tabulka5[Data],D1109))","v":""},"","","",""]
[null,null,null,null,{"$f":"IF(D1110=\"\",\"\",COUNTIF(Tabulka5[Data],D1110))","v":""},"","","",""]
[null,null,null,null,{"$f":"IF(D1111=\"\",\"\",COUNTIF(Tabulka5[Data],D1111))","v":""},"","","",""]
[null,null,null,null,{"$f":"IF(D1112=\"\",\"\",COUNTIF(Tabulka5[Data],D1112))","v":""},"","","",""]
[null,null,null,null,{"$f":"IF(D1113=\"\",\"\",COUNTIF(Tabulka5[Data],D1113))","v":""},"","","",""]
[null,null,null,null,{"$f":"IF(D1114=\"\",\"\",COUNTIF(Tabulka5[Data],D1114))","v":""},"","","",""]
[null,null,null,null,{"$f":"IF(D1115=\"\",\"\",COUNTIF(Tabulka5[Data],D1115))","v":""},"","","",""]
[null,null,null,null,{"$f":"IF(D1116=\"\",\"\",COUNTIF(Tabulka5[Data],D1116))","v":""},"","","",""]
[null,null,null,null,{"$f":"IF(D1117=\"\",\"\",COUNTIF(Tabulka5[Data],D1117))","v":""},"","","",""]
[null,null,null,null,{"$f":"IF(D1118=\"\",\"\",COUNTIF(Tabulka5[Data],D1118))","v":""},"","","",""]
[null,null,null,null,{"$f":"IF(D1119=\"\",\"\",COUNTIF(Tabulka5[Data],D1119))","v":""},"","","",""]
[null,null,null,null,{"$f":"IF(D1120=\"\",\"\",COUNTIF(Tabulka5[Data],D1120))","v":""},"","","",""]
[null,null,null,null,{"$f":"IF(D1121=\"\",\"\",COUNTIF(Tabulka5[Data],D1121))","v":""},"","","",""]
[null,null,null,null,{"$f":"IF(D1122=\"\",\"\",COUNTIF(Tabulka5[Data],D1122))","v":""},"","","",""]
[null,null,null,null,{"$f":"IF(D1123=\"\",\"\",COUNTIF(Tabulka5[Data],D1123))","v":""},"","","",""]
[null,null,null,null,{"$f":"IF(D1124=\"\",\"\",COUNTIF(Tabulka5[Data],D1124))","v":""},"","","",""]
[null,null,null,null,{"$f":"IF(D1125=\"\",\"\",COUNTIF(Tabulka5[Data],D1125))","v":""},"","","",""]
[null,null,null,null,{"$f":"IF(D1126=\"\",\"\",COUNTIF(Tabulka5[Data],D1126))","v":""},"","","",""]
[null,null,null,null,{"$f":"IF(D1127=\"\",\"\",COUNTIF(Tabulka5[Data],D1127))","v":""},"","","",""]
[null,null,null,null,{"$f":"IF(D1128=\"\",\"\",COUNTIF(Tabulka5[Data],D1128))","v":""},"","","",""]
[null,null,null,null,{"$f":"IF(D1129=\"\",\"\",COUNTIF(Tabulka5[Data],D1129))","v":""},"","","",""]
[null,null,null,null,{"$f":"IF(D1130=\"\",\"\",COUNTIF(Tabulka5[Data],D1130))","v":""},"","","",""]
[null,null,null,null,{"$f":"IF(D1131=\"\",\"\",COUNTIF(Tabulka5[Data],D1131))","v":""},"","","",""]
[null,null,null,null,{"$f":"IF(D1132=\"\",\"\",COUNTIF(Tabulka5[Data],D1132))","v":""},"","","",""]
[null,null,null,null,{"$f":"IF(D1133=\"\",\"\",COUNTIF(Tabulka5[Data],D1133))","v":""},"","","",""]
[null,null,null,null,{"$f":"IF(D1134=\"\",\"\",COUNTIF(Tabulka5[Data],D1134))","v":""},"","","",""]
[null,null,null,null,{"$f":"IF(D1135=\"\",\"\",COUNTIF(Tabulka5[Data],D1135))","v":""},"","","",""]
[null,null,null,null,{"$f":"IF(D1136=\"\",\"\",COUNTIF(Tabulka5[Data],D1136))","v":""},"","","",""]
[null,null,null,null,{"$f":"IF(D1137=\"\",\"\",COUNTIF(Tabulka5[Data],D1137))","v":""},"","","",""]
[null,null,null,null,{"$f":"IF(D1138=\"\",\"\",COUNTIF(Tabulka5[Data],D1138))","v":""},"","","",""]
[null,null,null,null,{"$f":"IF(D1139=\"\",\"\",COUNTIF(Tabulka5[Data],D1139))","v":""},"","","",""]
[null,null,null,null,{"$f":"IF(D1140=\"\",\"\",COUNTIF(Tabulka5[Data],D1140))","v":""},"","","",""]
[null,null,null,null,{"$f":"IF(D1141=\"\",\"\",COUNTIF(Tabulka5[Data],D1141))","v":""},"","","",""]
[null,null,null,null,{"$f":"IF(D1142=\"\",\"\",COUNTIF(Tabulka5[Data],D1142))","v":""},"","","",""]
[null,null,null,null,{"$f":"IF(D1143=\"\",\"\",COUNTIF(Tabulka5[Data],D1143))","v":""},"","","",""]
[null,null,null,null,{"$f":"IF(D1144=\"\",\"\",COUNTIF(Tabulka5[Data],D1144))","v":""},"","","",""]
[null,null,null,null,{"$f":"IF(D1145=\"\",\"\",COUNTIF(Tabulka5[Data],D1145))","v":""},"","","",""]
[null,null,null,null,{"$f":"IF(D1146=\"\",\"\",COUNTIF(Tabulka5[Data],D1146))","v":""},"","","",""]
[null,null,null,null,{"$f":"IF(D1147=\"\",\"\",COUNTIF(Tabulka5[Data],D1147))","v":""},"","","",""]
[null,null,null,null,{"$f":"IF(D1148=\"\",\"\",COUNTIF(Tabulka5[Data],D1148))","v":""},"","","",""]
[null,null,null,null,{"$f":"IF(D1149=\"\",\"\",COUNTIF(Tabulka5[Data],D1149))","v":""},"","","",""]
[null,null,null,null,{"$f":"IF(D1150=\"\",\"\",COUNTIF(Tabulka5[Data],D1150))","v":""},"","","",""]
[null,null,null,null,{"$f":"IF(D1151=\"\",\"\",COUNTIF(Tabulka5[Data],D1151))","v":""},"","","",""]
[null,null,null,null,{"$f":"IF(D1152=\"\",\"\",COUNTIF(Tabulka5[Data],D1152))","v":""},"","","",""]
[null,null,null,null,{"$f":"IF(D1153=\"\",\"\",COUNTIF(Tabulka5[Data],D1153))","v":""},"","","",""]
[null,null,null,null,{"$f":"IF(D1154=\"\",\"\",COUNTIF(Tabulka5[Data],D1154))","v":""},"","","",""]
[null,null,null,null,{"$f":"IF(D1155=\"\",\"\",COUNTIF(Tabulka5[Data],D1155))","v":""},"","","",""]
[null,null,null,null,{"$f":"IF(D1156=\"\",\"\",COUNTIF(Tabulka5[Data],D1156))","v":""},"","","",""]
[null,null,null,null,{"$f":"IF(D1157=\"\",\"\",COUNTIF(Tabulka5[Data],D1157))","v":""},"","","",""]
[null,null,null,null,{"$f":"IF(D1158=\"\",\"\",COUNTIF(Tabulka5[Data],D1158))","v":""},"","","",""]
[null,null,null,null,{"$f":"IF(D1159=\"\",\"\",COUNTIF(Tabulka5[Data],D1159))","v":""},"","","",""]
[null,null,null,null,{"$f":"IF(D1160=\"\",\"\",COUNTIF(Tabulka5[Data],D1160))","v":""},"","","",""]
[null,null,null,null,{"$f":"IF(D1161=\"\",\"\",COUNTIF(Tabulka5[Data],D1161))","v":""},"","","",""]
[null,null,null,null,{"$f":"IF(D1162=\"\",\"\",COUNTIF(Tabulka5[Data],D1162))","v":""},"","","",""]
[null,null,null,null,{"$f":"IF(D1163=\"\",\"\",COUNTIF(Tabulka5[Data],D1163))","v":""},"","","",""]
[null,null,null,null,{"$f":"IF(D1164=\"\",\"\",COUNTIF(Tabulka5[Data],D1164))","v":""},"","","",""]
[null,null,null,null,{"$f":"IF(D1165=\"\",\"\",COUNTIF(Tabulka5[Data],D1165))","v":""},"","","",""]
[null,null,null,null,{"$f":"IF(D1166=\"\",\"\",COUNTIF(Tabulka5[Data],D1166))","v":""},"","","",""]
[null,null,null,null,{"$f":"IF(D1167=\"\",\"\",COUNTIF(Tabulka5[Data],D1167))","v":""},"","","",""]
[null,null,null,null,{"$f":"IF(D1168=\"\",\"\",COUNTIF(Tabulka5[Data],D1168))","v":""},"","","",""]
[null,null,null,null,{"$f":"IF(D1169=\"\",\"\",COUNTIF(Tabulka5[Data],D1169))","v":""},{"$f":"IF(OR($K$11=0,D1169=\"\"),\"\",IF(D1170=\"\",1-I1168,ROUND(E1169/SUM($E$15:$E$6350),3)))","v":""},{"$f":"IF(OR(D1169=\"\",$A$11=\"nominální\"),\"\",G1168+E1169)","v":""},{"$f":"IF(OR($K$11=0,D1169=\"\",$A$11=\"nominální\"),\"\",H1168+F1169)","v":""},{"$f":"IF(OR($K$11=0,D1169=\"\"),\"\",I1168+F1169)","v":""}]
[null,null,null,null,{"$f":"IF(D1170=\"\",\"\",COUNTIF(Tabulka5[Data],D1170))","v":""},"","","",""]
[null,null,null,null,{"$f":"IF(D1171=\"\",\"\",COUNTIF(Tabulka5[Data],D1171))","v":""},"","","",""]
[null,null,null,null,{"$f":"IF(D1172=\"\",\"\",COUNTIF(Tabulka5[Data],D1172))","v":""},"","","",""]
[null,null,null,null,{"$f":"IF(D1173=\"\",\"\",COUNTIF(Tabulka5[Data],D1173))","v":""},"","","",""]
[null,null,null,null,{"$f":"IF(D1174=\"\",\"\",COUNTIF(Tabulka5[Data],D1174))","v":""},"","","",""]
[null,null,null,null,{"$f":"IF(D1175=\"\",\"\",COUNTIF(Tabulka5[Data],D1175))","v":""},"","","",""]
[null,null,null,null,{"$f":"IF(D1176=\"\",\"\",COUNTIF(Tabulka5[Data],D1176))","v":""},"","","",""]
[null,null,null,null,{"$f":"IF(D1177=\"\",\"\",COUNTIF(Tabulka5[Data],D1177))","v":""},"","","",""]
[null,null,null,null,{"$f":"IF(D1178=\"\",\"\",COUNTIF(Tabulka5[Data],D1178))","v":""},"","","",""]
[null,null,null,null,{"$f":"IF(D1179=\"\",\"\",COUNTIF(Tabulka5[Data],D1179))","v":""},"","","",""]
[null,null,null,null,{"$f":"IF(D1180=\"\",\"\",COUNTIF(Tabulka5[Data],D1180))","v":""},"","","",""]
[null,null,null,null,{"$f":"IF(D1181=\"\",\"\",COUNTIF(Tabulka5[Data],D1181))","v":""},"","","",""]
[null,null,null,null,{"$f":"IF(D1182=\"\",\"\",COUNTIF(Tabulka5[Data],D1182))","v":""},"","","",""]
[null,null,null,null,{"$f":"IF(D1183=\"\",\"\",COUNTIF(Tabulka5[Data],D1183))","v":""},"","","",""]
[null,null,null,null,{"$f":"IF(D1184=\"\",\"\",COUNTIF(Tabulka5[Data],D1184))","v":""},"","","",""]
[null,null,null,null,{"$f":"IF(D1185=\"\",\"\",COUNTIF(Tabulka5[Data],D1185))","v":""},"","","",""]
[null,null,null,null,{"$f":"IF(D1186=\"\",\"\",COUNTIF(Tabulka5[Data],D1186))","v":""},"","","",""]
[null,null,null,null,{"$f":"IF(D1187=\"\",\"\",COUNTIF(Tabulka5[Data],D1187))","v":""},"","","",""]
[null,null,null,null,{"$f":"IF(D1188=\"\",\"\",COUNTIF(Tabulka5[Data],D1188))","v":""},"","","",""]
[null,null,null,null,{"$f":"IF(D1189=\"\",\"\",COUNTIF(Tabulka5[Data],D1189))","v":""},"","","",""]
[null,null,null,null,{"$f":"IF(D1190=\"\",\"\",COUNTIF(Tabulka5[Data],D1190))","v":""},"","","",""]
[null,null,null,null,{"$f":"IF(D1191=\"\",\"\",COUNTIF(Tabulka5[Data],D1191))","v":""},"","","",""]
[null,null,null,null,{"$f":"IF(D1192=\"\",\"\",COUNTIF(Tabulka5[Data],D1192))","v":""},"","","",""]
[null,null,null,null,{"$f":"IF(D1193=\"\",\"\",COUNTIF(Tabulka5[Data],D1193))","v":""},"","","",""]
[null,null,null,null,{"$f":"IF(D1194=\"\",\"\",COUNTIF(Tabulka5[Data],D1194))","v":""},"","","",""]
[null,null,null,null,{"$f":"IF(D1195=\"\",\"\",COUNTIF(Tabulka5[Data],D1195))","v":""},"","","",""]
[null,null,null,null,{"$f":"IF(D1196=\"\",\"\",COUNTIF(Tabulka5[Data],D1196))","v":""},"","","",""]
[null,null,null,null,{"$f":"IF(D1197=\"\",\"\",COUNTIF(Tabulka5[Data],D1197))","v":""},"","","",""]
[null,null,null,null,{"$f":"IF(D1198=\"\",\"\",COUNTIF(Tabulka5[Data],D1198))","v":""},"","","",""]
[null,null,null,null,{"$f":"IF(D1199=\"\",\"\",COUNTIF(Tabulka5[Data],D1199))","v":""},"","","",""]
[null,null,null,null,{"$f":"IF(D1200=\"\",\"\",COUNTIF(Tabulka5[Data],D1200))","v":""},"","","",""]
[null,null,null,null,{"$f":"IF(D1201=\"\",\"\",COUNTIF(Tabulka5[Data],D1201))","v":""},"","","",""]
[null,null,null,null,{"$f":"IF(D1202=\"\",\"\",COUNTIF(Tabulka5[Data],D1202))","v":""},"","","",""]
[null,null,null,null,{"$f":"IF(D1203=\"\",\"\",COUNTIF(Tabulka5[Data],D1203))","v":""},"","","",""]
[null,null,null,null,{"$f":"IF(D1204=\"\",\"\",COUNTIF(Tabulka5[Data],D1204))","v":""},"","","",""]
[null,null,null,null,{"$f":"IF(D1205=\"\",\"\",COUNTIF(Tabulka5[Data],D1205))","v":""},"","","",""]
[null,null,null,null,{"$f":"IF(D1206=\"\",\"\",COUNTIF(Tabulka5[Data],D1206))","v":""},"","","",""]
[null,null,null,null,{"$f":"IF(D1207=\"\",\"\",COUNTIF(Tabulka5[Data],D1207))","v":""},"","","",""]
[null,null,null,null,{"$f":"IF(D1208=\"\",\"\",COUNTIF(Tabulka5[Data],D1208))","v":""},"","","",""]
[null,null,null,null,{"$f":"IF(D1209=\"\",\"\",COUNTIF(Tabulka5[Data],D1209))","v":""},"","","",""]
[null,null,null,null,{"$f":"IF(D1210=\"\",\"\",COUNTIF(Tabulka5[Data],D1210))","v":""},"","","",""]
[null,null,null,null,{"$f":"IF(D1211=\"\",\"\",COUNTIF(Tabulka5[Data],D1211))","v":""},"","","",""]
[null,null,null,null,{"$f":"IF(D1212=\"\",\"\",COUNTIF(Tabulka5[Data],D1212))","v":""},"","","",""]
[null,null,null,null,{"$f":"IF(D1213=\"\",\"\",COUNTIF(Tabulka5[Data],D1213))","v":""},"","","",""]
[null,null,null,null,{"$f":"IF(D1214=\"\",\"\",COUNTIF(Tabulka5[Data],D1214))","v":""},"","","",""]
[null,null,null,null,{"$f":"IF(D1215=\"\",\"\",COUNTIF(Tabulka5[Data],D1215))","v":""},"","","",""]
[null,null,null,null,{"$f":"IF(D1216=\"\",\"\",COUNTIF(Tabulka5[Data],D1216))","v":""},"","","",""]
[null,null,null,null,{"$f":"IF(D1217=\"\",\"\",COUNTIF(Tabulka5[Data],D1217))","v":""},"","","",""]
[null,null,null,null,{"$f":"IF(D1218=\"\",\"\",COUNTIF(Tabulka5[Data],D1218))","v":""},"","","",""]
[null,null,null,null,{"$f":"IF(D1219=\"\",\"\",COUNTIF(Tabulka5[Data],D1219))","v":""},"","","",""]
[null,null,null,null,{"$f":"IF(D1220=\"\",\"\",COUNTIF(Tabulka5[Data],D1220))","v":""},"","","",""]
[null,null,null,null,{"$f":"IF(D1221=\"\",\"\",COUNTIF(Tabulka5[Data],D1221))","v":""},"","","",""]
[null,null,null,null,{"$f":"IF(D1222=\"\",\"\",COUNTIF(Tabulka5[Data],D1222))","v":""},"","","",""]
[null,null,null,null,{"$f":"IF(D1223=\"\",\"\",COUNTIF(Tabulka5[Data],D1223))","v":""},"","","",""]
[null,null,null,null,{"$f":"IF(D1224=\"\",\"\",COUNTIF(Tabulka5[Data],D1224))","v":""},"","","",""]
[null,null,null,null,{"$f":"IF(D1225=\"\",\"\",COUNTIF(Tabulka5[Data],D1225))","v":""},"","","",""]
[null,null,null,null,{"$f":"IF(D1226=\"\",\"\",COUNTIF(Tabulka5[Data],D1226))","v":""},"","","",""]
[null,null,null,null,{"$f":"IF(D1227=\"\",\"\",COUNTIF(Tabulka5[Data],D1227))","v":""},"","","",""]
[null,null,null,null,{"$f":"IF(D1228=\"\",\"\",COUNTIF(Tabulka5[Data],D1228))","v":""},"","","",""]
[null,null,null,null,{"$f":"IF(D1229=\"\",\"\",COUNTIF(Tabulka5[Data],D1229))","v":""},"","","",""]
[null,null,null,null,{"$f":"IF(D1230=\"\",\"\",COUNTIF(Tabulka5[Data],D1230))","v":""},"","","",""]
[null,null,null,null,{"$f":"IF(D1231=\"\",\"\",COUNTIF(Tabulka5[Data],D1231))","v":""},"","","",""]
[null,null,null,null,{"$f":"IF(D1232=\"\",\"\",COUNTIF(Tabulka5[Data],D1232))","v":""},"","","",""]
[null,null,null,null,{"$f":"IF(D1233=\"\",\"\",COUNTIF(Tabulka5[Data],D1233))","v":""},{"$f":"IF(OR($K$11=0,D1233=\"\"),\"\",IF(D1234=\"\",1-I1232,ROUND(E1233/SUM($E$15:$E$6350),3)))","v":""},{"$f":"IF(OR(D1233=\"\",$A$11=\"nominální\"),\"\",G1232+E1233)","v":""},{"$f":"IF(OR($K$11=0,D1233=\"\",$A$11=\"nominální\"),\"\",H1232+F1233)","v":""},{"$f":"IF(OR($K$11=0,D1233=\"\"),\"\",I1232+F1233)","v":""}]
[null,null,null,null,{"$f":"IF(D1234=\"\",\"\",COUNTIF(Tabulka5[Data],D1234))","v":""},"","","",""]
[null,null,null,null,{"$f":"IF(D1235=\"\",\"\",COUNTIF(Tabulka5[Data],D1235))","v":""},"","","",""]
[null,null,null,null,{"$f":"IF(D1236=\"\",\"\",COUNTIF(Tabulka5[Data],D1236))","v":""},"","","",""]
[null,null,null,null,{"$f":"IF(D1237=\"\",\"\",COUNTIF(Tabulka5[Data],D1237))","v":""},"","","",""]
[null,null,null,null,{"$f":"IF(D1238=\"\",\"\",COUNTIF(Tabulka5[Data],D1238))","v":""},"","","",""]
[null,null,null,null,{"$f":"IF(D1239=\"\",\"\",COUNTIF(Tabulka5[Data],D1239))","v":""},"","","",""]
[null,null,null,null,{"$f":"IF(D1240=\"\",\"\",COUNTIF(Tabulka5[Data],D1240))","v":""},"","","",""]
[null,null,null,null,{"$f":"IF(D1241=\"\",\"\",COUNTIF(Tabulka5[Data],D1241))","v":""},"","","",""]
[null,null,null,null,{"$f":"IF(D1242=\"\",\"\",COUNTIF(Tabulka5[Data],D1242))","v":""},"","","",""]
[null,null,null,null,{"$f":"IF(D1243=\"\",\"\",COUNTIF(Tabulka5[Data],D1243))","v":""},"","","",""]
[null,null,null,null,{"$f":"IF(D1244=\"\",\"\",COUNTIF(Tabulka5[Data],D1244))","v":""},"","","",""]
[null,null,null,null,{"$f":"IF(D1245=\"\",\"\",COUNTIF(Tabulka5[Data],D1245))","v":""},"","","",""]
[null,null,null,null,{"$f":"IF(D1246=\"\",\"\",COUNTIF(Tabulka5[Data],D1246))","v":""},"","","",""]
[null,null,null,null,{"$f":"IF(D1247=\"\",\"\",COUNTIF(Tabulka5[Data],D1247))","v":""},"","","",""]
[null,null,null,null,{"$f":"IF(D1248=\"\",\"\",COUNTIF(Tabulka5[Data],D1248))","v":""},"","","",""]
[null,null,null,null,{"$f":"IF(D1249=\"\",\"\",COUNTIF(Tabulka5[Data],D1249))","v":""},"","","",""]
[null,null,null,null,{"$f":"IF(D1250=\"\",\"\",COUNTIF(Tabulka5[Data],D1250))","v":""},"","","",""]
[null,null,null,null,{"$f":"IF(D1251=\"\",\"\",COUNTIF(Tabulka5[Data],D1251))","v":""},"","","",""]
[null,null,null,null,{"$f":"IF(D1252=\"\",\"\",COUNTIF(Tabulka5[Data],D1252))","v":""},"","","",""]
[null,null,null,null,{"$f":"IF(D1253=\"\",\"\",COUNTIF(Tabulka5[Data],D1253))","v":""},"","","",""]
[null,null,null,null,{"$f":"IF(D1254=\"\",\"\",COUNTIF(Tabulka5[Data],D1254))","v":""},"","","",""]
[null,null,null,null,{"$f":"IF(D1255=\"\",\"\",COUNTIF(Tabulka5[Data],D1255))","v":""},"","","",""]
[null,null,null,null,{"$f":"IF(D1256=\"\",\"\",COUNTIF(Tabulka5[Data],D1256))","v":""},"","","",""]
[null,null,null,null,{"$f":"IF(D1257=\"\",\"\",COUNTIF(Tabulka5[Data],D1257))","v":""},"","","",""]
[null,null,null,null,{"$f":"IF(D1258=\"\",\"\",COUNTIF(Tabulka5[Data],D1258))","v":""},"","","",""]
[null,null,null,null,{"$f":"IF(D1259=\"\",\"\",COUNTIF(Tabulka5[Data],D1259))","v":""},"","","",""]
[null,null,null,null,{"$f":"IF(D1260=\"\",\"\",COUNTIF(Tabulka5[Data],D1260))","v":""},"","","",""]
[null,null,null,null,{"$f":"IF(D1261=\"\",\"\",COUNTIF(Tabulka5[Data],D1261))","v":""},"","","",""]
[null,null,null,null,{"$f":"IF(D1262=\"\",\"\",COUNTIF(Tabulka5[Data],D1262))","v":""},"","","",""]
[null,null,null,null,{"$f":"IF(D1263=\"\",\"\",COUNTIF(Tabulka5[Data],D1263))","v":""},"","","",""]
[null,null,null,null,{"$f":"IF(D1264=\"\",\"\",COUNTIF(Tabulka5[Data],D1264))","v":""},"","","",""]
[null,null,null,null,{"$f":"IF(D1265=\"\",\"\",COUNTIF(Tabulka5[Data],D1265))","v":""},"","","",""]
[null,null,null,null,{"$f":"IF(D1266=\"\",\"\",COUNTIF(Tabulka5[Data],D1266))","v":""},"","","",""]
[null,null,null,null,{"$f":"IF(D1267=\"\",\"\",COUNTIF(Tabulka5[Data],D1267))","v":""},"","","",""]
[null,null,null,null,{"$f":"IF(D1268=\"\",\"\",COUNTIF(Tabulka5[Data],D1268))","v":""},"","","",""]
[null,null,null,null,{"$f":"IF(D1269=\"\",\"\",COUNTIF(Tabulka5[Data],D1269))","v":""},"","","",""]
[null,null,null,null,{"$f":"IF(D1270=\"\",\"\",COUNTIF(Tabulka5[Data],D1270))","v":""},"","","",""]
[null,null,null,null,{"$f":"IF(D1271=\"\",\"\",COUNTIF(Tabulka5[Data],D1271))","v":""},"","","",""]
[null,null,null,null,{"$f":"IF(D1272=\"\",\"\",COUNTIF(Tabulka5[Data],D1272))","v":""},"","","",""]
[null,null,null,null,{"$f":"IF(D1273=\"\",\"\",COUNTIF(Tabulka5[Data],D1273))","v":""},"","","",""]
[null,null,null,null,{"$f":"IF(D1274=\"\",\"\",COUNTIF(Tabulka5[Data],D1274))","v":""},"","","",""]
[null,null,null,null,{"$f":"IF(D1275=\"\",\"\",COUNTIF(Tabulka5[Data],D1275))","v":""},"","","",""]
[null,null,null,null,{"$f":"IF(D1276=\"\",\"\",COUNTIF(Tabulka5[Data],D1276))","v":""},"","","",""]
[null,null,null,null,{"$f":"IF(D1277=\"\",\"\",COUNTIF(Tabulka5[Data],D1277))","v":""},"","","",""]
[null,null,null,null,{"$f":"IF(D1278=\"\",\"\",COUNTIF(Tabulka5[Data],D1278))","v":""},"","","",""]
[null,null,null,null,{"$f":"IF(D1279=\"\",\"\",COUNTIF(Tabulka5[Data],D1279))","v":""},"","","",""]
[null,null,null,null,{"$f":"IF(D1280=\"\",\"\",COUNTIF(Tabulka5[Data],D1280))","v":""},"","","",""]
[null,null,null,null,{"$f":"IF(D1281=\"\",\"\",COUNTIF(Tabulka5[Data],D1281))","v":""},"","","",""]
[null,null,null,null,{"$f":"IF(D1282=\"\",\"\",COUNTIF(Tabulka5[Data],D1282))","v":""},"","","",""]
[null,null,null,null,{"$f":"IF(D1283=\"\",\"\",COUNTIF(Tabulka5[Data],D1283))","v":""},"","","",""]
[null,null,null,null,{"$f":"IF(D1284=\"\",\"\",COUNTIF(Tabulka5[Data],D1284))","v":""},"","","",""]
[null,null,null,null,{"$f":"IF(D1285=\"\",\"\",COUNTIF(Tabulka5[Data],D1285))","v":""},"","","",""]
[null,null,null,null,{"$f":"IF(D1286=\"\",\"\",COUNTIF(Tabulka5[Data],D1286))","v":""},"","","",""]
[null,null,null,null,{"$f":"IF(D1287=\"\",\"\",COUNTIF(Tabulka5[Data],D1287))","v":""},"","","",""]
[null,null,null,null,{"$f":"IF(D1288=\"\",\"\",COUNTIF(Tabulka5[Data],D1288))","v":""},"","","",""]
[null,null,null,null,{"$f":"IF(D1289=\"\",\"\",COUNTIF(Tabulka5[Data],D1289))","v":""},"","","",""]
[null,null,null,null,{"$f":"IF(D1290=\"\",\"\",COUNTIF(Tabulka5[Data],D1290))","v":""},"","","",""]
[null,null,null,null,{"$f":"IF(D1291=\"\",\"\",COUNTIF(Tabulka5[Data],D1291))","v":""},"","","",""]
[null,null,null,null,{"$f":"IF(D1292=\"\",\"\",COUNTIF(Tabulka5[Data],D1292))","v":""},"","","",""]
[null,null,null,null,{"$f":"IF(D1293=\"\",\"\",COUNTIF(Tabulka5[Data],D1293))","v":""},"","","",""]
[null,null,null,null,{"$f":"IF(D1294=\"\",\"\",COUNTIF(Tabulka5[Data],D1294))","v":""},"","","",""]
[null,null,null,null,{"$f":"IF(D1295=\"\",\"\",COUNTIF(Tabulka5[Data],D1295))","v":""},"","","",""]
[null,null,null,null,{"$f":"IF(D1296=\"\",\"\",COUNTIF(Tabulka5[Data],D1296))","v":""},"","","",""]
[null,null,null,null,{"$f":"IF(D1297=\"\",\"\",COUNTIF(Tabulka5[Data],D1297))","v":""},{"$f":"IF(OR($K$11=0,D1297=\"\"),\"\",IF(D1298=\"\",1-I1296,ROUND(E1297/SUM($E$15:$E$6350),3)))","v":""},{"$f":"IF(OR(D1297=\"\",$A$11=\"nominální\"),\"\",G1296+E1297)","v":""},{"$f":"IF(OR($K$11=0,D1297=\"\",$A$11=\"nominální\"),\"\",H1296+F1297)","v":""},{"$f":"IF(OR($K$11=0,D1297=\"\"),\"\",I1296+F1297)","v":""}]
[null,null,null,null,{"$f":"IF(D1298=\"\",\"\",COUNTIF(Tabulka5[Data],D1298))","v":""},"","","",""]
[null,null,null,null,{"$f":"IF(D1299=\"\",\"\",COUNTIF(Tabulka5[Data],D1299))","v":""},"","","",""]
[null,null,null,null,{"$f":"IF(D1300=\"\",\"\",COUNTIF(Tabulka5[Data],D1300))","v":""},"","","",""]
[null,null,null,null,{"$f":"IF(D1301=\"\",\"\",COUNTIF(Tabulka5[Data],D1301))","v":""},"","","",""]
[null,null,null,null,{"$f":"IF(D1302=\"\",\"\",COUNTIF(Tabulka5[Data],D1302))","v":""},"","","",""]
[null,null,null,null,{"$f":"IF(D1303=\"\",\"\",COUNTIF(Tabulka5[Data],D1303))","v":""},"","","",""]
[null,null,null,null,{"$f":"IF(D1304=\"\",\"\",COUNTIF(Tabulka5[Data],D1304))","v":""},"","","",""]
[null,null,null,null,{"$f":"IF(D1305=\"\",\"\",COUNTIF(Tabulka5[Data],D1305))","v":""},"","","",""]
[null,null,null,null,{"$f":"IF(D1306=\"\",\"\",COUNTIF(Tabulka5[Data],D1306))","v":""},"","","",""]
[null,null,null,null,{"$f":"IF(D1307=\"\",\"\",COUNTIF(Tabulka5[Data],D1307))","v":""},"","","",""]
[null,null,null,null,{"$f":"IF(D1308=\"\",\"\",COUNTIF(Tabulka5[Data],D1308))","v":""},"","","",""]
[null,null,null,null,{"$f":"IF(D1309=\"\",\"\",COUNTIF(Tabulka5[Data],D1309))","v":""},"","","",""]
[null,null,null,null,{"$f":"IF(D1310=\"\",\"\",COUNTIF(Tabulka5[Data],D1310))","v":""},"","","",""]
[null,null,null,null,{"$f":"IF(D1311=\"\",\"\",COUNTIF(Tabulka5[Data],D1311))","v":""},"","","",""]
[null,null,null,null,{"$f":"IF(D1312=\"\",\"\",COUNTIF(Tabulka5[Data],D1312))","v":""},"","","",""]
[null,null,null,null,{"$f":"IF(D1313=\"\",\"\",COUNTIF(Tabulka5[Data],D1313))","v":""},"","","",""]
[null,null,null,null,{"$f":"IF(D1314=\"\",\"\",COUNTIF(Tabulka5[Data],D1314))","v":""},"","","",""]
[null,null,null,null,{"$f":"IF(D1315=\"\",\"\",COUNTIF(Tabulka5[Data],D1315))","v":""},"","","",""]
[null,null,null,null,{"$f":"IF(D1316=\"\",\"\",COUNTIF(Tabulka5[Data],D1316))","v":""},"","","",""]
[null,null,null,null,{"$f":"IF(D1317=\"\",\"\",COUNTIF(Tabulka5[Data],D1317))","v":""},"","","",""]
[null,null,null,null,{"$f":"IF(D1318=\"\",\"\",COUNTIF(Tabulka5[Data],D1318))","v":""},"","","",""]
[null,null,null,null,{"$f":"IF(D1319=\"\",\"\",COUNTIF(Tabulka5[Data],D1319))","v":""},"","","",""]
[null,null,null,null,{"$f":"IF(D1320=\"\",\"\",COUNTIF(Tabulka5[Data],D1320))","v":""},"","","",""]
[null,null,null,null,{"$f":"IF(D1321=\"\",\"\",COUNTIF(Tabulka5[Data],D1321))","v":""},"","","",""]
[null,null,null,null,{"$f":"IF(D1322=\"\",\"\",COUNTIF(Tabulka5[Data],D1322))","v":""},"","","",""]
[null,null,null,null,{"$f":"IF(D1323=\"\",\"\",COUNTIF(Tabulka5[Data],D1323))","v":""},"","","",""]
[null,null,null,null,{"$f":"IF(D1324=\"\",\"\",COUNTIF(Tabulka5[Data],D1324))","v":""},"","","",""]
[null,null,null,null,{"$f":"IF(D1325=\"\",\"\",COUNTIF(Tabulka5[Data],D1325))","v":""},"","","",""]
[null,null,null,null,{"$f":"IF(D1326=\"\",\"\",COUNTIF(Tabulka5[Data],D1326))","v":""},"","","",""]
[null,null,null,null,{"$f":"IF(D1327=\"\",\"\",COUNTIF(Tabulka5[Data],D1327))","v":""},"","","",""]
[null,null,null,null,{"$f":"IF(D1328=\"\",\"\",COUNTIF(Tabulka5[Data],D1328))","v":""},"","","",""]
[null,null,null,null,{"$f":"IF(D1329=\"\",\"\",COUNTIF(Tabulka5[Data],D1329))","v":""},"","","",""]
[null,null,null,null,{"$f":"IF(D1330=\"\",\"\",COUNTIF(Tabulka5[Data],D1330))","v":""},"","","",""]
[null,null,null,null,{"$f":"IF(D1331=\"\",\"\",COUNTIF(Tabulka5[Data],D1331))","v":""},"","","",""]
[null,null,null,null,{"$f":"IF(D1332=\"\",\"\",COUNTIF(Tabulka5[Data],D1332))","v":""},"","","",""]
[null,null,null,null,{"$f":"IF(D1333=\"\",\"\",COUNTIF(Tabulka5[Data],D1333))","v":""},"","","",""]
[null,null,null,null,{"$f":"IF(D1334=\"\",\"\",COUNTIF(Tabulka5[Data],D1334))","v":""},"","","",""]
[null,null,null,null,{"$f":"IF(D1335=\"\",\"\",COUNTIF(Tabulka5[Data],D1335))","v":""},"","","",""]
[null,null,null,null,{"$f":"IF(D1336=\"\",\"\",COUNTIF(Tabulka5[Data],D1336))","v":""},"","","",""]
[null,null,null,null,{"$f":"IF(D1337=\"\",\"\",COUNTIF(Tabulka5[Data],D1337))","v":""},"","","",""]
[null,null,null,null,{"$f":"IF(D1338=\"\",\"\",COUNTIF(Tabulka5[Data],D1338))","v":""},"","","",""]
[null,null,null,null,{"$f":"IF(D1339=\"\",\"\",COUNTIF(Tabulka5[Data],D1339))","v":""},"","","",""]
[null,null,null,null,{"$f":"IF(D1340=\"\",\"\",COUNTIF(Tabulka5[Data],D1340))","v":""},"","","",""]
[null,null,null,null,{"$f":"IF(D1341=\"\",\"\",COUNTIF(Tabulka5[Data],D1341))","v":""},"","","",""]
[null,null,null,null,{"$f":"IF(D1342=\"\",\"\",COUNTIF(Tabulka5[Data],D1342))","v":""},"","","",""]
[null,null,null,null,{"$f":"IF(D1343=\"\",\"\",COUNTIF(Tabulka5[Data],D1343))","v":""},"","","",""]
[null,null,null,null,{"$f":"IF(D1344=\"\",\"\",COUNTIF(Tabulka5[Data],D1344))","v":""},"","","",""]
[null,null,null,null,{"$f":"IF(D1345=\"\",\"\",COUNTIF(Tabulka5[Data],D1345))","v":""},"","","",""]
[null,null,null,null,{"$f":"IF(D1346=\"\",\"\",COUNTIF(Tabulka5[Data],D1346))","v":""},"","","",""]
[null,null,null,null,{"$f":"IF(D1347=\"\",\"\",COUNTIF(Tabulka5[Data],D1347))","v":""},"","","",""]
[null,null,null,null,{"$f":"IF(D1348=\"\",\"\",COUNTIF(Tabulka5[Data],D1348))","v":""},"","","",""]
[null,null,null,null,{"$f":"IF(D1349=\"\",\"\",COUNTIF(Tabulka5[Data],D1349))","v":""},"","","",""]
[null,null,null,null,{"$f":"IF(D1350=\"\",\"\",COUNTIF(Tabulka5[Data],D1350))","v":""},"","","",""]
[null,null,null,null,{"$f":"IF(D1351=\"\",\"\",COUNTIF(Tabulka5[Data],D1351))","v":""},"","","",""]
[null,null,null,null,{"$f":"IF(D1352=\"\",\"\",COUNTIF(Tabulka5[Data],D1352))","v":""},"","","",""]
[null,null,null,null,{"$f":"IF(D1353=\"\",\"\",COUNTIF(Tabulka5[Data],D1353))","v":""},"","","",""]
[null,null,null,null,{"$f":"IF(D1354=\"\",\"\",COUNTIF(Tabulka5[Data],D1354))","v":""},"","","",""]
[null,null,null,null,{"$f":"IF(D1355=\"\",\"\",COUNTIF(Tabulka5[Data],D1355))","v":""},"","","",""]
[null,null,null,null,{"$f":"IF(D1356=\"\",\"\",COUNTIF(Tabulka5[Data],D1356))","v":""},"","","",""]
[null,null,null,null,{"$f":"IF(D1357=\"\",\"\",COUNTIF(Tabulka5[Data],D1357))","v":""},"","","",""]
[null,null,null,null,{"$f":"IF(D1358=\"\",\"\",COUNTIF(Tabulka5[Data],D1358))","v":""},"","","",""]
[null,null,null,null,{"$f":"IF(D1359=\"\",\"\",COUNTIF(Tabulka5[Data],D1359))","v":""},"","","",""]
[null,null,null,null,{"$f":"IF(D1360=\"\",\"\",COUNTIF(Tabulka5[Data],D1360))","v":""},"","","",""]
[null,null,null,null,{"$f":"IF(D1361=\"\",\"\",COUNTIF(Tabulka5[Data],D1361))","v":""},{"$f":"IF(OR($K$11=0,D1361=\"\"),\"\",IF(D1362=\"\",1-I1360,ROUND(E1361/SUM($E$15:$E$6350),3)))","v":""},{"$f":"IF(OR(D1361=\"\",$A$11=\"nominální\"),\"\",G1360+E1361)","v":""},{"$f":"IF(OR($K$11=0,D1361=\"\",$A$11=\"nominální\"),\"\",H1360+F1361)","v":""},{"$f":"IF(OR($K$11=0,D1361=\"\"),\"\",I1360+F1361)","v":""}]
[null,null,null,null,{"$f":"IF(D1362=\"\",\"\",COUNTIF(Tabulka5[Data],D1362))","v":""},"","","",""]
[null,null,null,null,{"$f":"IF(D1363=\"\",\"\",COUNTIF(Tabulka5[Data],D1363))","v":""},"","","",""]
[null,null,null,null,{"$f":"IF(D1364=\"\",\"\",COUNTIF(Tabulka5[Data],D1364))","v":""},"","","",""]
[null,null,null,null,{"$f":"IF(D1365=\"\",\"\",COUNTIF(Tabulka5[Data],D1365))","v":""},"","","",""]
[null,null,null,null,{"$f":"IF(D1366=\"\",\"\",COUNTIF(Tabulka5[Data],D1366))","v":""},"","","",""]
[null,null,null,null,{"$f":"IF(D1367=\"\",\"\",COUNTIF(Tabulka5[Data],D1367))","v":""},"","","",""]
[null,null,null,null,{"$f":"IF(D1368=\"\",\"\",COUNTIF(Tabulka5[Data],D1368))","v":""},"","","",""]
[null,null,null,null,{"$f":"IF(D1369=\"\",\"\",COUNTIF(Tabulka5[Data],D1369))","v":""},"","","",""]
[null,null,null,null,{"$f":"IF(D1370=\"\",\"\",COUNTIF(Tabulka5[Data],D1370))","v":""},"","","",""]
[null,null,null,null,{"$f":"IF(D1371=\"\",\"\",COUNTIF(Tabulka5[Data],D1371))","v":""},"","","",""]
[null,null,null,null,{"$f":"IF(D1372=\"\",\"\",COUNTIF(Tabulka5[Data],D1372))","v":""},"","","",""]
[null,null,null,null,{"$f":"IF(D1373=\"\",\"\",COUNTIF(Tabulka5[Data],D1373))","v":""},"","","",""]
[null,null,null,null,{"$f":"IF(D1374=\"\",\"\",COUNTIF(Tabulka5[Data],D1374))","v":""},"","","",""]
[null,null,null,null,{"$f":"IF(D1375=\"\",\"\",COUNTIF(Tabulka5[Data],D1375))","v":""},"","","",""]
[null,null,null,null,{"$f":"IF(D1376=\"\",\"\",COUNTIF(Tabulka5[Data],D1376))","v":""},"","","",""]
[null,null,null,null,{"$f":"IF(D1377=\"\",\"\",COUNTIF(Tabulka5[Data],D1377))","v":""},"","","",""]
[null,null,null,null,{"$f":"IF(D1378=\"\",\"\",COUNTIF(Tabulka5[Data],D1378))","v":""},"","","",""]
[null,null,null,null,{"$f":"IF(D1379=\"\",\"\",COUNTIF(Tabulka5[Data],D1379))","v":""},"","","",""]
[null,null,null,null,{"$f":"IF(D1380=\"\",\"\",COUNTIF(Tabulka5[Data],D1380))","v":""},"","","",""]
[null,null,null,null,{"$f":"IF(D1381=\"\",\"\",COUNTIF(Tabulka5[Data],D1381))","v":""},"","","",""]
[null,null,null,null,{"$f":"IF(D1382=\"\",\"\",COUNTIF(Tabulka5[Data],D1382))","v":""},"","","",""]
[null,null,null,null,{"$f":"IF(D1383=\"\",\"\",COUNTIF(Tabulka5[Data],D1383))","v":""},"","","",""]
[null,null,null,null,{"$f":"IF(D1384=\"\",\"\",COUNTIF(Tabulka5[Data],D1384))","v":""},"","","",""]
[null,null,null,null,{"$f":"IF(D1385=\"\",\"\",COUNTIF(Tabulka5[Data],D1385))","v":""},"","","",""]
[null,null,null,null,{"$f":"IF(D1386=\"\",\"\",COUNTIF(Tabulka5[Data],D1386))","v":""},"","","",""]
[null,null,null,null,{"$f":"IF(D1387=\"\",\"\",COUNTIF(Tabulka5[Data],D1387))","v":""},"","","",""]
[null,null,null,null,{"$f":"IF(D1388=\"\",\"\",COUNTIF(Tabulka5[Data],D1388))","v":""},"","","",""]
[null,null,null,null,{"$f":"IF(D1389=\"\",\"\",COUNTIF(Tabulka5[Data],D1389))","v":""},"","","",""]
[null,null,null,null,{"$f":"IF(D1390=\"\",\"\",COUNTIF(Tabulka5[Data],D1390))","v":""},"","","",""]
[null,null,null,null,{"$f":"IF(D1391=\"\",\"\",COUNTIF(Tabulka5[Data],D1391))","v":""},"","","",""]
[null,null,null,null,{"$f":"IF(D1392=\"\",\"\",COUNTIF(Tabulka5[Data],D1392))","v":""},"","","",""]
[null,null,null,null,{"$f":"IF(D1393=\"\",\"\",COUNTIF(Tabulka5[Data],D1393))","v":""},"","","",""]
[null,null,null,null,{"$f":"IF(D1394=\"\",\"\",COUNTIF(Tabulka5[Data],D1394))","v":""},"","","",""]
[null,null,null,null,{"$f":"IF(D1395=\"\",\"\",COUNTIF(Tabulka5[Data],D1395))","v":""},"","","",""]
[null,null,null,null,{"$f":"IF(D1396=\"\",\"\",COUNTIF(Tabulka5[Data],D1396))","v":""},"","","",""]
[null,null,null,null,{"$f":"IF(D1397=\"\",\"\",COUNTIF(Tabulka5[Data],D1397))","v":""},"","","",""]
[null,null,null,null,{"$f":"IF(D1398=\"\",\"\",COUNTIF(Tabulka5[Data],D1398))","v":""},"","","",""]
[null,null,null,null,{"$f":"IF(D1399=\"\",\"\",COUNTIF(Tabulka5[Data],D1399))","v":""},"","","",""]
[null,null,null,null,{"$f":"IF(D1400=\"\",\"\",COUNTIF(Tabulka5[Data],D1400))","v":""},"","","",""]
[null,null,null,null,{"$f":"IF(D1401=\"\",\"\",COUNTIF(Tabulka5[Data],D1401))","v":""},"","","",""]
[null,null,null,null,{"$f":"IF(D1402=\"\",\"\",COUNTIF(Tabulka5[Data],D1402))","v":""},"","","",""]
[null,null,null,null,{"$f":"IF(D1403=\"\",\"\",COUNTIF(Tabulka5[Data],D1403))","v":""},"","","",""]
[null,null,null,null,{"$f":"IF(D1404=\"\",\"\",COUNTIF(Tabulka5[Data],D1404))","v":""},"","","",""]
[null,null,null,null,{"$f":"IF(D1405=\"\",\"\",COUNTIF(Tabulka5[Data],D1405))","v":""},"","","",""]
[null,null,null,null,{"$f":"IF(D1406=\"\",\"\",COUNTIF(Tabulka5[Data],D1406))","v":""},"","","",""]
[null,null,null,null,{"$f":"IF(D1407=\"\",\"\",COUNTIF(Tabulka5[Data],D1407))","v":""},"","","",""]
[null,null,null,null,{"$f":"IF(D1408=\"\",\"\",COUNTIF(Tabulka5[Data],D1408))","v":""},"","","",""]
[null,null,null,null,{"$f":"IF(D1409=\"\",\"\",COUNTIF(Tabulka5[Data],D1409))","v":""},"","","",""]
[null,null,null,null,{"$f":"IF(D1410=\"\",\"\",COUNTIF(Tabulka5[Data],D1410))","v":""},"","","",""]
[null,null,null,null,{"$f":"IF(D1411=\"\",\"\",COUNTIF(Tabulka5[Data],D1411))","v":""},"","","",""]
[null,null,null,null,{"$f":"IF(D1412=\"\",\"\",COUNTIF(Tabulka5[Data],D1412))","v":""},"","","",""]
[null,null,null,null,{"$f":"IF(D1413=\"\",\"\",COUNTIF(Tabulka5[Data],D1413))","v":""},"","","",""]
[null,null,null,null,{"$f":"IF(D1414=\"\",\"\",COUNTIF(Tabulka5[Data],D1414))","v":""},"","","",""]
[null,null,null,null,{"$f":"IF(D1415=\"\",\"\",COUNTIF(Tabulka5[Data],D1415))","v":""},"","","",""]
[null,null,null,null,{"$f":"IF(D1416=\"\",\"\",COUNTIF(Tabulka5[Data],D1416))","v":""},"","","",""]
[null,null,null,null,{"$f":"IF(D1417=\"\",\"\",COUNTIF(Tabulka5[Data],D1417))","v":""},"","","",""]
[null,null,null,null,{"$f":"IF(D1418=\"\",\"\",COUNTIF(Tabulka5[Data],D1418))","v":""},"","","",""]
[null,null,null,null,{"$f":"IF(D1419=\"\",\"\",COUNTIF(Tabulka5[Data],D1419))","v":""},"","","",""]
[null,null,null,null,{"$f":"IF(D1420=\"\",\"\",COUNTIF(Tabulka5[Data],D1420))","v":""},"","","",""]
[null,null,null,null,{"$f":"IF(D1421=\"\",\"\",COUNTIF(Tabulka5[Data],D1421))","v":""},"","","",""]
[null,null,null,null,{"$f":"IF(D1422=\"\",\"\",COUNTIF(Tabulka5[Data],D1422))","v":""},"","","",""]
[null,null,null,null,{"$f":"IF(D1423=\"\",\"\",COUNTIF(Tabulka5[Data],D1423))","v":""},"","","",""]
[null,null,null,null,{"$f":"IF(D1424=\"\",\"\",COUNTIF(Tabulka5[Data],D1424))","v":""},"","","",""]
[null,null,null,null,{"$f":"IF(D1425=\"\",\"\",COUNTIF(Tabulka5[Data],D1425))","v":""},{"$f":"IF(OR($K$11=0,D1425=\"\"),\"\",IF(D1426=\"\",1-I1424,ROUND(E1425/SUM($E$15:$E$6350),3)))","v":""},{"$f":"IF(OR(D1425=\"\",$A$11=\"nominální\"),\"\",G1424+E1425)","v":""},{"$f":"IF(OR($K$11=0,D1425=\"\",$A$11=\"nominální\"),\"\",H1424+F1425)","v":""},{"$f":"IF(OR($K$11=0,D1425=\"\"),\"\",I1424+F1425)","v":""}]
[null,null,null,null,{"$f":"IF(D1426=\"\",\"\",COUNTIF(Tabulka5[Data],D1426))","v":""},"","","",""]
[null,null,null,null,{"$f":"IF(D1427=\"\",\"\",COUNTIF(Tabulka5[Data],D1427))","v":""},"","","",""]
[null,null,null,null,{"$f":"IF(D1428=\"\",\"\",COUNTIF(Tabulka5[Data],D1428))","v":""},"","","",""]
[null,null,null,null,{"$f":"IF(D1429=\"\",\"\",COUNTIF(Tabulka5[Data],D1429))","v":""},"","","",""]
[null,null,null,null,{"$f":"IF(D1430=\"\",\"\",COUNTIF(Tabulka5[Data],D1430))","v":""},"","","",""]
[null,null,null,null,{"$f":"IF(D1431=\"\",\"\",COUNTIF(Tabulka5[Data],D1431))","v":""},"","","",""]
[null,null,null,null,{"$f":"IF(D1432=\"\",\"\",COUNTIF(Tabulka5[Data],D1432))","v":""},"","","",""]
[null,null,null,null,{"$f":"IF(D1433=\"\",\"\",COUNTIF(Tabulka5[Data],D1433))","v":""},"","","",""]
[null,null,null,null,{"$f":"IF(D1434=\"\",\"\",COUNTIF(Tabulka5[Data],D1434))","v":""},"","","",""]
[null,null,null,null,{"$f":"IF(D1435=\"\",\"\",COUNTIF(Tabulka5[Data],D1435))","v":""},"","","",""]
[null,null,null,null,{"$f":"IF(D1436=\"\",\"\",COUNTIF(Tabulka5[Data],D1436))","v":""},"","","",""]
[null,null,null,null,{"$f":"IF(D1437=\"\",\"\",COUNTIF(Tabulka5[Data],D1437))","v":""},"","","",""]
[null,null,null,null,{"$f":"IF(D1438=\"\",\"\",COUNTIF(Tabulka5[Data],D1438))","v":""},"","","",""]
[null,null,null,null,{"$f":"IF(D1439=\"\",\"\",COUNTIF(Tabulka5[Data],D1439))","v":""},"","","",""]
[null,null,null,null,{"$f":"IF(D1440=\"\",\"\",COUNTIF(Tabulka5[Data],D1440))","v":""},"","","",""]
[null,null,null,null,{"$f":"IF(D1441=\"\",\"\",COUNTIF(Tabulka5[Data],D1441))","v":""},"","","",""]
[null,null,null,null,{"$f":"IF(D1442=\"\",\"\",COUNTIF(Tabulka5[Data],D1442))","v":""},"","","",""]
[null,null,null,null,{"$f":"IF(D1443=\"\",\"\",COUNTIF(Tabulka5[Data],D1443))","v":""},"","","",""]
[null,null,null,null,{"$f":"IF(D1444=\"\",\"\",COUNTIF(Tabulka5[Data],D1444))","v":""},"","","",""]
[null,null,null,null,{"$f":"IF(D1445=\"\",\"\",COUNTIF(Tabulka5[Data],D1445))","v":""},"","","",""]
[null,null,null,null,{"$f":"IF(D1446=\"\",\"\",COUNTIF(Tabulka5[Data],D1446))","v":""},"","","",""]
[null,null,null,null,{"$f":"IF(D1447=\"\",\"\",COUNTIF(Tabulka5[Data],D1447))","v":""},"","","",""]
[null,null,null,null,{"$f":"IF(D1448=\"\",\"\",COUNTIF(Tabulka5[Data],D1448))","v":""},"","","",""]
[null,null,null,null,{"$f":"IF(D1449=\"\",\"\",COUNTIF(Tabulka5[Data],D1449))","v":""},"","","",""]
[null,null,null,null,{"$f":"IF(D1450=\"\",\"\",COUNTIF(Tabulka5[Data],D1450))","v":""},"","","",""]
[null,null,null,null,{"$f":"IF(D1451=\"\",\"\",COUNTIF(Tabulka5[Data],D1451))","v":""},"","","",""]
[null,null,null,null,{"$f":"IF(D1452=\"\",\"\",COUNTIF(Tabulka5[Data],D1452))","v":""},"","","",""]
[null,null,null,null,{"$f":"IF(D1453=\"\",\"\",COUNTIF(Tabulka5[Data],D1453))","v":""},"","","",""]
[null,null,null,null,{"$f":"IF(D1454=\"\",\"\",COUNTIF(Tabulka5[Data],D1454))","v":""},"","","",""]
[null,null,null,null,{"$f":"IF(D1455=\"\",\"\",COUNTIF(Tabulka5[Data],D1455))","v":""},"","","",""]
[null,null,null,null,{"$f":"IF(D1456=\"\",\"\",COUNTIF(Tabulka5[Data],D1456))","v":""},"","","",""]
[null,null,null,null,{"$f":"IF(D1457=\"\",\"\",COUNTIF(Tabulka5[Data],D1457))","v":""},"","","",""]
[null,null,null,null,{"$f":"IF(D1458=\"\",\"\",COUNTIF(Tabulka5[Data],D1458))","v":""},"","","",""]
[null,null,null,null,{"$f":"IF(D1459=\"\",\"\",COUNTIF(Tabulka5[Data],D1459))","v":""},"","","",""]
[null,null,null,null,{"$f":"IF(D1460=\"\",\"\",COUNTIF(Tabulka5[Data],D1460))","v":""},"","","",""]
[null,null,null,null,{"$f":"IF(D1461=\"\",\"\",COUNTIF(Tabulka5[Data],D1461))","v":""},"","","",""]
[null,null,null,null,{"$f":"IF(D1462=\"\",\"\",COUNTIF(Tabulka5[Data],D1462))","v":""},"","","",""]
[null,null,null,null,{"$f":"IF(D1463=\"\",\"\",COUNTIF(Tabulka5[Data],D1463))","v":""},"","","",""]
[null,null,null,null,{"$f":"IF(D1464=\"\",\"\",COUNTIF(Tabulka5[Data],D1464))","v":""},"","","",""]
[null,null,null,null,{"$f":"IF(D1465=\"\",\"\",COUNTIF(Tabulka5[Data],D1465))","v":""},"","","",""]
[null,null,null,null,{"$f":"IF(D1466=\"\",\"\",COUNTIF(Tabulka5[Data],D1466))","v":""},"","","",""]
[null,null,null,null,{"$f":"IF(D1467=\"\",\"\",COUNTIF(Tabulka5[Data],D1467))","v":""},"","","",""]
[null,null,null,null,{"$f":"IF(D1468=\"\",\"\",COUNTIF(Tabulka5[Data],D1468))","v":""},"","","",""]
[null,null,null,null,{"$f":"IF(D1469=\"\",\"\",COUNTIF(Tabulka5[Data],D1469))","v":""},"","","",""]
[null,null,null,null,{"$f":"IF(D1470=\"\",\"\",COUNTIF(Tabulka5[Data],D1470))","v":""},"","","",""]
[null,null,null,null,{"$f":"IF(D1471=\"\",\"\",COUNTIF(Tabulka5[Data],D1471))","v":""},"","","",""]
[null,null,null,null,{"$f":"IF(D1472=\"\",\"\",COUNTIF(Tabulka5[Data],D1472))","v":""},"","","",""]
[null,null,null,null,{"$f":"IF(D1473=\"\",\"\",COUNTIF(Tabulka5[Data],D1473))","v":""},"","","",""]
[null,null,null,null,{"$f":"IF(D1474=\"\",\"\",COUNTIF(Tabulka5[Data],D1474))","v":""},"","","",""]
[null,null,null,null,{"$f":"IF(D1475=\"\",\"\",COUNTIF(Tabulka5[Data],D1475))","v":""},"","","",""]
[null,null,null,null,{"$f":"IF(D1476=\"\",\"\",COUNTIF(Tabulka5[Data],D1476))","v":""},"","","",""]
[null,null,null,null,{"$f":"IF(D1477=\"\",\"\",COUNTIF(Tabulka5[Data],D1477))","v":""},"","","",""]
[null,null,null,null,{"$f":"IF(D1478=\"\",\"\",COUNTIF(Tabulka5[Data],D1478))","v":""},"","","",""]
[null,null,null,null,{"$f":"IF(D1479=\"\",\"\",COUNTIF(Tabulka5[Data],D1479))","v":""},"","","",""]
[null,null,null,null,{"$f":"IF(D1480=\"\",\"\",COUNTIF(Tabulka5[Data],D1480))","v":""},"","","",""]
[null,null,null,null,{"$f":"IF(D1481=\"\",\"\",COUNTIF(Tabulka5[Data],D1481))","v":""},"","","",""]
[null,null,null,null,{"$f":"IF(D1482=\"\",\"\",COUNTIF(Tabulka5[Data],D1482))","v":""},"","","",""]
[null,null,null,null,{"$f":"IF(D1483=\"\",\"\",COUNTIF(Tabulka5[Data],D1483))","v":""},"","","",""]
[null,null,null,null,{"$f":"IF(D1484=\"\",\"\",COUNTIF(Tabulka5[Data],D1484))","v":""},"","","",""]
[null,null,null,null,{"$f":"IF(D1485=\"\",\"\",COUNTIF(Tabulka5[Data],D1485))","v":""},"","","",""]
[null,null,null,null,{"$f":"IF(D1486=\"\",\"\",COUNTIF(Tabulka5[Data],D1486))","v":""},"","","",""]
[null,null,null,null,{"$f":"IF(D1487=\"\",\"\",COUNTIF(Tabulka5[Data],D1487))","v":""},"","","",""]
[null,null,null,null,{"$f":"IF(D1488=\"\",\"\",COUNTIF(Tabulka5[Data],D1488))","v":""},"","","",""]
[null,null,null,null,{"$f":"IF(D1489=\"\",\"\",COUNTIF(Tabulka5[Data],D1489))","v":""},{"$f":"IF(OR($K$11=0,D1489=\"\"),\"\",IF(D1490=\"\",1-I1488,ROUND(E1489/SUM($E$15:$E$6350),3)))","v":""},{"$f":"IF(OR(D1489=\"\",$A$11=\"nominální\"),\"\",G1488+E1489)","v":""},{"$f":"IF(OR($K$11=0,D1489=\"\",$A$11=\"nominální\"),\"\",H1488+F1489)","v":""},{"$f":"IF(OR($K$11=0,D1489=\"\"),\"\",I1488+F1489)","v":""}]
[null,null,null,null,{"$f":"IF(D1490=\"\",\"\",COUNTIF(Tabulka5[Data],D1490))","v":""},"","","",""]
[null,null,null,null,{"$f":"IF(D1491=\"\",\"\",COUNTIF(Tabulka5[Data],D1491))","v":""},"","","",""]
[null,null,null,null,{"$f":"IF(D1492=\"\",\"\",COUNTIF(Tabulka5[Data],D1492))","v":""},"","","",""]
[null,null,null,null,{"$f":"IF(D1493=\"\",\"\",COUNTIF(Tabulka5[Data],D1493))","v":""},"","","",""]
[null,null,null,null,{"$f":"IF(D1494=\"\",\"\",COUNTIF(Tabulka5[Data],D1494))","v":""},"","","",""]
[null,null,null,null,{"$f":"IF(D1495=\"\",\"\",COUNTIF(Tabulka5[Data],D1495))","v":""},"","","",""]
[null,null,null,null,{"$f":"IF(D1496=\"\",\"\",COUNTIF(Tabulka5[Data],D1496))","v":""},"","","",""]
[null,null,null,null,{"$f":"IF(D1497=\"\",\"\",COUNTIF(Tabulka5[Data],D1497))","v":""},"","","",""]
[null,null,null,null,{"$f":"IF(D1498=\"\",\"\",COUNTIF(Tabulka5[Data],D1498))","v":""},"","","",""]
[null,null,null,null,{"$f":"IF(D1499=\"\",\"\",COUNTIF(Tabulka5[Data],D1499))","v":""},"","","",""]
[null,null,null,null,{"$f":"IF(D1500=\"\",\"\",COUNTIF(Tabulka5[Data],D1500))","v":""},"","","",""]
[null,null,null,null,{"$f":"IF(D1501=\"\",\"\",COUNTIF(Tabulka5[Data],D1501))","v":""},"","","",""]
[null,null,null,null,{"$f":"IF(D1502=\"\",\"\",COUNTIF(Tabulka5[Data],D1502))","v":""},"","","",""]
[null,null,null,null,{"$f":"IF(D1503=\"\",\"\",COUNTIF(Tabulka5[Data],D1503))","v":""},"","","",""]
[null,null,null,null,{"$f":"IF(D1504=\"\",\"\",COUNTIF(Tabulka5[Data],D1504))","v":""},"","","",""]
[null,null,null,null,{"$f":"IF(D1505=\"\",\"\",COUNTIF(Tabulka5[Data],D1505))","v":""},"","","",""]
[null,null,null,null,{"$f":"IF(D1506=\"\",\"\",COUNTIF(Tabulka5[Data],D1506))","v":""},"","","",""]
[null,null,null,null,{"$f":"IF(D1507=\"\",\"\",COUNTIF(Tabulka5[Data],D1507))","v":""},"","","",""]
[null,null,null,null,{"$f":"IF(D1508=\"\",\"\",COUNTIF(Tabulka5[Data],D1508))","v":""},"","","",""]
[null,null,null,null,{"$f":"IF(D1509=\"\",\"\",COUNTIF(Tabulka5[Data],D1509))","v":""},"","","",""]
[null,null,null,null,{"$f":"IF(D1510=\"\",\"\",COUNTIF(Tabulka5[Data],D1510))","v":""},"","","",""]
[null,null,null,null,{"$f":"IF(D1511=\"\",\"\",COUNTIF(Tabulka5[Data],D1511))","v":""},"","","",""]
[null,null,null,null,{"$f":"IF(D1512=\"\",\"\",COUNTIF(Tabulka5[Data],D1512))","v":""},"","","",""]
[null,null,null,null,{"$f":"IF(D1513=\"\",\"\",COUNTIF(Tabulka5[Data],D1513))","v":""},"","","",""]
[null,null,null,null,{"$f":"IF(D1514=\"\",\"\",COUNTIF(Tabulka5[Data],D1514))","v":""},"","","",""]
[null,null,null,null,{"$f":"IF(D1515=\"\",\"\",COUNTIF(Tabulka5[Data],D1515))","v":""},"","","",""]
[null,null,null,null,{"$f":"IF(D1516=\"\",\"\",COUNTIF(Tabulka5[Data],D1516))","v":""},"","","",""]
[null,null,null,null,{"$f":"IF(D1517=\"\",\"\",COUNTIF(Tabulka5[Data],D1517))","v":""},"","","",""]
[null,null,null,null,{"$f":"IF(D1518=\"\",\"\",COUNTIF(Tabulka5[Data],D1518))","v":""},"","","",""]
[null,null,null,null,{"$f":"IF(D1519=\"\",\"\",COUNTIF(Tabulka5[Data],D1519))","v":""},"","","",""]
[null,null,null,null,{"$f":"IF(D1520=\"\",\"\",COUNTIF(Tabulka5[Data],D1520))","v":""},"","","",""]
[null,null,null,null,{"$f":"IF(D1521=\"\",\"\",COUNTIF(Tabulka5[Data],D1521))","v":""},"","","",""]
[null,null,null,null,{"$f":"IF(D1522=\"\",\"\",COUNTIF(Tabulka5[Data],D1522))","v":""},"","","",""]
[null,null,null,null,{"$f":"IF(D1523=\"\",\"\",COUNTIF(Tabulka5[Data],D1523))","v":""},"","","",""]
[null,null,null,null,{"$f":"IF(D1524=\"\",\"\",COUNTIF(Tabulka5[Data],D1524))","v":""},"","","",""]
[null,null,null,null,{"$f":"IF(D1525=\"\",\"\",COUNTIF(Tabulka5[Data],D1525))","v":""},"","","",""]
[null,null,null,null,{"$f":"IF(D1526=\"\",\"\",COUNTIF(Tabulka5[Data],D1526))","v":""},"","","",""]
[null,null,null,null,{"$f":"IF(D1527=\"\",\"\",COUNTIF(Tabulka5[Data],D1527))","v":""},"","","",""]
[null,null,null,null,{"$f":"IF(D1528=\"\",\"\",COUNTIF(Tabulka5[Data],D1528))","v":""},"","","",""]
[null,null,null,null,{"$f":"IF(D1529=\"\",\"\",COUNTIF(Tabulka5[Data],D1529))","v":""},"","","",""]
[null,null,null,null,{"$f":"IF(D1530=\"\",\"\",COUNTIF(Tabulka5[Data],D1530))","v":""},"","","",""]
[null,null,null,null,{"$f":"IF(D1531=\"\",\"\",COUNTIF(Tabulka5[Data],D1531))","v":""},"","","",""]
[null,null,null,null,{"$f":"IF(D1532=\"\",\"\",COUNTIF(Tabulka5[Data],D1532))","v":""},"","","",""]
[null,null,null,null,{"$f":"IF(D1533=\"\",\"\",COUNTIF(Tabulka5[Data],D1533))","v":""},"","","",""]
[null,null,null,null,{"$f":"IF(D1534=\"\",\"\",COUNTIF(Tabulka5[Data],D1534))","v":""},"","","",""]
[null,null,null,null,{"$f":"IF(D1535=\"\",\"\",COUNTIF(Tabulka5[Data],D1535))","v":""},"","","",""]
[null,null,null,null,{"$f":"IF(D1536=\"\",\"\",COUNTIF(Tabulka5[Data],D1536))","v":""},"","","",""]
[null,null,null,null,{"$f":"IF(D1537=\"\",\"\",COUNTIF(Tabulka5[Data],D1537))","v":""},"","","",""]
[null,null,null,null,{"$f":"IF(D1538=\"\",\"\",COUNTIF(Tabulka5[Data],D1538))","v":""},"","","",""]
[null,null,null,null,{"$f":"IF(D1539=\"\",\"\",COUNTIF(Tabulka5[Data],D1539))","v":""},"","","",""]
[null,null,null,null,{"$f":"IF(D1540=\"\",\"\",COUNTIF(Tabulka5[Data],D1540))","v":""},"","","",""]
[null,null,null,null,{"$f":"IF(D1541=\"\",\"\",COUNTIF(Tabulka5[Data],D1541))","v":""},"","","",""]
[null,null,null,null,{"$f":"IF(D1542=\"\",\"\",COUNTIF(Tabulka5[Data],D1542))","v":""},"","","",""]
[null,null,null,null,{"$f":"IF(D1543=\"\",\"\",COUNTIF(Tabulka5[Data],D1543))","v":""},"","","",""]
[null,null,null,null,{"$f":"IF(D1544=\"\",\"\",COUNTIF(Tabulka5[Data],D1544))","v":""},"","","",""]
[null,null,null,null,{"$f":"IF(D1545=\"\",\"\",COUNTIF(Tabulka5[Data],D1545))","v":""},"","","",""]
[null,null,null,null,{"$f":"IF(D1546=\"\",\"\",COUNTIF(Tabulka5[Data],D1546))","v":""},"","","",""]
[null,null,null,null,{"$f":"IF(D1547=\"\",\"\",COUNTIF(Tabulka5[Data],D1547))","v":""},"","","",""]
[null,null,null,null,{"$f":"IF(D1548=\"\",\"\",COUNTIF(Tabulka5[Data],D1548))","v":""},"","","",""]
[null,null,null,null,{"$f":"IF(D1549=\"\",\"\",COUNTIF(Tabulka5[Data],D1549))","v":""},"","","",""]
[null,null,null,null,{"$f":"IF(D1550=\"\",\"\",COUNTIF(Tabulka5[Data],D1550))","v":""},"","","",""]
[null,null,null,null,{"$f":"IF(D1551=\"\",\"\",COUNTIF(Tabulka5[Data],D1551))","v":""},"","","",""]
[null,null,null,null,{"$f":"IF(D1552=\"\",\"\",COUNTIF(Tabulka5[Data],D1552))","v":""},"","","",""]
[null,null,null,null,{"$f":"IF(D1553=\"\",\"\",COUNTIF(Tabulka5[Data],D1553))","v":""},{"$f":"IF(OR($K$11=0,D1553=\"\"),\"\",IF(D1554=\"\",1-I1552,ROUND(E1553/SUM($E$15:$E$6350),3)))","v":""},{"$f":"IF(OR(D1553=\"\",$A$11=\"nominální\"),\"\",G1552+E1553)","v":""},{"$f":"IF(OR($K$11=0,D1553=\"\",$A$11=\"nominální\"),\"\",H1552+F1553)","v":""},{"$f":"IF(OR($K$11=0,D1553=\"\"),\"\",I1552+F1553)","v":""}]
[null,null,null,null,{"$f":"IF(D1554=\"\",\"\",COUNTIF(Tabulka5[Data],D1554))","v":""},"","","",""]
[null,null,null,null,{"$f":"IF(D1555=\"\",\"\",COUNTIF(Tabulka5[Data],D1555))","v":""},"","","",""]
[null,null,null,null,{"$f":"IF(D1556=\"\",\"\",COUNTIF(Tabulka5[Data],D1556))","v":""},"","","",""]
[null,null,null,null,{"$f":"IF(D1557=\"\",\"\",COUNTIF(Tabulka5[Data],D1557))","v":""},"","","",""]
[null,null,null,null,{"$f":"IF(D1558=\"\",\"\",COUNTIF(Tabulka5[Data],D1558))","v":""},"","","",""]
[null,null,null,null,{"$f":"IF(D1559=\"\",\"\",COUNTIF(Tabulka5[Data],D1559))","v":""},"","","",""]
[null,null,null,null,{"$f":"IF(D1560=\"\",\"\",COUNTIF(Tabulka5[Data],D1560))","v":""},"","","",""]
[null,null,null,null,{"$f":"IF(D1561=\"\",\"\",COUNTIF(Tabulka5[Data],D1561))","v":""},"","","",""]
[null,null,null,null,{"$f":"IF(D1562=\"\",\"\",COUNTIF(Tabulka5[Data],D1562))","v":""},"","","",""]
[null,null,null,null,{"$f":"IF(D1563=\"\",\"\",COUNTIF(Tabulka5[Data],D1563))","v":""},"","","",""]
[null,null,null,null,{"$f":"IF(D1564=\"\",\"\",COUNTIF(Tabulka5[Data],D1564))","v":""},"","","",""]
[null,null,null,null,{"$f":"IF(D1565=\"\",\"\",COUNTIF(Tabulka5[Data],D1565))","v":""},"","","",""]
[null,null,null,null,{"$f":"IF(D1566=\"\",\"\",COUNTIF(Tabulka5[Data],D1566))","v":""},"","","",""]
[null,null,null,null,{"$f":"IF(D1567=\"\",\"\",COUNTIF(Tabulka5[Data],D1567))","v":""},"","","",""]
[null,null,null,null,{"$f":"IF(D1568=\"\",\"\",COUNTIF(Tabulka5[Data],D1568))","v":""},"","","",""]
[null,null,null,null,{"$f":"IF(D1569=\"\",\"\",COUNTIF(Tabulka5[Data],D1569))","v":""},"","","",""]
[null,null,null,null,{"$f":"IF(D1570=\"\",\"\",COUNTIF(Tabulka5[Data],D1570))","v":""},"","","",""]
[null,null,null,null,{"$f":"IF(D1571=\"\",\"\",COUNTIF(Tabulka5[Data],D1571))","v":""},"","","",""]
[null,null,null,null,{"$f":"IF(D1572=\"\",\"\",COUNTIF(Tabulka5[Data],D1572))","v":""},"","","",""]
[null,null,null,null,{"$f":"IF(D1573=\"\",\"\",COUNTIF(Tabulka5[Data],D1573))","v":""},"","","",""]
[null,null,null,null,{"$f":"IF(D1574=\"\",\"\",COUNTIF(Tabulka5[Data],D1574))","v":""},"","","",""]
[null,null,null,null,{"$f":"IF(D1575=\"\",\"\",COUNTIF(Tabulka5[Data],D1575))","v":""},"","","",""]
[null,null,null,null,{"$f":"IF(D1576=\"\",\"\",COUNTIF(Tabulka5[Data],D1576))","v":""},"","","",""]
[null,null,null,null,{"$f":"IF(D1577=\"\",\"\",COUNTIF(Tabulka5[Data],D1577))","v":""},"","","",""]
[null,null,null,null,{"$f":"IF(D1578=\"\",\"\",COUNTIF(Tabulka5[Data],D1578))","v":""},"","","",""]
[null,null,null,null,{"$f":"IF(D1579=\"\",\"\",COUNTIF(Tabulka5[Data],D1579))","v":""},"","","",""]
[null,null,null,null,{"$f":"IF(D1580=\"\",\"\",COUNTIF(Tabulka5[Data],D1580))","v":""},"","","",""]
[null,null,null,null,{"$f":"IF(D1581=\"\",\"\",COUNTIF(Tabulka5[Data],D1581))","v":""},"","","",""]
[null,null,null,null,{"$f":"IF(D1582=\"\",\"\",COUNTIF(Tabulka5[Data],D1582))","v":""},"","","",""]
[null,null,null,null,{"$f":"IF(D1583=\"\",\"\",COUNTIF(Tabulka5[Data],D1583))","v":""},"","","",""]
[null,null,null,null,{"$f":"IF(D1584=\"\",\"\",COUNTIF(Tabulka5[Data],D1584))","v":""},"","","",""]
[null,null,null,null,{"$f":"IF(D1585=\"\",\"\",COUNTIF(Tabulka5[Data],D1585))","v":""},"","","",""]
[null,null,null,null,{"$f":"IF(D1586=\"\",\"\",COUNTIF(Tabulka5[Data],D1586))","v":""},"","","",""]
[null,null,null,null,{"$f":"IF(D1587=\"\",\"\",COUNTIF(Tabulka5[Data],D1587))","v":""},"","","",""]
[null,null,null,null,{"$f":"IF(D1588=\"\",\"\",COUNTIF(Tabulka5[Data],D1588))","v":""},"","","",""]
[null,null,null,null,{"$f":"IF(D1589=\"\",\"\",COUNTIF(Tabulka5[Data],D1589))","v":""},"","","",""]
[null,null,null,null,{"$f":"IF(D1590=\"\",\"\",COUNTIF(Tabulka5[Data],D1590))","v":""},"","","",""]
[null,null,null,null,{"$f":"IF(D1591=\"\",\"\",COUNTIF(Tabulka5[Data],D1591))","v":""},"","","",""]
[null,null,null,null,{"$f":"IF(D1592=\"\",\"\",COUNTIF(Tabulka5[Data],D1592))","v":""},"","","",""]
[null,null,null,null,{"$f":"IF(D1593=\"\",\"\",COUNTIF(Tabulka5[Data],D1593))","v":""},"","","",""]
[null,null,null,null,{"$f":"IF(D1594=\"\",\"\",COUNTIF(Tabulka5[Data],D1594))","v":""},"","","",""]
[null,null,null,null,{"$f":"IF(D1595=\"\",\"\",COUNTIF(Tabulka5[Data],D1595))","v":""},"","","",""]
[null,null,null,null,{"$f":"IF(D1596=\"\",\"\",COUNTIF(Tabulka5[Data],D1596))","v":""},"","","",""]
[null,null,null,null,{"$f":"IF(D1597=\"\",\"\",COUNTIF(Tabulka5[Data],D1597))","v":""},"","","",""]
[null,null,null,null,{"$f":"IF(D1598=\"\",\"\",COUNTIF(Tabulka5[Data],D1598))","v":""},"","","",""]
[null,null,null,null,{"$f":"IF(D1599=\"\",\"\",COUNTIF(Tabulka5[Data],D1599))","v":""},"","","",""]
[null,null,null,null,{"$f":"IF(D1600=\"\",\"\",COUNTIF(Tabulka5[Data],D1600))","v":""},"","","",""]
[null,null,null,null,{"$f":"IF(D1601=\"\",\"\",COUNTIF(Tabulka5[Data],D1601))","v":""},"","","",""]
[null,null,null,null,{"$f":"IF(D1602=\"\",\"\",COUNTIF(Tabulka5[Data],D1602))","v":""},"","","",""]
[null,null,null,null,{"$f":"IF(D1603=\"\",\"\",COUNTIF(Tabulka5[Data],D1603))","v":""},"","","",""]
[null,null,null,null,{"$f":"IF(D1604=\"\",\"\",COUNTIF(Tabulka5[Data],D1604))","v":""},"","","",""]
[null,null,null,null,{"$f":"IF(D1605=\"\",\"\",COUNTIF(Tabulka5[Data],D1605))","v":""},"","","",""]
[null,null,null,null,{"$f":"IF(D1606=\"\",\"\",COUNTIF(Tabulka5[Data],D1606))","v":""},"","","",""]
[null,null,null,null,{"$f":"IF(D1607=\"\",\"\",COUNTIF(Tabulka5[Data],D1607))","v":""},"","","",""]
[null,null,null,null,{"$f":"IF(D1608=\"\",\"\",COUNTIF(Tabulka5[Data],D1608))","v":""},"","","",""]
[null,null,null,null,{"$f":"IF(D1609=\"\",\"\",COUNTIF(Tabulka5[Data],D1609))","v":""},"","","",""]
[null,null,null,null,{"$f":"IF(D1610=\"\",\"\",COUNTIF(Tabulka5[Data],D1610))","v":""},"","","",""]
[null,null,null,null,{"$f":"IF(D1611=\"\",\"\",COUNTIF(Tabulka5[Data],D1611))","v":""},"","","",""]
[null,null,null,null,{"$f":"IF(D1612=\"\",\"\",COUNTIF(Tabulka5[Data],D1612))","v":""},"","","",""]
[null,null,null,null,{"$f":"IF(D1613=\"\",\"\",COUNTIF(Tabulka5[Data],D1613))","v":""},"","","",""]
[null,null,null,null,{"$f":"IF(D1614=\"\",\"\",COUNTIF(Tabulka5[Data],D1614))","v":""},"","","",""]
[null,null,null,null,{"$f":"IF(D1615=\"\",\"\",COUNTIF(Tabulka5[Data],D1615))","v":""},"","","",""]
[null,null,null,null,{"$f":"IF(D1616=\"\",\"\",COUNTIF(Tabulka5[Data],D1616))","v":""},"","","",""]
[null,null,null,null,{"$f":"IF(D1617=\"\",\"\",COUNTIF(Tabulka5[Data],D1617))","v":""},{"$f":"IF(OR($K$11=0,D1617=\"\"),\"\",IF(D1618=\"\",1-I1616,ROUND(E1617/SUM($E$15:$E$6350),3)))","v":""},{"$f":"IF(OR(D1617=\"\",$A$11=\"nominální\"),\"\",G1616+E1617)","v":""},{"$f":"IF(OR($K$11=0,D1617=\"\",$A$11=\"nominální\"),\"\",H1616+F1617)","v":""},{"$f":"IF(OR($K$11=0,D1617=\"\"),\"\",I1616+F1617)","v":""}]
[null,null,null,null,{"$f":"IF(D1618=\"\",\"\",COUNTIF(Tabulka5[Data],D1618))","v":""},"","","",""]
[null,null,null,null,{"$f":"IF(D1619=\"\",\"\",COUNTIF(Tabulka5[Data],D1619))","v":""},"","","",""]
[null,null,null,null,{"$f":"IF(D1620=\"\",\"\",COUNTIF(Tabulka5[Data],D1620))","v":""},"","","",""]
[null,null,null,null,{"$f":"IF(D1621=\"\",\"\",COUNTIF(Tabulka5[Data],D1621))","v":""},"","","",""]
[null,null,null,null,{"$f":"IF(D1622=\"\",\"\",COUNTIF(Tabulka5[Data],D1622))","v":""},"","","",""]
[null,null,null,null,{"$f":"IF(D1623=\"\",\"\",COUNTIF(Tabulka5[Data],D1623))","v":""},"","","",""]
[null,null,null,null,{"$f":"IF(D1624=\"\",\"\",COUNTIF(Tabulka5[Data],D1624))","v":""},"","","",""]
[null,null,null,null,{"$f":"IF(D1625=\"\",\"\",COUNTIF(Tabulka5[Data],D1625))","v":""},"","","",""]
[null,null,null,null,{"$f":"IF(D1626=\"\",\"\",COUNTIF(Tabulka5[Data],D1626))","v":""},"","","",""]
[null,null,null,null,{"$f":"IF(D1627=\"\",\"\",COUNTIF(Tabulka5[Data],D1627))","v":""},"","","",""]
[null,null,null,null,{"$f":"IF(D1628=\"\",\"\",COUNTIF(Tabulka5[Data],D1628))","v":""},"","","",""]
[null,null,null,null,{"$f":"IF(D1629=\"\",\"\",COUNTIF(Tabulka5[Data],D1629))","v":""},"","","",""]
[null,null,null,null,{"$f":"IF(D1630=\"\",\"\",COUNTIF(Tabulka5[Data],D1630))","v":""},"","","",""]
[null,null,null,null,{"$f":"IF(D1631=\"\",\"\",COUNTIF(Tabulka5[Data],D1631))","v":""},"","","",""]
[null,null,null,null,{"$f":"IF(D1632=\"\",\"\",COUNTIF(Tabulka5[Data],D1632))","v":""},"","","",""]
[null,null,null,null,{"$f":"IF(D1633=\"\",\"\",COUNTIF(Tabulka5[Data],D1633))","v":""},"","","",""]
[null,null,null,null,{"$f":"IF(D1634=\"\",\"\",COUNTIF(Tabulka5[Data],D1634))","v":""},"","","",""]
[null,null,null,null,{"$f":"IF(D1635=\"\",\"\",COUNTIF(Tabulka5[Data],D1635))","v":""},"","","",""]
[null,null,null,null,{"$f":"IF(D1636=\"\",\"\",COUNTIF(Tabulka5[Data],D1636))","v":""},"","","",""]
[null,null,null,null,{"$f":"IF(D1637=\"\",\"\",COUNTIF(Tabulka5[Data],D1637))","v":""},"","","",""]
[null,null,null,null,{"$f":"IF(D1638=\"\",\"\",COUNTIF(Tabulka5[Data],D1638))","v":""},"","","",""]
[null,null,null,null,{"$f":"IF(D1639=\"\",\"\",COUNTIF(Tabulka5[Data],D1639))","v":""},"","","",""]
[null,null,null,null,{"$f":"IF(D1640=\"\",\"\",COUNTIF(Tabulka5[Data],D1640))","v":""},"","","",""]
[null,null,null,null,{"$f":"IF(D1641=\"\",\"\",COUNTIF(Tabulka5[Data],D1641))","v":""},"","","",""]
[null,null,null,null,{"$f":"IF(D1642=\"\",\"\",COUNTIF(Tabulka5[Data],D1642))","v":""},"","","",""]
[null,null,null,null,{"$f":"IF(D1643=\"\",\"\",COUNTIF(Tabulka5[Data],D1643))","v":""},"","","",""]
[null,null,null,null,{"$f":"IF(D1644=\"\",\"\",COUNTIF(Tabulka5[Data],D1644))","v":""},"","","",""]
[null,null,null,null,{"$f":"IF(D1645=\"\",\"\",COUNTIF(Tabulka5[Data],D1645))","v":""},"","","",""]
[null,null,null,null,{"$f":"IF(D1646=\"\",\"\",COUNTIF(Tabulka5[Data],D1646))","v":""},"","","",""]
[null,null,null,null,{"$f":"IF(D1647=\"\",\"\",COUNTIF(Tabulka5[Data],D1647))","v":""},"","","",""]
[null,null,null,null,{"$f":"IF(D1648=\"\",\"\",COUNTIF(Tabulka5[Data],D1648))","v":""},"","","",""]
[null,null,null,null,{"$f":"IF(D1649=\"\",\"\",COUNTIF(Tabulka5[Data],D1649))","v":""},"","","",""]
[null,null,null,null,{"$f":"IF(D1650=\"\",\"\",COUNTIF(Tabulka5[Data],D1650))","v":""},"","","",""]
[null,null,null,null,{"$f":"IF(D1651=\"\",\"\",COUNTIF(Tabulka5[Data],D1651))","v":""},"","","",""]
[null,null,null,null,{"$f":"IF(D1652=\"\",\"\",COUNTIF(Tabulka5[Data],D1652))","v":""},"","","",""]
[null,null,null,null,{"$f":"IF(D1653=\"\",\"\",COUNTIF(Tabulka5[Data],D1653))","v":""},"","","",""]
[null,null,null,null,{"$f":"IF(D1654=\"\",\"\",COUNTIF(Tabulka5[Data],D1654))","v":""},"","","",""]
[null,null,null,null,{"$f":"IF(D1655=\"\",\"\",COUNTIF(Tabulka5[Data],D1655))","v":""},"","","",""]
[null,null,null,null,{"$f":"IF(D1656=\"\",\"\",COUNTIF(Tabulka5[Data],D1656))","v":""},"","","",""]
[null,null,null,null,{"$f":"IF(D1657=\"\",\"\",COUNTIF(Tabulka5[Data],D1657))","v":""},"","","",""]
[null,null,null,null,{"$f":"IF(D1658=\"\",\"\",COUNTIF(Tabulka5[Data],D1658))","v":""},"","","",""]
[null,null,null,null,{"$f":"IF(D1659=\"\",\"\",COUNTIF(Tabulka5[Data],D1659))","v":""},"","","",""]
[null,null,null,null,{"$f":"IF(D1660=\"\",\"\",COUNTIF(Tabulka5[Data],D1660))","v":""},"","","",""]
[null,null,null,null,{"$f":"IF(D1661=\"\",\"\",COUNTIF(Tabulka5[Data],D1661))","v":""},"","","",""]
[null,null,null,null,{"$f":"IF(D1662=\"\",\"\",COUNTIF(Tabulka5[Data],D1662))","v":""},"","","",""]
[null,null,null,null,{"$f":"IF(D1663=\"\",\"\",COUNTIF(Tabulka5[Data],D1663))","v":""},"","","",""]
[null,null,null,null,{"$f":"IF(D1664=\"\",\"\",COUNTIF(Tabulka5[Data],D1664))","v":""},"","","",""]
[null,null,null,null,{"$f":"IF(D1665=\"\",\"\",COUNTIF(Tabulka5[Data],D1665))","v":""},"","","",""]
[null,null,null,null,{"$f":"IF(D1666=\"\",\"\",COUNTIF(Tabulka5[Data],D1666))","v":""},"","","",""]
[null,null,null,null,{"$f":"IF(D1667=\"\",\"\",COUNTIF(Tabulka5[Data],D1667))","v":""},"","","",""]
[null,null,null,null,{"$f":"IF(D1668=\"\",\"\",COUNTIF(Tabulka5[Data],D1668))","v":""},"","","",""]
[null,null,null,null,{"$f":"IF(D1669=\"\",\"\",COUNTIF(Tabulka5[Data],D1669))","v":""},"","","",""]
[null,null,null,null,{"$f":"IF(D1670=\"\",\"\",COUNTIF(Tabulka5[Data],D1670))","v":""},"","","",""]
[null,null,null,null,{"$f":"IF(D1671=\"\",\"\",COUNTIF(Tabulka5[Data],D1671))","v":""},"","","",""]
[null,null,null,null,{"$f":"IF(D1672=\"\",\"\",COUNTIF(Tabulka5[Data],D1672))","v":""},"","","",""]
[null,null,null,null,{"$f":"IF(D1673=\"\",\"\",COUNTIF(Tabulka5[Data],D1673))","v":""},"","","",""]
[null,null,null,null,{"$f":"IF(D1674=\"\",\"\",COUNTIF(Tabulka5[Data],D1674))","v":""},"","","",""]
[null,null,null,null,{"$f":"IF(D1675=\"\",\"\",COUNTIF(Tabulka5[Data],D1675))","v":""},"","","",""]
[null,null,null,null,{"$f":"IF(D1676=\"\",\"\",COUNTIF(Tabulka5[Data],D1676))","v":""},"","","",""]
[null,null,null,null,{"$f":"IF(D1677=\"\",\"\",COUNTIF(Tabulka5[Data],D1677))","v":""},"","","",""]
[null,null,null,null,{"$f":"IF(D1678=\"\",\"\",COUNTIF(Tabulka5[Data],D1678))","v":""},"","","",""]
[null,null,null,null,{"$f":"IF(D1679=\"\",\"\",COUNTIF(Tabulka5[Data],D1679))","v":""},"","","",""]
[null,null,null,null,{"$f":"IF(D1680=\"\",\"\",COUNTIF(Tabulka5[Data],D1680))","v":""},"","","",""]
[null,null,null,null,{"$f":"IF(D1681=\"\",\"\",COUNTIF(Tabulka5[Data],D1681))","v":""},{"$f":"IF(OR($K$11=0,D1681=\"\"),\"\",IF(D1682=\"\",1-I1680,ROUND(E1681/SUM($E$15:$E$6350),3)))","v":""},{"$f":"IF(OR(D1681=\"\",$A$11=\"nominální\"),\"\",G1680+E1681)","v":""},{"$f":"IF(OR($K$11=0,D1681=\"\",$A$11=\"nominální\"),\"\",H1680+F1681)","v":""},{"$f":"IF(OR($K$11=0,D1681=\"\"),\"\",I1680+F1681)","v":""}]
[null,null,null,null,{"$f":"IF(D1682=\"\",\"\",COUNTIF(Tabulka5[Data],D1682))","v":""},"","","",""]
[null,null,null,null,{"$f":"IF(D1683=\"\",\"\",COUNTIF(Tabulka5[Data],D1683))","v":""},"","","",""]
[null,null,null,null,{"$f":"IF(D1684=\"\",\"\",COUNTIF(Tabulka5[Data],D1684))","v":""},"","","",""]
[null,null,null,null,{"$f":"IF(D1685=\"\",\"\",COUNTIF(Tabulka5[Data],D1685))","v":""},"","","",""]
[null,null,null,null,{"$f":"IF(D1686=\"\",\"\",COUNTIF(Tabulka5[Data],D1686))","v":""},"","","",""]
[null,null,null,null,{"$f":"IF(D1687=\"\",\"\",COUNTIF(Tabulka5[Data],D1687))","v":""},"","","",""]
[null,null,null,null,{"$f":"IF(D1688=\"\",\"\",COUNTIF(Tabulka5[Data],D1688))","v":""},"","","",""]
[null,null,null,null,{"$f":"IF(D1689=\"\",\"\",COUNTIF(Tabulka5[Data],D1689))","v":""},"","","",""]
[null,null,null,null,{"$f":"IF(D1690=\"\",\"\",COUNTIF(Tabulka5[Data],D1690))","v":""},"","","",""]
[null,null,null,null,{"$f":"IF(D1691=\"\",\"\",COUNTIF(Tabulka5[Data],D1691))","v":""},"","","",""]
[null,null,null,null,{"$f":"IF(D1692=\"\",\"\",COUNTIF(Tabulka5[Data],D1692))","v":""},"","","",""]
[null,null,null,null,{"$f":"IF(D1693=\"\",\"\",COUNTIF(Tabulka5[Data],D1693))","v":""},"","","",""]
[null,null,null,null,{"$f":"IF(D1694=\"\",\"\",COUNTIF(Tabulka5[Data],D1694))","v":""},"","","",""]
[null,null,null,null,{"$f":"IF(D1695=\"\",\"\",COUNTIF(Tabulka5[Data],D1695))","v":""},"","","",""]
[null,null,null,null,{"$f":"IF(D1696=\"\",\"\",COUNTIF(Tabulka5[Data],D1696))","v":""},"","","",""]
[null,null,null,null,{"$f":"IF(D1697=\"\",\"\",COUNTIF(Tabulka5[Data],D1697))","v":""},"","","",""]
[null,null,null,null,{"$f":"IF(D1698=\"\",\"\",COUNTIF(Tabulka5[Data],D1698))","v":""},"","","",""]
[null,null,null,null,{"$f":"IF(D1699=\"\",\"\",COUNTIF(Tabulka5[Data],D1699))","v":""},"","","",""]
[null,null,null,null,{"$f":"IF(D1700=\"\",\"\",COUNTIF(Tabulka5[Data],D1700))","v":""},"","","",""]
[null,null,null,null,{"$f":"IF(D1701=\"\",\"\",COUNTIF(Tabulka5[Data],D1701))","v":""},"","","",""]
[null,null,null,null,{"$f":"IF(D1702=\"\",\"\",COUNTIF(Tabulka5[Data],D1702))","v":""},"","","",""]
[null,null,null,null,{"$f":"IF(D1703=\"\",\"\",COUNTIF(Tabulka5[Data],D1703))","v":""},"","","",""]
[null,null,null,null,{"$f":"IF(D1704=\"\",\"\",COUNTIF(Tabulka5[Data],D1704))","v":""},"","","",""]
[null,null,null,null,{"$f":"IF(D1705=\"\",\"\",COUNTIF(Tabulka5[Data],D1705))","v":""},"","","",""]
[null,null,null,null,{"$f":"IF(D1706=\"\",\"\",COUNTIF(Tabulka5[Data],D1706))","v":""},"","","",""]
[null,null,null,null,{"$f":"IF(D1707=\"\",\"\",COUNTIF(Tabulka5[Data],D1707))","v":""},"","","",""]
[null,null,null,null,{"$f":"IF(D1708=\"\",\"\",COUNTIF(Tabulka5[Data],D1708))","v":""},"","","",""]
[null,null,null,null,{"$f":"IF(D1709=\"\",\"\",COUNTIF(Tabulka5[Data],D1709))","v":""},"","","",""]
[null,null,null,null,{"$f":"IF(D1710=\"\",\"\",COUNTIF(Tabulka5[Data],D1710))","v":""},"","","",""]
[null,null,null,null,{"$f":"IF(D1711=\"\",\"\",COUNTIF(Tabulka5[Data],D1711))","v":""},"","","",""]
[null,null,null,null,{"$f":"IF(D1712=\"\",\"\",COUNTIF(Tabulka5[Data],D1712))","v":""},"","","",""]
[null,null,null,null,{"$f":"IF(D1713=\"\",\"\",COUNTIF(Tabulka5[Data],D1713))","v":""},"","","",""]
[null,null,null,null,{"$f":"IF(D1714=\"\",\"\",COUNTIF(Tabulka5[Data],D1714))","v":""},"","","",""]
[null,null,null,null,{"$f":"IF(D1715=\"\",\"\",COUNTIF(Tabulka5[Data],D1715))","v":""},"","","",""]
[null,null,null,null,{"$f":"IF(D1716=\"\",\"\",COUNTIF(Tabulka5[Data],D1716))","v":""},"","","",""]
[null,null,null,null,{"$f":"IF(D1717=\"\",\"\",COUNTIF(Tabulka5[Data],D1717))","v":""},"","","",""]
[null,null,null,null,{"$f":"IF(D1718=\"\",\"\",COUNTIF(Tabulka5[Data],D1718))","v":""},"","","",""]
[null,null,null,null,{"$f":"IF(D1719=\"\",\"\",COUNTIF(Tabulka5[Data],D1719))","v":""},"","","",""]
[null,null,null,null,{"$f":"IF(D1720=\"\",\"\",COUNTIF(Tabulka5[Data],D1720))","v":""},"","","",""]
[null,null,null,null,{"$f":"IF(D1721=\"\",\"\",COUNTIF(Tabulka5[Data],D1721))","v":""},"","","",""]
[null,null,null,null,{"$f":"IF(D1722=\"\",\"\",COUNTIF(Tabulka5[Data],D1722))","v":""},"","","",""]
[null,null,null,null,{"$f":"IF(D1723=\"\",\"\",COUNTIF(Tabulka5[Data],D1723))","v":""},"","","",""]
[null,null,null,null,{"$f":"IF(D1724=\"\",\"\",COUNTIF(Tabulka5[Data],D1724))","v":""},"","","",""]
[null,null,null,null,{"$f":"IF(D1725=\"\",\"\",COUNTIF(Tabulka5[Data],D1725))","v":""},"","","",""]
[null,null,null,null,{"$f":"IF(D1726=\"\",\"\",COUNTIF(Tabulka5[Data],D1726))","v":""},"","","",""]
[null,null,null,null,{"$f":"IF(D1727=\"\",\"\",COUNTIF(Tabulka5[Data],D1727))","v":""},"","","",""]
[null,null,null,null,{"$f":"IF(D1728=\"\",\"\",COUNTIF(Tabulka5[Data],D1728))","v":""},"","","",""]
[null,null,null,null,{"$f":"IF(D1729=\"\",\"\",COUNTIF(Tabulka5[Data],D1729))","v":""},"","","",""]
[null,null,null,null,{"$f":"IF(D1730=\"\",\"\",COUNTIF(Tabulka5[Data],D1730))","v":""},"","","",""]
[null,null,null,null,{"$f":"IF(D1731=\"\",\"\",COUNTIF(Tabulka5[Data],D1731))","v":""},"","","",""]
[null,null,null,null,{"$f":"IF(D1732=\"\",\"\",COUNTIF(Tabulka5[Data],D1732))","v":""},"","","",""]
[null,null,null,null,{"$f":"IF(D1733=\"\",\"\",COUNTIF(Tabulka5[Data],D1733))","v":""},"","","",""]
[null,null,null,null,{"$f":"IF(D1734=\"\",\"\",COUNTIF(Tabulka5[Data],D1734))","v":""},"","","",""]
[null,null,null,null,{"$f":"IF(D1735=\"\",\"\",COUNTIF(Tabulka5[Data],D1735))","v":""},"","","",""]
[null,null,null,null,{"$f":"IF(D1736=\"\",\"\",COUNTIF(Tabulka5[Data],D1736))","v":""},"","","",""]
[null,null,null,null,{"$f":"IF(D1737=\"\",\"\",COUNTIF(Tabulka5[Data],D1737))","v":""},"","","",""]
[null,null,null,null,{"$f":"IF(D1738=\"\",\"\",COUNTIF(Tabulka5[Data],D1738))","v":""},"","","",""]
[null,null,null,null,{"$f":"IF(D1739=\"\",\"\",COUNTIF(Tabulka5[Data],D1739))","v":""},"","","",""]
[null,null,null,null,{"$f":"IF(D1740=\"\",\"\",COUNTIF(Tabulka5[Data],D1740))","v":""},"","","",""]
[null,null,null,null,{"$f":"IF(D1741=\"\",\"\",COUNTIF(Tabulka5[Data],D1741))","v":""},"","","",""]
[null,null,null,null,{"$f":"IF(D1742=\"\",\"\",COUNTIF(Tabulka5[Data],D1742))","v":""},"","","",""]
[null,null,null,null,{"$f":"IF(D1743=\"\",\"\",COUNTIF(Tabulka5[Data],D1743))","v":""},"","","",""]
[null,null,null,null,{"$f":"IF(D1744=\"\",\"\",COUNTIF(Tabulka5[Data],D1744))","v":""},"","","",""]
[null,null,null,null,{"$f":"IF(D1745=\"\",\"\",COUNTIF(Tabulka5[Data],D1745))","v":""},{"$f":"IF(OR($K$11=0,D1745=\"\"),\"\",IF(D1746=\"\",1-I1744,ROUND(E1745/SUM($E$15:$E$6350),3)))","v":""},{"$f":"IF(OR(D1745=\"\",$A$11=\"nominální\"),\"\",G1744+E1745)","v":""},{"$f":"IF(OR($K$11=0,D1745=\"\",$A$11=\"nominální\"),\"\",H1744+F1745)","v":""},{"$f":"IF(OR($K$11=0,D1745=\"\"),\"\",I1744+F1745)","v":""}]
[null,null,null,null,{"$f":"IF(D1746=\"\",\"\",COUNTIF(Tabulka5[Data],D1746))","v":""},"","","",""]
[null,null,null,null,{"$f":"IF(D1747=\"\",\"\",COUNTIF(Tabulka5[Data],D1747))","v":""},"","","",""]
[null,null,null,null,{"$f":"IF(D1748=\"\",\"\",COUNTIF(Tabulka5[Data],D1748))","v":""},"","","",""]
[null,null,null,null,{"$f":"IF(D1749=\"\",\"\",COUNTIF(Tabulka5[Data],D1749))","v":""},"","","",""]
[null,null,null,null,{"$f":"IF(D1750=\"\",\"\",COUNTIF(Tabulka5[Data],D1750))","v":""},"","","",""]
[null,null,null,null,{"$f":"IF(D1751=\"\",\"\",COUNTIF(Tabulka5[Data],D1751))","v":""},"","","",""]
[null,null,null,null,{"$f":"IF(D1752=\"\",\"\",COUNTIF(Tabulka5[Data],D1752))","v":""},"","","",""]
[null,null,null,null,{"$f":"IF(D1753=\"\",\"\",COUNTIF(Tabulka5[Data],D1753))","v":""},"","","",""]
[null,null,null,null,{"$f":"IF(D1754=\"\",\"\",COUNTIF(Tabulka5[Data],D1754))","v":""},"","","",""]
[null,null,null,null,{"$f":"IF(D1755=\"\",\"\",COUNTIF(Tabulka5[Data],D1755))","v":""},"","","",""]
[null,null,null,null,{"$f":"IF(D1756=\"\",\"\",COUNTIF(Tabulka5[Data],D1756))","v":""},"","","",""]
[null,null,null,null,{"$f":"IF(D1757=\"\",\"\",COUNTIF(Tabulka5[Data],D1757))","v":""},"","","",""]
[null,null,null,null,{"$f":"IF(D1758=\"\",\"\",COUNTIF(Tabulka5[Data],D1758))","v":""},"","","",""]
[null,null,null,null,{"$f":"IF(D1759=\"\",\"\",COUNTIF(Tabulka5[Data],D1759))","v":""},"","","",""]
[null,null,null,null,{"$f":"IF(D1760=\"\",\"\",COUNTIF(Tabulka5[Data],D1760))","v":""},"","","",""]
[null,null,null,null,{"$f":"IF(D1761=\"\",\"\",COUNTIF(Tabulka5[Data],D1761))","v":""},"","","",""]
[null,null,null,null,{"$f":"IF(D1762=\"\",\"\",COUNTIF(Tabulka5[Data],D1762))","v":""},"","","",""]
[null,null,null,null,{"$f":"IF(D1763=\"\",\"\",COUNTIF(Tabulka5[Data],D1763))","v":""},"","","",""]
[null,null,null,null,{"$f":"IF(D1764=\"\",\"\",COUNTIF(Tabulka5[Data],D1764))","v":""},"","","",""]
[null,null,null,null,{"$f":"IF(D1765=\"\",\"\",COUNTIF(Tabulka5[Data],D1765))","v":""},"","","",""]
[null,null,null,null,{"$f":"IF(D1766=\"\",\"\",COUNTIF(Tabulka5[Data],D1766))","v":""},"","","",""]
[null,null,null,null,{"$f":"IF(D1767=\"\",\"\",COUNTIF(Tabulka5[Data],D1767))","v":""},"","","",""]
[null,null,null,null,{"$f":"IF(D1768=\"\",\"\",COUNTIF(Tabulka5[Data],D1768))","v":""},"","","",""]
[null,null,null,null,{"$f":"IF(D1769=\"\",\"\",COUNTIF(Tabulka5[Data],D1769))","v":""},"","","",""]
[null,null,null,null,{"$f":"IF(D1770=\"\",\"\",COUNTIF(Tabulka5[Data],D1770))","v":""},"","","",""]
[null,null,null,null,{"$f":"IF(D1771=\"\",\"\",COUNTIF(Tabulka5[Data],D1771))","v":""},"","","",""]
[null,null,null,null,{"$f":"IF(D1772=\"\",\"\",COUNTIF(Tabulka5[Data],D1772))","v":""},"","","",""]
[null,null,null,null,{"$f":"IF(D1773=\"\",\"\",COUNTIF(Tabulka5[Data],D1773))","v":""},"","","",""]
[null,null,null,null,{"$f":"IF(D1774=\"\",\"\",COUNTIF(Tabulka5[Data],D1774))","v":""},"","","",""]
[null,null,null,null,{"$f":"IF(D1775=\"\",\"\",COUNTIF(Tabulka5[Data],D1775))","v":""},"","","",""]
[null,null,null,null,{"$f":"IF(D1776=\"\",\"\",COUNTIF(Tabulka5[Data],D1776))","v":""},"","","",""]
[null,null,null,null,{"$f":"IF(D1777=\"\",\"\",COUNTIF(Tabulka5[Data],D1777))","v":""},"","","",""]
[null,null,null,null,{"$f":"IF(D1778=\"\",\"\",COUNTIF(Tabulka5[Data],D1778))","v":""},"","","",""]
[null,null,null,null,{"$f":"IF(D1779=\"\",\"\",COUNTIF(Tabulka5[Data],D1779))","v":""},"","","",""]
[null,null,null,null,{"$f":"IF(D1780=\"\",\"\",COUNTIF(Tabulka5[Data],D1780))","v":""},"","","",""]
[null,null,null,null,{"$f":"IF(D1781=\"\",\"\",COUNTIF(Tabulka5[Data],D1781))","v":""},"","","",""]
[null,null,null,null,{"$f":"IF(D1782=\"\",\"\",COUNTIF(Tabulka5[Data],D1782))","v":""},"","","",""]
[null,null,null,null,{"$f":"IF(D1783=\"\",\"\",COUNTIF(Tabulka5[Data],D1783))","v":""},"","","",""]
[null,null,null,null,{"$f":"IF(D1784=\"\",\"\",COUNTIF(Tabulka5[Data],D1784))","v":""},"","","",""]
[null,null,null,null,{"$f":"IF(D1785=\"\",\"\",COUNTIF(Tabulka5[Data],D1785))","v":""},"","","",""]
[null,null,null,null,{"$f":"IF(D1786=\"\",\"\",COUNTIF(Tabulka5[Data],D1786))","v":""},"","","",""]
[null,null,null,null,{"$f":"IF(D1787=\"\",\"\",COUNTIF(Tabulka5[Data],D1787))","v":""},"","","",""]
[null,null,null,null,{"$f":"IF(D1788=\"\",\"\",COUNTIF(Tabulka5[Data],D1788))","v":""},"","","",""]
[null,null,null,null,{"$f":"IF(D1789=\"\",\"\",COUNTIF(Tabulka5[Data],D1789))","v":""},"","","",""]
[null,null,null,null,{"$f":"IF(D1790=\"\",\"\",COUNTIF(Tabulka5[Data],D1790))","v":""},"","","",""]
[null,null,null,null,{"$f":"IF(D1791=\"\",\"\",COUNTIF(Tabulka5[Data],D1791))","v":""},"","","",""]
[null,null,null,null,{"$f":"IF(D1792=\"\",\"\",COUNTIF(Tabulka5[Data],D1792))","v":""},"","","",""]
[null,null,null,null,{"$f":"IF(D1793=\"\",\"\",COUNTIF(Tabulka5[Data],D1793))","v":""},"","","",""]
[null,null,null,null,{"$f":"IF(D1794=\"\",\"\",COUNTIF(Tabulka5[Data],D1794))","v":""},"","","",""]
[null,null,null,null,{"$f":"IF(D1795=\"\",\"\",COUNTIF(Tabulka5[Data],D1795))","v":""},"","","",""]
[null,null,null,null,{"$f":"IF(D1796=\"\",\"\",COUNTIF(Tabulka5[Data],D1796))","v":""},"","","",""]
[null,null,null,null,{"$f":"IF(D1797=\"\",\"\",COUNTIF(Tabulka5[Data],D1797))","v":""},"","","",""]
[null,null,null,null,{"$f":"IF(D1798=\"\",\"\",COUNTIF(Tabulka5[Data],D1798))","v":""},"","","",""]
[null,null,null,null,{"$f":"IF(D1799=\"\",\"\",COUNTIF(Tabulka5[Data],D1799))","v":""},"","","",""]
[null,null,null,null,{"$f":"IF(D1800=\"\",\"\",COUNTIF(Tabulka5[Data],D1800))","v":""},"","","",""]
[null,null,null,null,{"$f":"IF(D1801=\"\",\"\",COUNTIF(Tabulka5[Data],D1801))","v":""},"","","",""]
[null,null,null,null,{"$f":"IF(D1802=\"\",\"\",COUNTIF(Tabulka5[Data],D1802))","v":""},"","","",""]
[null,null,null,null,{"$f":"IF(D1803=\"\",\"\",COUNTIF(Tabulka5[Data],D1803))","v":""},"","","",""]
[null,null,null,null,{"$f":"IF(D1804=\"\",\"\",COUNTIF(Tabulka5[Data],D1804))","v":""},"","","",""]
[null,null,null,null,{"$f":"IF(D1805=\"\",\"\",COUNTIF(Tabulka5[Data],D1805))","v":""},"","","",""]
[null,null,null,null,{"$f":"IF(D1806=\"\",\"\",COUNTIF(Tabulka5[Data],D1806))","v":""},"","","",""]
[null,null,null,null,{"$f":"IF(D1807=\"\",\"\",COUNTIF(Tabulka5[Data],D1807))","v":""},"","","",""]
[null,null,null,null,{"$f":"IF(D1808=\"\",\"\",COUNTIF(Tabulka5[Data],D1808))","v":""},"","","",""]
[null,null,null,null,{"$f":"IF(D1809=\"\",\"\",COUNTIF(Tabulka5[Data],D1809))","v":""},{"$f":"IF(OR($K$11=0,D1809=\"\"),\"\",IF(D1810=\"\",1-I1808,ROUND(E1809/SUM($E$15:$E$6350),3)))","v":""},{"$f":"IF(OR(D1809=\"\",$A$11=\"nominální\"),\"\",G1808+E1809)","v":""},{"$f":"IF(OR($K$11=0,D1809=\"\",$A$11=\"nominální\"),\"\",H1808+F1809)","v":""},{"$f":"IF(OR($K$11=0,D1809=\"\"),\"\",I1808+F1809)","v":""}]
[null,null,null,null,{"$f":"IF(D1810=\"\",\"\",COUNTIF(Tabulka5[Data],D1810))","v":""},"","","",""]
[null,null,null,null,{"$f":"IF(D1811=\"\",\"\",COUNTIF(Tabulka5[Data],D1811))","v":""},"","","",""]
[null,null,null,null,{"$f":"IF(D1812=\"\",\"\",COUNTIF(Tabulka5[Data],D1812))","v":""},"","","",""]
[null,null,null,null,{"$f":"IF(D1813=\"\",\"\",COUNTIF(Tabulka5[Data],D1813))","v":""},"","","",""]
[null,null,null,null,{"$f":"IF(D1814=\"\",\"\",COUNTIF(Tabulka5[Data],D1814))","v":""},"","","",""]
[null,null,null,null,{"$f":"IF(D1815=\"\",\"\",COUNTIF(Tabulka5[Data],D1815))","v":""},"","","",""]
[null,null,null,null,{"$f":"IF(D1816=\"\",\"\",COUNTIF(Tabulka5[Data],D1816))","v":""},"","","",""]
[null,null,null,null,{"$f":"IF(D1817=\"\",\"\",COUNTIF(Tabulka5[Data],D1817))","v":""},"","","",""]
[null,null,null,null,{"$f":"IF(D1818=\"\",\"\",COUNTIF(Tabulka5[Data],D1818))","v":""},"","","",""]
[null,null,null,null,{"$f":"IF(D1819=\"\",\"\",COUNTIF(Tabulka5[Data],D1819))","v":""},"","","",""]
[null,null,null,null,{"$f":"IF(D1820=\"\",\"\",COUNTIF(Tabulka5[Data],D1820))","v":""},"","","",""]
[null,null,null,null,{"$f":"IF(D1821=\"\",\"\",COUNTIF(Tabulka5[Data],D1821))","v":""},"","","",""]
[null,null,null,null,{"$f":"IF(D1822=\"\",\"\",COUNTIF(Tabulka5[Data],D1822))","v":""},"","","",""]
[null,null,null,null,{"$f":"IF(D1823=\"\",\"\",COUNTIF(Tabulka5[Data],D1823))","v":""},"","","",""]
[null,null,null,null,{"$f":"IF(D1824=\"\",\"\",COUNTIF(Tabulka5[Data],D1824))","v":""},"","","",""]
[null,null,null,null,{"$f":"IF(D1825=\"\",\"\",COUNTIF(Tabulka5[Data],D1825))","v":""},"","","",""]
[null,null,null,null,{"$f":"IF(D1826=\"\",\"\",COUNTIF(Tabulka5[Data],D1826))","v":""},"","","",""]
[null,null,null,null,{"$f":"IF(D1827=\"\",\"\",COUNTIF(Tabulka5[Data],D1827))","v":""},"","","",""]
[null,null,null,null,{"$f":"IF(D1828=\"\",\"\",COUNTIF(Tabulka5[Data],D1828))","v":""},"","","",""]
[null,null,null,null,{"$f":"IF(D1829=\"\",\"\",COUNTIF(Tabulka5[Data],D1829))","v":""},"","","",""]
[null,null,null,null,{"$f":"IF(D1830=\"\",\"\",COUNTIF(Tabulka5[Data],D1830))","v":""},"","","",""]
[null,null,null,null,{"$f":"IF(D1831=\"\",\"\",COUNTIF(Tabulka5[Data],D1831))","v":""},"","","",""]
[null,null,null,null,{"$f":"IF(D1832=\"\",\"\",COUNTIF(Tabulka5[Data],D1832))","v":""},"","","",""]
[null,null,null,null,{"$f":"IF(D1833=\"\",\"\",COUNTIF(Tabulka5[Data],D1833))","v":""},"","","",""]
[null,null,null,null,{"$f":"IF(D1834=\"\",\"\",COUNTIF(Tabulka5[Data],D1834))","v":""},"","","",""]
[null,null,null,null,{"$f":"IF(D1835=\"\",\"\",COUNTIF(Tabulka5[Data],D1835))","v":""},"","","",""]
[null,null,null,null,{"$f":"IF(D1836=\"\",\"\",COUNTIF(Tabulka5[Data],D1836))","v":""},"","","",""]
[null,null,null,null,{"$f":"IF(D1837=\"\",\"\",COUNTIF(Tabulka5[Data],D1837))","v":""},"","","",""]
[null,null,null,null,{"$f":"IF(D1838=\"\",\"\",COUNTIF(Tabulka5[Data],D1838))","v":""},"","","",""]
[null,null,null,null,{"$f":"IF(D1839=\"\",\"\",COUNTIF(Tabulka5[Data],D1839))","v":""},"","","",""]
[null,null,null,null,{"$f":"IF(D1840=\"\",\"\",COUNTIF(Tabulka5[Data],D1840))","v":""},"","","",""]
[null,null,null,null,{"$f":"IF(D1841=\"\",\"\",COUNTIF(Tabulka5[Data],D1841))","v":""},"","","",""]
[null,null,null,null,{"$f":"IF(D1842=\"\",\"\",COUNTIF(Tabulka5[Data],D1842))","v":""},"","","",""]
[null,null,null,null,{"$f":"IF(D1843=\"\",\"\",COUNTIF(Tabulka5[Data],D1843))","v":""},"","","",""]
[null,null,null,null,{"$f":"IF(D1844=\"\",\"\",COUNTIF(Tabulka5[Data],D1844))","v":""},"","","",""]
[null,null,null,null,{"$f":"IF(D1845=\"\",\"\",COUNTIF(Tabulka5[Data],D1845))","v":""},"","","",""]
[null,null,null,null,{"$f":"IF(D1846=\"\",\"\",COUNTIF(Tabulka5[Data],D1846))","v":""},"","","",""]
[null,null,null,null,{"$f":"IF(D1847=\"\",\"\",COUNTIF(Tabulka5[Data],D1847))","v":""},"","","",""]
[null,null,null,null,{"$f":"IF(D1848=\"\",\"\",COUNTIF(Tabulka5[Data],D1848))","v":""},"","","",""]
[null,null,null,null,{"$f":"IF(D1849=\"\",\"\",COUNTIF(Tabulka5[Data],D1849))","v":""},"","","",""]
[null,null,null,null,{"$f":"IF(D1850=\"\",\"\",COUNTIF(Tabulka5[Data],D1850))","v":""},"","","",""]
[null,null,null,null,{"$f":"IF(D1851=\"\",\"\",COUNTIF(Tabulka5[Data],D1851))","v":""},"","","",""]
[null,null,null,null,{"$f":"IF(D1852=\"\",\"\",COUNTIF(Tabulka5[Data],D1852))","v":""},"","","",""]
[null,null,null,null,{"$f":"IF(D1853=\"\",\"\",COUNTIF(Tabulka5[Data],D1853))","v":""},"","","",""]
[null,null,null,null,{"$f":"IF(D1854=\"\",\"\",COUNTIF(Tabulka5[Data],D1854))","v":""},"","","",""]
[null,null,null,null,{"$f":"IF(D1855=\"\",\"\",COUNTIF(Tabulka5[Data],D1855))","v":""},"","","",""]
[null,null,null,null,{"$f":"IF(D1856=\"\",\"\",COUNTIF(Tabulka5[Data],D1856))","v":""},"","","",""]
[null,null,null,null,{"$f":"IF(D1857=\"\",\"\",COUNTIF(Tabulka5[Data],D1857))","v":""},"","","",""]
[null,null,null,null,{"$f":"IF(D1858=\"\",\"\",COUNTIF(Tabulka5[Data],D1858))","v":""},"","","",""]
[null,null,null,null,{"$f":"IF(D1859=\"\",\"\",COUNTIF(Tabulka5[Data],D1859))","v":""},"","","",""]
[null,null,null,null,{"$f":"IF(D1860=\"\",\"\",COUNTIF(Tabulka5[Data],D1860))","v":""},"","","",""]
[null,null,null,null,{"$f":"IF(D1861=\"\",\"\",COUNTIF(Tabulka5[Data],D1861))","v":""},"","","",""]
[null,null,null,null,{"$f":"IF(D1862=\"\",\"\",COUNTIF(Tabulka5[Data],D1862))","v":""},"","","",""]
[null,null,null,null,{"$f":"IF(D1863=\"\",\"\",COUNTIF(Tabulka5[Data],D1863))","v":""},"","","",""]
[null,null,null,null,{"$f":"IF(D1864=\"\",\"\",COUNTIF(Tabulka5[Data],D1864))","v":""},"","","",""]
[null,null,null,null,{"$f":"IF(D1865=\"\",\"\",COUNTIF(Tabulka5[Data],D1865))","v":""},"","","",""]
[null,null,null,null,{"$f":"IF(D1866=\"\",\"\",COUNTIF(Tabulka5[Data],D1866))","v":""},"","","",""]
[null,null,null,null,{"$f":"IF(D1867=\"\",\"\",COUNTIF(Tabulka5[Data],D1867))","v":""},"","","",""]
[null,null,null,null,{"$f":"IF(D1868=\"\",\"\",COUNTIF(Tabulka5[Data],D1868))","v":""},"","","",""]
[null,null,null,null,{"$f":"IF(D1869=\"\",\"\",COUNTIF(Tabulka5[Data],D1869))","v":""},"","","",""]
[null,null,null,null,{"$f":"IF(D1870=\"\",\"\",COUNTIF(Tabulka5[Data],D1870))","v":""},"","","",""]
[null,null,null,null,{"$f":"IF(D1871=\"\",\"\",COUNTIF(Tabulka5[Data],D1871))","v":""},"","","",""]
[null,null,null,null,{"$f":"IF(D1872=\"\",\"\",COUNTIF(Tabulka5[Data],D1872))","v":""},"","","",""]
[null,null,null,null,{"$f":"IF(D1873=\"\",\"\",COUNTIF(Tabulka5[Data],D1873))","v":""},{"$f":"IF(OR($K$11=0,D1873=\"\"),\"\",IF(D1874=\"\",1-I1872,ROUND(E1873/SUM($E$15:$E$6350),3)))","v":""},{"$f":"IF(OR(D1873=\"\",$A$11=\"nominální\"),\"\",G1872+E1873)","v":""},{"$f":"IF(OR($K$11=0,D1873=\"\",$A$11=\"nominální\"),\"\",H1872+F1873)","v":""},{"$f":"IF(OR($K$11=0,D1873=\"\"),\"\",I1872+F1873)","v":""}]
[null,null,null,null,{"$f":"IF(D1874=\"\",\"\",COUNTIF(Tabulka5[Data],D1874))","v":""},"","","",""]
[null,null,null,null,{"$f":"IF(D1875=\"\",\"\",COUNTIF(Tabulka5[Data],D1875))","v":""},"","","",""]
[null,null,null,null,{"$f":"IF(D1876=\"\",\"\",COUNTIF(Tabulka5[Data],D1876))","v":""},"","","",""]
[null,null,null,null,{"$f":"IF(D1877=\"\",\"\",COUNTIF(Tabulka5[Data],D1877))","v":""},"","","",""]
[null,null,null,null,{"$f":"IF(D1878=\"\",\"\",COUNTIF(Tabulka5[Data],D1878))","v":""},"","","",""]
[null,null,null,null,{"$f":"IF(D1879=\"\",\"\",COUNTIF(Tabulka5[Data],D1879))","v":""},"","","",""]
[null,null,null,null,{"$f":"IF(D1880=\"\",\"\",COUNTIF(Tabulka5[Data],D1880))","v":""},"","","",""]
[null,null,null,null,{"$f":"IF(D1881=\"\",\"\",COUNTIF(Tabulka5[Data],D1881))","v":""},"","","",""]
[null,null,null,null,{"$f":"IF(D1882=\"\",\"\",COUNTIF(Tabulka5[Data],D1882))","v":""},"","","",""]
[null,null,null,null,{"$f":"IF(D1883=\"\",\"\",COUNTIF(Tabulka5[Data],D1883))","v":""},"","","",""]
[null,null,null,null,{"$f":"IF(D1884=\"\",\"\",COUNTIF(Tabulka5[Data],D1884))","v":""},"","","",""]
[null,null,null,null,{"$f":"IF(D1885=\"\",\"\",COUNTIF(Tabulka5[Data],D1885))","v":""},"","","",""]
[null,null,null,null,{"$f":"IF(D1886=\"\",\"\",COUNTIF(Tabulka5[Data],D1886))","v":""},"","","",""]
[null,null,null,null,{"$f":"IF(D1887=\"\",\"\",COUNTIF(Tabulka5[Data],D1887))","v":""},"","","",""]
[null,null,null,null,{"$f":"IF(D1888=\"\",\"\",COUNTIF(Tabulka5[Data],D1888))","v":""},"","","",""]
[null,null,null,null,{"$f":"IF(D1889=\"\",\"\",COUNTIF(Tabulka5[Data],D1889))","v":""},"","","",""]
[null,null,null,null,{"$f":"IF(D1890=\"\",\"\",COUNTIF(Tabulka5[Data],D1890))","v":""},"","","",""]
[null,null,null,null,{"$f":"IF(D1891=\"\",\"\",COUNTIF(Tabulka5[Data],D1891))","v":""},"","","",""]
[null,null,null,null,{"$f":"IF(D1892=\"\",\"\",COUNTIF(Tabulka5[Data],D1892))","v":""},"","","",""]
[null,null,null,null,{"$f":"IF(D1893=\"\",\"\",COUNTIF(Tabulka5[Data],D1893))","v":""},"","","",""]
[null,null,null,null,{"$f":"IF(D1894=\"\",\"\",COUNTIF(Tabulka5[Data],D1894))","v":""},"","","",""]
[null,null,null,null,{"$f":"IF(D1895=\"\",\"\",COUNTIF(Tabulka5[Data],D1895))","v":""},"","","",""]
[null,null,null,null,{"$f":"IF(D1896=\"\",\"\",COUNTIF(Tabulka5[Data],D1896))","v":""},"","","",""]
[null,null,null,null,{"$f":"IF(D1897=\"\",\"\",COUNTIF(Tabulka5[Data],D1897))","v":""},"","","",""]
[null,null,null,null,{"$f":"IF(D1898=\"\",\"\",COUNTIF(Tabulka5[Data],D1898))","v":""},"","","",""]
[null,null,null,null,{"$f":"IF(D1899=\"\",\"\",COUNTIF(Tabulka5[Data],D1899))","v":""},"","","",""]
[null,null,null,null,{"$f":"IF(D1900=\"\",\"\",COUNTIF(Tabulka5[Data],D1900))","v":""},"","","",""]
[null,null,null,null,{"$f":"IF(D1901=\"\",\"\",COUNTIF(Tabulka5[Data],D1901))","v":""},"","","",""]
[null,null,null,null,{"$f":"IF(D1902=\"\",\"\",COUNTIF(Tabulka5[Data],D1902))","v":""},"","","",""]
[null,null,null,null,{"$f":"IF(D1903=\"\",\"\",COUNTIF(Tabulka5[Data],D1903))","v":""},"","","",""]
[null,null,null,null,{"$f":"IF(D1904=\"\",\"\",COUNTIF(Tabulka5[Data],D1904))","v":""},"","","",""]
[null,null,null,null,{"$f":"IF(D1905=\"\",\"\",COUNTIF(Tabulka5[Data],D1905))","v":""},"","","",""]
[null,null,null,null,{"$f":"IF(D1906=\"\",\"\",COUNTIF(Tabulka5[Data],D1906))","v":""},"","","",""]
[null,null,null,null,{"$f":"IF(D1907=\"\",\"\",COUNTIF(Tabulka5[Data],D1907))","v":""},"","","",""]
[null,null,null,null,{"$f":"IF(D1908=\"\",\"\",COUNTIF(Tabulka5[Data],D1908))","v":""},"","","",""]
[null,null,null,null,{"$f":"IF(D1909=\"\",\"\",COUNTIF(Tabulka5[Data],D1909))","v":""},"","","",""]
[null,null,null,null,{"$f":"IF(D1910=\"\",\"\",COUNTIF(Tabulka5[Data],D1910))","v":""},"","","",""]
[null,null,null,null,{"$f":"IF(D1911=\"\",\"\",COUNTIF(Tabulka5[Data],D1911))","v":""},"","","",""]
[null,null,null,null,{"$f":"IF(D1912=\"\",\"\",COUNTIF(Tabulka5[Data],D1912))","v":""},"","","",""]
[null,null,null,null,{"$f":"IF(D1913=\"\",\"\",COUNTIF(Tabulka5[Data],D1913))","v":""},"","","",""]
[null,null,null,null,{"$f":"IF(D1914=\"\",\"\",COUNTIF(Tabulka5[Data],D1914))","v":""},"","","",""]
[null,null,null,null,{"$f":"IF(D1915=\"\",\"\",COUNTIF(Tabulka5[Data],D1915))","v":""},"","","",""]
[null,null,null,null,{"$f":"IF(D1916=\"\",\"\",COUNTIF(Tabulka5[Data],D1916))","v":""},"","","",""]
[null,null,null,null,{"$f":"IF(D1917=\"\",\"\",COUNTIF(Tabulka5[Data],D1917))","v":""},"","","",""]
[null,null,null,null,{"$f":"IF(D1918=\"\",\"\",COUNTIF(Tabulka5[Data],D1918))","v":""},"","","",""]
[null,null,null,null,{"$f":"IF(D1919=\"\",\"\",COUNTIF(Tabulka5[Data],D1919))","v":""},"","","",""]
[null,null,null,null,{"$f":"IF(D1920=\"\",\"\",COUNTIF(Tabulka5[Data],D1920))","v":""},"","","",""]
[null,null,null,null,{"$f":"IF(D1921=\"\",\"\",COUNTIF(Tabulka5[Data],D1921))","v":""},"","","",""]
[null,null,null,null,{"$f":"IF(D1922=\"\",\"\",COUNTIF(Tabulka5[Data],D1922))","v":""},"","","",""]
[null,null,null,null,{"$f":"IF(D1923=\"\",\"\",COUNTIF(Tabulka5[Data],D1923))","v":""},"","","",""]
[null,null,null,null,{"$f":"IF(D1924=\"\",\"\",COUNTIF(Tabulka5[Data],D1924))","v":""},"","","",""]
[null,null,null,null,{"$f":"IF(D1925=\"\",\"\",COUNTIF(Tabulka5[Data],D1925))","v":""},"","","",""]
[null,null,null,null,{"$f":"IF(D1926=\"\",\"\",COUNTIF(Tabulka5[Data],D1926))","v":""},"","","",""]
[null,null,null,null,{"$f":"IF(D1927=\"\",\"\",COUNTIF(Tabulka5[Data],D1927))","v":""},"","","",""]
[null,null,null,null,{"$f":"IF(D1928=\"\",\"\",COUNTIF(Tabulka5[Data],D1928))","v":""},"","","",""]
[null,null,null,null,{"$f":"IF(D1929=\"\",\"\",COUNTIF(Tabulka5[Data],D1929))","v":""},"","","",""]
[null,null,null,null,{"$f":"IF(D1930=\"\",\"\",COUNTIF(Tabulka5[Data],D1930))","v":""},"","","",""]
[null,null,null,null,{"$f":"IF(D1931=\"\",\"\",COUNTIF(Tabulka5[Data],D1931))","v":""},"","","",""]
[null,null,null,null,{"$f":"IF(D1932=\"\",\"\",COUNTIF(Tabulka5[Data],D1932))","v":""},"","","",""]
[null,null,null,null,{"$f":"IF(D1933=\"\",\"\",COUNTIF(Tabulka5[Data],D1933))","v":""},"","","",""]
[null,null,null,null,{"$f":"IF(D1934=\"\",\"\",COUNTIF(Tabulka5[Data],D1934))","v":""},"","","",""]
[null,null,null,null,{"$f":"IF(D1935=\"\",\"\",COUNTIF(Tabulka5[Data],D1935))","v":""},"","","",""]
[null,null,null,null,{"$f":"IF(D1936=\"\",\"\",COUNTIF(Tabulka5[Data],D1936))","v":""},"","","",""]
[null,null,null,null,{"$f":"IF(D1937=\"\",\"\",COUNTIF(Tabulka5[Data],D1937))","v":""},{"$f":"IF(OR($K$11=0,D1937=\"\"),\"\",IF(D1938=\"\",1-I1936,ROUND(E1937/SUM($E$15:$E$6350),3)))","v":""},{"$f":"IF(OR(D1937=\"\",$A$11=\"nominální\"),\"\",G1936+E1937)","v":""},{"$f":"IF(OR($K$11=0,D1937=\"\",$A$11=\"nominální\"),\"\",H1936+F1937)","v":""},{"$f":"IF(OR($K$11=0,D1937=\"\"),\"\",I1936+F1937)","v":""}]
[null,null,null,null,{"$f":"IF(D1938=\"\",\"\",COUNTIF(Tabulka5[Data],D1938))","v":""},"","","",""]
[null,null,null,null,{"$f":"IF(D1939=\"\",\"\",COUNTIF(Tabulka5[Data],D1939))","v":""},"","","",""]
[null,null,null,null,{"$f":"IF(D1940=\"\",\"\",COUNTIF(Tabulka5[Data],D1940))","v":""},"","","",""]
[null,null,null,null,{"$f":"IF(D1941=\"\",\"\",COUNTIF(Tabulka5[Data],D1941))","v":""},"","","",""]
[null,null,null,null,{"$f":"IF(D1942=\"\",\"\",COUNTIF(Tabulka5[Data],D1942))","v":""},"","","",""]
[null,null,null,null,{"$f":"IF(D1943=\"\",\"\",COUNTIF(Tabulka5[Data],D1943))","v":""},"","","",""]
[null,null,null,null,{"$f":"IF(D1944=\"\",\"\",COUNTIF(Tabulka5[Data],D1944))","v":""},"","","",""]
[null,null,null,null,{"$f":"IF(D1945=\"\",\"\",COUNTIF(Tabulka5[Data],D1945))","v":""},"","","",""]
[null,null,null,null,{"$f":"IF(D1946=\"\",\"\",COUNTIF(Tabulka5[Data],D1946))","v":""},"","","",""]
[null,null,null,null,{"$f":"IF(D1947=\"\",\"\",COUNTIF(Tabulka5[Data],D1947))","v":""},"","","",""]
[null,null,null,null,{"$f":"IF(D1948=\"\",\"\",COUNTIF(Tabulka5[Data],D1948))","v":""},"","","",""]
[null,null,null,null,{"$f":"IF(D1949=\"\",\"\",COUNTIF(Tabulka5[Data],D1949))","v":""},"","","",""]
[null,null,null,null,{"$f":"IF(D1950=\"\",\"\",COUNTIF(Tabulka5[Data],D1950))","v":""},"","","",""]
[null,null,null,null,{"$f":"IF(D1951=\"\",\"\",COUNTIF(Tabulka5[Data],D1951))","v":""},"","","",""]
[null,null,null,null,{"$f":"IF(D1952=\"\",\"\",COUNTIF(Tabulka5[Data],D1952))","v":""},"","","",""]
[null,null,null,null,{"$f":"IF(D1953=\"\",\"\",COUNTIF(Tabulka5[Data],D1953))","v":""},"","","",""]
[null,null,null,null,{"$f":"IF(D1954=\"\",\"\",COUNTIF(Tabulka5[Data],D1954))","v":""},"","","",""]
[null,null,null,null,{"$f":"IF(D1955=\"\",\"\",COUNTIF(Tabulka5[Data],D1955))","v":""},"","","",""]
[null,null,null,null,{"$f":"IF(D1956=\"\",\"\",COUNTIF(Tabulka5[Data],D1956))","v":""},"","","",""]
[null,null,null,null,{"$f":"IF(D1957=\"\",\"\",COUNTIF(Tabulka5[Data],D1957))","v":""},"","","",""]
[null,null,null,null,{"$f":"IF(D1958=\"\",\"\",COUNTIF(Tabulka5[Data],D1958))","v":""},"","","",""]
[null,null,null,null,{"$f":"IF(D1959=\"\",\"\",COUNTIF(Tabulka5[Data],D1959))","v":""},"","","",""]
[null,null,null,null,{"$f":"IF(D1960=\"\",\"\",COUNTIF(Tabulka5[Data],D1960))","v":""},"","","",""]
[null,null,null,null,{"$f":"IF(D1961=\"\",\"\",COUNTIF(Tabulka5[Data],D1961))","v":""},"","","",""]
[null,null,null,null,{"$f":"IF(D1962=\"\",\"\",COUNTIF(Tabulka5[Data],D1962))","v":""},"","","",""]
[null,null,null,null,{"$f":"IF(D1963=\"\",\"\",COUNTIF(Tabulka5[Data],D1963))","v":""},"","","",""]
[null,null,null,null,{"$f":"IF(D1964=\"\",\"\",COUNTIF(Tabulka5[Data],D1964))","v":""},"","","",""]
[null,null,null,null,{"$f":"IF(D1965=\"\",\"\",COUNTIF(Tabulka5[Data],D1965))","v":""},"","","",""]
[null,null,null,null,{"$f":"IF(D1966=\"\",\"\",COUNTIF(Tabulka5[Data],D1966))","v":""},"","","",""]
[null,null,null,null,{"$f":"IF(D1967=\"\",\"\",COUNTIF(Tabulka5[Data],D1967))","v":""},"","","",""]
[null,null,null,null,{"$f":"IF(D1968=\"\",\"\",COUNTIF(Tabulka5[Data],D1968))","v":""},"","","",""]
[null,null,null,null,{"$f":"IF(D1969=\"\",\"\",COUNTIF(Tabulka5[Data],D1969))","v":""},"","","",""]
[null,null,null,null,{"$f":"IF(D1970=\"\",\"\",COUNTIF(Tabulka5[Data],D1970))","v":""},"","","",""]
[null,null,null,null,{"$f":"IF(D1971=\"\",\"\",COUNTIF(Tabulka5[Data],D1971))","v":""},"","","",""]
[null,null,null,null,{"$f":"IF(D1972=\"\",\"\",COUNTIF(Tabulka5[Data],D1972))","v":""},"","","",""]
[null,null,null,null,{"$f":"IF(D1973=\"\",\"\",COUNTIF(Tabulka5[Data],D1973))","v":""},"","","",""]
[null,null,null,null,{"$f":"IF(D1974=\"\",\"\",COUNTIF(Tabulka5[Data],D1974))","v":""},"","","",""]
[null,null,null,null,{"$f":"IF(D1975=\"\",\"\",COUNTIF(Tabulka5[Data],D1975))","v":""},"","","",""]
[null,null,null,null,{"$f":"IF(D1976=\"\",\"\",COUNTIF(Tabulka5[Data],D1976))","v":""},"","","",""]
[null,null,null,null,{"$f":"IF(D1977=\"\",\"\",COUNTIF(Tabulka5[Data],D1977))","v":""},"","","",""]
[null,null,null,null,{"$f":"IF(D1978=\"\",\"\",COUNTIF(Tabulka5[Data],D1978))","v":""},"","","",""]
[null,null,null,null,{"$f":"IF(D1979=\"\",\"\",COUNTIF(Tabulka5[Data],D1979))","v":""},"","","",""]
[null,null,null,null,{"$f":"IF(D1980=\"\",\"\",COUNTIF(Tabulka5[Data],D1980))","v":""},"","","",""]
[null,null,null,null,{"$f":"IF(D1981=\"\",\"\",COUNTIF(Tabulka5[Data],D1981))","v":""},"","","",""]
[null,null,null,null,{"$f":"IF(D1982=\"\",\"\",COUNTIF(Tabulka5[Data],D1982))","v":""},"","","",""]
[null,null,null,null,{"$f":"IF(D1983=\"\",\"\",COUNTIF(Tabulka5[Data],D1983))","v":""},"","","",""]
[null,null,null,null,{"$f":"IF(D1984=\"\",\"\",COUNTIF(Tabulka5[Data],D1984))","v":""},"","","",""]
[null,null,null,null,{"$f":"IF(D1985=\"\",\"\",COUNTIF(Tabulka5[Data],D1985))","v":""},"","","",""]
[null,null,null,null,{"$f":"IF(D1986=\"\",\"\",COUNTIF(Tabulka5[Data],D1986))","v":""},"","","",""]
[null,null,null,null,{"$f":"IF(D1987=\"\",\"\",COUNTIF(Tabulka5[Data],D1987))","v":""},"","","",""]
[null,null,null,null,{"$f":"IF(D1988=\"\",\"\",COUNTIF(Tabulka5[Data],D1988))","v":""},"","","",""]
[null,null,null,null,{"$f":"IF(D1989=\"\",\"\",COUNTIF(Tabulka5[Data],D1989))","v":""},"","","",""]
[null,null,null,null,{"$f":"IF(D1990=\"\",\"\",COUNTIF(Tabulka5[Data],D1990))","v":""},"","","",""]
[null,null,null,null,{"$f":"IF(D1991=\"\",\"\",COUNTIF(Tabulka5[Data],D1991))","v":""},"","","",""]
[null,null,null,null,{"$f":"IF(D1992=\"\",\"\",COUNTIF(Tabulka5[Data],D1992))","v":""},"","","",""]
[null,null,null,null,{"$f":"IF(D1993=\"\",\"\",COUNTIF(Tabulka5[Data],D1993))","v":""},"","","",""]
[null,null,null,null,{"$f":"IF(D1994=\"\",\"\",COUNTIF(Tabulka5[Data],D1994))","v":""},"","","",""]
[null,null,null,null,{"$f":"IF(D1995=\"\",\"\",COUNTIF(Tabulka5[Data],D1995))","v":""},"","","",""]
[null,null,null,null,{"$f":"IF(D1996=\"\",\"\",COUNTIF(Tabulka5[Data],D1996))","v":""},"","","",""]
[null,null,null,null,{"$f":"IF(D1997=\"\",\"\",COUNTIF(Tabulka5[Data],D1997))","v":""},"","","",""]
[null,null,null,null,{"$f":"IF(D1998=\"\",\"\",COUNTIF(Tabulka5[Data],D1998))","v":""},"","","",""]
[null,null,null,null,{"$f":"IF(D1999=\"\",\"\",COUNTIF(Tabulka5[Data],D1999))","v":""},"","","",""]
[null,null,null,null,{"$f":"IF(D2000=\"\",\"\",COUNTIF(Tabulka5[Data],D2000))","v":""},"","","",""]
[null,null,null,null,{"$f":"IF(D2001=\"\",\"\",COUNTIF(Tabulka5[Data],D2001))","v":""},{"$f":"IF(OR($K$11=0,D2001=\"\"),\"\",IF(D2002=\"\",1-I2000,ROUND(E2001/SUM($E$15:$E$6350),3)))","v":""},{"$f":"IF(OR(D2001=\"\",$A$11=\"nominální\"),\"\",G2000+E2001)","v":""},{"$f":"IF(OR($K$11=0,D2001=\"\",$A$11=\"nominální\"),\"\",H2000+F2001)","v":""},{"$f":"IF(OR($K$11=0,D2001=\"\"),\"\",I2000+F2001)","v":""}]
[null,null,null,null,{"$f":"IF(D2002=\"\",\"\",COUNTIF(Tabulka5[Data],D2002))","v":""},"","","",""]
[null,null,null,null,{"$f":"IF(D2003=\"\",\"\",COUNTIF(Tabulka5[Data],D2003))","v":""},"","","",""]
[null,null,null,null,{"$f":"IF(D2004=\"\",\"\",COUNTIF(Tabulka5[Data],D2004))","v":""},"","","",""]
[null,null,null,null,{"$f":"IF(D2005=\"\",\"\",COUNTIF(Tabulka5[Data],D2005))","v":""},"","","",""]
[null,null,null,null,{"$f":"IF(D2006=\"\",\"\",COUNTIF(Tabulka5[Data],D2006))","v":""},"","","",""]
[null,null,null,null,{"$f":"IF(D2007=\"\",\"\",COUNTIF(Tabulka5[Data],D2007))","v":""},"","","",""]
[null,null,null,null,{"$f":"IF(D2008=\"\",\"\",COUNTIF(Tabulka5[Data],D2008))","v":""},"","","",""]
[null,null,null,null,{"$f":"IF(D2009=\"\",\"\",COUNTIF(Tabulka5[Data],D2009))","v":""},"","","",""]
[null,null,null,null,{"$f":"IF(D2010=\"\",\"\",COUNTIF(Tabulka5[Data],D2010))","v":""},"","","",""]
[null,null,null,null,{"$f":"IF(D2011=\"\",\"\",COUNTIF(Tabulka5[Data],D2011))","v":""},"","","",""]
[null,null,null,null,{"$f":"IF(D2012=\"\",\"\",COUNTIF(Tabulka5[Data],D2012))","v":""},"","","",""]
[null,null,null,null,{"$f":"IF(D2013=\"\",\"\",COUNTIF(Tabulka5[Data],D2013))","v":""},"","","",""]
[null,null,null,null,{"$f":"IF(D2014=\"\",\"\",COUNTIF(Tabulka5[Data],D2014))","v":""},"","","",""]
[null,null,null,null,{"$f":"IF(D2015=\"\",\"\",COUNTIF(Tabulka5[Data],D2015))","v":""},"","","",""]
[null,null,null,null,{"$f":"IF(D2016=\"\",\"\",COUNTIF(Tabulka5[Data],D2016))","v":""},"","","",""]
[null,null,null,null,{"$f":"IF(D2017=\"\",\"\",COUNTIF(Tabulka5[Data],D2017))","v":""},"","","",""]
[null,null,null,null,{"$f":"IF(D2018=\"\",\"\",COUNTIF(Tabulka5[Data],D2018))","v":""},"","","",""]
[null,null,null,null,{"$f":"IF(D2019=\"\",\"\",COUNTIF(Tabulka5[Data],D2019))","v":""},"","","",""]
[null,null,null,null,{"$f":"IF(D2020=\"\",\"\",COUNTIF(Tabulka5[Data],D2020))","v":""},"","","",""]
[null,null,null,null,{"$f":"IF(D2021=\"\",\"\",COUNTIF(Tabulka5[Data],D2021))","v":""},"","","",""]
[null,null,null,null,{"$f":"IF(D2022=\"\",\"\",COUNTIF(Tabulka5[Data],D2022))","v":""},"","","",""]
[null,null,null,null,{"$f":"IF(D2023=\"\",\"\",COUNTIF(Tabulka5[Data],D2023))","v":""},"","","",""]
[null,null,null,null,{"$f":"IF(D2024=\"\",\"\",COUNTIF(Tabulka5[Data],D2024))","v":""},"","","",""]
[null,null,null,null,{"$f":"IF(D2025=\"\",\"\",COUNTIF(Tabulka5[Data],D2025))","v":""},"","","",""]
[null,null,null,null,{"$f":"IF(D2026=\"\",\"\",COUNTIF(Tabulka5[Data],D2026))","v":""},"","","",""]
[null,null,null,null,{"$f":"IF(D2027=\"\",\"\",COUNTIF(Tabulka5[Data],D2027))","v":""},"","","",""]
[null,null,null,null,{"$f":"IF(D2028=\"\",\"\",COUNTIF(Tabulka5[Data],D2028))","v":""},"","","",""]
[null,null,null,null,{"$f":"IF(D2029=\"\",\"\",COUNTIF(Tabulka5[Data],D2029))","v":""},"","","",""]
[null,null,null,null,{"$f":"IF(D2030=\"\",\"\",COUNTIF(Tabulka5[Data],D2030))","v":""},"","","",""]
[null,null,null,null,{"$f":"IF(D2031=\"\",\"\",COUNTIF(Tabulka5[Data],D2031))","v":""},"","","",""]
[null,null,null,null,{"$f":"IF(D2032=\"\",\"\",COUNTIF(Tabulka5[Data],D2032))","v":""},"","","",""]
[null,null,null,null,{"$f":"IF(D2033=\"\",\"\",COUNTIF(Tabulka5[Data],D2033))","v":""},"","","",""]
[null,null,null,null,{"$f":"IF(D2034=\"\",\"\",COUNTIF(Tabulka5[Data],D2034))","v":""},"","","",""]
[null,null,null,null,{"$f":"IF(D2035=\"\",\"\",COUNTIF(Tabulka5[Data],D2035))","v":""},"","","",""]
[null,null,null,null,{"$f":"IF(D2036=\"\",\"\",COUNTIF(Tabulka5[Data],D2036))","v":""},"","","",""]
[null,null,null,null,{"$f":"IF(D2037=\"\",\"\",COUNTIF(Tabulka5[Data],D2037))","v":""},"","","",""]
[null,null,null,null,{"$f":"IF(D2038=\"\",\"\",COUNTIF(Tabulka5[Data],D2038))","v":""},"","","",""]
[null,null,null,null,{"$f":"IF(D2039=\"\",\"\",COUNTIF(Tabulka5[Data],D2039))","v":""},"","","",""]
[null,null,null,null,{"$f":"IF(D2040=\"\",\"\",COUNTIF(Tabulka5[Data],D2040))","v":""},"","","",""]
[null,null,null,null,{"$f":"IF(D2041=\"\",\"\",COUNTIF(Tabulka5[Data],D2041))","v":""},"","","",""]
[null,null,null,null,{"$f":"IF(D2042=\"\",\"\",COUNTIF(Tabulka5[Data],D2042))","v":""},"","","",""]
[null,null,null,null,{"$f":"IF(D2043=\"\",\"\",COUNTIF(Tabulka5[Data],D2043))","v":""},"","","",""]
[null,null,null,null,{"$f":"IF(D2044=\"\",\"\",COUNTIF(Tabulka5[Data],D2044))","v":""},"","","",""]
[null,null,null,null,{"$f":"IF(D2045=\"\",\"\",COUNTIF(Tabulka5[Data],D2045))","v":""},"","","",""]
[null,null,null,null,{"$f":"IF(D2046=\"\",\"\",COUNTIF(Tabulka5[Data],D2046))","v":""},"","","",""]
[null,null,null,null,{"$f":"IF(D2047=\"\",\"\",COUNTIF(Tabulka5[Data],D2047))","v":""},"","","",""]
[null,null,null,null,{"$f":"IF(D2048=\"\",\"\",COUNTIF(Tabulka5[Data],D2048))","v":""},"","","",""]
[null,null,null,null,{"$f":"IF(D2049=\"\",\"\",COUNTIF(Tabulka5[Data],D2049))","v":""},"","","",""]
[null,null,null,null,{"$f":"IF(D2050=\"\",\"\",COUNTIF(Tabulka5[Data],D2050))","v":""},"","","",""]
[null,null,null,null,{"$f":"IF(D2051=\"\",\"\",COUNTIF(Tabulka5[Data],D2051))","v":""},"","","",""]
[null,null,null,null,{"$f":"IF(D2052=\"\",\"\",COUNTIF(Tabulka5[Data],D2052))","v":""},"","","",""]
[null,null,null,null,{"$f":"IF(D2053=\"\",\"\",COUNTIF(Tabulka5[Data],D2053))","v":""},"","","",""]
[null,null,null,null,{"$f":"IF(D2054=\"\",\"\",COUNTIF(Tabulka5[Data],D2054))","v":""},"","","",""]
[null,null,null,null,{"$f":"IF(D2055=\"\",\"\",COUNTIF(Tabulka5[Data],D2055))","v":""},"","","",""]
[null,null,null,null,{"$f":"IF(D2056=\"\",\"\",COUNTIF(Tabulka5[Data],D2056))","v":""},"","","",""]
[null,null,null,null,{"$f":"IF(D2057=\"\",\"\",COUNTIF(Tabulka5[Data],D2057))","v":""},"","","",""]
[null,null,null,null,{"$f":"IF(D2058=\"\",\"\",COUNTIF(Tabulka5[Data],D2058))","v":""},"","","",""]
[null,null,null,null,{"$f":"IF(D2059=\"\",\"\",COUNTIF(Tabulka5[Data],D2059))","v":""},"","","",""]
[null,null,null,null,{"$f":"IF(D2060=\"\",\"\",COUNTIF(Tabulka5[Data],D2060))","v":""},"","","",""]
[null,null,null,null,{"$f":"IF(D2061=\"\",\"\",COUNTIF(Tabulka5[Data],D2061))","v":""},"","","",""]
[null,null,null,null,{"$f":"IF(D2062=\"\",\"\",COUNTIF(Tabulka5[Data],D2062))","v":""},"","","",""]
[null,null,null,null,{"$f":"IF(D2063=\"\",\"\",COUNTIF(Tabulka5[Data],D2063))","v":""},"","","",""]
[null,null,null,null,{"$f":"IF(D2064=\"\",\"\",COUNTIF(Tabulka5[Data],D2064))","v":""},"","","",""]
[null,null,null,null,{"$f":"IF(D2065=\"\",\"\",COUNTIF(Tabulka5[Data],D2065))","v":""},{"$f":"IF(OR($K$11=0,D2065=\"\"),\"\",IF(D2066=\"\",1-I2064,ROUND(E2065/SUM($E$15:$E$6350),3)))","v":""},{"$f":"IF(OR(D2065=\"\",$A$11=\"nominální\"),\"\",G2064+E2065)","v":""},{"$f":"IF(OR($K$11=0,D2065=\"\",$A$11=\"nominální\"),\"\",H2064+F2065)","v":""},{"$f":"IF(OR($K$11=0,D2065=\"\"),\"\",I2064+F2065)","v":""}]
[null,null,null,null,{"$f":"IF(D2066=\"\",\"\",COUNTIF(Tabulka5[Data],D2066))","v":""},"","","",""]
[null,null,null,null,{"$f":"IF(D2067=\"\",\"\",COUNTIF(Tabulka5[Data],D2067))","v":""},"","","",""]
[null,null,null,null,{"$f":"IF(D2068=\"\",\"\",COUNTIF(Tabulka5[Data],D2068))","v":""},"","","",""]
[null,null,null,null,{"$f":"IF(D2069=\"\",\"\",COUNTIF(Tabulka5[Data],D2069))","v":""},"","","",""]
[null,null,null,null,{"$f":"IF(D2070=\"\",\"\",COUNTIF(Tabulka5[Data],D2070))","v":""},"","","",""]
[null,null,null,null,{"$f":"IF(D2071=\"\",\"\",COUNTIF(Tabulka5[Data],D2071))","v":""},"","","",""]
[null,null,null,null,{"$f":"IF(D2072=\"\",\"\",COUNTIF(Tabulka5[Data],D2072))","v":""},"","","",""]
[null,null,null,null,{"$f":"IF(D2073=\"\",\"\",COUNTIF(Tabulka5[Data],D2073))","v":""},"","","",""]
[null,null,null,null,{"$f":"IF(D2074=\"\",\"\",COUNTIF(Tabulka5[Data],D2074))","v":""},"","","",""]
[null,null,null,null,{"$f":"IF(D2075=\"\",\"\",COUNTIF(Tabulka5[Data],D2075))","v":""},"","","",""]
[null,null,null,null,{"$f":"IF(D2076=\"\",\"\",COUNTIF(Tabulka5[Data],D2076))","v":""},"","","",""]
[null,null,null,null,{"$f":"IF(D2077=\"\",\"\",COUNTIF(Tabulka5[Data],D2077))","v":""},"","","",""]
[null,null,null,null,{"$f":"IF(D2078=\"\",\"\",COUNTIF(Tabulka5[Data],D2078))","v":""},"","","",""]
[null,null,null,null,{"$f":"IF(D2079=\"\",\"\",COUNTIF(Tabulka5[Data],D2079))","v":""},"","","",""]
[null,null,null,null,{"$f":"IF(D2080=\"\",\"\",COUNTIF(Tabulka5[Data],D2080))","v":""},"","","",""]
[null,null,null,null,{"$f":"IF(D2081=\"\",\"\",COUNTIF(Tabulka5[Data],D2081))","v":""},"","","",""]
[null,null,null,null,{"$f":"IF(D2082=\"\",\"\",COUNTIF(Tabulka5[Data],D2082))","v":""},"","","",""]
[null,null,null,null,{"$f":"IF(D2083=\"\",\"\",COUNTIF(Tabulka5[Data],D2083))","v":""},"","","",""]
[null,null,null,null,{"$f":"IF(D2084=\"\",\"\",COUNTIF(Tabulka5[Data],D2084))","v":""},"","","",""]
[null,null,null,null,{"$f":"IF(D2085=\"\",\"\",COUNTIF(Tabulka5[Data],D2085))","v":""},"","","",""]
[null,null,null,null,{"$f":"IF(D2086=\"\",\"\",COUNTIF(Tabulka5[Data],D2086))","v":""},"","","",""]
[null,null,null,null,{"$f":"IF(D2087=\"\",\"\",COUNTIF(Tabulka5[Data],D2087))","v":""},"","","",""]
[null,null,null,null,{"$f":"IF(D2088=\"\",\"\",COUNTIF(Tabulka5[Data],D2088))","v":""},"","","",""]
[null,null,null,null,{"$f":"IF(D2089=\"\",\"\",COUNTIF(Tabulka5[Data],D2089))","v":""},"","","",""]
[null,null,null,null,{"$f":"IF(D2090=\"\",\"\",COUNTIF(Tabulka5[Data],D2090))","v":""},"","","",""]
[null,null,null,null,{"$f":"IF(D2091=\"\",\"\",COUNTIF(Tabulka5[Data],D2091))","v":""},"","","",""]
[null,null,null,null,{"$f":"IF(D2092=\"\",\"\",COUNTIF(Tabulka5[Data],D2092))","v":""},"","","",""]
[null,null,null,null,{"$f":"IF(D2093=\"\",\"\",COUNTIF(Tabulka5[Data],D2093))","v":""},"","","",""]
[null,null,null,null,{"$f":"IF(D2094=\"\",\"\",COUNTIF(Tabulka5[Data],D2094))","v":""},"","","",""]
[null,null,null,null,{"$f":"IF(D2095=\"\",\"\",COUNTIF(Tabulka5[Data],D2095))","v":""},"","","",""]
[null,null,null,null,{"$f":"IF(D2096=\"\",\"\",COUNTIF(Tabulka5[Data],D2096))","v":""},"","","",""]
[null,null,null,null,{"$f":"IF(D2097=\"\",\"\",COUNTIF(Tabulka5[Data],D2097))","v":""},"","","",""]
[null,null,null,null,{"$f":"IF(D2098=\"\",\"\",COUNTIF(Tabulka5[Data],D2098))","v":""},"","","",""]
[null,null,null,null,{"$f":"IF(D2099=\"\",\"\",COUNTIF(Tabulka5[Data],D2099))","v":""},"","","",""]
[null,null,null,null,{"$f":"IF(D2100=\"\",\"\",COUNTIF(Tabulka5[Data],D2100))","v":""},"","","",""]
[null,null,null,null,{"$f":"IF(D2101=\"\",\"\",COUNTIF(Tabulka5[Data],D2101))","v":""},"","","",""]
[null,null,null,null,{"$f":"IF(D2102=\"\",\"\",COUNTIF(Tabulka5[Data],D2102))","v":""},"","","",""]
[null,null,null,null,{"$f":"IF(D2103=\"\",\"\",COUNTIF(Tabulka5[Data],D2103))","v":""},"","","",""]
[null,null,null,null,{"$f":"IF(D2104=\"\",\"\",COUNTIF(Tabulka5[Data],D2104))","v":""},"","","",""]
[null,null,null,null,{"$f":"IF(D2105=\"\",\"\",COUNTIF(Tabulka5[Data],D2105))","v":""},"","","",""]
[null,null,null,null,{"$f":"IF(D2106=\"\",\"\",COUNTIF(Tabulka5[Data],D2106))","v":""},"","","",""]
[null,null,null,null,{"$f":"IF(D2107=\"\",\"\",COUNTIF(Tabulka5[Data],D2107))","v":""},"","","",""]
[null,null,null,null,{"$f":"IF(D2108=\"\",\"\",COUNTIF(Tabulka5[Data],D2108))","v":""},"","","",""]
[null,null,null,null,{"$f":"IF(D2109=\"\",\"\",COUNTIF(Tabulka5[Data],D2109))","v":""},"","","",""]
[null,null,null,null,{"$f":"IF(D2110=\"\",\"\",COUNTIF(Tabulka5[Data],D2110))","v":""},"","","",""]
[null,null,null,null,{"$f":"IF(D2111=\"\",\"\",COUNTIF(Tabulka5[Data],D2111))","v":""},"","","",""]
[null,null,null,null,{"$f":"IF(D2112=\"\",\"\",COUNTIF(Tabulka5[Data],D2112))","v":""},"","","",""]
[null,null,null,null,{"$f":"IF(D2113=\"\",\"\",COUNTIF(Tabulka5[Data],D2113))","v":""},"","","",""]
[null,null,null,null,{"$f":"IF(D2114=\"\",\"\",COUNTIF(Tabulka5[Data],D2114))","v":""},"","","",""]
[null,null,null,null,{"$f":"IF(D2115=\"\",\"\",COUNTIF(Tabulka5[Data],D2115))","v":""},"","","",""]
[null,null,null,null,{"$f":"IF(D2116=\"\",\"\",COUNTIF(Tabulka5[Data],D2116))","v":""},"","","",""]
[null,null,null,null,{"$f":"IF(D2117=\"\",\"\",COUNTIF(Tabulka5[Data],D2117))","v":""},"","","",""]
[null,null,null,null,{"$f":"IF(D2118=\"\",\"\",COUNTIF(Tabulka5[Data],D2118))","v":""},"","","",""]
[null,null,null,null,{"$f":"IF(D2119=\"\",\"\",COUNTIF(Tabulka5[Data],D2119))","v":""},"","","",""]
[null,null,null,null,{"$f":"IF(D2120=\"\",\"\",COUNTIF(Tabulka5[Data],D2120))","v":""},"","","",""]
[null,null,null,null,{"$f":"IF(D2121=\"\",\"\",COUNTIF(Tabulka5[Data],D2121))","v":""},"","","",""]
[null,null,null,null,{"$f":"IF(D2122=\"\",\"\",COUNTIF(Tabulka5[Data],D2122))","v":""},"","","",""]
[null,null,null,null,{"$f":"IF(D2123=\"\",\"\",COUNTIF(Tabulka5[Data],D2123))","v":""},"","","",""]
[null,null,null,null,{"$f":"IF(D2124=\"\",\"\",COUNTIF(Tabulka5[Data],D2124))","v":""},"","","",""]
[null,null,null,null,{"$f":"IF(D2125=\"\",\"\",COUNTIF(Tabulka5[Data],D2125))","v":""},"","","",""]
[null,null,null,null,{"$f":"IF(D2126=\"\",\"\",COUNTIF(Tabulka5[Data],D2126))","v":""},"","","",""]
[null,null,null,null,{"$f":"IF(D2127=\"\",\"\",COUNTIF(Tabulka5[Data],D2127))","v":""},"","","",""]
[null,null,null,null,{"$f":"IF(D2128=\"\",\"\",COUNTIF(Tabulka5[Data],D2128))","v":""},"","","",""]
[null,null,null,null,{"$f":"IF(D2129=\"\",\"\",COUNTIF(Tabulka5[Data],D2129))","v":""},{"$f":"IF(OR($K$11=0,D2129=\"\"),\"\",IF(D2130=\"\",1-I2128,ROUND(E2129/SUM($E$15:$E$6350),3)))","v":""},{"$f":"IF(OR(D2129=\"\",$A$11=\"nominální\"),\"\",G2128+E2129)","v":""},{"$f":"IF(OR($K$11=0,D2129=\"\",$A$11=\"nominální\"),\"\",H2128+F2129)","v":""},{"$f":"IF(OR($K$11=0,D2129=\"\"),\"\",I2128+F2129)","v":""}]
[null,null,null,null,{"$f":"IF(D2130=\"\",\"\",COUNTIF(Tabulka5[Data],D2130))","v":""},"","","",""]
[null,null,null,null,{"$f":"IF(D2131=\"\",\"\",COUNTIF(Tabulka5[Data],D2131))","v":""},"","","",""]
[null,null,null,null,{"$f":"IF(D2132=\"\",\"\",COUNTIF(Tabulka5[Data],D2132))","v":""},"","","",""]
[null,null,null,null,{"$f":"IF(D2133=\"\",\"\",COUNTIF(Tabulka5[Data],D2133))","v":""},"","","",""]
[null,null,null,null,{"$f":"IF(D2134=\"\",\"\",COUNTIF(Tabulka5[Data],D2134))","v":""},"","","",""]
[null,null,null,null,{"$f":"IF(D2135=\"\",\"\",COUNTIF(Tabulka5[Data],D2135))","v":""},"","","",""]
[null,null,null,null,{"$f":"IF(D2136=\"\",\"\",COUNTIF(Tabulka5[Data],D2136))","v":""},"","","",""]
[null,null,null,null,{"$f":"IF(D2137=\"\",\"\",COUNTIF(Tabulka5[Data],D2137))","v":""},"","","",""]
[null,null,null,null,{"$f":"IF(D2138=\"\",\"\",COUNTIF(Tabulka5[Data],D2138))","v":""},"","","",""]
[null,null,null,null,{"$f":"IF(D2139=\"\",\"\",COUNTIF(Tabulka5[Data],D2139))","v":""},"","","",""]
[null,null,null,null,{"$f":"IF(D2140=\"\",\"\",COUNTIF(Tabulka5[Data],D2140))","v":""},"","","",""]
[null,null,null,null,{"$f":"IF(D2141=\"\",\"\",COUNTIF(Tabulka5[Data],D2141))","v":""},"","","",""]
[null,null,null,null,{"$f":"IF(D2142=\"\",\"\",COUNTIF(Tabulka5[Data],D2142))","v":""},"","","",""]
[null,null,null,null,{"$f":"IF(D2143=\"\",\"\",COUNTIF(Tabulka5[Data],D2143))","v":""},"","","",""]
[null,null,null,null,{"$f":"IF(D2144=\"\",\"\",COUNTIF(Tabulka5[Data],D2144))","v":""},"","","",""]
[null,null,null,null,{"$f":"IF(D2145=\"\",\"\",COUNTIF(Tabulka5[Data],D2145))","v":""},"","","",""]
[null,null,null,null,{"$f":"IF(D2146=\"\",\"\",COUNTIF(Tabulka5[Data],D2146))","v":""},"","","",""]
[null,null,null,null,{"$f":"IF(D2147=\"\",\"\",COUNTIF(Tabulka5[Data],D2147))","v":""},"","","",""]
[null,null,null,null,{"$f":"IF(D2148=\"\",\"\",COUNTIF(Tabulka5[Data],D2148))","v":""},"","","",""]
[null,null,null,null,{"$f":"IF(D2149=\"\",\"\",COUNTIF(Tabulka5[Data],D2149))","v":""},"","","",""]
[null,null,null,null,{"$f":"IF(D2150=\"\",\"\",COUNTIF(Tabulka5[Data],D2150))","v":""},"","","",""]
[null,null,null,null,{"$f":"IF(D2151=\"\",\"\",COUNTIF(Tabulka5[Data],D2151))","v":""},"","","",""]
[null,null,null,null,{"$f":"IF(D2152=\"\",\"\",COUNTIF(Tabulka5[Data],D2152))","v":""},"","","",""]
[null,null,null,null,{"$f":"IF(D2153=\"\",\"\",COUNTIF(Tabulka5[Data],D2153))","v":""},"","","",""]
[null,null,null,null,{"$f":"IF(D2154=\"\",\"\",COUNTIF(Tabulka5[Data],D2154))","v":""},"","","",""]
[null,null,null,null,{"$f":"IF(D2155=\"\",\"\",COUNTIF(Tabulka5[Data],D2155))","v":""},"","","",""]
[null,null,null,null,{"$f":"IF(D2156=\"\",\"\",COUNTIF(Tabulka5[Data],D2156))","v":""},"","","",""]
[null,null,null,null,{"$f":"IF(D2157=\"\",\"\",COUNTIF(Tabulka5[Data],D2157))","v":""},"","","",""]
[null,null,null,null,{"$f":"IF(D2158=\"\",\"\",COUNTIF(Tabulka5[Data],D2158))","v":""},"","","",""]
[null,null,null,null,{"$f":"IF(D2159=\"\",\"\",COUNTIF(Tabulka5[Data],D2159))","v":""},"","","",""]
[null,null,null,null,{"$f":"IF(D2160=\"\",\"\",COUNTIF(Tabulka5[Data],D2160))","v":""},"","","",""]
[null,null,null,null,{"$f":"IF(D2161=\"\",\"\",COUNTIF(Tabulka5[Data],D2161))","v":""},"","","",""]
[null,null,null,null,{"$f":"IF(D2162=\"\",\"\",COUNTIF(Tabulka5[Data],D2162))","v":""},"","","",""]
[null,null,null,null,{"$f":"IF(D2163=\"\",\"\",COUNTIF(Tabulka5[Data],D2163))","v":""},"","","",""]
[null,null,null,null,{"$f":"IF(D2164=\"\",\"\",COUNTIF(Tabulka5[Data],D2164))","v":""},"","","",""]
[null,null,null,null,{"$f":"IF(D2165=\"\",\"\",COUNTIF(Tabulka5[Data],D2165))","v":""},"","","",""]
[null,null,null,null,{"$f":"IF(D2166=\"\",\"\",COUNTIF(Tabulka5[Data],D2166))","v":""},"","","",""]
[null,null,null,null,{"$f":"IF(D2167=\"\",\"\",COUNTIF(Tabulka5[Data],D2167))","v":""},"","","",""]
[null,null,null,null,{"$f":"IF(D2168=\"\",\"\",COUNTIF(Tabulka5[Data],D2168))","v":""},"","","",""]
[null,null,null,null,{"$f":"IF(D2169=\"\",\"\",COUNTIF(Tabulka5[Data],D2169))","v":""},"","","",""]
[null,null,null,null,{"$f":"IF(D2170=\"\",\"\",COUNTIF(Tabulka5[Data],D2170))","v":""},"","","",""]
[null,null,null,null,{"$f":"IF(D2171=\"\",\"\",COUNTIF(Tabulka5[Data],D2171))","v":""},"","","",""]
[null,null,null,null,{"$f":"IF(D2172=\"\",\"\",COUNTIF(Tabulka5[Data],D2172))","v":""},"","","",""]
[null,null,null,null,{"$f":"IF(D2173=\"\",\"\",COUNTIF(Tabulka5[Data],D2173))","v":""},"","","",""]
[null,null,null,null,{"$f":"IF(D2174=\"\",\"\",COUNTIF(Tabulka5[Data],D2174))","v":""},"","","",""]
[null,null,null,null,{"$f":"IF(D2175=\"\",\"\",COUNTIF(Tabulka5[Data],D2175))","v":""},"","","",""]
[null,null,null,null,{"$f":"IF(D2176=\"\",\"\",COUNTIF(Tabulka5[Data],D2176))","v":""},"","","",""]
[null,null,null,null,{"$f":"IF(D2177=\"\",\"\",COUNTIF(Tabulka5[Data],D2177))","v":""},"","","",""]
[null,null,null,null,{"$f":"IF(D2178=\"\",\"\",COUNTIF(Tabulka5[Data],D2178))","v":""},"","","",""]
[null,null,null,null,{"$f":"IF(D2179=\"\",\"\",COUNTIF(Tabulka5[Data],D2179))","v":""},"","","",""]
[null,null,null,null,{"$f":"IF(D2180=\"\",\"\",COUNTIF(Tabulka5[Data],D2180))","v":""},"","","",""]
[null,null,null,null,{"$f":"IF(D2181=\"\",\"\",COUNTIF(Tabulka5[Data],D2181))","v":""},"","","",""]
[null,null,null,null,{"$f":"IF(D2182=\"\",\"\",COUNTIF(Tabulka5[Data],D2182))","v":""},"","","",""]
[null,null,null,null,{"$f":"IF(D2183=\"\",\"\",COUNTIF(Tabulka5[Data],D2183))","v":""},"","","",""]
[null,null,null,null,{"$f":"IF(D2184=\"\",\"\",COUNTIF(Tabulka5[Data],D2184))","v":""},"","","",""]
[null,null,null,null,{"$f":"IF(D2185=\"\",\"\",COUNTIF(Tabulka5[Data],D2185))","v":""},"","","",""]
[null,null,null,null,{"$f":"IF(D2186=\"\",\"\",COUNTIF(Tabulka5[Data],D2186))","v":""},"","","",""]
[null,null,null,null,{"$f":"IF(D2187=\"\",\"\",COUNTIF(Tabulka5[Data],D2187))","v":""},"","","",""]
[null,null,null,null,{"$f":"IF(D2188=\"\",\"\",COUNTIF(Tabulka5[Data],D2188))","v":""},"","","",""]
[null,null,null,null,{"$f":"IF(D2189=\"\",\"\",COUNTIF(Tabulka5[Data],D2189))","v":""},"","","",""]
[null,null,null,null,{"$f":"IF(D2190=\"\",\"\",COUNTIF(Tabulka5[Data],D2190))","v":""},"","","",""]
[null,null,null,null,{"$f":"IF(D2191=\"\",\"\",COUNTIF(Tabulka5[Data],D2191))","v":""},"","","",""]
[null,null,null,null,{"$f":"IF(D2192=\"\",\"\",COUNTIF(Tabulka5[Data],D2192))","v":""},"","","",""]
[null,null,null,null,{"$f":"IF(D2193=\"\",\"\",COUNTIF(Tabulka5[Data],D2193))","v":""},{"$f":"IF(OR($K$11=0,D2193=\"\"),\"\",IF(D2194=\"\",1-I2192,ROUND(E2193/SUM($E$15:$E$6350),3)))","v":""},{"$f":"IF(OR(D2193=\"\",$A$11=\"nominální\"),\"\",G2192+E2193)","v":""},{"$f":"IF(OR($K$11=0,D2193=\"\",$A$11=\"nominální\"),\"\",H2192+F2193)","v":""},{"$f":"IF(OR($K$11=0,D2193=\"\"),\"\",I2192+F2193)","v":""}]
[null,null,null,null,{"$f":"IF(D2194=\"\",\"\",COUNTIF(Tabulka5[Data],D2194))","v":""},"","","",""]
[null,null,null,null,{"$f":"IF(D2195=\"\",\"\",COUNTIF(Tabulka5[Data],D2195))","v":""},"","","",""]
[null,null,null,null,{"$f":"IF(D2196=\"\",\"\",COUNTIF(Tabulka5[Data],D2196))","v":""},"","","",""]
[null,null,null,null,{"$f":"IF(D2197=\"\",\"\",COUNTIF(Tabulka5[Data],D2197))","v":""},"","","",""]
[null,null,null,null,{"$f":"IF(D2198=\"\",\"\",COUNTIF(Tabulka5[Data],D2198))","v":""},"","","",""]
[null,null,null,null,{"$f":"IF(D2199=\"\",\"\",COUNTIF(Tabulka5[Data],D2199))","v":""},"","","",""]
[null,null,null,null,{"$f":"IF(D2200=\"\",\"\",COUNTIF(Tabulka5[Data],D2200))","v":""},"","","",""]
[null,null,null,null,{"$f":"IF(D2201=\"\",\"\",COUNTIF(Tabulka5[Data],D2201))","v":""},"","","",""]
[null,null,null,null,{"$f":"IF(D2202=\"\",\"\",COUNTIF(Tabulka5[Data],D2202))","v":""},"","","",""]
[null,null,null,null,{"$f":"IF(D2203=\"\",\"\",COUNTIF(Tabulka5[Data],D2203))","v":""},"","","",""]
[null,null,null,null,{"$f":"IF(D2204=\"\",\"\",COUNTIF(Tabulka5[Data],D2204))","v":""},"","","",""]
[null,null,null,null,{"$f":"IF(D2205=\"\",\"\",COUNTIF(Tabulka5[Data],D2205))","v":""},"","","",""]
[null,null,null,null,{"$f":"IF(D2206=\"\",\"\",COUNTIF(Tabulka5[Data],D2206))","v":""},"","","",""]
[null,null,null,null,{"$f":"IF(D2207=\"\",\"\",COUNTIF(Tabulka5[Data],D2207))","v":""},"","","",""]
[null,null,null,null,{"$f":"IF(D2208=\"\",\"\",COUNTIF(Tabulka5[Data],D2208))","v":""},"","","",""]
[null,null,null,null,{"$f":"IF(D2209=\"\",\"\",COUNTIF(Tabulka5[Data],D2209))","v":""},"","","",""]
[null,null,null,null,{"$f":"IF(D2210=\"\",\"\",COUNTIF(Tabulka5[Data],D2210))","v":""},"","","",""]
[null,null,null,null,{"$f":"IF(D2211=\"\",\"\",COUNTIF(Tabulka5[Data],D2211))","v":""},"","","",""]
[null,null,null,null,{"$f":"IF(D2212=\"\",\"\",COUNTIF(Tabulka5[Data],D2212))","v":""},"","","",""]
[null,null,null,null,{"$f":"IF(D2213=\"\",\"\",COUNTIF(Tabulka5[Data],D2213))","v":""},"","","",""]
[null,null,null,null,{"$f":"IF(D2214=\"\",\"\",COUNTIF(Tabulka5[Data],D2214))","v":""},"","","",""]
[null,null,null,null,{"$f":"IF(D2215=\"\",\"\",COUNTIF(Tabulka5[Data],D2215))","v":""},"","","",""]
[null,null,null,null,{"$f":"IF(D2216=\"\",\"\",COUNTIF(Tabulka5[Data],D2216))","v":""},"","","",""]
[null,null,null,null,{"$f":"IF(D2217=\"\",\"\",COUNTIF(Tabulka5[Data],D2217))","v":""},"","","",""]
[null,null,null,null,{"$f":"IF(D2218=\"\",\"\",COUNTIF(Tabulka5[Data],D2218))","v":""},"","","",""]
[null,null,null,null,{"$f":"IF(D2219=\"\",\"\",COUNTIF(Tabulka5[Data],D2219))","v":""},"","","",""]
[null,null,null,null,{"$f":"IF(D2220=\"\",\"\",COUNTIF(Tabulka5[Data],D2220))","v":""},"","","",""]
[null,null,null,null,{"$f":"IF(D2221=\"\",\"\",COUNTIF(Tabulka5[Data],D2221))","v":""},"","","",""]
[null,null,null,null,{"$f":"IF(D2222=\"\",\"\",COUNTIF(Tabulka5[Data],D2222))","v":""},"","","",""]
[null,null,null,null,{"$f":"IF(D2223=\"\",\"\",COUNTIF(Tabulka5[Data],D2223))","v":""},"","","",""]
[null,null,null,null,{"$f":"IF(D2224=\"\",\"\",COUNTIF(Tabulka5[Data],D2224))","v":""},"","","",""]
[null,null,null,null,{"$f":"IF(D2225=\"\",\"\",COUNTIF(Tabulka5[Data],D2225))","v":""},"","","",""]
[null,null,null,null,{"$f":"IF(D2226=\"\",\"\",COUNTIF(Tabulka5[Data],D2226))","v":""},"","","",""]
[null,null,null,null,{"$f":"IF(D2227=\"\",\"\",COUNTIF(Tabulka5[Data],D2227))","v":""},"","","",""]
[null,null,null,null,{"$f":"IF(D2228=\"\",\"\",COUNTIF(Tabulka5[Data],D2228))","v":""},"","","",""]
[null,null,null,null,{"$f":"IF(D2229=\"\",\"\",COUNTIF(Tabulka5[Data],D2229))","v":""},"","","",""]
[null,null,null,null,{"$f":"IF(D2230=\"\",\"\",COUNTIF(Tabulka5[Data],D2230))","v":""},"","","",""]
[null,null,null,null,{"$f":"IF(D2231=\"\",\"\",COUNTIF(Tabulka5[Data],D2231))","v":""},"","","",""]
[null,null,null,null,{"$f":"IF(D2232=\"\",\"\",COUNTIF(Tabulka5[Data],D2232))","v":""},"","","",""]
[null,null,null,null,{"$f":"IF(D2233=\"\",\"\",COUNTIF(Tabulka5[Data],D2233))","v":""},"","","",""]
[null,null,null,null,{"$f":"IF(D2234=\"\",\"\",COUNTIF(Tabulka5[Data],D2234))","v":""},"","","",""]
[null,null,null,null,{"$f":"IF(D2235=\"\",\"\",COUNTIF(Tabulka5[Data],D2235))","v":""},"","","",""]
[null,null,null,null,{"$f":"IF(D2236=\"\",\"\",COUNTIF(Tabulka5[Data],D2236))","v":""},"","","",""]
[null,null,null,null,{"$f":"IF(D2237=\"\",\"\",COUNTIF(Tabulka5[Data],D2237))","v":""},"","","",""]
[null,null,null,null,{"$f":"IF(D2238=\"\",\"\",COUNTIF(Tabulka5[Data],D2238))","v":""},"","","",""]
[null,null,null,null,{"$f":"IF(D2239=\"\",\"\",COUNTIF(Tabulka5[Data],D2239))","v":""},"","","",""]
[null,null,null,null,{"$f":"IF(D2240=\"\",\"\",COUNTIF(Tabulka5[Data],D2240))","v":""},"","","",""]
[null,null,null,null,{"$f":"IF(D2241=\"\",\"\",COUNTIF(Tabulka5[Data],D2241))","v":""},"","","",""]
[null,null,null,null,{"$f":"IF(D2242=\"\",\"\",COUNTIF(Tabulka5[Data],D2242))","v":""},"","","",""]
[null,null,null,null,{"$f":"IF(D2243=\"\",\"\",COUNTIF(Tabulka5[Data],D2243))","v":""},"","","",""]
[null,null,null,null,{"$f":"IF(D2244=\"\",\"\",COUNTIF(Tabulka5[Data],D2244))","v":""},"","","",""]
[null,null,null,null,{"$f":"IF(D2245=\"\",\"\",COUNTIF(Tabulka5[Data],D2245))","v":""},"","","",""]
[null,null,null,null,{"$f":"IF(D2246=\"\",\"\",COUNTIF(Tabulka5[Data],D2246))","v":""},"","","",""]
[null,null,null,null,{"$f":"IF(D2247=\"\",\"\",COUNTIF(Tabulka5[Data],D2247))","v":""},"","","",""]
[null,null,null,null,{"$f":"IF(D2248=\"\",\"\",COUNTIF(Tabulka5[Data],D2248))","v":""},"","","",""]
[null,null,null,null,{"$f":"IF(D2249=\"\",\"\",COUNTIF(Tabulka5[Data],D2249))","v":""},"","","",""]
[null,null,null,null,{"$f":"IF(D2250=\"\",\"\",COUNTIF(Tabulka5[Data],D2250))","v":""},"","","",""]
[null,null,null,null,{"$f":"IF(D2251=\"\",\"\",COUNTIF(Tabulka5[Data],D2251))","v":""},"","","",""]
[null,null,null,null,{"$f":"IF(D2252=\"\",\"\",COUNTIF(Tabulka5[Data],D2252))","v":""},"","","",""]
[null,null,null,null,{"$f":"IF(D2253=\"\",\"\",COUNTIF(Tabulka5[Data],D2253))","v":""},"","","",""]
[null,null,null,null,{"$f":"IF(D2254=\"\",\"\",COUNTIF(Tabulka5[Data],D2254))","v":""},"","","",""]
[null,null,null,null,{"$f":"IF(D2255=\"\",\"\",COUNTIF(Tabulka5[Data],D2255))","v":""},"","","",""]
[null,null,null,null,{"$f":"IF(D2256=\"\",\"\",COUNTIF(Tabulka5[Data],D2256))","v":""},"","","",""]
[null,null,null,null,{"$f":"IF(D2257=\"\",\"\",COUNTIF(Tabulka5[Data],D2257))","v":""},{"$f":"IF(OR($K$11=0,D2257=\"\"),\"\",IF(D2258=\"\",1-I2256,ROUND(E2257/SUM($E$15:$E$6350),3)))","v":""},{"$f":"IF(OR(D2257=\"\",$A$11=\"nominální\"),\"\",G2256+E2257)","v":""},{"$f":"IF(OR($K$11=0,D2257=\"\",$A$11=\"nominální\"),\"\",H2256+F2257)","v":""},{"$f":"IF(OR($K$11=0,D2257=\"\"),\"\",I2256+F2257)","v":""}]
[null,null,null,null,{"$f":"IF(D2258=\"\",\"\",COUNTIF(Tabulka5[Data],D2258))","v":""},"","","",""]
[null,null,null,null,{"$f":"IF(D2259=\"\",\"\",COUNTIF(Tabulka5[Data],D2259))","v":""},"","","",""]
[null,null,null,null,{"$f":"IF(D2260=\"\",\"\",COUNTIF(Tabulka5[Data],D2260))","v":""},"","","",""]
[null,null,null,null,{"$f":"IF(D2261=\"\",\"\",COUNTIF(Tabulka5[Data],D2261))","v":""},"","","",""]
[null,null,null,null,{"$f":"IF(D2262=\"\",\"\",COUNTIF(Tabulka5[Data],D2262))","v":""},"","","",""]
[null,null,null,null,{"$f":"IF(D2263=\"\",\"\",COUNTIF(Tabulka5[Data],D2263))","v":""},"","","",""]
[null,null,null,null,{"$f":"IF(D2264=\"\",\"\",COUNTIF(Tabulka5[Data],D2264))","v":""},"","","",""]
[null,null,null,null,{"$f":"IF(D2265=\"\",\"\",COUNTIF(Tabulka5[Data],D2265))","v":""},"","","",""]
[null,null,null,null,{"$f":"IF(D2266=\"\",\"\",COUNTIF(Tabulka5[Data],D2266))","v":""},"","","",""]
[null,null,null,null,{"$f":"IF(D2267=\"\",\"\",COUNTIF(Tabulka5[Data],D2267))","v":""},"","","",""]
[null,null,null,null,{"$f":"IF(D2268=\"\",\"\",COUNTIF(Tabulka5[Data],D2268))","v":""},"","","",""]
[null,null,null,null,{"$f":"IF(D2269=\"\",\"\",COUNTIF(Tabulka5[Data],D2269))","v":""},"","","",""]
[null,null,null,null,{"$f":"IF(D2270=\"\",\"\",COUNTIF(Tabulka5[Data],D2270))","v":""},"","","",""]
[null,null,null,null,{"$f":"IF(D2271=\"\",\"\",COUNTIF(Tabulka5[Data],D2271))","v":""},"","","",""]
[null,null,null,null,{"$f":"IF(D2272=\"\",\"\",COUNTIF(Tabulka5[Data],D2272))","v":""},"","","",""]
[null,null,null,null,{"$f":"IF(D2273=\"\",\"\",COUNTIF(Tabulka5[Data],D2273))","v":""},"","","",""]
[null,null,null,null,{"$f":"IF(D2274=\"\",\"\",COUNTIF(Tabulka5[Data],D2274))","v":""},"","","",""]
[null,null,null,null,{"$f":"IF(D2275=\"\",\"\",COUNTIF(Tabulka5[Data],D2275))","v":""},"","","",""]
[null,null,null,null,{"$f":"IF(D2276=\"\",\"\",COUNTIF(Tabulka5[Data],D2276))","v":""},"","","",""]
[null,null,null,null,{"$f":"IF(D2277=\"\",\"\",COUNTIF(Tabulka5[Data],D2277))","v":""},"","","",""]
[null,null,null,null,{"$f":"IF(D2278=\"\",\"\",COUNTIF(Tabulka5[Data],D2278))","v":""},"","","",""]
[null,null,null,null,{"$f":"IF(D2279=\"\",\"\",COUNTIF(Tabulka5[Data],D2279))","v":""},"","","",""]
[null,null,null,null,{"$f":"IF(D2280=\"\",\"\",COUNTIF(Tabulka5[Data],D2280))","v":""},"","","",""]
[null,null,null,null,{"$f":"IF(D2281=\"\",\"\",COUNTIF(Tabulka5[Data],D2281))","v":""},"","","",""]
[null,null,null,null,{"$f":"IF(D2282=\"\",\"\",COUNTIF(Tabulka5[Data],D2282))","v":""},"","","",""]
[null,null,null,null,{"$f":"IF(D2283=\"\",\"\",COUNTIF(Tabulka5[Data],D2283))","v":""},"","","",""]
[null,null,null,null,{"$f":"IF(D2284=\"\",\"\",COUNTIF(Tabulka5[Data],D2284))","v":""},"","","",""]
[null,null,null,null,{"$f":"IF(D2285=\"\",\"\",COUNTIF(Tabulka5[Data],D2285))","v":""},"","","",""]
[null,null,null,null,{"$f":"IF(D2286=\"\",\"\",COUNTIF(Tabulka5[Data],D2286))","v":""},"","","",""]
[null,null,null,null,{"$f":"IF(D2287=\"\",\"\",COUNTIF(Tabulka5[Data],D2287))","v":""},"","","",""]
[null,null,null,null,{"$f":"IF(D2288=\"\",\"\",COUNTIF(Tabulka5[Data],D2288))","v":""},"","","",""]
[null,null,null,null,{"$f":"IF(D2289=\"\",\"\",COUNTIF(Tabulka5[Data],D2289))","v":""},"","","",""]
[null,null,null,null,{"$f":"IF(D2290=\"\",\"\",COUNTIF(Tabulka5[Data],D2290))","v":""},"","","",""]
[null,null,null,null,{"$f":"IF(D2291=\"\",\"\",COUNTIF(Tabulka5[Data],D2291))","v":""},"","","",""]
[null,null,null,null,{"$f":"IF(D2292=\"\",\"\",COUNTIF(Tabulka5[Data],D2292))","v":""},"","","",""]
[null,null,null,null,{"$f":"IF(D2293=\"\",\"\",COUNTIF(Tabulka5[Data],D2293))","v":""},"","","",""]
[null,null,null,null,{"$f":"IF(D2294=\"\",\"\",COUNTIF(Tabulka5[Data],D2294))","v":""},"","","",""]
[null,null,null,null,{"$f":"IF(D2295=\"\",\"\",COUNTIF(Tabulka5[Data],D2295))","v":""},"","","",""]
[null,null,null,null,{"$f":"IF(D2296=\"\",\"\",COUNTIF(Tabulka5[Data],D2296))","v":""},"","","",""]
[null,null,null,null,{"$f":"IF(D2297=\"\",\"\",COUNTIF(Tabulka5[Data],D2297))","v":""},"","","",""]
[null,null,null,null,{"$f":"IF(D2298=\"\",\"\",COUNTIF(Tabulka5[Data],D2298))","v":""},"","","",""]
[null,null,null,null,{"$f":"IF(D2299=\"\",\"\",COUNTIF(Tabulka5[Data],D2299))","v":""},"","","",""]
[null,null,null,null,{"$f":"IF(D2300=\"\",\"\",COUNTIF(Tabulka5[Data],D2300))","v":""},"","","",""]
[null,null,null,null,{"$f":"IF(D2301=\"\",\"\",COUNTIF(Tabulka5[Data],D2301))","v":""},"","","",""]
[null,null,null,null,{"$f":"IF(D2302=\"\",\"\",COUNTIF(Tabulka5[Data],D2302))","v":""},"","","",""]
[null,null,null,null,{"$f":"IF(D2303=\"\",\"\",COUNTIF(Tabulka5[Data],D2303))","v":""},"","","",""]
[null,null,null,null,{"$f":"IF(D2304=\"\",\"\",COUNTIF(Tabulka5[Data],D2304))","v":""},"","","",""]
[null,null,null,null,{"$f":"IF(D2305=\"\",\"\",COUNTIF(Tabulka5[Data],D2305))","v":""},"","","",""]
[null,null,null,null,{"$f":"IF(D2306=\"\",\"\",COUNTIF(Tabulka5[Data],D2306))","v":""},"","","",""]
[null,null,null,null,{"$f":"IF(D2307=\"\",\"\",COUNTIF(Tabulka5[Data],D2307))","v":""},"","","",""]
[null,null,null,null,{"$f":"IF(D2308=\"\",\"\",COUNTIF(Tabulka5[Data],D2308))","v":""},"","","",""]
[null,null,null,null,{"$f":"IF(D2309=\"\",\"\",COUNTIF(Tabulka5[Data],D2309))","v":""},"","","",""]
[null,null,null,null,{"$f":"IF(D2310=\"\",\"\",COUNTIF(Tabulka5[Data],D2310))","v":""},"","","",""]
[null,null,null,null,{"$f":"IF(D2311=\"\",\"\",COUNTIF(Tabulka5[Data],D2311))","v":""},"","","",""]
[null,null,null,null,{"$f":"IF(D2312=\"\",\"\",COUNTIF(Tabulka5[Data],D2312))","v":""},"","","",""]
[null,null,null,null,{"$f":"IF(D2313=\"\",\"\",COUNTIF(Tabulka5[Data],D2313))","v":""},"","","",""]
[null,null,null,null,{"$f":"IF(D2314=\"\",\"\",COUNTIF(Tabulka5[Data],D2314))","v":""},"","","",""]
[null,null,null,null,{"$f":"IF(D2315=\"\",\"\",COUNTIF(Tabulka5[Data],D2315))","v":""},"","","",""]
[null,null,null,null,{"$f":"IF(D2316=\"\",\"\",COUNTIF(Tabulka5[Data],D2316))","v":""},"","","",""]
[null,null,null,null,{"$f":"IF(D2317=\"\",\"\",COUNTIF(Tabulka5[Data],D2317))","v":""},"","","",""]
[null,null,null,null,{"$f":"IF(D2318=\"\",\"\",COUNTIF(Tabulka5[Data],D2318))","v":""},"","","",""]
[null,null,null,null,{"$f":"IF(D2319=\"\",\"\",COUNTIF(Tabulka5[Data],D2319))","v":""},"","","",""]
[null,null,null,null,{"$f":"IF(D2320=\"\",\"\",COUNTIF(Tabulka5[Data],D2320))","v":""},"","","",""]
[null,null,null,null,{"$f":"IF(D2321=\"\",\"\",COUNTIF(Tabulka5[Data],D2321))","v":""},{"$f":"IF(OR($K$11=0,D2321=\"\"),\"\",IF(D2322=\"\",1-I2320,ROUND(E2321/SUM($E$15:$E$6350),3)))","v":""},{"$f":"IF(OR(D2321=\"\",$A$11=\"nominální\"),\"\",G2320+E2321)","v":""},{"$f":"IF(OR($K$11=0,D2321=\"\",$A$11=\"nominální\"),\"\",H2320+F2321)","v":""},{"$f":"IF(OR($K$11=0,D2321=\"\"),\"\",I2320+F2321)","v":""}]
[null,null,null,null,{"$f":"IF(D2322=\"\",\"\",COUNTIF(Tabulka5[Data],D2322))","v":""},"","","",""]
[null,null,null,null,{"$f":"IF(D2323=\"\",\"\",COUNTIF(Tabulka5[Data],D2323))","v":""},"","","",""]
[null,null,null,null,{"$f":"IF(D2324=\"\",\"\",COUNTIF(Tabulka5[Data],D2324))","v":""},"","","",""]
[null,null,null,null,{"$f":"IF(D2325=\"\",\"\",COUNTIF(Tabulka5[Data],D2325))","v":""},"","","",""]
[null,null,null,null,{"$f":"IF(D2326=\"\",\"\",COUNTIF(Tabulka5[Data],D2326))","v":""},"","","",""]
[null,null,null,null,{"$f":"IF(D2327=\"\",\"\",COUNTIF(Tabulka5[Data],D2327))","v":""},"","","",""]
[null,null,null,null,{"$f":"IF(D2328=\"\",\"\",COUNTIF(Tabulka5[Data],D2328))","v":""},"","","",""]
[null,null,null,null,{"$f":"IF(D2329=\"\",\"\",COUNTIF(Tabulka5[Data],D2329))","v":""},"","","",""]
[null,null,null,null,{"$f":"IF(D2330=\"\",\"\",COUNTIF(Tabulka5[Data],D2330))","v":""},"","","",""]
[null,null,null,null,{"$f":"IF(D2331=\"\",\"\",COUNTIF(Tabulka5[Data],D2331))","v":""},"","","",""]
[null,null,null,null,{"$f":"IF(D2332=\"\",\"\",COUNTIF(Tabulka5[Data],D2332))","v":""},"","","",""]
[null,null,null,null,{"$f":"IF(D2333=\"\",\"\",COUNTIF(Tabulka5[Data],D2333))","v":""},"","","",""]
[null,null,null,null,{"$f":"IF(D2334=\"\",\"\",COUNTIF(Tabulka5[Data],D2334))","v":""},"","","",""]
[null,null,null,null,{"$f":"IF(D2335=\"\",\"\",COUNTIF(Tabulka5[Data],D2335))","v":""},"","","",""]
[null,null,null,null,{"$f":"IF(D2336=\"\",\"\",COUNTIF(Tabulka5[Data],D2336))","v":""},"","","",""]
[null,null,null,null,{"$f":"IF(D2337=\"\",\"\",COUNTIF(Tabulka5[Data],D2337))","v":""},"","","",""]
[null,null,null,null,{"$f":"IF(D2338=\"\",\"\",COUNTIF(Tabulka5[Data],D2338))","v":""},"","","",""]
[null,null,null,null,{"$f":"IF(D2339=\"\",\"\",COUNTIF(Tabulka5[Data],D2339))","v":""},"","","",""]
[null,null,null,null,{"$f":"IF(D2340=\"\",\"\",COUNTIF(Tabulka5[Data],D2340))","v":""},"","","",""]
[null,null,null,null,{"$f":"IF(D2341=\"\",\"\",COUNTIF(Tabulka5[Data],D2341))","v":""},"","","",""]
[null,null,null,null,{"$f":"IF(D2342=\"\",\"\",COUNTIF(Tabulka5[Data],D2342))","v":""},"","","",""]
[null,null,null,null,{"$f":"IF(D2343=\"\",\"\",COUNTIF(Tabulka5[Data],D2343))","v":""},"","","",""]
[null,null,null,null,{"$f":"IF(D2344=\"\",\"\",COUNTIF(Tabulka5[Data],D2344))","v":""},"","","",""]
[null,null,null,null,{"$f":"IF(D2345=\"\",\"\",COUNTIF(Tabulka5[Data],D2345))","v":""},"","","",""]
[null,null,null,null,{"$f":"IF(D2346=\"\",\"\",COUNTIF(Tabulka5[Data],D2346))","v":""},"","","",""]
[null,null,null,null,{"$f":"IF(D2347=\"\",\"\",COUNTIF(Tabulka5[Data],D2347))","v":""},"","","",""]
[null,null,null,null,{"$f":"IF(D2348=\"\",\"\",COUNTIF(Tabulka5[Data],D2348))","v":""},"","","",""]
[null,null,null,null,{"$f":"IF(D2349=\"\",\"\",COUNTIF(Tabulka5[Data],D2349))","v":""},"","","",""]
[null,null,null,null,{"$f":"IF(D2350=\"\",\"\",COUNTIF(Tabulka5[Data],D2350))","v":""},"","","",""]
[null,null,null,null,{"$f":"IF(D2351=\"\",\"\",COUNTIF(Tabulka5[Data],D2351))","v":""},"","","",""]
[null,null,null,null,{"$f":"IF(D2352=\"\",\"\",COUNTIF(Tabulka5[Data],D2352))","v":""},"","","",""]
[null,null,null,null,{"$f":"IF(D2353=\"\",\"\",COUNTIF(Tabulka5[Data],D2353))","v":""},"","","",""]
[null,null,null,null,{"$f":"IF(D2354=\"\",\"\",COUNTIF(Tabulka5[Data],D2354))","v":""},"","","",""]
[null,null,null,null,{"$f":"IF(D2355=\"\",\"\",COUNTIF(Tabulka5[Data],D2355))","v":""},"","","",""]
[null,null,null,null,{"$f":"IF(D2356=\"\",\"\",COUNTIF(Tabulka5[Data],D2356))","v":""},"","","",""]
[null,null,null,null,{"$f":"IF(D2357=\"\",\"\",COUNTIF(Tabulka5[Data],D2357))","v":""},"","","",""]
[null,null,null,null,{"$f":"IF(D2358=\"\",\"\",COUNTIF(Tabulka5[Data],D2358))","v":""},"","","",""]
[null,null,null,null,{"$f":"IF(D2359=\"\",\"\",COUNTIF(Tabulka5[Data],D2359))","v":""},"","","",""]
[null,null,null,null,{"$f":"IF(D2360=\"\",\"\",COUNTIF(Tabulka5[Data],D2360))","v":""},"","","",""]
[null,null,null,null,{"$f":"IF(D2361=\"\",\"\",COUNTIF(Tabulka5[Data],D2361))","v":""},"","","",""]
[null,null,null,null,{"$f":"IF(D2362=\"\",\"\",COUNTIF(Tabulka5[Data],D2362))","v":""},"","","",""]
[null,null,null,null,{"$f":"IF(D2363=\"\",\"\",COUNTIF(Tabulka5[Data],D2363))","v":""},"","","",""]
[null,null,null,null,{"$f":"IF(D2364=\"\",\"\",COUNTIF(Tabulka5[Data],D2364))","v":""},"","","",""]
[null,null,null,null,{"$f":"IF(D2365=\"\",\"\",COUNTIF(Tabulka5[Data],D2365))","v":""},"","","",""]
[null,null,null,null,{"$f":"IF(D2366=\"\",\"\",COUNTIF(Tabulka5[Data],D2366))","v":""},"","","",""]
[null,null,null,null,{"$f":"IF(D2367=\"\",\"\",COUNTIF(Tabulka5[Data],D2367))","v":""},"","","",""]
[null,null,null,null,{"$f":"IF(D2368=\"\",\"\",COUNTIF(Tabulka5[Data],D2368))","v":""},"","","",""]
[null,null,null,null,{"$f":"IF(D2369=\"\",\"\",COUNTIF(Tabulka5[Data],D2369))","v":""},"","","",""]
[null,null,null,null,{"$f":"IF(D2370=\"\",\"\",COUNTIF(Tabulka5[Data],D2370))","v":""},"","","",""]
[null,null,null,null,{"$f":"IF(D2371=\"\",\"\",COUNTIF(Tabulka5[Data],D2371))","v":""},"","","",""]
[null,null,null,null,{"$f":"IF(D2372=\"\",\"\",COUNTIF(Tabulka5[Data],D2372))","v":""},"","","",""]
[null,null,null,null,{"$f":"IF(D2373=\"\",\"\",COUNTIF(Tabulka5[Data],D2373))","v":""},"","","",""]
[null,null,null,null,{"$f":"IF(D2374=\"\",\"\",COUNTIF(Tabulka5[Data],D2374))","v":""},"","","",""]
[null,null,null,null,{"$f":"IF(D2375=\"\",\"\",COUNTIF(Tabulka5[Data],D2375))","v":""},"","","",""]
[null,null,null,null,{"$f":"IF(D2376=\"\",\"\",COUNTIF(Tabulka5[Data],D2376))","v":""},"","","",""]
[null,null,null,null,{"$f":"IF(D2377=\"\",\"\",COUNTIF(Tabulka5[Data],D2377))","v":""},"","","",""]
[null,null,null,null,{"$f":"IF(D2378=\"\",\"\",COUNTIF(Tabulka5[Data],D2378))","v":""},"","","",""]
[null,null,null,null,{"$f":"IF(D2379=\"\",\"\",COUNTIF(Tabulka5[Data],D2379))","v":""},"","","",""]
[null,null,null,null,{"$f":"IF(D2380=\"\",\"\",COUNTIF(Tabulka5[Data],D2380))","v":""},"","","",""]
[null,null,null,null,{"$f":"IF(D2381=\"\",\"\",COUNTIF(Tabulka5[Data],D2381))","v":""},"","","",""]
[null,null,null,null,{"$f":"IF(D2382=\"\",\"\",COUNTIF(Tabulka5[Data],D2382))","v":""},"","","",""]
[null,null,null,null,{"$f":"IF(D2383=\"\",\"\",COUNTIF(Tabulka5[Data],D2383))","v":""},"","","",""]
[null,null,null,null,{"$f":"IF(D2384=\"\",\"\",COUNTIF(Tabulka5[Data],D2384))","v":""},"","","",""]
[null,null,null,null,{"$f":"IF(D2385=\"\",\"\",COUNTIF(Tabulka5[Data],D2385))","v":""},{"$f":"IF(OR($K$11=0,D2385=\"\"),\"\",IF(D2386=\"\",1-I2384,ROUND(E2385/SUM($E$15:$E$6350),3)))","v":""},{"$f":"IF(OR(D2385=\"\",$A$11=\"nominální\"),\"\",G2384+E2385)","v":""},{"$f":"IF(OR($K$11=0,D2385=\"\",$A$11=\"nominální\"),\"\",H2384+F2385)","v":""},{"$f":"IF(OR($K$11=0,D2385=\"\"),\"\",I2384+F2385)","v":""}]
[null,null,null,null,{"$f":"IF(D2386=\"\",\"\",COUNTIF(Tabulka5[Data],D2386))","v":""},"","","",""]
[null,null,null,null,{"$f":"IF(D2387=\"\",\"\",COUNTIF(Tabulka5[Data],D2387))","v":""},"","","",""]
[null,null,null,null,{"$f":"IF(D2388=\"\",\"\",COUNTIF(Tabulka5[Data],D2388))","v":""},"","","",""]
[null,null,null,null,{"$f":"IF(D2389=\"\",\"\",COUNTIF(Tabulka5[Data],D2389))","v":""},"","","",""]
[null,null,null,null,{"$f":"IF(D2390=\"\",\"\",COUNTIF(Tabulka5[Data],D2390))","v":""},"","","",""]
[null,null,null,null,{"$f":"IF(D2391=\"\",\"\",COUNTIF(Tabulka5[Data],D2391))","v":""},"","","",""]
[null,null,null,null,{"$f":"IF(D2392=\"\",\"\",COUNTIF(Tabulka5[Data],D2392))","v":""},"","","",""]
[null,null,null,null,{"$f":"IF(D2393=\"\",\"\",COUNTIF(Tabulka5[Data],D2393))","v":""},"","","",""]
[null,null,null,null,{"$f":"IF(D2394=\"\",\"\",COUNTIF(Tabulka5[Data],D2394))","v":""},"","","",""]
[null,null,null,null,{"$f":"IF(D2395=\"\",\"\",COUNTIF(Tabulka5[Data],D2395))","v":""},"","","",""]
[null,null,null,null,{"$f":"IF(D2396=\"\",\"\",COUNTIF(Tabulka5[Data],D2396))","v":""},"","","",""]
[null,null,null,null,{"$f":"IF(D2397=\"\",\"\",COUNTIF(Tabulka5[Data],D2397))","v":""},"","","",""]
[null,null,null,null,{"$f":"IF(D2398=\"\",\"\",COUNTIF(Tabulka5[Data],D2398))","v":""},"","","",""]
[null,null,null,null,{"$f":"IF(D2399=\"\",\"\",COUNTIF(Tabulka5[Data],D2399))","v":""},"","","",""]
[null,null,null,null,{"$f":"IF(D2400=\"\",\"\",COUNTIF(Tabulka5[Data],D2400))","v":""},"","","",""]
[null,null,null,null,{"$f":"IF(D2401=\"\",\"\",COUNTIF(Tabulka5[Data],D2401))","v":""},"","","",""]
[null,null,null,null,{"$f":"IF(D2402=\"\",\"\",COUNTIF(Tabulka5[Data],D2402))","v":""},"","","",""]
[null,null,null,null,{"$f":"IF(D2403=\"\",\"\",COUNTIF(Tabulka5[Data],D2403))","v":""},"","","",""]
[null,null,null,null,{"$f":"IF(D2404=\"\",\"\",COUNTIF(Tabulka5[Data],D2404))","v":""},"","","",""]
[null,null,null,null,{"$f":"IF(D2405=\"\",\"\",COUNTIF(Tabulka5[Data],D2405))","v":""},"","","",""]
[null,null,null,null,{"$f":"IF(D2406=\"\",\"\",COUNTIF(Tabulka5[Data],D2406))","v":""},"","","",""]
[null,null,null,null,{"$f":"IF(D2407=\"\",\"\",COUNTIF(Tabulka5[Data],D2407))","v":""},"","","",""]
[null,null,null,null,{"$f":"IF(D2408=\"\",\"\",COUNTIF(Tabulka5[Data],D2408))","v":""},"","","",""]
[null,null,null,null,{"$f":"IF(D2409=\"\",\"\",COUNTIF(Tabulka5[Data],D2409))","v":""},"","","",""]
[null,null,null,null,{"$f":"IF(D2410=\"\",\"\",COUNTIF(Tabulka5[Data],D2410))","v":""},"","","",""]
[null,null,null,null,{"$f":"IF(D2411=\"\",\"\",COUNTIF(Tabulka5[Data],D2411))","v":""},"","","",""]
[null,null,null,null,{"$f":"IF(D2412=\"\",\"\",COUNTIF(Tabulka5[Data],D2412))","v":""},"","","",""]
[null,null,null,null,{"$f":"IF(D2413=\"\",\"\",COUNTIF(Tabulka5[Data],D2413))","v":""},"","","",""]
[null,null,null,null,{"$f":"IF(D2414=\"\",\"\",COUNTIF(Tabulka5[Data],D2414))","v":""},"","","",""]
[null,null,null,null,{"$f":"IF(D2415=\"\",\"\",COUNTIF(Tabulka5[Data],D2415))","v":""},"","","",""]
[null,null,null,null,{"$f":"IF(D2416=\"\",\"\",COUNTIF(Tabulka5[Data],D2416))","v":""},"","","",""]
[null,null,null,null,{"$f":"IF(D2417=\"\",\"\",COUNTIF(Tabulka5[Data],D2417))","v":""},"","","",""]
[null,null,null,null,{"$f":"IF(D2418=\"\",\"\",COUNTIF(Tabulka5[Data],D2418))","v":""},"","","",""]
[null,null,null,null,{"$f":"IF(D2419=\"\",\"\",COUNTIF(Tabulka5[Data],D2419))","v":""},"","","",""]
[null,null,null,null,{"$f":"IF(D2420=\"\",\"\",COUNTIF(Tabulka5[Data],D2420))","v":""},"","","",""]
[null,null,null,null,{"$f":"IF(D2421=\"\",\"\",COUNTIF(Tabulka5[Data],D2421))","v":""},"","","",""]
[null,null,null,null,{"$f":"IF(D2422=\"\",\"\",COUNTIF(Tabulka5[Data],D2422))","v":""},"","","",""]
[null,null,null,null,{"$f":"IF(D2423=\"\",\"\",COUNTIF(Tabulka5[Data],D2423))","v":""},"","","",""]
[null,null,null,null,{"$f":"IF(D2424=\"\",\"\",COUNTIF(Tabulka5[Data],D2424))","v":""},"","","",""]
[null,null,null,null,{"$f":"IF(D2425=\"\",\"\",COUNTIF(Tabulka5[Data],D2425))","v":""},"","","",""]
[null,null,null,null,{"$f":"IF(D2426=\"\",\"\",COUNTIF(Tabulka5[Data],D2426))","v":""},"","","",""]
[null,null,null,null,{"$f":"IF(D2427=\"\",\"\",COUNTIF(Tabulka5[Data],D2427))","v":""},"","","",""]
[null,null,null,null,{"$f":"IF(D2428=\"\",\"\",COUNTIF(Tabulka5[Data],D2428))","v":""},"","","",""]
[null,null,null,null,{"$f":"IF(D2429=\"\",\"\",COUNTIF(Tabulka5[Data],D2429))","v":""},"","","",""]
[null,null,null,null,{"$f":"IF(D2430=\"\",\"\",COUNTIF(Tabulka5[Data],D2430))","v":""},"","","",""]
[null,null,null,null,{"$f":"IF(D2431=\"\",\"\",COUNTIF(Tabulka5[Data],D2431))","v":""},"","","",""]
[null,null,null,null,{"$f":"IF(D2432=\"\",\"\",COUNTIF(Tabulka5[Data],D2432))","v":""},"","","",""]
[null,null,null,null,{"$f":"IF(D2433=\"\",\"\",COUNTIF(Tabulka5[Data],D2433))","v":""},"","","",""]
[null,null,null,null,{"$f":"IF(D2434=\"\",\"\",COUNTIF(Tabulka5[Data],D2434))","v":""},"","","",""]
[null,null,null,null,{"$f":"IF(D2435=\"\",\"\",COUNTIF(Tabulka5[Data],D2435))","v":""},"","","",""]
[null,null,null,null,{"$f":"IF(D2436=\"\",\"\",COUNTIF(Tabulka5[Data],D2436))","v":""},"","","",""]
[null,null,null,null,{"$f":"IF(D2437=\"\",\"\",COUNTIF(Tabulka5[Data],D2437))","v":""},"","","",""]
[null,null,null,null,{"$f":"IF(D2438=\"\",\"\",COUNTIF(Tabulka5[Data],D2438))","v":""},"","","",""]
[null,null,null,null,{"$f":"IF(D2439=\"\",\"\",COUNTIF(Tabulka5[Data],D2439))","v":""},"","","",""]
[null,null,null,null,{"$f":"IF(D2440=\"\",\"\",COUNTIF(Tabulka5[Data],D2440))","v":""},"","","",""]
[null,null,null,null,{"$f":"IF(D2441=\"\",\"\",COUNTIF(Tabulka5[Data],D2441))","v":""},"","","",""]
[null,null,null,null,{"$f":"IF(D2442=\"\",\"\",COUNTIF(Tabulka5[Data],D2442))","v":""},"","","",""]
[null,null,null,null,{"$f":"IF(D2443=\"\",\"\",COUNTIF(Tabulka5[Data],D2443))","v":""},"","","",""]
[null,null,null,null,{"$f":"IF(D2444=\"\",\"\",COUNTIF(Tabulka5[Data],D2444))","v":""},"","","",""]
[null,null,null,null,{"$f":"IF(D2445=\"\",\"\",COUNTIF(Tabulka5[Data],D2445))","v":""},"","","",""]
[null,null,null,null,{"$f":"IF(D2446=\"\",\"\",COUNTIF(Tabulka5[Data],D2446))","v":""},"","","",""]
[null,null,null,null,{"$f":"IF(D2447=\"\",\"\",COUNTIF(Tabulka5[Data],D2447))","v":""},"","","",""]
[null,null,null,null,{"$f":"IF(D2448=\"\",\"\",COUNTIF(Tabulka5[Data],D2448))","v":""},"","","",""]
[null,null,null,null,{"$f":"IF(D2449=\"\",\"\",COUNTIF(Tabulka5[Data],D2449))","v":""},{"$f":"IF(OR($K$11=0,D2449=\"\"),\"\",IF(D2450=\"\",1-I2448,ROUND(E2449/SUM($E$15:$E$6350),3)))","v":""},{"$f":"IF(OR(D2449=\"\",$A$11=\"nominální\"),\"\",G2448+E2449)","v":""},{"$f":"IF(OR($K$11=0,D2449=\"\",$A$11=\"nominální\"),\"\",H2448+F2449)","v":""},{"$f":"IF(OR($K$11=0,D2449=\"\"),\"\",I2448+F2449)","v":""}]
[null,null,null,null,{"$f":"IF(D2450=\"\",\"\",COUNTIF(Tabulka5[Data],D2450))","v":""},"","","",""]
[null,null,null,null,{"$f":"IF(D2451=\"\",\"\",COUNTIF(Tabulka5[Data],D2451))","v":""},"","","",""]
[null,null,null,null,{"$f":"IF(D2452=\"\",\"\",COUNTIF(Tabulka5[Data],D2452))","v":""},"","","",""]
[null,null,null,null,{"$f":"IF(D2453=\"\",\"\",COUNTIF(Tabulka5[Data],D2453))","v":""},"","","",""]
[null,null,null,null,{"$f":"IF(D2454=\"\",\"\",COUNTIF(Tabulka5[Data],D2454))","v":""},"","","",""]
[null,null,null,null,{"$f":"IF(D2455=\"\",\"\",COUNTIF(Tabulka5[Data],D2455))","v":""},"","","",""]
[null,null,null,null,{"$f":"IF(D2456=\"\",\"\",COUNTIF(Tabulka5[Data],D2456))","v":""},"","","",""]
[null,null,null,null,{"$f":"IF(D2457=\"\",\"\",COUNTIF(Tabulka5[Data],D2457))","v":""},"","","",""]
[null,null,null,null,{"$f":"IF(D2458=\"\",\"\",COUNTIF(Tabulka5[Data],D2458))","v":""},"","","",""]
[null,null,null,null,{"$f":"IF(D2459=\"\",\"\",COUNTIF(Tabulka5[Data],D2459))","v":""},"","","",""]
[null,null,null,null,{"$f":"IF(D2460=\"\",\"\",COUNTIF(Tabulka5[Data],D2460))","v":""},"","","",""]
[null,null,null,null,{"$f":"IF(D2461=\"\",\"\",COUNTIF(Tabulka5[Data],D2461))","v":""},"","","",""]
[null,null,null,null,{"$f":"IF(D2462=\"\",\"\",COUNTIF(Tabulka5[Data],D2462))","v":""},"","","",""]
[null,null,null,null,{"$f":"IF(D2463=\"\",\"\",COUNTIF(Tabulka5[Data],D2463))","v":""},"","","",""]
[null,null,null,null,{"$f":"IF(D2464=\"\",\"\",COUNTIF(Tabulka5[Data],D2464))","v":""},"","","",""]
[null,null,null,null,{"$f":"IF(D2465=\"\",\"\",COUNTIF(Tabulka5[Data],D2465))","v":""},"","","",""]
[null,null,null,null,{"$f":"IF(D2466=\"\",\"\",COUNTIF(Tabulka5[Data],D2466))","v":""},"","","",""]
[null,null,null,null,{"$f":"IF(D2467=\"\",\"\",COUNTIF(Tabulka5[Data],D2467))","v":""},"","","",""]
[null,null,null,null,{"$f":"IF(D2468=\"\",\"\",COUNTIF(Tabulka5[Data],D2468))","v":""},"","","",""]
[null,null,null,null,{"$f":"IF(D2469=\"\",\"\",COUNTIF(Tabulka5[Data],D2469))","v":""},"","","",""]
[null,null,null,null,{"$f":"IF(D2470=\"\",\"\",COUNTIF(Tabulka5[Data],D2470))","v":""},"","","",""]
[null,null,null,null,{"$f":"IF(D2471=\"\",\"\",COUNTIF(Tabulka5[Data],D2471))","v":""},"","","",""]
[null,null,null,null,{"$f":"IF(D2472=\"\",\"\",COUNTIF(Tabulka5[Data],D2472))","v":""},"","","",""]
[null,null,null,null,{"$f":"IF(D2473=\"\",\"\",COUNTIF(Tabulka5[Data],D2473))","v":""},"","","",""]
[null,null,null,null,{"$f":"IF(D2474=\"\",\"\",COUNTIF(Tabulka5[Data],D2474))","v":""},"","","",""]
[null,null,null,null,{"$f":"IF(D2475=\"\",\"\",COUNTIF(Tabulka5[Data],D2475))","v":""},"","","",""]
[null,null,null,null,{"$f":"IF(D2476=\"\",\"\",COUNTIF(Tabulka5[Data],D2476))","v":""},"","","",""]
[null,null,null,null,{"$f":"IF(D2477=\"\",\"\",COUNTIF(Tabulka5[Data],D2477))","v":""},"","","",""]
[null,null,null,null,{"$f":"IF(D2478=\"\",\"\",COUNTIF(Tabulka5[Data],D2478))","v":""},"","","",""]
[null,null,null,null,{"$f":"IF(D2479=\"\",\"\",COUNTIF(Tabulka5[Data],D2479))","v":""},"","","",""]
[null,null,null,null,{"$f":"IF(D2480=\"\",\"\",COUNTIF(Tabulka5[Data],D2480))","v":""},"","","",""]
[null,null,null,null,{"$f":"IF(D2481=\"\",\"\",COUNTIF(Tabulka5[Data],D2481))","v":""},"","","",""]
[null,null,null,null,{"$f":"IF(D2482=\"\",\"\",COUNTIF(Tabulka5[Data],D2482))","v":""},"","","",""]
[null,null,null,null,{"$f":"IF(D2483=\"\",\"\",COUNTIF(Tabulka5[Data],D2483))","v":""},"","","",""]
[null,null,null,null,{"$f":"IF(D2484=\"\",\"\",COUNTIF(Tabulka5[Data],D2484))","v":""},"","","",""]
[null,null,null,null,{"$f":"IF(D2485=\"\",\"\",COUNTIF(Tabulka5[Data],D2485))","v":""},"","","",""]
[null,null,null,null,{"$f":"IF(D2486=\"\",\"\",COUNTIF(Tabulka5[Data],D2486))","v":""},"","","",""]
[null,null,null,null,{"$f":"IF(D2487=\"\",\"\",COUNTIF(Tabulka5[Data],D2487))","v":""},"","","",""]
[null,null,null,null,{"$f":"IF(D2488=\"\",\"\",COUNTIF(Tabulka5[Data],D2488))","v":""},"","","",""]
[null,null,null,null,{"$f":"IF(D2489=\"\",\"\",COUNTIF(Tabulka5[Data],D2489))","v":""},"","","",""]
[null,null,null,null,{"$f":"IF(D2490=\"\",\"\",COUNTIF(Tabulka5[Data],D2490))","v":""},"","","",""]
[null,null,null,null,{"$f":"IF(D2491=\"\",\"\",COUNTIF(Tabulka5[Data],D2491))","v":""},"","","",""]
[null,null,null,null,{"$f":"IF(D2492=\"\",\"\",COUNTIF(Tabulka5[Data],D2492))","v":""},"","","",""]
[null,null,null,null,{"$f":"IF(D2493=\"\",\"\",COUNTIF(Tabulka5[Data],D2493))","v":""},"","","",""]
[null,null,null,null,{"$f":"IF(D2494=\"\",\"\",COUNTIF(Tabulka5[Data],D2494))","v":""},"","","",""]
[null,null,null,null,{"$f":"IF(D2495=\"\",\"\",COUNTIF(Tabulka5[Data],D2495))","v":""},"","","",""]
[null,null,null,null,{"$f":"IF(D2496=\"\",\"\",COUNTIF(Tabulka5[Data],D2496))","v":""},"","","",""]
[null,null,null,null,{"$f":"IF(D2497=\"\",\"\",COUNTIF(Tabulka5[Data],D2497))","v":""},"","","",""]
[null,null,null,null,{"$f":"IF(D2498=\"\",\"\",COUNTIF(Tabulka5[Data],D2498))","v":""},"","","",""]
[null,null,null,null,{"$f":"IF(D2499=\"\",\"\",COUNTIF(Tabulka5[Data],D2499))","v":""},"","","",""]
[null,null,null,null,{"$f":"IF(D2500=\"\",\"\",COUNTIF(Tabulka5[Data],D2500))","v":""},"","","",""]
[null,null,null,null,{"$f":"IF(D2501=\"\",\"\",COUNTIF(Tabulka5[Data],D2501))","v":""},"","","",""]
[null,null,null,null,{"$f":"IF(D2502=\"\",\"\",COUNTIF(Tabulka5[Data],D2502))","v":""},"","","",""]
[null,null,null,null,{"$f":"IF(D2503=\"\",\"\",COUNTIF(Tabulka5[Data],D2503))","v":""},"","","",""]
[null,null,null,null,{"$f":"IF(D2504=\"\",\"\",COUNTIF(Tabulka5[Data],D2504))","v":""},"","","",""]
[null,null,null,null,{"$f":"IF(D2505=\"\",\"\",COUNTIF(Tabulka5[Data],D2505))","v":""},"","","",""]
[null,null,null,null,{"$f":"IF(D2506=\"\",\"\",COUNTIF(Tabulka5[Data],D2506))","v":""},"","","",""]
[null,null,null,null,{"$f":"IF(D2507=\"\",\"\",COUNTIF(Tabulka5[Data],D2507))","v":""},"","","",""]
[null,null,null,null,{"$f":"IF(D2508=\"\",\"\",COUNTIF(Tabulka5[Data],D2508))","v":""},"","","",""]
[null,null,null,null,{"$f":"IF(D2509=\"\",\"\",COUNTIF(Tabulka5[Data],D2509))","v":""},"","","",""]
[null,null,null,null,{"$f":"IF(D2510=\"\",\"\",COUNTIF(Tabulka5[Data],D2510))","v":""},"","","",""]
[null,null,null,null,{"$f":"IF(D2511=\"\",\"\",COUNTIF(Tabulka5[Data],D2511))","v":""},"","","",""]
[null,null,null,null,{"$f":"IF(D2512=\"\",\"\",COUNTIF(Tabulka5[Data],D2512))","v":""},"","","",""]
[null,null,null,null,{"$f":"IF(D2513=\"\",\"\",COUNTIF(Tabulka5[Data],D2513))","v":""},{"$f":"IF(OR($K$11=0,D2513=\"\"),\"\",IF(D2514=\"\",1-I2512,ROUND(E2513/SUM($E$15:$E$6350),3)))","v":""},{"$f":"IF(OR(D2513=\"\",$A$11=\"nominální\"),\"\",G2512+E2513)","v":""},{"$f":"IF(OR($K$11=0,D2513=\"\",$A$11=\"nominální\"),\"\",H2512+F2513)","v":""},{"$f":"IF(OR($K$11=0,D2513=\"\"),\"\",I2512+F2513)","v":""}]
[null,null,null,null,{"$f":"IF(D2514=\"\",\"\",COUNTIF(Tabulka5[Data],D2514))","v":""},"","","",""]
[null,null,null,null,{"$f":"IF(D2515=\"\",\"\",COUNTIF(Tabulka5[Data],D2515))","v":""},"","","",""]
[null,null,null,null,{"$f":"IF(D2516=\"\",\"\",COUNTIF(Tabulka5[Data],D2516))","v":""},"","","",""]
[null,null,null,null,{"$f":"IF(D2517=\"\",\"\",COUNTIF(Tabulka5[Data],D2517))","v":""},"","","",""]
[null,null,null,null,{"$f":"IF(D2518=\"\",\"\",COUNTIF(Tabulka5[Data],D2518))","v":""},"","","",""]
[null,null,null,null,{"$f":"IF(D2519=\"\",\"\",COUNTIF(Tabulka5[Data],D2519))","v":""},"","","",""]
[null,null,null,null,{"$f":"IF(D2520=\"\",\"\",COUNTIF(Tabulka5[Data],D2520))","v":""},"","","",""]
[null,null,null,null,{"$f":"IF(D2521=\"\",\"\",COUNTIF(Tabulka5[Data],D2521))","v":""},"","","",""]
[null,null,null,null,{"$f":"IF(D2522=\"\",\"\",COUNTIF(Tabulka5[Data],D2522))","v":""},"","","",""]
[null,null,null,null,{"$f":"IF(D2523=\"\",\"\",COUNTIF(Tabulka5[Data],D2523))","v":""},"","","",""]
[null,null,null,null,{"$f":"IF(D2524=\"\",\"\",COUNTIF(Tabulka5[Data],D2524))","v":""},"","","",""]
[null,null,null,null,{"$f":"IF(D2525=\"\",\"\",COUNTIF(Tabulka5[Data],D2525))","v":""},"","","",""]
[null,null,null,null,{"$f":"IF(D2526=\"\",\"\",COUNTIF(Tabulka5[Data],D2526))","v":""},"","","",""]
[null,null,null,null,{"$f":"IF(D2527=\"\",\"\",COUNTIF(Tabulka5[Data],D2527))","v":""},"","","",""]
[null,null,null,null,{"$f":"IF(D2528=\"\",\"\",COUNTIF(Tabulka5[Data],D2528))","v":""},"","","",""]
[null,null,null,null,{"$f":"IF(D2529=\"\",\"\",COUNTIF(Tabulka5[Data],D2529))","v":""},"","","",""]
[null,null,null,null,{"$f":"IF(D2530=\"\",\"\",COUNTIF(Tabulka5[Data],D2530))","v":""},"","","",""]
[null,null,null,null,{"$f":"IF(D2531=\"\",\"\",COUNTIF(Tabulka5[Data],D2531))","v":""},"","","",""]
[null,null,null,null,{"$f":"IF(D2532=\"\",\"\",COUNTIF(Tabulka5[Data],D2532))","v":""},"","","",""]
[null,null,null,null,{"$f":"IF(D2533=\"\",\"\",COUNTIF(Tabulka5[Data],D2533))","v":""},"","","",""]
[null,null,null,null,{"$f":"IF(D2534=\"\",\"\",COUNTIF(Tabulka5[Data],D2534))","v":""},"","","",""]
[null,null,null,null,{"$f":"IF(D2535=\"\",\"\",COUNTIF(Tabulka5[Data],D2535))","v":""},"","","",""]
[null,null,null,null,{"$f":"IF(D2536=\"\",\"\",COUNTIF(Tabulka5[Data],D2536))","v":""},"","","",""]
[null,null,null,null,{"$f":"IF(D2537=\"\",\"\",COUNTIF(Tabulka5[Data],D2537))","v":""},"","","",""]
[null,null,null,null,{"$f":"IF(D2538=\"\",\"\",COUNTIF(Tabulka5[Data],D2538))","v":""},"","","",""]
[null,null,null,null,{"$f":"IF(D2539=\"\",\"\",COUNTIF(Tabulka5[Data],D2539))","v":""},"","","",""]
[null,null,null,null,{"$f":"IF(D2540=\"\",\"\",COUNTIF(Tabulka5[Data],D2540))","v":""},"","","",""]
[null,null,null,null,{"$f":"IF(D2541=\"\",\"\",COUNTIF(Tabulka5[Data],D2541))","v":""},"","","",""]
[null,null,null,null,{"$f":"IF(D2542=\"\",\"\",COUNTIF(Tabulka5[Data],D2542))","v":""},"","","",""]
[null,null,null,null,{"$f":"IF(D2543=\"\",\"\",COUNTIF(Tabulka5[Data],D2543))","v":""},"","","",""]
[null,null,null,null,{"$f":"IF(D2544=\"\",\"\",COUNTIF(Tabulka5[Data],D2544))","v":""},"","","",""]
[null,null,null,null,{"$f":"IF(D2545=\"\",\"\",COUNTIF(Tabulka5[Data],D2545))","v":""},"","","",""]
[null,null,null,null,{"$f":"IF(D2546=\"\",\"\",COUNTIF(Tabulka5[Data],D2546))","v":""},"","","",""]
[null,null,null,null,{"$f":"IF(D2547=\"\",\"\",COUNTIF(Tabulka5[Data],D2547))","v":""},"","","",""]
[null,null,null,null,{"$f":"IF(D2548=\"\",\"\",COUNTIF(Tabulka5[Data],D2548))","v":""},"","","",""]
[null,null,null,null,{"$f":"IF(D2549=\"\",\"\",COUNTIF(Tabulka5[Data],D2549))","v":""},"","","",""]
[null,null,null,null,{"$f":"IF(D2550=\"\",\"\",COUNTIF(Tabulka5[Data],D2550))","v":""},"","","",""]
[null,null,null,null,{"$f":"IF(D2551=\"\",\"\",COUNTIF(Tabulka5[Data],D2551))","v":""},"","","",""]
[null,null,null,null,{"$f":"IF(D2552=\"\",\"\",COUNTIF(Tabulka5[Data],D2552))","v":""},"","","",""]
[null,null,null,null,{"$f":"IF(D2553=\"\",\"\",COUNTIF(Tabulka5[Data],D2553))","v":""},"","","",""]
[null,null,null,null,{"$f":"IF(D2554=\"\",\"\",COUNTIF(Tabulka5[Data],D2554))","v":""},"","","",""]
[null,null,null,null,{"$f":"IF(D2555=\"\",\"\",COUNTIF(Tabulka5[Data],D2555))","v":""},"","","",""]
[null,null,null,null,{"$f":"IF(D2556=\"\",\"\",COUNTIF(Tabulka5[Data],D2556))","v":""},"","","",""]
[null,null,null,null,{"$f":"IF(D2557=\"\",\"\",COUNTIF(Tabulka5[Data],D2557))","v":""},"","","",""]
[null,null,null,null,{"$f":"IF(D2558=\"\",\"\",COUNTIF(Tabulka5[Data],D2558))","v":""},"","","",""]
[null,null,null,null,{"$f":"IF(D2559=\"\",\"\",COUNTIF(Tabulka5[Data],D2559))","v":""},"","","",""]
[null,null,null,null,{"$f":"IF(D2560=\"\",\"\",COUNTIF(Tabulka5[Data],D2560))","v":""},"","","",""]
[null,null,null,null,{"$f":"IF(D2561=\"\",\"\",COUNTIF(Tabulka5[Data],D2561))","v":""},"","","",""]
[null,null,null,null,{"$f":"IF(D2562=\"\",\"\",COUNTIF(Tabulka5[Data],D2562))","v":""},"","","",""]
[null,null,null,null,{"$f":"IF(D2563=\"\",\"\",COUNTIF(Tabulka5[Data],D2563))","v":""},"","","",""]
[null,null,null,null,{"$f":"IF(D2564=\"\",\"\",COUNTIF(Tabulka5[Data],D2564))","v":""},"","","",""]
[null,null,null,null,{"$f":"IF(D2565=\"\",\"\",COUNTIF(Tabulka5[Data],D2565))","v":""},"","","",""]
[null,null,null,null,{"$f":"IF(D2566=\"\",\"\",COUNTIF(Tabulka5[Data],D2566))","v":""},"","","",""]
[null,null,null,null,{"$f":"IF(D2567=\"\",\"\",COUNTIF(Tabulka5[Data],D2567))","v":""},"","","",""]
[null,null,null,null,{"$f":"IF(D2568=\"\",\"\",COUNTIF(Tabulka5[Data],D2568))","v":""},"","","",""]
[null,null,null,null,{"$f":"IF(D2569=\"\",\"\",COUNTIF(Tabulka5[Data],D2569))","v":""},"","","",""]
[null,null,null,null,{"$f":"IF(D2570=\"\",\"\",COUNTIF(Tabulka5[Data],D2570))","v":""},"","","",""]
[null,null,null,null,{"$f":"IF(D2571=\"\",\"\",COUNTIF(Tabulka5[Data],D2571))","v":""},"","","",""]
[null,null,null,null,{"$f":"IF(D2572=\"\",\"\",COUNTIF(Tabulka5[Data],D2572))","v":""},"","","",""]
[null,null,null,null,{"$f":"IF(D2573=\"\",\"\",COUNTIF(Tabulka5[Data],D2573))","v":""},"","","",""]
[null,null,null,null,{"$f":"IF(D2574=\"\",\"\",COUNTIF(Tabulka5[Data],D2574))","v":""},"","","",""]
[null,null,null,null,{"$f":"IF(D2575=\"\",\"\",COUNTIF(Tabulka5[Data],D2575))","v":""},"","","",""]
[null,null,null,null,{"$f":"IF(D2576=\"\",\"\",COUNTIF(Tabulka5[Data],D2576))","v":""},"","","",""]
[null,null,null,null,{"$f":"IF(D2577=\"\",\"\",COUNTIF(Tabulka5[Data],D2577))","v":""},{"$f":"IF(OR($K$11=0,D2577=\"\"),\"\",IF(D2578=\"\",1-I2576,ROUND(E2577/SUM($E$15:$E$6350),3)))","v":""},{"$f":"IF(OR(D2577=\"\",$A$11=\"nominální\"),\"\",G2576+E2577)","v":""},{"$f":"IF(OR($K$11=0,D2577=\"\",$A$11=\"nominální\"),\"\",H2576+F2577)","v":""},{"$f":"IF(OR($K$11=0,D2577=\"\"),\"\",I2576+F2577)","v":""}]
[null,null,null,null,{"$f":"IF(D2578=\"\",\"\",COUNTIF(Tabulka5[Data],D2578))","v":""},"","","",""]
[null,null,null,null,{"$f":"IF(D2579=\"\",\"\",COUNTIF(Tabulka5[Data],D2579))","v":""},"","","",""]
[null,null,null,null,{"$f":"IF(D2580=\"\",\"\",COUNTIF(Tabulka5[Data],D2580))","v":""},"","","",""]
[null,null,null,null,{"$f":"IF(D2581=\"\",\"\",COUNTIF(Tabulka5[Data],D2581))","v":""},"","","",""]
[null,null,null,null,{"$f":"IF(D2582=\"\",\"\",COUNTIF(Tabulka5[Data],D2582))","v":""},"","","",""]
[null,null,null,null,{"$f":"IF(D2583=\"\",\"\",COUNTIF(Tabulka5[Data],D2583))","v":""},"","","",""]
[null,null,null,null,{"$f":"IF(D2584=\"\",\"\",COUNTIF(Tabulka5[Data],D2584))","v":""},"","","",""]
[null,null,null,null,{"$f":"IF(D2585=\"\",\"\",COUNTIF(Tabulka5[Data],D2585))","v":""},"","","",""]
[null,null,null,null,{"$f":"IF(D2586=\"\",\"\",COUNTIF(Tabulka5[Data],D2586))","v":""},"","","",""]
[null,null,null,null,{"$f":"IF(D2587=\"\",\"\",COUNTIF(Tabulka5[Data],D2587))","v":""},"","","",""]
[null,null,null,null,{"$f":"IF(D2588=\"\",\"\",COUNTIF(Tabulka5[Data],D2588))","v":""},"","","",""]
[null,null,null,null,{"$f":"IF(D2589=\"\",\"\",COUNTIF(Tabulka5[Data],D2589))","v":""},"","","",""]
[null,null,null,null,{"$f":"IF(D2590=\"\",\"\",COUNTIF(Tabulka5[Data],D2590))","v":""},"","","",""]
[null,null,null,null,{"$f":"IF(D2591=\"\",\"\",COUNTIF(Tabulka5[Data],D2591))","v":""},"","","",""]
[null,null,null,null,{"$f":"IF(D2592=\"\",\"\",COUNTIF(Tabulka5[Data],D2592))","v":""},"","","",""]
[null,null,null,null,{"$f":"IF(D2593=\"\",\"\",COUNTIF(Tabulka5[Data],D2593))","v":""},"","","",""]
[null,null,null,null,{"$f":"IF(D2594=\"\",\"\",COUNTIF(Tabulka5[Data],D2594))","v":""},"","","",""]
[null,null,null,null,{"$f":"IF(D2595=\"\",\"\",COUNTIF(Tabulka5[Data],D2595))","v":""},"","","",""]
[null,null,null,null,{"$f":"IF(D2596=\"\",\"\",COUNTIF(Tabulka5[Data],D2596))","v":""},"","","",""]
[null,null,null,null,{"$f":"IF(D2597=\"\",\"\",COUNTIF(Tabulka5[Data],D2597))","v":""},"","","",""]
[null,null,null,null,{"$f":"IF(D2598=\"\",\"\",COUNTIF(Tabulka5[Data],D2598))","v":""},"","","",""]
[null,null,null,null,{"$f":"IF(D2599=\"\",\"\",COUNTIF(Tabulka5[Data],D2599))","v":""},"","","",""]
[null,null,null,null,{"$f":"IF(D2600=\"\",\"\",COUNTIF(Tabulka5[Data],D2600))","v":""},"","","",""]
[null,null,null,null,{"$f":"IF(D2601=\"\",\"\",COUNTIF(Tabulka5[Data],D2601))","v":""},"","","",""]
[null,null,null,null,{"$f":"IF(D2602=\"\",\"\",COUNTIF(Tabulka5[Data],D2602))","v":""},"","","",""]
[null,null,null,null,{"$f":"IF(D2603=\"\",\"\",COUNTIF(Tabulka5[Data],D2603))","v":""},"","","",""]
[null,null,null,null,{"$f":"IF(D2604=\"\",\"\",COUNTIF(Tabulka5[Data],D2604))","v":""},"","","",""]
[null,null,null,null,{"$f":"IF(D2605=\"\",\"\",COUNTIF(Tabulka5[Data],D2605))","v":""},"","","",""]
[null,null,null,null,{"$f":"IF(D2606=\"\",\"\",COUNTIF(Tabulka5[Data],D2606))","v":""},"","","",""]
[null,null,null,null,{"$f":"IF(D2607=\"\",\"\",COUNTIF(Tabulka5[Data],D2607))","v":""},"","","",""]
[null,null,null,null,{"$f":"IF(D2608=\"\",\"\",COUNTIF(Tabulka5[Data],D2608))","v":""},"","","",""]
[null,null,null,null,{"$f":"IF(D2609=\"\",\"\",COUNTIF(Tabulka5[Data],D2609))","v":""},"","","",""]
[null,null,null,null,{"$f":"IF(D2610=\"\",\"\",COUNTIF(Tabulka5[Data],D2610))","v":""},"","","",""]
[null,null,null,null,{"$f":"IF(D2611=\"\",\"\",COUNTIF(Tabulka5[Data],D2611))","v":""},"","","",""]
[null,null,null,null,{"$f":"IF(D2612=\"\",\"\",COUNTIF(Tabulka5[Data],D2612))","v":""},"","","",""]
[null,null,null,null,{"$f":"IF(D2613=\"\",\"\",COUNTIF(Tabulka5[Data],D2613))","v":""},"","","",""]
[null,null,null,null,{"$f":"IF(D2614=\"\",\"\",COUNTIF(Tabulka5[Data],D2614))","v":""},"","","",""]
[null,null,null,null,{"$f":"IF(D2615=\"\",\"\",COUNTIF(Tabulka5[Data],D2615))","v":""},"","","",""]
[null,null,null,null,{"$f":"IF(D2616=\"\",\"\",COUNTIF(Tabulka5[Data],D2616))","v":""},"","","",""]
[null,null,null,null,{"$f":"IF(D2617=\"\",\"\",COUNTIF(Tabulka5[Data],D2617))","v":""},"","","",""]
[null,null,null,null,{"$f":"IF(D2618=\"\",\"\",COUNTIF(Tabulka5[Data],D2618))","v":""},"","","",""]
[null,null,null,null,{"$f":"IF(D2619=\"\",\"\",COUNTIF(Tabulka5[Data],D2619))","v":""},"","","",""]
[null,null,null,null,{"$f":"IF(D2620=\"\",\"\",COUNTIF(Tabulka5[Data],D2620))","v":""},"","","",""]
[null,null,null,null,{"$f":"IF(D2621=\"\",\"\",COUNTIF(Tabulka5[Data],D2621))","v":""},"","","",""]
[null,null,null,null,{"$f":"IF(D2622=\"\",\"\",COUNTIF(Tabulka5[Data],D2622))","v":""},"","","",""]
[null,null,null,null,{"$f":"IF(D2623=\"\",\"\",COUNTIF(Tabulka5[Data],D2623))","v":""},"","","",""]
[null,null,null,null,{"$f":"IF(D2624=\"\",\"\",COUNTIF(Tabulka5[Data],D2624))","v":""},"","","",""]
[null,null,null,null,{"$f":"IF(D2625=\"\",\"\",COUNTIF(Tabulka5[Data],D2625))","v":""},"","","",""]
[null,null,null,null,{"$f":"IF(D2626=\"\",\"\",COUNTIF(Tabulka5[Data],D2626))","v":""},"","","",""]
[null,null,null,null,{"$f":"IF(D2627=\"\",\"\",COUNTIF(Tabulka5[Data],D2627))","v":""},"","","",""]
[null,null,null,null,{"$f":"IF(D2628=\"\",\"\",COUNTIF(Tabulka5[Data],D2628))","v":""},"","","",""]
[null,null,null,null,{"$f":"IF(D2629=\"\",\"\",COUNTIF(Tabulka5[Data],D2629))","v":""},"","","",""]
[null,null,null,null,{"$f":"IF(D2630=\"\",\"\",COUNTIF(Tabulka5[Data],D2630))","v":""},"","","",""]
[null,null,null,null,{"$f":"IF(D2631=\"\",\"\",COUNTIF(Tabulka5[Data],D2631))","v":""},"","","",""]
[null,null,null,null,{"$f":"IF(D2632=\"\",\"\",COUNTIF(Tabulka5[Data],D2632))","v":""},"","","",""]
[null,null,null,null,{"$f":"IF(D2633=\"\",\"\",COUNTIF(Tabulka5[Data],D2633))","v":""},"","","",""]
[null,null,null,null,{"$f":"IF(D2634=\"\",\"\",COUNTIF(Tabulka5[Data],D2634))","v":""},"","","",""]
[null,null,null,null,{"$f":"IF(D2635=\"\",\"\",COUNTIF(Tabulka5[Data],D2635))","v":""},"","","",""]
[null,null,null,null,{"$f":"IF(D2636=\"\",\"\",COUNTIF(Tabulka5[Data],D2636))","v":""},"","","",""]
[null,null,null,null,{"$f":"IF(D2637=\"\",\"\",COUNTIF(Tabulka5[Data],D2637))","v":""},"","","",""]
[null,null,null,null,{"$f":"IF(D2638=\"\",\"\",COUNTIF(Tabulka5[Data],D2638))","v":""},"","","",""]
[null,null,null,null,{"$f":"IF(D2639=\"\",\"\",COUNTIF(Tabulka5[Data],D2639))","v":""},"","","",""]
[null,null,null,null,{"$f":"IF(D2640=\"\",\"\",COUNTIF(Tabulka5[Data],D2640))","v":""},"","","",""]
[null,null,null,null,{"$f":"IF(D2641=\"\",\"\",COUNTIF(Tabulka5[Data],D2641))","v":""},{"$f":"IF(OR($K$11=0,D2641=\"\"),\"\",IF(D2642=\"\",1-I2640,ROUND(E2641/SUM($E$15:$E$6350),3)))","v":""},{"$f":"IF(OR(D2641=\"\",$A$11=\"nominální\"),\"\",G2640+E2641)","v":""},{"$f":"IF(OR($K$11=0,D2641=\"\",$A$11=\"nominální\"),\"\",H2640+F2641)","v":""},{"$f":"IF(OR($K$11=0,D2641=\"\"),\"\",I2640+F2641)","v":""}]
[null,null,null,null,{"$f":"IF(D2642=\"\",\"\",COUNTIF(Tabulka5[Data],D2642))","v":""},"","","",""]
[null,null,null,null,{"$f":"IF(D2643=\"\",\"\",COUNTIF(Tabulka5[Data],D2643))","v":""},"","","",""]
[null,null,null,null,{"$f":"IF(D2644=\"\",\"\",COUNTIF(Tabulka5[Data],D2644))","v":""},"","","",""]
[null,null,null,null,{"$f":"IF(D2645=\"\",\"\",COUNTIF(Tabulka5[Data],D2645))","v":""},"","","",""]
[null,null,null,null,{"$f":"IF(D2646=\"\",\"\",COUNTIF(Tabulka5[Data],D2646))","v":""},"","","",""]
[null,null,null,null,{"$f":"IF(D2647=\"\",\"\",COUNTIF(Tabulka5[Data],D2647))","v":""},"","","",""]
[null,null,null,null,{"$f":"IF(D2648=\"\",\"\",COUNTIF(Tabulka5[Data],D2648))","v":""},"","","",""]
[null,null,null,null,{"$f":"IF(D2649=\"\",\"\",COUNTIF(Tabulka5[Data],D2649))","v":""},"","","",""]
[null,null,null,null,{"$f":"IF(D2650=\"\",\"\",COUNTIF(Tabulka5[Data],D2650))","v":""},"","","",""]
[null,null,null,null,{"$f":"IF(D2651=\"\",\"\",COUNTIF(Tabulka5[Data],D2651))","v":""},"","","",""]
[null,null,null,null,{"$f":"IF(D2652=\"\",\"\",COUNTIF(Tabulka5[Data],D2652))","v":""},"","","",""]
[null,null,null,null,{"$f":"IF(D2653=\"\",\"\",COUNTIF(Tabulka5[Data],D2653))","v":""},"","","",""]
[null,null,null,null,{"$f":"IF(D2654=\"\",\"\",COUNTIF(Tabulka5[Data],D2654))","v":""},"","","",""]
[null,null,null,null,{"$f":"IF(D2655=\"\",\"\",COUNTIF(Tabulka5[Data],D2655))","v":""},"","","",""]
[null,null,null,null,{"$f":"IF(D2656=\"\",\"\",COUNTIF(Tabulka5[Data],D2656))","v":""},"","","",""]
[null,null,null,null,{"$f":"IF(D2657=\"\",\"\",COUNTIF(Tabulka5[Data],D2657))","v":""},"","","",""]
[null,null,null,null,{"$f":"IF(D2658=\"\",\"\",COUNTIF(Tabulka5[Data],D2658))","v":""},"","","",""]
[null,null,null,null,{"$f":"IF(D2659=\"\",\"\",COUNTIF(Tabulka5[Data],D2659))","v":""},"","","",""]
[null,null,null,null,{"$f":"IF(D2660=\"\",\"\",COUNTIF(Tabulka5[Data],D2660))","v":""},"","","",""]
[null,null,null,null,{"$f":"IF(D2661=\"\",\"\",COUNTIF(Tabulka5[Data],D2661))","v":""},"","","",""]
[null,null,null,null,{"$f":"IF(D2662=\"\",\"\",COUNTIF(Tabulka5[Data],D2662))","v":""},"","","",""]
[null,null,null,null,{"$f":"IF(D2663=\"\",\"\",COUNTIF(Tabulka5[Data],D2663))","v":""},"","","",""]
[null,null,null,null,{"$f":"IF(D2664=\"\",\"\",COUNTIF(Tabulka5[Data],D2664))","v":""},"","","",""]
[null,null,null,null,{"$f":"IF(D2665=\"\",\"\",COUNTIF(Tabulka5[Data],D2665))","v":""},"","","",""]
[null,null,null,null,{"$f":"IF(D2666=\"\",\"\",COUNTIF(Tabulka5[Data],D2666))","v":""},"","","",""]
[null,null,null,null,{"$f":"IF(D2667=\"\",\"\",COUNTIF(Tabulka5[Data],D2667))","v":""},"","","",""]
[null,null,null,null,{"$f":"IF(D2668=\"\",\"\",COUNTIF(Tabulka5[Data],D2668))","v":""},"","","",""]
[null,null,null,null,{"$f":"IF(D2669=\"\",\"\",COUNTIF(Tabulka5[Data],D2669))","v":""},"","","",""]
[null,null,null,null,{"$f":"IF(D2670=\"\",\"\",COUNTIF(Tabulka5[Data],D2670))","v":""},"","","",""]
[null,null,null,null,{"$f":"IF(D2671=\"\",\"\",COUNTIF(Tabulka5[Data],D2671))","v":""},"","","",""]
[null,null,null,null,{"$f":"IF(D2672=\"\",\"\",COUNTIF(Tabulka5[Data],D2672))","v":""},"","","",""]
[null,null,null,null,{"$f":"IF(D2673=\"\",\"\",COUNTIF(Tabulka5[Data],D2673))","v":""},"","","",""]
[null,null,null,null,{"$f":"IF(D2674=\"\",\"\",COUNTIF(Tabulka5[Data],D2674))","v":""},"","","",""]
[null,null,null,null,{"$f":"IF(D2675=\"\",\"\",COUNTIF(Tabulka5[Data],D2675))","v":""},"","","",""]
[null,null,null,null,{"$f":"IF(D2676=\"\",\"\",COUNTIF(Tabulka5[Data],D2676))","v":""},"","","",""]
[null,null,null,null,{"$f":"IF(D2677=\"\",\"\",COUNTIF(Tabulka5[Data],D2677))","v":""},"","","",""]
[null,null,null,null,{"$f":"IF(D2678=\"\",\"\",COUNTIF(Tabulka5[Data],D2678))","v":""},"","","",""]
[null,null,null,null,{"$f":"IF(D2679=\"\",\"\",COUNTIF(Tabulka5[Data],D2679))","v":""},"","","",""]
[null,null,null,null,{"$f":"IF(D2680=\"\",\"\",COUNTIF(Tabulka5[Data],D2680))","v":""},"","","",""]
[null,null,null,null,{"$f":"IF(D2681=\"\",\"\",COUNTIF(Tabulka5[Data],D2681))","v":""},"","","",""]
[null,null,null,null,{"$f":"IF(D2682=\"\",\"\",COUNTIF(Tabulka5[Data],D2682))","v":""},"","","",""]
[null,null,null,null,{"$f":"IF(D2683=\"\",\"\",COUNTIF(Tabulka5[Data],D2683))","v":""},"","","",""]
[null,null,null,null,{"$f":"IF(D2684=\"\",\"\",COUNTIF(Tabulka5[Data],D2684))","v":""},"","","",""]
[null,null,null,null,{"$f":"IF(D2685=\"\",\"\",COUNTIF(Tabulka5[Data],D2685))","v":""},"","","",""]
[null,null,null,null,{"$f":"IF(D2686=\"\",\"\",COUNTIF(Tabulka5[Data],D2686))","v":""},"","","",""]
[null,null,null,null,{"$f":"IF(D2687=\"\",\"\",COUNTIF(Tabulka5[Data],D2687))","v":""},"","","",""]
[null,null,null,null,{"$f":"IF(D2688=\"\",\"\",COUNTIF(Tabulka5[Data],D2688))","v":""},"","","",""]
[null,null,null,null,{"$f":"IF(D2689=\"\",\"\",COUNTIF(Tabulka5[Data],D2689))","v":""},"","","",""]
[null,null,null,null,{"$f":"IF(D2690=\"\",\"\",COUNTIF(Tabulka5[Data],D2690))","v":""},"","","",""]
[null,null,null,null,{"$f":"IF(D2691=\"\",\"\",COUNTIF(Tabulka5[Data],D2691))","v":""},"","","",""]
[null,null,null,null,{"$f":"IF(D2692=\"\",\"\",COUNTIF(Tabulka5[Data],D2692))","v":""},"","","",""]
[null,null,null,null,{"$f":"IF(D2693=\"\",\"\",COUNTIF(Tabulka5[Data],D2693))","v":""},"","","",""]
[null,null,null,null,{"$f":"IF(D2694=\"\",\"\",COUNTIF(Tabulka5[Data],D2694))","v":""},"","","",""]
[null,null,null,null,{"$f":"IF(D2695=\"\",\"\",COUNTIF(Tabulka5[Data],D2695))","v":""},"","","",""]
[null,null,null,null,{"$f":"IF(D2696=\"\",\"\",COUNTIF(Tabulka5[Data],D2696))","v":""},"","","",""]
[null,null,null,null,{"$f":"IF(D2697=\"\",\"\",COUNTIF(Tabulka5[Data],D2697))","v":""},"","","",""]
[null,null,null,null,{"$f":"IF(D2698=\"\",\"\",COUNTIF(Tabulka5[Data],D2698))","v":""},"","","",""]
[null,null,null,null,{"$f":"IF(D2699=\"\",\"\",COUNTIF(Tabulka5[Data],D2699))","v":""},"","","",""]
[null,null,null,null,{"$f":"IF(D2700=\"\",\"\",COUNTIF(Tabulka5[Data],D2700))","v":""},"","","",""]
[null,null,null,null,{"$f":"IF(D2701=\"\",\"\",COUNTIF(Tabulka5[Data],D2701))","v":""},"","","",""]
[null,null,null,null,{"$f":"IF(D2702=\"\",\"\",COUNTIF(Tabulka5[Data],D2702))","v":""},"","","",""]
[null,null,null,null,{"$f":"IF(D2703=\"\",\"\",COUNTIF(Tabulka5[Data],D2703))","v":""},"","","",""]
[null,null,null,null,{"$f":"IF(D2704=\"\",\"\",COUNTIF(Tabulka5[Data],D2704))","v":""},"","","",""]
[null,null,null,null,{"$f":"IF(D2705=\"\",\"\",COUNTIF(Tabulka5[Data],D2705))","v":""},{"$f":"IF(OR($K$11=0,D2705=\"\"),\"\",IF(D2706=\"\",1-I2704,ROUND(E2705/SUM($E$15:$E$6350),3)))","v":""},{"$f":"IF(OR(D2705=\"\",$A$11=\"nominální\"),\"\",G2704+E2705)","v":""},{"$f":"IF(OR($K$11=0,D2705=\"\",$A$11=\"nominální\"),\"\",H2704+F2705)","v":""},{"$f":"IF(OR($K$11=0,D2705=\"\"),\"\",I2704+F2705)","v":""}]
[null,null,null,null,{"$f":"IF(D2706=\"\",\"\",COUNTIF(Tabulka5[Data],D2706))","v":""},"","","",""]
[null,null,null,null,{"$f":"IF(D2707=\"\",\"\",COUNTIF(Tabulka5[Data],D2707))","v":""},"","","",""]
[null,null,null,null,{"$f":"IF(D2708=\"\",\"\",COUNTIF(Tabulka5[Data],D2708))","v":""},"","","",""]
[null,null,null,null,{"$f":"IF(D2709=\"\",\"\",COUNTIF(Tabulka5[Data],D2709))","v":""},"","","",""]
[null,null,null,null,{"$f":"IF(D2710=\"\",\"\",COUNTIF(Tabulka5[Data],D2710))","v":""},"","","",""]
[null,null,null,null,{"$f":"IF(D2711=\"\",\"\",COUNTIF(Tabulka5[Data],D2711))","v":""},"","","",""]
[null,null,null,null,{"$f":"IF(D2712=\"\",\"\",COUNTIF(Tabulka5[Data],D2712))","v":""},"","","",""]
[null,null,null,null,{"$f":"IF(D2713=\"\",\"\",COUNTIF(Tabulka5[Data],D2713))","v":""},"","","",""]
[null,null,null,null,{"$f":"IF(D2714=\"\",\"\",COUNTIF(Tabulka5[Data],D2714))","v":""},"","","",""]
[null,null,null,null,{"$f":"IF(D2715=\"\",\"\",COUNTIF(Tabulka5[Data],D2715))","v":""},"","","",""]
[null,null,null,null,{"$f":"IF(D2716=\"\",\"\",COUNTIF(Tabulka5[Data],D2716))","v":""},"","","",""]
[null,null,null,null,{"$f":"IF(D2717=\"\",\"\",COUNTIF(Tabulka5[Data],D2717))","v":""},"","","",""]
[null,null,null,null,{"$f":"IF(D2718=\"\",\"\",COUNTIF(Tabulka5[Data],D2718))","v":""},"","","",""]
[null,null,null,null,{"$f":"IF(D2719=\"\",\"\",COUNTIF(Tabulka5[Data],D2719))","v":""},"","","",""]
[null,null,null,null,{"$f":"IF(D2720=\"\",\"\",COUNTIF(Tabulka5[Data],D2720))","v":""},"","","",""]
[null,null,null,null,{"$f":"IF(D2721=\"\",\"\",COUNTIF(Tabulka5[Data],D2721))","v":""},"","","",""]
[null,null,null,null,{"$f":"IF(D2722=\"\",\"\",COUNTIF(Tabulka5[Data],D2722))","v":""},"","","",""]
[null,null,null,null,{"$f":"IF(D2723=\"\",\"\",COUNTIF(Tabulka5[Data],D2723))","v":""},"","","",""]
[null,null,null,null,{"$f":"IF(D2724=\"\",\"\",COUNTIF(Tabulka5[Data],D2724))","v":""},"","","",""]
[null,null,null,null,{"$f":"IF(D2725=\"\",\"\",COUNTIF(Tabulka5[Data],D2725))","v":""},"","","",""]
[null,null,null,null,{"$f":"IF(D2726=\"\",\"\",COUNTIF(Tabulka5[Data],D2726))","v":""},"","","",""]
[null,null,null,null,{"$f":"IF(D2727=\"\",\"\",COUNTIF(Tabulka5[Data],D2727))","v":""},"","","",""]
[null,null,null,null,{"$f":"IF(D2728=\"\",\"\",COUNTIF(Tabulka5[Data],D2728))","v":""},"","","",""]
[null,null,null,null,{"$f":"IF(D2729=\"\",\"\",COUNTIF(Tabulka5[Data],D2729))","v":""},"","","",""]
[null,null,null,null,{"$f":"IF(D2730=\"\",\"\",COUNTIF(Tabulka5[Data],D2730))","v":""},"","","",""]
[null,null,null,null,{"$f":"IF(D2731=\"\",\"\",COUNTIF(Tabulka5[Data],D2731))","v":""},"","","",""]
[null,null,null,null,{"$f":"IF(D2732=\"\",\"\",COUNTIF(Tabulka5[Data],D2732))","v":""},"","","",""]
[null,null,null,null,{"$f":"IF(D2733=\"\",\"\",COUNTIF(Tabulka5[Data],D2733))","v":""},"","","",""]
[null,null,null,null,{"$f":"IF(D2734=\"\",\"\",COUNTIF(Tabulka5[Data],D2734))","v":""},"","","",""]
[null,null,null,null,{"$f":"IF(D2735=\"\",\"\",COUNTIF(Tabulka5[Data],D2735))","v":""},"","","",""]
[null,null,null,null,{"$f":"IF(D2736=\"\",\"\",COUNTIF(Tabulka5[Data],D2736))","v":""},"","","",""]
[null,null,null,null,{"$f":"IF(D2737=\"\",\"\",COUNTIF(Tabulka5[Data],D2737))","v":""},"","","",""]
[null,null,null,null,{"$f":"IF(D2738=\"\",\"\",COUNTIF(Tabulka5[Data],D2738))","v":""},"","","",""]
[null,null,null,null,{"$f":"IF(D2739=\"\",\"\",COUNTIF(Tabulka5[Data],D2739))","v":""},"","","",""]
[null,null,null,null,{"$f":"IF(D2740=\"\",\"\",COUNTIF(Tabulka5[Data],D2740))","v":""},"","","",""]
[null,null,null,null,{"$f":"IF(D2741=\"\",\"\",COUNTIF(Tabulka5[Data],D2741))","v":""},"","","",""]
[null,null,null,null,{"$f":"IF(D2742=\"\",\"\",COUNTIF(Tabulka5[Data],D2742))","v":""},"","","",""]
[null,null,null,null,{"$f":"IF(D2743=\"\",\"\",COUNTIF(Tabulka5[Data],D2743))","v":""},"","","",""]
[null,null,null,null,{"$f":"IF(D2744=\"\",\"\",COUNTIF(Tabulka5[Data],D2744))","v":""},"","","",""]
[null,null,null,null,{"$f":"IF(D2745=\"\",\"\",COUNTIF(Tabulka5[Data],D2745))","v":""},"","","",""]
[null,null,null,null,{"$f":"IF(D2746=\"\",\"\",COUNTIF(Tabulka5[Data],D2746))","v":""},"","","",""]
[null,null,null,null,{"$f":"IF(D2747=\"\",\"\",COUNTIF(Tabulka5[Data],D2747))","v":""},"","","",""]
[null,null,null,null,{"$f":"IF(D2748=\"\",\"\",COUNTIF(Tabulka5[Data],D2748))","v":""},"","","",""]
[null,null,null,null,{"$f":"IF(D2749=\"\",\"\",COUNTIF(Tabulka5[Data],D2749))","v":""},"","","",""]
[null,null,null,null,{"$f":"IF(D2750=\"\",\"\",COUNTIF(Tabulka5[Data],D2750))","v":""},"","","",""]
[null,null,null,null,{"$f":"IF(D2751=\"\",\"\",COUNTIF(Tabulka5[Data],D2751))","v":""},"","","",""]
[null,null,null,null,{"$f":"IF(D2752=\"\",\"\",COUNTIF(Tabulka5[Data],D2752))","v":""},"","","",""]
[null,null,null,null,{"$f":"IF(D2753=\"\",\"\",COUNTIF(Tabulka5[Data],D2753))","v":""},"","","",""]
[null,null,null,null,{"$f":"IF(D2754=\"\",\"\",COUNTIF(Tabulka5[Data],D2754))","v":""},"","","",""]
[null,null,null,null,{"$f":"IF(D2755=\"\",\"\",COUNTIF(Tabulka5[Data],D2755))","v":""},"","","",""]
[null,null,null,null,{"$f":"IF(D2756=\"\",\"\",COUNTIF(Tabulka5[Data],D2756))","v":""},"","","",""]
[null,null,null,null,{"$f":"IF(D2757=\"\",\"\",COUNTIF(Tabulka5[Data],D2757))","v":""},"","","",""]
[null,null,null,null,{"$f":"IF(D2758=\"\",\"\",COUNTIF(Tabulka5[Data],D2758))","v":""},"","","",""]
[null,null,null,null,{"$f":"IF(D2759=\"\",\"\",COUNTIF(Tabulka5[Data],D2759))","v":""},"","","",""]
[null,null,null,null,{"$f":"IF(D2760=\"\",\"\",COUNTIF(Tabulka5[Data],D2760))","v":""},"","","",""]
[null,null,null,null,{"$f":"IF(D2761=\"\",\"\",COUNTIF(Tabulka5[Data],D2761))","v":""},"","","",""]
[null,null,null,null,{"$f":"IF(D2762=\"\",\"\",COUNTIF(Tabulka5[Data],D2762))","v":""},"","","",""]
[null,null,null,null,{"$f":"IF(D2763=\"\",\"\",COUNTIF(Tabulka5[Data],D2763))","v":""},"","","",""]
[null,null,null,null,{"$f":"IF(D2764=\"\",\"\",COUNTIF(Tabulka5[Data],D2764))","v":""},"","","",""]
[null,null,null,null,{"$f":"IF(D2765=\"\",\"\",COUNTIF(Tabulka5[Data],D2765))","v":""},"","","",""]
[null,null,null,null,{"$f":"IF(D2766=\"\",\"\",COUNTIF(Tabulka5[Data],D2766))","v":""},"","","",""]
[null,null,null,null,{"$f":"IF(D2767=\"\",\"\",COUNTIF(Tabulka5[Data],D2767))","v":""},"","","",""]
[null,null,null,null,{"$f":"IF(D2768=\"\",\"\",COUNTIF(Tabulka5[Data],D2768))","v":""},"","","",""]
[null,null,null,null,{"$f":"IF(D2769=\"\",\"\",COUNTIF(Tabulka5[Data],D2769))","v":""},{"$f":"IF(OR($K$11=0,D2769=\"\"),\"\",IF(D2770=\"\",1-I2768,ROUND(E2769/SUM($E$15:$E$6350),3)))","v":""},{"$f":"IF(OR(D2769=\"\",$A$11=\"nominální\"),\"\",G2768+E2769)","v":""},{"$f":"IF(OR($K$11=0,D2769=\"\",$A$11=\"nominální\"),\"\",H2768+F2769)","v":""},{"$f":"IF(OR($K$11=0,D2769=\"\"),\"\",I2768+F2769)","v":""}]
[null,null,null,null,{"$f":"IF(D2770=\"\",\"\",COUNTIF(Tabulka5[Data],D2770))","v":""},"","","",""]
[null,null,null,null,{"$f":"IF(D2771=\"\",\"\",COUNTIF(Tabulka5[Data],D2771))","v":""},"","","",""]
[null,null,null,null,{"$f":"IF(D2772=\"\",\"\",COUNTIF(Tabulka5[Data],D2772))","v":""},"","","",""]
[null,null,null,null,{"$f":"IF(D2773=\"\",\"\",COUNTIF(Tabulka5[Data],D2773))","v":""},"","","",""]
[null,null,null,null,{"$f":"IF(D2774=\"\",\"\",COUNTIF(Tabulka5[Data],D2774))","v":""},"","","",""]
[null,null,null,null,{"$f":"IF(D2775=\"\",\"\",COUNTIF(Tabulka5[Data],D2775))","v":""},"","","",""]
[null,null,null,null,{"$f":"IF(D2776=\"\",\"\",COUNTIF(Tabulka5[Data],D2776))","v":""},"","","",""]
[null,null,null,null,{"$f":"IF(D2777=\"\",\"\",COUNTIF(Tabulka5[Data],D2777))","v":""},"","","",""]
[null,null,null,null,{"$f":"IF(D2778=\"\",\"\",COUNTIF(Tabulka5[Data],D2778))","v":""},"","","",""]
[null,null,null,null,{"$f":"IF(D2779=\"\",\"\",COUNTIF(Tabulka5[Data],D2779))","v":""},"","","",""]
[null,null,null,null,{"$f":"IF(D2780=\"\",\"\",COUNTIF(Tabulka5[Data],D2780))","v":""},"","","",""]
[null,null,null,null,{"$f":"IF(D2781=\"\",\"\",COUNTIF(Tabulka5[Data],D2781))","v":""},"","","",""]
[null,null,null,null,{"$f":"IF(D2782=\"\",\"\",COUNTIF(Tabulka5[Data],D2782))","v":""},"","","",""]
[null,null,null,null,{"$f":"IF(D2783=\"\",\"\",COUNTIF(Tabulka5[Data],D2783))","v":""},"","","",""]
[null,null,null,null,{"$f":"IF(D2784=\"\",\"\",COUNTIF(Tabulka5[Data],D2784))","v":""},"","","",""]
[null,null,null,null,{"$f":"IF(D2785=\"\",\"\",COUNTIF(Tabulka5[Data],D2785))","v":""},"","","",""]
[null,null,null,null,{"$f":"IF(D2786=\"\",\"\",COUNTIF(Tabulka5[Data],D2786))","v":""},"","","",""]
[null,null,null,null,{"$f":"IF(D2787=\"\",\"\",COUNTIF(Tabulka5[Data],D2787))","v":""},"","","",""]
[null,null,null,null,{"$f":"IF(D2788=\"\",\"\",COUNTIF(Tabulka5[Data],D2788))","v":""},"","","",""]
[null,null,null,null,{"$f":"IF(D2789=\"\",\"\",COUNTIF(Tabulka5[Data],D2789))","v":""},"","","",""]
[null,null,null,null,{"$f":"IF(D2790=\"\",\"\",COUNTIF(Tabulka5[Data],D2790))","v":""},"","","",""]
[null,null,null,null,{"$f":"IF(D2791=\"\",\"\",COUNTIF(Tabulka5[Data],D2791))","v":""},"","","",""]
[null,null,null,null,{"$f":"IF(D2792=\"\",\"\",COUNTIF(Tabulka5[Data],D2792))","v":""},"","","",""]
[null,null,null,null,{"$f":"IF(D2793=\"\",\"\",COUNTIF(Tabulka5[Data],D2793))","v":""},"","","",""]
[null,null,null,null,{"$f":"IF(D2794=\"\",\"\",COUNTIF(Tabulka5[Data],D2794))","v":""},"","","",""]
[null,null,null,null,{"$f":"IF(D2795=\"\",\"\",COUNTIF(Tabulka5[Data],D2795))","v":""},"","","",""]
[null,null,null,null,{"$f":"IF(D2796=\"\",\"\",COUNTIF(Tabulka5[Data],D2796))","v":""},"","","",""]
[null,null,null,null,{"$f":"IF(D2797=\"\",\"\",COUNTIF(Tabulka5[Data],D2797))","v":""},"","","",""]
[null,null,null,null,{"$f":"IF(D2798=\"\",\"\",COUNTIF(Tabulka5[Data],D2798))","v":""},"","","",""]
[null,null,null,null,{"$f":"IF(D2799=\"\",\"\",COUNTIF(Tabulka5[Data],D2799))","v":""},"","","",""]
[null,null,null,null,{"$f":"IF(D2800=\"\",\"\",COUNTIF(Tabulka5[Data],D2800))","v":""},"","","",""]
[null,null,null,null,{"$f":"IF(D2801=\"\",\"\",COUNTIF(Tabulka5[Data],D2801))","v":""},"","","",""]
[null,null,null,null,{"$f":"IF(D2802=\"\",\"\",COUNTIF(Tabulka5[Data],D2802))","v":""},"","","",""]
[null,null,null,null,{"$f":"IF(D2803=\"\",\"\",COUNTIF(Tabulka5[Data],D2803))","v":""},"","","",""]
[null,null,null,null,{"$f":"IF(D2804=\"\",\"\",COUNTIF(Tabulka5[Data],D2804))","v":""},"","","",""]
[null,null,null,null,{"$f":"IF(D2805=\"\",\"\",COUNTIF(Tabulka5[Data],D2805))","v":""},"","","",""]
[null,null,null,null,{"$f":"IF(D2806=\"\",\"\",COUNTIF(Tabulka5[Data],D2806))","v":""},"","","",""]
[null,null,null,null,{"$f":"IF(D2807=\"\",\"\",COUNTIF(Tabulka5[Data],D2807))","v":""},"","","",""]
[null,null,null,null,{"$f":"IF(D2808=\"\",\"\",COUNTIF(Tabulka5[Data],D2808))","v":""},"","","",""]
[null,null,null,null,{"$f":"IF(D2809=\"\",\"\",COUNTIF(Tabulka5[Data],D2809))","v":""},"","","",""]
[null,null,null,null,{"$f":"IF(D2810=\"\",\"\",COUNTIF(Tabulka5[Data],D2810))","v":""},"","","",""]
[null,null,null,null,{"$f":"IF(D2811=\"\",\"\",COUNTIF(Tabulka5[Data],D2811))","v":""},"","","",""]
[null,null,null,null,{"$f":"IF(D2812=\"\",\"\",COUNTIF(Tabulka5[Data],D2812))","v":""},"","","",""]
[null,null,null,null,{"$f":"IF(D2813=\"\",\"\",COUNTIF(Tabulka5[Data],D2813))","v":""},"","","",""]
[null,null,null,null,{"$f":"IF(D2814=\"\",\"\",COUNTIF(Tabulka5[Data],D2814))","v":""},"","","",""]
[null,null,null,null,{"$f":"IF(D2815=\"\",\"\",COUNTIF(Tabulka5[Data],D2815))","v":""},"","","",""]
[null,null,null,null,{"$f":"IF(D2816=\"\",\"\",COUNTIF(Tabulka5[Data],D2816))","v":""},"","","",""]
[null,null,null,null,{"$f":"IF(D2817=\"\",\"\",COUNTIF(Tabulka5[Data],D2817))","v":""},"","","",""]
[null,null,null,null,{"$f":"IF(D2818=\"\",\"\",COUNTIF(Tabulka5[Data],D2818))","v":""},"","","",""]
[null,null,null,null,{"$f":"IF(D2819=\"\",\"\",COUNTIF(Tabulka5[Data],D2819))","v":""},"","","",""]
[null,null,null,null,{"$f":"IF(D2820=\"\",\"\",COUNTIF(Tabulka5[Data],D2820))","v":""},"","","",""]
[null,null,null,null,{"$f":"IF(D2821=\"\",\"\",COUNTIF(Tabulka5[Data],D2821))","v":""},"","","",""]
[null,null,null,null,{"$f":"IF(D2822=\"\",\"\",COUNTIF(Tabulka5[Data],D2822))","v":""},"","","",""]
[null,null,null,null,{"$f":"IF(D2823=\"\",\"\",COUNTIF(Tabulka5[Data],D2823))","v":""},"","","",""]
[null,null,null,null,{"$f":"IF(D2824=\"\",\"\",COUNTIF(Tabulka5[Data],D2824))","v":""},"","","",""]
[null,null,null,null,{"$f":"IF(D2825=\"\",\"\",COUNTIF(Tabulka5[Data],D2825))","v":""},"","","",""]
[null,null,null,null,{"$f":"IF(D2826=\"\",\"\",COUNTIF(Tabulka5[Data],D2826))","v":""},"","","",""]
[null,null,null,null,{"$f":"IF(D2827=\"\",\"\",COUNTIF(Tabulka5[Data],D2827))","v":""},"","","",""]
[null,null,null,null,{"$f":"IF(D2828=\"\",\"\",COUNTIF(Tabulka5[Data],D2828))","v":""},"","","",""]
[null,null,null,null,{"$f":"IF(D2829=\"\",\"\",COUNTIF(Tabulka5[Data],D2829))","v":""},"","","",""]
[null,null,null,null,{"$f":"IF(D2830=\"\",\"\",COUNTIF(Tabulka5[Data],D2830))","v":""},"","","",""]
[null,null,null,null,{"$f":"IF(D2831=\"\",\"\",COUNTIF(Tabulka5[Data],D2831))","v":""},"","","",""]
[null,null,null,null,{"$f":"IF(D2832=\"\",\"\",COUNTIF(Tabulka5[Data],D2832))","v":""},"","","",""]
[null,null,null,null,{"$f":"IF(D2833=\"\",\"\",COUNTIF(Tabulka5[Data],D2833))","v":""},{"$f":"IF(OR($K$11=0,D2833=\"\"),\"\",IF(D2834=\"\",1-I2832,ROUND(E2833/SUM($E$15:$E$6350),3)))","v":""},{"$f":"IF(OR(D2833=\"\",$A$11=\"nominální\"),\"\",G2832+E2833)","v":""},{"$f":"IF(OR($K$11=0,D2833=\"\",$A$11=\"nominální\"),\"\",H2832+F2833)","v":""},{"$f":"IF(OR($K$11=0,D2833=\"\"),\"\",I2832+F2833)","v":""}]
[null,null,null,null,{"$f":"IF(D2834=\"\",\"\",COUNTIF(Tabulka5[Data],D2834))","v":""},"","","",""]
[null,null,null,null,{"$f":"IF(D2835=\"\",\"\",COUNTIF(Tabulka5[Data],D2835))","v":""},"","","",""]
[null,null,null,null,{"$f":"IF(D2836=\"\",\"\",COUNTIF(Tabulka5[Data],D2836))","v":""},"","","",""]
[null,null,null,null,{"$f":"IF(D2837=\"\",\"\",COUNTIF(Tabulka5[Data],D2837))","v":""},"","","",""]
[null,null,null,null,{"$f":"IF(D2838=\"\",\"\",COUNTIF(Tabulka5[Data],D2838))","v":""},"","","",""]
[null,null,null,null,{"$f":"IF(D2839=\"\",\"\",COUNTIF(Tabulka5[Data],D2839))","v":""},"","","",""]
[null,null,null,null,{"$f":"IF(D2840=\"\",\"\",COUNTIF(Tabulka5[Data],D2840))","v":""},"","","",""]
[null,null,null,null,{"$f":"IF(D2841=\"\",\"\",COUNTIF(Tabulka5[Data],D2841))","v":""},"","","",""]
[null,null,null,null,{"$f":"IF(D2842=\"\",\"\",COUNTIF(Tabulka5[Data],D2842))","v":""},"","","",""]
[null,null,null,null,{"$f":"IF(D2843=\"\",\"\",COUNTIF(Tabulka5[Data],D2843))","v":""},"","","",""]
[null,null,null,null,{"$f":"IF(D2844=\"\",\"\",COUNTIF(Tabulka5[Data],D2844))","v":""},"","","",""]
[null,null,null,null,{"$f":"IF(D2845=\"\",\"\",COUNTIF(Tabulka5[Data],D2845))","v":""},"","","",""]
[null,null,null,null,{"$f":"IF(D2846=\"\",\"\",COUNTIF(Tabulka5[Data],D2846))","v":""},"","","",""]
[null,null,null,null,{"$f":"IF(D2847=\"\",\"\",COUNTIF(Tabulka5[Data],D2847))","v":""},"","","",""]
[null,null,null,null,{"$f":"IF(D2848=\"\",\"\",COUNTIF(Tabulka5[Data],D2848))","v":""},"","","",""]
[null,null,null,null,{"$f":"IF(D2849=\"\",\"\",COUNTIF(Tabulka5[Data],D2849))","v":""},"","","",""]
[null,null,null,null,{"$f":"IF(D2850=\"\",\"\",COUNTIF(Tabulka5[Data],D2850))","v":""},"","","",""]
[null,null,null,null,{"$f":"IF(D2851=\"\",\"\",COUNTIF(Tabulka5[Data],D2851))","v":""},"","","",""]
[null,null,null,null,{"$f":"IF(D2852=\"\",\"\",COUNTIF(Tabulka5[Data],D2852))","v":""},"","","",""]
[null,null,null,null,{"$f":"IF(D2853=\"\",\"\",COUNTIF(Tabulka5[Data],D2853))","v":""},"","","",""]
[null,null,null,null,{"$f":"IF(D2854=\"\",\"\",COUNTIF(Tabulka5[Data],D2854))","v":""},"","","",""]
[null,null,null,null,{"$f":"IF(D2855=\"\",\"\",COUNTIF(Tabulka5[Data],D2855))","v":""},"","","",""]
[null,null,null,null,{"$f":"IF(D2856=\"\",\"\",COUNTIF(Tabulka5[Data],D2856))","v":""},"","","",""]
[null,null,null,null,{"$f":"IF(D2857=\"\",\"\",COUNTIF(Tabulka5[Data],D2857))","v":""},"","","",""]
[null,null,null,null,{"$f":"IF(D2858=\"\",\"\",COUNTIF(Tabulka5[Data],D2858))","v":""},"","","",""]
[null,null,null,null,{"$f":"IF(D2859=\"\",\"\",COUNTIF(Tabulka5[Data],D2859))","v":""},"","","",""]
[null,null,null,null,{"$f":"IF(D2860=\"\",\"\",COUNTIF(Tabulka5[Data],D2860))","v":""},"","","",""]
[null,null,null,null,{"$f":"IF(D2861=\"\",\"\",COUNTIF(Tabulka5[Data],D2861))","v":""},"","","",""]
[null,null,null,null,{"$f":"IF(D2862=\"\",\"\",COUNTIF(Tabulka5[Data],D2862))","v":""},"","","",""]
[null,null,null,null,{"$f":"IF(D2863=\"\",\"\",COUNTIF(Tabulka5[Data],D2863))","v":""},"","","",""]
[null,null,null,null,{"$f":"IF(D2864=\"\",\"\",COUNTIF(Tabulka5[Data],D2864))","v":""},"","","",""]
[null,null,null,null,{"$f":"IF(D2865=\"\",\"\",COUNTIF(Tabulka5[Data],D2865))","v":""},"","","",""]
[null,null,null,null,{"$f":"IF(D2866=\"\",\"\",COUNTIF(Tabulka5[Data],D2866))","v":""},"","","",""]
[null,null,null,null,{"$f":"IF(D2867=\"\",\"\",COUNTIF(Tabulka5[Data],D2867))","v":""},"","","",""]
[null,null,null,null,{"$f":"IF(D2868=\"\",\"\",COUNTIF(Tabulka5[Data],D2868))","v":""},"","","",""]
[null,null,null,null,{"$f":"IF(D2869=\"\",\"\",COUNTIF(Tabulka5[Data],D2869))","v":""},"","","",""]
[null,null,null,null,{"$f":"IF(D2870=\"\",\"\",COUNTIF(Tabulka5[Data],D2870))","v":""},"","","",""]
[null,null,null,null,{"$f":"IF(D2871=\"\",\"\",COUNTIF(Tabulka5[Data],D2871))","v":""},"","","",""]
[null,null,null,null,{"$f":"IF(D2872=\"\",\"\",COUNTIF(Tabulka5[Data],D2872))","v":""},"","","",""]
[null,null,null,null,{"$f":"IF(D2873=\"\",\"\",COUNTIF(Tabulka5[Data],D2873))","v":""},"","","",""]
[null,null,null,null,{"$f":"IF(D2874=\"\",\"\",COUNTIF(Tabulka5[Data],D2874))","v":""},"","","",""]
[null,null,null,null,{"$f":"IF(D2875=\"\",\"\",COUNTIF(Tabulka5[Data],D2875))","v":""},"","","",""]
[null,null,null,null,{"$f":"IF(D2876=\"\",\"\",COUNTIF(Tabulka5[Data],D2876))","v":""},"","","",""]
[null,null,null,null,{"$f":"IF(D2877=\"\",\"\",COUNTIF(Tabulka5[Data],D2877))","v":""},"","","",""]
[null,null,null,null,{"$f":"IF(D2878=\"\",\"\",COUNTIF(Tabulka5[Data],D2878))","v":""},"","","",""]
[null,null,null,null,{"$f":"IF(D2879=\"\",\"\",COUNTIF(Tabulka5[Data],D2879))","v":""},"","","",""]
[null,null,null,null,{"$f":"IF(D2880=\"\",\"\",COUNTIF(Tabulka5[Data],D2880))","v":""},"","","",""]
[null,null,null,null,{"$f":"IF(D2881=\"\",\"\",COUNTIF(Tabulka5[Data],D2881))","v":""},"","","",""]
[null,null,null,null,{"$f":"IF(D2882=\"\",\"\",COUNTIF(Tabulka5[Data],D2882))","v":""},"","","",""]
[null,null,null,null,{"$f":"IF(D2883=\"\",\"\",COUNTIF(Tabulka5[Data],D2883))","v":""},"","","",""]
[null,null,null,null,{"$f":"IF(D2884=\"\",\"\",COUNTIF(Tabulka5[Data],D2884))","v":""},"","","",""]
[null,null,null,null,{"$f":"IF(D2885=\"\",\"\",COUNTIF(Tabulka5[Data],D2885))","v":""},"","","",""]
[null,null,null,null,{"$f":"IF(D2886=\"\",\"\",COUNTIF(Tabulka5[Data],D2886))","v":""},"","","",""]
[null,null,null,null,{"$f":"IF(D2887=\"\",\"\",COUNTIF(Tabulka5[Data],D2887))","v":""},"","","",""]
[null,null,null,null,{"$f":"IF(D2888=\"\",\"\",COUNTIF(Tabulka5[Data],D2888))","v":""},"","","",""]
[null,null,null,null,{"$f":"IF(D2889=\"\",\"\",COUNTIF(Tabulka5[Data],D2889))","v":""},"","","",""]
[null,null,null,null,{"$f":"IF(D2890=\"\",\"\",COUNTIF(Tabulka5[Data],D2890))","v":""},"","","",""]
[null,null,null,null,{"$f":"IF(D2891=\"\",\"\",COUNTIF(Tabulka5[Data],D2891))","v":""},"","","",""]
[null,null,null,null,{"$f":"IF(D2892=\"\",\"\",COUNTIF(Tabulka5[Data],D2892))","v":""},"","","",""]
[null,null,null,null,{"$f":"IF(D2893=\"\",\"\",COUNTIF(Tabulka5[Data],D2893))","v":""},"","","",""]
[null,null,null,null,{"$f":"IF(D2894=\"\",\"\",COUNTIF(Tabulka5[Data],D2894))","v":""},"","","",""]
[null,null,null,null,{"$f":"IF(D2895=\"\",\"\",COUNTIF(Tabulka5[Data],D2895))","v":""},"","","",""]
[null,null,null,null,{"$f":"IF(D2896=\"\",\"\",COUNTIF(Tabulka5[Data],D2896))","v":""},"","","",""]
[null,null,null,null,{"$f":"IF(D2897=\"\",\"\",COUNTIF(Tabulka5[Data],D2897))","v":""},{"$f":"IF(OR($K$11=0,D2897=\"\"),\"\",IF(D2898=\"\",1-I2896,ROUND(E2897/SUM($E$15:$E$6350),3)))","v":""},{"$f":"IF(OR(D2897=\"\",$A$11=\"nominální\"),\"\",G2896+E2897)","v":""},{"$f":"IF(OR($K$11=0,D2897=\"\",$A$11=\"nominální\"),\"\",H2896+F2897)","v":""},{"$f":"IF(OR($K$11=0,D2897=\"\"),\"\",I2896+F2897)","v":""}]
[null,null,null,null,{"$f":"IF(D2898=\"\",\"\",COUNTIF(Tabulka5[Data],D2898))","v":""},"","","",""]
[null,null,null,null,{"$f":"IF(D2899=\"\",\"\",COUNTIF(Tabulka5[Data],D2899))","v":""},"","","",""]
[null,null,null,null,{"$f":"IF(D2900=\"\",\"\",COUNTIF(Tabulka5[Data],D2900))","v":""},"","","",""]
[null,null,null,null,{"$f":"IF(D2901=\"\",\"\",COUNTIF(Tabulka5[Data],D2901))","v":""},"","","",""]
[null,null,null,null,{"$f":"IF(D2902=\"\",\"\",COUNTIF(Tabulka5[Data],D2902))","v":""},"","","",""]
[null,null,null,null,{"$f":"IF(D2903=\"\",\"\",COUNTIF(Tabulka5[Data],D2903))","v":""},"","","",""]
[null,null,null,null,{"$f":"IF(D2904=\"\",\"\",COUNTIF(Tabulka5[Data],D2904))","v":""},"","","",""]
[null,null,null,null,{"$f":"IF(D2905=\"\",\"\",COUNTIF(Tabulka5[Data],D2905))","v":""},"","","",""]
[null,null,null,null,{"$f":"IF(D2906=\"\",\"\",COUNTIF(Tabulka5[Data],D2906))","v":""},"","","",""]
[null,null,null,null,{"$f":"IF(D2907=\"\",\"\",COUNTIF(Tabulka5[Data],D2907))","v":""},"","","",""]
[null,null,null,null,{"$f":"IF(D2908=\"\",\"\",COUNTIF(Tabulka5[Data],D2908))","v":""},"","","",""]
[null,null,null,null,{"$f":"IF(D2909=\"\",\"\",COUNTIF(Tabulka5[Data],D2909))","v":""},"","","",""]
[null,null,null,null,{"$f":"IF(D2910=\"\",\"\",COUNTIF(Tabulka5[Data],D2910))","v":""},"","","",""]
[null,null,null,null,{"$f":"IF(D2911=\"\",\"\",COUNTIF(Tabulka5[Data],D2911))","v":""},"","","",""]
[null,null,null,null,{"$f":"IF(D2912=\"\",\"\",COUNTIF(Tabulka5[Data],D2912))","v":""},"","","",""]
[null,null,null,null,{"$f":"IF(D2913=\"\",\"\",COUNTIF(Tabulka5[Data],D2913))","v":""},"","","",""]
[null,null,null,null,{"$f":"IF(D2914=\"\",\"\",COUNTIF(Tabulka5[Data],D2914))","v":""},"","","",""]
[null,null,null,null,{"$f":"IF(D2915=\"\",\"\",COUNTIF(Tabulka5[Data],D2915))","v":""},"","","",""]
[null,null,null,null,{"$f":"IF(D2916=\"\",\"\",COUNTIF(Tabulka5[Data],D2916))","v":""},"","","",""]
[null,null,null,null,{"$f":"IF(D2917=\"\",\"\",COUNTIF(Tabulka5[Data],D2917))","v":""},"","","",""]
[null,null,null,null,{"$f":"IF(D2918=\"\",\"\",COUNTIF(Tabulka5[Data],D2918))","v":""},"","","",""]
[null,null,null,null,{"$f":"IF(D2919=\"\",\"\",COUNTIF(Tabulka5[Data],D2919))","v":""},"","","",""]
[null,null,null,null,{"$f":"IF(D2920=\"\",\"\",COUNTIF(Tabulka5[Data],D2920))","v":""},"","","",""]
[null,null,null,null,{"$f":"IF(D2921=\"\",\"\",COUNTIF(Tabulka5[Data],D2921))","v":""},"","","",""]
[null,null,null,null,{"$f":"IF(D2922=\"\",\"\",COUNTIF(Tabulka5[Data],D2922))","v":""},"","","",""]
[null,null,null,null,{"$f":"IF(D2923=\"\",\"\",COUNTIF(Tabulka5[Data],D2923))","v":""},"","","",""]
[null,null,null,null,{"$f":"IF(D2924=\"\",\"\",COUNTIF(Tabulka5[Data],D2924))","v":""},"","","",""]
[null,null,null,null,{"$f":"IF(D2925=\"\",\"\",COUNTIF(Tabulka5[Data],D2925))","v":""},"","","",""]
[null,null,null,null,{"$f":"IF(D2926=\"\",\"\",COUNTIF(Tabulka5[Data],D2926))","v":""},"","","",""]
[null,null,null,null,{"$f":"IF(D2927=\"\",\"\",COUNTIF(Tabulka5[Data],D2927))","v":""},"","","",""]
[null,null,null,null,{"$f":"IF(D2928=\"\",\"\",COUNTIF(Tabulka5[Data],D2928))","v":""},"","","",""]
[null,null,null,null,{"$f":"IF(D2929=\"\",\"\",COUNTIF(Tabulka5[Data],D2929))","v":""},"","","",""]
[null,null,null,null,{"$f":"IF(D2930=\"\",\"\",COUNTIF(Tabulka5[Data],D2930))","v":""},"","","",""]
[null,null,null,null,{"$f":"IF(D2931=\"\",\"\",COUNTIF(Tabulka5[Data],D2931))","v":""},"","","",""]
[null,null,null,null,{"$f":"IF(D2932=\"\",\"\",COUNTIF(Tabulka5[Data],D2932))","v":""},"","","",""]
[null,null,null,null,{"$f":"IF(D2933=\"\",\"\",COUNTIF(Tabulka5[Data],D2933))","v":""},"","","",""]
[null,null,null,null,{"$f":"IF(D2934=\"\",\"\",COUNTIF(Tabulka5[Data],D2934))","v":""},"","","",""]
[null,null,null,null,{"$f":"IF(D2935=\"\",\"\",COUNTIF(Tabulka5[Data],D2935))","v":""},"","","",""]
[null,null,null,null,{"$f":"IF(D2936=\"\",\"\",COUNTIF(Tabulka5[Data],D2936))","v":""},"","","",""]
[null,null,null,null,{"$f":"IF(D2937=\"\",\"\",COUNTIF(Tabulka5[Data],D2937))","v":""},"","","",""]
[null,null,null,null,{"$f":"IF(D2938=\"\",\"\",COUNTIF(Tabulka5[Data],D2938))","v":""},"","","",""]
[null,null,null,null,{"$f":"IF(D2939=\"\",\"\",COUNTIF(Tabulka5[Data],D2939))","v":""},"","","",""]
[null,null,null,null,{"$f":"IF(D2940=\"\",\"\",COUNTIF(Tabulka5[Data],D2940))","v":""},"","","",""]
[null,null,null,null,{"$f":"IF(D2941=\"\",\"\",COUNTIF(Tabulka5[Data],D2941))","v":""},"","","",""]
[null,null,null,null,{"$f":"IF(D2942=\"\",\"\",COUNTIF(Tabulka5[Data],D2942))","v":""},"","","",""]
[null,null,null,null,{"$f":"IF(D2943=\"\",\"\",COUNTIF(Tabulka5[Data],D2943))","v":""},"","","",""]
[null,null,null,null,{"$f":"IF(D2944=\"\",\"\",COUNTIF(Tabulka5[Data],D2944))","v":""},"","","",""]
[null,null,null,null,{"$f":"IF(D2945=\"\",\"\",COUNTIF(Tabulka5[Data],D2945))","v":""},"","","",""]
[null,null,null,null,{"$f":"IF(D2946=\"\",\"\",COUNTIF(Tabulka5[Data],D2946))","v":""},"","","",""]
[null,null,null,null,{"$f":"IF(D2947=\"\",\"\",COUNTIF(Tabulka5[Data],D2947))","v":""},"","","",""]
[null,null,null,null,{"$f":"IF(D2948=\"\",\"\",COUNTIF(Tabulka5[Data],D2948))","v":""},"","","",""]
[null,null,null,null,{"$f":"IF(D2949=\"\",\"\",COUNTIF(Tabulka5[Data],D2949))","v":""},"","","",""]
[null,null,null,null,{"$f":"IF(D2950=\"\",\"\",COUNTIF(Tabulka5[Data],D2950))","v":""},"","","",""]
[null,null,null,null,{"$f":"IF(D2951=\"\",\"\",COUNTIF(Tabulka5[Data],D2951))","v":""},"","","",""]
[null,null,null,null,{"$f":"IF(D2952=\"\",\"\",COUNTIF(Tabulka5[Data],D2952))","v":""},"","","",""]
[null,null,null,null,{"$f":"IF(D2953=\"\",\"\",COUNTIF(Tabulka5[Data],D2953))","v":""},"","","",""]
[null,null,null,null,{"$f":"IF(D2954=\"\",\"\",COUNTIF(Tabulka5[Data],D2954))","v":""},"","","",""]
[null,null,null,null,{"$f":"IF(D2955=\"\",\"\",COUNTIF(Tabulka5[Data],D2955))","v":""},"","","",""]
[null,null,null,null,{"$f":"IF(D2956=\"\",\"\",COUNTIF(Tabulka5[Data],D2956))","v":""},"","","",""]
[null,null,null,null,{"$f":"IF(D2957=\"\",\"\",COUNTIF(Tabulka5[Data],D2957))","v":""},"","","",""]
[null,null,null,null,{"$f":"IF(D2958=\"\",\"\",COUNTIF(Tabulka5[Data],D2958))","v":""},"","","",""]
[null,null,null,null,{"$f":"IF(D2959=\"\",\"\",COUNTIF(Tabulka5[Data],D2959))","v":""},"","","",""]
[null,null,null,null,{"$f":"IF(D2960=\"\",\"\",COUNTIF(Tabulka5[Data],D2960))","v":""},"","","",""]
[null,null,null,null,{"$f":"IF(D2961=\"\",\"\",COUNTIF(Tabulka5[Data],D2961))","v":""},{"$f":"IF(OR($K$11=0,D2961=\"\"),\"\",IF(D2962=\"\",1-I2960,ROUND(E2961/SUM($E$15:$E$6350),3)))","v":""},{"$f":"IF(OR(D2961=\"\",$A$11=\"nominální\"),\"\",G2960+E2961)","v":""},{"$f":"IF(OR($K$11=0,D2961=\"\",$A$11=\"nominální\"),\"\",H2960+F2961)","v":""},{"$f":"IF(OR($K$11=0,D2961=\"\"),\"\",I2960+F2961)","v":""}]
[null,null,null,null,{"$f":"IF(D2962=\"\",\"\",COUNTIF(Tabulka5[Data],D2962))","v":""},"","","",""]
[null,null,null,null,{"$f":"IF(D2963=\"\",\"\",COUNTIF(Tabulka5[Data],D2963))","v":""},"","","",""]
[null,null,null,null,{"$f":"IF(D2964=\"\",\"\",COUNTIF(Tabulka5[Data],D2964))","v":""},"","","",""]
[null,null,null,null,{"$f":"IF(D2965=\"\",\"\",COUNTIF(Tabulka5[Data],D2965))","v":""},"","","",""]
[null,null,null,null,{"$f":"IF(D2966=\"\",\"\",COUNTIF(Tabulka5[Data],D2966))","v":""},"","","",""]
[null,null,null,null,{"$f":"IF(D2967=\"\",\"\",COUNTIF(Tabulka5[Data],D2967))","v":""},"","","",""]
[null,null,null,null,{"$f":"IF(D2968=\"\",\"\",COUNTIF(Tabulka5[Data],D2968))","v":""},"","","",""]
[null,null,null,null,{"$f":"IF(D2969=\"\",\"\",COUNTIF(Tabulka5[Data],D2969))","v":""},"","","",""]
[null,null,null,null,{"$f":"IF(D2970=\"\",\"\",COUNTIF(Tabulka5[Data],D2970))","v":""},"","","",""]
[null,null,null,null,{"$f":"IF(D2971=\"\",\"\",COUNTIF(Tabulka5[Data],D2971))","v":""},"","","",""]
[null,null,null,null,{"$f":"IF(D2972=\"\",\"\",COUNTIF(Tabulka5[Data],D2972))","v":""},"","","",""]
[null,null,null,null,{"$f":"IF(D2973=\"\",\"\",COUNTIF(Tabulka5[Data],D2973))","v":""},"","","",""]
[null,null,null,null,{"$f":"IF(D2974=\"\",\"\",COUNTIF(Tabulka5[Data],D2974))","v":""},"","","",""]
[null,null,null,null,{"$f":"IF(D2975=\"\",\"\",COUNTIF(Tabulka5[Data],D2975))","v":""},"","","",""]
[null,null,null,null,{"$f":"IF(D2976=\"\",\"\",COUNTIF(Tabulka5[Data],D2976))","v":""},"","","",""]
[null,null,null,null,{"$f":"IF(D2977=\"\",\"\",COUNTIF(Tabulka5[Data],D2977))","v":""},"","","",""]
[null,null,null,null,{"$f":"IF(D2978=\"\",\"\",COUNTIF(Tabulka5[Data],D2978))","v":""},"","","",""]
[null,null,null,null,{"$f":"IF(D2979=\"\",\"\",COUNTIF(Tabulka5[Data],D2979))","v":""},"","","",""]
[null,null,null,null,{"$f":"IF(D2980=\"\",\"\",COUNTIF(Tabulka5[Data],D2980))","v":""},"","","",""]
[null,null,null,null,{"$f":"IF(D2981=\"\",\"\",COUNTIF(Tabulka5[Data],D2981))","v":""},"","","",""]
[null,null,null,null,{"$f":"IF(D2982=\"\",\"\",COUNTIF(Tabulka5[Data],D2982))","v":""},"","","",""]
[null,null,null,null,{"$f":"IF(D2983=\"\",\"\",COUNTIF(Tabulka5[Data],D2983))","v":""},"","","",""]
[null,null,null,null,{"$f":"IF(D2984=\"\",\"\",COUNTIF(Tabulka5[Data],D2984))","v":""},"","","",""]
[null,null,null,null,{"$f":"IF(D2985=\"\",\"\",COUNTIF(Tabulka5[Data],D2985))","v":""},"","","",""]
[null,null,null,null,{"$f":"IF(D2986=\"\",\"\",COUNTIF(Tabulka5[Data],D2986))","v":""},"","","",""]
[null,null,null,null,{"$f":"IF(D2987=\"\",\"\",COUNTIF(Tabulka5[Data],D2987))","v":""},"","","",""]
[null,null,null,null,{"$f":"IF(D2988=\"\",\"\",COUNTIF(Tabulka5[Data],D2988))","v":""},"","","",""]
[null,null,null,null,{"$f":"IF(D2989=\"\",\"\",COUNTIF(Tabulka5[Data],D2989))","v":""},"","","",""]
[null,null,null,null,{"$f":"IF(D2990=\"\",\"\",COUNTIF(Tabulka5[Data],D2990))","v":""},"","","",""]
[null,null,null,null,{"$f":"IF(D2991=\"\",\"\",COUNTIF(Tabulka5[Data],D2991))","v":""},"","","",""]
[null,null,null,null,{"$f":"IF(D2992=\"\",\"\",COUNTIF(Tabulka5[Data],D2992))","v":""},"","","",""]
[null,null,null,null,{"$f":"IF(D2993=\"\",\"\",COUNTIF(Tabulka5[Data],D2993))","v":""},"","","",""]
[null,null,null,null,{"$f":"IF(D2994=\"\",\"\",COUNTIF(Tabulka5[Data],D2994))","v":""},"","","",""]
[null,null,null,null,{"$f":"IF(D2995=\"\",\"\",COUNTIF(Tabulka5[Data],D2995))","v":""},"","","",""]
[null,null,null,null,{"$f":"IF(D2996=\"\",\"\",COUNTIF(Tabulka5[Data],D2996))","v":""},"","","",""]
[null,null,null,null,{"$f":"IF(D2997=\"\",\"\",COUNTIF(Tabulka5[Data],D2997))","v":""},"","","",""]
[null,null,null,null,{"$f":"IF(D2998=\"\",\"\",COUNTIF(Tabulka5[Data],D2998))","v":""},"","","",""]
[null,null,null,null,{"$f":"IF(D2999=\"\",\"\",COUNTIF(Tabulka5[Data],D2999))","v":""},"","","",""]
[null,null,null,null,{"$f":"IF(D3000=\"\",\"\",COUNTIF(Tabulka5[Data],D3000))","v":""},"","","",""]
[null,null,null,null,{"$f":"IF(D3001=\"\",\"\",COUNTIF(Tabulka5[Data],D3001))","v":""},"","","",""]
[null,null,null,null,{"$f":"IF(D3002=\"\",\"\",COUNTIF(Tabulka5[Data],D3002))","v":""},"","","",""]
[null,null,null,null,{"$f":"IF(D3003=\"\",\"\",COUNTIF(Tabulka5[Data],D3003))","v":""},"","","",""]
[null,null,null,null,{"$f":"IF(D3004=\"\",\"\",COUNTIF(Tabulka5[Data],D3004))","v":""},"","","",""]
[null,null,null,null,{"$f":"IF(D3005=\"\",\"\",COUNTIF(Tabulka5[Data],D3005))","v":""},"","","",""]
[null,null,null,null,{"$f":"IF(D3006=\"\",\"\",COUNTIF(Tabulka5[Data],D3006))","v":""},"","","",""]
[null,null,null,null,{"$f":"IF(D3007=\"\",\"\",COUNTIF(Tabulka5[Data],D3007))","v":""},"","","",""]
[null,null,null,null,{"$f":"IF(D3008=\"\",\"\",COUNTIF(Tabulka5[Data],D3008))","v":""},"","","",""]
[null,null,null,null,{"$f":"IF(D3009=\"\",\"\",COUNTIF(Tabulka5[Data],D3009))","v":""},"","","",""]
[null,null,null,null,{"$f":"IF(D3010=\"\",\"\",COUNTIF(Tabulka5[Data],D3010))","v":""},"","","",""]
[null,null,null,null,{"$f":"IF(D3011=\"\",\"\",COUNTIF(Tabulka5[Data],D3011))","v":""},"","","",""]
[null,null,null,null,{"$f":"IF(D3012=\"\",\"\",COUNTIF(Tabulka5[Data],D3012))","v":""},"","","",""]
[null,null,null,null,{"$f":"IF(D3013=\"\",\"\",COUNTIF(Tabulka5[Data],D3013))","v":""},"","","",""]
[null,null,null,null,{"$f":"IF(D3014=\"\",\"\",COUNTIF(Tabulka5[Data],D3014))","v":""},"","","",""]
[null,null,null,null,{"$f":"IF(D3015=\"\",\"\",COUNTIF(Tabulka5[Data],D3015))","v":""},"","","",""]
[null,null,null,null,{"$f":"IF(D3016=\"\",\"\",COUNTIF(Tabulka5[Data],D3016))","v":""},"","","",""]
[null,null,null,null,{"$f":"IF(D3017=\"\",\"\",COUNTIF(Tabulka5[Data],D3017))","v":""},"","","",""]
[null,null,null,null,{"$f":"IF(D3018=\"\",\"\",COUNTIF(Tabulka5[Data],D3018))","v":""},"","","",""]
[null,null,null,null,{"$f":"IF(D3019=\"\",\"\",COUNTIF(Tabulka5[Data],D3019))","v":""},"","","",""]
[null,null,null,null,{"$f":"IF(D3020=\"\",\"\",COUNTIF(Tabulka5[Data],D3020))","v":""},"","","",""]
[null,null,null,null,{"$f":"IF(D3021=\"\",\"\",COUNTIF(Tabulka5[Data],D3021))","v":""},"","","",""]
[null,null,null,null,{"$f":"IF(D3022=\"\",\"\",COUNTIF(Tabulka5[Data],D3022))","v":""},"","","",""]
[null,null,null,null,{"$f":"IF(D3023=\"\",\"\",COUNTIF(Tabulka5[Data],D3023))","v":""},"","","",""]
[null,null,null,null,{"$f":"IF(D3024=\"\",\"\",COUNTIF(Tabulka5[Data],D3024))","v":""},"","","",""]
[null,null,null,null,{"$f":"IF(D3025=\"\",\"\",COUNTIF(Tabulka5[Data],D3025))","v":""},{"$f":"IF(OR($K$11=0,D3025=\"\"),\"\",IF(D3026=\"\",1-I3024,ROUND(E3025/SUM($E$15:$E$6350),3)))","v":""},{"$f":"IF(OR(D3025=\"\",$A$11=\"nominální\"),\"\",G3024+E3025)","v":""},{"$f":"IF(OR($K$11=0,D3025=\"\",$A$11=\"nominální\"),\"\",H3024+F3025)","v":""},{"$f":"IF(OR($K$11=0,D3025=\"\"),\"\",I3024+F3025)","v":""}]
[null,null,null,null,{"$f":"IF(D3026=\"\",\"\",COUNTIF(Tabulka5[Data],D3026))","v":""},"","","",""]
[null,null,null,null,{"$f":"IF(D3027=\"\",\"\",COUNTIF(Tabulka5[Data],D3027))","v":""},"","","",""]
[null,null,null,null,{"$f":"IF(D3028=\"\",\"\",COUNTIF(Tabulka5[Data],D3028))","v":""},"","","",""]
[null,null,null,null,{"$f":"IF(D3029=\"\",\"\",COUNTIF(Tabulka5[Data],D3029))","v":""},"","","",""]
[null,null,null,null,{"$f":"IF(D3030=\"\",\"\",COUNTIF(Tabulka5[Data],D3030))","v":""},"","","",""]
[null,null,null,null,{"$f":"IF(D3031=\"\",\"\",COUNTIF(Tabulka5[Data],D3031))","v":""},"","","",""]
[null,null,null,null,{"$f":"IF(D3032=\"\",\"\",COUNTIF(Tabulka5[Data],D3032))","v":""},"","","",""]
[null,null,null,null,{"$f":"IF(D3033=\"\",\"\",COUNTIF(Tabulka5[Data],D3033))","v":""},"","","",""]
[null,null,null,null,{"$f":"IF(D3034=\"\",\"\",COUNTIF(Tabulka5[Data],D3034))","v":""},"","","",""]
[null,null,null,null,{"$f":"IF(D3035=\"\",\"\",COUNTIF(Tabulka5[Data],D3035))","v":""},"","","",""]
[null,null,null,null,{"$f":"IF(D3036=\"\",\"\",COUNTIF(Tabulka5[Data],D3036))","v":""},"","","",""]
[null,null,null,null,{"$f":"IF(D3037=\"\",\"\",COUNTIF(Tabulka5[Data],D3037))","v":""},"","","",""]
[null,null,null,null,{"$f":"IF(D3038=\"\",\"\",COUNTIF(Tabulka5[Data],D3038))","v":""},"","","",""]
[null,null,null,null,{"$f":"IF(D3039=\"\",\"\",COUNTIF(Tabulka5[Data],D3039))","v":""},"","","",""]
[null,null,null,null,{"$f":"IF(D3040=\"\",\"\",COUNTIF(Tabulka5[Data],D3040))","v":""},"","","",""]
[null,null,null,null,{"$f":"IF(D3041=\"\",\"\",COUNTIF(Tabulka5[Data],D3041))","v":""},"","","",""]
[null,null,null,null,{"$f":"IF(D3042=\"\",\"\",COUNTIF(Tabulka5[Data],D3042))","v":""},"","","",""]
[null,null,null,null,{"$f":"IF(D3043=\"\",\"\",COUNTIF(Tabulka5[Data],D3043))","v":""},"","","",""]
[null,null,null,null,{"$f":"IF(D3044=\"\",\"\",COUNTIF(Tabulka5[Data],D3044))","v":""},"","","",""]
[null,null,null,null,{"$f":"IF(D3045=\"\",\"\",COUNTIF(Tabulka5[Data],D3045))","v":""},"","","",""]
[null,null,null,null,{"$f":"IF(D3046=\"\",\"\",COUNTIF(Tabulka5[Data],D3046))","v":""},"","","",""]
[null,null,null,null,{"$f":"IF(D3047=\"\",\"\",COUNTIF(Tabulka5[Data],D3047))","v":""},"","","",""]
[null,null,null,null,{"$f":"IF(D3048=\"\",\"\",COUNTIF(Tabulka5[Data],D3048))","v":""},"","","",""]
[null,null,null,null,{"$f":"IF(D3049=\"\",\"\",COUNTIF(Tabulka5[Data],D3049))","v":""},"","","",""]
[null,null,null,null,{"$f":"IF(D3050=\"\",\"\",COUNTIF(Tabulka5[Data],D3050))","v":""},"","","",""]
[null,null,null,null,{"$f":"IF(D3051=\"\",\"\",COUNTIF(Tabulka5[Data],D3051))","v":""},"","","",""]
[null,null,null,null,{"$f":"IF(D3052=\"\",\"\",COUNTIF(Tabulka5[Data],D3052))","v":""},"","","",""]
[null,null,null,null,{"$f":"IF(D3053=\"\",\"\",COUNTIF(Tabulka5[Data],D3053))","v":""},"","","",""]
[null,null,null,null,{"$f":"IF(D3054=\"\",\"\",COUNTIF(Tabulka5[Data],D3054))","v":""},"","","",""]
[null,null,null,null,{"$f":"IF(D3055=\"\",\"\",COUNTIF(Tabulka5[Data],D3055))","v":""},"","","",""]
[null,null,null,null,{"$f":"IF(D3056=\"\",\"\",COUNTIF(Tabulka5[Data],D3056))","v":""},"","","",""]
[null,null,null,null,{"$f":"IF(D3057=\"\",\"\",COUNTIF(Tabulka5[Data],D3057))","v":""},"","","",""]
[null,null,null,null,{"$f":"IF(D3058=\"\",\"\",COUNTIF(Tabulka5[Data],D3058))","v":""},"","","",""]
[null,null,null,null,{"$f":"IF(D3059=\"\",\"\",COUNTIF(Tabulka5[Data],D3059))","v":""},"","","",""]
[null,null,null,null,{"$f":"IF(D3060=\"\",\"\",COUNTIF(Tabulka5[Data],D3060))","v":""},"","","",""]
[null,null,null,null,{"$f":"IF(D3061=\"\",\"\",COUNTIF(Tabulka5[Data],D3061))","v":""},"","","",""]
[null,null,null,null,{"$f":"IF(D3062=\"\",\"\",COUNTIF(Tabulka5[Data],D3062))","v":""},"","","",""]
[null,null,null,null,{"$f":"IF(D3063=\"\",\"\",COUNTIF(Tabulka5[Data],D3063))","v":""},"","","",""]
[null,null,null,null,{"$f":"IF(D3064=\"\",\"\",COUNTIF(Tabulka5[Data],D3064))","v":""},"","","",""]
[null,null,null,null,{"$f":"IF(D3065=\"\",\"\",COUNTIF(Tabulka5[Data],D3065))","v":""},"","","",""]
[null,null,null,null,{"$f":"IF(D3066=\"\",\"\",COUNTIF(Tabulka5[Data],D3066))","v":""},"","","",""]
[null,null,null,null,{"$f":"IF(D3067=\"\",\"\",COUNTIF(Tabulka5[Data],D3067))","v":""},"","","",""]
[null,null,null,null,{"$f":"IF(D3068=\"\",\"\",COUNTIF(Tabulka5[Data],D3068))","v":""},"","","",""]
[null,null,null,null,{"$f":"IF(D3069=\"\",\"\",COUNTIF(Tabulka5[Data],D3069))","v":""},"","","",""]
[null,null,null,null,{"$f":"IF(D3070=\"\",\"\",COUNTIF(Tabulka5[Data],D3070))","v":""},"","","",""]
[null,null,null,null,{"$f":"IF(D3071=\"\",\"\",COUNTIF(Tabulka5[Data],D3071))","v":""},"","","",""]
[null,null,null,null,{"$f":"IF(D3072=\"\",\"\",COUNTIF(Tabulka5[Data],D3072))","v":""},"","","",""]
[null,null,null,null,{"$f":"IF(D3073=\"\",\"\",COUNTIF(Tabulka5[Data],D3073))","v":""},"","","",""]
[null,null,null,null,{"$f":"IF(D3074=\"\",\"\",COUNTIF(Tabulka5[Data],D3074))","v":""},"","","",""]
[null,null,null,null,{"$f":"IF(D3075=\"\",\"\",COUNTIF(Tabulka5[Data],D3075))","v":""},"","","",""]
[null,null,null,null,{"$f":"IF(D3076=\"\",\"\",COUNTIF(Tabulka5[Data],D3076))","v":""},"","","",""]
[null,null,null,null,{"$f":"IF(D3077=\"\",\"\",COUNTIF(Tabulka5[Data],D3077))","v":""},"","","",""]
[null,null,null,null,{"$f":"IF(D3078=\"\",\"\",COUNTIF(Tabulka5[Data],D3078))","v":""},"","","",""]
[null,null,null,null,{"$f":"IF(D3079=\"\",\"\",COUNTIF(Tabulka5[Data],D3079))","v":""},"","","",""]
[null,null,null,null,{"$f":"IF(D3080=\"\",\"\",COUNTIF(Tabulka5[Data],D3080))","v":""},"","","",""]
[null,null,null,null,{"$f":"IF(D3081=\"\",\"\",COUNTIF(Tabulka5[Data],D3081))","v":""},"","","",""]
[null,null,null,null,{"$f":"IF(D3082=\"\",\"\",COUNTIF(Tabulka5[Data],D3082))","v":""},"","","",""]
[null,null,null,null,{"$f":"IF(D3083=\"\",\"\",COUNTIF(Tabulka5[Data],D3083))","v":""},"","","",""]
[null,null,null,null,{"$f":"IF(D3084=\"\",\"\",COUNTIF(Tabulka5[Data],D3084))","v":""},"","","",""]
[null,null,null,null,{"$f":"IF(D3085=\"\",\"\",COUNTIF(Tabulka5[Data],D3085))","v":""},"","","",""]
[null,null,null,null,{"$f":"IF(D3086=\"\",\"\",COUNTIF(Tabulka5[Data],D3086))","v":""},"","","",""]
[null,null,null,null,{"$f":"IF(D3087=\"\",\"\",COUNTIF(Tabulka5[Data],D3087))","v":""},"","","",""]
[null,null,null,null,{"$f":"IF(D3088=\"\",\"\",COUNTIF(Tabulka5[Data],D3088))","v":""},"","","",""]
[null,null,null,null,{"$f":"IF(D3089=\"\",\"\",COUNTIF(Tabulka5[Data],D3089))","v":""},{"$f":"IF(OR($K$11=0,D3089=\"\"),\"\",IF(D3090=\"\",1-I3088,ROUND(E3089/SUM($E$15:$E$6350),3)))","v":""},{"$f":"IF(OR(D3089=\"\",$A$11=\"nominální\"),\"\",G3088+E3089)","v":""},{"$f":"IF(OR($K$11=0,D3089=\"\",$A$11=\"nominální\"),\"\",H3088+F3089)","v":""},{"$f":"IF(OR($K$11=0,D3089=\"\"),\"\",I3088+F3089)","v":""}]
[null,null,null,null,{"$f":"IF(D3090=\"\",\"\",COUNTIF(Tabulka5[Data],D3090))","v":""},"","","",""]
[null,null,null,null,{"$f":"IF(D3091=\"\",\"\",COUNTIF(Tabulka5[Data],D3091))","v":""},"","","",""]
[null,null,null,null,{"$f":"IF(D3092=\"\",\"\",COUNTIF(Tabulka5[Data],D3092))","v":""},"","","",""]
[null,null,null,null,{"$f":"IF(D3093=\"\",\"\",COUNTIF(Tabulka5[Data],D3093))","v":""},"","","",""]
[null,null,null,null,{"$f":"IF(D3094=\"\",\"\",COUNTIF(Tabulka5[Data],D3094))","v":""},"","","",""]
[null,null,null,null,{"$f":"IF(D3095=\"\",\"\",COUNTIF(Tabulka5[Data],D3095))","v":""},"","","",""]
[null,null,null,null,{"$f":"IF(D3096=\"\",\"\",COUNTIF(Tabulka5[Data],D3096))","v":""},"","","",""]
[null,null,null,null,{"$f":"IF(D3097=\"\",\"\",COUNTIF(Tabulka5[Data],D3097))","v":""},"","","",""]
[null,null,null,null,{"$f":"IF(D3098=\"\",\"\",COUNTIF(Tabulka5[Data],D3098))","v":""},"","","",""]
[null,null,null,null,{"$f":"IF(D3099=\"\",\"\",COUNTIF(Tabulka5[Data],D3099))","v":""},"","","",""]
[null,null,null,null,{"$f":"IF(D3100=\"\",\"\",COUNTIF(Tabulka5[Data],D3100))","v":""},"","","",""]
[null,null,null,null,{"$f":"IF(D3101=\"\",\"\",COUNTIF(Tabulka5[Data],D3101))","v":""},"","","",""]
[null,null,null,null,{"$f":"IF(D3102=\"\",\"\",COUNTIF(Tabulka5[Data],D3102))","v":""},"","","",""]
[null,null,null,null,{"$f":"IF(D3103=\"\",\"\",COUNTIF(Tabulka5[Data],D3103))","v":""},"","","",""]
[null,null,null,null,{"$f":"IF(D3104=\"\",\"\",COUNTIF(Tabulka5[Data],D3104))","v":""},"","","",""]
[null,null,null,null,{"$f":"IF(D3105=\"\",\"\",COUNTIF(Tabulka5[Data],D3105))","v":""},"","","",""]
[null,null,null,null,{"$f":"IF(D3106=\"\",\"\",COUNTIF(Tabulka5[Data],D3106))","v":""},"","","",""]
[null,null,null,null,{"$f":"IF(D3107=\"\",\"\",COUNTIF(Tabulka5[Data],D3107))","v":""},"","","",""]
[null,null,null,null,{"$f":"IF(D3108=\"\",\"\",COUNTIF(Tabulka5[Data],D3108))","v":""},"","","",""]
[null,null,null,null,{"$f":"IF(D3109=\"\",\"\",COUNTIF(Tabulka5[Data],D3109))","v":""},"","","",""]
[null,null,null,null,{"$f":"IF(D3110=\"\",\"\",COUNTIF(Tabulka5[Data],D3110))","v":""},"","","",""]
[null,null,null,null,{"$f":"IF(D3111=\"\",\"\",COUNTIF(Tabulka5[Data],D3111))","v":""},"","","",""]
[null,null,null,null,{"$f":"IF(D3112=\"\",\"\",COUNTIF(Tabulka5[Data],D3112))","v":""},"","","",""]
[null,null,null,null,{"$f":"IF(D3113=\"\",\"\",COUNTIF(Tabulka5[Data],D3113))","v":""},"","","",""]
[null,null,null,null,{"$f":"IF(D3114=\"\",\"\",COUNTIF(Tabulka5[Data],D3114))","v":""},"","","",""]
[null,null,null,null,{"$f":"IF(D3115=\"\",\"\",COUNTIF(Tabulka5[Data],D3115))","v":""},"","","",""]
[null,null,null,null,{"$f":"IF(D3116=\"\",\"\",COUNTIF(Tabulka5[Data],D3116))","v":""},"","","",""]
[null,null,null,null,{"$f":"IF(D3117=\"\",\"\",COUNTIF(Tabulka5[Data],D3117))","v":""},"","","",""]
[null,null,null,null,{"$f":"IF(D3118=\"\",\"\",COUNTIF(Tabulka5[Data],D3118))","v":""},"","","",""]
[null,null,null,null,{"$f":"IF(D3119=\"\",\"\",COUNTIF(Tabulka5[Data],D3119))","v":""},"","","",""]
[null,null,null,null,{"$f":"IF(D3120=\"\",\"\",COUNTIF(Tabulka5[Data],D3120))","v":""},"","","",""]
[null,null,null,null,{"$f":"IF(D3121=\"\",\"\",COUNTIF(Tabulka5[Data],D3121))","v":""},"","","",""]
[null,null,null,null,{"$f":"IF(D3122=\"\",\"\",COUNTIF(Tabulka5[Data],D3122))","v":""},"","","",""]
[null,null,null,null,{"$f":"IF(D3123=\"\",\"\",COUNTIF(Tabulka5[Data],D3123))","v":""},"","","",""]
[null,null,null,null,{"$f":"IF(D3124=\"\",\"\",COUNTIF(Tabulka5[Data],D3124))","v":""},"","","",""]
[null,null,null,null,{"$f":"IF(D3125=\"\",\"\",COUNTIF(Tabulka5[Data],D3125))","v":""},"","","",""]
[null,null,null,null,{"$f":"IF(D3126=\"\",\"\",COUNTIF(Tabulka5[Data],D3126))","v":""},"","","",""]
[null,null,null,null,{"$f":"IF(D3127=\"\",\"\",COUNTIF(Tabulka5[Data],D3127))","v":""},"","","",""]
[null,null,null,null,{"$f":"IF(D3128=\"\",\"\",COUNTIF(Tabulka5[Data],D3128))","v":""},"","","",""]
[null,null,null,null,{"$f":"IF(D3129=\"\",\"\",COUNTIF(Tabulka5[Data],D3129))","v":""},"","","",""]
[null,null,null,null,{"$f":"IF(D3130=\"\",\"\",COUNTIF(Tabulka5[Data],D3130))","v":""},"","","",""]
[null,null,null,null,{"$f":"IF(D3131=\"\",\"\",COUNTIF(Tabulka5[Data],D3131))","v":""},"","","",""]
[null,null,null,null,{"$f":"IF(D3132=\"\",\"\",COUNTIF(Tabulka5[Data],D3132))","v":""},"","","",""]
[null,null,null,null,{"$f":"IF(D3133=\"\",\"\",COUNTIF(Tabulka5[Data],D3133))","v":""},"","","",""]
[null,null,null,null,{"$f":"IF(D3134=\"\",\"\",COUNTIF(Tabulka5[Data],D3134))","v":""},"","","",""]
[null,null,null,null,{"$f":"IF(D3135=\"\",\"\",COUNTIF(Tabulka5[Data],D3135))","v":""},"","","",""]
[null,null,null,null,{"$f":"IF(D3136=\"\",\"\",COUNTIF(Tabulka5[Data],D3136))","v":""},"","","",""]
[null,null,null,null,{"$f":"IF(D3137=\"\",\"\",COUNTIF(Tabulka5[Data],D3137))","v":""},"","","",""]
[null,null,null,null,{"$f":"IF(D3138=\"\",\"\",COUNTIF(Tabulka5[Data],D3138))","v":""},"","","",""]
[null,null,null,null,{"$f":"IF(D3139=\"\",\"\",COUNTIF(Tabulka5[Data],D3139))","v":""},"","","",""]
[null,null,null,null,{"$f":"IF(D3140=\"\",\"\",COUNTIF(Tabulka5[Data],D3140))","v":""},"","","",""]
[null,null,null,null,{"$f":"IF(D3141=\"\",\"\",COUNTIF(Tabulka5[Data],D3141))","v":""},"","","",""]
[null,null,null,null,{"$f":"IF(D3142=\"\",\"\",COUNTIF(Tabulka5[Data],D3142))","v":""},"","","",""]
[null,null,null,null,{"$f":"IF(D3143=\"\",\"\",COUNTIF(Tabulka5[Data],D3143))","v":""},"","","",""]
[null,null,null,null,{"$f":"IF(D3144=\"\",\"\",COUNTIF(Tabulka5[Data],D3144))","v":""},"","","",""]
[null,null,null,null,{"$f":"IF(D3145=\"\",\"\",COUNTIF(Tabulka5[Data],D3145))","v":""},"","","",""]
[null,null,null,null,{"$f":"IF(D3146=\"\",\"\",COUNTIF(Tabulka5[Data],D3146))","v":""},"","","",""]
[null,null,null,null,{"$f":"IF(D3147=\"\",\"\",COUNTIF(Tabulka5[Data],D3147))","v":""},"","","",""]
[null,null,null,null,{"$f":"IF(D3148=\"\",\"\",COUNTIF(Tabulka5[Data],D3148))","v":""},"","","",""]
[null,null,null,null,{"$f":"IF(D3149=\"\",\"\",COUNTIF(Tabulka5[Data],D3149))","v":""},"","","",""]
[null,null,null,null,{"$f":"IF(D3150=\"\",\"\",COUNTIF(Tabulka5[Data],D3150))","v":""},"","","",""]
[null,null,null,null,{"$f":"IF(D3151=\"\",\"\",COUNTIF(Tabulka5[Data],D3151))","v":""},"","","",""]
[null,null,null,null,{"$f":"IF(D3152=\"\",\"\",COUNTIF(Tabulka5[Data],D3152))","v":""},"","","",""]
[null,null,null,null,{"$f":"IF(D3153=\"\",\"\",COUNTIF(Tabulka5[Data],D3153))","v":""},{"$f":"IF(OR($K$11=0,D3153=\"\"),\"\",IF(D3154=\"\",1-I3152,ROUND(E3153/SUM($E$15:$E$6350),3)))","v":""},{"$f":"IF(OR(D3153=\"\",$A$11=\"nominální\"),\"\",G3152+E3153)","v":""},{"$f":"IF(OR($K$11=0,D3153=\"\",$A$11=\"nominální\"),\"\",H3152+F3153)","v":""},{"$f":"IF(OR($K$11=0,D3153=\"\"),\"\",I3152+F3153)","v":""}]
[null,null,null,null,{"$f":"IF(D3154=\"\",\"\",COUNTIF(Tabulka5[Data],D3154))","v":""},"","","",""]
[null,null,null,null,{"$f":"IF(D3155=\"\",\"\",COUNTIF(Tabulka5[Data],D3155))","v":""},"","","",""]
[null,null,null,null,{"$f":"IF(D3156=\"\",\"\",COUNTIF(Tabulka5[Data],D3156))","v":""},"","","",""]
[null,null,null,null,{"$f":"IF(D3157=\"\",\"\",COUNTIF(Tabulka5[Data],D3157))","v":""},"","","",""]
[null,null,null,null,{"$f":"IF(D3158=\"\",\"\",COUNTIF(Tabulka5[Data],D3158))","v":""},"","","",""]
[null,null,null,null,{"$f":"IF(D3159=\"\",\"\",COUNTIF(Tabulka5[Data],D3159))","v":""},"","","",""]
[null,null,null,null,{"$f":"IF(D3160=\"\",\"\",COUNTIF(Tabulka5[Data],D3160))","v":""},"","","",""]
[null,null,null,null,{"$f":"IF(D3161=\"\",\"\",COUNTIF(Tabulka5[Data],D3161))","v":""},"","","",""]
[null,null,null,null,{"$f":"IF(D3162=\"\",\"\",COUNTIF(Tabulka5[Data],D3162))","v":""},"","","",""]
[null,null,null,null,{"$f":"IF(D3163=\"\",\"\",COUNTIF(Tabulka5[Data],D3163))","v":""},"","","",""]
[null,null,null,null,{"$f":"IF(D3164=\"\",\"\",COUNTIF(Tabulka5[Data],D3164))","v":""},"","","",""]
[null,null,null,null,{"$f":"IF(D3165=\"\",\"\",COUNTIF(Tabulka5[Data],D3165))","v":""},"","","",""]
[null,null,null,null,{"$f":"IF(D3166=\"\",\"\",COUNTIF(Tabulka5[Data],D3166))","v":""},"","","",""]
[null,null,null,null,{"$f":"IF(D3167=\"\",\"\",COUNTIF(Tabulka5[Data],D3167))","v":""},"","","",""]
[null,null,null,null,{"$f":"IF(D3168=\"\",\"\",COUNTIF(Tabulka5[Data],D3168))","v":""},"","","",""]
[null,null,null,null,{"$f":"IF(D3169=\"\",\"\",COUNTIF(Tabulka5[Data],D3169))","v":""},"","","",""]
[null,null,null,null,{"$f":"IF(D3170=\"\",\"\",COUNTIF(Tabulka5[Data],D3170))","v":""},"","","",""]
[null,null,null,null,{"$f":"IF(D3171=\"\",\"\",COUNTIF(Tabulka5[Data],D3171))","v":""},"","","",""]
[null,null,null,null,{"$f":"IF(D3172=\"\",\"\",COUNTIF(Tabulka5[Data],D3172))","v":""},"","","",""]
[null,null,null,null,{"$f":"IF(D3173=\"\",\"\",COUNTIF(Tabulka5[Data],D3173))","v":""},"","","",""]
[null,null,null,null,{"$f":"IF(D3174=\"\",\"\",COUNTIF(Tabulka5[Data],D3174))","v":""},"","","",""]
[null,null,null,null,{"$f":"IF(D3175=\"\",\"\",COUNTIF(Tabulka5[Data],D3175))","v":""},"","","",""]
[null,null,null,null,{"$f":"IF(D3176=\"\",\"\",COUNTIF(Tabulka5[Data],D3176))","v":""},"","","",""]
[null,null,null,null,{"$f":"IF(D3177=\"\",\"\",COUNTIF(Tabulka5[Data],D3177))","v":""},"","","",""]
[null,null,null,null,{"$f":"IF(D3178=\"\",\"\",COUNTIF(Tabulka5[Data],D3178))","v":""},"","","",""]
[null,null,null,null,{"$f":"IF(D3179=\"\",\"\",COUNTIF(Tabulka5[Data],D3179))","v":""},"","","",""]
[null,null,null,null,{"$f":"IF(D3180=\"\",\"\",COUNTIF(Tabulka5[Data],D3180))","v":""},"","","",""]
[null,null,null,null,{"$f":"IF(D3181=\"\",\"\",COUNTIF(Tabulka5[Data],D3181))","v":""},"","","",""]
[null,null,null,null,{"$f":"IF(D3182=\"\",\"\",COUNTIF(Tabulka5[Data],D3182))","v":""},"","","",""]
[null,null,null,null,{"$f":"IF(D3183=\"\",\"\",COUNTIF(Tabulka5[Data],D3183))","v":""},"","","",""]
[null,null,null,null,{"$f":"IF(D3184=\"\",\"\",COUNTIF(Tabulka5[Data],D3184))","v":""},"","","",""]
[null,null,null,null,{"$f":"IF(D3185=\"\",\"\",COUNTIF(Tabulka5[Data],D3185))","v":""},"","","",""]
[null,null,null,null,{"$f":"IF(D3186=\"\",\"\",COUNTIF(Tabulka5[Data],D3186))","v":""},"","","",""]
[null,null,null,null,{"$f":"IF(D3187=\"\",\"\",COUNTIF(Tabulka5[Data],D3187))","v":""},"","","",""]
[null,null,null,null,{"$f":"IF(D3188=\"\",\"\",COUNTIF(Tabulka5[Data],D3188))","v":""},"","","",""]
[null,null,null,null,{"$f":"IF(D3189=\"\",\"\",COUNTIF(Tabulka5[Data],D3189))","v":""},"","","",""]
[null,null,null,null,{"$f":"IF(D3190=\"\",\"\",COUNTIF(Tabulka5[Data],D3190))","v":""},"","","",""]
[null,null,null,null,{"$f":"IF(D3191=\"\",\"\",COUNTIF(Tabulka5[Data],D3191))","v":""},"","","",""]
[null,null,null,null,{"$f":"IF(D3192=\"\",\"\",COUNTIF(Tabulka5[Data],D3192))","v":""},"","","",""]
[null,null,null,null,{"$f":"IF(D3193=\"\",\"\",COUNTIF(Tabulka5[Data],D3193))","v":""},"","","",""]
[null,null,null,null,{"$f":"IF(D3194=\"\",\"\",COUNTIF(Tabulka5[Data],D3194))","v":""},"","","",""]
[null,null,null,null,{"$f":"IF(D3195=\"\",\"\",COUNTIF(Tabulka5[Data],D3195))","v":""},"","","",""]
[null,null,null,null,{"$f":"IF(D3196=\"\",\"\",COUNTIF(Tabulka5[Data],D3196))","v":""},"","","",""]
[null,null,null,null,{"$f":"IF(D3197=\"\",\"\",COUNTIF(Tabulka5[Data],D3197))","v":""},"","","",""]
[null,null,null,null,{"$f":"IF(D3198=\"\",\"\",COUNTIF(Tabulka5[Data],D3198))","v":""},"","","",""]
[null,null,null,null,{"$f":"IF(D3199=\"\",\"\",COUNTIF(Tabulka5[Data],D3199))","v":""},"","","",""]
[null,null,null,null,{"$f":"IF(D3200=\"\",\"\",COUNTIF(Tabulka5[Data],D3200))","v":""},"","","",""]
[null,null,null,null,{"$f":"IF(D3201=\"\",\"\",COUNTIF(Tabulka5[Data],D3201))","v":""},"","","",""]
[null,null,null,null,{"$f":"IF(D3202=\"\",\"\",COUNTIF(Tabulka5[Data],D3202))","v":""},"","","",""]
[null,null,null,null,{"$f":"IF(D3203=\"\",\"\",COUNTIF(Tabulka5[Data],D3203))","v":""},"","","",""]
[null,null,null,null,{"$f":"IF(D3204=\"\",\"\",COUNTIF(Tabulka5[Data],D3204))","v":""},"","","",""]
[null,null,null,null,{"$f":"IF(D3205=\"\",\"\",COUNTIF(Tabulka5[Data],D3205))","v":""},"","","",""]
[null,null,null,null,{"$f":"IF(D3206=\"\",\"\",COUNTIF(Tabulka5[Data],D3206))","v":""},"","","",""]
[null,null,null,null,{"$f":"IF(D3207=\"\",\"\",COUNTIF(Tabulka5[Data],D3207))","v":""},"","","",""]
[null,null,null,null,{"$f":"IF(D3208=\"\",\"\",COUNTIF(Tabulka5[Data],D3208))","v":""},"","","",""]
[null,null,null,null,{"$f":"IF(D3209=\"\",\"\",COUNTIF(Tabulka5[Data],D3209))","v":""},"","","",""]
[null,null,null,null,{"$f":"IF(D3210=\"\",\"\",COUNTIF(Tabulka5[Data],D3210))","v":""},"","","",""]
[null,null,null,null,{"$f":"IF(D3211=\"\",\"\",COUNTIF(Tabulka5[Data],D3211))","v":""},"","","",""]
[null,null,null,null,{"$f":"IF(D3212=\"\",\"\",COUNTIF(Tabulka5[Data],D3212))","v":""},"","","",""]
[null,null,null,null,{"$f":"IF(D3213=\"\",\"\",COUNTIF(Tabulka5[Data],D3213))","v":""},"","","",""]
[null,null,null,null,{"$f":"IF(D3214=\"\",\"\",COUNTIF(Tabulka5[Data],D3214))","v":""},"","","",""]
[null,null,null,null,{"$f":"IF(D3215=\"\",\"\",COUNTIF(Tabulka5[Data],D3215))","v":""},"","","",""]
[null,null,null,null,{"$f":"IF(D3216=\"\",\"\",COUNTIF(Tabulka5[Data],D3216))","v":""},"","","",""]
[null,null,null,null,{"$f":"IF(D3217=\"\",\"\",COUNTIF(Tabulka5[Data],D3217))","v":""},{"$f":"IF(OR($K$11=0,D3217=\"\"),\"\",IF(D3218=\"\",1-I3216,ROUND(E3217/SUM($E$15:$E$6350),3)))","v":""},{"$f":"IF(OR(D3217=\"\",$A$11=\"nominální\"),\"\",G3216+E3217)","v":""},{"$f":"IF(OR($K$11=0,D3217=\"\",$A$11=\"nominální\"),\"\",H3216+F3217)","v":""},{"$f":"IF(OR($K$11=0,D3217=\"\"),\"\",I3216+F3217)","v":""}]
[null,null,null,null,{"$f":"IF(D3218=\"\",\"\",COUNTIF(Tabulka5[Data],D3218))","v":""},"","","",""]
[null,null,null,null,{"$f":"IF(D3219=\"\",\"\",COUNTIF(Tabulka5[Data],D3219))","v":""},"","","",""]
[null,null,null,null,{"$f":"IF(D3220=\"\",\"\",COUNTIF(Tabulka5[Data],D3220))","v":""},"","","",""]
[null,null,null,null,{"$f":"IF(D3221=\"\",\"\",COUNTIF(Tabulka5[Data],D3221))","v":""},"","","",""]
[null,null,null,null,{"$f":"IF(D3222=\"\",\"\",COUNTIF(Tabulka5[Data],D3222))","v":""},"","","",""]
[null,null,null,null,{"$f":"IF(D3223=\"\",\"\",COUNTIF(Tabulka5[Data],D3223))","v":""},"","","",""]
[null,null,null,null,{"$f":"IF(D3224=\"\",\"\",COUNTIF(Tabulka5[Data],D3224))","v":""},"","","",""]
[null,null,null,null,{"$f":"IF(D3225=\"\",\"\",COUNTIF(Tabulka5[Data],D3225))","v":""},"","","",""]
[null,null,null,null,{"$f":"IF(D3226=\"\",\"\",COUNTIF(Tabulka5[Data],D3226))","v":""},"","","",""]
[null,null,null,null,{"$f":"IF(D3227=\"\",\"\",COUNTIF(Tabulka5[Data],D3227))","v":""},"","","",""]
[null,null,null,null,{"$f":"IF(D3228=\"\",\"\",COUNTIF(Tabulka5[Data],D3228))","v":""},"","","",""]
[null,null,null,null,{"$f":"IF(D3229=\"\",\"\",COUNTIF(Tabulka5[Data],D3229))","v":""},"","","",""]
[null,null,null,null,{"$f":"IF(D3230=\"\",\"\",COUNTIF(Tabulka5[Data],D3230))","v":""},"","","",""]
[null,null,null,null,{"$f":"IF(D3231=\"\",\"\",COUNTIF(Tabulka5[Data],D3231))","v":""},"","","",""]
[null,null,null,null,{"$f":"IF(D3232=\"\",\"\",COUNTIF(Tabulka5[Data],D3232))","v":""},"","","",""]
[null,null,null,null,{"$f":"IF(D3233=\"\",\"\",COUNTIF(Tabulka5[Data],D3233))","v":""},"","","",""]
[null,null,null,null,{"$f":"IF(D3234=\"\",\"\",COUNTIF(Tabulka5[Data],D3234))","v":""},"","","",""]
[null,null,null,null,{"$f":"IF(D3235=\"\",\"\",COUNTIF(Tabulka5[Data],D3235))","v":""},"","","",""]
[null,null,null,null,{"$f":"IF(D3236=\"\",\"\",COUNTIF(Tabulka5[Data],D3236))","v":""},"","","",""]
[null,null,null,null,{"$f":"IF(D3237=\"\",\"\",COUNTIF(Tabulka5[Data],D3237))","v":""},"","","",""]
[null,null,null,null,{"$f":"IF(D3238=\"\",\"\",COUNTIF(Tabulka5[Data],D3238))","v":""},"","","",""]
[null,null,null,null,{"$f":"IF(D3239=\"\",\"\",COUNTIF(Tabulka5[Data],D3239))","v":""},"","","",""]
[null,null,null,null,{"$f":"IF(D3240=\"\",\"\",COUNTIF(Tabulka5[Data],D3240))","v":""},"","","",""]
[null,null,null,null,{"$f":"IF(D3241=\"\",\"\",COUNTIF(Tabulka5[Data],D3241))","v":""},"","","",""]
[null,null,null,null,{"$f":"IF(D3242=\"\",\"\",COUNTIF(Tabulka5[Data],D3242))","v":""},"","","",""]
[null,null,null,null,{"$f":"IF(D3243=\"\",\"\",COUNTIF(Tabulka5[Data],D3243))","v":""},"","","",""]
[null,null,null,null,{"$f":"IF(D3244=\"\",\"\",COUNTIF(Tabulka5[Data],D3244))","v":""},"","","",""]
[null,null,null,null,{"$f":"IF(D3245=\"\",\"\",COUNTIF(Tabulka5[Data],D3245))","v":""},"","","",""]
[null,null,null,null,{"$f":"IF(D3246=\"\",\"\",COUNTIF(Tabulka5[Data],D3246))","v":""},"","","",""]
[null,null,null,null,{"$f":"IF(D3247=\"\",\"\",COUNTIF(Tabulka5[Data],D3247))","v":""},"","","",""]
[null,null,null,null,{"$f":"IF(D3248=\"\",\"\",COUNTIF(Tabulka5[Data],D3248))","v":""},"","","",""]
[null,null,null,null,{"$f":"IF(D3249=\"\",\"\",COUNTIF(Tabulka5[Data],D3249))","v":""},"","","",""]
[null,null,null,null,{"$f":"IF(D3250=\"\",\"\",COUNTIF(Tabulka5[Data],D3250))","v":""},"","","",""]
[null,null,null,null,{"$f":"IF(D3251=\"\",\"\",COUNTIF(Tabulka5[Data],D3251))","v":""},"","","",""]
[null,null,null,null,{"$f":"IF(D3252=\"\",\"\",COUNTIF(Tabulka5[Data],D3252))","v":""},"","","",""]
[null,null,null,null,{"$f":"IF(D3253=\"\",\"\",COUNTIF(Tabulka5[Data],D3253))","v":""},"","","",""]
[null,null,null,null,{"$f":"IF(D3254=\"\",\"\",COUNTIF(Tabulka5[Data],D3254))","v":""},"","","",""]
[null,null,null,null,{"$f":"IF(D3255=\"\",\"\",COUNTIF(Tabulka5[Data],D3255))","v":""},"","","",""]
[null,null,null,null,{"$f":"IF(D3256=\"\",\"\",COUNTIF(Tabulka5[Data],D3256))","v":""},"","","",""]
[null,null,null,null,{"$f":"IF(D3257=\"\",\"\",COUNTIF(Tabulka5[Data],D3257))","v":""},"","","",""]
[null,null,null,null,{"$f":"IF(D3258=\"\",\"\",COUNTIF(Tabulka5[Data],D3258))","v":""},"","","",""]
[null,null,null,null,{"$f":"IF(D3259=\"\",\"\",COUNTIF(Tabulka5[Data],D3259))","v":""},"","","",""]
[null,null,null,null,{"$f":"IF(D3260=\"\",\"\",COUNTIF(Tabulka5[Data],D3260))","v":""},"","","",""]
[null,null,null,null,{"$f":"IF(D3261=\"\",\"\",COUNTIF(Tabulka5[Data],D3261))","v":""},"","","",""]
[null,null,null,null,{"$f":"IF(D3262=\"\",\"\",COUNTIF(Tabulka5[Data],D3262))","v":""},"","","",""]
[null,null,null,null,{"$f":"IF(D3263=\"\",\"\",COUNTIF(Tabulka5[Data],D3263))","v":""},"","","",""]
[null,null,null,null,{"$f":"IF(D3264=\"\",\"\",COUNTIF(Tabulka5[Data],D3264))","v":""},"","","",""]
[null,null,null,null,{"$f":"IF(D3265=\"\",\"\",COUNTIF(Tabulka5[Data],D3265))","v":""},"","","",""]
[null,null,null,null,{"$f":"IF(D3266=\"\",\"\",COUNTIF(Tabulka5[Data],D3266))","v":""},"","","",""]
[null,null,null,null,{"$f":"IF(D3267=\"\",\"\",COUNTIF(Tabulka5[Data],D3267))","v":""},"","","",""]
[null,null,null,null,{"$f":"IF(D3268=\"\",\"\",COUNTIF(Tabulka5[Data],D3268))","v":""},"","","",""]
[null,null,null,null,{"$f":"IF(D3269=\"\",\"\",COUNTIF(Tabulka5[Data],D3269))","v":""},"","","",""]
[null,null,null,null,{"$f":"IF(D3270=\"\",\"\",COUNTIF(Tabulka5[Data],D3270))","v":""},"","","",""]
[null,null,null,null,{"$f":"IF(D3271=\"\",\"\",COUNTIF(Tabulka5[Data],D3271))","v":""},"","","",""]
[null,null,null,null,{"$f":"IF(D3272=\"\",\"\",COUNTIF(Tabulka5[Data],D3272))","v":""},"","","",""]
[null,null,null,null,{"$f":"IF(D3273=\"\",\"\",COUNTIF(Tabulka5[Data],D3273))","v":""},"","","",""]
[null,null,null,null,{"$f":"IF(D3274=\"\",\"\",COUNTIF(Tabulka5[Data],D3274))","v":""},"","","",""]
[null,null,null,null,{"$f":"IF(D3275=\"\",\"\",COUNTIF(Tabulka5[Data],D3275))","v":""},"","","",""]
[null,null,null,null,{"$f":"IF(D3276=\"\",\"\",COUNTIF(Tabulka5[Data],D3276))","v":""},"","","",""]
[null,null,null,null,{"$f":"IF(D3277=\"\",\"\",COUNTIF(Tabulka5[Data],D3277))","v":""},"","","",""]
[null,null,null,null,{"$f":"IF(D3278=\"\",\"\",COUNTIF(Tabulka5[Data],D3278))","v":""},"","","",""]
[null,null,null,null,{"$f":"IF(D3279=\"\",\"\",COUNTIF(Tabulka5[Data],D3279))","v":""},"","","",""]
[null,null,null,null,{"$f":"IF(D3280=\"\",\"\",COUNTIF(Tabulka5[Data],D3280))","v":""},"","","",""]
[null,null,null,null,{"$f":"IF(D3281=\"\",\"\",COUNTIF(Tabulka5[Data],D3281))","v":""},{"$f":"IF(OR($K$11=0,D3281=\"\"),\"\",IF(D3282=\"\",1-I3280,ROUND(E3281/SUM($E$15:$E$6350),3)))","v":""},{"$f":"IF(OR(D3281=\"\",$A$11=\"nominální\"),\"\",G3280+E3281)","v":""},{"$f":"IF(OR($K$11=0,D3281=\"\",$A$11=\"nominální\"),\"\",H3280+F3281)","v":""},{"$f":"IF(OR($K$11=0,D3281=\"\"),\"\",I3280+F3281)","v":""}]
[null,null,null,null,{"$f":"IF(D3282=\"\",\"\",COUNTIF(Tabulka5[Data],D3282))","v":""},"","","",""]
[null,null,null,null,{"$f":"IF(D3283=\"\",\"\",COUNTIF(Tabulka5[Data],D3283))","v":""},"","","",""]
[null,null,null,null,{"$f":"IF(D3284=\"\",\"\",COUNTIF(Tabulka5[Data],D3284))","v":""},"","","",""]
[null,null,null,null,{"$f":"IF(D3285=\"\",\"\",COUNTIF(Tabulka5[Data],D3285))","v":""},"","","",""]
[null,null,null,null,{"$f":"IF(D3286=\"\",\"\",COUNTIF(Tabulka5[Data],D3286))","v":""},"","","",""]
[null,null,null,null,{"$f":"IF(D3287=\"\",\"\",COUNTIF(Tabulka5[Data],D3287))","v":""},"","","",""]
[null,null,null,null,{"$f":"IF(D3288=\"\",\"\",COUNTIF(Tabulka5[Data],D3288))","v":""},"","","",""]
[null,null,null,null,{"$f":"IF(D3289=\"\",\"\",COUNTIF(Tabulka5[Data],D3289))","v":""},"","","",""]
[null,null,null,null,{"$f":"IF(D3290=\"\",\"\",COUNTIF(Tabulka5[Data],D3290))","v":""},"","","",""]
[null,null,null,null,{"$f":"IF(D3291=\"\",\"\",COUNTIF(Tabulka5[Data],D3291))","v":""},"","","",""]
[null,null,null,null,{"$f":"IF(D3292=\"\",\"\",COUNTIF(Tabulka5[Data],D3292))","v":""},"","","",""]
[null,null,null,null,{"$f":"IF(D3293=\"\",\"\",COUNTIF(Tabulka5[Data],D3293))","v":""},"","","",""]
[null,null,null,null,{"$f":"IF(D3294=\"\",\"\",COUNTIF(Tabulka5[Data],D3294))","v":""},"","","",""]
[null,null,null,null,{"$f":"IF(D3295=\"\",\"\",COUNTIF(Tabulka5[Data],D3295))","v":""},"","","",""]
[null,null,null,null,{"$f":"IF(D3296=\"\",\"\",COUNTIF(Tabulka5[Data],D3296))","v":""},"","","",""]
[null,null,null,null,{"$f":"IF(D3297=\"\",\"\",COUNTIF(Tabulka5[Data],D3297))","v":""},"","","",""]
[null,null,null,null,{"$f":"IF(D3298=\"\",\"\",COUNTIF(Tabulka5[Data],D3298))","v":""},"","","",""]
[null,null,null,null,{"$f":"IF(D3299=\"\",\"\",COUNTIF(Tabulka5[Data],D3299))","v":""},"","","",""]
[null,null,null,null,{"$f":"IF(D3300=\"\",\"\",COUNTIF(Tabulka5[Data],D3300))","v":""},"","","",""]
[null,null,null,null,{"$f":"IF(D3301=\"\",\"\",COUNTIF(Tabulka5[Data],D3301))","v":""},"","","",""]
[null,null,null,null,{"$f":"IF(D3302=\"\",\"\",COUNTIF(Tabulka5[Data],D3302))","v":""},"","","",""]
[null,null,null,null,{"$f":"IF(D3303=\"\",\"\",COUNTIF(Tabulka5[Data],D3303))","v":""},"","","",""]
[null,null,null,null,{"$f":"IF(D3304=\"\",\"\",COUNTIF(Tabulka5[Data],D3304))","v":""},"","","",""]
[null,null,null,null,{"$f":"IF(D3305=\"\",\"\",COUNTIF(Tabulka5[Data],D3305))","v":""},"","","",""]
[null,null,null,null,{"$f":"IF(D3306=\"\",\"\",COUNTIF(Tabulka5[Data],D3306))","v":""},"","","",""]
[null,null,null,null,{"$f":"IF(D3307=\"\",\"\",COUNTIF(Tabulka5[Data],D3307))","v":""},"","","",""]
[null,null,null,null,{"$f":"IF(D3308=\"\",\"\",COUNTIF(Tabulka5[Data],D3308))","v":""},"","","",""]
[null,null,null,null,{"$f":"IF(D3309=\"\",\"\",COUNTIF(Tabulka5[Data],D3309))","v":""},"","","",""]
[null,null,null,null,{"$f":"IF(D3310=\"\",\"\",COUNTIF(Tabulka5[Data],D3310))","v":""},"","","",""]
[null,null,null,null,{"$f":"IF(D3311=\"\",\"\",COUNTIF(Tabulka5[Data],D3311))","v":""},"","","",""]
[null,null,null,null,{"$f":"IF(D3312=\"\",\"\",COUNTIF(Tabulka5[Data],D3312))","v":""},"","","",""]
[null,null,null,null,{"$f":"IF(D3313=\"\",\"\",COUNTIF(Tabulka5[Data],D3313))","v":""},"","","",""]
[null,null,null,null,{"$f":"IF(D3314=\"\",\"\",COUNTIF(Tabulka5[Data],D3314))","v":""},"","","",""]
[null,null,null,null,{"$f":"IF(D3315=\"\",\"\",COUNTIF(Tabulka5[Data],D3315))","v":""},"","","",""]
[null,null,null,null,{"$f":"IF(D3316=\"\",\"\",COUNTIF(Tabulka5[Data],D3316))","v":""},"","","",""]
[null,null,null,null,{"$f":"IF(D3317=\"\",\"\",COUNTIF(Tabulka5[Data],D3317))","v":""},"","","",""]
[null,null,null,null,{"$f":"IF(D3318=\"\",\"\",COUNTIF(Tabulka5[Data],D3318))","v":""},"","","",""]
[null,null,null,null,{"$f":"IF(D3319=\"\",\"\",COUNTIF(Tabulka5[Data],D3319))","v":""},"","","",""]
[null,null,null,null,{"$f":"IF(D3320=\"\",\"\",COUNTIF(Tabulka5[Data],D3320))","v":""},"","","",""]
[null,null,null,null,{"$f":"IF(D3321=\"\",\"\",COUNTIF(Tabulka5[Data],D3321))","v":""},"","","",""]
[null,null,null,null,{"$f":"IF(D3322=\"\",\"\",COUNTIF(Tabulka5[Data],D3322))","v":""},"","","",""]
[null,null,null,null,{"$f":"IF(D3323=\"\",\"\",COUNTIF(Tabulka5[Data],D3323))","v":""},"","","",""]
[null,null,null,null,{"$f":"IF(D3324=\"\",\"\",COUNTIF(Tabulka5[Data],D3324))","v":""},"","","",""]
[null,null,null,null,{"$f":"IF(D3325=\"\",\"\",COUNTIF(Tabulka5[Data],D3325))","v":""},"","","",""]
[null,null,null,null,{"$f":"IF(D3326=\"\",\"\",COUNTIF(Tabulka5[Data],D3326))","v":""},"","","",""]
[null,null,null,null,{"$f":"IF(D3327=\"\",\"\",COUNTIF(Tabulka5[Data],D3327))","v":""},"","","",""]
[null,null,null,null,{"$f":"IF(D3328=\"\",\"\",COUNTIF(Tabulka5[Data],D3328))","v":""},"","","",""]
[null,null,null,null,{"$f":"IF(D3329=\"\",\"\",COUNTIF(Tabulka5[Data],D3329))","v":""},"","","",""]
[null,null,null,null,{"$f":"IF(D3330=\"\",\"\",COUNTIF(Tabulka5[Data],D3330))","v":""},"","","",""]
[null,null,null,null,{"$f":"IF(D3331=\"\",\"\",COUNTIF(Tabulka5[Data],D3331))","v":""},"","","",""]
[null,null,null,null,{"$f":"IF(D3332=\"\",\"\",COUNTIF(Tabulka5[Data],D3332))","v":""},"","","",""]
[null,null,null,null,{"$f":"IF(D3333=\"\",\"\",COUNTIF(Tabulka5[Data],D3333))","v":""},"","","",""]
[null,null,null,null,{"$f":"IF(D3334=\"\",\"\",COUNTIF(Tabulka5[Data],D3334))","v":""},"","","",""]
[null,null,null,null,{"$f":"IF(D3335=\"\",\"\",COUNTIF(Tabulka5[Data],D3335))","v":""},"","","",""]
[null,null,null,null,{"$f":"IF(D3336=\"\",\"\",COUNTIF(Tabulka5[Data],D3336))","v":""},"","","",""]
[null,null,null,null,{"$f":"IF(D3337=\"\",\"\",COUNTIF(Tabulka5[Data],D3337))","v":""},"","","",""]
[null,null,null,null,{"$f":"IF(D3338=\"\",\"\",COUNTIF(Tabulka5[Data],D3338))","v":""},"","","",""]
[null,null,null,null,{"$f":"IF(D3339=\"\",\"\",COUNTIF(Tabulka5[Data],D3339))","v":""},"","","",""]
[null,null,null,null,{"$f":"IF(D3340=\"\",\"\",COUNTIF(Tabulka5[Data],D3340))","v":""},"","","",""]
[null,null,null,null,{"$f":"IF(D3341=\"\",\"\",COUNTIF(Tabulka5[Data],D3341))","v":""},"","","",""]
[null,null,null,null,{"$f":"IF(D3342=\"\",\"\",COUNTIF(Tabulka5[Data],D3342))","v":""},"","","",""]
[null,null,null,null,{"$f":"IF(D3343=\"\",\"\",COUNTIF(Tabulka5[Data],D3343))","v":""},"","","",""]
[null,null,null,null,{"$f":"IF(D3344=\"\",\"\",COUNTIF(Tabulka5[Data],D3344))","v":""},"","","",""]
[null,null,null,null,{"$f":"IF(D3345=\"\",\"\",COUNTIF(Tabulka5[Data],D3345))","v":""},{"$f":"IF(OR($K$11=0,D3345=\"\"),\"\",IF(D3346=\"\",1-I3344,ROUND(E3345/SUM($E$15:$E$6350),3)))","v":""},{"$f":"IF(OR(D3345=\"\",$A$11=\"nominální\"),\"\",G3344+E3345)","v":""},{"$f":"IF(OR($K$11=0,D3345=\"\",$A$11=\"nominální\"),\"\",H3344+F3345)","v":""},{"$f":"IF(OR($K$11=0,D3345=\"\"),\"\",I3344+F3345)","v":""}]
[null,null,null,null,{"$f":"IF(D3346=\"\",\"\",COUNTIF(Tabulka5[Data],D3346))","v":""},"","","",""]
[null,null,null,null,{"$f":"IF(D3347=\"\",\"\",COUNTIF(Tabulka5[Data],D3347))","v":""},"","","",""]
[null,null,null,null,{"$f":"IF(D3348=\"\",\"\",COUNTIF(Tabulka5[Data],D3348))","v":""},"","","",""]
[null,null,null,null,{"$f":"IF(D3349=\"\",\"\",COUNTIF(Tabulka5[Data],D3349))","v":""},"","","",""]
[null,null,null,null,{"$f":"IF(D3350=\"\",\"\",COUNTIF(Tabulka5[Data],D3350))","v":""},"","","",""]
[null,null,null,null,{"$f":"IF(D3351=\"\",\"\",COUNTIF(Tabulka5[Data],D3351))","v":""},"","","",""]
[null,null,null,null,{"$f":"IF(D3352=\"\",\"\",COUNTIF(Tabulka5[Data],D3352))","v":""},"","","",""]
[null,null,null,null,{"$f":"IF(D3353=\"\",\"\",COUNTIF(Tabulka5[Data],D3353))","v":""},"","","",""]
[null,null,null,null,{"$f":"IF(D3354=\"\",\"\",COUNTIF(Tabulka5[Data],D3354))","v":""},"","","",""]
[null,null,null,null,{"$f":"IF(D3355=\"\",\"\",COUNTIF(Tabulka5[Data],D3355))","v":""},"","","",""]
[null,null,null,null,{"$f":"IF(D3356=\"\",\"\",COUNTIF(Tabulka5[Data],D3356))","v":""},"","","",""]
[null,null,null,null,{"$f":"IF(D3357=\"\",\"\",COUNTIF(Tabulka5[Data],D3357))","v":""},"","","",""]
[null,null,null,null,{"$f":"IF(D3358=\"\",\"\",COUNTIF(Tabulka5[Data],D3358))","v":""},"","","",""]
[null,null,null,null,{"$f":"IF(D3359=\"\",\"\",COUNTIF(Tabulka5[Data],D3359))","v":""},"","","",""]
[null,null,null,null,{"$f":"IF(D3360=\"\",\"\",COUNTIF(Tabulka5[Data],D3360))","v":""},"","","",""]
[null,null,null,null,{"$f":"IF(D3361=\"\",\"\",COUNTIF(Tabulka5[Data],D3361))","v":""},"","","",""]
[null,null,null,null,{"$f":"IF(D3362=\"\",\"\",COUNTIF(Tabulka5[Data],D3362))","v":""},"","","",""]
[null,null,null,null,{"$f":"IF(D3363=\"\",\"\",COUNTIF(Tabulka5[Data],D3363))","v":""},"","","",""]
[null,null,null,null,{"$f":"IF(D3364=\"\",\"\",COUNTIF(Tabulka5[Data],D3364))","v":""},"","","",""]
[null,null,null,null,{"$f":"IF(D3365=\"\",\"\",COUNTIF(Tabulka5[Data],D3365))","v":""},"","","",""]
[null,null,null,null,{"$f":"IF(D3366=\"\",\"\",COUNTIF(Tabulka5[Data],D3366))","v":""},"","","",""]
[null,null,null,null,{"$f":"IF(D3367=\"\",\"\",COUNTIF(Tabulka5[Data],D3367))","v":""},"","","",""]
[null,null,null,null,{"$f":"IF(D3368=\"\",\"\",COUNTIF(Tabulka5[Data],D3368))","v":""},"","","",""]
[null,null,null,null,{"$f":"IF(D3369=\"\",\"\",COUNTIF(Tabulka5[Data],D3369))","v":""},"","","",""]
[null,null,null,null,{"$f":"IF(D3370=\"\",\"\",COUNTIF(Tabulka5[Data],D3370))","v":""},"","","",""]
[null,null,null,null,{"$f":"IF(D3371=\"\",\"\",COUNTIF(Tabulka5[Data],D3371))","v":""},"","","",""]
[null,null,null,null,{"$f":"IF(D3372=\"\",\"\",COUNTIF(Tabulka5[Data],D3372))","v":""},"","","",""]
[null,null,null,null,{"$f":"IF(D3373=\"\",\"\",COUNTIF(Tabulka5[Data],D3373))","v":""},"","","",""]
[null,null,null,null,{"$f":"IF(D3374=\"\",\"\",COUNTIF(Tabulka5[Data],D3374))","v":""},"","","",""]
[null,null,null,null,{"$f":"IF(D3375=\"\",\"\",COUNTIF(Tabulka5[Data],D3375))","v":""},"","","",""]
[null,null,null,null,{"$f":"IF(D3376=\"\",\"\",COUNTIF(Tabulka5[Data],D3376))","v":""},"","","",""]
[null,null,null,null,{"$f":"IF(D3377=\"\",\"\",COUNTIF(Tabulka5[Data],D3377))","v":""},"","","",""]
[null,null,null,null,{"$f":"IF(D3378=\"\",\"\",COUNTIF(Tabulka5[Data],D3378))","v":""},"","","",""]
[null,null,null,null,{"$f":"IF(D3379=\"\",\"\",COUNTIF(Tabulka5[Data],D3379))","v":""},"","","",""]
[null,null,null,null,{"$f":"IF(D3380=\"\",\"\",COUNTIF(Tabulka5[Data],D3380))","v":""},"","","",""]
[null,null,null,null,{"$f":"IF(D3381=\"\",\"\",COUNTIF(Tabulka5[Data],D3381))","v":""},"","","",""]
[null,null,null,null,{"$f":"IF(D3382=\"\",\"\",COUNTIF(Tabulka5[Data],D3382))","v":""},"","","",""]
[null,null,null,null,{"$f":"IF(D3383=\"\",\"\",COUNTIF(Tabulka5[Data],D3383))","v":""},"","","",""]
[null,null,null,null,{"$f":"IF(D3384=\"\",\"\",COUNTIF(Tabulka5[Data],D3384))","v":""},"","","",""]
[null,null,null,null,{"$f":"IF(D3385=\"\",\"\",COUNTIF(Tabulka5[Data],D3385))","v":""},"","","",""]
[null,null,null,null,{"$f":"IF(D3386=\"\",\"\",COUNTIF(Tabulka5[Data],D3386))","v":""},"","","",""]
[null,null,null,null,{"$f":"IF(D3387=\"\",\"\",COUNTIF(Tabulka5[Data],D3387))","v":""},"","","",""]
[null,null,null,null,{"$f":"IF(D3388=\"\",\"\",COUNTIF(Tabulka5[Data],D3388))","v":""},"","","",""]
[null,null,null,null,{"$f":"IF(D3389=\"\",\"\",COUNTIF(Tabulka5[Data],D3389))","v":""},"","","",""]
[null,null,null,null,{"$f":"IF(D3390=\"\",\"\",COUNTIF(Tabulka5[Data],D3390))","v":""},"","","",""]
[null,null,null,null,{"$f":"IF(D3391=\"\",\"\",COUNTIF(Tabulka5[Data],D3391))","v":""},"","","",""]
[null,null,null,null,{"$f":"IF(D3392=\"\",\"\",COUNTIF(Tabulka5[Data],D3392))","v":""},"","","",""]
[null,null,null,null,{"$f":"IF(D3393=\"\",\"\",COUNTIF(Tabulka5[Data],D3393))","v":""},"","","",""]
[null,null,null,null,{"$f":"IF(D3394=\"\",\"\",COUNTIF(Tabulka5[Data],D3394))","v":""},"","","",""]
[null,null,null,null,{"$f":"IF(D3395=\"\",\"\",COUNTIF(Tabulka5[Data],D3395))","v":""},"","","",""]
[null,null,null,null,{"$f":"IF(D3396=\"\",\"\",COUNTIF(Tabulka5[Data],D3396))","v":""},"","","",""]
[null,null,null,null,{"$f":"IF(D3397=\"\",\"\",COUNTIF(Tabulka5[Data],D3397))","v":""},"","","",""]
[null,null,null,null,{"$f":"IF(D3398=\"\",\"\",COUNTIF(Tabulka5[Data],D3398))","v":""},"","","",""]
[null,null,null,null,{"$f":"IF(D3399=\"\",\"\",COUNTIF(Tabulka5[Data],D3399))","v":""},"","","",""]
[null,null,null,null,{"$f":"IF(D3400=\"\",\"\",COUNTIF(Tabulka5[Data],D3400))","v":""},"","","",""]
[null,null,null,null,{"$f":"IF(D3401=\"\",\"\",COUNTIF(Tabulka5[Data],D3401))","v":""},"","","",""]
[null,null,null,null,{"$f":"IF(D3402=\"\",\"\",COUNTIF(Tabulka5[Data],D3402))","v":""},"","","",""]
[null,null,null,null,{"$f":"IF(D3403=\"\",\"\",COUNTIF(Tabulka5[Data],D3403))","v":""},"","","",""]
[null,null,null,null,{"$f":"IF(D3404=\"\",\"\",COUNTIF(Tabulka5[Data],D3404))","v":""},"","","",""]
[null,null,null,null,{"$f":"IF(D3405=\"\",\"\",COUNTIF(Tabulka5[Data],D3405))","v":""},"","","",""]
[null,null,null,null,{"$f":"IF(D3406=\"\",\"\",COUNTIF(Tabulka5[Data],D3406))","v":""},"","","",""]
[null,null,null,null,{"$f":"IF(D3407=\"\",\"\",COUNTIF(Tabulka5[Data],D3407))","v":""},"","","",""]
[null,null,null,null,{"$f":"IF(D3408=\"\",\"\",COUNTIF(Tabulka5[Data],D3408))","v":""},"","","",""]
[null,null,null,null,{"$f":"IF(D3409=\"\",\"\",COUNTIF(Tabulka5[Data],D3409))","v":""},{"$f":"IF(OR($K$11=0,D3409=\"\"),\"\",IF(D3410=\"\",1-I3408,ROUND(E3409/SUM($E$15:$E$6350),3)))","v":""},{"$f":"IF(OR(D3409=\"\",$A$11=\"nominální\"),\"\",G3408+E3409)","v":""},{"$f":"IF(OR($K$11=0,D3409=\"\",$A$11=\"nominální\"),\"\",H3408+F3409)","v":""},{"$f":"IF(OR($K$11=0,D3409=\"\"),\"\",I3408+F3409)","v":""}]
[null,null,null,null,{"$f":"IF(D3410=\"\",\"\",COUNTIF(Tabulka5[Data],D3410))","v":""},"","","",""]
[null,null,null,null,{"$f":"IF(D3411=\"\",\"\",COUNTIF(Tabulka5[Data],D3411))","v":""},"","","",""]
[null,null,null,null,{"$f":"IF(D3412=\"\",\"\",COUNTIF(Tabulka5[Data],D3412))","v":""},"","","",""]
[null,null,null,null,{"$f":"IF(D3413=\"\",\"\",COUNTIF(Tabulka5[Data],D3413))","v":""},"","","",""]
[null,null,null,null,{"$f":"IF(D3414=\"\",\"\",COUNTIF(Tabulka5[Data],D3414))","v":""},"","","",""]
[null,null,null,null,{"$f":"IF(D3415=\"\",\"\",COUNTIF(Tabulka5[Data],D3415))","v":""},"","","",""]
[null,null,null,null,{"$f":"IF(D3416=\"\",\"\",COUNTIF(Tabulka5[Data],D3416))","v":""},"","","",""]
[null,null,null,null,{"$f":"IF(D3417=\"\",\"\",COUNTIF(Tabulka5[Data],D3417))","v":""},"","","",""]
[null,null,null,null,{"$f":"IF(D3418=\"\",\"\",COUNTIF(Tabulka5[Data],D3418))","v":""},"","","",""]
[null,null,null,null,{"$f":"IF(D3419=\"\",\"\",COUNTIF(Tabulka5[Data],D3419))","v":""},"","","",""]
[null,null,null,null,{"$f":"IF(D3420=\"\",\"\",COUNTIF(Tabulka5[Data],D3420))","v":""},"","","",""]
[null,null,null,null,{"$f":"IF(D3421=\"\",\"\",COUNTIF(Tabulka5[Data],D3421))","v":""},"","","",""]
[null,null,null,null,{"$f":"IF(D3422=\"\",\"\",COUNTIF(Tabulka5[Data],D3422))","v":""},"","","",""]
[null,null,null,null,{"$f":"IF(D3423=\"\",\"\",COUNTIF(Tabulka5[Data],D3423))","v":""},"","","",""]
[null,null,null,null,{"$f":"IF(D3424=\"\",\"\",COUNTIF(Tabulka5[Data],D3424))","v":""},"","","",""]
[null,null,null,null,{"$f":"IF(D3425=\"\",\"\",COUNTIF(Tabulka5[Data],D3425))","v":""},"","","",""]
[null,null,null,null,{"$f":"IF(D3426=\"\",\"\",COUNTIF(Tabulka5[Data],D3426))","v":""},"","","",""]
[null,null,null,null,{"$f":"IF(D3427=\"\",\"\",COUNTIF(Tabulka5[Data],D3427))","v":""},"","","",""]
[null,null,null,null,{"$f":"IF(D3428=\"\",\"\",COUNTIF(Tabulka5[Data],D3428))","v":""},"","","",""]
[null,null,null,null,{"$f":"IF(D3429=\"\",\"\",COUNTIF(Tabulka5[Data],D3429))","v":""},"","","",""]
[null,null,null,null,{"$f":"IF(D3430=\"\",\"\",COUNTIF(Tabulka5[Data],D3430))","v":""},"","","",""]
[null,null,null,null,{"$f":"IF(D3431=\"\",\"\",COUNTIF(Tabulka5[Data],D3431))","v":""},"","","",""]
[null,null,null,null,{"$f":"IF(D3432=\"\",\"\",COUNTIF(Tabulka5[Data],D3432))","v":""},"","","",""]
[null,null,null,null,{"$f":"IF(D3433=\"\",\"\",COUNTIF(Tabulka5[Data],D3433))","v":""},"","","",""]
[null,null,null,null,{"$f":"IF(D3434=\"\",\"\",COUNTIF(Tabulka5[Data],D3434))","v":""},"","","",""]
[null,null,null,null,{"$f":"IF(D3435=\"\",\"\",COUNTIF(Tabulka5[Data],D3435))","v":""},"","","",""]
[null,null,null,null,{"$f":"IF(D3436=\"\",\"\",COUNTIF(Tabulka5[Data],D3436))","v":""},"","","",""]
[null,null,null,null,{"$f":"IF(D3437=\"\",\"\",COUNTIF(Tabulka5[Data],D3437))","v":""},"","","",""]
[null,null,null,null,{"$f":"IF(D3438=\"\",\"\",COUNTIF(Tabulka5[Data],D3438))","v":""},"","","",""]
[null,null,null,null,{"$f":"IF(D3439=\"\",\"\",COUNTIF(Tabulka5[Data],D3439))","v":""},"","","",""]
[null,null,null,null,{"$f":"IF(D3440=\"\",\"\",COUNTIF(Tabulka5[Data],D3440))","v":""},"","","",""]
[null,null,null,null,{"$f":"IF(D3441=\"\",\"\",COUNTIF(Tabulka5[Data],D3441))","v":""},"","","",""]
[null,null,null,null,{"$f":"IF(D3442=\"\",\"\",COUNTIF(Tabulka5[Data],D3442))","v":""},"","","",""]
[null,null,null,null,{"$f":"IF(D3443=\"\",\"\",COUNTIF(Tabulka5[Data],D3443))","v":""},"","","",""]
[null,null,null,null,{"$f":"IF(D3444=\"\",\"\",COUNTIF(Tabulka5[Data],D3444))","v":""},"","","",""]
[null,null,null,null,{"$f":"IF(D3445=\"\",\"\",COUNTIF(Tabulka5[Data],D3445))","v":""},"","","",""]
[null,null,null,null,{"$f":"IF(D3446=\"\",\"\",COUNTIF(Tabulka5[Data],D3446))","v":""},"","","",""]
[null,null,null,null,{"$f":"IF(D3447=\"\",\"\",COUNTIF(Tabulka5[Data],D3447))","v":""},"","","",""]
[null,null,null,null,{"$f":"IF(D3448=\"\",\"\",COUNTIF(Tabulka5[Data],D3448))","v":""},"","","",""]
[null,null,null,null,{"$f":"IF(D3449=\"\",\"\",COUNTIF(Tabulka5[Data],D3449))","v":""},"","","",""]
[null,null,null,null,{"$f":"IF(D3450=\"\",\"\",COUNTIF(Tabulka5[Data],D3450))","v":""},"","","",""]
[null,null,null,null,{"$f":"IF(D3451=\"\",\"\",COUNTIF(Tabulka5[Data],D3451))","v":""},"","","",""]
[null,null,null,null,{"$f":"IF(D3452=\"\",\"\",COUNTIF(Tabulka5[Data],D3452))","v":""},"","","",""]
[null,null,null,null,{"$f":"IF(D3453=\"\",\"\",COUNTIF(Tabulka5[Data],D3453))","v":""},"","","",""]
[null,null,null,null,{"$f":"IF(D3454=\"\",\"\",COUNTIF(Tabulka5[Data],D3454))","v":""},"","","",""]
[null,null,null,null,{"$f":"IF(D3455=\"\",\"\",COUNTIF(Tabulka5[Data],D3455))","v":""},"","","",""]
[null,null,null,null,{"$f":"IF(D3456=\"\",\"\",COUNTIF(Tabulka5[Data],D3456))","v":""},"","","",""]
[null,null,null,null,{"$f":"IF(D3457=\"\",\"\",COUNTIF(Tabulka5[Data],D3457))","v":""},"","","",""]
[null,null,null,null,{"$f":"IF(D3458=\"\",\"\",COUNTIF(Tabulka5[Data],D3458))","v":""},"","","",""]
[null,null,null,null,{"$f":"IF(D3459=\"\",\"\",COUNTIF(Tabulka5[Data],D3459))","v":""},"","","",""]
[null,null,null,null,{"$f":"IF(D3460=\"\",\"\",COUNTIF(Tabulka5[Data],D3460))","v":""},"","","",""]
[null,null,null,null,{"$f":"IF(D3461=\"\",\"\",COUNTIF(Tabulka5[Data],D3461))","v":""},"","","",""]
[null,null,null,null,{"$f":"IF(D3462=\"\",\"\",COUNTIF(Tabulka5[Data],D3462))","v":""},"","","",""]
[null,null,null,null,{"$f":"IF(D3463=\"\",\"\",COUNTIF(Tabulka5[Data],D3463))","v":""},"","","",""]
[null,null,null,null,{"$f":"IF(D3464=\"\",\"\",COUNTIF(Tabulka5[Data],D3464))","v":""},"","","",""]
[null,null,null,null,{"$f":"IF(D3465=\"\",\"\",COUNTIF(Tabulka5[Data],D3465))","v":""},"","","",""]
[null,null,null,null,{"$f":"IF(D3466=\"\",\"\",COUNTIF(Tabulka5[Data],D3466))","v":""},"","","",""]
[null,null,null,null,{"$f":"IF(D3467=\"\",\"\",COUNTIF(Tabulka5[Data],D3467))","v":""},"","","",""]
[null,null,null,null,{"$f":"IF(D3468=\"\",\"\",COUNTIF(Tabulka5[Data],D3468))","v":""},"","","",""]
[null,null,null,null,{"$f":"IF(D3469=\"\",\"\",COUNTIF(Tabulka5[Data],D3469))","v":""},"","","",""]
[null,null,null,null,{"$f":"IF(D3470=\"\",\"\",COUNTIF(Tabulka5[Data],D3470))","v":""},"","","",""]
[null,null,null,null,{"$f":"IF(D3471=\"\",\"\",COUNTIF(Tabulka5[Data],D3471))","v":""},"","","",""]
[null,null,null,null,{"$f":"IF(D3472=\"\",\"\",COUNTIF(Tabulka5[Data],D3472))","v":""},"","","",""]
[null,null,null,null,{"$f":"IF(D3473=\"\",\"\",COUNTIF(Tabulka5[Data],D3473))","v":""},{"$f":"IF(OR($K$11=0,D3473=\"\"),\"\",IF(D3474=\"\",1-I3472,ROUND(E3473/SUM($E$15:$E$6350),3)))","v":""},{"$f":"IF(OR(D3473=\"\",$A$11=\"nominální\"),\"\",G3472+E3473)","v":""},{"$f":"IF(OR($K$11=0,D3473=\"\",$A$11=\"nominální\"),\"\",H3472+F3473)","v":""},{"$f":"IF(OR($K$11=0,D3473=\"\"),\"\",I3472+F3473)","v":""}]
[null,null,null,null,{"$f":"IF(D3474=\"\",\"\",COUNTIF(Tabulka5[Data],D3474))","v":""},"","","",""]
[null,null,null,null,{"$f":"IF(D3475=\"\",\"\",COUNTIF(Tabulka5[Data],D3475))","v":""},"","","",""]
[null,null,null,null,{"$f":"IF(D3476=\"\",\"\",COUNTIF(Tabulka5[Data],D3476))","v":""},"","","",""]
[null,null,null,null,{"$f":"IF(D3477=\"\",\"\",COUNTIF(Tabulka5[Data],D3477))","v":""},"","","",""]
[null,null,null,null,{"$f":"IF(D3478=\"\",\"\",COUNTIF(Tabulka5[Data],D3478))","v":""},"","","",""]
[null,null,null,null,{"$f":"IF(D3479=\"\",\"\",COUNTIF(Tabulka5[Data],D3479))","v":""},"","","",""]
[null,null,null,null,{"$f":"IF(D3480=\"\",\"\",COUNTIF(Tabulka5[Data],D3480))","v":""},"","","",""]
[null,null,null,null,{"$f":"IF(D3481=\"\",\"\",COUNTIF(Tabulka5[Data],D3481))","v":""},"","","",""]
[null,null,null,null,{"$f":"IF(D3482=\"\",\"\",COUNTIF(Tabulka5[Data],D3482))","v":""},"","","",""]
[null,null,null,null,{"$f":"IF(D3483=\"\",\"\",COUNTIF(Tabulka5[Data],D3483))","v":""},"","","",""]
[null,null,null,null,{"$f":"IF(D3484=\"\",\"\",COUNTIF(Tabulka5[Data],D3484))","v":""},"","","",""]
[null,null,null,null,{"$f":"IF(D3485=\"\",\"\",COUNTIF(Tabulka5[Data],D3485))","v":""},"","","",""]
[null,null,null,null,{"$f":"IF(D3486=\"\",\"\",COUNTIF(Tabulka5[Data],D3486))","v":""},"","","",""]
[null,null,null,null,{"$f":"IF(D3487=\"\",\"\",COUNTIF(Tabulka5[Data],D3487))","v":""},"","","",""]
[null,null,null,null,{"$f":"IF(D3488=\"\",\"\",COUNTIF(Tabulka5[Data],D3488))","v":""},"","","",""]
[null,null,null,null,{"$f":"IF(D3489=\"\",\"\",COUNTIF(Tabulka5[Data],D3489))","v":""},"","","",""]
[null,null,null,null,{"$f":"IF(D3490=\"\",\"\",COUNTIF(Tabulka5[Data],D3490))","v":""},"","","",""]
[null,null,null,null,{"$f":"IF(D3491=\"\",\"\",COUNTIF(Tabulka5[Data],D3491))","v":""},"","","",""]
[null,null,null,null,{"$f":"IF(D3492=\"\",\"\",COUNTIF(Tabulka5[Data],D3492))","v":""},"","","",""]
[null,null,null,null,{"$f":"IF(D3493=\"\",\"\",COUNTIF(Tabulka5[Data],D3493))","v":""},"","","",""]
[null,null,null,null,{"$f":"IF(D3494=\"\",\"\",COUNTIF(Tabulka5[Data],D3494))","v":""},"","","",""]
[null,null,null,null,{"$f":"IF(D3495=\"\",\"\",COUNTIF(Tabulka5[Data],D3495))","v":""},"","","",""]
[null,null,null,null,{"$f":"IF(D3496=\"\",\"\",COUNTIF(Tabulka5[Data],D3496))","v":""},"","","",""]
[null,null,null,null,{"$f":"IF(D3497=\"\",\"\",COUNTIF(Tabulka5[Data],D3497))","v":""},"","","",""]
[null,null,null,null,{"$f":"IF(D3498=\"\",\"\",COUNTIF(Tabulka5[Data],D3498))","v":""},"","","",""]
[null,null,null,null,{"$f":"IF(D3499=\"\",\"\",COUNTIF(Tabulka5[Data],D3499))","v":""},"","","",""]
[null,null,null,null,{"$f":"IF(D3500=\"\",\"\",COUNTIF(Tabulka5[Data],D3500))","v":""},"","","",""]
[null,null,null,null,{"$f":"IF(D3501=\"\",\"\",COUNTIF(Tabulka5[Data],D3501))","v":""},"","","",""]
[null,null,null,null,{"$f":"IF(D3502=\"\",\"\",COUNTIF(Tabulka5[Data],D3502))","v":""},"","","",""]
[null,null,null,null,{"$f":"IF(D3503=\"\",\"\",COUNTIF(Tabulka5[Data],D3503))","v":""},"","","",""]
[null,null,null,null,{"$f":"IF(D3504=\"\",\"\",COUNTIF(Tabulka5[Data],D3504))","v":""},"","","",""]
[null,null,null,null,{"$f":"IF(D3505=\"\",\"\",COUNTIF(Tabulka5[Data],D3505))","v":""},"","","",""]
[null,null,null,null,{"$f":"IF(D3506=\"\",\"\",COUNTIF(Tabulka5[Data],D3506))","v":""},"","","",""]
[null,null,null,null,{"$f":"IF(D3507=\"\",\"\",COUNTIF(Tabulka5[Data],D3507))","v":""},"","","",""]
[null,null,null,null,{"$f":"IF(D3508=\"\",\"\",COUNTIF(Tabulka5[Data],D3508))","v":""},"","","",""]
[null,null,null,null,{"$f":"IF(D3509=\"\",\"\",COUNTIF(Tabulka5[Data],D3509))","v":""},"","","",""]
[null,null,null,null,{"$f":"IF(D3510=\"\",\"\",COUNTIF(Tabulka5[Data],D3510))","v":""},"","","",""]
[null,null,null,null,{"$f":"IF(D3511=\"\",\"\",COUNTIF(Tabulka5[Data],D3511))","v":""},"","","",""]
[null,null,null,null,{"$f":"IF(D3512=\"\",\"\",COUNTIF(Tabulka5[Data],D3512))","v":""},"","","",""]
[null,null,null,null,{"$f":"IF(D3513=\"\",\"\",COUNTIF(Tabulka5[Data],D3513))","v":""},"","","",""]
[null,null,null,null,{"$f":"IF(D3514=\"\",\"\",COUNTIF(Tabulka5[Data],D3514))","v":""},"","","",""]
[null,null,null,null,{"$f":"IF(D3515=\"\",\"\",COUNTIF(Tabulka5[Data],D3515))","v":""},"","","",""]
[null,null,null,null,{"$f":"IF(D3516=\"\",\"\",COUNTIF(Tabulka5[Data],D3516))","v":""},"","","",""]
[null,null,null,null,{"$f":"IF(D3517=\"\",\"\",COUNTIF(Tabulka5[Data],D3517))","v":""},"","","",""]
[null,null,null,null,{"$f":"IF(D3518=\"\",\"\",COUNTIF(Tabulka5[Data],D3518))","v":""},"","","",""]
[null,null,null,null,{"$f":"IF(D3519=\"\",\"\",COUNTIF(Tabulka5[Data],D3519))","v":""},"","","",""]
[null,null,null,null,{"$f":"IF(D3520=\"\",\"\",COUNTIF(Tabulka5[Data],D3520))","v":""},"","","",""]
[null,null,null,null,{"$f":"IF(D3521=\"\",\"\",COUNTIF(Tabulka5[Data],D3521))","v":""},"","","",""]
[null,null,null,null,{"$f":"IF(D3522=\"\",\"\",COUNTIF(Tabulka5[Data],D3522))","v":""},"","","",""]
[null,null,null,null,{"$f":"IF(D3523=\"\",\"\",COUNTIF(Tabulka5[Data],D3523))","v":""},"","","",""]
[null,null,null,null,{"$f":"IF(D3524=\"\",\"\",COUNTIF(Tabulka5[Data],D3524))","v":""},"","","",""]
[null,null,null,null,{"$f":"IF(D3525=\"\",\"\",COUNTIF(Tabulka5[Data],D3525))","v":""},"","","",""]
[null,null,null,null,{"$f":"IF(D3526=\"\",\"\",COUNTIF(Tabulka5[Data],D3526))","v":""},"","","",""]
[null,null,null,null,{"$f":"IF(D3527=\"\",\"\",COUNTIF(Tabulka5[Data],D3527))","v":""},"","","",""]
[null,null,null,null,{"$f":"IF(D3528=\"\",\"\",COUNTIF(Tabulka5[Data],D3528))","v":""},"","","",""]
[null,null,null,null,{"$f":"IF(D3529=\"\",\"\",COUNTIF(Tabulka5[Data],D3529))","v":""},"","","",""]
[null,null,null,null,{"$f":"IF(D3530=\"\",\"\",COUNTIF(Tabulka5[Data],D3530))","v":""},"","","",""]
[null,null,null,null,{"$f":"IF(D3531=\"\",\"\",COUNTIF(Tabulka5[Data],D3531))","v":""},"","","",""]
[null,null,null,null,{"$f":"IF(D3532=\"\",\"\",COUNTIF(Tabulka5[Data],D3532))","v":""},"","","",""]
[null,null,null,null,{"$f":"IF(D3533=\"\",\"\",COUNTIF(Tabulka5[Data],D3533))","v":""},"","","",""]
[null,null,null,null,{"$f":"IF(D3534=\"\",\"\",COUNTIF(Tabulka5[Data],D3534))","v":""},"","","",""]
[null,null,null,null,{"$f":"IF(D3535=\"\",\"\",COUNTIF(Tabulka5[Data],D3535))","v":""},"","","",""]
[null,null,null,null,{"$f":"IF(D3536=\"\",\"\",COUNTIF(Tabulka5[Data],D3536))","v":""},"","","",""]
[null,null,null,null,{"$f":"IF(D3537=\"\",\"\",COUNTIF(Tabulka5[Data],D3537))","v":""},{"$f":"IF(OR($K$11=0,D3537=\"\"),\"\",IF(D3538=\"\",1-I3536,ROUND(E3537/SUM($E$15:$E$6350),3)))","v":""},{"$f":"IF(OR(D3537=\"\",$A$11=\"nominální\"),\"\",G3536+E3537)","v":""},{"$f":"IF(OR($K$11=0,D3537=\"\",$A$11=\"nominální\"),\"\",H3536+F3537)","v":""},{"$f":"IF(OR($K$11=0,D3537=\"\"),\"\",I3536+F3537)","v":""}]
[null,null,null,null,{"$f":"IF(D3538=\"\",\"\",COUNTIF(Tabulka5[Data],D3538))","v":""},"","","",""]
[null,null,null,null,{"$f":"IF(D3539=\"\",\"\",COUNTIF(Tabulka5[Data],D3539))","v":""},"","","",""]
[null,null,null,null,{"$f":"IF(D3540=\"\",\"\",COUNTIF(Tabulka5[Data],D3540))","v":""},"","","",""]
[null,null,null,null,{"$f":"IF(D3541=\"\",\"\",COUNTIF(Tabulka5[Data],D3541))","v":""},"","","",""]
[null,null,null,null,{"$f":"IF(D3542=\"\",\"\",COUNTIF(Tabulka5[Data],D3542))","v":""},"","","",""]
[null,null,null,null,{"$f":"IF(D3543=\"\",\"\",COUNTIF(Tabulka5[Data],D3543))","v":""},"","","",""]
[null,null,null,null,{"$f":"IF(D3544=\"\",\"\",COUNTIF(Tabulka5[Data],D3544))","v":""},"","","",""]
[null,null,null,null,{"$f":"IF(D3545=\"\",\"\",COUNTIF(Tabulka5[Data],D3545))","v":""},"","","",""]
[null,null,null,null,{"$f":"IF(D3546=\"\",\"\",COUNTIF(Tabulka5[Data],D3546))","v":""},"","","",""]
[null,null,null,null,{"$f":"IF(D3547=\"\",\"\",COUNTIF(Tabulka5[Data],D3547))","v":""},"","","",""]
[null,null,null,null,{"$f":"IF(D3548=\"\",\"\",COUNTIF(Tabulka5[Data],D3548))","v":""},"","","",""]
[null,null,null,null,{"$f":"IF(D3549=\"\",\"\",COUNTIF(Tabulka5[Data],D3549))","v":""},"","","",""]
[null,null,null,null,{"$f":"IF(D3550=\"\",\"\",COUNTIF(Tabulka5[Data],D3550))","v":""},"","","",""]
[null,null,null,null,{"$f":"IF(D3551=\"\",\"\",COUNTIF(Tabulka5[Data],D3551))","v":""},"","","",""]
[null,null,null,null,{"$f":"IF(D3552=\"\",\"\",COUNTIF(Tabulka5[Data],D3552))","v":""},"","","",""]
[null,null,null,null,{"$f":"IF(D3553=\"\",\"\",COUNTIF(Tabulka5[Data],D3553))","v":""},"","","",""]
[null,null,null,null,{"$f":"IF(D3554=\"\",\"\",COUNTIF(Tabulka5[Data],D3554))","v":""},"","","",""]
[null,null,null,null,{"$f":"IF(D3555=\"\",\"\",COUNTIF(Tabulka5[Data],D3555))","v":""},"","","",""]
[null,null,null,null,{"$f":"IF(D3556=\"\",\"\",COUNTIF(Tabulka5[Data],D3556))","v":""},"","","",""]
[null,null,null,null,{"$f":"IF(D3557=\"\",\"\",COUNTIF(Tabulka5[Data],D3557))","v":""},"","","",""]
[null,null,null,null,{"$f":"IF(D3558=\"\",\"\",COUNTIF(Tabulka5[Data],D3558))","v":""},"","","",""]
[null,null,null,null,{"$f":"IF(D3559=\"\",\"\",COUNTIF(Tabulka5[Data],D3559))","v":""},"","","",""]
[null,null,null,null,{"$f":"IF(D3560=\"\",\"\",COUNTIF(Tabulka5[Data],D3560))","v":""},"","","",""]
[null,null,null,null,{"$f":"IF(D3561=\"\",\"\",COUNTIF(Tabulka5[Data],D3561))","v":""},"","","",""]
[null,null,null,null,{"$f":"IF(D3562=\"\",\"\",COUNTIF(Tabulka5[Data],D3562))","v":""},"","","",""]
[null,null,null,null,{"$f":"IF(D3563=\"\",\"\",COUNTIF(Tabulka5[Data],D3563))","v":""},"","","",""]
[null,null,null,null,{"$f":"IF(D3564=\"\",\"\",COUNTIF(Tabulka5[Data],D3564))","v":""},"","","",""]
[null,null,null,null,{"$f":"IF(D3565=\"\",\"\",COUNTIF(Tabulka5[Data],D3565))","v":""},"","","",""]
[null,null,null,null,{"$f":"IF(D3566=\"\",\"\",COUNTIF(Tabulka5[Data],D3566))","v":""},"","","",""]
[null,null,null,null,{"$f":"IF(D3567=\"\",\"\",COUNTIF(Tabulka5[Data],D3567))","v":""},"","","",""]
[null,null,null,null,{"$f":"IF(D3568=\"\",\"\",COUNTIF(Tabulka5[Data],D3568))","v":""},"","","",""]
[null,null,null,null,{"$f":"IF(D3569=\"\",\"\",COUNTIF(Tabulka5[Data],D3569))","v":""},"","","",""]
[null,null,null,null,{"$f":"IF(D3570=\"\",\"\",COUNTIF(Tabulka5[Data],D3570))","v":""},"","","",""]
[null,null,null,null,{"$f":"IF(D3571=\"\",\"\",COUNTIF(Tabulka5[Data],D3571))","v":""},"","","",""]
[null,null,null,null,{"$f":"IF(D3572=\"\",\"\",COUNTIF(Tabulka5[Data],D3572))","v":""},"","","",""]
[null,null,null,null,{"$f":"IF(D3573=\"\",\"\",COUNTIF(Tabulka5[Data],D3573))","v":""},"","","",""]
[null,null,null,null,{"$f":"IF(D3574=\"\",\"\",COUNTIF(Tabulka5[Data],D3574))","v":""},"","","",""]
[null,null,null,null,{"$f":"IF(D3575=\"\",\"\",COUNTIF(Tabulka5[Data],D3575))","v":""},"","","",""]
[null,null,null,null,{"$f":"IF(D3576=\"\",\"\",COUNTIF(Tabulka5[Data],D3576))","v":""},"","","",""]
[null,null,null,null,{"$f":"IF(D3577=\"\",\"\",COUNTIF(Tabulka5[Data],D3577))","v":""},"","","",""]
[null,null,null,null,{"$f":"IF(D3578=\"\",\"\",COUNTIF(Tabulka5[Data],D3578))","v":""},"","","",""]
[null,null,null,null,{"$f":"IF(D3579=\"\",\"\",COUNTIF(Tabulka5[Data],D3579))","v":""},"","","",""]
[null,null,null,null,{"$f":"IF(D3580=\"\",\"\",COUNTIF(Tabulka5[Data],D3580))","v":""},"","","",""]
[null,null,null,null,{"$f":"IF(D3581=\"\",\"\",COUNTIF(Tabulka5[Data],D3581))","v":""},"","","",""]
[null,null,null,null,{"$f":"IF(D3582=\"\",\"\",COUNTIF(Tabulka5[Data],D3582))","v":""},"","","",""]
[null,null,null,null,{"$f":"IF(D3583=\"\",\"\",COUNTIF(Tabulka5[Data],D3583))","v":""},"","","",""]
[null,null,null,null,{"$f":"IF(D3584=\"\",\"\",COUNTIF(Tabulka5[Data],D3584))","v":""},"","","",""]
[null,null,null,null,{"$f":"IF(D3585=\"\",\"\",COUNTIF(Tabulka5[Data],D3585))","v":""},"","","",""]
[null,null,null,null,{"$f":"IF(D3586=\"\",\"\",COUNTIF(Tabulka5[Data],D3586))","v":""},"","","",""]
[null,null,null,null,{"$f":"IF(D3587=\"\",\"\",COUNTIF(Tabulka5[Data],D3587))","v":""},"","","",""]
[null,null,null,null,{"$f":"IF(D3588=\"\",\"\",COUNTIF(Tabulka5[Data],D3588))","v":""},"","","",""]
[null,null,null,null,{"$f":"IF(D3589=\"\",\"\",COUNTIF(Tabulka5[Data],D3589))","v":""},"","","",""]
[null,null,null,null,{"$f":"IF(D3590=\"\",\"\",COUNTIF(Tabulka5[Data],D3590))","v":""},"","","",""]
[null,null,null,null,{"$f":"IF(D3591=\"\",\"\",COUNTIF(Tabulka5[Data],D3591))","v":""},"","","",""]
[null,null,null,null,{"$f":"IF(D3592=\"\",\"\",COUNTIF(Tabulka5[Data],D3592))","v":""},"","","",""]
[null,null,null,null,{"$f":"IF(D3593=\"\",\"\",COUNTIF(Tabulka5[Data],D3593))","v":""},"","","",""]
[null,null,null,null,{"$f":"IF(D3594=\"\",\"\",COUNTIF(Tabulka5[Data],D3594))","v":""},"","","",""]
[null,null,null,null,{"$f":"IF(D3595=\"\",\"\",COUNTIF(Tabulka5[Data],D3595))","v":""},"","","",""]
[null,null,null,null,{"$f":"IF(D3596=\"\",\"\",COUNTIF(Tabulka5[Data],D3596))","v":""},"","","",""]
[null,null,null,null,{"$f":"IF(D3597=\"\",\"\",COUNTIF(Tabulka5[Data],D3597))","v":""},"","","",""]
[null,null,null,null,{"$f":"IF(D3598=\"\",\"\",COUNTIF(Tabulka5[Data],D3598))","v":""},"","","",""]
[null,null,null,null,{"$f":"IF(D3599=\"\",\"\",COUNTIF(Tabulka5[Data],D3599))","v":""},"","","",""]
[null,null,null,null,{"$f":"IF(D3600=\"\",\"\",COUNTIF(Tabulka5[Data],D3600))","v":""},"","","",""]
[null,null,null,null,{"$f":"IF(D3601=\"\",\"\",COUNTIF(Tabulka5[Data],D3601))","v":""},{"$f":"IF(OR($K$11=0,D3601=\"\"),\"\",IF(D3602=\"\",1-I3600,ROUND(E3601/SUM($E$15:$E$6350),3)))","v":""},{"$f":"IF(OR(D3601=\"\",$A$11=\"nominální\"),\"\",G3600+E3601)","v":""},{"$f":"IF(OR($K$11=0,D3601=\"\",$A$11=\"nominální\"),\"\",H3600+F3601)","v":""},{"$f":"IF(OR($K$11=0,D3601=\"\"),\"\",I3600+F3601)","v":""}]
[null,null,null,null,{"$f":"IF(D3602=\"\",\"\",COUNTIF(Tabulka5[Data],D3602))","v":""},"","","",""]
[null,null,null,null,{"$f":"IF(D3603=\"\",\"\",COUNTIF(Tabulka5[Data],D3603))","v":""},"","","",""]
[null,null,null,null,{"$f":"IF(D3604=\"\",\"\",COUNTIF(Tabulka5[Data],D3604))","v":""},"","","",""]
[null,null,null,null,{"$f":"IF(D3605=\"\",\"\",COUNTIF(Tabulka5[Data],D3605))","v":""},"","","",""]
[null,null,null,null,{"$f":"IF(D3606=\"\",\"\",COUNTIF(Tabulka5[Data],D3606))","v":""},"","","",""]
[null,null,null,null,{"$f":"IF(D3607=\"\",\"\",COUNTIF(Tabulka5[Data],D3607))","v":""},"","","",""]
[null,null,null,null,{"$f":"IF(D3608=\"\",\"\",COUNTIF(Tabulka5[Data],D3608))","v":""},"","","",""]
[null,null,null,null,{"$f":"IF(D3609=\"\",\"\",COUNTIF(Tabulka5[Data],D3609))","v":""},"","","",""]
[null,null,null,null,{"$f":"IF(D3610=\"\",\"\",COUNTIF(Tabulka5[Data],D3610))","v":""},"","","",""]
[null,null,null,null,{"$f":"IF(D3611=\"\",\"\",COUNTIF(Tabulka5[Data],D3611))","v":""},"","","",""]
[null,null,null,null,{"$f":"IF(D3612=\"\",\"\",COUNTIF(Tabulka5[Data],D3612))","v":""},"","","",""]
[null,null,null,null,{"$f":"IF(D3613=\"\",\"\",COUNTIF(Tabulka5[Data],D3613))","v":""},"","","",""]
[null,null,null,null,{"$f":"IF(D3614=\"\",\"\",COUNTIF(Tabulka5[Data],D3614))","v":""},"","","",""]
[null,null,null,null,{"$f":"IF(D3615=\"\",\"\",COUNTIF(Tabulka5[Data],D3615))","v":""},"","","",""]
[null,null,null,null,{"$f":"IF(D3616=\"\",\"\",COUNTIF(Tabulka5[Data],D3616))","v":""},"","","",""]
[null,null,null,null,{"$f":"IF(D3617=\"\",\"\",COUNTIF(Tabulka5[Data],D3617))","v":""},"","","",""]
[null,null,null,null,{"$f":"IF(D3618=\"\",\"\",COUNTIF(Tabulka5[Data],D3618))","v":""},"","","",""]
[null,null,null,null,{"$f":"IF(D3619=\"\",\"\",COUNTIF(Tabulka5[Data],D3619))","v":""},"","","",""]
[null,null,null,null,{"$f":"IF(D3620=\"\",\"\",COUNTIF(Tabulka5[Data],D3620))","v":""},"","","",""]
[null,null,null,null,{"$f":"IF(D3621=\"\",\"\",COUNTIF(Tabulka5[Data],D3621))","v":""},"","","",""]
[null,null,null,null,{"$f":"IF(D3622=\"\",\"\",COUNTIF(Tabulka5[Data],D3622))","v":""},"","","",""]
[null,null,null,null,{"$f":"IF(D3623=\"\",\"\",COUNTIF(Tabulka5[Data],D3623))","v":""},"","","",""]
[null,null,null,null,{"$f":"IF(D3624=\"\",\"\",COUNTIF(Tabulka5[Data],D3624))","v":""},"","","",""]
[null,null,null,null,{"$f":"IF(D3625=\"\",\"\",COUNTIF(Tabulka5[Data],D3625))","v":""},"","","",""]
[null,null,null,null,{"$f":"IF(D3626=\"\",\"\",COUNTIF(Tabulka5[Data],D3626))","v":""},"","","",""]
[null,null,null,null,{"$f":"IF(D3627=\"\",\"\",COUNTIF(Tabulka5[Data],D3627))","v":""},"","","",""]
[null,null,null,null,{"$f":"IF(D3628=\"\",\"\",COUNTIF(Tabulka5[Data],D3628))","v":""},"","","",""]
[null,null,null,null,{"$f":"IF(D3629=\"\",\"\",COUNTIF(Tabulka5[Data],D3629))","v":""},"","","",""]
[null,null,null,null,{"$f":"IF(D3630=\"\",\"\",COUNTIF(Tabulka5[Data],D3630))","v":""},"","","",""]
[null,null,null,null,{"$f":"IF(D3631=\"\",\"\",COUNTIF(Tabulka5[Data],D3631))","v":""},"","","",""]
[null,null,null,null,{"$f":"IF(D3632=\"\",\"\",COUNTIF(Tabulka5[Data],D3632))","v":""},"","","",""]
[null,null,null,null,{"$f":"IF(D3633=\"\",\"\",COUNTIF(Tabulka5[Data],D3633))","v":""},"","","",""]
[null,null,null,null,{"$f":"IF(D3634=\"\",\"\",COUNTIF(Tabulka5[Data],D3634))","v":""},"","","",""]
[null,null,null,null,{"$f":"IF(D3635=\"\",\"\",COUNTIF(Tabulka5[Data],D3635))","v":""},"","","",""]
[null,null,null,null,{"$f":"IF(D3636=\"\",\"\",COUNTIF(Tabulka5[Data],D3636))","v":""},"","","",""]
[null,null,null,null,{"$f":"IF(D3637=\"\",\"\",COUNTIF(Tabulka5[Data],D3637))","v":""},"","","",""]
[null,null,null,null,{"$f":"IF(D3638=\"\",\"\",COUNTIF(Tabulka5[Data],D3638))","v":""},"","","",""]
[null,null,null,null,{"$f":"IF(D3639=\"\",\"\",COUNTIF(Tabulka5[Data],D3639))","v":""},"","","",""]
[null,null,null,null,{"$f":"IF(D3640=\"\",\"\",COUNTIF(Tabulka5[Data],D3640))","v":""},"","","",""]
[null,null,null,null,{"$f":"IF(D3641=\"\",\"\",COUNTIF(Tabulka5[Data],D3641))","v":""},"","","",""]
[null,null,null,null,{"$f":"IF(D3642=\"\",\"\",COUNTIF(Tabulka5[Data],D3642))","v":""},"","","",""]
[null,null,null,null,{"$f":"IF(D3643=\"\",\"\",COUNTIF(Tabulka5[Data],D3643))","v":""},"","","",""]
[null,null,null,null,{"$f":"IF(D3644=\"\",\"\",COUNTIF(Tabulka5[Data],D3644))","v":""},"","","",""]
[null,null,null,null,{"$f":"IF(D3645=\"\",\"\",COUNTIF(Tabulka5[Data],D3645))","v":""},"","","",""]
[null,null,null,null,{"$f":"IF(D3646=\"\",\"\",COUNTIF(Tabulka5[Data],D3646))","v":""},"","","",""]
[null,null,null,null,{"$f":"IF(D3647=\"\",\"\",COUNTIF(Tabulka5[Data],D3647))","v":""},"","","",""]
[null,null,null,null,{"$f":"IF(D3648=\"\",\"\",COUNTIF(Tabulka5[Data],D3648))","v":""},"","","",""]
[null,null,null,null,{"$f":"IF(D3649=\"\",\"\",COUNTIF(Tabulka5[Data],D3649))","v":""},"","","",""]
[null,null,null,null,{"$f":"IF(D3650=\"\",\"\",COUNTIF(Tabulka5[Data],D3650))","v":""},"","","",""]
[null,null,null,null,{"$f":"IF(D3651=\"\",\"\",COUNTIF(Tabulka5[Data],D3651))","v":""},"","","",""]
[null,null,null,null,{"$f":"IF(D3652=\"\",\"\",COUNTIF(Tabulka5[Data],D3652))","v":""},"","","",""]
[null,null,null,null,{"$f":"IF(D3653=\"\",\"\",COUNTIF(Tabulka5[Data],D3653))","v":""},"","","",""]
[null,null,null,null,{"$f":"IF(D3654=\"\",\"\",COUNTIF(Tabulka5[Data],D3654))","v":""},"","","",""]
[null,null,null,null,{"$f":"IF(D3655=\"\",\"\",COUNTIF(Tabulka5[Data],D3655))","v":""},"","","",""]
[null,null,null,null,{"$f":"IF(D3656=\"\",\"\",COUNTIF(Tabulka5[Data],D3656))","v":""},"","","",""]
[null,null,null,null,{"$f":"IF(D3657=\"\",\"\",COUNTIF(Tabulka5[Data],D3657))","v":""},"","","",""]
[null,null,null,null,{"$f":"IF(D3658=\"\",\"\",COUNTIF(Tabulka5[Data],D3658))","v":""},"","","",""]
[null,null,null,null,{"$f":"IF(D3659=\"\",\"\",COUNTIF(Tabulka5[Data],D3659))","v":""},"","","",""]
[null,null,null,null,{"$f":"IF(D3660=\"\",\"\",COUNTIF(Tabulka5[Data],D3660))","v":""},"","","",""]
[null,null,null,null,{"$f":"IF(D3661=\"\",\"\",COUNTIF(Tabulka5[Data],D3661))","v":""},"","","",""]
[null,null,null,null,{"$f":"IF(D3662=\"\",\"\",COUNTIF(Tabulka5[Data],D3662))","v":""},"","","",""]
[null,null,null,null,{"$f":"IF(D3663=\"\",\"\",COUNTIF(Tabulka5[Data],D3663))","v":""},"","","",""]
[null,null,null,null,{"$f":"IF(D3664=\"\",\"\",COUNTIF(Tabulka5[Data],D3664))","v":""},"","","",""]
[null,null,null,null,{"$f":"IF(D3665=\"\",\"\",COUNTIF(Tabulka5[Data],D3665))","v":""},{"$f":"IF(OR($K$11=0,D3665=\"\"),\"\",IF(D3666=\"\",1-I3664,ROUND(E3665/SUM($E$15:$E$6350),3)))","v":""},{"$f":"IF(OR(D3665=\"\",$A$11=\"nominální\"),\"\",G3664+E3665)","v":""},{"$f":"IF(OR($K$11=0,D3665=\"\",$A$11=\"nominální\"),\"\",H3664+F3665)","v":""},{"$f":"IF(OR($K$11=0,D3665=\"\"),\"\",I3664+F3665)","v":""}]
[null,null,null,null,{"$f":"IF(D3666=\"\",\"\",COUNTIF(Tabulka5[Data],D3666))","v":""},"","","",""]
[null,null,null,null,{"$f":"IF(D3667=\"\",\"\",COUNTIF(Tabulka5[Data],D3667))","v":""},"","","",""]
[null,null,null,null,{"$f":"IF(D3668=\"\",\"\",COUNTIF(Tabulka5[Data],D3668))","v":""},"","","",""]
[null,null,null,null,{"$f":"IF(D3669=\"\",\"\",COUNTIF(Tabulka5[Data],D3669))","v":""},"","","",""]
[null,null,null,null,{"$f":"IF(D3670=\"\",\"\",COUNTIF(Tabulka5[Data],D3670))","v":""},"","","",""]
[null,null,null,null,{"$f":"IF(D3671=\"\",\"\",COUNTIF(Tabulka5[Data],D3671))","v":""},"","","",""]
[null,null,null,null,{"$f":"IF(D3672=\"\",\"\",COUNTIF(Tabulka5[Data],D3672))","v":""},"","","",""]
[null,null,null,null,{"$f":"IF(D3673=\"\",\"\",COUNTIF(Tabulka5[Data],D3673))","v":""},"","","",""]
[null,null,null,null,{"$f":"IF(D3674=\"\",\"\",COUNTIF(Tabulka5[Data],D3674))","v":""},"","","",""]
[null,null,null,null,{"$f":"IF(D3675=\"\",\"\",COUNTIF(Tabulka5[Data],D3675))","v":""},"","","",""]
[null,null,null,null,{"$f":"IF(D3676=\"\",\"\",COUNTIF(Tabulka5[Data],D3676))","v":""},"","","",""]
[null,null,null,null,{"$f":"IF(D3677=\"\",\"\",COUNTIF(Tabulka5[Data],D3677))","v":""},"","","",""]
[null,null,null,null,{"$f":"IF(D3678=\"\",\"\",COUNTIF(Tabulka5[Data],D3678))","v":""},"","","",""]
[null,null,null,null,{"$f":"IF(D3679=\"\",\"\",COUNTIF(Tabulka5[Data],D3679))","v":""},"","","",""]
[null,null,null,null,{"$f":"IF(D3680=\"\",\"\",COUNTIF(Tabulka5[Data],D3680))","v":""},"","","",""]
[null,null,null,null,{"$f":"IF(D3681=\"\",\"\",COUNTIF(Tabulka5[Data],D3681))","v":""},"","","",""]
[null,null,null,null,{"$f":"IF(D3682=\"\",\"\",COUNTIF(Tabulka5[Data],D3682))","v":""},"","","",""]
[null,null,null,null,{"$f":"IF(D3683=\"\",\"\",COUNTIF(Tabulka5[Data],D3683))","v":""},"","","",""]
[null,null,null,null,{"$f":"IF(D3684=\"\",\"\",COUNTIF(Tabulka5[Data],D3684))","v":""},"","","",""]
[null,null,null,null,{"$f":"IF(D3685=\"\",\"\",COUNTIF(Tabulka5[Data],D3685))","v":""},"","","",""]
[null,null,null,null,{"$f":"IF(D3686=\"\",\"\",COUNTIF(Tabulka5[Data],D3686))","v":""},"","","",""]
[null,null,null,null,{"$f":"IF(D3687=\"\",\"\",COUNTIF(Tabulka5[Data],D3687))","v":""},"","","",""]
[null,null,null,null,{"$f":"IF(D3688=\"\",\"\",COUNTIF(Tabulka5[Data],D3688))","v":""},"","","",""]
[null,null,null,null,{"$f":"IF(D3689=\"\",\"\",COUNTIF(Tabulka5[Data],D3689))","v":""},"","","",""]
[null,null,null,null,{"$f":"IF(D3690=\"\",\"\",COUNTIF(Tabulka5[Data],D3690))","v":""},"","","",""]
[null,null,null,null,{"$f":"IF(D3691=\"\",\"\",COUNTIF(Tabulka5[Data],D3691))","v":""},"","","",""]
[null,null,null,null,{"$f":"IF(D3692=\"\",\"\",COUNTIF(Tabulka5[Data],D3692))","v":""},"","","",""]
[null,null,null,null,{"$f":"IF(D3693=\"\",\"\",COUNTIF(Tabulka5[Data],D3693))","v":""},"","","",""]
[null,null,null,null,{"$f":"IF(D3694=\"\",\"\",COUNTIF(Tabulka5[Data],D3694))","v":""},"","","",""]
[null,null,null,null,{"$f":"IF(D3695=\"\",\"\",COUNTIF(Tabulka5[Data],D3695))","v":""},"","","",""]
[null,null,null,null,{"$f":"IF(D3696=\"\",\"\",COUNTIF(Tabulka5[Data],D3696))","v":""},"","","",""]
[null,null,null,null,{"$f":"IF(D3697=\"\",\"\",COUNTIF(Tabulka5[Data],D3697))","v":""},"","","",""]
[null,null,null,null,{"$f":"IF(D3698=\"\",\"\",COUNTIF(Tabulka5[Data],D3698))","v":""},"","","",""]
[null,null,null,null,{"$f":"IF(D3699=\"\",\"\",COUNTIF(Tabulka5[Data],D3699))","v":""},"","","",""]
[null,null,null,null,{"$f":"IF(D3700=\"\",\"\",COUNTIF(Tabulka5[Data],D3700))","v":""},"","","",""]
[null,null,null,null,{"$f":"IF(D3701=\"\",\"\",COUNTIF(Tabulka5[Data],D3701))","v":""},"","","",""]
[null,null,null,null,{"$f":"IF(D3702=\"\",\"\",COUNTIF(Tabulka5[Data],D3702))","v":""},"","","",""]
[null,null,null,null,{"$f":"IF(D3703=\"\",\"\",COUNTIF(Tabulka5[Data],D3703))","v":""},"","","",""]
[null,null,null,null,{"$f":"IF(D3704=\"\",\"\",COUNTIF(Tabulka5[Data],D3704))","v":""},"","","",""]
[null,null,null,null,{"$f":"IF(D3705=\"\",\"\",COUNTIF(Tabulka5[Data],D3705))","v":""},"","","",""]
[null,null,null,null,{"$f":"IF(D3706=\"\",\"\",COUNTIF(Tabulka5[Data],D3706))","v":""},"","","",""]
[null,null,null,null,{"$f":"IF(D3707=\"\",\"\",COUNTIF(Tabulka5[Data],D3707))","v":""},"","","",""]
[null,null,null,null,{"$f":"IF(D3708=\"\",\"\",COUNTIF(Tabulka5[Data],D3708))","v":""},"","","",""]
[null,null,null,null,{"$f":"IF(D3709=\"\",\"\",COUNTIF(Tabulka5[Data],D3709))","v":""},"","","",""]
[null,null,null,null,{"$f":"IF(D3710=\"\",\"\",COUNTIF(Tabulka5[Data],D3710))","v":""},"","","",""]
[null,null,null,null,{"$f":"IF(D3711=\"\",\"\",COUNTIF(Tabulka5[Data],D3711))","v":""},"","","",""]
[null,null,null,null,{"$f":"IF(D3712=\"\",\"\",COUNTIF(Tabulka5[Data],D3712))","v":""},"","","",""]
[null,null,null,null,{"$f":"IF(D3713=\"\",\"\",COUNTIF(Tabulka5[Data],D3713))","v":""},"","","",""]
[null,null,null,null,{"$f":"IF(D3714=\"\",\"\",COUNTIF(Tabulka5[Data],D3714))","v":""},"","","",""]
[null,null,null,null,{"$f":"IF(D3715=\"\",\"\",COUNTIF(Tabulka5[Data],D3715))","v":""},"","","",""]
[null,null,null,null,{"$f":"IF(D3716=\"\",\"\",COUNTIF(Tabulka5[Data],D3716))","v":""},"","","",""]
[null,null,null,null,{"$f":"IF(D3717=\"\",\"\",COUNTIF(Tabulka5[Data],D3717))","v":""},"","","",""]
[null,null,null,null,{"$f":"IF(D3718=\"\",\"\",COUNTIF(Tabulka5[Data],D3718))","v":""},"","","",""]
[null,null,null,null,{"$f":"IF(D3719=\"\",\"\",COUNTIF(Tabulka5[Data],D3719))","v":""},"","","",""]
[null,null,null,null,{"$f":"IF(D3720=\"\",\"\",COUNTIF(Tabulka5[Data],D3720))","v":""},"","","",""]
[null,null,null,null,{"$f":"IF(D3721=\"\",\"\",COUNTIF(Tabulka5[Data],D3721))","v":""},"","","",""]
[null,null,null,null,{"$f":"IF(D3722=\"\",\"\",COUNTIF(Tabulka5[Data],D3722))","v":""},"","","",""]
[null,null,null,null,{"$f":"IF(D3723=\"\",\"\",COUNTIF(Tabulka5[Data],D3723))","v":""},"","","",""]
[null,null,null,null,{"$f":"IF(D3724=\"\",\"\",COUNTIF(Tabulka5[Data],D3724))","v":""},"","","",""]
[null,null,null,null,{"$f":"IF(D3725=\"\",\"\",COUNTIF(Tabulka5[Data],D3725))","v":""},"","","",""]
[null,null,null,null,{"$f":"IF(D3726=\"\",\"\",COUNTIF(Tabulka5[Data],D3726))","v":""},"","","",""]
[null,null,null,null,{"$f":"IF(D3727=\"\",\"\",COUNTIF(Tabulka5[Data],D3727))","v":""},"","","",""]
[null,null,null,null,{"$f":"IF(D3728=\"\",\"\",COUNTIF(Tabulka5[Data],D3728))","v":""},"","","",""]
[null,null,null,null,{"$f":"IF(D3729=\"\",\"\",COUNTIF(Tabulka5[Data],D3729))","v":""},{"$f":"IF(OR($K$11=0,D3729=\"\"),\"\",IF(D3730=\"\",1-I3728,ROUND(E3729/SUM($E$15:$E$6350),3)))","v":""},{"$f":"IF(OR(D3729=\"\",$A$11=\"nominální\"),\"\",G3728+E3729)","v":""},{"$f":"IF(OR($K$11=0,D3729=\"\",$A$11=\"nominální\"),\"\",H3728+F3729)","v":""},{"$f":"IF(OR($K$11=0,D3729=\"\"),\"\",I3728+F3729)","v":""}]
[null,null,null,null,{"$f":"IF(D3730=\"\",\"\",COUNTIF(Tabulka5[Data],D3730))","v":""},"","","",""]
[null,null,null,null,{"$f":"IF(D3731=\"\",\"\",COUNTIF(Tabulka5[Data],D3731))","v":""},"","","",""]
[null,null,null,null,{"$f":"IF(D3732=\"\",\"\",COUNTIF(Tabulka5[Data],D3732))","v":""},"","","",""]
[null,null,null,null,{"$f":"IF(D3733=\"\",\"\",COUNTIF(Tabulka5[Data],D3733))","v":""},"","","",""]
[null,null,null,null,{"$f":"IF(D3734=\"\",\"\",COUNTIF(Tabulka5[Data],D3734))","v":""},"","","",""]
[null,null,null,null,{"$f":"IF(D3735=\"\",\"\",COUNTIF(Tabulka5[Data],D3735))","v":""},"","","",""]
[null,null,null,null,{"$f":"IF(D3736=\"\",\"\",COUNTIF(Tabulka5[Data],D3736))","v":""},"","","",""]
[null,null,null,null,{"$f":"IF(D3737=\"\",\"\",COUNTIF(Tabulka5[Data],D3737))","v":""},"","","",""]
[null,null,null,null,{"$f":"IF(D3738=\"\",\"\",COUNTIF(Tabulka5[Data],D3738))","v":""},"","","",""]
[null,null,null,null,{"$f":"IF(D3739=\"\",\"\",COUNTIF(Tabulka5[Data],D3739))","v":""},"","","",""]
[null,null,null,null,{"$f":"IF(D3740=\"\",\"\",COUNTIF(Tabulka5[Data],D3740))","v":""},"","","",""]
[null,null,null,null,{"$f":"IF(D3741=\"\",\"\",COUNTIF(Tabulka5[Data],D3741))","v":""},"","","",""]
[null,null,null,null,{"$f":"IF(D3742=\"\",\"\",COUNTIF(Tabulka5[Data],D3742))","v":""},"","","",""]
[null,null,null,null,{"$f":"IF(D3743=\"\",\"\",COUNTIF(Tabulka5[Data],D3743))","v":""},"","","",""]
[null,null,null,null,{"$f":"IF(D3744=\"\",\"\",COUNTIF(Tabulka5[Data],D3744))","v":""},"","","",""]
[null,null,null,null,{"$f":"IF(D3745=\"\",\"\",COUNTIF(Tabulka5[Data],D3745))","v":""},"","","",""]
[null,null,null,null,{"$f":"IF(D3746=\"\",\"\",COUNTIF(Tabulka5[Data],D3746))","v":""},"","","",""]
[null,null,null,null,{"$f":"IF(D3747=\"\",\"\",COUNTIF(Tabulka5[Data],D3747))","v":""},"","","",""]
[null,null,null,null,{"$f":"IF(D3748=\"\",\"\",COUNTIF(Tabulka5[Data],D3748))","v":""},"","","",""]
[null,null,null,null,{"$f":"IF(D3749=\"\",\"\",COUNTIF(Tabulka5[Data],D3749))","v":""},"","","",""]
[null,null,null,null,{"$f":"IF(D3750=\"\",\"\",COUNTIF(Tabulka5[Data],D3750))","v":""},"","","",""]
[null,null,null,null,{"$f":"IF(D3751=\"\",\"\",COUNTIF(Tabulka5[Data],D3751))","v":""},"","","",""]
[null,null,null,null,{"$f":"IF(D3752=\"\",\"\",COUNTIF(Tabulka5[Data],D3752))","v":""},"","","",""]
[null,null,null,null,{"$f":"IF(D3753=\"\",\"\",COUNTIF(Tabulka5[Data],D3753))","v":""},"","","",""]
[null,null,null,null,{"$f":"IF(D3754=\"\",\"\",COUNTIF(Tabulka5[Data],D3754))","v":""},"","","",""]
[null,null,null,null,{"$f":"IF(D3755=\"\",\"\",COUNTIF(Tabulka5[Data],D3755))","v":""},"","","",""]
[null,null,null,null,{"$f":"IF(D3756=\"\",\"\",COUNTIF(Tabulka5[Data],D3756))","v":""},"","","",""]
[null,null,null,null,{"$f":"IF(D3757=\"\",\"\",COUNTIF(Tabulka5[Data],D3757))","v":""},"","","",""]
[null,null,null,null,{"$f":"IF(D3758=\"\",\"\",COUNTIF(Tabulka5[Data],D3758))","v":""},"","","",""]
[null,null,null,null,{"$f":"IF(D3759=\"\",\"\",COUNTIF(Tabulka5[Data],D3759))","v":""},"","","",""]
[null,null,null,null,{"$f":"IF(D3760=\"\",\"\",COUNTIF(Tabulka5[Data],D3760))","v":""},"","","",""]
[null,null,null,null,{"$f":"IF(D3761=\"\",\"\",COUNTIF(Tabulka5[Data],D3761))","v":""},"","","",""]
[null,null,null,null,{"$f":"IF(D3762=\"\",\"\",COUNTIF(Tabulka5[Data],D3762))","v":""},"","","",""]
[null,null,null,null,{"$f":"IF(D3763=\"\",\"\",COUNTIF(Tabulka5[Data],D3763))","v":""},"","","",""]
[null,null,null,null,{"$f":"IF(D3764=\"\",\"\",COUNTIF(Tabulka5[Data],D3764))","v":""},"","","",""]
[null,null,null,null,{"$f":"IF(D3765=\"\",\"\",COUNTIF(Tabulka5[Data],D3765))","v":""},"","","",""]
[null,null,null,null,{"$f":"IF(D3766=\"\",\"\",COUNTIF(Tabulka5[Data],D3766))","v":""},"","","",""]
[null,null,null,null,{"$f":"IF(D3767=\"\",\"\",COUNTIF(Tabulka5[Data],D3767))","v":""},"","","",""]
[null,null,null,null,{"$f":"IF(D3768=\"\",\"\",COUNTIF(Tabulka5[Data],D3768))","v":""},"","","",""]
[null,null,null,null,{"$f":"IF(D3769=\"\",\"\",COUNTIF(Tabulka5[Data],D3769))","v":""},"","","",""]
[null,null,null,null,{"$f":"IF(D3770=\"\",\"\",COUNTIF(Tabulka5[Data],D3770))","v":""},"","","",""]
[null,null,null,null,{"$f":"IF(D3771=\"\",\"\",COUNTIF(Tabulka5[Data],D3771))","v":""},"","","",""]
[null,null,null,null,{"$f":"IF(D3772=\"\",\"\",COUNTIF(Tabulka5[Data],D3772))","v":""},"","","",""]
[null,null,null,null,{"$f":"IF(D3773=\"\",\"\",COUNTIF(Tabulka5[Data],D3773))","v":""},"","","",""]
[null,null,null,null,{"$f":"IF(D3774=\"\",\"\",COUNTIF(Tabulka5[Data],D3774))","v":""},"","","",""]
[null,null,null,null,{"$f":"IF(D3775=\"\",\"\",COUNTIF(Tabulka5[Data],D3775))","v":""},"","","",""]
[null,null,null,null,{"$f":"IF(D3776=\"\",\"\",COUNTIF(Tabulka5[Data],D3776))","v":""},"","","",""]
[null,null,null,null,{"$f":"IF(D3777=\"\",\"\",COUNTIF(Tabulka5[Data],D3777))","v":""},"","","",""]
[null,null,null,null,{"$f":"IF(D3778=\"\",\"\",COUNTIF(Tabulka5[Data],D3778))","v":""},"","","",""]
[null,null,null,null,{"$f":"IF(D3779=\"\",\"\",COUNTIF(Tabulka5[Data],D3779))","v":""},"","","",""]
[null,null,null,null,{"$f":"IF(D3780=\"\",\"\",COUNTIF(Tabulka5[Data],D3780))","v":""},"","","",""]
[null,null,null,null,{"$f":"IF(D3781=\"\",\"\",COUNTIF(Tabulka5[Data],D3781))","v":""},"","","",""]
[null,null,null,null,{"$f":"IF(D3782=\"\",\"\",COUNTIF(Tabulka5[Data],D3782))","v":""},"","","",""]
[null,null,null,null,{"$f":"IF(D3783=\"\",\"\",COUNTIF(Tabulka5[Data],D3783))","v":""},"","","",""]
[null,null,null,null,{"$f":"IF(D3784=\"\",\"\",COUNTIF(Tabulka5[Data],D3784))","v":""},"","","",""]
[null,null,null,null,{"$f":"IF(D3785=\"\",\"\",COUNTIF(Tabulka5[Data],D3785))","v":""},"","","",""]
[null,null,null,null,{"$f":"IF(D3786=\"\",\"\",COUNTIF(Tabulka5[Data],D3786))","v":""},"","","",""]
[null,null,null,null,{"$f":"IF(D3787=\"\",\"\",COUNTIF(Tabulka5[Data],D3787))","v":""},"","","",""]
[null,null,null,null,{"$f":"IF(D3788=\"\",\"\",COUNTIF(Tabulka5[Data],D3788))","v":""},"","","",""]
[null,null,null,null,{"$f":"IF(D3789=\"\",\"\",COUNTIF(Tabulka5[Data],D3789))","v":""},"","","",""]
[null,null,null,null,{"$f":"IF(D3790=\"\",\"\",COUNTIF(Tabulka5[Data],D3790))","v":""},"","","",""]
[null,null,null,null,{"$f":"IF(D3791=\"\",\"\",COUNTIF(Tabulka5[Data],D3791))","v":""},"","","",""]
[null,null,null,null,{"$f":"IF(D3792=\"\",\"\",COUNTIF(Tabulka5[Data],D3792))","v":""},"","","",""]
[null,null,null,null,{"$f":"IF(D3793=\"\",\"\",COUNTIF(Tabulka5[Data],D3793))","v":""},{"$f":"IF(OR($K$11=0,D3793=\"\"),\"\",IF(D3794=\"\",1-I3792,ROUND(E3793/SUM($E$15:$E$6350),3)))","v":""},{"$f":"IF(OR(D3793=\"\",$A$11=\"nominální\"),\"\",G3792+E3793)","v":""},{"$f":"IF(OR($K$11=0,D3793=\"\",$A$11=\"nominální\"),\"\",H3792+F3793)","v":""},{"$f":"IF(OR($K$11=0,D3793=\"\"),\"\",I3792+F3793)","v":""}]
[null,null,null,null,{"$f":"IF(D3794=\"\",\"\",COUNTIF(Tabulka5[Data],D3794))","v":""},"","","",""]
[null,null,null,null,{"$f":"IF(D3795=\"\",\"\",COUNTIF(Tabulka5[Data],D3795))","v":""},"","","",""]
[null,null,null,null,{"$f":"IF(D3796=\"\",\"\",COUNTIF(Tabulka5[Data],D3796))","v":""},"","","",""]
[null,null,null,null,{"$f":"IF(D3797=\"\",\"\",COUNTIF(Tabulka5[Data],D3797))","v":""},"","","",""]
[null,null,null,null,{"$f":"IF(D3798=\"\",\"\",COUNTIF(Tabulka5[Data],D3798))","v":""},"","","",""]
[null,null,null,null,{"$f":"IF(D3799=\"\",\"\",COUNTIF(Tabulka5[Data],D3799))","v":""},"","","",""]
[null,null,null,null,{"$f":"IF(D3800=\"\",\"\",COUNTIF(Tabulka5[Data],D3800))","v":""},"","","",""]
[null,null,null,null,{"$f":"IF(D3801=\"\",\"\",COUNTIF(Tabulka5[Data],D3801))","v":""},"","","",""]
[null,null,null,null,{"$f":"IF(D3802=\"\",\"\",COUNTIF(Tabulka5[Data],D3802))","v":""},"","","",""]
[null,null,null,null,{"$f":"IF(D3803=\"\",\"\",COUNTIF(Tabulka5[Data],D3803))","v":""},"","","",""]
[null,null,null,null,{"$f":"IF(D3804=\"\",\"\",COUNTIF(Tabulka5[Data],D3804))","v":""},"","","",""]
[null,null,null,null,{"$f":"IF(D3805=\"\",\"\",COUNTIF(Tabulka5[Data],D3805))","v":""},"","","",""]
[null,null,null,null,{"$f":"IF(D3806=\"\",\"\",COUNTIF(Tabulka5[Data],D3806))","v":""},"","","",""]
[null,null,null,null,{"$f":"IF(D3807=\"\",\"\",COUNTIF(Tabulka5[Data],D3807))","v":""},"","","",""]
[null,null,null,null,{"$f":"IF(D3808=\"\",\"\",COUNTIF(Tabulka5[Data],D3808))","v":""},"","","",""]
[null,null,null,null,{"$f":"IF(D3809=\"\",\"\",COUNTIF(Tabulka5[Data],D3809))","v":""},"","","",""]
[null,null,null,null,{"$f":"IF(D3810=\"\",\"\",COUNTIF(Tabulka5[Data],D3810))","v":""},"","","",""]
[null,null,null,null,{"$f":"IF(D3811=\"\",\"\",COUNTIF(Tabulka5[Data],D3811))","v":""},"","","",""]
[null,null,null,null,{"$f":"IF(D3812=\"\",\"\",COUNTIF(Tabulka5[Data],D3812))","v":""},"","","",""]
[null,null,null,null,{"$f":"IF(D3813=\"\",\"\",COUNTIF(Tabulka5[Data],D3813))","v":""},"","","",""]
[null,null,null,null,{"$f":"IF(D3814=\"\",\"\",COUNTIF(Tabulka5[Data],D3814))","v":""},"","","",""]
[null,null,null,null,{"$f":"IF(D3815=\"\",\"\",COUNTIF(Tabulka5[Data],D3815))","v":""},"","","",""]
[null,null,null,null,{"$f":"IF(D3816=\"\",\"\",COUNTIF(Tabulka5[Data],D3816))","v":""},"","","",""]
[null,null,null,null,{"$f":"IF(D3817=\"\",\"\",COUNTIF(Tabulka5[Data],D3817))","v":""},"","","",""]
[null,null,null,null,{"$f":"IF(D3818=\"\",\"\",COUNTIF(Tabulka5[Data],D3818))","v":""},"","","",""]
[null,null,null,null,{"$f":"IF(D3819=\"\",\"\",COUNTIF(Tabulka5[Data],D3819))","v":""},"","","",""]
[null,null,null,null,{"$f":"IF(D3820=\"\",\"\",COUNTIF(Tabulka5[Data],D3820))","v":""},"","","",""]
[null,null,null,null,{"$f":"IF(D3821=\"\",\"\",COUNTIF(Tabulka5[Data],D3821))","v":""},"","","",""]
[null,null,null,null,{"$f":"IF(D3822=\"\",\"\",COUNTIF(Tabulka5[Data],D3822))","v":""},"","","",""]
[null,null,null,null,{"$f":"IF(D3823=\"\",\"\",COUNTIF(Tabulka5[Data],D3823))","v":""},"","","",""]
[null,null,null,null,{"$f":"IF(D3824=\"\",\"\",COUNTIF(Tabulka5[Data],D3824))","v":""},"","","",""]
[null,null,null,null,{"$f":"IF(D3825=\"\",\"\",COUNTIF(Tabulka5[Data],D3825))","v":""},"","","",""]
[null,null,null,null,{"$f":"IF(D3826=\"\",\"\",COUNTIF(Tabulka5[Data],D3826))","v":""},"","","",""]
[null,null,null,null,{"$f":"IF(D3827=\"\",\"\",COUNTIF(Tabulka5[Data],D3827))","v":""},"","","",""]
[null,null,null,null,{"$f":"IF(D3828=\"\",\"\",COUNTIF(Tabulka5[Data],D3828))","v":""},"","","",""]
[null,null,null,null,{"$f":"IF(D3829=\"\",\"\",COUNTIF(Tabulka5[Data],D3829))","v":""},"","","",""]
[null,null,null,null,{"$f":"IF(D3830=\"\",\"\",COUNTIF(Tabulka5[Data],D3830))","v":""},"","","",""]
[null,null,null,null,{"$f":"IF(D3831=\"\",\"\",COUNTIF(Tabulka5[Data],D3831))","v":""},"","","",""]
[null,null,null,null,{"$f":"IF(D3832=\"\",\"\",COUNTIF(Tabulka5[Data],D3832))","v":""},"","","",""]
[null,null,null,null,{"$f":"IF(D3833=\"\",\"\",COUNTIF(Tabulka5[Data],D3833))","v":""},"","","",""]
[null,null,null,null,{"$f":"IF(D3834=\"\",\"\",COUNTIF(Tabulka5[Data],D3834))","v":""},"","","",""]
[null,null,null,null,{"$f":"IF(D3835=\"\",\"\",COUNTIF(Tabulka5[Data],D3835))","v":""},"","","",""]
[null,null,null,null,{"$f":"IF(D3836=\"\",\"\",COUNTIF(Tabulka5[Data],D3836))","v":""},"","","",""]
[null,null,null,null,{"$f":"IF(D3837=\"\",\"\",COUNTIF(Tabulka5[Data],D3837))","v":""},"","","",""]
[null,null,null,null,{"$f":"IF(D3838=\"\",\"\",COUNTIF(Tabulka5[Data],D3838))","v":""},"","","",""]
[null,null,null,null,{"$f":"IF(D3839=\"\",\"\",COUNTIF(Tabulka5[Data],D3839))","v":""},"","","",""]
[null,null,null,null,{"$f":"IF(D3840=\"\",\"\",COUNTIF(Tabulka5[Data],D3840))","v":""},"","","",""]
[null,null,null,null,{"$f":"IF(D3841=\"\",\"\",COUNTIF(Tabulka5[Data],D3841))","v":""},"","","",""]
[null,null,null,null,{"$f":"IF(D3842=\"\",\"\",COUNTIF(Tabulka5[Data],D3842))","v":""},"","","",""]
[null,null,null,null,{"$f":"IF(D3843=\"\",\"\",COUNTIF(Tabulka5[Data],D3843))","v":""},"","","",""]
[null,null,null,null,{"$f":"IF(D3844=\"\",\"\",COUNTIF(Tabulka5[Data],D3844))","v":""},"","","",""]
[null,null,null,null,{"$f":"IF(D3845=\"\",\"\",COUNTIF(Tabulka5[Data],D3845))","v":""},"","","",""]
[null,null,null,null,{"$f":"IF(D3846=\"\",\"\",COUNTIF(Tabulka5[Data],D3846))","v":""},"","","",""]
[null,null,null,null,{"$f":"IF(D3847=\"\",\"\",COUNTIF(Tabulka5[Data],D3847))","v":""},"","","",""]
[null,null,null,null,{"$f":"IF(D3848=\"\",\"\",COUNTIF(Tabulka5[Data],D3848))","v":""},"","","",""]
[null,null,null,null,{"$f":"IF(D3849=\"\",\"\",COUNTIF(Tabulka5[Data],D3849))","v":""},"","","",""]
[null,null,null,null,{"$f":"IF(D3850=\"\",\"\",COUNTIF(Tabulka5[Data],D3850))","v":""},"","","",""]
[null,null,null,null,{"$f":"IF(D3851=\"\",\"\",COUNTIF(Tabulka5[Data],D3851))","v":""},"","","",""]
[null,null,null,null,{"$f":"IF(D3852=\"\",\"\",COUNTIF(Tabulka5[Data],D3852))","v":""},"","","",""]
[null,null,null,null,{"$f":"IF(D3853=\"\",\"\",COUNTIF(Tabulka5[Data],D3853))","v":""},"","","",""]
[null,null,null,null,{"$f":"IF(D3854=\"\",\"\",COUNTIF(Tabulka5[Data],D3854))","v":""},"","","",""]
[null,null,null,null,{"$f":"IF(D3855=\"\",\"\",COUNTIF(Tabulka5[Data],D3855))","v":""},"","","",""]
[null,null,null,null,{"$f":"IF(D3856=\"\",\"\",COUNTIF(Tabulka5[Data],D3856))","v":""},"","","",""]
[null,null,null,null,{"$f":"IF(D3857=\"\",\"\",COUNTIF(Tabulka5[Data],D3857))","v":""},{"$f":"IF(OR($K$11=0,D3857=\"\"),\"\",IF(D3858=\"\",1-I3856,ROUND(E3857/SUM($E$15:$E$6350),3)))","v":""},{"$f":"IF(OR(D3857=\"\",$A$11=\"nominální\"),\"\",G3856+E3857)","v":""},{"$f":"IF(OR($K$11=0,D3857=\"\",$A$11=\"nominální\"),\"\",H3856+F3857)","v":""},{"$f":"IF(OR($K$11=0,D3857=\"\"),\"\",I3856+F3857)","v":""}]
[null,null,null,null,{"$f":"IF(D3858=\"\",\"\",COUNTIF(Tabulka5[Data],D3858))","v":""},"","","",""]
[null,null,null,null,{"$f":"IF(D3859=\"\",\"\",COUNTIF(Tabulka5[Data],D3859))","v":""},"","","",""]
[null,null,null,null,{"$f":"IF(D3860=\"\",\"\",COUNTIF(Tabulka5[Data],D3860))","v":""},"","","",""]
[null,null,null,null,{"$f":"IF(D3861=\"\",\"\",COUNTIF(Tabulka5[Data],D3861))","v":""},"","","",""]
[null,null,null,null,{"$f":"IF(D3862=\"\",\"\",COUNTIF(Tabulka5[Data],D3862))","v":""},"","","",""]
[null,null,null,null,{"$f":"IF(D3863=\"\",\"\",COUNTIF(Tabulka5[Data],D3863))","v":""},"","","",""]
[null,null,null,null,{"$f":"IF(D3864=\"\",\"\",COUNTIF(Tabulka5[Data],D3864))","v":""},"","","",""]
[null,null,null,null,{"$f":"IF(D3865=\"\",\"\",COUNTIF(Tabulka5[Data],D3865))","v":""},"","","",""]
[null,null,null,null,{"$f":"IF(D3866=\"\",\"\",COUNTIF(Tabulka5[Data],D3866))","v":""},"","","",""]
[null,null,null,null,{"$f":"IF(D3867=\"\",\"\",COUNTIF(Tabulka5[Data],D3867))","v":""},"","","",""]
[null,null,null,null,{"$f":"IF(D3868=\"\",\"\",COUNTIF(Tabulka5[Data],D3868))","v":""},"","","",""]
[null,null,null,null,{"$f":"IF(D3869=\"\",\"\",COUNTIF(Tabulka5[Data],D3869))","v":""},"","","",""]
[null,null,null,null,{"$f":"IF(D3870=\"\",\"\",COUNTIF(Tabulka5[Data],D3870))","v":""},"","","",""]
[null,null,null,null,{"$f":"IF(D3871=\"\",\"\",COUNTIF(Tabulka5[Data],D3871))","v":""},"","","",""]
[null,null,null,null,{"$f":"IF(D3872=\"\",\"\",COUNTIF(Tabulka5[Data],D3872))","v":""},"","","",""]
[null,null,null,null,{"$f":"IF(D3873=\"\",\"\",COUNTIF(Tabulka5[Data],D3873))","v":""},"","","",""]
[null,null,null,null,{"$f":"IF(D3874=\"\",\"\",COUNTIF(Tabulka5[Data],D3874))","v":""},"","","",""]
[null,null,null,null,{"$f":"IF(D3875=\"\",\"\",COUNTIF(Tabulka5[Data],D3875))","v":""},"","","",""]
[null,null,null,null,{"$f":"IF(D3876=\"\",\"\",COUNTIF(Tabulka5[Data],D3876))","v":""},"","","",""]
[null,null,null,null,{"$f":"IF(D3877=\"\",\"\",COUNTIF(Tabulka5[Data],D3877))","v":""},"","","",""]
[null,null,null,null,{"$f":"IF(D3878=\"\",\"\",COUNTIF(Tabulka5[Data],D3878))","v":""},"","","",""]
[null,null,null,null,{"$f":"IF(D3879=\"\",\"\",COUNTIF(Tabulka5[Data],D3879))","v":""},"","","",""]
[null,null,null,null,{"$f":"IF(D3880=\"\",\"\",COUNTIF(Tabulka5[Data],D3880))","v":""},"","","",""]
[null,null,null,null,{"$f":"IF(D3881=\"\",\"\",COUNTIF(Tabulka5[Data],D3881))","v":""},"","","",""]
[null,null,null,null,{"$f":"IF(D3882=\"\",\"\",COUNTIF(Tabulka5[Data],D3882))","v":""},"","","",""]
[null,null,null,null,{"$f":"IF(D3883=\"\",\"\",COUNTIF(Tabulka5[Data],D3883))","v":""},"","","",""]
[null,null,null,null,{"$f":"IF(D3884=\"\",\"\",COUNTIF(Tabulka5[Data],D3884))","v":""},"","","",""]
[null,null,null,null,{"$f":"IF(D3885=\"\",\"\",COUNTIF(Tabulka5[Data],D3885))","v":""},"","","",""]
[null,null,null,null,{"$f":"IF(D3886=\"\",\"\",COUNTIF(Tabulka5[Data],D3886))","v":""},"","","",""]
[null,null,null,null,{"$f":"IF(D3887=\"\",\"\",COUNTIF(Tabulka5[Data],D3887))","v":""},"","","",""]
[null,null,null,null,{"$f":"IF(D3888=\"\",\"\",COUNTIF(Tabulka5[Data],D3888))","v":""},"","","",""]
[null,null,null,null,{"$f":"IF(D3889=\"\",\"\",COUNTIF(Tabulka5[Data],D3889))","v":""},"","","",""]
[null,null,null,null,{"$f":"IF(D3890=\"\",\"\",COUNTIF(Tabulka5[Data],D3890))","v":""},"","","",""]
[null,null,null,null,{"$f":"IF(D3891=\"\",\"\",COUNTIF(Tabulka5[Data],D3891))","v":""},"","","",""]
[null,null,null,null,{"$f":"IF(D3892=\"\",\"\",COUNTIF(Tabulka5[Data],D3892))","v":""},"","","",""]
[null,null,null,null,{"$f":"IF(D3893=\"\",\"\",COUNTIF(Tabulka5[Data],D3893))","v":""},"","","",""]
[null,null,null,null,{"$f":"IF(D3894=\"\",\"\",COUNTIF(Tabulka5[Data],D3894))","v":""},"","","",""]
[null,null,null,null,{"$f":"IF(D3895=\"\",\"\",COUNTIF(Tabulka5[Data],D3895))","v":""},"","","",""]
[null,null,null,null,{"$f":"IF(D3896=\"\",\"\",COUNTIF(Tabulka5[Data],D3896))","v":""},"","","",""]
[null,null,null,null,{"$f":"IF(D3897=\"\",\"\",COUNTIF(Tabulka5[Data],D3897))","v":""},"","","",""]
[null,null,null,null,{"$f":"IF(D3898=\"\",\"\",COUNTIF(Tabulka5[Data],D3898))","v":""},"","","",""]
[null,null,null,null,{"$f":"IF(D3899=\"\",\"\",COUNTIF(Tabulka5[Data],D3899))","v":""},"","","",""]
[null,null,null,null,{"$f":"IF(D3900=\"\",\"\",COUNTIF(Tabulka5[Data],D3900))","v":""},"","","",""]
[null,null,null,null,{"$f":"IF(D3901=\"\",\"\",COUNTIF(Tabulka5[Data],D3901))","v":""},"","","",""]
[null,null,null,null,{"$f":"IF(D3902=\"\",\"\",COUNTIF(Tabulka5[Data],D3902))","v":""},"","","",""]
[null,null,null,null,{"$f":"IF(D3903=\"\",\"\",COUNTIF(Tabulka5[Data],D3903))","v":""},"","","",""]
[null,null,null,null,{"$f":"IF(D3904=\"\",\"\",COUNTIF(Tabulka5[Data],D3904))","v":""},"","","",""]
[null,null,null,null,{"$f":"IF(D3905=\"\",\"\",COUNTIF(Tabulka5[Data],D3905))","v":""},"","","",""]
[null,null,null,null,{"$f":"IF(D3906=\"\",\"\",COUNTIF(Tabulka5[Data],D3906))","v":""},"","","",""]
[null,null,null,null,{"$f":"IF(D3907=\"\",\"\",COUNTIF(Tabulka5[Data],D3907))","v":""},"","","",""]
[null,null,null,null,{"$f":"IF(D3908=\"\",\"\",COUNTIF(Tabulka5[Data],D3908))","v":""},"","","",""]
[null,null,null,null,{"$f":"IF(D3909=\"\",\"\",COUNTIF(Tabulka5[Data],D3909))","v":""},"","","",""]
[null,null,null,null,{"$f":"IF(D3910=\"\",\"\",COUNTIF(Tabulka5[Data],D3910))","v":""},"","","",""]
[null,null,null,null,{"$f":"IF(D3911=\"\",\"\",COUNTIF(Tabulka5[Data],D3911))","v":""},"","","",""]
[null,null,null,null,{"$f":"IF(D3912=\"\",\"\",COUNTIF(Tabulka5[Data],D3912))","v":""},"","","",""]
[null,null,null,null,{"$f":"IF(D3913=\"\",\"\",COUNTIF(Tabulka5[Data],D3913))","v":""},"","","",""]
[null,null,null,null,{"$f":"IF(D3914=\"\",\"\",COUNTIF(Tabulka5[Data],D3914))","v":""},"","","",""]
[null,null,null,null,{"$f":"IF(D3915=\"\",\"\",COUNTIF(Tabulka5[Data],D3915))","v":""},"","","",""]
[null,null,null,null,{"$f":"IF(D3916=\"\",\"\",COUNTIF(Tabulka5[Data],D3916))","v":""},"","","",""]
[null,null,null,null,{"$f":"IF(D3917=\"\",\"\",COUNTIF(Tabulka5[Data],D3917))","v":""},"","","",""]
[null,null,null,null,{"$f":"IF(D3918=\"\",\"\",COUNTIF(Tabulka5[Data],D3918))","v":""},"","","",""]
[null,null,null,null,{"$f":"IF(D3919=\"\",\"\",COUNTIF(Tabulka5[Data],D3919))","v":""},"","","",""]
[null,null,null,null,{"$f":"IF(D3920=\"\",\"\",COUNTIF(Tabulka5[Data],D3920))","v":""},"","","",""]
[null,null,null,null,{"$f":"IF(D3921=\"\",\"\",COUNTIF(Tabulka5[Data],D3921))","v":""},{"$f":"IF(OR($K$11=0,D3921=\"\"),\"\",IF(D3922=\"\",1-I3920,ROUND(E3921/SUM($E$15:$E$6350),3)))","v":""},{"$f":"IF(OR(D3921=\"\",$A$11=\"nominální\"),\"\",G3920+E3921)","v":""},{"$f":"IF(OR($K$11=0,D3921=\"\",$A$11=\"nominální\"),\"\",H3920+F3921)","v":""},{"$f":"IF(OR($K$11=0,D3921=\"\"),\"\",I3920+F3921)","v":""}]
[null,null,null,null,{"$f":"IF(D3922=\"\",\"\",COUNTIF(Tabulka5[Data],D3922))","v":""},"","","",""]
[null,null,null,null,{"$f":"IF(D3923=\"\",\"\",COUNTIF(Tabulka5[Data],D3923))","v":""},"","","",""]
[null,null,null,null,{"$f":"IF(D3924=\"\",\"\",COUNTIF(Tabulka5[Data],D3924))","v":""},"","","",""]
[null,null,null,null,{"$f":"IF(D3925=\"\",\"\",COUNTIF(Tabulka5[Data],D3925))","v":""},"","","",""]
[null,null,null,null,{"$f":"IF(D3926=\"\",\"\",COUNTIF(Tabulka5[Data],D3926))","v":""},"","","",""]
[null,null,null,null,{"$f":"IF(D3927=\"\",\"\",COUNTIF(Tabulka5[Data],D3927))","v":""},"","","",""]
[null,null,null,null,{"$f":"IF(D3928=\"\",\"\",COUNTIF(Tabulka5[Data],D3928))","v":""},"","","",""]
[null,null,null,null,{"$f":"IF(D3929=\"\",\"\",COUNTIF(Tabulka5[Data],D3929))","v":""},"","","",""]
[null,null,null,null,{"$f":"IF(D3930=\"\",\"\",COUNTIF(Tabulka5[Data],D3930))","v":""},"","","",""]
[null,null,null,null,{"$f":"IF(D3931=\"\",\"\",COUNTIF(Tabulka5[Data],D3931))","v":""},"","","",""]
[null,null,null,null,{"$f":"IF(D3932=\"\",\"\",COUNTIF(Tabulka5[Data],D3932))","v":""},"","","",""]
[null,null,null,null,{"$f":"IF(D3933=\"\",\"\",COUNTIF(Tabulka5[Data],D3933))","v":""},"","","",""]
[null,null,null,null,{"$f":"IF(D3934=\"\",\"\",COUNTIF(Tabulka5[Data],D3934))","v":""},"","","",""]
[null,null,null,null,{"$f":"IF(D3935=\"\",\"\",COUNTIF(Tabulka5[Data],D3935))","v":""},"","","",""]
[null,null,null,null,{"$f":"IF(D3936=\"\",\"\",COUNTIF(Tabulka5[Data],D3936))","v":""},"","","",""]
[null,null,null,null,{"$f":"IF(D3937=\"\",\"\",COUNTIF(Tabulka5[Data],D3937))","v":""},"","","",""]
[null,null,null,null,{"$f":"IF(D3938=\"\",\"\",COUNTIF(Tabulka5[Data],D3938))","v":""},"","","",""]
[null,null,null,null,{"$f":"IF(D3939=\"\",\"\",COUNTIF(Tabulka5[Data],D3939))","v":""},"","","",""]
[null,null,null,null,{"$f":"IF(D3940=\"\",\"\",COUNTIF(Tabulka5[Data],D3940))","v":""},"","","",""]
[null,null,null,null,{"$f":"IF(D3941=\"\",\"\",COUNTIF(Tabulka5[Data],D3941))","v":""},"","","",""]
[null,null,null,null,{"$f":"IF(D3942=\"\",\"\",COUNTIF(Tabulka5[Data],D3942))","v":""},"","","",""]
[null,null,null,null,{"$f":"IF(D3943=\"\",\"\",COUNTIF(Tabulka5[Data],D3943))","v":""},"","","",""]
[null,null,null,null,{"$f":"IF(D3944=\"\",\"\",COUNTIF(Tabulka5[Data],D3944))","v":""},"","","",""]
[null,null,null,null,{"$f":"IF(D3945=\"\",\"\",COUNTIF(Tabulka5[Data],D3945))","v":""},"","","",""]
[null,null,null,null,{"$f":"IF(D3946=\"\",\"\",COUNTIF(Tabulka5[Data],D3946))","v":""},"","","",""]
[null,null,null,null,{"$f":"IF(D3947=\"\",\"\",COUNTIF(Tabulka5[Data],D3947))","v":""},"","","",""]
[null,null,null,null,{"$f":"IF(D3948=\"\",\"\",COUNTIF(Tabulka5[Data],D3948))","v":""},"","","",""]
[null,null,null,null,{"$f":"IF(D3949=\"\",\"\",COUNTIF(Tabulka5[Data],D3949))","v":""},"","","",""]
[null,null,null,null,{"$f":"IF(D3950=\"\",\"\",COUNTIF(Tabulka5[Data],D3950))","v":""},"","","",""]
[null,null,null,null,{"$f":"IF(D3951=\"\",\"\",COUNTIF(Tabulka5[Data],D3951))","v":""},"","","",""]
[null,null,null,null,{"$f":"IF(D3952=\"\",\"\",COUNTIF(Tabulka5[Data],D3952))","v":""},"","","",""]
[null,null,null,null,{"$f":"IF(D3953=\"\",\"\",COUNTIF(Tabulka5[Data],D3953))","v":""},"","","",""]
[null,null,null,null,{"$f":"IF(D3954=\"\",\"\",COUNTIF(Tabulka5[Data],D3954))","v":""},"","","",""]
[null,null,null,null,{"$f":"IF(D3955=\"\",\"\",COUNTIF(Tabulka5[Data],D3955))","v":""},"","","",""]
[null,null,null,null,{"$f":"IF(D3956=\"\",\"\",COUNTIF(Tabulka5[Data],D3956))","v":""},"","","",""]
[null,null,null,null,{"$f":"IF(D3957=\"\",\"\",COUNTIF(Tabulka5[Data],D3957))","v":""},"","","",""]
[null,null,null,null,{"$f":"IF(D3958=\"\",\"\",COUNTIF(Tabulka5[Data],D3958))","v":""},"","","",""]
[null,null,null,null,{"$f":"IF(D3959=\"\",\"\",COUNTIF(Tabulka5[Data],D3959))","v":""},"","","",""]
[null,null,null,null,{"$f":"IF(D3960=\"\",\"\",COUNTIF(Tabulka5[Data],D3960))","v":""},"","","",""]
[null,null,null,null,{"$f":"IF(D3961=\"\",\"\",COUNTIF(Tabulka5[Data],D3961))","v":""},"","","",""]
[null,null,null,null,{"$f":"IF(D3962=\"\",\"\",COUNTIF(Tabulka5[Data],D3962))","v":""},"","","",""]
[null,null,null,null,{"$f":"IF(D3963=\"\",\"\",COUNTIF(Tabulka5[Data],D3963))","v":""},"","","",""]
[null,null,null,null,{"$f":"IF(D3964=\"\",\"\",COUNTIF(Tabulka5[Data],D3964))","v":""},"","","",""]
[null,null,null,null,{"$f":"IF(D3965=\"\",\"\",COUNTIF(Tabulka5[Data],D3965))","v":""},"","","",""]
[null,null,null,null,{"$f":"IF(D3966=\"\",\"\",COUNTIF(Tabulka5[Data],D3966))","v":""},"","","",""]
[null,null,null,null,{"$f":"IF(D3967=\"\",\"\",COUNTIF(Tabulka5[Data],D3967))","v":""},"","","",""]
[null,null,null,null,{"$f":"IF(D3968=\"\",\"\",COUNTIF(Tabulka5[Data],D3968))","v":""},"","","",""]
[null,null,null,null,{"$f":"IF(D3969=\"\",\"\",COUNTIF(Tabulka5[Data],D3969))","v":""},"","","",""]
[null,null,null,null,{"$f":"IF(D3970=\"\",\"\",COUNTIF(Tabulka5[Data],D3970))","v":""},"","","",""]
[null,null,null,null,{"$f":"IF(D3971=\"\",\"\",COUNTIF(Tabulka5[Data],D3971))","v":""},"","","",""]
[null,null,null,null,{"$f":"IF(D3972=\"\",\"\",COUNTIF(Tabulka5[Data],D3972))","v":""},"","","",""]
[null,null,null,null,{"$f":"IF(D3973=\"\",\"\",COUNTIF(Tabulka5[Data],D3973))","v":""},"","","",""]
[null,null,null,null,{"$f":"IF(D3974=\"\",\"\",COUNTIF(Tabulka5[Data],D3974))","v":""},"","","",""]
[null,null,null,null,{"$f":"IF(D3975=\"\",\"\",COUNTIF(Tabulka5[Data],D3975))","v":""},"","","",""]
[null,null,null,null,{"$f":"IF(D3976=\"\",\"\",COUNTIF(Tabulka5[Data],D3976))","v":""},"","","",""]
[null,null,null,null,{"$f":"IF(D3977=\"\",\"\",COUNTIF(Tabulka5[Data],D3977))","v":""},"","","",""]
[null,null,null,null,{"$f":"IF(D3978=\"\",\"\",COUNTIF(Tabulka5[Data],D3978))","v":""},"","","",""]
[null,null,null,null,{"$f":"IF(D3979=\"\",\"\",COUNTIF(Tabulka5[Data],D3979))","v":""},"","","",""]
[null,null,null,null,{"$f":"IF(D3980=\"\",\"\",COUNTIF(Tabulka5[Data],D3980))","v":""},"","","",""]
[null,null,null,null,{"$f":"IF(D3981=\"\",\"\",COUNTIF(Tabulka5[Data],D3981))","v":""},"","","",""]
[null,null,null,null,{"$f":"IF(D3982=\"\",\"\",COUNTIF(Tabulka5[Data],D3982))","v":""},"","","",""]
[null,null,null,null,{"$f":"IF(D3983=\"\",\"\",COUNTIF(Tabulka5[Data],D3983))","v":""},"","","",""]
[null,null,null,null,{"$f":"IF(D3984=\"\",\"\",COUNTIF(Tabulka5[Data],D3984))","v":""},"","","",""]
[null,null,null,null,{"$f":"IF(D3985=\"\",\"\",COUNTIF(Tabulka5[Data],D3985))","v":""},{"$f":"IF(OR($K$11=0,D3985=\"\"),\"\",IF(D3986=\"\",1-I3984,ROUND(E3985/SUM($E$15:$E$6350),3)))","v":""},{"$f":"IF(OR(D3985=\"\",$A$11=\"nominální\"),\"\",G3984+E3985)","v":""},{"$f":"IF(OR($K$11=0,D3985=\"\",$A$11=\"nominální\"),\"\",H3984+F3985)","v":""},{"$f":"IF(OR($K$11=0,D3985=\"\"),\"\",I3984+F3985)","v":""}]
[null,null,null,null,{"$f":"IF(D3986=\"\",\"\",COUNTIF(Tabulka5[Data],D3986))","v":""},"","","",""]
[null,null,null,null,{"$f":"IF(D3987=\"\",\"\",COUNTIF(Tabulka5[Data],D3987))","v":""},"","","",""]
[null,null,null,null,{"$f":"IF(D3988=\"\",\"\",COUNTIF(Tabulka5[Data],D3988))","v":""},"","","",""]
[null,null,null,null,{"$f":"IF(D3989=\"\",\"\",COUNTIF(Tabulka5[Data],D3989))","v":""},"","","",""]
[null,null,null,null,{"$f":"IF(D3990=\"\",\"\",COUNTIF(Tabulka5[Data],D3990))","v":""},"","","",""]
[null,null,null,null,{"$f":"IF(D3991=\"\",\"\",COUNTIF(Tabulka5[Data],D3991))","v":""},"","","",""]
[null,null,null,null,{"$f":"IF(D3992=\"\",\"\",COUNTIF(Tabulka5[Data],D3992))","v":""},"","","",""]
[null,null,null,null,{"$f":"IF(D3993=\"\",\"\",COUNTIF(Tabulka5[Data],D3993))","v":""},"","","",""]
[null,null,null,null,{"$f":"IF(D3994=\"\",\"\",COUNTIF(Tabulka5[Data],D3994))","v":""},"","","",""]
[null,null,null,null,{"$f":"IF(D3995=\"\",\"\",COUNTIF(Tabulka5[Data],D3995))","v":""},"","","",""]
[null,null,null,null,{"$f":"IF(D3996=\"\",\"\",COUNTIF(Tabulka5[Data],D3996))","v":""},"","","",""]
[null,null,null,null,{"$f":"IF(D3997=\"\",\"\",COUNTIF(Tabulka5[Data],D3997))","v":""},"","","",""]
[null,null,null,null,{"$f":"IF(D3998=\"\",\"\",COUNTIF(Tabulka5[Data],D3998))","v":""},"","","",""]
[null,null,null,null,{"$f":"IF(D3999=\"\",\"\",COUNTIF(Tabulka5[Data],D3999))","v":""},"","","",""]
[null,null,null,null,{"$f":"IF(D4000=\"\",\"\",COUNTIF(Tabulka5[Data],D4000))","v":""},"","","",""]
[null,null,null,null,{"$f":"IF(D4001=\"\",\"\",COUNTIF(Tabulka5[Data],D4001))","v":""},"","","",""]
[null,null,null,null,{"$f":"IF(D4002=\"\",\"\",COUNTIF(Tabulka5[Data],D4002))","v":""},"","","",""]
[null,null,null,null,{"$f":"IF(D4003=\"\",\"\",COUNTIF(Tabulka5[Data],D4003))","v":""},"","","",""]
[null,null,null,null,{"$f":"IF(D4004=\"\",\"\",COUNTIF(Tabulka5[Data],D4004))","v":""},"","","",""]
[null,null,null,null,{"$f":"IF(D4005=\"\",\"\",COUNTIF(Tabulka5[Data],D4005))","v":""},"","","",""]
[null,null,null,null,{"$f":"IF(D4006=\"\",\"\",COUNTIF(Tabulka5[Data],D4006))","v":""},"","","",""]
[null,null,null,null,{"$f":"IF(D4007=\"\",\"\",COUNTIF(Tabulka5[Data],D4007))","v":""},"","","",""]
[null,null,null,null,{"$f":"IF(D4008=\"\",\"\",COUNTIF(Tabulka5[Data],D4008))","v":""},"","","",""]
[null,null,null,null,{"$f":"IF(D4009=\"\",\"\",COUNTIF(Tabulka5[Data],D4009))","v":""},"","","",""]
[null,null,null,null,{"$f":"IF(D4010=\"\",\"\",COUNTIF(Tabulka5[Data],D4010))","v":""},"","","",""]
[null,null,null,null,{"$f":"IF(D4011=\"\",\"\",COUNTIF(Tabulka5[Data],D4011))","v":""},"","","",""]
[null,null,null,null,{"$f":"IF(D4012=\"\",\"\",COUNTIF(Tabulka5[Data],D4012))","v":""},"","","",""]
[null,null,null,null,{"$f":"IF(D4013=\"\",\"\",COUNTIF(Tabulka5[Data],D4013))","v":""},"","","",""]
[null,null,null,null,{"$f":"IF(D4014=\"\",\"\",COUNTIF(Tabulka5[Data],D4014))","v":""},"","","",""]
[null,null,null,null,{"$f":"IF(D4015=\"\",\"\",COUNTIF(Tabulka5[Data],D4015))","v":""},"","","",""]
[null,null,null,null,{"$f":"IF(D4016=\"\",\"\",COUNTIF(Tabulka5[Data],D4016))","v":""},"","","",""]
[null,null,null,null,{"$f":"IF(D4017=\"\",\"\",COUNTIF(Tabulka5[Data],D4017))","v":""},"","","",""]
[null,null,null,null,{"$f":"IF(D4018=\"\",\"\",COUNTIF(Tabulka5[Data],D4018))","v":""},"","","",""]
[null,null,null,null,{"$f":"IF(D4019=\"\",\"\",COUNTIF(Tabulka5[Data],D4019))","v":""},"","","",""]
[null,null,null,null,{"$f":"IF(D4020=\"\",\"\",COUNTIF(Tabulka5[Data],D4020))","v":""},"","","",""]
[null,null,null,null,{"$f":"IF(D4021=\"\",\"\",COUNTIF(Tabulka5[Data],D4021))","v":""},"","","",""]
[null,null,null,null,{"$f":"IF(D4022=\"\",\"\",COUNTIF(Tabulka5[Data],D4022))","v":""},"","","",""]
[null,null,null,null,{"$f":"IF(D4023=\"\",\"\",COUNTIF(Tabulka5[Data],D4023))","v":""},"","","",""]
[null,null,null,null,{"$f":"IF(D4024=\"\",\"\",COUNTIF(Tabulka5[Data],D4024))","v":""},"","","",""]
[null,null,null,null,{"$f":"IF(D4025=\"\",\"\",COUNTIF(Tabulka5[Data],D4025))","v":""},"","","",""]
[null,null,null,null,{"$f":"IF(D4026=\"\",\"\",COUNTIF(Tabulka5[Data],D4026))","v":""},"","","",""]
[null,null,null,null,{"$f":"IF(D4027=\"\",\"\",COUNTIF(Tabulka5[Data],D4027))","v":""},"","","",""]
[null,null,null,null,{"$f":"IF(D4028=\"\",\"\",COUNTIF(Tabulka5[Data],D4028))","v":""},"","","",""]
[null,null,null,null,{"$f":"IF(D4029=\"\",\"\",COUNTIF(Tabulka5[Data],D4029))","v":""},"","","",""]
[null,null,null,null,{"$f":"IF(D4030=\"\",\"\",COUNTIF(Tabulka5[Data],D4030))","v":""},"","","",""]
[null,null,null,null,{"$f":"IF(D4031=\"\",\"\",COUNTIF(Tabulka5[Data],D4031))","v":""},"","","",""]
[null,null,null,null,{"$f":"IF(D4032=\"\",\"\",COUNTIF(Tabulka5[Data],D4032))","v":""},"","","",""]
[null,null,null,null,{"$f":"IF(D4033=\"\",\"\",COUNTIF(Tabulka5[Data],D4033))","v":""},"","","",""]
[null,null,null,null,{"$f":"IF(D4034=\"\",\"\",COUNTIF(Tabulka5[Data],D4034))","v":""},"","","",""]
[null,null,null,null,{"$f":"IF(D4035=\"\",\"\",COUNTIF(Tabulka5[Data],D4035))","v":""},"","","",""]
[null,null,null,null,{"$f":"IF(D4036=\"\",\"\",COUNTIF(Tabulka5[Data],D4036))","v":""},"","","",""]
[null,null,null,null,{"$f":"IF(D4037=\"\",\"\",COUNTIF(Tabulka5[Data],D4037))","v":""},"","","",""]
[null,null,null,null,{"$f":"IF(D4038=\"\",\"\",COUNTIF(Tabulka5[Data],D4038))","v":""},"","","",""]
[null,null,null,null,{"$f":"IF(D4039=\"\",\"\",COUNTIF(Tabulka5[Data],D4039))","v":""},"","","",""]
[null,null,null,null,{"$f":"IF(D4040=\"\",\"\",COUNTIF(Tabulka5[Data],D4040))","v":""},"","","",""]
[null,null,null,null,{"$f":"IF(D4041=\"\",\"\",COUNTIF(Tabulka5[Data],D4041))","v":""},"","","",""]
[null,null,null,null,{"$f":"IF(D4042=\"\",\"\",COUNTIF(Tabulka5[Data],D4042))","v":""},"","","",""]
[null,null,null,null,{"$f":"IF(D4043=\"\",\"\",COUNTIF(Tabulka5[Data],D4043))","v":""},"","","",""]
[null,null,null,null,{"$f":"IF(D4044=\"\",\"\",COUNTIF(Tabulka5[Data],D4044))","v":""},"","","",""]
[null,null,null,null,{"$f":"IF(D4045=\"\",\"\",COUNTIF(Tabulka5[Data],D4045))","v":""},"","","",""]
[null,null,null,null,{"$f":"IF(D4046=\"\",\"\",COUNTIF(Tabulka5[Data],D4046))","v":""},"","","",""]
[null,null,null,null,{"$f":"IF(D4047=\"\",\"\",COUNTIF(Tabulka5[Data],D4047))","v":""},"","","",""]
[null,null,null,null,{"$f":"IF(D4048=\"\",\"\",COUNTIF(Tabulka5[Data],D4048))","v":""},"","","",""]
[null,null,null,null,{"$f":"IF(D4049=\"\",\"\",COUNTIF(Tabulka5[Data],D4049))","v":""},{"$f":"IF(OR($K$11=0,D4049=\"\"),\"\",IF(D4050=\"\",1-I4048,ROUND(E4049/SUM($E$15:$E$6350),3)))","v":""},{"$f":"IF(OR(D4049=\"\",$A$11=\"nominální\"),\"\",G4048+E4049)","v":""},{"$f":"IF(OR($K$11=0,D4049=\"\",$A$11=\"nominální\"),\"\",H4048+F4049)","v":""},{"$f":"IF(OR($K$11=0,D4049=\"\"),\"\",I4048+F4049)","v":""}]
[null,null,null,null,{"$f":"IF(D4050=\"\",\"\",COUNTIF(Tabulka5[Data],D4050))","v":""},"","","",""]
[null,null,null,null,{"$f":"IF(D4051=\"\",\"\",COUNTIF(Tabulka5[Data],D4051))","v":""},"","","",""]
[null,null,null,null,{"$f":"IF(D4052=\"\",\"\",COUNTIF(Tabulka5[Data],D4052))","v":""},"","","",""]
[null,null,null,null,{"$f":"IF(D4053=\"\",\"\",COUNTIF(Tabulka5[Data],D4053))","v":""},"","","",""]
[null,null,null,null,{"$f":"IF(D4054=\"\",\"\",COUNTIF(Tabulka5[Data],D4054))","v":""},"","","",""]
[null,null,null,null,{"$f":"IF(D4055=\"\",\"\",COUNTIF(Tabulka5[Data],D4055))","v":""},"","","",""]
[null,null,null,null,{"$f":"IF(D4056=\"\",\"\",COUNTIF(Tabulka5[Data],D4056))","v":""},"","","",""]
[null,null,null,null,{"$f":"IF(D4057=\"\",\"\",COUNTIF(Tabulka5[Data],D4057))","v":""},"","","",""]
[null,null,null,null,{"$f":"IF(D4058=\"\",\"\",COUNTIF(Tabulka5[Data],D4058))","v":""},"","","",""]
[null,null,null,null,{"$f":"IF(D4059=\"\",\"\",COUNTIF(Tabulka5[Data],D4059))","v":""},"","","",""]
[null,null,null,null,{"$f":"IF(D4060=\"\",\"\",COUNTIF(Tabulka5[Data],D4060))","v":""},"","","",""]
[null,null,null,null,{"$f":"IF(D4061=\"\",\"\",COUNTIF(Tabulka5[Data],D4061))","v":""},"","","",""]
[null,null,null,null,{"$f":"IF(D4062=\"\",\"\",COUNTIF(Tabulka5[Data],D4062))","v":""},"","","",""]
[null,null,null,null,{"$f":"IF(D4063=\"\",\"\",COUNTIF(Tabulka5[Data],D4063))","v":""},"","","",""]
[null,null,null,null,{"$f":"IF(D4064=\"\",\"\",COUNTIF(Tabulka5[Data],D4064))","v":""},"","","",""]
[null,null,null,null,{"$f":"IF(D4065=\"\",\"\",COUNTIF(Tabulka5[Data],D4065))","v":""},"","","",""]
[null,null,null,null,{"$f":"IF(D4066=\"\",\"\",COUNTIF(Tabulka5[Data],D4066))","v":""},"","","",""]
[null,null,null,null,{"$f":"IF(D4067=\"\",\"\",COUNTIF(Tabulka5[Data],D4067))","v":""},"","","",""]
[null,null,null,null,{"$f":"IF(D4068=\"\",\"\",COUNTIF(Tabulka5[Data],D4068))","v":""},"","","",""]
[null,null,null,null,{"$f":"IF(D4069=\"\",\"\",COUNTIF(Tabulka5[Data],D4069))","v":""},"","","",""]
[null,null,null,null,{"$f":"IF(D4070=\"\",\"\",COUNTIF(Tabulka5[Data],D4070))","v":""},"","","",""]
[null,null,null,null,{"$f":"IF(D4071=\"\",\"\",COUNTIF(Tabulka5[Data],D4071))","v":""},"","","",""]
[null,null,null,null,{"$f":"IF(D4072=\"\",\"\",COUNTIF(Tabulka5[Data],D4072))","v":""},"","","",""]
[null,null,null,null,{"$f":"IF(D4073=\"\",\"\",COUNTIF(Tabulka5[Data],D4073))","v":""},"","","",""]
[null,null,null,null,{"$f":"IF(D4074=\"\",\"\",COUNTIF(Tabulka5[Data],D4074))","v":""},"","","",""]
[null,null,null,null,{"$f":"IF(D4075=\"\",\"\",COUNTIF(Tabulka5[Data],D4075))","v":""},"","","",""]
[null,null,null,null,{"$f":"IF(D4076=\"\",\"\",COUNTIF(Tabulka5[Data],D4076))","v":""},"","","",""]
[null,null,null,null,{"$f":"IF(D4077=\"\",\"\",COUNTIF(Tabulka5[Data],D4077))","v":""},"","","",""]
[null,null,null,null,{"$f":"IF(D4078=\"\",\"\",COUNTIF(Tabulka5[Data],D4078))","v":""},"","","",""]
[null,null,null,null,{"$f":"IF(D4079=\"\",\"\",COUNTIF(Tabulka5[Data],D4079))","v":""},"","","",""]
[null,null,null,null,{"$f":"IF(D4080=\"\",\"\",COUNTIF(Tabulka5[Data],D4080))","v":""},"","","",""]
[null,null,null,null,{"$f":"IF(D4081=\"\",\"\",COUNTIF(Tabulka5[Data],D4081))","v":""},"","","",""]
[null,null,null,null,{"$f":"IF(D4082=\"\",\"\",COUNTIF(Tabulka5[Data],D4082))","v":""},"","","",""]
[null,null,null,null,{"$f":"IF(D4083=\"\",\"\",COUNTIF(Tabulka5[Data],D4083))","v":""},"","","",""]
[null,null,null,null,{"$f":"IF(D4084=\"\",\"\",COUNTIF(Tabulka5[Data],D4084))","v":""},"","","",""]
[null,null,null,null,{"$f":"IF(D4085=\"\",\"\",COUNTIF(Tabulka5[Data],D4085))","v":""},"","","",""]
[null,null,null,null,{"$f":"IF(D4086=\"\",\"\",COUNTIF(Tabulka5[Data],D4086))","v":""},"","","",""]
[null,null,null,null,{"$f":"IF(D4087=\"\",\"\",COUNTIF(Tabulka5[Data],D4087))","v":""},"","","",""]
[null,null,null,null,{"$f":"IF(D4088=\"\",\"\",COUNTIF(Tabulka5[Data],D4088))","v":""},"","","",""]
[null,null,null,null,{"$f":"IF(D4089=\"\",\"\",COUNTIF(Tabulka5[Data],D4089))","v":""},"","","",""]
[null,null,null,null,{"$f":"IF(D4090=\"\",\"\",COUNTIF(Tabulka5[Data],D4090))","v":""},"","","",""]
[null,null,null,null,{"$f":"IF(D4091=\"\",\"\",COUNTIF(Tabulka5[Data],D4091))","v":""},"","","",""]
[null,null,null,null,{"$f":"IF(D4092=\"\",\"\",COUNTIF(Tabulka5[Data],D4092))","v":""},"","","",""]
[null,null,null,null,{"$f":"IF(D4093=\"\",\"\",COUNTIF(Tabulka5[Data],D4093))","v":""},"","","",""]
[null,null,null,null,{"$f":"IF(D4094=\"\",\"\",COUNTIF(Tabulka5[Data],D4094))","v":""},"","","",""]
[null,null,null,null,{"$f":"IF(D4095=\"\",\"\",COUNTIF(Tabulka5[Data],D4095))","v":""},"","","",""]
[null,null,null,null,{"$f":"IF(D4096=\"\",\"\",COUNTIF(Tabulka5[Data],D4096))","v":""},"","","",""]
[null,null,null,null,{"$f":"IF(D4097=\"\",\"\",COUNTIF(Tabulka5[Data],D4097))","v":""},"","","",""]
[null,null,null,null,{"$f":"IF(D4098=\"\",\"\",COUNTIF(Tabulka5[Data],D4098))","v":""},"","","",""]
[null,null,null,null,{"$f":"IF(D4099=\"\",\"\",COUNTIF(Tabulka5[Data],D4099))","v":""},"","","",""]
[null,null,null,null,{"$f":"IF(D4100=\"\",\"\",COUNTIF(Tabulka5[Data],D4100))","v":""},"","","",""]
[null,null,null,null,{"$f":"IF(D4101=\"\",\"\",COUNTIF(Tabulka5[Data],D4101))","v":""},"","","",""]
[null,null,null,null,{"$f":"IF(D4102=\"\",\"\",COUNTIF(Tabulka5[Data],D4102))","v":""},"","","",""]
[null,null,null,null,{"$f":"IF(D4103=\"\",\"\",COUNTIF(Tabulka5[Data],D4103))","v":""},"","","",""]
[null,null,null,null,{"$f":"IF(D4104=\"\",\"\",COUNTIF(Tabulka5[Data],D4104))","v":""},"","","",""]
[null,null,null,null,{"$f":"IF(D4105=\"\",\"\",COUNTIF(Tabulka5[Data],D4105))","v":""},"","","",""]
[null,null,null,null,{"$f":"IF(D4106=\"\",\"\",COUNTIF(Tabulka5[Data],D4106))","v":""},"","","",""]
[null,null,null,null,{"$f":"IF(D4107=\"\",\"\",COUNTIF(Tabulka5[Data],D4107))","v":""},"","","",""]
[null,null,null,null,{"$f":"IF(D4108=\"\",\"\",COUNTIF(Tabulka5[Data],D4108))","v":""},"","","",""]
[null,null,null,null,{"$f":"IF(D4109=\"\",\"\",COUNTIF(Tabulka5[Data],D4109))","v":""},"","","",""]
[null,null,null,null,{"$f":"IF(D4110=\"\",\"\",COUNTIF(Tabulka5[Data],D4110))","v":""},"","","",""]
[null,null,null,null,{"$f":"IF(D4111=\"\",\"\",COUNTIF(Tabulka5[Data],D4111))","v":""},"","","",""]
[null,null,null,null,{"$f":"IF(D4112=\"\",\"\",COUNTIF(Tabulka5[Data],D4112))","v":""},"","","",""]
[null,null,null,null,{"$f":"IF(D4113=\"\",\"\",COUNTIF(Tabulka5[Data],D4113))","v":""},{"$f":"IF(OR($K$11=0,D4113=\"\"),\"\",IF(D4114=\"\",1-I4112,ROUND(E4113/SUM($E$15:$E$6350),3)))","v":""},{"$f":"IF(OR(D4113=\"\",$A$11=\"nominální\"),\"\",G4112+E4113)","v":""},{"$f":"IF(OR($K$11=0,D4113=\"\",$A$11=\"nominální\"),\"\",H4112+F4113)","v":""},{"$f":"IF(OR($K$11=0,D4113=\"\"),\"\",I4112+F4113)","v":""}]
[null,null,null,null,{"$f":"IF(D4114=\"\",\"\",COUNTIF(Tabulka5[Data],D4114))","v":""},"","","",""]
[null,null,null,null,{"$f":"IF(D4115=\"\",\"\",COUNTIF(Tabulka5[Data],D4115))","v":""},"","","",""]
[null,null,null,null,{"$f":"IF(D4116=\"\",\"\",COUNTIF(Tabulka5[Data],D4116))","v":""},"","","",""]
[null,null,null,null,{"$f":"IF(D4117=\"\",\"\",COUNTIF(Tabulka5[Data],D4117))","v":""},"","","",""]
[null,null,null,null,{"$f":"IF(D4118=\"\",\"\",COUNTIF(Tabulka5[Data],D4118))","v":""},"","","",""]
[null,null,null,null,{"$f":"IF(D4119=\"\",\"\",COUNTIF(Tabulka5[Data],D4119))","v":""},"","","",""]
[null,null,null,null,{"$f":"IF(D4120=\"\",\"\",COUNTIF(Tabulka5[Data],D4120))","v":""},"","","",""]
[null,null,null,null,{"$f":"IF(D4121=\"\",\"\",COUNTIF(Tabulka5[Data],D4121))","v":""},"","","",""]
[null,null,null,null,{"$f":"IF(D4122=\"\",\"\",COUNTIF(Tabulka5[Data],D4122))","v":""},"","","",""]
[null,null,null,null,{"$f":"IF(D4123=\"\",\"\",COUNTIF(Tabulka5[Data],D4123))","v":""},"","","",""]
[null,null,null,null,{"$f":"IF(D4124=\"\",\"\",COUNTIF(Tabulka5[Data],D4124))","v":""},"","","",""]
[null,null,null,null,{"$f":"IF(D4125=\"\",\"\",COUNTIF(Tabulka5[Data],D4125))","v":""},"","","",""]
[null,null,null,null,{"$f":"IF(D4126=\"\",\"\",COUNTIF(Tabulka5[Data],D4126))","v":""},"","","",""]
[null,null,null,null,{"$f":"IF(D4127=\"\",\"\",COUNTIF(Tabulka5[Data],D4127))","v":""},"","","",""]
[null,null,null,null,{"$f":"IF(D4128=\"\",\"\",COUNTIF(Tabulka5[Data],D4128))","v":""},"","","",""]
[null,null,null,null,{"$f":"IF(D4129=\"\",\"\",COUNTIF(Tabulka5[Data],D4129))","v":""},"","","",""]
[null,null,null,null,{"$f":"IF(D4130=\"\",\"\",COUNTIF(Tabulka5[Data],D4130))","v":""},"","","",""]
[null,null,null,null,{"$f":"IF(D4131=\"\",\"\",COUNTIF(Tabulka5[Data],D4131))","v":""},"","","",""]
[null,null,null,null,{"$f":"IF(D4132=\"\",\"\",COUNTIF(Tabulka5[Data],D4132))","v":""},"","","",""]
[null,null,null,null,{"$f":"IF(D4133=\"\",\"\",COUNTIF(Tabulka5[Data],D4133))","v":""},"","","",""]
[null,null,null,null,{"$f":"IF(D4134=\"\",\"\",COUNTIF(Tabulka5[Data],D4134))","v":""},"","","",""]
[null,null,null,null,{"$f":"IF(D4135=\"\",\"\",COUNTIF(Tabulka5[Data],D4135))","v":""},"","","",""]
[null,null,null,null,{"$f":"IF(D4136=\"\",\"\",COUNTIF(Tabulka5[Data],D4136))","v":""},"","","",""]
[null,null,null,null,{"$f":"IF(D4137=\"\",\"\",COUNTIF(Tabulka5[Data],D4137))","v":""},"","","",""]
[null,null,null,null,{"$f":"IF(D4138=\"\",\"\",COUNTIF(Tabulka5[Data],D4138))","v":""},"","","",""]
[null,null,null,null,{"$f":"IF(D4139=\"\",\"\",COUNTIF(Tabulka5[Data],D4139))","v":""},"","","",""]
[null,null,null,null,{"$f":"IF(D4140=\"\",\"\",COUNTIF(Tabulka5[Data],D4140))","v":""},"","","",""]
[null,null,null,null,{"$f":"IF(D4141=\"\",\"\",COUNTIF(Tabulka5[Data],D4141))","v":""},"","","",""]
[null,null,null,null,{"$f":"IF(D4142=\"\",\"\",COUNTIF(Tabulka5[Data],D4142))","v":""},"","","",""]
[null,null,null,null,{"$f":"IF(D4143=\"\",\"\",COUNTIF(Tabulka5[Data],D4143))","v":""},"","","",""]
[null,null,null,null,{"$f":"IF(D4144=\"\",\"\",COUNTIF(Tabulka5[Data],D4144))","v":""},"","","",""]
[null,null,null,null,{"$f":"IF(D4145=\"\",\"\",COUNTIF(Tabulka5[Data],D4145))","v":""},"","","",""]
[null,null,null,null,{"$f":"IF(D4146=\"\",\"\",COUNTIF(Tabulka5[Data],D4146))","v":""},"","","",""]
[null,null,null,null,{"$f":"IF(D4147=\"\",\"\",COUNTIF(Tabulka5[Data],D4147))","v":""},"","","",""]
[null,null,null,null,{"$f":"IF(D4148=\"\",\"\",COUNTIF(Tabulka5[Data],D4148))","v":""},"","","",""]
[null,null,null,null,{"$f":"IF(D4149=\"\",\"\",COUNTIF(Tabulka5[Data],D4149))","v":""},"","","",""]
[null,null,null,null,{"$f":"IF(D4150=\"\",\"\",COUNTIF(Tabulka5[Data],D4150))","v":""},"","","",""]
[null,null,null,null,{"$f":"IF(D4151=\"\",\"\",COUNTIF(Tabulka5[Data],D4151))","v":""},"","","",""]
[null,null,null,null,{"$f":"IF(D4152=\"\",\"\",COUNTIF(Tabulka5[Data],D4152))","v":""},"","","",""]
[null,null,null,null,{"$f":"IF(D4153=\"\",\"\",COUNTIF(Tabulka5[Data],D4153))","v":""},"","","",""]
[null,null,null,null,{"$f":"IF(D4154=\"\",\"\",COUNTIF(Tabulka5[Data],D4154))","v":""},"","","",""]
[null,null,null,null,{"$f":"IF(D4155=\"\",\"\",COUNTIF(Tabulka5[Data],D4155))","v":""},"","","",""]
[null,null,null,null,{"$f":"IF(D4156=\"\",\"\",COUNTIF(Tabulka5[Data],D4156))","v":""},"","","",""]
[null,null,null,null,{"$f":"IF(D4157=\"\",\"\",COUNTIF(Tabulka5[Data],D4157))","v":""},"","","",""]
[null,null,null,null,{"$f":"IF(D4158=\"\",\"\",COUNTIF(Tabulka5[Data],D4158))","v":""},"","","",""]
[null,null,null,null,{"$f":"IF(D4159=\"\",\"\",COUNTIF(Tabulka5[Data],D4159))","v":""},"","","",""]
[null,null,null,null,{"$f":"IF(D4160=\"\",\"\",COUNTIF(Tabulka5[Data],D4160))","v":""},"","","",""]
[null,null,null,null,{"$f":"IF(D4161=\"\",\"\",COUNTIF(Tabulka5[Data],D4161))","v":""},"","","",""]
[null,null,null,null,{"$f":"IF(D4162=\"\",\"\",COUNTIF(Tabulka5[Data],D4162))","v":""},"","","",""]
[null,null,null,null,{"$f":"IF(D4163=\"\",\"\",COUNTIF(Tabulka5[Data],D4163))","v":""},"","","",""]
[null,null,null,null,{"$f":"IF(D4164=\"\",\"\",COUNTIF(Tabulka5[Data],D4164))","v":""},"","","",""]
[null,null,null,null,{"$f":"IF(D4165=\"\",\"\",COUNTIF(Tabulka5[Data],D4165))","v":""},"","","",""]
[null,null,null,null,{"$f":"IF(D4166=\"\",\"\",COUNTIF(Tabulka5[Data],D4166))","v":""},"","","",""]
[null,null,null,null,{"$f":"IF(D4167=\"\",\"\",COUNTIF(Tabulka5[Data],D4167))","v":""},"","","",""]
[null,null,null,null,{"$f":"IF(D4168=\"\",\"\",COUNTIF(Tabulka5[Data],D4168))","v":""},"","","",""]
[null,null,null,null,{"$f":"IF(D4169=\"\",\"\",COUNTIF(Tabulka5[Data],D4169))","v":""},"","","",""]
[null,null,null,null,{"$f":"IF(D4170=\"\",\"\",COUNTIF(Tabulka5[Data],D4170))","v":""},"","","",""]
[null,null,null,null,{"$f":"IF(D4171=\"\",\"\",COUNTIF(Tabulka5[Data],D4171))","v":""},"","","",""]
[null,null,null,null,{"$f":"IF(D4172=\"\",\"\",COUNTIF(Tabulka5[Data],D4172))","v":""},"","","",""]
[null,null,null,null,{"$f":"IF(D4173=\"\",\"\",COUNTIF(Tabulka5[Data],D4173))","v":""},"","","",""]
[null,null,null,null,{"$f":"IF(D4174=\"\",\"\",COUNTIF(Tabulka5[Data],D4174))","v":""},"","","",""]
[null,null,null,null,{"$f":"IF(D4175=\"\",\"\",COUNTIF(Tabulka5[Data],D4175))","v":""},"","","",""]
[null,null,null,null,{"$f":"IF(D4176=\"\",\"\",COUNTIF(Tabulka5[Data],D4176))","v":""},"","","",""]
[null,null,null,null,{"$f":"IF(D4177=\"\",\"\",COUNTIF(Tabulka5[Data],D4177))","v":""},{"$f":"IF(OR($K$11=0,D4177=\"\"),\"\",IF(D4178=\"\",1-I4176,ROUND(E4177/SUM($E$15:$E$6350),3)))","v":""},{"$f":"IF(OR(D4177=\"\",$A$11=\"nominální\"),\"\",G4176+E4177)","v":""},{"$f":"IF(OR($K$11=0,D4177=\"\",$A$11=\"nominální\"),\"\",H4176+F4177)","v":""},{"$f":"IF(OR($K$11=0,D4177=\"\"),\"\",I4176+F4177)","v":""}]
[null,null,null,null,{"$f":"IF(D4178=\"\",\"\",COUNTIF(Tabulka5[Data],D4178))","v":""},"","","",""]
[null,null,null,null,{"$f":"IF(D4179=\"\",\"\",COUNTIF(Tabulka5[Data],D4179))","v":""},"","","",""]
[null,null,null,null,{"$f":"IF(D4180=\"\",\"\",COUNTIF(Tabulka5[Data],D4180))","v":""},"","","",""]
[null,null,null,null,{"$f":"IF(D4181=\"\",\"\",COUNTIF(Tabulka5[Data],D4181))","v":""},"","","",""]
[null,null,null,null,{"$f":"IF(D4182=\"\",\"\",COUNTIF(Tabulka5[Data],D4182))","v":""},"","","",""]
[null,null,null,null,{"$f":"IF(D4183=\"\",\"\",COUNTIF(Tabulka5[Data],D4183))","v":""},"","","",""]
[null,null,null,null,{"$f":"IF(D4184=\"\",\"\",COUNTIF(Tabulka5[Data],D4184))","v":""},"","","",""]
[null,null,null,null,{"$f":"IF(D4185=\"\",\"\",COUNTIF(Tabulka5[Data],D4185))","v":""},"","","",""]
[null,null,null,null,{"$f":"IF(D4186=\"\",\"\",COUNTIF(Tabulka5[Data],D4186))","v":""},"","","",""]
[null,null,null,null,{"$f":"IF(D4187=\"\",\"\",COUNTIF(Tabulka5[Data],D4187))","v":""},"","","",""]
[null,null,null,null,{"$f":"IF(D4188=\"\",\"\",COUNTIF(Tabulka5[Data],D4188))","v":""},"","","",""]
[null,null,null,null,{"$f":"IF(D4189=\"\",\"\",COUNTIF(Tabulka5[Data],D4189))","v":""},"","","",""]
[null,null,null,null,{"$f":"IF(D4190=\"\",\"\",COUNTIF(Tabulka5[Data],D4190))","v":""},"","","",""]
[null,null,null,null,{"$f":"IF(D4191=\"\",\"\",COUNTIF(Tabulka5[Data],D4191))","v":""},"","","",""]
[null,null,null,null,{"$f":"IF(D4192=\"\",\"\",COUNTIF(Tabulka5[Data],D4192))","v":""},"","","",""]
[null,null,null,null,{"$f":"IF(D4193=\"\",\"\",COUNTIF(Tabulka5[Data],D4193))","v":""},"","","",""]
[null,null,null,null,{"$f":"IF(D4194=\"\",\"\",COUNTIF(Tabulka5[Data],D4194))","v":""},"","","",""]
[null,null,null,null,{"$f":"IF(D4195=\"\",\"\",COUNTIF(Tabulka5[Data],D4195))","v":""},"","","",""]
[null,null,null,null,{"$f":"IF(D4196=\"\",\"\",COUNTIF(Tabulka5[Data],D4196))","v":""},"","","",""]
[null,null,null,null,{"$f":"IF(D4197=\"\",\"\",COUNTIF(Tabulka5[Data],D4197))","v":""},"","","",""]
[null,null,null,null,{"$f":"IF(D4198=\"\",\"\",COUNTIF(Tabulka5[Data],D4198))","v":""},"","","",""]
[null,null,null,null,{"$f":"IF(D4199=\"\",\"\",COUNTIF(Tabulka5[Data],D4199))","v":""},"","","",""]
[null,null,null,null,{"$f":"IF(D4200=\"\",\"\",COUNTIF(Tabulka5[Data],D4200))","v":""},"","","",""]
[null,null,null,null,{"$f":"IF(D4201=\"\",\"\",COUNTIF(Tabulka5[Data],D4201))","v":""},"","","",""]
[null,null,null,null,{"$f":"IF(D4202=\"\",\"\",COUNTIF(Tabulka5[Data],D4202))","v":""},"","","",""]
[null,null,null,null,{"$f":"IF(D4203=\"\",\"\",COUNTIF(Tabulka5[Data],D4203))","v":""},"","","",""]
[null,null,null,null,{"$f":"IF(D4204=\"\",\"\",COUNTIF(Tabulka5[Data],D4204))","v":""},"","","",""]
[null,null,null,null,{"$f":"IF(D4205=\"\",\"\",COUNTIF(Tabulka5[Data],D4205))","v":""},"","","",""]
[null,null,null,null,{"$f":"IF(D4206=\"\",\"\",COUNTIF(Tabulka5[Data],D4206))","v":""},"","","",""]
[null,null,null,null,{"$f":"IF(D4207=\"\",\"\",COUNTIF(Tabulka5[Data],D4207))","v":""},"","","",""]
[null,null,null,null,{"$f":"IF(D4208=\"\",\"\",COUNTIF(Tabulka5[Data],D4208))","v":""},"","","",""]
[null,null,null,null,{"$f":"IF(D4209=\"\",\"\",COUNTIF(Tabulka5[Data],D4209))","v":""},"","","",""]
[null,null,null,null,{"$f":"IF(D4210=\"\",\"\",COUNTIF(Tabulka5[Data],D4210))","v":""},"","","",""]
[null,null,null,null,{"$f":"IF(D4211=\"\",\"\",COUNTIF(Tabulka5[Data],D4211))","v":""},"","","",""]
[null,null,null,null,{"$f":"IF(D4212=\"\",\"\",COUNTIF(Tabulka5[Data],D4212))","v":""},"","","",""]
[null,null,null,null,{"$f":"IF(D4213=\"\",\"\",COUNTIF(Tabulka5[Data],D4213))","v":""},"","","",""]
[null,null,null,null,{"$f":"IF(D4214=\"\",\"\",COUNTIF(Tabulka5[Data],D4214))","v":""},"","","",""]
[null,null,null,null,{"$f":"IF(D4215=\"\",\"\",COUNTIF(Tabulka5[Data],D4215))","v":""},"","","",""]
[null,null,null,null,{"$f":"IF(D4216=\"\",\"\",COUNTIF(Tabulka5[Data],D4216))","v":""},"","","",""]
[null,null,null,null,{"$f":"IF(D4217=\"\",\"\",COUNTIF(Tabulka5[Data],D4217))","v":""},"","","",""]
[null,null,null,null,{"$f":"IF(D4218=\"\",\"\",COUNTIF(Tabulka5[Data],D4218))","v":""},"","","",""]
[null,null,null,null,{"$f":"IF(D4219=\"\",\"\",COUNTIF(Tabulka5[Data],D4219))","v":""},"","","",""]
[null,null,null,null,{"$f":"IF(D4220=\"\",\"\",COUNTIF(Tabulka5[Data],D4220))","v":""},"","","",""]
[null,null,null,null,{"$f":"IF(D4221=\"\",\"\",COUNTIF(Tabulka5[Data],D4221))","v":""},"","","",""]
[null,null,null,null,{"$f":"IF(D4222=\"\",\"\",COUNTIF(Tabulka5[Data],D4222))","v":""},"","","",""]
[null,null,null,null,{"$f":"IF(D4223=\"\",\"\",COUNTIF(Tabulka5[Data],D4223))","v":""},"","","",""]
[null,null,null,null,{"$f":"IF(D4224=\"\",\"\",COUNTIF(Tabulka5[Data],D4224))","v":""},"","","",""]
[null,null,null,null,{"$f":"IF(D4225=\"\",\"\",COUNTIF(Tabulka5[Data],D4225))","v":""},"","","",""]
[null,null,null,null,{"$f":"IF(D4226=\"\",\"\",COUNTIF(Tabulka5[Data],D4226))","v":""},"","","",""]
[null,null,null,null,{"$f":"IF(D4227=\"\",\"\",COUNTIF(Tabulka5[Data],D4227))","v":""},"","","",""]
[null,null,null,null,{"$f":"IF(D4228=\"\",\"\",COUNTIF(Tabulka5[Data],D4228))","v":""},"","","",""]
[null,null,null,null,{"$f":"IF(D4229=\"\",\"\",COUNTIF(Tabulka5[Data],D4229))","v":""},"","","",""]
[null,null,null,null,{"$f":"IF(D4230=\"\",\"\",COUNTIF(Tabulka5[Data],D4230))","v":""},"","","",""]
[null,null,null,null,{"$f":"IF(D4231=\"\",\"\",COUNTIF(Tabulka5[Data],D4231))","v":""},"","","",""]
[null,null,null,null,{"$f":"IF(D4232=\"\",\"\",COUNTIF(Tabulka5[Data],D4232))","v":""},"","","",""]
[null,null,null,null,{"$f":"IF(D4233=\"\",\"\",COUNTIF(Tabulka5[Data],D4233))","v":""},"","","",""]
[null,null,null,null,{"$f":"IF(D4234=\"\",\"\",COUNTIF(Tabulka5[Data],D4234))","v":""},"","","",""]
[null,null,null,null,{"$f":"IF(D4235=\"\",\"\",COUNTIF(Tabulka5[Data],D4235))","v":""},"","","",""]
[null,null,null,null,{"$f":"IF(D4236=\"\",\"\",COUNTIF(Tabulka5[Data],D4236))","v":""},"","","",""]
[null,null,null,null,{"$f":"IF(D4237=\"\",\"\",COUNTIF(Tabulka5[Data],D4237))","v":""},"","","",""]
[null,null,null,null,{"$f":"IF(D4238=\"\",\"\",COUNTIF(Tabulka5[Data],D4238))","v":""},"","","",""]
[null,null,null,null,{"$f":"IF(D4239=\"\",\"\",COUNTIF(Tabulka5[Data],D4239))","v":""},"","","",""]
[null,null,null,null,{"$f":"IF(D4240=\"\",\"\",COUNTIF(Tabulka5[Data],D4240))","v":""},"","","",""]
[null,null,null,null,{"$f":"IF(D4241=\"\",\"\",COUNTIF(Tabulka5[Data],D4241))","v":""},{"$f":"IF(OR($K$11=0,D4241=\"\"),\"\",IF(D4242=\"\",1-I4240,ROUND(E4241/SUM($E$15:$E$6350),3)))","v":""},{"$f":"IF(OR(D4241=\"\",$A$11=\"nominální\"),\"\",G4240+E4241)","v":""},{"$f":"IF(OR($K$11=0,D4241=\"\",$A$11=\"nominální\"),\"\",H4240+F4241)","v":""},{"$f":"IF(OR($K$11=0,D4241=\"\"),\"\",I4240+F4241)","v":""}]
[null,null,null,null,{"$f":"IF(D4242=\"\",\"\",COUNTIF(Tabulka5[Data],D4242))","v":""},"","","",""]
[null,null,null,null,{"$f":"IF(D4243=\"\",\"\",COUNTIF(Tabulka5[Data],D4243))","v":""},"","","",""]
[null,null,null,null,{"$f":"IF(D4244=\"\",\"\",COUNTIF(Tabulka5[Data],D4244))","v":""},"","","",""]
[null,null,null,null,{"$f":"IF(D4245=\"\",\"\",COUNTIF(Tabulka5[Data],D4245))","v":""},"","","",""]
[null,null,null,null,{"$f":"IF(D4246=\"\",\"\",COUNTIF(Tabulka5[Data],D4246))","v":""},"","","",""]
[null,null,null,null,{"$f":"IF(D4247=\"\",\"\",COUNTIF(Tabulka5[Data],D4247))","v":""},"","","",""]
[null,null,null,null,{"$f":"IF(D4248=\"\",\"\",COUNTIF(Tabulka5[Data],D4248))","v":""},"","","",""]
[null,null,null,null,{"$f":"IF(D4249=\"\",\"\",COUNTIF(Tabulka5[Data],D4249))","v":""},"","","",""]
[null,null,null,null,{"$f":"IF(D4250=\"\",\"\",COUNTIF(Tabulka5[Data],D4250))","v":""},"","","",""]
[null,null,null,null,{"$f":"IF(D4251=\"\",\"\",COUNTIF(Tabulka5[Data],D4251))","v":""},"","","",""]
[null,null,null,null,{"$f":"IF(D4252=\"\",\"\",COUNTIF(Tabulka5[Data],D4252))","v":""},"","","",""]
[null,null,null,null,{"$f":"IF(D4253=\"\",\"\",COUNTIF(Tabulka5[Data],D4253))","v":""},"","","",""]
[null,null,null,null,{"$f":"IF(D4254=\"\",\"\",COUNTIF(Tabulka5[Data],D4254))","v":""},"","","",""]
[null,null,null,null,{"$f":"IF(D4255=\"\",\"\",COUNTIF(Tabulka5[Data],D4255))","v":""},"","","",""]
[null,null,null,null,{"$f":"IF(D4256=\"\",\"\",COUNTIF(Tabulka5[Data],D4256))","v":""},"","","",""]
[null,null,null,null,{"$f":"IF(D4257=\"\",\"\",COUNTIF(Tabulka5[Data],D4257))","v":""},"","","",""]
[null,null,null,null,{"$f":"IF(D4258=\"\",\"\",COUNTIF(Tabulka5[Data],D4258))","v":""},"","","",""]
[null,null,null,null,{"$f":"IF(D4259=\"\",\"\",COUNTIF(Tabulka5[Data],D4259))","v":""},"","","",""]
[null,null,null,null,{"$f":"IF(D4260=\"\",\"\",COUNTIF(Tabulka5[Data],D4260))","v":""},"","","",""]
[null,null,null,null,{"$f":"IF(D4261=\"\",\"\",COUNTIF(Tabulka5[Data],D4261))","v":""},"","","",""]
[null,null,null,null,{"$f":"IF(D4262=\"\",\"\",COUNTIF(Tabulka5[Data],D4262))","v":""},"","","",""]
[null,null,null,null,{"$f":"IF(D4263=\"\",\"\",COUNTIF(Tabulka5[Data],D4263))","v":""},"","","",""]
[null,null,null,null,{"$f":"IF(D4264=\"\",\"\",COUNTIF(Tabulka5[Data],D4264))","v":""},"","","",""]
[null,null,null,null,{"$f":"IF(D4265=\"\",\"\",COUNTIF(Tabulka5[Data],D4265))","v":""},"","","",""]
[null,null,null,null,{"$f":"IF(D4266=\"\",\"\",COUNTIF(Tabulka5[Data],D4266))","v":""},"","","",""]
[null,null,null,null,{"$f":"IF(D4267=\"\",\"\",COUNTIF(Tabulka5[Data],D4267))","v":""},"","","",""]
[null,null,null,null,{"$f":"IF(D4268=\"\",\"\",COUNTIF(Tabulka5[Data],D4268))","v":""},"","","",""]
[null,null,null,null,{"$f":"IF(D4269=\"\",\"\",COUNTIF(Tabulka5[Data],D4269))","v":""},"","","",""]
[null,null,null,null,{"$f":"IF(D4270=\"\",\"\",COUNTIF(Tabulka5[Data],D4270))","v":""},"","","",""]
[null,null,null,null,{"$f":"IF(D4271=\"\",\"\",COUNTIF(Tabulka5[Data],D4271))","v":""},"","","",""]
[null,null,null,null,{"$f":"IF(D4272=\"\",\"\",COUNTIF(Tabulka5[Data],D4272))","v":""},"","","",""]
[null,null,null,null,{"$f":"IF(D4273=\"\",\"\",COUNTIF(Tabulka5[Data],D4273))","v":""},"","","",""]
[null,null,null,null,{"$f":"IF(D4274=\"\",\"\",COUNTIF(Tabulka5[Data],D4274))","v":""},"","","",""]
[null,null,null,null,{"$f":"IF(D4275=\"\",\"\",COUNTIF(Tabulka5[Data],D4275))","v":""},"","","",""]
[null,null,null,null,{"$f":"IF(D4276=\"\",\"\",COUNTIF(Tabulka5[Data],D4276))","v":""},"","","",""]
[null,null,null,null,{"$f":"IF(D4277=\"\",\"\",COUNTIF(Tabulka5[Data],D4277))","v":""},"","","",""]
[null,null,null,null,{"$f":"IF(D4278=\"\",\"\",COUNTIF(Tabulka5[Data],D4278))","v":""},"","","",""]
[null,null,null,null,{"$f":"IF(D4279=\"\",\"\",COUNTIF(Tabulka5[Data],D4279))","v":""},"","","",""]
[null,null,null,null,{"$f":"IF(D4280=\"\",\"\",COUNTIF(Tabulka5[Data],D4280))","v":""},"","","",""]
[null,null,null,null,{"$f":"IF(D4281=\"\",\"\",COUNTIF(Tabulka5[Data],D4281))","v":""},"","","",""]
[null,null,null,null,{"$f":"IF(D4282=\"\",\"\",COUNTIF(Tabulka5[Data],D4282))","v":""},"","","",""]
[null,null,null,null,{"$f":"IF(D4283=\"\",\"\",COUNTIF(Tabulka5[Data],D4283))","v":""},"","","",""]
[null,null,null,null,{"$f":"IF(D4284=\"\",\"\",COUNTIF(Tabulka5[Data],D4284))","v":""},"","","",""]
[null,null,null,null,{"$f":"IF(D4285=\"\",\"\",COUNTIF(Tabulka5[Data],D4285))","v":""},"","","",""]
[null,null,null,null,{"$f":"IF(D4286=\"\",\"\",COUNTIF(Tabulka5[Data],D4286))","v":""},"","","",""]
[null,null,null,null,{"$f":"IF(D4287=\"\",\"\",COUNTIF(Tabulka5[Data],D4287))","v":""},"","","",""]
[null,null,null,null,{"$f":"IF(D4288=\"\",\"\",COUNTIF(Tabulka5[Data],D4288))","v":""},"","","",""]
[null,null,null,null,{"$f":"IF(D4289=\"\",\"\",COUNTIF(Tabulka5[Data],D4289))","v":""},"","","",""]
[null,null,null,null,{"$f":"IF(D4290=\"\",\"\",COUNTIF(Tabulka5[Data],D4290))","v":""},"","","",""]
[null,null,null,null,{"$f":"IF(D4291=\"\",\"\",COUNTIF(Tabulka5[Data],D4291))","v":""},"","","",""]
[null,null,null,null,{"$f":"IF(D4292=\"\",\"\",COUNTIF(Tabulka5[Data],D4292))","v":""},"","","",""]
[null,null,null,null,{"$f":"IF(D4293=\"\",\"\",COUNTIF(Tabulka5[Data],D4293))","v":""},"","","",""]
[null,null,null,null,{"$f":"IF(D4294=\"\",\"\",COUNTIF(Tabulka5[Data],D4294))","v":""},"","","",""]
[null,null,null,null,{"$f":"IF(D4295=\"\",\"\",COUNTIF(Tabulka5[Data],D4295))","v":""},"","","",""]
[null,null,null,null,{"$f":"IF(D4296=\"\",\"\",COUNTIF(Tabulka5[Data],D4296))","v":""},"","","",""]
[null,null,null,null,{"$f":"IF(D4297=\"\",\"\",COUNTIF(Tabulka5[Data],D4297))","v":""},"","","",""]
[null,null,null,null,{"$f":"IF(D4298=\"\",\"\",COUNTIF(Tabulka5[Data],D4298))","v":""},"","","",""]
[null,null,null,null,{"$f":"IF(D4299=\"\",\"\",COUNTIF(Tabulka5[Data],D4299))","v":""},"","","",""]
[null,null,null,null,{"$f":"IF(D4300=\"\",\"\",COUNTIF(Tabulka5[Data],D4300))","v":""},"","","",""]
[null,null,null,null,{"$f":"IF(D4301=\"\",\"\",COUNTIF(Tabulka5[Data],D4301))","v":""},"","","",""]
[null,null,null,null,{"$f":"IF(D4302=\"\",\"\",COUNTIF(Tabulka5[Data],D4302))","v":""},"","","",""]
[null,null,null,null,{"$f":"IF(D4303=\"\",\"\",COUNTIF(Tabulka5[Data],D4303))","v":""},"","","",""]
[null,null,null,null,{"$f":"IF(D4304=\"\",\"\",COUNTIF(Tabulka5[Data],D4304))","v":""},"","","",""]
[null,null,null,null,{"$f":"IF(D4305=\"\",\"\",COUNTIF(Tabulka5[Data],D4305))","v":""},{"$f":"IF(OR($K$11=0,D4305=\"\"),\"\",IF(D4306=\"\",1-I4304,ROUND(E4305/SUM($E$15:$E$6350),3)))","v":""},{"$f":"IF(OR(D4305=\"\",$A$11=\"nominální\"),\"\",G4304+E4305)","v":""},{"$f":"IF(OR($K$11=0,D4305=\"\",$A$11=\"nominální\"),\"\",H4304+F4305)","v":""},{"$f":"IF(OR($K$11=0,D4305=\"\"),\"\",I4304+F4305)","v":""}]
[null,null,null,null,{"$f":"IF(D4306=\"\",\"\",COUNTIF(Tabulka5[Data],D4306))","v":""},"","","",""]
[null,null,null,null,{"$f":"IF(D4307=\"\",\"\",COUNTIF(Tabulka5[Data],D4307))","v":""},"","","",""]
[null,null,null,null,{"$f":"IF(D4308=\"\",\"\",COUNTIF(Tabulka5[Data],D4308))","v":""},"","","",""]
[null,null,null,null,{"$f":"IF(D4309=\"\",\"\",COUNTIF(Tabulka5[Data],D4309))","v":""},"","","",""]
[null,null,null,null,{"$f":"IF(D4310=\"\",\"\",COUNTIF(Tabulka5[Data],D4310))","v":""},"","","",""]
[null,null,null,null,{"$f":"IF(D4311=\"\",\"\",COUNTIF(Tabulka5[Data],D4311))","v":""},"","","",""]
[null,null,null,null,{"$f":"IF(D4312=\"\",\"\",COUNTIF(Tabulka5[Data],D4312))","v":""},"","","",""]
[null,null,null,null,{"$f":"IF(D4313=\"\",\"\",COUNTIF(Tabulka5[Data],D4313))","v":""},"","","",""]
[null,null,null,null,{"$f":"IF(D4314=\"\",\"\",COUNTIF(Tabulka5[Data],D4314))","v":""},"","","",""]
[null,null,null,null,{"$f":"IF(D4315=\"\",\"\",COUNTIF(Tabulka5[Data],D4315))","v":""},"","","",""]
[null,null,null,null,{"$f":"IF(D4316=\"\",\"\",COUNTIF(Tabulka5[Data],D4316))","v":""},"","","",""]
[null,null,null,null,{"$f":"IF(D4317=\"\",\"\",COUNTIF(Tabulka5[Data],D4317))","v":""},"","","",""]
[null,null,null,null,{"$f":"IF(D4318=\"\",\"\",COUNTIF(Tabulka5[Data],D4318))","v":""},"","","",""]
[null,null,null,null,{"$f":"IF(D4319=\"\",\"\",COUNTIF(Tabulka5[Data],D4319))","v":""},"","","",""]
[null,null,null,null,{"$f":"IF(D4320=\"\",\"\",COUNTIF(Tabulka5[Data],D4320))","v":""},"","","",""]
[null,null,null,null,{"$f":"IF(D4321=\"\",\"\",COUNTIF(Tabulka5[Data],D4321))","v":""},"","","",""]
[null,null,null,null,{"$f":"IF(D4322=\"\",\"\",COUNTIF(Tabulka5[Data],D4322))","v":""},"","","",""]
[null,null,null,null,{"$f":"IF(D4323=\"\",\"\",COUNTIF(Tabulka5[Data],D4323))","v":""},"","","",""]
[null,null,null,null,{"$f":"IF(D4324=\"\",\"\",COUNTIF(Tabulka5[Data],D4324))","v":""},"","","",""]
[null,null,null,null,{"$f":"IF(D4325=\"\",\"\",COUNTIF(Tabulka5[Data],D4325))","v":""},"","","",""]
[null,null,null,null,{"$f":"IF(D4326=\"\",\"\",COUNTIF(Tabulka5[Data],D4326))","v":""},"","","",""]
[null,null,null,null,{"$f":"IF(D4327=\"\",\"\",COUNTIF(Tabulka5[Data],D4327))","v":""},"","","",""]
[null,null,null,null,{"$f":"IF(D4328=\"\",\"\",COUNTIF(Tabulka5[Data],D4328))","v":""},"","","",""]
[null,null,null,null,{"$f":"IF(D4329=\"\",\"\",COUNTIF(Tabulka5[Data],D4329))","v":""},"","","",""]
[null,null,null,null,{"$f":"IF(D4330=\"\",\"\",COUNTIF(Tabulka5[Data],D4330))","v":""},"","","",""]
[null,null,null,null,{"$f":"IF(D4331=\"\",\"\",COUNTIF(Tabulka5[Data],D4331))","v":""},"","","",""]
[null,null,null,null,{"$f":"IF(D4332=\"\",\"\",COUNTIF(Tabulka5[Data],D4332))","v":""},"","","",""]
[null,null,null,null,{"$f":"IF(D4333=\"\",\"\",COUNTIF(Tabulka5[Data],D4333))","v":""},"","","",""]
[null,null,null,null,{"$f":"IF(D4334=\"\",\"\",COUNTIF(Tabulka5[Data],D4334))","v":""},"","","",""]
[null,null,null,null,{"$f":"IF(D4335=\"\",\"\",COUNTIF(Tabulka5[Data],D4335))","v":""},"","","",""]
[null,null,null,null,{"$f":"IF(D4336=\"\",\"\",COUNTIF(Tabulka5[Data],D4336))","v":""},"","","",""]
[null,null,null,null,{"$f":"IF(D4337=\"\",\"\",COUNTIF(Tabulka5[Data],D4337))","v":""},"","","",""]
[null,null,null,null,{"$f":"IF(D4338=\"\",\"\",COUNTIF(Tabulka5[Data],D4338))","v":""},"","","",""]
[null,null,null,null,{"$f":"IF(D4339=\"\",\"\",COUNTIF(Tabulka5[Data],D4339))","v":""},"","","",""]
[null,null,null,null,{"$f":"IF(D4340=\"\",\"\",COUNTIF(Tabulka5[Data],D4340))","v":""},"","","",""]
[null,null,null,null,{"$f":"IF(D4341=\"\",\"\",COUNTIF(Tabulka5[Data],D4341))","v":""},"","","",""]
[null,null,null,null,{"$f":"IF(D4342=\"\",\"\",COUNTIF(Tabulka5[Data],D4342))","v":""},"","","",""]
[null,null,null,null,{"$f":"IF(D4343=\"\",\"\",COUNTIF(Tabulka5[Data],D4343))","v":""},"","","",""]
[null,null,null,null,{"$f":"IF(D4344=\"\",\"\",COUNTIF(Tabulka5[Data],D4344))","v":""},"","","",""]
[null,null,null,null,{"$f":"IF(D4345=\"\",\"\",COUNTIF(Tabulka5[Data],D4345))","v":""},"","","",""]
[null,null,null,null,{"$f":"IF(D4346=\"\",\"\",COUNTIF(Tabulka5[Data],D4346))","v":""},"","","",""]
[null,null,null,null,{"$f":"IF(D4347=\"\",\"\",COUNTIF(Tabulka5[Data],D4347))","v":""},"","","",""]
[null,null,null,null,{"$f":"IF(D4348=\"\",\"\",COUNTIF(Tabulka5[Data],D4348))","v":""},"","","",""]
[null,null,null,null,{"$f":"IF(D4349=\"\",\"\",COUNTIF(Tabulka5[Data],D4349))","v":""},"","","",""]
[null,null,null,null,{"$f":"IF(D4350=\"\",\"\",COUNTIF(Tabulka5[Data],D4350))","v":""},"","","",""]
[null,null,null,null,{"$f":"IF(D4351=\"\",\"\",COUNTIF(Tabulka5[Data],D4351))","v":""},"","","",""]
[null,null,null,null,{"$f":"IF(D4352=\"\",\"\",COUNTIF(Tabulka5[Data],D4352))","v":""},"","","",""]
[null,null,null,null,{"$f":"IF(D4353=\"\",\"\",COUNTIF(Tabulka5[Data],D4353))","v":""},"","","",""]
[null,null,null,null,{"$f":"IF(D4354=\"\",\"\",COUNTIF(Tabulka5[Data],D4354))","v":""},"","","",""]
[null,null,null,null,{"$f":"IF(D4355=\"\",\"\",COUNTIF(Tabulka5[Data],D4355))","v":""},"","","",""]
[null,null,null,null,{"$f":"IF(D4356=\"\",\"\",COUNTIF(Tabulka5[Data],D4356))","v":""},"","","",""]
[null,null,null,null,{"$f":"IF(D4357=\"\",\"\",COUNTIF(Tabulka5[Data],D4357))","v":""},"","","",""]
[null,null,null,null,{"$f":"IF(D4358=\"\",\"\",COUNTIF(Tabulka5[Data],D4358))","v":""},"","","",""]
[null,null,null,null,{"$f":"IF(D4359=\"\",\"\",COUNTIF(Tabulka5[Data],D4359))","v":""},"","","",""]
[null,null,null,null,{"$f":"IF(D4360=\"\",\"\",COUNTIF(Tabulka5[Data],D4360))","v":""},"","","",""]
[null,null,null,null,{"$f":"IF(D4361=\"\",\"\",COUNTIF(Tabulka5[Data],D4361))","v":""},"","","",""]
[null,null,null,null,{"$f":"IF(D4362=\"\",\"\",COUNTIF(Tabulka5[Data],D4362))","v":""},"","","",""]
[null,null,null,null,{"$f":"IF(D4363=\"\",\"\",COUNTIF(Tabulka5[Data],D4363))","v":""},"","","",""]
[null,null,null,null,{"$f":"IF(D4364=\"\",\"\",COUNTIF(Tabulka5[Data],D4364))","v":""},"","","",""]
[null,null,null,null,{"$f":"IF(D4365=\"\",\"\",COUNTIF(Tabulka5[Data],D4365))","v":""},"","","",""]
[null,null,null,null,{"$f":"IF(D4366=\"\",\"\",COUNTIF(Tabulka5[Data],D4366))","v":""},"","","",""]
[null,null,null,null,{"$f":"IF(D4367=\"\",\"\",COUNTIF(Tabulka5[Data],D4367))","v":""},"","","",""]
[null,null,null,null,{"$f":"IF(D4368=\"\",\"\",COUNTIF(Tabulka5[Data],D4368))","v":""},"","","",""]
[null,null,null,null,{"$f":"IF(D4369=\"\",\"\",COUNTIF(Tabulka5[Data],D4369))","v":""},{"$f":"IF(OR($K$11=0,D4369=\"\"),\"\",IF(D4370=\"\",1-I4368,ROUND(E4369/SUM($E$15:$E$6350),3)))","v":""},{"$f":"IF(OR(D4369=\"\",$A$11=\"nominální\"),\"\",G4368+E4369)","v":""},{"$f":"IF(OR($K$11=0,D4369=\"\",$A$11=\"nominální\"),\"\",H4368+F4369)","v":""},{"$f":"IF(OR($K$11=0,D4369=\"\"),\"\",I4368+F4369)","v":""}]
[null,null,null,null,{"$f":"IF(D4370=\"\",\"\",COUNTIF(Tabulka5[Data],D4370))","v":""},"","","",""]
[null,null,null,null,{"$f":"IF(D4371=\"\",\"\",COUNTIF(Tabulka5[Data],D4371))","v":""},"","","",""]
[null,null,null,null,{"$f":"IF(D4372=\"\",\"\",COUNTIF(Tabulka5[Data],D4372))","v":""},"","","",""]
[null,null,null,null,{"$f":"IF(D4373=\"\",\"\",COUNTIF(Tabulka5[Data],D4373))","v":""},"","","",""]
[null,null,null,null,{"$f":"IF(D4374=\"\",\"\",COUNTIF(Tabulka5[Data],D4374))","v":""},"","","",""]
[null,null,null,null,{"$f":"IF(D4375=\"\",\"\",COUNTIF(Tabulka5[Data],D4375))","v":""},"","","",""]
[null,null,null,null,{"$f":"IF(D4376=\"\",\"\",COUNTIF(Tabulka5[Data],D4376))","v":""},"","","",""]
[null,null,null,null,{"$f":"IF(D4377=\"\",\"\",COUNTIF(Tabulka5[Data],D4377))","v":""},"","","",""]
[null,null,null,null,{"$f":"IF(D4378=\"\",\"\",COUNTIF(Tabulka5[Data],D4378))","v":""},"","","",""]
[null,null,null,null,{"$f":"IF(D4379=\"\",\"\",COUNTIF(Tabulka5[Data],D4379))","v":""},"","","",""]
[null,null,null,null,{"$f":"IF(D4380=\"\",\"\",COUNTIF(Tabulka5[Data],D4380))","v":""},"","","",""]
[null,null,null,null,{"$f":"IF(D4381=\"\",\"\",COUNTIF(Tabulka5[Data],D4381))","v":""},"","","",""]
[null,null,null,null,{"$f":"IF(D4382=\"\",\"\",COUNTIF(Tabulka5[Data],D4382))","v":""},"","","",""]
[null,null,null,null,{"$f":"IF(D4383=\"\",\"\",COUNTIF(Tabulka5[Data],D4383))","v":""},"","","",""]
[null,null,null,null,{"$f":"IF(D4384=\"\",\"\",COUNTIF(Tabulka5[Data],D4384))","v":""},"","","",""]
[null,null,null,null,{"$f":"IF(D4385=\"\",\"\",COUNTIF(Tabulka5[Data],D4385))","v":""},"","","",""]
[null,null,null,null,{"$f":"IF(D4386=\"\",\"\",COUNTIF(Tabulka5[Data],D4386))","v":""},"","","",""]
[null,null,null,null,{"$f":"IF(D4387=\"\",\"\",COUNTIF(Tabulka5[Data],D4387))","v":""},"","","",""]
[null,null,null,null,{"$f":"IF(D4388=\"\",\"\",COUNTIF(Tabulka5[Data],D4388))","v":""},"","","",""]
[null,null,null,null,{"$f":"IF(D4389=\"\",\"\",COUNTIF(Tabulka5[Data],D4389))","v":""},"","","",""]
[null,null,null,null,{"$f":"IF(D4390=\"\",\"\",COUNTIF(Tabulka5[Data],D4390))","v":""},"","","",""]
[null,null,null,null,{"$f":"IF(D4391=\"\",\"\",COUNTIF(Tabulka5[Data],D4391))","v":""},"","","",""]
[null,null,null,null,{"$f":"IF(D4392=\"\",\"\",COUNTIF(Tabulka5[Data],D4392))","v":""},"","","",""]
[null,null,null,null,{"$f":"IF(D4393=\"\",\"\",COUNTIF(Tabulka5[Data],D4393))","v":""},"","","",""]
[null,null,null,null,{"$f":"IF(D4394=\"\",\"\",COUNTIF(Tabulka5[Data],D4394))","v":""},"","","",""]
[null,null,null,null,{"$f":"IF(D4395=\"\",\"\",COUNTIF(Tabulka5[Data],D4395))","v":""},"","","",""]
[null,null,null,null,{"$f":"IF(D4396=\"\",\"\",COUNTIF(Tabulka5[Data],D4396))","v":""},"","","",""]
[null,null,null,null,{"$f":"IF(D4397=\"\",\"\",COUNTIF(Tabulka5[Data],D4397))","v":""},"","","",""]
[null,null,null,null,{"$f":"IF(D4398=\"\",\"\",COUNTIF(Tabulka5[Data],D4398))","v":""},"","","",""]
[null,null,null,null,{"$f":"IF(D4399=\"\",\"\",COUNTIF(Tabulka5[Data],D4399))","v":""},"","","",""]
[null,null,null,null,{"$f":"IF(D4400=\"\",\"\",COUNTIF(Tabulka5[Data],D4400))","v":""},"","","",""]
[null,null,null,null,{"$f":"IF(D4401=\"\",\"\",COUNTIF(Tabulka5[Data],D4401))","v":""},"","","",""]
[null,null,null,null,{"$f":"IF(D4402=\"\",\"\",COUNTIF(Tabulka5[Data],D4402))","v":""},"","","",""]
[null,null,null,null,{"$f":"IF(D4403=\"\",\"\",COUNTIF(Tabulka5[Data],D4403))","v":""},"","","",""]
[null,null,null,null,{"$f":"IF(D4404=\"\",\"\",COUNTIF(Tabulka5[Data],D4404))","v":""},"","","",""]
[null,null,null,null,{"$f":"IF(D4405=\"\",\"\",COUNTIF(Tabulka5[Data],D4405))","v":""},"","","",""]
[null,null,null,null,{"$f":"IF(D4406=\"\",\"\",COUNTIF(Tabulka5[Data],D4406))","v":""},"","","",""]
[null,null,null,null,{"$f":"IF(D4407=\"\",\"\",COUNTIF(Tabulka5[Data],D4407))","v":""},"","","",""]
[null,null,null,null,{"$f":"IF(D4408=\"\",\"\",COUNTIF(Tabulka5[Data],D4408))","v":""},"","","",""]
[null,null,null,null,{"$f":"IF(D4409=\"\",\"\",COUNTIF(Tabulka5[Data],D4409))","v":""},"","","",""]
[null,null,null,null,{"$f":"IF(D4410=\"\",\"\",COUNTIF(Tabulka5[Data],D4410))","v":""},"","","",""]
[null,null,null,null,{"$f":"IF(D4411=\"\",\"\",COUNTIF(Tabulka5[Data],D4411))","v":""},"","","",""]
[null,null,null,null,{"$f":"IF(D4412=\"\",\"\",COUNTIF(Tabulka5[Data],D4412))","v":""},"","","",""]
[null,null,null,null,{"$f":"IF(D4413=\"\",\"\",COUNTIF(Tabulka5[Data],D4413))","v":""},"","","",""]
[null,null,null,null,{"$f":"IF(D4414=\"\",\"\",COUNTIF(Tabulka5[Data],D4414))","v":""},"","","",""]
[null,null,null,null,{"$f":"IF(D4415=\"\",\"\",COUNTIF(Tabulka5[Data],D4415))","v":""},"","","",""]
[null,null,null,null,{"$f":"IF(D4416=\"\",\"\",COUNTIF(Tabulka5[Data],D4416))","v":""},"","","",""]
[null,null,null,null,{"$f":"IF(D4417=\"\",\"\",COUNTIF(Tabulka5[Data],D4417))","v":""},"","","",""]
[null,null,null,null,{"$f":"IF(D4418=\"\",\"\",COUNTIF(Tabulka5[Data],D4418))","v":""},"","","",""]
[null,null,null,null,{"$f":"IF(D4419=\"\",\"\",COUNTIF(Tabulka5[Data],D4419))","v":""},"","","",""]
[null,null,null,null,{"$f":"IF(D4420=\"\",\"\",COUNTIF(Tabulka5[Data],D4420))","v":""},"","","",""]
[null,null,null,null,{"$f":"IF(D4421=\"\",\"\",COUNTIF(Tabulka5[Data],D4421))","v":""},"","","",""]
[null,null,null,null,{"$f":"IF(D4422=\"\",\"\",COUNTIF(Tabulka5[Data],D4422))","v":""},"","","",""]
[null,null,null,null,{"$f":"IF(D4423=\"\",\"\",COUNTIF(Tabulka5[Data],D4423))","v":""},"","","",""]
[null,null,null,null,{"$f":"IF(D4424=\"\",\"\",COUNTIF(Tabulka5[Data],D4424))","v":""},"","","",""]
[null,null,null,null,{"$f":"IF(D4425=\"\",\"\",COUNTIF(Tabulka5[Data],D4425))","v":""},"","","",""]
[null,null,null,null,{"$f":"IF(D4426=\"\",\"\",COUNTIF(Tabulka5[Data],D4426))","v":""},"","","",""]
[null,null,null,null,{"$f":"IF(D4427=\"\",\"\",COUNTIF(Tabulka5[Data],D4427))","v":""},"","","",""]
[null,null,null,null,{"$f":"IF(D4428=\"\",\"\",COUNTIF(Tabulka5[Data],D4428))","v":""},"","","",""]
[null,null,null,null,{"$f":"IF(D4429=\"\",\"\",COUNTIF(Tabulka5[Data],D4429))","v":""},"","","",""]
[null,null,null,null,{"$f":"IF(D4430=\"\",\"\",COUNTIF(Tabulka5[Data],D4430))","v":""},"","","",""]
[null,null,null,null,{"$f":"IF(D4431=\"\",\"\",COUNTIF(Tabulka5[Data],D4431))","v":""},"","","",""]
[null,null,null,null,{"$f":"IF(D4432=\"\",\"\",COUNTIF(Tabulka5[Data],D4432))","v":""},"","","",""]
[null,null,null,null,{"$f":"IF(D4433=\"\",\"\",COUNTIF(Tabulka5[Data],D4433))","v":""},{"$f":"IF(OR($K$11=0,D4433=\"\"),\"\",IF(D4434=\"\",1-I4432,ROUND(E4433/SUM($E$15:$E$6350),3)))","v":""},{"$f":"IF(OR(D4433=\"\",$A$11=\"nominální\"),\"\",G4432+E4433)","v":""},{"$f":"IF(OR($K$11=0,D4433=\"\",$A$11=\"nominální\"),\"\",H4432+F4433)","v":""},{"$f":"IF(OR($K$11=0,D4433=\"\"),\"\",I4432+F4433)","v":""}]
[null,null,null,null,{"$f":"IF(D4434=\"\",\"\",COUNTIF(Tabulka5[Data],D4434))","v":""},"","","",""]
[null,null,null,null,{"$f":"IF(D4435=\"\",\"\",COUNTIF(Tabulka5[Data],D4435))","v":""},"","","",""]
[null,null,null,null,{"$f":"IF(D4436=\"\",\"\",COUNTIF(Tabulka5[Data],D4436))","v":""},"","","",""]
[null,null,null,null,{"$f":"IF(D4437=\"\",\"\",COUNTIF(Tabulka5[Data],D4437))","v":""},"","","",""]
[null,null,null,null,{"$f":"IF(D4438=\"\",\"\",COUNTIF(Tabulka5[Data],D4438))","v":""},"","","",""]
[null,null,null,null,{"$f":"IF(D4439=\"\",\"\",COUNTIF(Tabulka5[Data],D4439))","v":""},"","","",""]
[null,null,null,null,{"$f":"IF(D4440=\"\",\"\",COUNTIF(Tabulka5[Data],D4440))","v":""},"","","",""]
[null,null,null,null,{"$f":"IF(D4441=\"\",\"\",COUNTIF(Tabulka5[Data],D4441))","v":""},"","","",""]
[null,null,null,null,{"$f":"IF(D4442=\"\",\"\",COUNTIF(Tabulka5[Data],D4442))","v":""},"","","",""]
[null,null,null,null,{"$f":"IF(D4443=\"\",\"\",COUNTIF(Tabulka5[Data],D4443))","v":""},"","","",""]
[null,null,null,null,{"$f":"IF(D4444=\"\",\"\",COUNTIF(Tabulka5[Data],D4444))","v":""},"","","",""]
[null,null,null,null,{"$f":"IF(D4445=\"\",\"\",COUNTIF(Tabulka5[Data],D4445))","v":""},"","","",""]
[null,null,null,null,{"$f":"IF(D4446=\"\",\"\",COUNTIF(Tabulka5[Data],D4446))","v":""},"","","",""]
[null,null,null,null,{"$f":"IF(D4447=\"\",\"\",COUNTIF(Tabulka5[Data],D4447))","v":""},"","","",""]
[null,null,null,null,{"$f":"IF(D4448=\"\",\"\",COUNTIF(Tabulka5[Data],D4448))","v":""},"","","",""]
[null,null,null,null,{"$f":"IF(D4449=\"\",\"\",COUNTIF(Tabulka5[Data],D4449))","v":""},"","","",""]
[null,null,null,null,{"$f":"IF(D4450=\"\",\"\",COUNTIF(Tabulka5[Data],D4450))","v":""},"","","",""]
[null,null,null,null,{"$f":"IF(D4451=\"\",\"\",COUNTIF(Tabulka5[Data],D4451))","v":""},"","","",""]
[null,null,null,null,{"$f":"IF(D4452=\"\",\"\",COUNTIF(Tabulka5[Data],D4452))","v":""},"","","",""]
[null,null,null,null,{"$f":"IF(D4453=\"\",\"\",COUNTIF(Tabulka5[Data],D4453))","v":""},"","","",""]
[null,null,null,null,{"$f":"IF(D4454=\"\",\"\",COUNTIF(Tabulka5[Data],D4454))","v":""},"","","",""]
[null,null,null,null,{"$f":"IF(D4455=\"\",\"\",COUNTIF(Tabulka5[Data],D4455))","v":""},"","","",""]
[null,null,null,null,{"$f":"IF(D4456=\"\",\"\",COUNTIF(Tabulka5[Data],D4456))","v":""},"","","",""]
[null,null,null,null,{"$f":"IF(D4457=\"\",\"\",COUNTIF(Tabulka5[Data],D4457))","v":""},"","","",""]
[null,null,null,null,{"$f":"IF(D4458=\"\",\"\",COUNTIF(Tabulka5[Data],D4458))","v":""},"","","",""]
[null,null,null,null,{"$f":"IF(D4459=\"\",\"\",COUNTIF(Tabulka5[Data],D4459))","v":""},"","","",""]
[null,null,null,null,{"$f":"IF(D4460=\"\",\"\",COUNTIF(Tabulka5[Data],D4460))","v":""},"","","",""]
[null,null,null,null,{"$f":"IF(D4461=\"\",\"\",COUNTIF(Tabulka5[Data],D4461))","v":""},"","","",""]
[null,null,null,null,{"$f":"IF(D4462=\"\",\"\",COUNTIF(Tabulka5[Data],D4462))","v":""},"","","",""]
[null,null,null,null,{"$f":"IF(D4463=\"\",\"\",COUNTIF(Tabulka5[Data],D4463))","v":""},"","","",""]
[null,null,null,null,{"$f":"IF(D4464=\"\",\"\",COUNTIF(Tabulka5[Data],D4464))","v":""},"","","",""]
[null,null,null,null,{"$f":"IF(D4465=\"\",\"\",COUNTIF(Tabulka5[Data],D4465))","v":""},"","","",""]
[null,null,null,null,{"$f":"IF(D4466=\"\",\"\",COUNTIF(Tabulka5[Data],D4466))","v":""},"","","",""]
[null,null,null,null,{"$f":"IF(D4467=\"\",\"\",COUNTIF(Tabulka5[Data],D4467))","v":""},"","","",""]
[null,null,null,null,{"$f":"IF(D4468=\"\",\"\",COUNTIF(Tabulka5[Data],D4468))","v":""},"","","",""]
[null,null,null,null,{"$f":"IF(D4469=\"\",\"\",COUNTIF(Tabulka5[Data],D4469))","v":""},"","","",""]
[null,null,null,null,{"$f":"IF(D4470=\"\",\"\",COUNTIF(Tabulka5[Data],D4470))","v":""},"","","",""]
[null,null,null,null,{"$f":"IF(D4471=\"\",\"\",COUNTIF(Tabulka5[Data],D4471))","v":""},"","","",""]
[null,null,null,null,{"$f":"IF(D4472=\"\",\"\",COUNTIF(Tabulka5[Data],D4472))","v":""},"","","",""]
[null,null,null,null,{"$f":"IF(D4473=\"\",\"\",COUNTIF(Tabulka5[Data],D4473))","v":""},"","","",""]
[null,null,null,null,{"$f":"IF(D4474=\"\",\"\",COUNTIF(Tabulka5[Data],D4474))","v":""},"","","",""]
[null,null,null,null,{"$f":"IF(D4475=\"\",\"\",COUNTIF(Tabulka5[Data],D4475))","v":""},"","","",""]
[null,null,null,null,{"$f":"IF(D4476=\"\",\"\",COUNTIF(Tabulka5[Data],D4476))","v":""},"","","",""]
[null,null,null,null,{"$f":"IF(D4477=\"\",\"\",COUNTIF(Tabulka5[Data],D4477))","v":""},"","","",""]
[null,null,null,null,{"$f":"IF(D4478=\"\",\"\",COUNTIF(Tabulka5[Data],D4478))","v":""},"","","",""]
[null,null,null,null,{"$f":"IF(D4479=\"\",\"\",COUNTIF(Tabulka5[Data],D4479))","v":""},"","","",""]
[null,null,null,null,{"$f":"IF(D4480=\"\",\"\",COUNTIF(Tabulka5[Data],D4480))","v":""},"","","",""]
[null,null,null,null,{"$f":"IF(D4481=\"\",\"\",COUNTIF(Tabulka5[Data],D4481))","v":""},"","","",""]
[null,null,null,null,{"$f":"IF(D4482=\"\",\"\",COUNTIF(Tabulka5[Data],D4482))","v":""},"","","",""]
[null,null,null,null,{"$f":"IF(D4483=\"\",\"\",COUNTIF(Tabulka5[Data],D4483))","v":""},"","","",""]
[null,null,null,null,{"$f":"IF(D4484=\"\",\"\",COUNTIF(Tabulka5[Data],D4484))","v":""},"","","",""]
[null,null,null,null,{"$f":"IF(D4485=\"\",\"\",COUNTIF(Tabulka5[Data],D4485))","v":""},"","","",""]
[null,null,null,null,{"$f":"IF(D4486=\"\",\"\",COUNTIF(Tabulka5[Data],D4486))","v":""},"","","",""]
[null,null,null,null,{"$f":"IF(D4487=\"\",\"\",COUNTIF(Tabulka5[Data],D4487))","v":""},"","","",""]
[null,null,null,null,{"$f":"IF(D4488=\"\",\"\",COUNTIF(Tabulka5[Data],D4488))","v":""},"","","",""]
[null,null,null,null,{"$f":"IF(D4489=\"\",\"\",COUNTIF(Tabulka5[Data],D4489))","v":""},"","","",""]
[null,null,null,null,{"$f":"IF(D4490=\"\",\"\",COUNTIF(Tabulka5[Data],D4490))","v":""},"","","",""]
[null,null,null,null,{"$f":"IF(D4491=\"\",\"\",COUNTIF(Tabulka5[Data],D4491))","v":""},"","","",""]
[null,null,null,null,{"$f":"IF(D4492=\"\",\"\",COUNTIF(Tabulka5[Data],D4492))","v":""},"","","",""]
[null,null,null,null,{"$f":"IF(D4493=\"\",\"\",COUNTIF(Tabulka5[Data],D4493))","v":""},"","","",""]
[null,null,null,null,{"$f":"IF(D4494=\"\",\"\",COUNTIF(Tabulka5[Data],D4494))","v":""},"","","",""]
[null,null,null,null,{"$f":"IF(D4495=\"\",\"\",COUNTIF(Tabulka5[Data],D4495))","v":""},"","","",""]
[null,null,null,null,{"$f":"IF(D4496=\"\",\"\",COUNTIF(Tabulka5[Data],D4496))","v":""},"","","",""]
[null,null,null,null,{"$f":"IF(D4497=\"\",\"\",COUNTIF(Tabulka5[Data],D4497))","v":""},{"$f":"IF(OR($K$11=0,D4497=\"\"),\"\",IF(D4498=\"\",1-I4496,ROUND(E4497/SUM($E$15:$E$6350),3)))","v":""},{"$f":"IF(OR(D4497=\"\",$A$11=\"nominální\"),\"\",G4496+E4497)","v":""},{"$f":"IF(OR($K$11=0,D4497=\"\",$A$11=\"nominální\"),\"\",H4496+F4497)","v":""},{"$f":"IF(OR($K$11=0,D4497=\"\"),\"\",I4496+F4497)","v":""}]
[null,null,null,null,{"$f":"IF(D4498=\"\",\"\",COUNTIF(Tabulka5[Data],D4498))","v":""},"","","",""]
[null,null,null,null,{"$f":"IF(D4499=\"\",\"\",COUNTIF(Tabulka5[Data],D4499))","v":""},"","","",""]
[null,null,null,null,{"$f":"IF(D4500=\"\",\"\",COUNTIF(Tabulka5[Data],D4500))","v":""},"","","",""]
[null,null,null,null,{"$f":"IF(D4501=\"\",\"\",COUNTIF(Tabulka5[Data],D4501))","v":""},"","","",""]
[null,null,null,null,{"$f":"IF(D4502=\"\",\"\",COUNTIF(Tabulka5[Data],D4502))","v":""},"","","",""]
[null,null,null,null,{"$f":"IF(D4503=\"\",\"\",COUNTIF(Tabulka5[Data],D4503))","v":""},"","","",""]
[null,null,null,null,{"$f":"IF(D4504=\"\",\"\",COUNTIF(Tabulka5[Data],D4504))","v":""},"","","",""]
[null,null,null,null,{"$f":"IF(D4505=\"\",\"\",COUNTIF(Tabulka5[Data],D4505))","v":""},"","","",""]
[null,null,null,null,{"$f":"IF(D4506=\"\",\"\",COUNTIF(Tabulka5[Data],D4506))","v":""},"","","",""]
[null,null,null,null,{"$f":"IF(D4507=\"\",\"\",COUNTIF(Tabulka5[Data],D4507))","v":""},"","","",""]
[null,null,null,null,{"$f":"IF(D4508=\"\",\"\",COUNTIF(Tabulka5[Data],D4508))","v":""},"","","",""]
[null,null,null,null,{"$f":"IF(D4509=\"\",\"\",COUNTIF(Tabulka5[Data],D4509))","v":""},"","","",""]
[null,null,null,null,{"$f":"IF(D4510=\"\",\"\",COUNTIF(Tabulka5[Data],D4510))","v":""},"","","",""]
[null,null,null,null,{"$f":"IF(D4511=\"\",\"\",COUNTIF(Tabulka5[Data],D4511))","v":""},"","","",""]
[null,null,null,null,{"$f":"IF(D4512=\"\",\"\",COUNTIF(Tabulka5[Data],D4512))","v":""},"","","",""]
[null,null,null,null,{"$f":"IF(D4513=\"\",\"\",COUNTIF(Tabulka5[Data],D4513))","v":""},"","","",""]
[null,null,null,null,{"$f":"IF(D4514=\"\",\"\",COUNTIF(Tabulka5[Data],D4514))","v":""},"","","",""]
[null,null,null,null,{"$f":"IF(D4515=\"\",\"\",COUNTIF(Tabulka5[Data],D4515))","v":""},"","","",""]
[null,null,null,null,{"$f":"IF(D4516=\"\",\"\",COUNTIF(Tabulka5[Data],D4516))","v":""},"","","",""]
[null,null,null,null,{"$f":"IF(D4517=\"\",\"\",COUNTIF(Tabulka5[Data],D4517))","v":""},"","","",""]
[null,null,null,null,{"$f":"IF(D4518=\"\",\"\",COUNTIF(Tabulka5[Data],D4518))","v":""},"","","",""]
[null,null,null,null,{"$f":"IF(D4519=\"\",\"\",COUNTIF(Tabulka5[Data],D4519))","v":""},"","","",""]
[null,null,null,null,{"$f":"IF(D4520=\"\",\"\",COUNTIF(Tabulka5[Data],D4520))","v":""},"","","",""]
[null,null,null,null,{"$f":"IF(D4521=\"\",\"\",COUNTIF(Tabulka5[Data],D4521))","v":""},"","","",""]
[null,null,null,null,{"$f":"IF(D4522=\"\",\"\",COUNTIF(Tabulka5[Data],D4522))","v":""},"","","",""]
[null,null,null,null,{"$f":"IF(D4523=\"\",\"\",COUNTIF(Tabulka5[Data],D4523))","v":""},"","","",""]
[null,null,null,null,{"$f":"IF(D4524=\"\",\"\",COUNTIF(Tabulka5[Data],D4524))","v":""},"","","",""]
[null,null,null,null,{"$f":"IF(D4525=\"\",\"\",COUNTIF(Tabulka5[Data],D4525))","v":""},"","","",""]
[null,null,null,null,{"$f":"IF(D4526=\"\",\"\",COUNTIF(Tabulka5[Data],D4526))","v":""},"","","",""]
[null,null,null,null,{"$f":"IF(D4527=\"\",\"\",COUNTIF(Tabulka5[Data],D4527))","v":""},"","","",""]
[null,null,null,null,{"$f":"IF(D4528=\"\",\"\",COUNTIF(Tabulka5[Data],D4528))","v":""},"","","",""]
[null,null,null,null,{"$f":"IF(D4529=\"\",\"\",COUNTIF(Tabulka5[Data],D4529))","v":""},"","","",""]
[null,null,null,null,{"$f":"IF(D4530=\"\",\"\",COUNTIF(Tabulka5[Data],D4530))","v":""},"","","",""]
[null,null,null,null,{"$f":"IF(D4531=\"\",\"\",COUNTIF(Tabulka5[Data],D4531))","v":""},"","","",""]
[null,null,null,null,{"$f":"IF(D4532=\"\",\"\",COUNTIF(Tabulka5[Data],D4532))","v":""},"","","",""]
[null,null,null,null,{"$f":"IF(D4533=\"\",\"\",COUNTIF(Tabulka5[Data],D4533))","v":""},"","","",""]
[null,null,null,null,{"$f":"IF(D4534=\"\",\"\",COUNTIF(Tabulka5[Data],D4534))","v":""},"","","",""]
[null,null,null,null,{"$f":"IF(D4535=\"\",\"\",COUNTIF(Tabulka5[Data],D4535))","v":""},"","","",""]
[null,null,null,null,{"$f":"IF(D4536=\"\",\"\",COUNTIF(Tabulka5[Data],D4536))","v":""},"","","",""]
[null,null,null,null,{"$f":"IF(D4537=\"\",\"\",COUNTIF(Tabulka5[Data],D4537))","v":""},"","","",""]
[null,null,null,null,{"$f":"IF(D4538=\"\",\"\",COUNTIF(Tabulka5[Data],D4538))","v":""},"","","",""]
[null,null,null,null,{"$f":"IF(D4539=\"\",\"\",COUNTIF(Tabulka5[Data],D4539))","v":""},"","","",""]
[null,null,null,null,{"$f":"IF(D4540=\"\",\"\",COUNTIF(Tabulka5[Data],D4540))","v":""},"","","",""]
[null,null,null,null,{"$f":"IF(D4541=\"\",\"\",COUNTIF(Tabulka5[Data],D4541))","v":""},"","","",""]
[null,null,null,null,{"$f":"IF(D4542=\"\",\"\",COUNTIF(Tabulka5[Data],D4542))","v":""},"","","",""]
[null,null,null,null,{"$f":"IF(D4543=\"\",\"\",COUNTIF(Tabulka5[Data],D4543))","v":""},"","","",""]
[null,null,null,null,{"$f":"IF(D4544=\"\",\"\",COUNTIF(Tabulka5[Data],D4544))","v":""},"","","",""]
[null,null,null,null,{"$f":"IF(D4545=\"\",\"\",COUNTIF(Tabulka5[Data],D4545))","v":""},"","","",""]
[null,null,null,null,{"$f":"IF(D4546=\"\",\"\",COUNTIF(Tabulka5[Data],D4546))","v":""},"","","",""]
[null,null,null,null,{"$f":"IF(D4547=\"\",\"\",COUNTIF(Tabulka5[Data],D4547))","v":""},"","","",""]
[null,null,null,null,{"$f":"IF(D4548=\"\",\"\",COUNTIF(Tabulka5[Data],D4548))","v":""},"","","",""]
[null,null,null,null,{"$f":"IF(D4549=\"\",\"\",COUNTIF(Tabulka5[Data],D4549))","v":""},"","","",""]
[null,null,null,null,{"$f":"IF(D4550=\"\",\"\",COUNTIF(Tabulka5[Data],D4550))","v":""},"","","",""]
[null,null,null,null,{"$f":"IF(D4551=\"\",\"\",COUNTIF(Tabulka5[Data],D4551))","v":""},"","","",""]
[null,null,null,null,{"$f":"IF(D4552=\"\",\"\",COUNTIF(Tabulka5[Data],D4552))","v":""},"","","",""]
[null,null,null,null,{"$f":"IF(D4553=\"\",\"\",COUNTIF(Tabulka5[Data],D4553))","v":""},"","","",""]
[null,null,null,null,{"$f":"IF(D4554=\"\",\"\",COUNTIF(Tabulka5[Data],D4554))","v":""},"","","",""]
[null,null,null,null,{"$f":"IF(D4555=\"\",\"\",COUNTIF(Tabulka5[Data],D4555))","v":""},"","","",""]
[null,null,null,null,{"$f":"IF(D4556=\"\",\"\",COUNTIF(Tabulka5[Data],D4556))","v":""},"","","",""]
[null,null,null,null,{"$f":"IF(D4557=\"\",\"\",COUNTIF(Tabulka5[Data],D4557))","v":""},"","","",""]
[null,null,null,null,{"$f":"IF(D4558=\"\",\"\",COUNTIF(Tabulka5[Data],D4558))","v":""},"","","",""]
[null,null,null,null,{"$f":"IF(D4559=\"\",\"\",COUNTIF(Tabulka5[Data],D4559))","v":""},"","","",""]
[null,null,null,null,{"$f":"IF(D4560=\"\",\"\",COUNTIF(Tabulka5[Data],D4560))","v":""},"","","",""]
[null,null,null,null,{"$f":"IF(D4561=\"\",\"\",COUNTIF(Tabulka5[Data],D4561))","v":""},{"$f":"IF(OR($K$11=0,D4561=\"\"),\"\",IF(D4562=\"\",1-I4560,ROUND(E4561/SUM($E$15:$E$6350),3)))","v":""},{"$f":"IF(OR(D4561=\"\",$A$11=\"nominální\"),\"\",G4560+E4561)","v":""},{"$f":"IF(OR($K$11=0,D4561=\"\",$A$11=\"nominální\"),\"\",H4560+F4561)","v":""},{"$f":"IF(OR($K$11=0,D4561=\"\"),\"\",I4560+F4561)","v":""}]
[null,null,null,null,{"$f":"IF(D4562=\"\",\"\",COUNTIF(Tabulka5[Data],D4562))","v":""},"","","",""]
[null,null,null,null,{"$f":"IF(D4563=\"\",\"\",COUNTIF(Tabulka5[Data],D4563))","v":""},"","","",""]
[null,null,null,null,{"$f":"IF(D4564=\"\",\"\",COUNTIF(Tabulka5[Data],D4564))","v":""},"","","",""]
[null,null,null,null,{"$f":"IF(D4565=\"\",\"\",COUNTIF(Tabulka5[Data],D4565))","v":""},"","","",""]
[null,null,null,null,{"$f":"IF(D4566=\"\",\"\",COUNTIF(Tabulka5[Data],D4566))","v":""},"","","",""]
[null,null,null,null,{"$f":"IF(D4567=\"\",\"\",COUNTIF(Tabulka5[Data],D4567))","v":""},"","","",""]
[null,null,null,null,{"$f":"IF(D4568=\"\",\"\",COUNTIF(Tabulka5[Data],D4568))","v":""},"","","",""]
[null,null,null,null,{"$f":"IF(D4569=\"\",\"\",COUNTIF(Tabulka5[Data],D4569))","v":""},"","","",""]
[null,null,null,null,{"$f":"IF(D4570=\"\",\"\",COUNTIF(Tabulka5[Data],D4570))","v":""},"","","",""]
[null,null,null,null,{"$f":"IF(D4571=\"\",\"\",COUNTIF(Tabulka5[Data],D4571))","v":""},"","","",""]
[null,null,null,null,{"$f":"IF(D4572=\"\",\"\",COUNTIF(Tabulka5[Data],D4572))","v":""},"","","",""]
[null,null,null,null,{"$f":"IF(D4573=\"\",\"\",COUNTIF(Tabulka5[Data],D4573))","v":""},"","","",""]
[null,null,null,null,{"$f":"IF(D4574=\"\",\"\",COUNTIF(Tabulka5[Data],D4574))","v":""},"","","",""]
[null,null,null,null,{"$f":"IF(D4575=\"\",\"\",COUNTIF(Tabulka5[Data],D4575))","v":""},"","","",""]
[null,null,null,null,{"$f":"IF(D4576=\"\",\"\",COUNTIF(Tabulka5[Data],D4576))","v":""},"","","",""]
[null,null,null,null,{"$f":"IF(D4577=\"\",\"\",COUNTIF(Tabulka5[Data],D4577))","v":""},"","","",""]
[null,null,null,null,{"$f":"IF(D4578=\"\",\"\",COUNTIF(Tabulka5[Data],D4578))","v":""},"","","",""]
[null,null,null,null,{"$f":"IF(D4579=\"\",\"\",COUNTIF(Tabulka5[Data],D4579))","v":""},"","","",""]
[null,null,null,null,{"$f":"IF(D4580=\"\",\"\",COUNTIF(Tabulka5[Data],D4580))","v":""},"","","",""]
[null,null,null,null,{"$f":"IF(D4581=\"\",\"\",COUNTIF(Tabulka5[Data],D4581))","v":""},"","","",""]
[null,null,null,null,{"$f":"IF(D4582=\"\",\"\",COUNTIF(Tabulka5[Data],D4582))","v":""},"","","",""]
[null,null,null,null,{"$f":"IF(D4583=\"\",\"\",COUNTIF(Tabulka5[Data],D4583))","v":""},"","","",""]
[null,null,null,null,{"$f":"IF(D4584=\"\",\"\",COUNTIF(Tabulka5[Data],D4584))","v":""},"","","",""]
[null,null,null,null,{"$f":"IF(D4585=\"\",\"\",COUNTIF(Tabulka5[Data],D4585))","v":""},"","","",""]
[null,null,null,null,{"$f":"IF(D4586=\"\",\"\",COUNTIF(Tabulka5[Data],D4586))","v":""},"","","",""]
[null,null,null,null,{"$f":"IF(D4587=\"\",\"\",COUNTIF(Tabulka5[Data],D4587))","v":""},"","","",""]
[null,null,null,null,{"$f":"IF(D4588=\"\",\"\",COUNTIF(Tabulka5[Data],D4588))","v":""},"","","",""]
[null,null,null,null,{"$f":"IF(D4589=\"\",\"\",COUNTIF(Tabulka5[Data],D4589))","v":""},"","","",""]
[null,null,null,null,{"$f":"IF(D4590=\"\",\"\",COUNTIF(Tabulka5[Data],D4590))","v":""},"","","",""]
[null,null,null,null,{"$f":"IF(D4591=\"\",\"\",COUNTIF(Tabulka5[Data],D4591))","v":""},"","","",""]
[null,null,null,null,{"$f":"IF(D4592=\"\",\"\",COUNTIF(Tabulka5[Data],D4592))","v":""},"","","",""]
[null,null,null,null,{"$f":"IF(D4593=\"\",\"\",COUNTIF(Tabulka5[Data],D4593))","v":""},"","","",""]
[null,null,null,null,{"$f":"IF(D4594=\"\",\"\",COUNTIF(Tabulka5[Data],D4594))","v":""},"","","",""]
[null,null,null,null,{"$f":"IF(D4595=\"\",\"\",COUNTIF(Tabulka5[Data],D4595))","v":""},"","","",""]
[null,null,null,null,{"$f":"IF(D4596=\"\",\"\",COUNTIF(Tabulka5[Data],D4596))","v":""},"","","",""]
[null,null,null,null,{"$f":"IF(D4597=\"\",\"\",COUNTIF(Tabulka5[Data],D4597))","v":""},"","","",""]
[null,null,null,null,{"$f":"IF(D4598=\"\",\"\",COUNTIF(Tabulka5[Data],D4598))","v":""},"","","",""]
[null,null,null,null,{"$f":"IF(D4599=\"\",\"\",COUNTIF(Tabulka5[Data],D4599))","v":""},"","","",""]
[null,null,null,null,{"$f":"IF(D4600=\"\",\"\",COUNTIF(Tabulka5[Data],D4600))","v":""},"","","",""]
[null,null,null,null,{"$f":"IF(D4601=\"\",\"\",COUNTIF(Tabulka5[Data],D4601))","v":""},"","","",""]
[null,null,null,null,{"$f":"IF(D4602=\"\",\"\",COUNTIF(Tabulka5[Data],D4602))","v":""},"","","",""]
[null,null,null,null,{"$f":"IF(D4603=\"\",\"\",COUNTIF(Tabulka5[Data],D4603))","v":""},"","","",""]
[null,null,null,null,{"$f":"IF(D4604=\"\",\"\",COUNTIF(Tabulka5[Data],D4604))","v":""},"","","",""]
[null,null,null,null,{"$f":"IF(D4605=\"\",\"\",COUNTIF(Tabulka5[Data],D4605))","v":""},"","","",""]
[null,null,null,null,{"$f":"IF(D4606=\"\",\"\",COUNTIF(Tabulka5[Data],D4606))","v":""},"","","",""]
[null,null,null,null,{"$f":"IF(D4607=\"\",\"\",COUNTIF(Tabulka5[Data],D4607))","v":""},"","","",""]
[null,null,null,null,{"$f":"IF(D4608=\"\",\"\",COUNTIF(Tabulka5[Data],D4608))","v":""},"","","",""]
[null,null,null,null,{"$f":"IF(D4609=\"\",\"\",COUNTIF(Tabulka5[Data],D4609))","v":""},"","","",""]
[null,null,null,null,{"$f":"IF(D4610=\"\",\"\",COUNTIF(Tabulka5[Data],D4610))","v":""},"","","",""]
[null,null,null,null,{"$f":"IF(D4611=\"\",\"\",COUNTIF(Tabulka5[Data],D4611))","v":""},"","","",""]
[null,null,null,null,{"$f":"IF(D4612=\"\",\"\",COUNTIF(Tabulka5[Data],D4612))","v":""},"","","",""]
[null,null,null,null,{"$f":"IF(D4613=\"\",\"\",COUNTIF(Tabulka5[Data],D4613))","v":""},"","","",""]
[null,null,null,null,{"$f":"IF(D4614=\"\",\"\",COUNTIF(Tabulka5[Data],D4614))","v":""},"","","",""]
[null,null,null,null,{"$f":"IF(D4615=\"\",\"\",COUNTIF(Tabulka5[Data],D4615))","v":""},"","","",""]
[null,null,null,null,{"$f":"IF(D4616=\"\",\"\",COUNTIF(Tabulka5[Data],D4616))","v":""},"","","",""]
[null,null,null,null,{"$f":"IF(D4617=\"\",\"\",COUNTIF(Tabulka5[Data],D4617))","v":""},"","","",""]
[null,null,null,null,{"$f":"IF(D4618=\"\",\"\",COUNTIF(Tabulka5[Data],D4618))","v":""},"","","",""]
[null,null,null,null,{"$f":"IF(D4619=\"\",\"\",COUNTIF(Tabulka5[Data],D4619))","v":""},"","","",""]
[null,null,null,null,{"$f":"IF(D4620=\"\",\"\",COUNTIF(Tabulka5[Data],D4620))","v":""},"","","",""]
[null,null,null,null,{"$f":"IF(D4621=\"\",\"\",COUNTIF(Tabulka5[Data],D4621))","v":""},"","","",""]
[null,null,null,null,{"$f":"IF(D4622=\"\",\"\",COUNTIF(Tabulka5[Data],D4622))","v":""},"","","",""]
[null,null,null,null,{"$f":"IF(D4623=\"\",\"\",COUNTIF(Tabulka5[Data],D4623))","v":""},"","","",""]
[null,null,null,null,{"$f":"IF(D4624=\"\",\"\",COUNTIF(Tabulka5[Data],D4624))","v":""},"","","",""]
[null,null,null,null,{"$f":"IF(D4625=\"\",\"\",COUNTIF(Tabulka5[Data],D4625))","v":""},{"$f":"IF(OR($K$11=0,D4625=\"\"),\"\",IF(D4626=\"\",1-I4624,ROUND(E4625/SUM($E$15:$E$6350),3)))","v":""},{"$f":"IF(OR(D4625=\"\",$A$11=\"nominální\"),\"\",G4624+E4625)","v":""},{"$f":"IF(OR($K$11=0,D4625=\"\",$A$11=\"nominální\"),\"\",H4624+F4625)","v":""},{"$f":"IF(OR($K$11=0,D4625=\"\"),\"\",I4624+F4625)","v":""}]
[null,null,null,null,{"$f":"IF(D4626=\"\",\"\",COUNTIF(Tabulka5[Data],D4626))","v":""},"","","",""]
[null,null,null,null,{"$f":"IF(D4627=\"\",\"\",COUNTIF(Tabulka5[Data],D4627))","v":""},"","","",""]
[null,null,null,null,{"$f":"IF(D4628=\"\",\"\",COUNTIF(Tabulka5[Data],D4628))","v":""},"","","",""]
[null,null,null,null,{"$f":"IF(D4629=\"\",\"\",COUNTIF(Tabulka5[Data],D4629))","v":""},"","","",""]
[null,null,null,null,{"$f":"IF(D4630=\"\",\"\",COUNTIF(Tabulka5[Data],D4630))","v":""},"","","",""]
[null,null,null,null,{"$f":"IF(D4631=\"\",\"\",COUNTIF(Tabulka5[Data],D4631))","v":""},"","","",""]
[null,null,null,null,{"$f":"IF(D4632=\"\",\"\",COUNTIF(Tabulka5[Data],D4632))","v":""},"","","",""]
[null,null,null,null,{"$f":"IF(D4633=\"\",\"\",COUNTIF(Tabulka5[Data],D4633))","v":""},"","","",""]
[null,null,null,null,{"$f":"IF(D4634=\"\",\"\",COUNTIF(Tabulka5[Data],D4634))","v":""},"","","",""]
[null,null,null,null,{"$f":"IF(D4635=\"\",\"\",COUNTIF(Tabulka5[Data],D4635))","v":""},"","","",""]
[null,null,null,null,{"$f":"IF(D4636=\"\",\"\",COUNTIF(Tabulka5[Data],D4636))","v":""},"","","",""]
[null,null,null,null,{"$f":"IF(D4637=\"\",\"\",COUNTIF(Tabulka5[Data],D4637))","v":""},"","","",""]
[null,null,null,null,{"$f":"IF(D4638=\"\",\"\",COUNTIF(Tabulka5[Data],D4638))","v":""},"","","",""]
[null,null,null,null,{"$f":"IF(D4639=\"\",\"\",COUNTIF(Tabulka5[Data],D4639))","v":""},"","","",""]
[null,null,null,null,{"$f":"IF(D4640=\"\",\"\",COUNTIF(Tabulka5[Data],D4640))","v":""},"","","",""]
[null,null,null,null,{"$f":"IF(D4641=\"\",\"\",COUNTIF(Tabulka5[Data],D4641))","v":""},"","","",""]
[null,null,null,null,{"$f":"IF(D4642=\"\",\"\",COUNTIF(Tabulka5[Data],D4642))","v":""},"","","",""]
[null,null,null,null,{"$f":"IF(D4643=\"\",\"\",COUNTIF(Tabulka5[Data],D4643))","v":""},"","","",""]
[null,null,null,null,{"$f":"IF(D4644=\"\",\"\",COUNTIF(Tabulka5[Data],D4644))","v":""},"","","",""]
[null,null,null,null,{"$f":"IF(D4645=\"\",\"\",COUNTIF(Tabulka5[Data],D4645))","v":""},"","","",""]
[null,null,null,null,{"$f":"IF(D4646=\"\",\"\",COUNTIF(Tabulka5[Data],D4646))","v":""},"","","",""]
[null,null,null,null,{"$f":"IF(D4647=\"\",\"\",COUNTIF(Tabulka5[Data],D4647))","v":""},"","","",""]
[null,null,null,null,{"$f":"IF(D4648=\"\",\"\",COUNTIF(Tabulka5[Data],D4648))","v":""},"","","",""]
[null,null,null,null,{"$f":"IF(D4649=\"\",\"\",COUNTIF(Tabulka5[Data],D4649))","v":""},"","","",""]
[null,null,null,null,{"$f":"IF(D4650=\"\",\"\",COUNTIF(Tabulka5[Data],D4650))","v":""},"","","",""]
[null,null,null,null,{"$f":"IF(D4651=\"\",\"\",COUNTIF(Tabulka5[Data],D4651))","v":""},"","","",""]
[null,null,null,null,{"$f":"IF(D4652=\"\",\"\",COUNTIF(Tabulka5[Data],D4652))","v":""},"","","",""]
[null,null,null,null,{"$f":"IF(D4653=\"\",\"\",COUNTIF(Tabulka5[Data],D4653))","v":""},"","","",""]
[null,null,null,null,{"$f":"IF(D4654=\"\",\"\",COUNTIF(Tabulka5[Data],D4654))","v":""},"","","",""]
[null,null,null,null,{"$f":"IF(D4655=\"\",\"\",COUNTIF(Tabulka5[Data],D4655))","v":""},"","","",""]
[null,null,null,null,{"$f":"IF(D4656=\"\",\"\",COUNTIF(Tabulka5[Data],D4656))","v":""},"","","",""]
[null,null,null,null,{"$f":"IF(D4657=\"\",\"\",COUNTIF(Tabulka5[Data],D4657))","v":""},"","","",""]
[null,null,null,null,{"$f":"IF(D4658=\"\",\"\",COUNTIF(Tabulka5[Data],D4658))","v":""},"","","",""]
[null,null,null,null,{"$f":"IF(D4659=\"\",\"\",COUNTIF(Tabulka5[Data],D4659))","v":""},"","","",""]
[null,null,null,null,{"$f":"IF(D4660=\"\",\"\",COUNTIF(Tabulka5[Data],D4660))","v":""},"","","",""]
[null,null,null,null,{"$f":"IF(D4661=\"\",\"\",COUNTIF(Tabulka5[Data],D4661))","v":""},"","","",""]
[null,null,null,null,{"$f":"IF(D4662=\"\",\"\",COUNTIF(Tabulka5[Data],D4662))","v":""},"","","",""]
[null,null,null,null,{"$f":"IF(D4663=\"\",\"\",COUNTIF(Tabulka5[Data],D4663))","v":""},"","","",""]
[null,null,null,null,{"$f":"IF(D4664=\"\",\"\",COUNTIF(Tabulka5[Data],D4664))","v":""},"","","",""]
[null,null,null,null,{"$f":"IF(D4665=\"\",\"\",COUNTIF(Tabulka5[Data],D4665))","v":""},"","","",""]
[null,null,null,null,{"$f":"IF(D4666=\"\",\"\",COUNTIF(Tabulka5[Data],D4666))","v":""},"","","",""]
[null,null,null,null,{"$f":"IF(D4667=\"\",\"\",COUNTIF(Tabulka5[Data],D4667))","v":""},"","","",""]
[null,null,null,null,{"$f":"IF(D4668=\"\",\"\",COUNTIF(Tabulka5[Data],D4668))","v":""},"","","",""]
[null,null,null,null,{"$f":"IF(D4669=\"\",\"\",COUNTIF(Tabulka5[Data],D4669))","v":""},"","","",""]
[null,null,null,null,{"$f":"IF(D4670=\"\",\"\",COUNTIF(Tabulka5[Data],D4670))","v":""},"","","",""]
[null,null,null,null,{"$f":"IF(D4671=\"\",\"\",COUNTIF(Tabulka5[Data],D4671))","v":""},"","","",""]
[null,null,null,null,{"$f":"IF(D4672=\"\",\"\",COUNTIF(Tabulka5[Data],D4672))","v":""},"","","",""]
[null,null,null,null,{"$f":"IF(D4673=\"\",\"\",COUNTIF(Tabulka5[Data],D4673))","v":""},"","","",""]
[null,null,null,null,{"$f":"IF(D4674=\"\",\"\",COUNTIF(Tabulka5[Data],D4674))","v":""},"","","",""]
[null,null,null,null,{"$f":"IF(D4675=\"\",\"\",COUNTIF(Tabulka5[Data],D4675))","v":""},"","","",""]
[null,null,null,null,{"$f":"IF(D4676=\"\",\"\",COUNTIF(Tabulka5[Data],D4676))","v":""},"","","",""]
[null,null,null,null,{"$f":"IF(D4677=\"\",\"\",COUNTIF(Tabulka5[Data],D4677))","v":""},"","","",""]
[null,null,null,null,{"$f":"IF(D4678=\"\",\"\",COUNTIF(Tabulka5[Data],D4678))","v":""},"","","",""]
[null,null,null,null,{"$f":"IF(D4679=\"\",\"\",COUNTIF(Tabulka5[Data],D4679))","v":""},"","","",""]
[null,null,null,null,{"$f":"IF(D4680=\"\",\"\",COUNTIF(Tabulka5[Data],D4680))","v":""},"","","",""]
[null,null,null,null,{"$f":"IF(D4681=\"\",\"\",COUNTIF(Tabulka5[Data],D4681))","v":""},"","","",""]
[null,null,null,null,{"$f":"IF(D4682=\"\",\"\",COUNTIF(Tabulka5[Data],D4682))","v":""},"","","",""]
[null,null,null,null,{"$f":"IF(D4683=\"\",\"\",COUNTIF(Tabulka5[Data],D4683))","v":""},"","","",""]
[null,null,null,null,{"$f":"IF(D4684=\"\",\"\",COUNTIF(Tabulka5[Data],D4684))","v":""},"","","",""]
[null,null,null,null,{"$f":"IF(D4685=\"\",\"\",COUNTIF(Tabulka5[Data],D4685))","v":""},"","","",""]
[null,null,null,null,{"$f":"IF(D4686=\"\",\"\",COUNTIF(Tabulka5[Data],D4686))","v":""},"","","",""]
[null,null,null,null,{"$f":"IF(D4687=\"\",\"\",COUNTIF(Tabulka5[Data],D4687))","v":""},"","","",""]
[null,null,null,null,{"$f":"IF(D4688=\"\",\"\",COUNTIF(Tabulka5[Data],D4688))","v":""},"","","",""]
[null,null,null,null,{"$f":"IF(D4689=\"\",\"\",COUNTIF(Tabulka5[Data],D4689))","v":""},{"$f":"IF(OR($K$11=0,D4689=\"\"),\"\",IF(D4690=\"\",1-I4688,ROUND(E4689/SUM($E$15:$E$6350),3)))","v":""},{"$f":"IF(OR(D4689=\"\",$A$11=\"nominální\"),\"\",G4688+E4689)","v":""},{"$f":"IF(OR($K$11=0,D4689=\"\",$A$11=\"nominální\"),\"\",H4688+F4689)","v":""},{"$f":"IF(OR($K$11=0,D4689=\"\"),\"\",I4688+F4689)","v":""}]
[null,null,null,null,{"$f":"IF(D4690=\"\",\"\",COUNTIF(Tabulka5[Data],D4690))","v":""},"","","",""]
[null,null,null,null,{"$f":"IF(D4691=\"\",\"\",COUNTIF(Tabulka5[Data],D4691))","v":""},"","","",""]
[null,null,null,null,{"$f":"IF(D4692=\"\",\"\",COUNTIF(Tabulka5[Data],D4692))","v":""},"","","",""]
[null,null,null,null,{"$f":"IF(D4693=\"\",\"\",COUNTIF(Tabulka5[Data],D4693))","v":""},"","","",""]
[null,null,null,null,{"$f":"IF(D4694=\"\",\"\",COUNTIF(Tabulka5[Data],D4694))","v":""},"","","",""]
[null,null,null,null,{"$f":"IF(D4695=\"\",\"\",COUNTIF(Tabulka5[Data],D4695))","v":""},"","","",""]
[null,null,null,null,{"$f":"IF(D4696=\"\",\"\",COUNTIF(Tabulka5[Data],D4696))","v":""},"","","",""]
[null,null,null,null,{"$f":"IF(D4697=\"\",\"\",COUNTIF(Tabulka5[Data],D4697))","v":""},"","","",""]
[null,null,null,null,{"$f":"IF(D4698=\"\",\"\",COUNTIF(Tabulka5[Data],D4698))","v":""},"","","",""]
[null,null,null,null,{"$f":"IF(D4699=\"\",\"\",COUNTIF(Tabulka5[Data],D4699))","v":""},"","","",""]
[null,null,null,null,{"$f":"IF(D4700=\"\",\"\",COUNTIF(Tabulka5[Data],D4700))","v":""},"","","",""]
[null,null,null,null,{"$f":"IF(D4701=\"\",\"\",COUNTIF(Tabulka5[Data],D4701))","v":""},"","","",""]
[null,null,null,null,{"$f":"IF(D4702=\"\",\"\",COUNTIF(Tabulka5[Data],D4702))","v":""},"","","",""]
[null,null,null,null,{"$f":"IF(D4703=\"\",\"\",COUNTIF(Tabulka5[Data],D4703))","v":""},"","","",""]
[null,null,null,null,{"$f":"IF(D4704=\"\",\"\",COUNTIF(Tabulka5[Data],D4704))","v":""},"","","",""]
[null,null,null,null,{"$f":"IF(D4705=\"\",\"\",COUNTIF(Tabulka5[Data],D4705))","v":""},"","","",""]
[null,null,null,null,{"$f":"IF(D4706=\"\",\"\",COUNTIF(Tabulka5[Data],D4706))","v":""},"","","",""]
[null,null,null,null,{"$f":"IF(D4707=\"\",\"\",COUNTIF(Tabulka5[Data],D4707))","v":""},"","","",""]
[null,null,null,null,{"$f":"IF(D4708=\"\",\"\",COUNTIF(Tabulka5[Data],D4708))","v":""},"","","",""]
[null,null,null,null,{"$f":"IF(D4709=\"\",\"\",COUNTIF(Tabulka5[Data],D4709))","v":""},"","","",""]
[null,null,null,null,{"$f":"IF(D4710=\"\",\"\",COUNTIF(Tabulka5[Data],D4710))","v":""},"","","",""]
[null,null,null,null,{"$f":"IF(D4711=\"\",\"\",COUNTIF(Tabulka5[Data],D4711))","v":""},"","","",""]
[null,null,null,null,{"$f":"IF(D4712=\"\",\"\",COUNTIF(Tabulka5[Data],D4712))","v":""},"","","",""]
[null,null,null,null,{"$f":"IF(D4713=\"\",\"\",COUNTIF(Tabulka5[Data],D4713))","v":""},"","","",""]
[null,null,null,null,{"$f":"IF(D4714=\"\",\"\",COUNTIF(Tabulka5[Data],D4714))","v":""},"","","",""]
[null,null,null,null,{"$f":"IF(D4715=\"\",\"\",COUNTIF(Tabulka5[Data],D4715))","v":""},"","","",""]
[null,null,null,null,{"$f":"IF(D4716=\"\",\"\",COUNTIF(Tabulka5[Data],D4716))","v":""},"","","",""]
[null,null,null,null,{"$f":"IF(D4717=\"\",\"\",COUNTIF(Tabulka5[Data],D4717))","v":""},"","","",""]
[null,null,null,null,{"$f":"IF(D4718=\"\",\"\",COUNTIF(Tabulka5[Data],D4718))","v":""},"","","",""]
[null,null,null,null,{"$f":"IF(D4719=\"\",\"\",COUNTIF(Tabulka5[Data],D4719))","v":""},"","","",""]
[null,null,null,null,{"$f":"IF(D4720=\"\",\"\",COUNTIF(Tabulka5[Data],D4720))","v":""},"","","",""]
[null,null,null,null,{"$f":"IF(D4721=\"\",\"\",COUNTIF(Tabulka5[Data],D4721))","v":""},"","","",""]
[null,null,null,null,{"$f":"IF(D4722=\"\",\"\",COUNTIF(Tabulka5[Data],D4722))","v":""},"","","",""]
[null,null,null,null,{"$f":"IF(D4723=\"\",\"\",COUNTIF(Tabulka5[Data],D4723))","v":""},"","","",""]
[null,null,null,null,{"$f":"IF(D4724=\"\",\"\",COUNTIF(Tabulka5[Data],D4724))","v":""},"","","",""]
[null,null,null,null,{"$f":"IF(D4725=\"\",\"\",COUNTIF(Tabulka5[Data],D4725))","v":""},"","","",""]
[null,null,null,null,{"$f":"IF(D4726=\"\",\"\",COUNTIF(Tabulka5[Data],D4726))","v":""},"","","",""]
[null,null,null,null,{"$f":"IF(D4727=\"\",\"\",COUNTIF(Tabulka5[Data],D4727))","v":""},"","","",""]
[null,null,null,null,{"$f":"IF(D4728=\"\",\"\",COUNTIF(Tabulka5[Data],D4728))","v":""},"","","",""]
[null,null,null,null,{"$f":"IF(D4729=\"\",\"\",COUNTIF(Tabulka5[Data],D4729))","v":""},"","","",""]
[null,null,null,null,{"$f":"IF(D4730=\"\",\"\",COUNTIF(Tabulka5[Data],D4730))","v":""},"","","",""]
[null,null,null,null,{"$f":"IF(D4731=\"\",\"\",COUNTIF(Tabulka5[Data],D4731))","v":""},"","","",""]
[null,null,null,null,{"$f":"IF(D4732=\"\",\"\",COUNTIF(Tabulka5[Data],D4732))","v":""},"","","",""]
[null,null,null,null,{"$f":"IF(D4733=\"\",\"\",COUNTIF(Tabulka5[Data],D4733))","v":""},"","","",""]
[null,null,null,null,{"$f":"IF(D4734=\"\",\"\",COUNTIF(Tabulka5[Data],D4734))","v":""},"","","",""]
[null,null,null,null,{"$f":"IF(D4735=\"\",\"\",COUNTIF(Tabulka5[Data],D4735))","v":""},"","","",""]
[null,null,null,null,{"$f":"IF(D4736=\"\",\"\",COUNTIF(Tabulka5[Data],D4736))","v":""},"","","",""]
[null,null,null,null,{"$f":"IF(D4737=\"\",\"\",COUNTIF(Tabulka5[Data],D4737))","v":""},"","","",""]
[null,null,null,null,{"$f":"IF(D4738=\"\",\"\",COUNTIF(Tabulka5[Data],D4738))","v":""},"","","",""]
[null,null,null,null,{"$f":"IF(D4739=\"\",\"\",COUNTIF(Tabulka5[Data],D4739))","v":""},"","","",""]
[null,null,null,null,{"$f":"IF(D4740=\"\",\"\",COUNTIF(Tabulka5[Data],D4740))","v":""},"","","",""]
[null,null,null,null,{"$f":"IF(D4741=\"\",\"\",COUNTIF(Tabulka5[Data],D4741))","v":""},"","","",""]
[null,null,null,null,{"$f":"IF(D4742=\"\",\"\",COUNTIF(Tabulka5[Data],D4742))","v":""},"","","",""]
[null,null,null,null,{"$f":"IF(D4743=\"\",\"\",COUNTIF(Tabulka5[Data],D4743))","v":""},"","","",""]
[null,null,null,null,{"$f":"IF(D4744=\"\",\"\",COUNTIF(Tabulka5[Data],D4744))","v":""},"","","",""]
[null,null,null,null,{"$f":"IF(D4745=\"\",\"\",COUNTIF(Tabulka5[Data],D4745))","v":""},"","","",""]
[null,null,null,null,{"$f":"IF(D4746=\"\",\"\",COUNTIF(Tabulka5[Data],D4746))","v":""},"","","",""]
[null,null,null,null,{"$f":"IF(D4747=\"\",\"\",COUNTIF(Tabulka5[Data],D4747))","v":""},"","","",""]
[null,null,null,null,{"$f":"IF(D4748=\"\",\"\",COUNTIF(Tabulka5[Data],D4748))","v":""},"","","",""]
[null,null,null,null,{"$f":"IF(D4749=\"\",\"\",COUNTIF(Tabulka5[Data],D4749))","v":""},"","","",""]
[null,null,null,null,{"$f":"IF(D4750=\"\",\"\",COUNTIF(Tabulka5[Data],D4750))","v":""},"","","",""]
[null,null,null,null,{"$f":"IF(D4751=\"\",\"\",COUNTIF(Tabulka5[Data],D4751))","v":""},"","","",""]
[null,null,null,null,{"$f":"IF(D4752=\"\",\"\",COUNTIF(Tabulka5[Data],D4752))","v":""},"","","",""]
[null,null,null,null,{"$f":"IF(D4753=\"\",\"\",COUNTIF(Tabulka5[Data],D4753))","v":""},{"$f":"IF(OR($K$11=0,D4753=\"\"),\"\",IF(D4754=\"\",1-I4752,ROUND(E4753/SUM($E$15:$E$6350),3)))","v":""},{"$f":"IF(OR(D4753=\"\",$A$11=\"nominální\"),\"\",G4752+E4753)","v":""},{"$f":"IF(OR($K$11=0,D4753=\"\",$A$11=\"nominální\"),\"\",H4752+F4753)","v":""},{"$f":"IF(OR($K$11=0,D4753=\"\"),\"\",I4752+F4753)","v":""}]
[null,null,null,null,{"$f":"IF(D4754=\"\",\"\",COUNTIF(Tabulka5[Data],D4754))","v":""},"","","",""]
[null,null,null,null,{"$f":"IF(D4755=\"\",\"\",COUNTIF(Tabulka5[Data],D4755))","v":""},"","","",""]
[null,null,null,null,{"$f":"IF(D4756=\"\",\"\",COUNTIF(Tabulka5[Data],D4756))","v":""},"","","",""]
[null,null,null,null,{"$f":"IF(D4757=\"\",\"\",COUNTIF(Tabulka5[Data],D4757))","v":""},"","","",""]
[null,null,null,null,{"$f":"IF(D4758=\"\",\"\",COUNTIF(Tabulka5[Data],D4758))","v":""},"","","",""]
[null,null,null,null,{"$f":"IF(D4759=\"\",\"\",COUNTIF(Tabulka5[Data],D4759))","v":""},"","","",""]
[null,null,null,null,{"$f":"IF(D4760=\"\",\"\",COUNTIF(Tabulka5[Data],D4760))","v":""},"","","",""]
[null,null,null,null,{"$f":"IF(D4761=\"\",\"\",COUNTIF(Tabulka5[Data],D4761))","v":""},"","","",""]
[null,null,null,null,{"$f":"IF(D4762=\"\",\"\",COUNTIF(Tabulka5[Data],D4762))","v":""},"","","",""]
[null,null,null,null,{"$f":"IF(D4763=\"\",\"\",COUNTIF(Tabulka5[Data],D4763))","v":""},"","","",""]
[null,null,null,null,{"$f":"IF(D4764=\"\",\"\",COUNTIF(Tabulka5[Data],D4764))","v":""},"","","",""]
[null,null,null,null,{"$f":"IF(D4765=\"\",\"\",COUNTIF(Tabulka5[Data],D4765))","v":""},"","","",""]
[null,null,null,null,{"$f":"IF(D4766=\"\",\"\",COUNTIF(Tabulka5[Data],D4766))","v":""},"","","",""]
[null,null,null,null,{"$f":"IF(D4767=\"\",\"\",COUNTIF(Tabulka5[Data],D4767))","v":""},"","","",""]
[null,null,null,null,{"$f":"IF(D4768=\"\",\"\",COUNTIF(Tabulka5[Data],D4768))","v":""},"","","",""]
[null,null,null,null,{"$f":"IF(D4769=\"\",\"\",COUNTIF(Tabulka5[Data],D4769))","v":""},"","","",""]
[null,null,null,null,{"$f":"IF(D4770=\"\",\"\",COUNTIF(Tabulka5[Data],D4770))","v":""},"","","",""]
[null,null,null,null,{"$f":"IF(D4771=\"\",\"\",COUNTIF(Tabulka5[Data],D4771))","v":""},"","","",""]
[null,null,null,null,{"$f":"IF(D4772=\"\",\"\",COUNTIF(Tabulka5[Data],D4772))","v":""},"","","",""]
[null,null,null,null,{"$f":"IF(D4773=\"\",\"\",COUNTIF(Tabulka5[Data],D4773))","v":""},"","","",""]
[null,null,null,null,{"$f":"IF(D4774=\"\",\"\",COUNTIF(Tabulka5[Data],D4774))","v":""},"","","",""]
[null,null,null,null,{"$f":"IF(D4775=\"\",\"\",COUNTIF(Tabulka5[Data],D4775))","v":""},"","","",""]
[null,null,null,null,{"$f":"IF(D4776=\"\",\"\",COUNTIF(Tabulka5[Data],D4776))","v":""},"","","",""]
[null,null,null,null,{"$f":"IF(D4777=\"\",\"\",COUNTIF(Tabulka5[Data],D4777))","v":""},"","","",""]
[null,null,null,null,{"$f":"IF(D4778=\"\",\"\",COUNTIF(Tabulka5[Data],D4778))","v":""},"","","",""]
[null,null,null,null,{"$f":"IF(D4779=\"\",\"\",COUNTIF(Tabulka5[Data],D4779))","v":""},"","","",""]
[null,null,null,null,{"$f":"IF(D4780=\"\",\"\",COUNTIF(Tabulka5[Data],D4780))","v":""},"","","",""]
[null,null,null,null,{"$f":"IF(D4781=\"\",\"\",COUNTIF(Tabulka5[Data],D4781))","v":""},"","","",""]
[null,null,null,null,{"$f":"IF(D4782=\"\",\"\",COUNTIF(Tabulka5[Data],D4782))","v":""},"","","",""]
[null,null,null,null,{"$f":"IF(D4783=\"\",\"\",COUNTIF(Tabulka5[Data],D4783))","v":""},"","","",""]
[null,null,null,null,{"$f":"IF(D4784=\"\",\"\",COUNTIF(Tabulka5[Data],D4784))","v":""},"","","",""]
[null,null,null,null,{"$f":"IF(D4785=\"\",\"\",COUNTIF(Tabulka5[Data],D4785))","v":""},"","","",""]
[null,null,null,null,{"$f":"IF(D4786=\"\",\"\",COUNTIF(Tabulka5[Data],D4786))","v":""},"","","",""]
[null,null,null,null,{"$f":"IF(D4787=\"\",\"\",COUNTIF(Tabulka5[Data],D4787))","v":""},"","","",""]
[null,null,null,null,{"$f":"IF(D4788=\"\",\"\",COUNTIF(Tabulka5[Data],D4788))","v":""},"","","",""]
[null,null,null,null,{"$f":"IF(D4789=\"\",\"\",COUNTIF(Tabulka5[Data],D4789))","v":""},"","","",""]
[null,null,null,null,{"$f":"IF(D4790=\"\",\"\",COUNTIF(Tabulka5[Data],D4790))","v":""},"","","",""]
[null,null,null,null,{"$f":"IF(D4791=\"\",\"\",COUNTIF(Tabulka5[Data],D4791))","v":""},"","","",""]
[null,null,null,null,{"$f":"IF(D4792=\"\",\"\",COUNTIF(Tabulka5[Data],D4792))","v":""},"","","",""]
[null,null,null,null,{"$f":"IF(D4793=\"\",\"\",COUNTIF(Tabulka5[Data],D4793))","v":""},"","","",""]
[null,null,null,null,{"$f":"IF(D4794=\"\",\"\",COUNTIF(Tabulka5[Data],D4794))","v":""},"","","",""]
[null,null,null,null,{"$f":"IF(D4795=\"\",\"\",COUNTIF(Tabulka5[Data],D4795))","v":""},"","","",""]
[null,null,null,null,{"$f":"IF(D4796=\"\",\"\",COUNTIF(Tabulka5[Data],D4796))","v":""},"","","",""]
[null,null,null,null,{"$f":"IF(D4797=\"\",\"\",COUNTIF(Tabulka5[Data],D4797))","v":""},"","","",""]
[null,null,null,null,{"$f":"IF(D4798=\"\",\"\",COUNTIF(Tabulka5[Data],D4798))","v":""},"","","",""]
[null,null,null,null,{"$f":"IF(D4799=\"\",\"\",COUNTIF(Tabulka5[Data],D4799))","v":""},"","","",""]
[null,null,null,null,{"$f":"IF(D4800=\"\",\"\",COUNTIF(Tabulka5[Data],D4800))","v":""},"","","",""]
[null,null,null,null,{"$f":"IF(D4801=\"\",\"\",COUNTIF(Tabulka5[Data],D4801))","v":""},"","","",""]
[null,null,null,null,{"$f":"IF(D4802=\"\",\"\",COUNTIF(Tabulka5[Data],D4802))","v":""},"","","",""]
[null,null,null,null,{"$f":"IF(D4803=\"\",\"\",COUNTIF(Tabulka5[Data],D4803))","v":""},"","","",""]
[null,null,null,null,{"$f":"IF(D4804=\"\",\"\",COUNTIF(Tabulka5[Data],D4804))","v":""},"","","",""]
[null,null,null,null,{"$f":"IF(D4805=\"\",\"\",COUNTIF(Tabulka5[Data],D4805))","v":""},"","","",""]
[null,null,null,null,{"$f":"IF(D4806=\"\",\"\",COUNTIF(Tabulka5[Data],D4806))","v":""},"","","",""]
[null,null,null,null,{"$f":"IF(D4807=\"\",\"\",COUNTIF(Tabulka5[Data],D4807))","v":""},"","","",""]
[null,null,null,null,{"$f":"IF(D4808=\"\",\"\",COUNTIF(Tabulka5[Data],D4808))","v":""},"","","",""]
[null,null,null,null,{"$f":"IF(D4809=\"\",\"\",COUNTIF(Tabulka5[Data],D4809))","v":""},"","","",""]
[null,null,null,null,{"$f":"IF(D4810=\"\",\"\",COUNTIF(Tabulka5[Data],D4810))","v":""},"","","",""]
[null,null,null,null,{"$f":"IF(D4811=\"\",\"\",COUNTIF(Tabulka5[Data],D4811))","v":""},"","","",""]
[null,null,null,null,{"$f":"IF(D4812=\"\",\"\",COUNTIF(Tabulka5[Data],D4812))","v":""},"","","",""]
[null,null,null,null,{"$f":"IF(D4813=\"\",\"\",COUNTIF(Tabulka5[Data],D4813))","v":""},"","","",""]
[null,null,null,null,{"$f":"IF(D4814=\"\",\"\",COUNTIF(Tabulka5[Data],D4814))","v":""},"","","",""]
[null,null,null,null,{"$f":"IF(D4815=\"\",\"\",COUNTIF(Tabulka5[Data],D4815))","v":""},"","","",""]
[null,null,null,null,{"$f":"IF(D4816=\"\",\"\",COUNTIF(Tabulka5[Data],D4816))","v":""},"","","",""]
[null,null,null,null,{"$f":"IF(D4817=\"\",\"\",COUNTIF(Tabulka5[Data],D4817))","v":""},{"$f":"IF(OR($K$11=0,D4817=\"\"),\"\",IF(D4818=\"\",1-I4816,ROUND(E4817/SUM($E$15:$E$6350),3)))","v":""},{"$f":"IF(OR(D4817=\"\",$A$11=\"nominální\"),\"\",G4816+E4817)","v":""},{"$f":"IF(OR($K$11=0,D4817=\"\",$A$11=\"nominální\"),\"\",H4816+F4817)","v":""},{"$f":"IF(OR($K$11=0,D4817=\"\"),\"\",I4816+F4817)","v":""}]
[null,null,null,null,{"$f":"IF(D4818=\"\",\"\",COUNTIF(Tabulka5[Data],D4818))","v":""},"","","",""]
[null,null,null,null,{"$f":"IF(D4819=\"\",\"\",COUNTIF(Tabulka5[Data],D4819))","v":""},"","","",""]
[null,null,null,null,{"$f":"IF(D4820=\"\",\"\",COUNTIF(Tabulka5[Data],D4820))","v":""},"","","",""]
[null,null,null,null,{"$f":"IF(D4821=\"\",\"\",COUNTIF(Tabulka5[Data],D4821))","v":""},"","","",""]
[null,null,null,null,{"$f":"IF(D4822=\"\",\"\",COUNTIF(Tabulka5[Data],D4822))","v":""},"","","",""]
[null,null,null,null,{"$f":"IF(D4823=\"\",\"\",COUNTIF(Tabulka5[Data],D4823))","v":""},"","","",""]
[null,null,null,null,{"$f":"IF(D4824=\"\",\"\",COUNTIF(Tabulka5[Data],D4824))","v":""},"","","",""]
[null,null,null,null,{"$f":"IF(D4825=\"\",\"\",COUNTIF(Tabulka5[Data],D4825))","v":""},"","","",""]
[null,null,null,null,{"$f":"IF(D4826=\"\",\"\",COUNTIF(Tabulka5[Data],D4826))","v":""},"","","",""]
[null,null,null,null,{"$f":"IF(D4827=\"\",\"\",COUNTIF(Tabulka5[Data],D4827))","v":""},"","","",""]
[null,null,null,null,{"$f":"IF(D4828=\"\",\"\",COUNTIF(Tabulka5[Data],D4828))","v":""},"","","",""]
[null,null,null,null,{"$f":"IF(D4829=\"\",\"\",COUNTIF(Tabulka5[Data],D4829))","v":""},"","","",""]
[null,null,null,null,{"$f":"IF(D4830=\"\",\"\",COUNTIF(Tabulka5[Data],D4830))","v":""},"","","",""]
[null,null,null,null,{"$f":"IF(D4831=\"\",\"\",COUNTIF(Tabulka5[Data],D4831))","v":""},"","","",""]
[null,null,null,null,{"$f":"IF(D4832=\"\",\"\",COUNTIF(Tabulka5[Data],D4832))","v":""},"","","",""]
[null,null,null,null,{"$f":"IF(D4833=\"\",\"\",COUNTIF(Tabulka5[Data],D4833))","v":""},"","","",""]
[null,null,null,null,{"$f":"IF(D4834=\"\",\"\",COUNTIF(Tabulka5[Data],D4834))","v":""},"","","",""]
[null,null,null,null,{"$f":"IF(D4835=\"\",\"\",COUNTIF(Tabulka5[Data],D4835))","v":""},"","","",""]
[null,null,null,null,{"$f":"IF(D4836=\"\",\"\",COUNTIF(Tabulka5[Data],D4836))","v":""},"","","",""]
[null,null,null,null,{"$f":"IF(D4837=\"\",\"\",COUNTIF(Tabulka5[Data],D4837))","v":""},"","","",""]
[null,null,null,null,{"$f":"IF(D4838=\"\",\"\",COUNTIF(Tabulka5[Data],D4838))","v":""},"","","",""]
[null,null,null,null,{"$f":"IF(D4839=\"\",\"\",COUNTIF(Tabulka5[Data],D4839))","v":""},"","","",""]
[null,null,null,null,{"$f":"IF(D4840=\"\",\"\",COUNTIF(Tabulka5[Data],D4840))","v":""},"","","",""]
[null,null,null,null,{"$f":"IF(D4841=\"\",\"\",COUNTIF(Tabulka5[Data],D4841))","v":""},"","","",""]
[null,null,null,null,{"$f":"IF(D4842=\"\",\"\",COUNTIF(Tabulka5[Data],D4842))","v":""},"","","",""]
[null,null,null,null,{"$f":"IF(D4843=\"\",\"\",COUNTIF(Tabulka5[Data],D4843))","v":""},"","","",""]
[null,null,null,null,{"$f":"IF(D4844=\"\",\"\",COUNTIF(Tabulka5[Data],D4844))","v":""},"","","",""]
[null,null,null,null,{"$f":"IF(D4845=\"\",\"\",COUNTIF(Tabulka5[Data],D4845))","v":""},"","","",""]
[null,null,null,null,{"$f":"IF(D4846=\"\",\"\",COUNTIF(Tabulka5[Data],D4846))","v":""},"","","",""]
[null,null,null,null,{"$f":"IF(D4847=\"\",\"\",COUNTIF(Tabulka5[Data],D4847))","v":""},"","","",""]
[null,null,null,null,{"$f":"IF(D4848=\"\",\"\",COUNTIF(Tabulka5[Data],D4848))","v":""},"","","",""]
[null,null,null,null,{"$f":"IF(D4849=\"\",\"\",COUNTIF(Tabulka5[Data],D4849))","v":""},"","","",""]
[null,null,null,null,{"$f":"IF(D4850=\"\",\"\",COUNTIF(Tabulka5[Data],D4850))","v":""},"","","",""]
[null,null,null,null,{"$f":"IF(D4851=\"\",\"\",COUNTIF(Tabulka5[Data],D4851))","v":""},"","","",""]
[null,null,null,null,{"$f":"IF(D4852=\"\",\"\",COUNTIF(Tabulka5[Data],D4852))","v":""},"","","",""]
[null,null,null,null,{"$f":"IF(D4853=\"\",\"\",COUNTIF(Tabulka5[Data],D4853))","v":""},"","","",""]
[null,null,null,null,{"$f":"IF(D4854=\"\",\"\",COUNTIF(Tabulka5[Data],D4854))","v":""},"","","",""]
[null,null,null,null,{"$f":"IF(D4855=\"\",\"\",COUNTIF(Tabulka5[Data],D4855))","v":""},"","","",""]
[null,null,null,null,{"$f":"IF(D4856=\"\",\"\",COUNTIF(Tabulka5[Data],D4856))","v":""},"","","",""]
[null,null,null,null,{"$f":"IF(D4857=\"\",\"\",COUNTIF(Tabulka5[Data],D4857))","v":""},"","","",""]
[null,null,null,null,{"$f":"IF(D4858=\"\",\"\",COUNTIF(Tabulka5[Data],D4858))","v":""},"","","",""]
[null,null,null,null,{"$f":"IF(D4859=\"\",\"\",COUNTIF(Tabulka5[Data],D4859))","v":""},"","","",""]
[null,null,null,null,{"$f":"IF(D4860=\"\",\"\",COUNTIF(Tabulka5[Data],D4860))","v":""},"","","",""]
[null,null,null,null,{"$f":"IF(D4861=\"\",\"\",COUNTIF(Tabulka5[Data],D4861))","v":""},"","","",""]
[null,null,null,null,{"$f":"IF(D4862=\"\",\"\",COUNTIF(Tabulka5[Data],D4862))","v":""},"","","",""]
[null,null,null,null,{"$f":"IF(D4863=\"\",\"\",COUNTIF(Tabulka5[Data],D4863))","v":""},"","","",""]
[null,null,null,null,{"$f":"IF(D4864=\"\",\"\",COUNTIF(Tabulka5[Data],D4864))","v":""},"","","",""]
[null,null,null,null,{"$f":"IF(D4865=\"\",\"\",COUNTIF(Tabulka5[Data],D4865))","v":""},"","","",""]
[null,null,null,null,{"$f":"IF(D4866=\"\",\"\",COUNTIF(Tabulka5[Data],D4866))","v":""},"","","",""]
[null,null,null,null,{"$f":"IF(D4867=\"\",\"\",COUNTIF(Tabulka5[Data],D4867))","v":""},"","","",""]
[null,null,null,null,{"$f":"IF(D4868=\"\",\"\",COUNTIF(Tabulka5[Data],D4868))","v":""},"","","",""]
[null,null,null,null,{"$f":"IF(D4869=\"\",\"\",COUNTIF(Tabulka5[Data],D4869))","v":""},"","","",""]
[null,null,null,null,{"$f":"IF(D4870=\"\",\"\",COUNTIF(Tabulka5[Data],D4870))","v":""},"","","",""]
[null,null,null,null,{"$f":"IF(D4871=\"\",\"\",COUNTIF(Tabulka5[Data],D4871))","v":""},"","","",""]
[null,null,null,null,{"$f":"IF(D4872=\"\",\"\",COUNTIF(Tabulka5[Data],D4872))","v":""},"","","",""]
[null,null,null,null,{"$f":"IF(D4873=\"\",\"\",COUNTIF(Tabulka5[Data],D4873))","v":""},"","","",""]
[null,null,null,null,{"$f":"IF(D4874=\"\",\"\",COUNTIF(Tabulka5[Data],D4874))","v":""},"","","",""]
[null,null,null,null,{"$f":"IF(D4875=\"\",\"\",COUNTIF(Tabulka5[Data],D4875))","v":""},"","","",""]
[null,null,null,null,{"$f":"IF(D4876=\"\",\"\",COUNTIF(Tabulka5[Data],D4876))","v":""},"","","",""]
[null,null,null,null,{"$f":"IF(D4877=\"\",\"\",COUNTIF(Tabulka5[Data],D4877))","v":""},"","","",""]
[null,null,null,null,{"$f":"IF(D4878=\"\",\"\",COUNTIF(Tabulka5[Data],D4878))","v":""},"","","",""]
[null,null,null,null,{"$f":"IF(D4879=\"\",\"\",COUNTIF(Tabulka5[Data],D4879))","v":""},"","","",""]
[null,null,null,null,{"$f":"IF(D4880=\"\",\"\",COUNTIF(Tabulka5[Data],D4880))","v":""},"","","",""]
[null,null,null,null,{"$f":"IF(D4881=\"\",\"\",COUNTIF(Tabulka5[Data],D4881))","v":""},{"$f":"IF(OR($K$11=0,D4881=\"\"),\"\",IF(D4882=\"\",1-I4880,ROUND(E4881/SUM($E$15:$E$6350),3)))","v":""},{"$f":"IF(OR(D4881=\"\",$A$11=\"nominální\"),\"\",G4880+E4881)","v":""},{"$f":"IF(OR($K$11=0,D4881=\"\",$A$11=\"nominální\"),\"\",H4880+F4881)","v":""},{"$f":"IF(OR($K$11=0,D4881=\"\"),\"\",I4880+F4881)","v":""}]
[null,null,null,null,{"$f":"IF(D4882=\"\",\"\",COUNTIF(Tabulka5[Data],D4882))","v":""},"","","",""]
[null,null,null,null,{"$f":"IF(D4883=\"\",\"\",COUNTIF(Tabulka5[Data],D4883))","v":""},"","","",""]
[null,null,null,null,{"$f":"IF(D4884=\"\",\"\",COUNTIF(Tabulka5[Data],D4884))","v":""},"","","",""]
[null,null,null,null,{"$f":"IF(D4885=\"\",\"\",COUNTIF(Tabulka5[Data],D4885))","v":""},"","","",""]
[null,null,null,null,{"$f":"IF(D4886=\"\",\"\",COUNTIF(Tabulka5[Data],D4886))","v":""},"","","",""]
[null,null,null,null,{"$f":"IF(D4887=\"\",\"\",COUNTIF(Tabulka5[Data],D4887))","v":""},"","","",""]
[null,null,null,null,{"$f":"IF(D4888=\"\",\"\",COUNTIF(Tabulka5[Data],D4888))","v":""},"","","",""]
[null,null,null,null,{"$f":"IF(D4889=\"\",\"\",COUNTIF(Tabulka5[Data],D4889))","v":""},"","","",""]
[null,null,null,null,{"$f":"IF(D4890=\"\",\"\",COUNTIF(Tabulka5[Data],D4890))","v":""},"","","",""]
[null,null,null,null,{"$f":"IF(D4891=\"\",\"\",COUNTIF(Tabulka5[Data],D4891))","v":""},"","","",""]
[null,null,null,null,{"$f":"IF(D4892=\"\",\"\",COUNTIF(Tabulka5[Data],D4892))","v":""},"","","",""]
[null,null,null,null,{"$f":"IF(D4893=\"\",\"\",COUNTIF(Tabulka5[Data],D4893))","v":""},"","","",""]
[null,null,null,null,{"$f":"IF(D4894=\"\",\"\",COUNTIF(Tabulka5[Data],D4894))","v":""},"","","",""]
[null,null,null,null,{"$f":"IF(D4895=\"\",\"\",COUNTIF(Tabulka5[Data],D4895))","v":""},"","","",""]
[null,null,null,null,{"$f":"IF(D4896=\"\",\"\",COUNTIF(Tabulka5[Data],D4896))","v":""},"","","",""]
[null,null,null,null,{"$f":"IF(D4897=\"\",\"\",COUNTIF(Tabulka5[Data],D4897))","v":""},"","","",""]
[null,null,null,null,{"$f":"IF(D4898=\"\",\"\",COUNTIF(Tabulka5[Data],D4898))","v":""},"","","",""]
[null,null,null,null,{"$f":"IF(D4899=\"\",\"\",COUNTIF(Tabulka5[Data],D4899))","v":""},"","","",""]
[null,null,null,null,{"$f":"IF(D4900=\"\",\"\",COUNTIF(Tabulka5[Data],D4900))","v":""},"","","",""]
[null,null,null,null,{"$f":"IF(D4901=\"\",\"\",COUNTIF(Tabulka5[Data],D4901))","v":""},"","","",""]
[null,null,null,null,{"$f":"IF(D4902=\"\",\"\",COUNTIF(Tabulka5[Data],D4902))","v":""},"","","",""]
[null,null,null,null,{"$f":"IF(D4903=\"\",\"\",COUNTIF(Tabulka5[Data],D4903))","v":""},"","","",""]
[null,null,null,null,{"$f":"IF(D4904=\"\",\"\",COUNTIF(Tabulka5[Data],D4904))","v":""},"","","",""]
[null,null,null,null,{"$f":"IF(D4905=\"\",\"\",COUNTIF(Tabulka5[Data],D4905))","v":""},"","","",""]
[null,null,null,null,{"$f":"IF(D4906=\"\",\"\",COUNTIF(Tabulka5[Data],D4906))","v":""},"","","",""]
[null,null,null,null,{"$f":"IF(D4907=\"\",\"\",COUNTIF(Tabulka5[Data],D4907))","v":""},"","","",""]
[null,null,null,null,{"$f":"IF(D4908=\"\",\"\",COUNTIF(Tabulka5[Data],D4908))","v":""},"","","",""]
[null,null,null,null,{"$f":"IF(D4909=\"\",\"\",COUNTIF(Tabulka5[Data],D4909))","v":""},"","","",""]
[null,null,null,null,{"$f":"IF(D4910=\"\",\"\",COUNTIF(Tabulka5[Data],D4910))","v":""},"","","",""]
[null,null,null,null,{"$f":"IF(D4911=\"\",\"\",COUNTIF(Tabulka5[Data],D4911))","v":""},"","","",""]
[null,null,null,null,{"$f":"IF(D4912=\"\",\"\",COUNTIF(Tabulka5[Data],D4912))","v":""},"","","",""]
[null,null,null,null,{"$f":"IF(D4913=\"\",\"\",COUNTIF(Tabulka5[Data],D4913))","v":""},"","","",""]
[null,null,null,null,{"$f":"IF(D4914=\"\",\"\",COUNTIF(Tabulka5[Data],D4914))","v":""},"","","",""]
[null,null,null,null,{"$f":"IF(D4915=\"\",\"\",COUNTIF(Tabulka5[Data],D4915))","v":""},"","","",""]
[null,null,null,null,{"$f":"IF(D4916=\"\",\"\",COUNTIF(Tabulka5[Data],D4916))","v":""},"","","",""]
[null,null,null,null,{"$f":"IF(D4917=\"\",\"\",COUNTIF(Tabulka5[Data],D4917))","v":""},"","","",""]
[null,null,null,null,{"$f":"IF(D4918=\"\",\"\",COUNTIF(Tabulka5[Data],D4918))","v":""},"","","",""]
[null,null,null,null,{"$f":"IF(D4919=\"\",\"\",COUNTIF(Tabulka5[Data],D4919))","v":""},"","","",""]
[null,null,null,null,{"$f":"IF(D4920=\"\",\"\",COUNTIF(Tabulka5[Data],D4920))","v":""},"","","",""]
[null,null,null,null,{"$f":"IF(D4921=\"\",\"\",COUNTIF(Tabulka5[Data],D4921))","v":""},"","","",""]
[null,null,null,null,{"$f":"IF(D4922=\"\",\"\",COUNTIF(Tabulka5[Data],D4922))","v":""},"","","",""]
[null,null,null,null,{"$f":"IF(D4923=\"\",\"\",COUNTIF(Tabulka5[Data],D4923))","v":""},"","","",""]
[null,null,null,null,{"$f":"IF(D4924=\"\",\"\",COUNTIF(Tabulka5[Data],D4924))","v":""},"","","",""]
[null,null,null,null,{"$f":"IF(D4925=\"\",\"\",COUNTIF(Tabulka5[Data],D4925))","v":""},"","","",""]
[null,null,null,null,{"$f":"IF(D4926=\"\",\"\",COUNTIF(Tabulka5[Data],D4926))","v":""},"","","",""]
[null,null,null,null,{"$f":"IF(D4927=\"\",\"\",COUNTIF(Tabulka5[Data],D4927))","v":""},"","","",""]
[null,null,null,null,{"$f":"IF(D4928=\"\",\"\",COUNTIF(Tabulka5[Data],D4928))","v":""},"","","",""]
[null,null,null,null,{"$f":"IF(D4929=\"\",\"\",COUNTIF(Tabulka5[Data],D4929))","v":""},"","","",""]
[null,null,null,null,{"$f":"IF(D4930=\"\",\"\",COUNTIF(Tabulka5[Data],D4930))","v":""},"","","",""]
[null,null,null,null,{"$f":"IF(D4931=\"\",\"\",COUNTIF(Tabulka5[Data],D4931))","v":""},"","","",""]
[null,null,null,null,{"$f":"IF(D4932=\"\",\"\",COUNTIF(Tabulka5[Data],D4932))","v":""},"","","",""]
[null,null,null,null,{"$f":"IF(D4933=\"\",\"\",COUNTIF(Tabulka5[Data],D4933))","v":""},"","","",""]
[null,null,null,null,{"$f":"IF(D4934=\"\",\"\",COUNTIF(Tabulka5[Data],D4934))","v":""},"","","",""]
[null,null,null,null,{"$f":"IF(D4935=\"\",\"\",COUNTIF(Tabulka5[Data],D4935))","v":""},"","","",""]
[null,null,null,null,{"$f":"IF(D4936=\"\",\"\",COUNTIF(Tabulka5[Data],D4936))","v":""},"","","",""]
[null,null,null,null,{"$f":"IF(D4937=\"\",\"\",COUNTIF(Tabulka5[Data],D4937))","v":""},"","","",""]
[null,null,null,null,{"$f":"IF(D4938=\"\",\"\",COUNTIF(Tabulka5[Data],D4938))","v":""},"","","",""]
[null,null,null,null,{"$f":"IF(D4939=\"\",\"\",COUNTIF(Tabulka5[Data],D4939))","v":""},"","","",""]
[null,null,null,null,{"$f":"IF(D4940=\"\",\"\",COUNTIF(Tabulka5[Data],D4940))","v":""},"","","",""]
[null,null,null,null,{"$f":"IF(D4941=\"\",\"\",COUNTIF(Tabulka5[Data],D4941))","v":""},"","","",""]
[null,null,null,null,{"$f":"IF(D4942=\"\",\"\",COUNTIF(Tabulka5[Data],D4942))","v":""},"","","",""]
[null,null,null,null,{"$f":"IF(D4943=\"\",\"\",COUNTIF(Tabulka5[Data],D4943))","v":""},"","","",""]
[null,null,null,null,{"$f":"IF(D4944=\"\",\"\",COUNTIF(Tabulka5[Data],D4944))","v":""},"","","",""]
[null,null,null,null,{"$f":"IF(D4945=\"\",\"\",COUNTIF(Tabulka5[Data],D4945))","v":""},{"$f":"IF(OR($K$11=0,D4945=\"\"),\"\",IF(D4946=\"\",1-I4944,ROUND(E4945/SUM($E$15:$E$6350),3)))","v":""},{"$f":"IF(OR(D4945=\"\",$A$11=\"nominální\"),\"\",G4944+E4945)","v":""},{"$f":"IF(OR($K$11=0,D4945=\"\",$A$11=\"nominální\"),\"\",H4944+F4945)","v":""},{"$f":"IF(OR($K$11=0,D4945=\"\"),\"\",I4944+F4945)","v":""}]
[null,null,null,null,{"$f":"IF(D4946=\"\",\"\",COUNTIF(Tabulka5[Data],D4946))","v":""},"","","",""]
[null,null,null,null,{"$f":"IF(D4947=\"\",\"\",COUNTIF(Tabulka5[Data],D4947))","v":""},"","","",""]
[null,null,null,null,{"$f":"IF(D4948=\"\",\"\",COUNTIF(Tabulka5[Data],D4948))","v":""},"","","",""]
[null,null,null,null,{"$f":"IF(D4949=\"\",\"\",COUNTIF(Tabulka5[Data],D4949))","v":""},"","","",""]
[null,null,null,null,{"$f":"IF(D4950=\"\",\"\",COUNTIF(Tabulka5[Data],D4950))","v":""},"","","",""]
[null,null,null,null,{"$f":"IF(D4951=\"\",\"\",COUNTIF(Tabulka5[Data],D4951))","v":""},"","","",""]
[null,null,null,null,{"$f":"IF(D4952=\"\",\"\",COUNTIF(Tabulka5[Data],D4952))","v":""},"","","",""]
[null,null,null,null,{"$f":"IF(D4953=\"\",\"\",COUNTIF(Tabulka5[Data],D4953))","v":""},"","","",""]
[null,null,null,null,{"$f":"IF(D4954=\"\",\"\",COUNTIF(Tabulka5[Data],D4954))","v":""},"","","",""]
[null,null,null,null,{"$f":"IF(D4955=\"\",\"\",COUNTIF(Tabulka5[Data],D4955))","v":""},"","","",""]
[null,null,null,null,{"$f":"IF(D4956=\"\",\"\",COUNTIF(Tabulka5[Data],D4956))","v":""},"","","",""]
[null,null,null,null,{"$f":"IF(D4957=\"\",\"\",COUNTIF(Tabulka5[Data],D4957))","v":""},"","","",""]
[null,null,null,null,{"$f":"IF(D4958=\"\",\"\",COUNTIF(Tabulka5[Data],D4958))","v":""},"","","",""]
[null,null,null,null,{"$f":"IF(D4959=\"\",\"\",COUNTIF(Tabulka5[Data],D4959))","v":""},"","","",""]
[null,null,null,null,{"$f":"IF(D4960=\"\",\"\",COUNTIF(Tabulka5[Data],D4960))","v":""},"","","",""]
[null,null,null,null,{"$f":"IF(D4961=\"\",\"\",COUNTIF(Tabulka5[Data],D4961))","v":""},"","","",""]
[null,null,null,null,{"$f":"IF(D4962=\"\",\"\",COUNTIF(Tabulka5[Data],D4962))","v":""},"","","",""]
[null,null,null,null,{"$f":"IF(D4963=\"\",\"\",COUNTIF(Tabulka5[Data],D4963))","v":""},"","","",""]
[null,null,null,null,{"$f":"IF(D4964=\"\",\"\",COUNTIF(Tabulka5[Data],D4964))","v":""},"","","",""]
[null,null,null,null,{"$f":"IF(D4965=\"\",\"\",COUNTIF(Tabulka5[Data],D4965))","v":""},"","","",""]
[null,null,null,null,{"$f":"IF(D4966=\"\",\"\",COUNTIF(Tabulka5[Data],D4966))","v":""},"","","",""]
[null,null,null,null,{"$f":"IF(D4967=\"\",\"\",COUNTIF(Tabulka5[Data],D4967))","v":""},"","","",""]
[null,null,null,null,{"$f":"IF(D4968=\"\",\"\",COUNTIF(Tabulka5[Data],D4968))","v":""},"","","",""]
[null,null,null,null,{"$f":"IF(D4969=\"\",\"\",COUNTIF(Tabulka5[Data],D4969))","v":""},"","","",""]
[null,null,null,null,{"$f":"IF(D4970=\"\",\"\",COUNTIF(Tabulka5[Data],D4970))","v":""},"","","",""]
[null,null,null,null,{"$f":"IF(D4971=\"\",\"\",COUNTIF(Tabulka5[Data],D4971))","v":""},"","","",""]
[null,null,null,null,{"$f":"IF(D4972=\"\",\"\",COUNTIF(Tabulka5[Data],D4972))","v":""},"","","",""]
[null,null,null,null,{"$f":"IF(D4973=\"\",\"\",COUNTIF(Tabulka5[Data],D4973))","v":""},"","","",""]
[null,null,null,null,{"$f":"IF(D4974=\"\",\"\",COUNTIF(Tabulka5[Data],D4974))","v":""},"","","",""]
[null,null,null,null,{"$f":"IF(D4975=\"\",\"\",COUNTIF(Tabulka5[Data],D4975))","v":""},"","","",""]
[null,null,null,null,{"$f":"IF(D4976=\"\",\"\",COUNTIF(Tabulka5[Data],D4976))","v":""},"","","",""]
[null,null,null,null,{"$f":"IF(D4977=\"\",\"\",COUNTIF(Tabulka5[Data],D4977))","v":""},"","","",""]
[null,null,null,null,{"$f":"IF(D4978=\"\",\"\",COUNTIF(Tabulka5[Data],D4978))","v":""},"","","",""]
[null,null,null,null,{"$f":"IF(D4979=\"\",\"\",COUNTIF(Tabulka5[Data],D4979))","v":""},"","","",""]
[null,null,null,null,{"$f":"IF(D4980=\"\",\"\",COUNTIF(Tabulka5[Data],D4980))","v":""},"","","",""]
[null,null,null,null,{"$f":"IF(D4981=\"\",\"\",COUNTIF(Tabulka5[Data],D4981))","v":""},"","","",""]
[null,null,null,null,{"$f":"IF(D4982=\"\",\"\",COUNTIF(Tabulka5[Data],D4982))","v":""},"","","",""]
[null,null,null,null,{"$f":"IF(D4983=\"\",\"\",COUNTIF(Tabulka5[Data],D4983))","v":""},"","","",""]
[null,null,null,null,{"$f":"IF(D4984=\"\",\"\",COUNTIF(Tabulka5[Data],D4984))","v":""},"","","",""]
[null,null,null,null,{"$f":"IF(D4985=\"\",\"\",COUNTIF(Tabulka5[Data],D4985))","v":""},"","","",""]
[null,null,null,null,{"$f":"IF(D4986=\"\",\"\",COUNTIF(Tabulka5[Data],D4986))","v":""},"","","",""]
[null,null,null,null,{"$f":"IF(D4987=\"\",\"\",COUNTIF(Tabulka5[Data],D4987))","v":""},"","","",""]
[null,null,null,null,{"$f":"IF(D4988=\"\",\"\",COUNTIF(Tabulka5[Data],D4988))","v":""},"","","",""]
[null,null,null,null,{"$f":"IF(D4989=\"\",\"\",COUNTIF(Tabulka5[Data],D4989))","v":""},"","","",""]
[null,null,null,null,{"$f":"IF(D4990=\"\",\"\",COUNTIF(Tabulka5[Data],D4990))","v":""},"","","",""]
[null,null,null,null,{"$f":"IF(D4991=\"\",\"\",COUNTIF(Tabulka5[Data],D4991))","v":""},"","","",""]
[null,null,null,null,{"$f":"IF(D4992=\"\",\"\",COUNTIF(Tabulka5[Data],D4992))","v":""},"","","",""]
[null,null,null,null,{"$f":"IF(D4993=\"\",\"\",COUNTIF(Tabulka5[Data],D4993))","v":""},"","","",""]
[null,null,null,null,{"$f":"IF(D4994=\"\",\"\",COUNTIF(Tabulka5[Data],D4994))","v":""},"","","",""]
[null,null,null,null,{"$f":"IF(D4995=\"\",\"\",COUNTIF(Tabulka5[Data],D4995))","v":""},"","","",""]
[null,null,null,null,{"$f":"IF(D4996=\"\",\"\",COUNTIF(Tabulka5[Data],D4996))","v":""},"","","",""]
[null,null,null,null,{"$f":"IF(D4997=\"\",\"\",COUNTIF(Tabulka5[Data],D4997))","v":""},"","","",""]
[null,null,null,null,{"$f":"IF(D4998=\"\",\"\",COUNTIF(Tabulka5[Data],D4998))","v":""},"","","",""]
[null,null,null,null,{"$f":"IF(D4999=\"\",\"\",COUNTIF(Tabulka5[Data],D4999))","v":""},"","","",""]
[null,null,null,null,{"$f":"IF(D5000=\"\",\"\",COUNTIF(Tabulka5[Data],D5000))","v":""},"","","",""]
[null,null,null,null,{"$f":"IF(D5001=\"\",\"\",COUNTIF(Tabulka5[Data],D5001))","v":""},"","","",""]
[null,null,null,null,{"$f":"IF(D5002=\"\",\"\",COUNTIF(Tabulka5[Data],D5002))","v":""},"","","",""]
[null,null,null,null,{"$f":"IF(D5003=\"\",\"\",COUNTIF(Tabulka5[Data],D5003))","v":""},"","","",""]
[null,null,null,null,{"$f":"IF(D5004=\"\",\"\",COUNTIF(Tabulka5[Data],D5004))","v":""},"","","",""]
[null,null,null,null,{"$f":"IF(D5005=\"\",\"\",COUNTIF(Tabulka5[Data],D5005))","v":""},"","","",""]
[null,null,null,null,{"$f":"IF(D5006=\"\",\"\",COUNTIF(Tabulka5[Data],D5006))","v":""},"","","",""]
[null,null,null,null,{"$f":"IF(D5007=\"\",\"\",COUNTIF(Tabulka5[Data],D5007))","v":""},"","","",""]
[null,null,null,null,{"$f":"IF(D5008=\"\",\"\",COUNTIF(Tabulka5[Data],D5008))","v":""},"","","",""]
[null,null,null,null,{"$f":"IF(D5009=\"\",\"\",COUNTIF(Tabulka5[Data],D5009))","v":""},{"$f":"IF(OR($K$11=0,D5009=\"\"),\"\",IF(D5010=\"\",1-I5008,ROUND(E5009/SUM($E$15:$E$6350),3)))","v":""},{"$f":"IF(OR(D5009=\"\",$A$11=\"nominální\"),\"\",G5008+E5009)","v":""},{"$f":"IF(OR($K$11=0,D5009=\"\",$A$11=\"nominální\"),\"\",H5008+F5009)","v":""},{"$f":"IF(OR($K$11=0,D5009=\"\"),\"\",I5008+F5009)","v":""}]
[null,null,null,null,{"$f":"IF(D5010=\"\",\"\",COUNTIF(Tabulka5[Data],D5010))","v":""},"","","",""]
[null,null,null,null,{"$f":"IF(D5011=\"\",\"\",COUNTIF(Tabulka5[Data],D5011))","v":""},"","","",""]
[null,null,null,null,{"$f":"IF(D5012=\"\",\"\",COUNTIF(Tabulka5[Data],D5012))","v":""},"","","",""]
[null,null,null,null,{"$f":"IF(D5013=\"\",\"\",COUNTIF(Tabulka5[Data],D5013))","v":""},"","","",""]
[null,null,null,null,{"$f":"IF(D5014=\"\",\"\",COUNTIF(Tabulka5[Data],D5014))","v":""},"","","",""]
[null,null,null,null,{"$f":"IF(D5015=\"\",\"\",COUNTIF(Tabulka5[Data],D5015))","v":""},"","","",""]
[null,null,null,null,{"$f":"IF(D5016=\"\",\"\",COUNTIF(Tabulka5[Data],D5016))","v":""},"","","",""]
[null,null,null,null,{"$f":"IF(D5017=\"\",\"\",COUNTIF(Tabulka5[Data],D5017))","v":""},"","","",""]
[null,null,null,null,{"$f":"IF(D5018=\"\",\"\",COUNTIF(Tabulka5[Data],D5018))","v":""},"","","",""]
[null,null,null,null,{"$f":"IF(D5019=\"\",\"\",COUNTIF(Tabulka5[Data],D5019))","v":""},"","","",""]
[null,null,null,null,{"$f":"IF(D5020=\"\",\"\",COUNTIF(Tabulka5[Data],D5020))","v":""},"","","",""]
[null,null,null,null,{"$f":"IF(D5021=\"\",\"\",COUNTIF(Tabulka5[Data],D5021))","v":""},"","","",""]
[null,null,null,null,{"$f":"IF(D5022=\"\",\"\",COUNTIF(Tabulka5[Data],D5022))","v":""},"","","",""]
[null,null,null,null,{"$f":"IF(D5023=\"\",\"\",COUNTIF(Tabulka5[Data],D5023))","v":""},"","","",""]
[null,null,null,null,{"$f":"IF(D5024=\"\",\"\",COUNTIF(Tabulka5[Data],D5024))","v":""},"","","",""]
[null,null,null,null,{"$f":"IF(D5025=\"\",\"\",COUNTIF(Tabulka5[Data],D5025))","v":""},"","","",""]
[null,null,null,null,{"$f":"IF(D5026=\"\",\"\",COUNTIF(Tabulka5[Data],D5026))","v":""},"","","",""]
[null,null,null,null,{"$f":"IF(D5027=\"\",\"\",COUNTIF(Tabulka5[Data],D5027))","v":""},"","","",""]
[null,null,null,null,{"$f":"IF(D5028=\"\",\"\",COUNTIF(Tabulka5[Data],D5028))","v":""},"","","",""]
[null,null,null,null,{"$f":"IF(D5029=\"\",\"\",COUNTIF(Tabulka5[Data],D5029))","v":""},"","","",""]
[null,null,null,null,{"$f":"IF(D5030=\"\",\"\",COUNTIF(Tabulka5[Data],D5030))","v":""},"","","",""]
[null,null,null,null,{"$f":"IF(D5031=\"\",\"\",COUNTIF(Tabulka5[Data],D5031))","v":""},"","","",""]
[null,null,null,null,{"$f":"IF(D5032=\"\",\"\",COUNTIF(Tabulka5[Data],D5032))","v":""},"","","",""]
[null,null,null,null,{"$f":"IF(D5033=\"\",\"\",COUNTIF(Tabulka5[Data],D5033))","v":""},"","","",""]
[null,null,null,null,{"$f":"IF(D5034=\"\",\"\",COUNTIF(Tabulka5[Data],D5034))","v":""},"","","",""]
[null,null,null,null,{"$f":"IF(D5035=\"\",\"\",COUNTIF(Tabulka5[Data],D5035))","v":""},"","","",""]
[null,null,null,null,{"$f":"IF(D5036=\"\",\"\",COUNTIF(Tabulka5[Data],D5036))","v":""},"","","",""]
[null,null,null,null,{"$f":"IF(D5037=\"\",\"\",COUNTIF(Tabulka5[Data],D5037))","v":""},"","","",""]
[null,null,null,null,{"$f":"IF(D5038=\"\",\"\",COUNTIF(Tabulka5[Data],D5038))","v":""},"","","",""]
[null,null,null,null,{"$f":"IF(D5039=\"\",\"\",COUNTIF(Tabulka5[Data],D5039))","v":""},"","","",""]
[null,null,null,null,{"$f":"IF(D5040=\"\",\"\",COUNTIF(Tabulka5[Data],D5040))","v":""},"","","",""]
[null,null,null,null,{"$f":"IF(D5041=\"\",\"\",COUNTIF(Tabulka5[Data],D5041))","v":""},"","","",""]
[null,null,null,null,{"$f":"IF(D5042=\"\",\"\",COUNTIF(Tabulka5[Data],D5042))","v":""},"","","",""]
[null,null,null,null,{"$f":"IF(D5043=\"\",\"\",COUNTIF(Tabulka5[Data],D5043))","v":""},"","","",""]
[null,null,null,null,{"$f":"IF(D5044=\"\",\"\",COUNTIF(Tabulka5[Data],D5044))","v":""},"","","",""]
[null,null,null,null,{"$f":"IF(D5045=\"\",\"\",COUNTIF(Tabulka5[Data],D5045))","v":""},"","","",""]
[null,null,null,null,{"$f":"IF(D5046=\"\",\"\",COUNTIF(Tabulka5[Data],D5046))","v":""},"","","",""]
[null,null,null,null,{"$f":"IF(D5047=\"\",\"\",COUNTIF(Tabulka5[Data],D5047))","v":""},"","","",""]
[null,null,null,null,{"$f":"IF(D5048=\"\",\"\",COUNTIF(Tabulka5[Data],D5048))","v":""},"","","",""]
[null,null,null,null,{"$f":"IF(D5049=\"\",\"\",COUNTIF(Tabulka5[Data],D5049))","v":""},"","","",""]
[null,null,null,null,{"$f":"IF(D5050=\"\",\"\",COUNTIF(Tabulka5[Data],D5050))","v":""},"","","",""]
[null,null,null,null,{"$f":"IF(D5051=\"\",\"\",COUNTIF(Tabulka5[Data],D5051))","v":""},"","","",""]
[null,null,null,null,{"$f":"IF(D5052=\"\",\"\",COUNTIF(Tabulka5[Data],D5052))","v":""},"","","",""]
[null,null,null,null,{"$f":"IF(D5053=\"\",\"\",COUNTIF(Tabulka5[Data],D5053))","v":""},"","","",""]
[null,null,null,null,{"$f":"IF(D5054=\"\",\"\",COUNTIF(Tabulka5[Data],D5054))","v":""},"","","",""]
[null,null,null,null,{"$f":"IF(D5055=\"\",\"\",COUNTIF(Tabulka5[Data],D5055))","v":""},"","","",""]
[null,null,null,null,{"$f":"IF(D5056=\"\",\"\",COUNTIF(Tabulka5[Data],D5056))","v":""},"","","",""]
[null,null,null,null,{"$f":"IF(D5057=\"\",\"\",COUNTIF(Tabulka5[Data],D5057))","v":""},"","","",""]
[null,null,null,null,{"$f":"IF(D5058=\"\",\"\",COUNTIF(Tabulka5[Data],D5058))","v":""},"","","",""]
[null,null,null,null,{"$f":"IF(D5059=\"\",\"\",COUNTIF(Tabulka5[Data],D5059))","v":""},"","","",""]
[null,null,null,null,{"$f":"IF(D5060=\"\",\"\",COUNTIF(Tabulka5[Data],D5060))","v":""},"","","",""]
[null,null,null,null,{"$f":"IF(D5061=\"\",\"\",COUNTIF(Tabulka5[Data],D5061))","v":""},"","","",""]
[null,null,null,null,{"$f":"IF(D5062=\"\",\"\",COUNTIF(Tabulka5[Data],D5062))","v":""},"","","",""]
[null,null,null,null,{"$f":"IF(D5063=\"\",\"\",COUNTIF(Tabulka5[Data],D5063))","v":""},"","","",""]
[null,null,null,null,{"$f":"IF(D5064=\"\",\"\",COUNTIF(Tabulka5[Data],D5064))","v":""},"","","",""]
[null,null,null,null,{"$f":"IF(D5065=\"\",\"\",COUNTIF(Tabulka5[Data],D5065))","v":""},"","","",""]
[null,null,null,null,{"$f":"IF(D5066=\"\",\"\",COUNTIF(Tabulka5[Data],D5066))","v":""},"","","",""]
[null,null,null,null,{"$f":"IF(D5067=\"\",\"\",COUNTIF(Tabulka5[Data],D5067))","v":""},"","","",""]
[null,null,null,null,{"$f":"IF(D5068=\"\",\"\",COUNTIF(Tabulka5[Data],D5068))","v":""},"","","",""]
[null,null,null,null,{"$f":"IF(D5069=\"\",\"\",COUNTIF(Tabulka5[Data],D5069))","v":""},"","","",""]
[null,null,null,null,{"$f":"IF(D5070=\"\",\"\",COUNTIF(Tabulka5[Data],D5070))","v":""},"","","",""]
[null,null,null,null,{"$f":"IF(D5071=\"\",\"\",COUNTIF(Tabulka5[Data],D5071))","v":""},"","","",""]
[null,null,null,null,{"$f":"IF(D5072=\"\",\"\",COUNTIF(Tabulka5[Data],D5072))","v":""},"","","",""]
[null,null,null,null,{"$f":"IF(D5073=\"\",\"\",COUNTIF(Tabulka5[Data],D5073))","v":""},{"$f":"IF(OR($K$11=0,D5073=\"\"),\"\",IF(D5074=\"\",1-I5072,ROUND(E5073/SUM($E$15:$E$6350),3)))","v":""},{"$f":"IF(OR(D5073=\"\",$A$11=\"nominální\"),\"\",G5072+E5073)","v":""},{"$f":"IF(OR($K$11=0,D5073=\"\",$A$11=\"nominální\"),\"\",H5072+F5073)","v":""},{"$f":"IF(OR($K$11=0,D5073=\"\"),\"\",I5072+F5073)","v":""}]
[null,null,null,null,{"$f":"IF(D5074=\"\",\"\",COUNTIF(Tabulka5[Data],D5074))","v":""},"","","",""]
[null,null,null,null,{"$f":"IF(D5075=\"\",\"\",COUNTIF(Tabulka5[Data],D5075))","v":""},"","","",""]
[null,null,null,null,{"$f":"IF(D5076=\"\",\"\",COUNTIF(Tabulka5[Data],D5076))","v":""},"","","",""]
[null,null,null,null,{"$f":"IF(D5077=\"\",\"\",COUNTIF(Tabulka5[Data],D5077))","v":""},"","","",""]
[null,null,null,null,{"$f":"IF(D5078=\"\",\"\",COUNTIF(Tabulka5[Data],D5078))","v":""},"","","",""]
[null,null,null,null,{"$f":"IF(D5079=\"\",\"\",COUNTIF(Tabulka5[Data],D5079))","v":""},"","","",""]
[null,null,null,null,{"$f":"IF(D5080=\"\",\"\",COUNTIF(Tabulka5[Data],D5080))","v":""},"","","",""]
[null,null,null,null,{"$f":"IF(D5081=\"\",\"\",COUNTIF(Tabulka5[Data],D5081))","v":""},"","","",""]
[null,null,null,null,{"$f":"IF(D5082=\"\",\"\",COUNTIF(Tabulka5[Data],D5082))","v":""},"","","",""]
[null,null,null,null,{"$f":"IF(D5083=\"\",\"\",COUNTIF(Tabulka5[Data],D5083))","v":""},"","","",""]
[null,null,null,null,{"$f":"IF(D5084=\"\",\"\",COUNTIF(Tabulka5[Data],D5084))","v":""},"","","",""]
[null,null,null,null,{"$f":"IF(D5085=\"\",\"\",COUNTIF(Tabulka5[Data],D5085))","v":""},"","","",""]
[null,null,null,null,{"$f":"IF(D5086=\"\",\"\",COUNTIF(Tabulka5[Data],D5086))","v":""},"","","",""]
[null,null,null,null,{"$f":"IF(D5087=\"\",\"\",COUNTIF(Tabulka5[Data],D5087))","v":""},"","","",""]
[null,null,null,null,{"$f":"IF(D5088=\"\",\"\",COUNTIF(Tabulka5[Data],D5088))","v":""},"","","",""]
[null,null,null,null,{"$f":"IF(D5089=\"\",\"\",COUNTIF(Tabulka5[Data],D5089))","v":""},"","","",""]
[null,null,null,null,{"$f":"IF(D5090=\"\",\"\",COUNTIF(Tabulka5[Data],D5090))","v":""},"","","",""]
[null,null,null,null,{"$f":"IF(D5091=\"\",\"\",COUNTIF(Tabulka5[Data],D5091))","v":""},"","","",""]
[null,null,null,null,{"$f":"IF(D5092=\"\",\"\",COUNTIF(Tabulka5[Data],D5092))","v":""},"","","",""]
[null,null,null,null,{"$f":"IF(D5093=\"\",\"\",COUNTIF(Tabulka5[Data],D5093))","v":""},"","","",""]
[null,null,null,null,{"$f":"IF(D5094=\"\",\"\",COUNTIF(Tabulka5[Data],D5094))","v":""},"","","",""]
[null,null,null,null,{"$f":"IF(D5095=\"\",\"\",COUNTIF(Tabulka5[Data],D5095))","v":""},"","","",""]
[null,null,null,null,{"$f":"IF(D5096=\"\",\"\",COUNTIF(Tabulka5[Data],D5096))","v":""},"","","",""]
[null,null,null,null,{"$f":"IF(D5097=\"\",\"\",COUNTIF(Tabulka5[Data],D5097))","v":""},"","","",""]
[null,null,null,null,{"$f":"IF(D5098=\"\",\"\",COUNTIF(Tabulka5[Data],D5098))","v":""},"","","",""]
[null,null,null,null,{"$f":"IF(D5099=\"\",\"\",COUNTIF(Tabulka5[Data],D5099))","v":""},"","","",""]
[null,null,null,null,{"$f":"IF(D5100=\"\",\"\",COUNTIF(Tabulka5[Data],D5100))","v":""},"","","",""]
[null,null,null,null,{"$f":"IF(D5101=\"\",\"\",COUNTIF(Tabulka5[Data],D5101))","v":""},"","","",""]
[null,null,null,null,{"$f":"IF(D5102=\"\",\"\",COUNTIF(Tabulka5[Data],D5102))","v":""},"","","",""]
[null,null,null,null,{"$f":"IF(D5103=\"\",\"\",COUNTIF(Tabulka5[Data],D5103))","v":""},"","","",""]
[null,null,null,null,{"$f":"IF(D5104=\"\",\"\",COUNTIF(Tabulka5[Data],D5104))","v":""},"","","",""]
[null,null,null,null,{"$f":"IF(D5105=\"\",\"\",COUNTIF(Tabulka5[Data],D5105))","v":""},"","","",""]
[null,null,null,null,{"$f":"IF(D5106=\"\",\"\",COUNTIF(Tabulka5[Data],D5106))","v":""},"","","",""]
[null,null,null,null,{"$f":"IF(D5107=\"\",\"\",COUNTIF(Tabulka5[Data],D5107))","v":""},"","","",""]
[null,null,null,null,{"$f":"IF(D5108=\"\",\"\",COUNTIF(Tabulka5[Data],D5108))","v":""},"","","",""]
[null,null,null,null,{"$f":"IF(D5109=\"\",\"\",COUNTIF(Tabulka5[Data],D5109))","v":""},"","","",""]
[null,null,null,null,{"$f":"IF(D5110=\"\",\"\",COUNTIF(Tabulka5[Data],D5110))","v":""},"","","",""]
[null,null,null,null,{"$f":"IF(D5111=\"\",\"\",COUNTIF(Tabulka5[Data],D5111))","v":""},"","","",""]
[null,null,null,null,{"$f":"IF(D5112=\"\",\"\",COUNTIF(Tabulka5[Data],D5112))","v":""},"","","",""]
[null,null,null,null,{"$f":"IF(D5113=\"\",\"\",COUNTIF(Tabulka5[Data],D5113))","v":""},"","","",""]
[null,null,null,null,{"$f":"IF(D5114=\"\",\"\",COUNTIF(Tabulka5[Data],D5114))","v":""},"","","",""]
[null,null,null,null,{"$f":"IF(D5115=\"\",\"\",COUNTIF(Tabulka5[Data],D5115))","v":""},"","","",""]
[null,null,null,null,{"$f":"IF(D5116=\"\",\"\",COUNTIF(Tabulka5[Data],D5116))","v":""},"","","",""]
[null,null,null,null,{"$f":"IF(D5117=\"\",\"\",COUNTIF(Tabulka5[Data],D5117))","v":""},"","","",""]
[null,null,null,null,{"$f":"IF(D5118=\"\",\"\",COUNTIF(Tabulka5[Data],D5118))","v":""},"","","",""]
[null,null,null,null,{"$f":"IF(D5119=\"\",\"\",COUNTIF(Tabulka5[Data],D5119))","v":""},"","","",""]
[null,null,null,null,{"$f":"IF(D5120=\"\",\"\",COUNTIF(Tabulka5[Data],D5120))","v":""},"","","",""]
[null,null,null,null,{"$f":"IF(D5121=\"\",\"\",COUNTIF(Tabulka5[Data],D5121))","v":""},"","","",""]
[null,null,null,null,{"$f":"IF(D5122=\"\",\"\",COUNTIF(Tabulka5[Data],D5122))","v":""},"","","",""]
[null,null,null,null,{"$f":"IF(D5123=\"\",\"\",COUNTIF(Tabulka5[Data],D5123))","v":""},"","","",""]
[null,null,null,null,{"$f":"IF(D5124=\"\",\"\",COUNTIF(Tabulka5[Data],D5124))","v":""},"","","",""]
[null,null,null,null,{"$f":"IF(D5125=\"\",\"\",COUNTIF(Tabulka5[Data],D5125))","v":""},"","","",""]
[null,null,null,null,{"$f":"IF(D5126=\"\",\"\",COUNTIF(Tabulka5[Data],D5126))","v":""},"","","",""]
[null,null,null,null,{"$f":"IF(D5127=\"\",\"\",COUNTIF(Tabulka5[Data],D5127))","v":""},"","","",""]
[null,null,null,null,{"$f":"IF(D5128=\"\",\"\",COUNTIF(Tabulka5[Data],D5128))","v":""},"","","",""]
[null,null,null,null,{"$f":"IF(D5129=\"\",\"\",COUNTIF(Tabulka5[Data],D5129))","v":""},"","","",""]
[null,null,null,null,{"$f":"IF(D5130=\"\",\"\",COUNTIF(Tabulka5[Data],D5130))","v":""},"","","",""]
[null,null,null,null,{"$f":"IF(D5131=\"\",\"\",COUNTIF(Tabulka5[Data],D5131))","v":""},"","","",""]
[null,null,null,null,{"$f":"IF(D5132=\"\",\"\",COUNTIF(Tabulka5[Data],D5132))","v":""},"","","",""]
[null,null,null,null,{"$f":"IF(D5133=\"\",\"\",COUNTIF(Tabulka5[Data],D5133))","v":""},"","","",""]
[null,null,null,null,{"$f":"IF(D5134=\"\",\"\",COUNTIF(Tabulka5[Data],D5134))","v":""},"","","",""]
[null,null,null,null,{"$f":"IF(D5135=\"\",\"\",COUNTIF(Tabulka5[Data],D5135))","v":""},"","","",""]
[null,null,null,null,{"$f":"IF(D5136=\"\",\"\",COUNTIF(Tabulka5[Data],D5136))","v":""},"","","",""]
[null,null,null,null,{"$f":"IF(D5137=\"\",\"\",COUNTIF(Tabulka5[Data],D5137))","v":""},{"$f":"IF(OR($K$11=0,D5137=\"\"),\"\",IF(D5138=\"\",1-I5136,ROUND(E5137/SUM($E$15:$E$6350),3)))","v":""},{"$f":"IF(OR(D5137=\"\",$A$11=\"nominální\"),\"\",G5136+E5137)","v":""},{"$f":"IF(OR($K$11=0,D5137=\"\",$A$11=\"nominální\"),\"\",H5136+F5137)","v":""},{"$f":"IF(OR($K$11=0,D5137=\"\"),\"\",I5136+F5137)","v":""}]
[null,null,null,null,{"$f":"IF(D5138=\"\",\"\",COUNTIF(Tabulka5[Data],D5138))","v":""},"","","",""]
[null,null,null,null,{"$f":"IF(D5139=\"\",\"\",COUNTIF(Tabulka5[Data],D5139))","v":""},"","","",""]
[null,null,null,null,{"$f":"IF(D5140=\"\",\"\",COUNTIF(Tabulka5[Data],D5140))","v":""},"","","",""]
[null,null,null,null,{"$f":"IF(D5141=\"\",\"\",COUNTIF(Tabulka5[Data],D5141))","v":""},"","","",""]
[null,null,null,null,{"$f":"IF(D5142=\"\",\"\",COUNTIF(Tabulka5[Data],D5142))","v":""},"","","",""]
[null,null,null,null,{"$f":"IF(D5143=\"\",\"\",COUNTIF(Tabulka5[Data],D5143))","v":""},"","","",""]
[null,null,null,null,{"$f":"IF(D5144=\"\",\"\",COUNTIF(Tabulka5[Data],D5144))","v":""},"","","",""]
[null,null,null,null,{"$f":"IF(D5145=\"\",\"\",COUNTIF(Tabulka5[Data],D5145))","v":""},"","","",""]
[null,null,null,null,{"$f":"IF(D5146=\"\",\"\",COUNTIF(Tabulka5[Data],D5146))","v":""},"","","",""]
[null,null,null,null,{"$f":"IF(D5147=\"\",\"\",COUNTIF(Tabulka5[Data],D5147))","v":""},"","","",""]
[null,null,null,null,{"$f":"IF(D5148=\"\",\"\",COUNTIF(Tabulka5[Data],D5148))","v":""},"","","",""]
[null,null,null,null,{"$f":"IF(D5149=\"\",\"\",COUNTIF(Tabulka5[Data],D5149))","v":""},"","","",""]
[null,null,null,null,{"$f":"IF(D5150=\"\",\"\",COUNTIF(Tabulka5[Data],D5150))","v":""},"","","",""]
[null,null,null,null,{"$f":"IF(D5151=\"\",\"\",COUNTIF(Tabulka5[Data],D5151))","v":""},"","","",""]
[null,null,null,null,{"$f":"IF(D5152=\"\",\"\",COUNTIF(Tabulka5[Data],D5152))","v":""},"","","",""]
[null,null,null,null,{"$f":"IF(D5153=\"\",\"\",COUNTIF(Tabulka5[Data],D5153))","v":""},"","","",""]
[null,null,null,null,{"$f":"IF(D5154=\"\",\"\",COUNTIF(Tabulka5[Data],D5154))","v":""},"","","",""]
[null,null,null,null,{"$f":"IF(D5155=\"\",\"\",COUNTIF(Tabulka5[Data],D5155))","v":""},"","","",""]
[null,null,null,null,{"$f":"IF(D5156=\"\",\"\",COUNTIF(Tabulka5[Data],D5156))","v":""},"","","",""]
[null,null,null,null,{"$f":"IF(D5157=\"\",\"\",COUNTIF(Tabulka5[Data],D5157))","v":""},"","","",""]
[null,null,null,null,{"$f":"IF(D5158=\"\",\"\",COUNTIF(Tabulka5[Data],D5158))","v":""},"","","",""]
[null,null,null,null,{"$f":"IF(D5159=\"\",\"\",COUNTIF(Tabulka5[Data],D5159))","v":""},"","","",""]
[null,null,null,null,{"$f":"IF(D5160=\"\",\"\",COUNTIF(Tabulka5[Data],D5160))","v":""},"","","",""]
[null,null,null,null,{"$f":"IF(D5161=\"\",\"\",COUNTIF(Tabulka5[Data],D5161))","v":""},"","","",""]
[null,null,null,null,{"$f":"IF(D5162=\"\",\"\",COUNTIF(Tabulka5[Data],D5162))","v":""},"","","",""]
[null,null,null,null,{"$f":"IF(D5163=\"\",\"\",COUNTIF(Tabulka5[Data],D5163))","v":""},"","","",""]
[null,null,null,null,{"$f":"IF(D5164=\"\",\"\",COUNTIF(Tabulka5[Data],D5164))","v":""},"","","",""]
[null,null,null,null,{"$f":"IF(D5165=\"\",\"\",COUNTIF(Tabulka5[Data],D5165))","v":""},"","","",""]
[null,null,null,null,{"$f":"IF(D5166=\"\",\"\",COUNTIF(Tabulka5[Data],D5166))","v":""},"","","",""]
[null,null,null,null,{"$f":"IF(D5167=\"\",\"\",COUNTIF(Tabulka5[Data],D5167))","v":""},"","","",""]
[null,null,null,null,{"$f":"IF(D5168=\"\",\"\",COUNTIF(Tabulka5[Data],D5168))","v":""},"","","",""]
[null,null,null,null,{"$f":"IF(D5169=\"\",\"\",COUNTIF(Tabulka5[Data],D5169))","v":""},"","","",""]
[null,null,null,null,{"$f":"IF(D5170=\"\",\"\",COUNTIF(Tabulka5[Data],D5170))","v":""},"","","",""]
[null,null,null,null,{"$f":"IF(D5171=\"\",\"\",COUNTIF(Tabulka5[Data],D5171))","v":""},"","","",""]
[null,null,null,null,{"$f":"IF(D5172=\"\",\"\",COUNTIF(Tabulka5[Data],D5172))","v":""},"","","",""]
[null,null,null,null,{"$f":"IF(D5173=\"\",\"\",COUNTIF(Tabulka5[Data],D5173))","v":""},"","","",""]
[null,null,null,null,{"$f":"IF(D5174=\"\",\"\",COUNTIF(Tabulka5[Data],D5174))","v":""},"","","",""]
[null,null,null,null,{"$f":"IF(D5175=\"\",\"\",COUNTIF(Tabulka5[Data],D5175))","v":""},"","","",""]
[null,null,null,null,{"$f":"IF(D5176=\"\",\"\",COUNTIF(Tabulka5[Data],D5176))","v":""},"","","",""]
[null,null,null,null,{"$f":"IF(D5177=\"\",\"\",COUNTIF(Tabulka5[Data],D5177))","v":""},"","","",""]
[null,null,null,null,{"$f":"IF(D5178=\"\",\"\",COUNTIF(Tabulka5[Data],D5178))","v":""},"","","",""]
[null,null,null,null,{"$f":"IF(D5179=\"\",\"\",COUNTIF(Tabulka5[Data],D5179))","v":""},"","","",""]
[null,null,null,null,{"$f":"IF(D5180=\"\",\"\",COUNTIF(Tabulka5[Data],D5180))","v":""},"","","",""]
[null,null,null,null,{"$f":"IF(D5181=\"\",\"\",COUNTIF(Tabulka5[Data],D5181))","v":""},"","","",""]
[null,null,null,null,{"$f":"IF(D5182=\"\",\"\",COUNTIF(Tabulka5[Data],D5182))","v":""},"","","",""]
[null,null,null,null,{"$f":"IF(D5183=\"\",\"\",COUNTIF(Tabulka5[Data],D5183))","v":""},"","","",""]
[null,null,null,null,{"$f":"IF(D5184=\"\",\"\",COUNTIF(Tabulka5[Data],D5184))","v":""},"","","",""]
[null,null,null,null,{"$f":"IF(D5185=\"\",\"\",COUNTIF(Tabulka5[Data],D5185))","v":""},"","","",""]
[null,null,null,null,{"$f":"IF(D5186=\"\",\"\",COUNTIF(Tabulka5[Data],D5186))","v":""},"","","",""]
[null,null,null,null,{"$f":"IF(D5187=\"\",\"\",COUNTIF(Tabulka5[Data],D5187))","v":""},"","","",""]
[null,null,null,null,{"$f":"IF(D5188=\"\",\"\",COUNTIF(Tabulka5[Data],D5188))","v":""},"","","",""]
[null,null,null,null,{"$f":"IF(D5189=\"\",\"\",COUNTIF(Tabulka5[Data],D5189))","v":""},"","","",""]
[null,null,null,null,{"$f":"IF(D5190=\"\",\"\",COUNTIF(Tabulka5[Data],D5190))","v":""},"","","",""]
[null,null,null,null,{"$f":"IF(D5191=\"\",\"\",COUNTIF(Tabulka5[Data],D5191))","v":""},"","","",""]
[null,null,null,null,{"$f":"IF(D5192=\"\",\"\",COUNTIF(Tabulka5[Data],D5192))","v":""},"","","",""]
[null,null,null,null,{"$f":"IF(D5193=\"\",\"\",COUNTIF(Tabulka5[Data],D5193))","v":""},"","","",""]
[null,null,null,null,{"$f":"IF(D5194=\"\",\"\",COUNTIF(Tabulka5[Data],D5194))","v":""},"","","",""]
[null,null,null,null,{"$f":"IF(D5195=\"\",\"\",COUNTIF(Tabulka5[Data],D5195))","v":""},"","","",""]
[null,null,null,null,{"$f":"IF(D5196=\"\",\"\",COUNTIF(Tabulka5[Data],D5196))","v":""},"","","",""]
[null,null,null,null,{"$f":"IF(D5197=\"\",\"\",COUNTIF(Tabulka5[Data],D5197))","v":""},"","","",""]
[null,null,null,null,{"$f":"IF(D5198=\"\",\"\",COUNTIF(Tabulka5[Data],D5198))","v":""},"","","",""]
[null,null,null,null,{"$f":"IF(D5199=\"\",\"\",COUNTIF(Tabulka5[Data],D5199))","v":""},"","","",""]
[null,null,null,null,{"$f":"IF(D5200=\"\",\"\",COUNTIF(Tabulka5[Data],D5200))","v":""},"","","",""]
[null,null,null,null,{"$f":"IF(D5201=\"\",\"\",COUNTIF(Tabulka5[Data],D5201))","v":""},{"$f":"IF(OR($K$11=0,D5201=\"\"),\"\",IF(D5202=\"\",1-I5200,ROUND(E5201/SUM($E$15:$E$6350),3)))","v":""},{"$f":"IF(OR(D5201=\"\",$A$11=\"nominální\"),\"\",G5200+E5201)","v":""},{"$f":"IF(OR($K$11=0,D5201=\"\",$A$11=\"nominální\"),\"\",H5200+F5201)","v":""},{"$f":"IF(OR($K$11=0,D5201=\"\"),\"\",I5200+F5201)","v":""}]
[null,null,null,null,{"$f":"IF(D5202=\"\",\"\",COUNTIF(Tabulka5[Data],D5202))","v":""},"","","",""]
[null,null,null,null,{"$f":"IF(D5203=\"\",\"\",COUNTIF(Tabulka5[Data],D5203))","v":""},"","","",""]
[null,null,null,null,{"$f":"IF(D5204=\"\",\"\",COUNTIF(Tabulka5[Data],D5204))","v":""},"","","",""]
[null,null,null,null,{"$f":"IF(D5205=\"\",\"\",COUNTIF(Tabulka5[Data],D5205))","v":""},"","","",""]
[null,null,null,null,{"$f":"IF(D5206=\"\",\"\",COUNTIF(Tabulka5[Data],D5206))","v":""},"","","",""]
[null,null,null,null,{"$f":"IF(D5207=\"\",\"\",COUNTIF(Tabulka5[Data],D5207))","v":""},"","","",""]
[null,null,null,null,{"$f":"IF(D5208=\"\",\"\",COUNTIF(Tabulka5[Data],D5208))","v":""},"","","",""]
[null,null,null,null,{"$f":"IF(D5209=\"\",\"\",COUNTIF(Tabulka5[Data],D5209))","v":""},"","","",""]
[null,null,null,null,{"$f":"IF(D5210=\"\",\"\",COUNTIF(Tabulka5[Data],D5210))","v":""},"","","",""]
[null,null,null,null,{"$f":"IF(D5211=\"\",\"\",COUNTIF(Tabulka5[Data],D5211))","v":""},"","","",""]
[null,null,null,null,{"$f":"IF(D5212=\"\",\"\",COUNTIF(Tabulka5[Data],D5212))","v":""},"","","",""]
[null,null,null,null,{"$f":"IF(D5213=\"\",\"\",COUNTIF(Tabulka5[Data],D5213))","v":""},"","","",""]
[null,null,null,null,{"$f":"IF(D5214=\"\",\"\",COUNTIF(Tabulka5[Data],D5214))","v":""},"","","",""]
[null,null,null,null,{"$f":"IF(D5215=\"\",\"\",COUNTIF(Tabulka5[Data],D5215))","v":""},"","","",""]
[null,null,null,null,{"$f":"IF(D5216=\"\",\"\",COUNTIF(Tabulka5[Data],D5216))","v":""},"","","",""]
[null,null,null,null,{"$f":"IF(D5217=\"\",\"\",COUNTIF(Tabulka5[Data],D5217))","v":""},"","","",""]
[null,null,null,null,{"$f":"IF(D5218=\"\",\"\",COUNTIF(Tabulka5[Data],D5218))","v":""},"","","",""]
[null,null,null,null,{"$f":"IF(D5219=\"\",\"\",COUNTIF(Tabulka5[Data],D5219))","v":""},"","","",""]
[null,null,null,null,{"$f":"IF(D5220=\"\",\"\",COUNTIF(Tabulka5[Data],D5220))","v":""},"","","",""]
[null,null,null,null,{"$f":"IF(D5221=\"\",\"\",COUNTIF(Tabulka5[Data],D5221))","v":""},"","","",""]
[null,null,null,null,{"$f":"IF(D5222=\"\",\"\",COUNTIF(Tabulka5[Data],D5222))","v":""},"","","",""]
[null,null,null,null,{"$f":"IF(D5223=\"\",\"\",COUNTIF(Tabulka5[Data],D5223))","v":""},"","","",""]
[null,null,null,null,{"$f":"IF(D5224=\"\",\"\",COUNTIF(Tabulka5[Data],D5224))","v":""},"","","",""]
[null,null,null,null,{"$f":"IF(D5225=\"\",\"\",COUNTIF(Tabulka5[Data],D5225))","v":""},"","","",""]
[null,null,null,null,{"$f":"IF(D5226=\"\",\"\",COUNTIF(Tabulka5[Data],D5226))","v":""},"","","",""]
[null,null,null,null,{"$f":"IF(D5227=\"\",\"\",COUNTIF(Tabulka5[Data],D5227))","v":""},"","","",""]
[null,null,null,null,{"$f":"IF(D5228=\"\",\"\",COUNTIF(Tabulka5[Data],D5228))","v":""},"","","",""]
[null,null,null,null,{"$f":"IF(D5229=\"\",\"\",COUNTIF(Tabulka5[Data],D5229))","v":""},"","","",""]
[null,null,null,null,{"$f":"IF(D5230=\"\",\"\",COUNTIF(Tabulka5[Data],D5230))","v":""},"","","",""]
[null,null,null,null,{"$f":"IF(D5231=\"\",\"\",COUNTIF(Tabulka5[Data],D5231))","v":""},"","","",""]
[null,null,null,null,{"$f":"IF(D5232=\"\",\"\",COUNTIF(Tabulka5[Data],D5232))","v":""},"","","",""]
[null,null,null,null,{"$f":"IF(D5233=\"\",\"\",COUNTIF(Tabulka5[Data],D5233))","v":""},"","","",""]
[null,null,null,null,{"$f":"IF(D5234=\"\",\"\",COUNTIF(Tabulka5[Data],D5234))","v":""},"","","",""]
[null,null,null,null,{"$f":"IF(D5235=\"\",\"\",COUNTIF(Tabulka5[Data],D5235))","v":""},"","","",""]
[null,null,null,null,{"$f":"IF(D5236=\"\",\"\",COUNTIF(Tabulka5[Data],D5236))","v":""},"","","",""]
[null,null,null,null,{"$f":"IF(D5237=\"\",\"\",COUNTIF(Tabulka5[Data],D5237))","v":""},"","","",""]
[null,null,null,null,{"$f":"IF(D5238=\"\",\"\",COUNTIF(Tabulka5[Data],D5238))","v":""},"","","",""]
[null,null,null,null,{"$f":"IF(D5239=\"\",\"\",COUNTIF(Tabulka5[Data],D5239))","v":""},"","","",""]
[null,null,null,null,{"$f":"IF(D5240=\"\",\"\",COUNTIF(Tabulka5[Data],D5240))","v":""},"","","",""]
[null,null,null,null,{"$f":"IF(D5241=\"\",\"\",COUNTIF(Tabulka5[Data],D5241))","v":""},"","","",""]
[null,null,null,null,{"$f":"IF(D5242=\"\",\"\",COUNTIF(Tabulka5[Data],D5242))","v":""},"","","",""]
[null,null,null,null,{"$f":"IF(D5243=\"\",\"\",COUNTIF(Tabulka5[Data],D5243))","v":""},"","","",""]
[null,null,null,null,{"$f":"IF(D5244=\"\",\"\",COUNTIF(Tabulka5[Data],D5244))","v":""},"","","",""]
[null,null,null,null,{"$f":"IF(D5245=\"\",\"\",COUNTIF(Tabulka5[Data],D5245))","v":""},"","","",""]
[null,null,null,null,{"$f":"IF(D5246=\"\",\"\",COUNTIF(Tabulka5[Data],D5246))","v":""},"","","",""]
[null,null,null,null,{"$f":"IF(D5247=\"\",\"\",COUNTIF(Tabulka5[Data],D5247))","v":""},"","","",""]
[null,null,null,null,{"$f":"IF(D5248=\"\",\"\",COUNTIF(Tabulka5[Data],D5248))","v":""},"","","",""]
[null,null,null,null,{"$f":"IF(D5249=\"\",\"\",COUNTIF(Tabulka5[Data],D5249))","v":""},"","","",""]
[null,null,null,null,{"$f":"IF(D5250=\"\",\"\",COUNTIF(Tabulka5[Data],D5250))","v":""},"","","",""]
[null,null,null,null,{"$f":"IF(D5251=\"\",\"\",COUNTIF(Tabulka5[Data],D5251))","v":""},"","","",""]
[null,null,null,null,{"$f":"IF(D5252=\"\",\"\",COUNTIF(Tabulka5[Data],D5252))","v":""},"","","",""]
[null,null,null,null,{"$f":"IF(D5253=\"\",\"\",COUNTIF(Tabulka5[Data],D5253))","v":""},"","","",""]
[null,null,null,null,{"$f":"IF(D5254=\"\",\"\",COUNTIF(Tabulka5[Data],D5254))","v":""},"","","",""]
[null,null,null,null,{"$f":"IF(D5255=\"\",\"\",COUNTIF(Tabulka5[Data],D5255))","v":""},"","","",""]
[null,null,null,null,{"$f":"IF(D5256=\"\",\"\",COUNTIF(Tabulka5[Data],D5256))","v":""},"","","",""]
[null,null,null,null,{"$f":"IF(D5257=\"\",\"\",COUNTIF(Tabulka5[Data],D5257))","v":""},"","","",""]
[null,null,null,null,{"$f":"IF(D5258=\"\",\"\",COUNTIF(Tabulka5[Data],D5258))","v":""},"","","",""]
[null,null,null,null,{"$f":"IF(D5259=\"\",\"\",COUNTIF(Tabulka5[Data],D5259))","v":""},"","","",""]
[null,null,null,null,{"$f":"IF(D5260=\"\",\"\",COUNTIF(Tabulka5[Data],D5260))","v":""},"","","",""]
[null,null,null,null,{"$f":"IF(D5261=\"\",\"\",COUNTIF(Tabulka5[Data],D5261))","v":""},"","","",""]
[null,null,null,null,{"$f":"IF(D5262=\"\",\"\",COUNTIF(Tabulka5[Data],D5262))","v":""},"","","",""]
[null,null,null,null,{"$f":"IF(D5263=\"\",\"\",COUNTIF(Tabulka5[Data],D5263))","v":""},"","","",""]
[null,null,null,null,{"$f":"IF(D5264=\"\",\"\",COUNTIF(Tabulka5[Data],D5264))","v":""},"","","",""]
[null,null,null,null,{"$f":"IF(D5265=\"\",\"\",COUNTIF(Tabulka5[Data],D5265))","v":""},{"$f":"IF(OR($K$11=0,D5265=\"\"),\"\",IF(D5266=\"\",1-I5264,ROUND(E5265/SUM($E$15:$E$6350),3)))","v":""},{"$f":"IF(OR(D5265=\"\",$A$11=\"nominální\"),\"\",G5264+E5265)","v":""},{"$f":"IF(OR($K$11=0,D5265=\"\",$A$11=\"nominální\"),\"\",H5264+F5265)","v":""},{"$f":"IF(OR($K$11=0,D5265=\"\"),\"\",I5264+F5265)","v":""}]
[null,null,null,null,{"$f":"IF(D5266=\"\",\"\",COUNTIF(Tabulka5[Data],D5266))","v":""},"","","",""]
[null,null,null,null,{"$f":"IF(D5267=\"\",\"\",COUNTIF(Tabulka5[Data],D5267))","v":""},"","","",""]
[null,null,null,null,{"$f":"IF(D5268=\"\",\"\",COUNTIF(Tabulka5[Data],D5268))","v":""},"","","",""]
[null,null,null,null,{"$f":"IF(D5269=\"\",\"\",COUNTIF(Tabulka5[Data],D5269))","v":""},"","","",""]
[null,null,null,null,{"$f":"IF(D5270=\"\",\"\",COUNTIF(Tabulka5[Data],D5270))","v":""},"","","",""]
[null,null,null,null,{"$f":"IF(D5271=\"\",\"\",COUNTIF(Tabulka5[Data],D5271))","v":""},"","","",""]
[null,null,null,null,{"$f":"IF(D5272=\"\",\"\",COUNTIF(Tabulka5[Data],D5272))","v":""},"","","",""]
[null,null,null,null,{"$f":"IF(D5273=\"\",\"\",COUNTIF(Tabulka5[Data],D5273))","v":""},"","","",""]
[null,null,null,null,{"$f":"IF(D5274=\"\",\"\",COUNTIF(Tabulka5[Data],D5274))","v":""},"","","",""]
[null,null,null,null,{"$f":"IF(D5275=\"\",\"\",COUNTIF(Tabulka5[Data],D5275))","v":""},"","","",""]
[null,null,null,null,{"$f":"IF(D5276=\"\",\"\",COUNTIF(Tabulka5[Data],D5276))","v":""},"","","",""]
[null,null,null,null,{"$f":"IF(D5277=\"\",\"\",COUNTIF(Tabulka5[Data],D5277))","v":""},"","","",""]
[null,null,null,null,{"$f":"IF(D5278=\"\",\"\",COUNTIF(Tabulka5[Data],D5278))","v":""},"","","",""]
[null,null,null,null,{"$f":"IF(D5279=\"\",\"\",COUNTIF(Tabulka5[Data],D5279))","v":""},"","","",""]
[null,null,null,null,{"$f":"IF(D5280=\"\",\"\",COUNTIF(Tabulka5[Data],D5280))","v":""},"","","",""]
[null,null,null,null,{"$f":"IF(D5281=\"\",\"\",COUNTIF(Tabulka5[Data],D5281))","v":""},"","","",""]
[null,null,null,null,{"$f":"IF(D5282=\"\",\"\",COUNTIF(Tabulka5[Data],D5282))","v":""},"","","",""]
[null,null,null,null,{"$f":"IF(D5283=\"\",\"\",COUNTIF(Tabulka5[Data],D5283))","v":""},"","","",""]
[null,null,null,null,{"$f":"IF(D5284=\"\",\"\",COUNTIF(Tabulka5[Data],D5284))","v":""},"","","",""]
[null,null,null,null,{"$f":"IF(D5285=\"\",\"\",COUNTIF(Tabulka5[Data],D5285))","v":""},"","","",""]
[null,null,null,null,{"$f":"IF(D5286=\"\",\"\",COUNTIF(Tabulka5[Data],D5286))","v":""},"","","",""]
[null,null,null,null,{"$f":"IF(D5287=\"\",\"\",COUNTIF(Tabulka5[Data],D5287))","v":""},"","","",""]
[null,null,null,null,{"$f":"IF(D5288=\"\",\"\",COUNTIF(Tabulka5[Data],D5288))","v":""},"","","",""]
[null,null,null,null,{"$f":"IF(D5289=\"\",\"\",COUNTIF(Tabulka5[Data],D5289))","v":""},"","","",""]
[null,null,null,null,{"$f":"IF(D5290=\"\",\"\",COUNTIF(Tabulka5[Data],D5290))","v":""},"","","",""]
[null,null,null,null,{"$f":"IF(D5291=\"\",\"\",COUNTIF(Tabulka5[Data],D5291))","v":""},"","","",""]
[null,null,null,null,{"$f":"IF(D5292=\"\",\"\",COUNTIF(Tabulka5[Data],D5292))","v":""},"","","",""]
[null,null,null,null,{"$f":"IF(D5293=\"\",\"\",COUNTIF(Tabulka5[Data],D5293))","v":""},"","","",""]
[null,null,null,null,{"$f":"IF(D5294=\"\",\"\",COUNTIF(Tabulka5[Data],D5294))","v":""},"","","",""]
[null,null,null,null,{"$f":"IF(D5295=\"\",\"\",COUNTIF(Tabulka5[Data],D5295))","v":""},"","","",""]
[null,null,null,null,{"$f":"IF(D5296=\"\",\"\",COUNTIF(Tabulka5[Data],D5296))","v":""},"","","",""]
[null,null,null,null,{"$f":"IF(D5297=\"\",\"\",COUNTIF(Tabulka5[Data],D5297))","v":""},"","","",""]
[null,null,null,null,{"$f":"IF(D5298=\"\",\"\",COUNTIF(Tabulka5[Data],D5298))","v":""},"","","",""]
[null,null,null,null,{"$f":"IF(D5299=\"\",\"\",COUNTIF(Tabulka5[Data],D5299))","v":""},"","","",""]
[null,null,null,null,{"$f":"IF(D5300=\"\",\"\",COUNTIF(Tabulka5[Data],D5300))","v":""},"","","",""]
[null,null,null,null,{"$f":"IF(D5301=\"\",\"\",COUNTIF(Tabulka5[Data],D5301))","v":""},"","","",""]
[null,null,null,null,{"$f":"IF(D5302=\"\",\"\",COUNTIF(Tabulka5[Data],D5302))","v":""},"","","",""]
[null,null,null,null,{"$f":"IF(D5303=\"\",\"\",COUNTIF(Tabulka5[Data],D5303))","v":""},"","","",""]
[null,null,null,null,{"$f":"IF(D5304=\"\",\"\",COUNTIF(Tabulka5[Data],D5304))","v":""},"","","",""]
[null,null,null,null,{"$f":"IF(D5305=\"\",\"\",COUNTIF(Tabulka5[Data],D5305))","v":""},"","","",""]
[null,null,null,null,{"$f":"IF(D5306=\"\",\"\",COUNTIF(Tabulka5[Data],D5306))","v":""},"","","",""]
[null,null,null,null,{"$f":"IF(D5307=\"\",\"\",COUNTIF(Tabulka5[Data],D5307))","v":""},"","","",""]
[null,null,null,null,{"$f":"IF(D5308=\"\",\"\",COUNTIF(Tabulka5[Data],D5308))","v":""},"","","",""]
[null,null,null,null,{"$f":"IF(D5309=\"\",\"\",COUNTIF(Tabulka5[Data],D5309))","v":""},"","","",""]
[null,null,null,null,{"$f":"IF(D5310=\"\",\"\",COUNTIF(Tabulka5[Data],D5310))","v":""},"","","",""]
[null,null,null,null,{"$f":"IF(D5311=\"\",\"\",COUNTIF(Tabulka5[Data],D5311))","v":""},"","","",""]
[null,null,null,null,{"$f":"IF(D5312=\"\",\"\",COUNTIF(Tabulka5[Data],D5312))","v":""},"","","",""]
[null,null,null,null,{"$f":"IF(D5313=\"\",\"\",COUNTIF(Tabulka5[Data],D5313))","v":""},"","","",""]
[null,null,null,null,{"$f":"IF(D5314=\"\",\"\",COUNTIF(Tabulka5[Data],D5314))","v":""},"","","",""]
[null,null,null,null,{"$f":"IF(D5315=\"\",\"\",COUNTIF(Tabulka5[Data],D5315))","v":""},"","","",""]
[null,null,null,null,{"$f":"IF(D5316=\"\",\"\",COUNTIF(Tabulka5[Data],D5316))","v":""},"","","",""]
[null,null,null,null,{"$f":"IF(D5317=\"\",\"\",COUNTIF(Tabulka5[Data],D5317))","v":""},"","","",""]
[null,null,null,null,{"$f":"IF(D5318=\"\",\"\",COUNTIF(Tabulka5[Data],D5318))","v":""},"","","",""]
[null,null,null,null,{"$f":"IF(D5319=\"\",\"\",COUNTIF(Tabulka5[Data],D5319))","v":""},"","","",""]
[null,null,null,null,{"$f":"IF(D5320=\"\",\"\",COUNTIF(Tabulka5[Data],D5320))","v":""},"","","",""]
[null,null,null,null,{"$f":"IF(D5321=\"\",\"\",COUNTIF(Tabulka5[Data],D5321))","v":""},"","","",""]
[null,null,null,null,{"$f":"IF(D5322=\"\",\"\",COUNTIF(Tabulka5[Data],D5322))","v":""},"","","",""]
[null,null,null,null,{"$f":"IF(D5323=\"\",\"\",COUNTIF(Tabulka5[Data],D5323))","v":""},"","","",""]
[null,null,null,null,{"$f":"IF(D5324=\"\",\"\",COUNTIF(Tabulka5[Data],D5324))","v":""},"","","",""]
[null,null,null,null,{"$f":"IF(D5325=\"\",\"\",COUNTIF(Tabulka5[Data],D5325))","v":""},"","","",""]
[null,null,null,null,{"$f":"IF(D5326=\"\",\"\",COUNTIF(Tabulka5[Data],D5326))","v":""},"","","",""]
[null,null,null,null,{"$f":"IF(D5327=\"\",\"\",COUNTIF(Tabulka5[Data],D5327))","v":""},"","","",""]
[null,null,null,null,{"$f":"IF(D5328=\"\",\"\",COUNTIF(Tabulka5[Data],D5328))","v":""},"","","",""]
[null,null,null,null,{"$f":"IF(D5329=\"\",\"\",COUNTIF(Tabulka5[Data],D5329))","v":""},{"$f":"IF(OR($K$11=0,D5329=\"\"),\"\",IF(D5330=\"\",1-I5328,ROUND(E5329/SUM($E$15:$E$6350),3)))","v":""},{"$f":"IF(OR(D5329=\"\",$A$11=\"nominální\"),\"\",G5328+E5329)","v":""},{"$f":"IF(OR($K$11=0,D5329=\"\",$A$11=\"nominální\"),\"\",H5328+F5329)","v":""},{"$f":"IF(OR($K$11=0,D5329=\"\"),\"\",I5328+F5329)","v":""}]
[null,null,null,null,{"$f":"IF(D5330=\"\",\"\",COUNTIF(Tabulka5[Data],D5330))","v":""},"","","",""]
[null,null,null,null,{"$f":"IF(D5331=\"\",\"\",COUNTIF(Tabulka5[Data],D5331))","v":""},"","","",""]
[null,null,null,null,{"$f":"IF(D5332=\"\",\"\",COUNTIF(Tabulka5[Data],D5332))","v":""},"","","",""]
[null,null,null,null,{"$f":"IF(D5333=\"\",\"\",COUNTIF(Tabulka5[Data],D5333))","v":""},"","","",""]
[null,null,null,null,{"$f":"IF(D5334=\"\",\"\",COUNTIF(Tabulka5[Data],D5334))","v":""},"","","",""]
[null,null,null,null,{"$f":"IF(D5335=\"\",\"\",COUNTIF(Tabulka5[Data],D5335))","v":""},"","","",""]
[null,null,null,null,{"$f":"IF(D5336=\"\",\"\",COUNTIF(Tabulka5[Data],D5336))","v":""},"","","",""]
[null,null,null,null,{"$f":"IF(D5337=\"\",\"\",COUNTIF(Tabulka5[Data],D5337))","v":""},"","","",""]
[null,null,null,null,{"$f":"IF(D5338=\"\",\"\",COUNTIF(Tabulka5[Data],D5338))","v":""},"","","",""]
[null,null,null,null,{"$f":"IF(D5339=\"\",\"\",COUNTIF(Tabulka5[Data],D5339))","v":""},"","","",""]
[null,null,null,null,{"$f":"IF(D5340=\"\",\"\",COUNTIF(Tabulka5[Data],D5340))","v":""},"","","",""]
[null,null,null,null,{"$f":"IF(D5341=\"\",\"\",COUNTIF(Tabulka5[Data],D5341))","v":""},"","","",""]
[null,null,null,null,{"$f":"IF(D5342=\"\",\"\",COUNTIF(Tabulka5[Data],D5342))","v":""},"","","",""]
[null,null,null,null,{"$f":"IF(D5343=\"\",\"\",COUNTIF(Tabulka5[Data],D5343))","v":""},"","","",""]
[null,null,null,null,{"$f":"IF(D5344=\"\",\"\",COUNTIF(Tabulka5[Data],D5344))","v":""},"","","",""]
[null,null,null,null,{"$f":"IF(D5345=\"\",\"\",COUNTIF(Tabulka5[Data],D5345))","v":""},"","","",""]
[null,null,null,null,{"$f":"IF(D5346=\"\",\"\",COUNTIF(Tabulka5[Data],D5346))","v":""},"","","",""]
[null,null,null,null,{"$f":"IF(D5347=\"\",\"\",COUNTIF(Tabulka5[Data],D5347))","v":""},"","","",""]
[null,null,null,null,{"$f":"IF(D5348=\"\",\"\",COUNTIF(Tabulka5[Data],D5348))","v":""},"","","",""]
[null,null,null,null,{"$f":"IF(D5349=\"\",\"\",COUNTIF(Tabulka5[Data],D5349))","v":""},"","","",""]
[null,null,null,null,{"$f":"IF(D5350=\"\",\"\",COUNTIF(Tabulka5[Data],D5350))","v":""},"","","",""]
[null,null,null,null,{"$f":"IF(D5351=\"\",\"\",COUNTIF(Tabulka5[Data],D5351))","v":""},"","","",""]
[null,null,null,null,{"$f":"IF(D5352=\"\",\"\",COUNTIF(Tabulka5[Data],D5352))","v":""},"","","",""]
[null,null,null,null,{"$f":"IF(D5353=\"\",\"\",COUNTIF(Tabulka5[Data],D5353))","v":""},"","","",""]
[null,null,null,null,{"$f":"IF(D5354=\"\",\"\",COUNTIF(Tabulka5[Data],D5354))","v":""},"","","",""]
[null,null,null,null,{"$f":"IF(D5355=\"\",\"\",COUNTIF(Tabulka5[Data],D5355))","v":""},"","","",""]
[null,null,null,null,{"$f":"IF(D5356=\"\",\"\",COUNTIF(Tabulka5[Data],D5356))","v":""},"","","",""]
[null,null,null,null,{"$f":"IF(D5357=\"\",\"\",COUNTIF(Tabulka5[Data],D5357))","v":""},"","","",""]
[null,null,null,null,{"$f":"IF(D5358=\"\",\"\",COUNTIF(Tabulka5[Data],D5358))","v":""},"","","",""]
[null,null,null,null,{"$f":"IF(D5359=\"\",\"\",COUNTIF(Tabulka5[Data],D5359))","v":""},"","","",""]
[null,null,null,null,{"$f":"IF(D5360=\"\",\"\",COUNTIF(Tabulka5[Data],D5360))","v":""},"","","",""]
[null,null,null,null,{"$f":"IF(D5361=\"\",\"\",COUNTIF(Tabulka5[Data],D5361))","v":""},"","","",""]
[null,null,null,null,{"$f":"IF(D5362=\"\",\"\",COUNTIF(Tabulka5[Data],D5362))","v":""},"","","",""]
[null,null,null,null,{"$f":"IF(D5363=\"\",\"\",COUNTIF(Tabulka5[Data],D5363))","v":""},"","","",""]
[null,null,null,null,{"$f":"IF(D5364=\"\",\"\",COUNTIF(Tabulka5[Data],D5364))","v":""},"","","",""]
[null,null,null,null,{"$f":"IF(D5365=\"\",\"\",COUNTIF(Tabulka5[Data],D5365))","v":""},"","","",""]
[null,null,null,null,{"$f":"IF(D5366=\"\",\"\",COUNTIF(Tabulka5[Data],D5366))","v":""},"","","",""]
[null,null,null,null,{"$f":"IF(D5367=\"\",\"\",COUNTIF(Tabulka5[Data],D5367))","v":""},"","","",""]
[null,null,null,null,{"$f":"IF(D5368=\"\",\"\",COUNTIF(Tabulka5[Data],D5368))","v":""},"","","",""]
[null,null,null,null,{"$f":"IF(D5369=\"\",\"\",COUNTIF(Tabulka5[Data],D5369))","v":""},"","","",""]
[null,null,null,null,{"$f":"IF(D5370=\"\",\"\",COUNTIF(Tabulka5[Data],D5370))","v":""},"","","",""]
[null,null,null,null,{"$f":"IF(D5371=\"\",\"\",COUNTIF(Tabulka5[Data],D5371))","v":""},"","","",""]
[null,null,null,null,{"$f":"IF(D5372=\"\",\"\",COUNTIF(Tabulka5[Data],D5372))","v":""},"","","",""]
[null,null,null,null,{"$f":"IF(D5373=\"\",\"\",COUNTIF(Tabulka5[Data],D5373))","v":""},"","","",""]
[null,null,null,null,{"$f":"IF(D5374=\"\",\"\",COUNTIF(Tabulka5[Data],D5374))","v":""},"","","",""]
[null,null,null,null,{"$f":"IF(D5375=\"\",\"\",COUNTIF(Tabulka5[Data],D5375))","v":""},"","","",""]
[null,null,null,null,{"$f":"IF(D5376=\"\",\"\",COUNTIF(Tabulka5[Data],D5376))","v":""},"","","",""]
[null,null,null,null,{"$f":"IF(D5377=\"\",\"\",COUNTIF(Tabulka5[Data],D5377))","v":""},"","","",""]
[null,null,null,null,{"$f":"IF(D5378=\"\",\"\",COUNTIF(Tabulka5[Data],D5378))","v":""},"","","",""]
[null,null,null,null,{"$f":"IF(D5379=\"\",\"\",COUNTIF(Tabulka5[Data],D5379))","v":""},"","","",""]
[null,null,null,null,{"$f":"IF(D5380=\"\",\"\",COUNTIF(Tabulka5[Data],D5380))","v":""},"","","",""]
[null,null,null,null,{"$f":"IF(D5381=\"\",\"\",COUNTIF(Tabulka5[Data],D5381))","v":""},"","","",""]
[null,null,null,null,{"$f":"IF(D5382=\"\",\"\",COUNTIF(Tabulka5[Data],D5382))","v":""},"","","",""]
[null,null,null,null,{"$f":"IF(D5383=\"\",\"\",COUNTIF(Tabulka5[Data],D5383))","v":""},"","","",""]
[null,null,null,null,{"$f":"IF(D5384=\"\",\"\",COUNTIF(Tabulka5[Data],D5384))","v":""},"","","",""]
[null,null,null,null,{"$f":"IF(D5385=\"\",\"\",COUNTIF(Tabulka5[Data],D5385))","v":""},"","","",""]
[null,null,null,null,{"$f":"IF(D5386=\"\",\"\",COUNTIF(Tabulka5[Data],D5386))","v":""},"","","",""]
[null,null,null,null,{"$f":"IF(D5387=\"\",\"\",COUNTIF(Tabulka5[Data],D5387))","v":""},"","","",""]
[null,null,null,null,{"$f":"IF(D5388=\"\",\"\",COUNTIF(Tabulka5[Data],D5388))","v":""},"","","",""]
[null,null,null,null,{"$f":"IF(D5389=\"\",\"\",COUNTIF(Tabulka5[Data],D5389))","v":""},"","","",""]
[null,null,null,null,{"$f":"IF(D5390=\"\",\"\",COUNTIF(Tabulka5[Data],D5390))","v":""},"","","",""]
[null,null,null,null,{"$f":"IF(D5391=\"\",\"\",COUNTIF(Tabulka5[Data],D5391))","v":""},"","","",""]
[null,null,null,null,{"$f":"IF(D5392=\"\",\"\",COUNTIF(Tabulka5[Data],D5392))","v":""},"","","",""]
[null,null,null,null,{"$f":"IF(D5393=\"\",\"\",COUNTIF(Tabulka5[Data],D5393))","v":""},{"$f":"IF(OR($K$11=0,D5393=\"\"),\"\",IF(D5394=\"\",1-I5392,ROUND(E5393/SUM($E$15:$E$6350),3)))","v":""},{"$f":"IF(OR(D5393=\"\",$A$11=\"nominální\"),\"\",G5392+E5393)","v":""},{"$f":"IF(OR($K$11=0,D5393=\"\",$A$11=\"nominální\"),\"\",H5392+F5393)","v":""},{"$f":"IF(OR($K$11=0,D5393=\"\"),\"\",I5392+F5393)","v":""}]
[null,null,null,null,{"$f":"IF(D5394=\"\",\"\",COUNTIF(Tabulka5[Data],D5394))","v":""},"","","",""]
[null,null,null,null,{"$f":"IF(D5395=\"\",\"\",COUNTIF(Tabulka5[Data],D5395))","v":""},"","","",""]
[null,null,null,null,{"$f":"IF(D5396=\"\",\"\",COUNTIF(Tabulka5[Data],D5396))","v":""},"","","",""]
[null,null,null,null,{"$f":"IF(D5397=\"\",\"\",COUNTIF(Tabulka5[Data],D5397))","v":""},"","","",""]
[null,null,null,null,{"$f":"IF(D5398=\"\",\"\",COUNTIF(Tabulka5[Data],D5398))","v":""},"","","",""]
[null,null,null,null,{"$f":"IF(D5399=\"\",\"\",COUNTIF(Tabulka5[Data],D5399))","v":""},"","","",""]
[null,null,null,null,{"$f":"IF(D5400=\"\",\"\",COUNTIF(Tabulka5[Data],D5400))","v":""},"","","",""]
[null,null,null,null,{"$f":"IF(D5401=\"\",\"\",COUNTIF(Tabulka5[Data],D5401))","v":""},"","","",""]
[null,null,null,null,{"$f":"IF(D5402=\"\",\"\",COUNTIF(Tabulka5[Data],D5402))","v":""},"","","",""]
[null,null,null,null,{"$f":"IF(D5403=\"\",\"\",COUNTIF(Tabulka5[Data],D5403))","v":""},"","","",""]
[null,null,null,null,{"$f":"IF(D5404=\"\",\"\",COUNTIF(Tabulka5[Data],D5404))","v":""},"","","",""]
[null,null,null,null,{"$f":"IF(D5405=\"\",\"\",COUNTIF(Tabulka5[Data],D5405))","v":""},"","","",""]
[null,null,null,null,{"$f":"IF(D5406=\"\",\"\",COUNTIF(Tabulka5[Data],D5406))","v":""},"","","",""]
[null,null,null,null,{"$f":"IF(D5407=\"\",\"\",COUNTIF(Tabulka5[Data],D5407))","v":""},"","","",""]
[null,null,null,null,{"$f":"IF(D5408=\"\",\"\",COUNTIF(Tabulka5[Data],D5408))","v":""},"","","",""]
[null,null,null,null,{"$f":"IF(D5409=\"\",\"\",COUNTIF(Tabulka5[Data],D5409))","v":""},"","","",""]
[null,null,null,null,{"$f":"IF(D5410=\"\",\"\",COUNTIF(Tabulka5[Data],D5410))","v":""},"","","",""]
[null,null,null,null,{"$f":"IF(D5411=\"\",\"\",COUNTIF(Tabulka5[Data],D5411))","v":""},"","","",""]
[null,null,null,null,{"$f":"IF(D5412=\"\",\"\",COUNTIF(Tabulka5[Data],D5412))","v":""},"","","",""]
[null,null,null,null,{"$f":"IF(D5413=\"\",\"\",COUNTIF(Tabulka5[Data],D5413))","v":""},"","","",""]
[null,null,null,null,{"$f":"IF(D5414=\"\",\"\",COUNTIF(Tabulka5[Data],D5414))","v":""},"","","",""]
[null,null,null,null,{"$f":"IF(D5415=\"\",\"\",COUNTIF(Tabulka5[Data],D5415))","v":""},"","","",""]
[null,null,null,null,{"$f":"IF(D5416=\"\",\"\",COUNTIF(Tabulka5[Data],D5416))","v":""},"","","",""]
[null,null,null,null,{"$f":"IF(D5417=\"\",\"\",COUNTIF(Tabulka5[Data],D5417))","v":""},"","","",""]
[null,null,null,null,{"$f":"IF(D5418=\"\",\"\",COUNTIF(Tabulka5[Data],D5418))","v":""},"","","",""]
[null,null,null,null,{"$f":"IF(D5419=\"\",\"\",COUNTIF(Tabulka5[Data],D5419))","v":""},"","","",""]
[null,null,null,null,{"$f":"IF(D5420=\"\",\"\",COUNTIF(Tabulka5[Data],D5420))","v":""},"","","",""]
[null,null,null,null,{"$f":"IF(D5421=\"\",\"\",COUNTIF(Tabulka5[Data],D5421))","v":""},"","","",""]
[null,null,null,null,{"$f":"IF(D5422=\"\",\"\",COUNTIF(Tabulka5[Data],D5422))","v":""},"","","",""]
[null,null,null,null,{"$f":"IF(D5423=\"\",\"\",COUNTIF(Tabulka5[Data],D5423))","v":""},"","","",""]
[null,null,null,null,{"$f":"IF(D5424=\"\",\"\",COUNTIF(Tabulka5[Data],D5424))","v":""},"","","",""]
[null,null,null,null,{"$f":"IF(D5425=\"\",\"\",COUNTIF(Tabulka5[Data],D5425))","v":""},"","","",""]
[null,null,null,null,{"$f":"IF(D5426=\"\",\"\",COUNTIF(Tabulka5[Data],D5426))","v":""},"","","",""]
[null,null,null,null,{"$f":"IF(D5427=\"\",\"\",COUNTIF(Tabulka5[Data],D5427))","v":""},"","","",""]
[null,null,null,null,{"$f":"IF(D5428=\"\",\"\",COUNTIF(Tabulka5[Data],D5428))","v":""},"","","",""]
[null,null,null,null,{"$f":"IF(D5429=\"\",\"\",COUNTIF(Tabulka5[Data],D5429))","v":""},"","","",""]
[null,null,null,null,{"$f":"IF(D5430=\"\",\"\",COUNTIF(Tabulka5[Data],D5430))","v":""},"","","",""]
[null,null,null,null,{"$f":"IF(D5431=\"\",\"\",COUNTIF(Tabulka5[Data],D5431))","v":""},"","","",""]
[null,null,null,null,{"$f":"IF(D5432=\"\",\"\",COUNTIF(Tabulka5[Data],D5432))","v":""},"","","",""]
[null,null,null,null,{"$f":"IF(D5433=\"\",\"\",COUNTIF(Tabulka5[Data],D5433))","v":""},"","","",""]
[null,null,null,null,{"$f":"IF(D5434=\"\",\"\",COUNTIF(Tabulka5[Data],D5434))","v":""},"","","",""]
[null,null,null,null,{"$f":"IF(D5435=\"\",\"\",COUNTIF(Tabulka5[Data],D5435))","v":""},"","","",""]
[null,null,null,null,{"$f":"IF(D5436=\"\",\"\",COUNTIF(Tabulka5[Data],D5436))","v":""},"","","",""]
[null,null,null,null,{"$f":"IF(D5437=\"\",\"\",COUNTIF(Tabulka5[Data],D5437))","v":""},"","","",""]
[null,null,null,null,{"$f":"IF(D5438=\"\",\"\",COUNTIF(Tabulka5[Data],D5438))","v":""},"","","",""]
[null,null,null,null,{"$f":"IF(D5439=\"\",\"\",COUNTIF(Tabulka5[Data],D5439))","v":""},"","","",""]
[null,null,null,null,{"$f":"IF(D5440=\"\",\"\",COUNTIF(Tabulka5[Data],D5440))","v":""},"","","",""]
[null,null,null,null,{"$f":"IF(D5441=\"\",\"\",COUNTIF(Tabulka5[Data],D5441))","v":""},"","","",""]
[null,null,null,null,{"$f":"IF(D5442=\"\",\"\",COUNTIF(Tabulka5[Data],D5442))","v":""},"","","",""]
[null,null,null,null,{"$f":"IF(D5443=\"\",\"\",COUNTIF(Tabulka5[Data],D5443))","v":""},"","","",""]
[null,null,null,null,{"$f":"IF(D5444=\"\",\"\",COUNTIF(Tabulka5[Data],D5444))","v":""},"","","",""]
[null,null,null,null,{"$f":"IF(D5445=\"\",\"\",COUNTIF(Tabulka5[Data],D5445))","v":""},"","","",""]
[null,null,null,null,{"$f":"IF(D5446=\"\",\"\",COUNTIF(Tabulka5[Data],D5446))","v":""},"","","",""]
[null,null,null,null,{"$f":"IF(D5447=\"\",\"\",COUNTIF(Tabulka5[Data],D5447))","v":""},"","","",""]
[null,null,null,null,{"$f":"IF(D5448=\"\",\"\",COUNTIF(Tabulka5[Data],D5448))","v":""},"","","",""]
[null,null,null,null,{"$f":"IF(D5449=\"\",\"\",COUNTIF(Tabulka5[Data],D5449))","v":""},"","","",""]
[null,null,null,null,{"$f":"IF(D5450=\"\",\"\",COUNTIF(Tabulka5[Data],D5450))","v":""},"","","",""]
[null,null,null,null,{"$f":"IF(D5451=\"\",\"\",COUNTIF(Tabulka5[Data],D5451))","v":""},"","","",""]
[null,null,null,null,{"$f":"IF(D5452=\"\",\"\",COUNTIF(Tabulka5[Data],D5452))","v":""},"","","",""]
[null,null,null,null,{"$f":"IF(D5453=\"\",\"\",COUNTIF(Tabulka5[Data],D5453))","v":""},"","","",""]
[null,null,null,null,{"$f":"IF(D5454=\"\",\"\",COUNTIF(Tabulka5[Data],D5454))","v":""},"","","",""]
[null,null,null,null,{"$f":"IF(D5455=\"\",\"\",COUNTIF(Tabulka5[Data],D5455))","v":""},"","","",""]
[null,null,null,null,{"$f":"IF(D5456=\"\",\"\",COUNTIF(Tabulka5[Data],D5456))","v":""},"","","",""]
[null,null,null,null,{"$f":"IF(D5457=\"\",\"\",COUNTIF(Tabulka5[Data],D5457))","v":""},{"$f":"IF(OR($K$11=0,D5457=\"\"),\"\",IF(D5458=\"\",1-I5456,ROUND(E5457/SUM($E$15:$E$6350),3)))","v":""},{"$f":"IF(OR(D5457=\"\",$A$11=\"nominální\"),\"\",G5456+E5457)","v":""},{"$f":"IF(OR($K$11=0,D5457=\"\",$A$11=\"nominální\"),\"\",H5456+F5457)","v":""},{"$f":"IF(OR($K$11=0,D5457=\"\"),\"\",I5456+F5457)","v":""}]
[null,null,null,null,{"$f":"IF(D5458=\"\",\"\",COUNTIF(Tabulka5[Data],D5458))","v":""},"","","",""]
[null,null,null,null,{"$f":"IF(D5459=\"\",\"\",COUNTIF(Tabulka5[Data],D5459))","v":""},"","","",""]
[null,null,null,null,{"$f":"IF(D5460=\"\",\"\",COUNTIF(Tabulka5[Data],D5460))","v":""},"","","",""]
[null,null,null,null,{"$f":"IF(D5461=\"\",\"\",COUNTIF(Tabulka5[Data],D5461))","v":""},"","","",""]
[null,null,null,null,{"$f":"IF(D5462=\"\",\"\",COUNTIF(Tabulka5[Data],D5462))","v":""},"","","",""]
[null,null,null,null,{"$f":"IF(D5463=\"\",\"\",COUNTIF(Tabulka5[Data],D5463))","v":""},"","","",""]
[null,null,null,null,{"$f":"IF(D5464=\"\",\"\",COUNTIF(Tabulka5[Data],D5464))","v":""},"","","",""]
[null,null,null,null,{"$f":"IF(D5465=\"\",\"\",COUNTIF(Tabulka5[Data],D5465))","v":""},"","","",""]
[null,null,null,null,{"$f":"IF(D5466=\"\",\"\",COUNTIF(Tabulka5[Data],D5466))","v":""},"","","",""]
[null,null,null,null,{"$f":"IF(D5467=\"\",\"\",COUNTIF(Tabulka5[Data],D5467))","v":""},"","","",""]
[null,null,null,null,{"$f":"IF(D5468=\"\",\"\",COUNTIF(Tabulka5[Data],D5468))","v":""},"","","",""]
[null,null,null,null,{"$f":"IF(D5469=\"\",\"\",COUNTIF(Tabulka5[Data],D5469))","v":""},"","","",""]
[null,null,null,null,{"$f":"IF(D5470=\"\",\"\",COUNTIF(Tabulka5[Data],D5470))","v":""},"","","",""]
[null,null,null,null,{"$f":"IF(D5471=\"\",\"\",COUNTIF(Tabulka5[Data],D5471))","v":""},"","","",""]
[null,null,null,null,{"$f":"IF(D5472=\"\",\"\",COUNTIF(Tabulka5[Data],D5472))","v":""},"","","",""]
[null,null,null,null,{"$f":"IF(D5473=\"\",\"\",COUNTIF(Tabulka5[Data],D5473))","v":""},"","","",""]
[null,null,null,null,{"$f":"IF(D5474=\"\",\"\",COUNTIF(Tabulka5[Data],D5474))","v":""},"","","",""]
[null,null,null,null,{"$f":"IF(D5475=\"\",\"\",COUNTIF(Tabulka5[Data],D5475))","v":""},"","","",""]
[null,null,null,null,{"$f":"IF(D5476=\"\",\"\",COUNTIF(Tabulka5[Data],D5476))","v":""},"","","",""]
[null,null,null,null,{"$f":"IF(D5477=\"\",\"\",COUNTIF(Tabulka5[Data],D5477))","v":""},"","","",""]
[null,null,null,null,{"$f":"IF(D5478=\"\",\"\",COUNTIF(Tabulka5[Data],D5478))","v":""},"","","",""]
[null,null,null,null,{"$f":"IF(D5479=\"\",\"\",COUNTIF(Tabulka5[Data],D5479))","v":""},"","","",""]
[null,null,null,null,{"$f":"IF(D5480=\"\",\"\",COUNTIF(Tabulka5[Data],D5480))","v":""},"","","",""]
[null,null,null,null,{"$f":"IF(D5481=\"\",\"\",COUNTIF(Tabulka5[Data],D5481))","v":""},"","","",""]
[null,null,null,null,{"$f":"IF(D5482=\"\",\"\",COUNTIF(Tabulka5[Data],D5482))","v":""},"","","",""]
[null,null,null,null,{"$f":"IF(D5483=\"\",\"\",COUNTIF(Tabulka5[Data],D5483))","v":""},"","","",""]
[null,null,null,null,{"$f":"IF(D5484=\"\",\"\",COUNTIF(Tabulka5[Data],D5484))","v":""},"","","",""]
[null,null,null,null,{"$f":"IF(D5485=\"\",\"\",COUNTIF(Tabulka5[Data],D5485))","v":""},"","","",""]
[null,null,null,null,{"$f":"IF(D5486=\"\",\"\",COUNTIF(Tabulka5[Data],D5486))","v":""},"","","",""]
[null,null,null,null,{"$f":"IF(D5487=\"\",\"\",COUNTIF(Tabulka5[Data],D5487))","v":""},"","","",""]
[null,null,null,null,{"$f":"IF(D5488=\"\",\"\",COUNTIF(Tabulka5[Data],D5488))","v":""},"","","",""]
[null,null,null,null,{"$f":"IF(D5489=\"\",\"\",COUNTIF(Tabulka5[Data],D5489))","v":""},"","","",""]
[null,null,null,null,{"$f":"IF(D5490=\"\",\"\",COUNTIF(Tabulka5[Data],D5490))","v":""},"","","",""]
[null,null,null,null,{"$f":"IF(D5491=\"\",\"\",COUNTIF(Tabulka5[Data],D5491))","v":""},"","","",""]
[null,null,null,null,{"$f":"IF(D5492=\"\",\"\",COUNTIF(Tabulka5[Data],D5492))","v":""},"","","",""]
[null,null,null,null,{"$f":"IF(D5493=\"\",\"\",COUNTIF(Tabulka5[Data],D5493))","v":""},"","","",""]
[null,null,null,null,{"$f":"IF(D5494=\"\",\"\",COUNTIF(Tabulka5[Data],D5494))","v":""},"","","",""]
[null,null,null,null,{"$f":"IF(D5495=\"\",\"\",COUNTIF(Tabulka5[Data],D5495))","v":""},"","","",""]
[null,null,null,null,{"$f":"IF(D5496=\"\",\"\",COUNTIF(Tabulka5[Data],D5496))","v":""},"","","",""]
[null,null,null,null,{"$f":"IF(D5497=\"\",\"\",COUNTIF(Tabulka5[Data],D5497))","v":""},"","","",""]
[null,null,null,null,{"$f":"IF(D5498=\"\",\"\",COUNTIF(Tabulka5[Data],D5498))","v":""},"","","",""]
[null,null,null,null,{"$f":"IF(D5499=\"\",\"\",COUNTIF(Tabulka5[Data],D5499))","v":""},"","","",""]
[null,null,null,null,{"$f":"IF(D5500=\"\",\"\",COUNTIF(Tabulka5[Data],D5500))","v":""},"","","",""]
[null,null,null,null,{"$f":"IF(D5501=\"\",\"\",COUNTIF(Tabulka5[Data],D5501))","v":""},"","","",""]
[null,null,null,null,{"$f":"IF(D5502=\"\",\"\",COUNTIF(Tabulka5[Data],D5502))","v":""},"","","",""]
[null,null,null,null,{"$f":"IF(D5503=\"\",\"\",COUNTIF(Tabulka5[Data],D5503))","v":""},"","","",""]
[null,null,null,null,{"$f":"IF(D5504=\"\",\"\",COUNTIF(Tabulka5[Data],D5504))","v":""},"","","",""]
[null,null,null,null,{"$f":"IF(D5505=\"\",\"\",COUNTIF(Tabulka5[Data],D5505))","v":""},"","","",""]
[null,null,null,null,{"$f":"IF(D5506=\"\",\"\",COUNTIF(Tabulka5[Data],D5506))","v":""},"","","",""]
[null,null,null,null,{"$f":"IF(D5507=\"\",\"\",COUNTIF(Tabulka5[Data],D5507))","v":""},"","","",""]
[null,null,null,null,{"$f":"IF(D5508=\"\",\"\",COUNTIF(Tabulka5[Data],D5508))","v":""},"","","",""]
[null,null,null,null,{"$f":"IF(D5509=\"\",\"\",COUNTIF(Tabulka5[Data],D5509))","v":""},"","","",""]
[null,null,null,null,{"$f":"IF(D5510=\"\",\"\",COUNTIF(Tabulka5[Data],D5510))","v":""},"","","",""]
[null,null,null,null,{"$f":"IF(D5511=\"\",\"\",COUNTIF(Tabulka5[Data],D5511))","v":""},"","","",""]
[null,null,null,null,{"$f":"IF(D5512=\"\",\"\",COUNTIF(Tabulka5[Data],D5512))","v":""},"","","",""]
[null,null,null,null,{"$f":"IF(D5513=\"\",\"\",COUNTIF(Tabulka5[Data],D5513))","v":""},"","","",""]
[null,null,null,null,{"$f":"IF(D5514=\"\",\"\",COUNTIF(Tabulka5[Data],D5514))","v":""},"","","",""]
[null,null,null,null,{"$f":"IF(D5515=\"\",\"\",COUNTIF(Tabulka5[Data],D5515))","v":""},"","","",""]
[null,null,null,null,{"$f":"IF(D5516=\"\",\"\",COUNTIF(Tabulka5[Data],D5516))","v":""},"","","",""]
[null,null,null,null,{"$f":"IF(D5517=\"\",\"\",COUNTIF(Tabulka5[Data],D5517))","v":""},"","","",""]
[null,null,null,null,{"$f":"IF(D5518=\"\",\"\",COUNTIF(Tabulka5[Data],D5518))","v":""},"","","",""]
[null,null,null,null,{"$f":"IF(D5519=\"\",\"\",COUNTIF(Tabulka5[Data],D5519))","v":""},"","","",""]
[null,null,null,null,{"$f":"IF(D5520=\"\",\"\",COUNTIF(Tabulka5[Data],D5520))","v":""},"","","",""]
[null,null,null,null,{"$f":"IF(D5521=\"\",\"\",COUNTIF(Tabulka5[Data],D5521))","v":""},{"$f":"IF(OR($K$11=0,D5521=\"\"),\"\",IF(D5522=\"\",1-I5520,ROUND(E5521/SUM($E$15:$E$6350),3)))","v":""},{"$f":"IF(OR(D5521=\"\",$A$11=\"nominální\"),\"\",G5520+E5521)","v":""},{"$f":"IF(OR($K$11=0,D5521=\"\",$A$11=\"nominální\"),\"\",H5520+F5521)","v":""},{"$f":"IF(OR($K$11=0,D5521=\"\"),\"\",I5520+F5521)","v":""}]
[null,null,null,null,{"$f":"IF(D5522=\"\",\"\",COUNTIF(Tabulka5[Data],D5522))","v":""},"","","",""]
[null,null,null,null,{"$f":"IF(D5523=\"\",\"\",COUNTIF(Tabulka5[Data],D5523))","v":""},"","","",""]
[null,null,null,null,{"$f":"IF(D5524=\"\",\"\",COUNTIF(Tabulka5[Data],D5524))","v":""},"","","",""]
[null,null,null,null,{"$f":"IF(D5525=\"\",\"\",COUNTIF(Tabulka5[Data],D5525))","v":""},"","","",""]
[null,null,null,null,{"$f":"IF(D5526=\"\",\"\",COUNTIF(Tabulka5[Data],D5526))","v":""},"","","",""]
[null,null,null,null,{"$f":"IF(D5527=\"\",\"\",COUNTIF(Tabulka5[Data],D5527))","v":""},"","","",""]
[null,null,null,null,{"$f":"IF(D5528=\"\",\"\",COUNTIF(Tabulka5[Data],D5528))","v":""},"","","",""]
[null,null,null,null,{"$f":"IF(D5529=\"\",\"\",COUNTIF(Tabulka5[Data],D5529))","v":""},"","","",""]
[null,null,null,null,{"$f":"IF(D5530=\"\",\"\",COUNTIF(Tabulka5[Data],D5530))","v":""},"","","",""]
[null,null,null,null,{"$f":"IF(D5531=\"\",\"\",COUNTIF(Tabulka5[Data],D5531))","v":""},"","","",""]
[null,null,null,null,{"$f":"IF(D5532=\"\",\"\",COUNTIF(Tabulka5[Data],D5532))","v":""},"","","",""]
[null,null,null,null,{"$f":"IF(D5533=\"\",\"\",COUNTIF(Tabulka5[Data],D5533))","v":""},"","","",""]
[null,null,null,null,{"$f":"IF(D5534=\"\",\"\",COUNTIF(Tabulka5[Data],D5534))","v":""},"","","",""]
[null,null,null,null,{"$f":"IF(D5535=\"\",\"\",COUNTIF(Tabulka5[Data],D5535))","v":""},"","","",""]
[null,null,null,null,{"$f":"IF(D5536=\"\",\"\",COUNTIF(Tabulka5[Data],D5536))","v":""},"","","",""]
[null,null,null,null,{"$f":"IF(D5537=\"\",\"\",COUNTIF(Tabulka5[Data],D5537))","v":""},"","","",""]
[null,null,null,null,{"$f":"IF(D5538=\"\",\"\",COUNTIF(Tabulka5[Data],D5538))","v":""},"","","",""]
[null,null,null,null,{"$f":"IF(D5539=\"\",\"\",COUNTIF(Tabulka5[Data],D5539))","v":""},"","","",""]
[null,null,null,null,{"$f":"IF(D5540=\"\",\"\",COUNTIF(Tabulka5[Data],D5540))","v":""},"","","",""]
[null,null,null,null,{"$f":"IF(D5541=\"\",\"\",COUNTIF(Tabulka5[Data],D5541))","v":""},"","","",""]
[null,null,null,null,{"$f":"IF(D5542=\"\",\"\",COUNTIF(Tabulka5[Data],D5542))","v":""},"","","",""]
[null,null,null,null,{"$f":"IF(D5543=\"\",\"\",COUNTIF(Tabulka5[Data],D5543))","v":""},"","","",""]
[null,null,null,null,{"$f":"IF(D5544=\"\",\"\",COUNTIF(Tabulka5[Data],D5544))","v":""},"","","",""]
[null,null,null,null,{"$f":"IF(D5545=\"\",\"\",COUNTIF(Tabulka5[Data],D5545))","v":""},"","","",""]
[null,null,null,null,{"$f":"IF(D5546=\"\",\"\",COUNTIF(Tabulka5[Data],D5546))","v":""},"","","",""]
[null,null,null,null,{"$f":"IF(D5547=\"\",\"\",COUNTIF(Tabulka5[Data],D5547))","v":""},"","","",""]
[null,null,null,null,{"$f":"IF(D5548=\"\",\"\",COUNTIF(Tabulka5[Data],D5548))","v":""},"","","",""]
[null,null,null,null,{"$f":"IF(D5549=\"\",\"\",COUNTIF(Tabulka5[Data],D5549))","v":""},"","","",""]
[null,null,null,null,{"$f":"IF(D5550=\"\",\"\",COUNTIF(Tabulka5[Data],D5550))","v":""},"","","",""]
[null,null,null,null,{"$f":"IF(D5551=\"\",\"\",COUNTIF(Tabulka5[Data],D5551))","v":""},"","","",""]
[null,null,null,null,{"$f":"IF(D5552=\"\",\"\",COUNTIF(Tabulka5[Data],D5552))","v":""},"","","",""]
[null,null,null,null,{"$f":"IF(D5553=\"\",\"\",COUNTIF(Tabulka5[Data],D5553))","v":""},"","","",""]
[null,null,null,null,{"$f":"IF(D5554=\"\",\"\",COUNTIF(Tabulka5[Data],D5554))","v":""},"","","",""]
[null,null,null,null,{"$f":"IF(D5555=\"\",\"\",COUNTIF(Tabulka5[Data],D5555))","v":""},"","","",""]
[null,null,null,null,{"$f":"IF(D5556=\"\",\"\",COUNTIF(Tabulka5[Data],D5556))","v":""},"","","",""]
[null,null,null,null,{"$f":"IF(D5557=\"\",\"\",COUNTIF(Tabulka5[Data],D5557))","v":""},"","","",""]
[null,null,null,null,{"$f":"IF(D5558=\"\",\"\",COUNTIF(Tabulka5[Data],D5558))","v":""},"","","",""]
[null,null,null,null,{"$f":"IF(D5559=\"\",\"\",COUNTIF(Tabulka5[Data],D5559))","v":""},"","","",""]
[null,null,null,null,{"$f":"IF(D5560=\"\",\"\",COUNTIF(Tabulka5[Data],D5560))","v":""},"","","",""]
[null,null,null,null,{"$f":"IF(D5561=\"\",\"\",COUNTIF(Tabulka5[Data],D5561))","v":""},"","","",""]
[null,null,null,null,{"$f":"IF(D5562=\"\",\"\",COUNTIF(Tabulka5[Data],D5562))","v":""},"","","",""]
[null,null,null,null,{"$f":"IF(D5563=\"\",\"\",COUNTIF(Tabulka5[Data],D5563))","v":""},"","","",""]
[null,null,null,null,{"$f":"IF(D5564=\"\",\"\",COUNTIF(Tabulka5[Data],D5564))","v":""},"","","",""]
[null,null,null,null,{"$f":"IF(D5565=\"\",\"\",COUNTIF(Tabulka5[Data],D5565))","v":""},"","","",""]
[null,null,null,null,{"$f":"IF(D5566=\"\",\"\",COUNTIF(Tabulka5[Data],D5566))","v":""},"","","",""]
[null,null,null,null,{"$f":"IF(D5567=\"\",\"\",COUNTIF(Tabulka5[Data],D5567))","v":""},"","","",""]
[null,null,null,null,{"$f":"IF(D5568=\"\",\"\",COUNTIF(Tabulka5[Data],D5568))","v":""},"","","",""]
[null,null,null,null,{"$f":"IF(D5569=\"\",\"\",COUNTIF(Tabulka5[Data],D5569))","v":""},"","","",""]
[null,null,null,null,{"$f":"IF(D5570=\"\",\"\",COUNTIF(Tabulka5[Data],D5570))","v":""},"","","",""]
[null,null,null,null,{"$f":"IF(D5571=\"\",\"\",COUNTIF(Tabulka5[Data],D5571))","v":""},"","","",""]
[null,null,null,null,{"$f":"IF(D5572=\"\",\"\",COUNTIF(Tabulka5[Data],D5572))","v":""},"","","",""]
[null,null,null,null,{"$f":"IF(D5573=\"\",\"\",COUNTIF(Tabulka5[Data],D5573))","v":""},"","","",""]
[null,null,null,null,{"$f":"IF(D5574=\"\",\"\",COUNTIF(Tabulka5[Data],D5574))","v":""},"","","",""]
[null,null,null,null,{"$f":"IF(D5575=\"\",\"\",COUNTIF(Tabulka5[Data],D5575))","v":""},"","","",""]
[null,null,null,null,{"$f":"IF(D5576=\"\",\"\",COUNTIF(Tabulka5[Data],D5576))","v":""},"","","",""]
[null,null,null,null,{"$f":"IF(D5577=\"\",\"\",COUNTIF(Tabulka5[Data],D5577))","v":""},"","","",""]
[null,null,null,null,{"$f":"IF(D5578=\"\",\"\",COUNTIF(Tabulka5[Data],D5578))","v":""},"","","",""]
[null,null,null,null,{"$f":"IF(D5579=\"\",\"\",COUNTIF(Tabulka5[Data],D5579))","v":""},"","","",""]
[null,null,null,null,{"$f":"IF(D5580=\"\",\"\",COUNTIF(Tabulka5[Data],D5580))","v":""},"","","",""]
[null,null,null,null,{"$f":"IF(D5581=\"\",\"\",COUNTIF(Tabulka5[Data],D5581))","v":""},"","","",""]
[null,null,null,null,{"$f":"IF(D5582=\"\",\"\",COUNTIF(Tabulka5[Data],D5582))","v":""},"","","",""]
[null,null,null,null,{"$f":"IF(D5583=\"\",\"\",COUNTIF(Tabulka5[Data],D5583))","v":""},"","","",""]
[null,null,null,null,{"$f":"IF(D5584=\"\",\"\",COUNTIF(Tabulka5[Data],D5584))","v":""},"","","",""]
[null,null,null,null,{"$f":"IF(D5585=\"\",\"\",COUNTIF(Tabulka5[Data],D5585))","v":""},{"$f":"IF(OR($K$11=0,D5585=\"\"),\"\",IF(D5586=\"\",1-I5584,ROUND(E5585/SUM($E$15:$E$6350),3)))","v":""},{"$f":"IF(OR(D5585=\"\",$A$11=\"nominální\"),\"\",G5584+E5585)","v":""},{"$f":"IF(OR($K$11=0,D5585=\"\",$A$11=\"nominální\"),\"\",H5584+F5585)","v":""},{"$f":"IF(OR($K$11=0,D5585=\"\"),\"\",I5584+F5585)","v":""}]
[null,null,null,null,{"$f":"IF(D5586=\"\",\"\",COUNTIF(Tabulka5[Data],D5586))","v":""},"","","",""]
[null,null,null,null,{"$f":"IF(D5587=\"\",\"\",COUNTIF(Tabulka5[Data],D5587))","v":""},"","","",""]
[null,null,null,null,{"$f":"IF(D5588=\"\",\"\",COUNTIF(Tabulka5[Data],D5588))","v":""},"","","",""]
[null,null,null,null,{"$f":"IF(D5589=\"\",\"\",COUNTIF(Tabulka5[Data],D5589))","v":""},"","","",""]
[null,null,null,null,{"$f":"IF(D5590=\"\",\"\",COUNTIF(Tabulka5[Data],D5590))","v":""},"","","",""]
[null,null,null,null,{"$f":"IF(D5591=\"\",\"\",COUNTIF(Tabulka5[Data],D5591))","v":""},"","","",""]
[null,null,null,null,{"$f":"IF(D5592=\"\",\"\",COUNTIF(Tabulka5[Data],D5592))","v":""},"","","",""]
[null,null,null,null,{"$f":"IF(D5593=\"\",\"\",COUNTIF(Tabulka5[Data],D5593))","v":""},"","","",""]
[null,null,null,null,{"$f":"IF(D5594=\"\",\"\",COUNTIF(Tabulka5[Data],D5594))","v":""},"","","",""]
[null,null,null,null,{"$f":"IF(D5595=\"\",\"\",COUNTIF(Tabulka5[Data],D5595))","v":""},"","","",""]
[null,null,null,null,{"$f":"IF(D5596=\"\",\"\",COUNTIF(Tabulka5[Data],D5596))","v":""},"","","",""]
[null,null,null,null,{"$f":"IF(D5597=\"\",\"\",COUNTIF(Tabulka5[Data],D5597))","v":""},"","","",""]
[null,null,null,null,{"$f":"IF(D5598=\"\",\"\",COUNTIF(Tabulka5[Data],D5598))","v":""},"","","",""]
[null,null,null,null,{"$f":"IF(D5599=\"\",\"\",COUNTIF(Tabulka5[Data],D5599))","v":""},"","","",""]
[null,null,null,null,{"$f":"IF(D5600=\"\",\"\",COUNTIF(Tabulka5[Data],D5600))","v":""},"","","",""]
[null,null,null,null,{"$f":"IF(D5601=\"\",\"\",COUNTIF(Tabulka5[Data],D5601))","v":""},"","","",""]
[null,null,null,null,{"$f":"IF(D5602=\"\",\"\",COUNTIF(Tabulka5[Data],D5602))","v":""},"","","",""]
[null,null,null,null,{"$f":"IF(D5603=\"\",\"\",COUNTIF(Tabulka5[Data],D5603))","v":""},"","","",""]
[null,null,null,null,{"$f":"IF(D5604=\"\",\"\",COUNTIF(Tabulka5[Data],D5604))","v":""},"","","",""]
[null,null,null,null,{"$f":"IF(D5605=\"\",\"\",COUNTIF(Tabulka5[Data],D5605))","v":""},"","","",""]
[null,null,null,null,{"$f":"IF(D5606=\"\",\"\",COUNTIF(Tabulka5[Data],D5606))","v":""},"","","",""]
[null,null,null,null,{"$f":"IF(D5607=\"\",\"\",COUNTIF(Tabulka5[Data],D5607))","v":""},"","","",""]
[null,null,null,null,{"$f":"IF(D5608=\"\",\"\",COUNTIF(Tabulka5[Data],D5608))","v":""},"","","",""]
[null,null,null,null,{"$f":"IF(D5609=\"\",\"\",COUNTIF(Tabulka5[Data],D5609))","v":""},"","","",""]
[null,null,null,null,{"$f":"IF(D5610=\"\",\"\",COUNTIF(Tabulka5[Data],D5610))","v":""},"","","",""]
[null,null,null,null,{"$f":"IF(D5611=\"\",\"\",COUNTIF(Tabulka5[Data],D5611))","v":""},"","","",""]
[null,null,null,null,{"$f":"IF(D5612=\"\",\"\",COUNTIF(Tabulka5[Data],D5612))","v":""},"","","",""]
[null,null,null,null,{"$f":"IF(D5613=\"\",\"\",COUNTIF(Tabulka5[Data],D5613))","v":""},"","","",""]
[null,null,null,null,{"$f":"IF(D5614=\"\",\"\",COUNTIF(Tabulka5[Data],D5614))","v":""},"","","",""]
[null,null,null,null,{"$f":"IF(D5615=\"\",\"\",COUNTIF(Tabulka5[Data],D5615))","v":""},"","","",""]
[null,null,null,null,{"$f":"IF(D5616=\"\",\"\",COUNTIF(Tabulka5[Data],D5616))","v":""},"","","",""]
[null,null,null,null,{"$f":"IF(D5617=\"\",\"\",COUNTIF(Tabulka5[Data],D5617))","v":""},"","","",""]
[null,null,null,null,{"$f":"IF(D5618=\"\",\"\",COUNTIF(Tabulka5[Data],D5618))","v":""},"","","",""]
[null,null,null,null,{"$f":"IF(D5619=\"\",\"\",COUNTIF(Tabulka5[Data],D5619))","v":""},"","","",""]
[null,null,null,null,{"$f":"IF(D5620=\"\",\"\",COUNTIF(Tabulka5[Data],D5620))","v":""},"","","",""]
[null,null,null,null,{"$f":"IF(D5621=\"\",\"\",COUNTIF(Tabulka5[Data],D5621))","v":""},"","","",""]
[null,null,null,null,{"$f":"IF(D5622=\"\",\"\",COUNTIF(Tabulka5[Data],D5622))","v":""},"","","",""]
[null,null,null,null,{"$f":"IF(D5623=\"\",\"\",COUNTIF(Tabulka5[Data],D5623))","v":""},"","","",""]
[null,null,null,null,{"$f":"IF(D5624=\"\",\"\",COUNTIF(Tabulka5[Data],D5624))","v":""},"","","",""]
[null,null,null,null,{"$f":"IF(D5625=\"\",\"\",COUNTIF(Tabulka5[Data],D5625))","v":""},"","","",""]
[null,null,null,null,{"$f":"IF(D5626=\"\",\"\",COUNTIF(Tabulka5[Data],D5626))","v":""},"","","",""]
[null,null,null,null,{"$f":"IF(D5627=\"\",\"\",COUNTIF(Tabulka5[Data],D5627))","v":""},"","","",""]
[null,null,null,null,{"$f":"IF(D5628=\"\",\"\",COUNTIF(Tabulka5[Data],D5628))","v":""},"","","",""]
[null,null,null,null,{"$f":"IF(D5629=\"\",\"\",COUNTIF(Tabulka5[Data],D5629))","v":""},"","","",""]
[null,null,null,null,{"$f":"IF(D5630=\"\",\"\",COUNTIF(Tabulka5[Data],D5630))","v":""},"","","",""]
[null,null,null,null,{"$f":"IF(D5631=\"\",\"\",COUNTIF(Tabulka5[Data],D5631))","v":""},"","","",""]
[null,null,null,null,{"$f":"IF(D5632=\"\",\"\",COUNTIF(Tabulka5[Data],D5632))","v":""},"","","",""]
[null,null,null,null,{"$f":"IF(D5633=\"\",\"\",COUNTIF(Tabulka5[Data],D5633))","v":""},"","","",""]
[null,null,null,null,{"$f":"IF(D5634=\"\",\"\",COUNTIF(Tabulka5[Data],D5634))","v":""},"","","",""]
[null,null,null,null,{"$f":"IF(D5635=\"\",\"\",COUNTIF(Tabulka5[Data],D5635))","v":""},"","","",""]
[null,null,null,null,{"$f":"IF(D5636=\"\",\"\",COUNTIF(Tabulka5[Data],D5636))","v":""},"","","",""]
[null,null,null,null,{"$f":"IF(D5637=\"\",\"\",COUNTIF(Tabulka5[Data],D5637))","v":""},"","","",""]
[null,null,null,null,{"$f":"IF(D5638=\"\",\"\",COUNTIF(Tabulka5[Data],D5638))","v":""},"","","",""]
[null,null,null,null,{"$f":"IF(D5639=\"\",\"\",COUNTIF(Tabulka5[Data],D5639))","v":""},"","","",""]
[null,null,null,null,{"$f":"IF(D5640=\"\",\"\",COUNTIF(Tabulka5[Data],D5640))","v":""},"","","",""]
[null,null,null,null,{"$f":"IF(D5641=\"\",\"\",COUNTIF(Tabulka5[Data],D5641))","v":""},"","","",""]
[null,null,null,null,{"$f":"IF(D5642=\"\",\"\",COUNTIF(Tabulka5[Data],D5642))","v":""},"","","",""]
[null,null,null,null,{"$f":"IF(D5643=\"\",\"\",COUNTIF(Tabulka5[Data],D5643))","v":""},"","","",""]
[null,null,null,null,{"$f":"IF(D5644=\"\",\"\",COUNTIF(Tabulka5[Data],D5644))","v":""},"","","",""]
[null,null,null,null,{"$f":"IF(D5645=\"\",\"\",COUNTIF(Tabulka5[Data],D5645))","v":""},"","","",""]
[null,null,null,null,{"$f":"IF(D5646=\"\",\"\",COUNTIF(Tabulka5[Data],D5646))","v":""},"","","",""]
[null,null,null,null,{"$f":"IF(D5647=\"\",\"\",COUNTIF(Tabulka5[Data],D5647))","v":""},"","","",""]
[null,null,null,null,{"$f":"IF(D5648=\"\",\"\",COUNTIF(Tabulka5[Data],D5648))","v":""},"","","",""]
[null,null,null,null,{"$f":"IF(D5649=\"\",\"\",COUNTIF(Tabulka5[Data],D5649))","v":""},{"$f":"IF(OR($K$11=0,D5649=\"\"),\"\",IF(D5650=\"\",1-I5648,ROUND(E5649/SUM($E$15:$E$6350),3)))","v":""},{"$f":"IF(OR(D5649=\"\",$A$11=\"nominální\"),\"\",G5648+E5649)","v":""},{"$f":"IF(OR($K$11=0,D5649=\"\",$A$11=\"nominální\"),\"\",H5648+F5649)","v":""},{"$f":"IF(OR($K$11=0,D5649=\"\"),\"\",I5648+F5649)","v":""}]
[null,null,null,null,{"$f":"IF(D5650=\"\",\"\",COUNTIF(Tabulka5[Data],D5650))","v":""},"","","",""]
[null,null,null,null,{"$f":"IF(D5651=\"\",\"\",COUNTIF(Tabulka5[Data],D5651))","v":""},"","","",""]
[null,null,null,null,{"$f":"IF(D5652=\"\",\"\",COUNTIF(Tabulka5[Data],D5652))","v":""},"","","",""]
[null,null,null,null,{"$f":"IF(D5653=\"\",\"\",COUNTIF(Tabulka5[Data],D5653))","v":""},"","","",""]
[null,null,null,null,{"$f":"IF(D5654=\"\",\"\",COUNTIF(Tabulka5[Data],D5654))","v":""},"","","",""]
[null,null,null,null,{"$f":"IF(D5655=\"\",\"\",COUNTIF(Tabulka5[Data],D5655))","v":""},"","","",""]
[null,null,null,null,{"$f":"IF(D5656=\"\",\"\",COUNTIF(Tabulka5[Data],D5656))","v":""},"","","",""]
[null,null,null,null,{"$f":"IF(D5657=\"\",\"\",COUNTIF(Tabulka5[Data],D5657))","v":""},"","","",""]
[null,null,null,null,{"$f":"IF(D5658=\"\",\"\",COUNTIF(Tabulka5[Data],D5658))","v":""},"","","",""]
[null,null,null,null,{"$f":"IF(D5659=\"\",\"\",COUNTIF(Tabulka5[Data],D5659))","v":""},"","","",""]
[null,null,null,null,{"$f":"IF(D5660=\"\",\"\",COUNTIF(Tabulka5[Data],D5660))","v":""},"","","",""]
[null,null,null,null,{"$f":"IF(D5661=\"\",\"\",COUNTIF(Tabulka5[Data],D5661))","v":""},"","","",""]
[null,null,null,null,{"$f":"IF(D5662=\"\",\"\",COUNTIF(Tabulka5[Data],D5662))","v":""},"","","",""]
[null,null,null,null,{"$f":"IF(D5663=\"\",\"\",COUNTIF(Tabulka5[Data],D5663))","v":""},"","","",""]
[null,null,null,null,{"$f":"IF(D5664=\"\",\"\",COUNTIF(Tabulka5[Data],D5664))","v":""},"","","",""]
[null,null,null,null,{"$f":"IF(D5665=\"\",\"\",COUNTIF(Tabulka5[Data],D5665))","v":""},"","","",""]
[null,null,null,null,{"$f":"IF(D5666=\"\",\"\",COUNTIF(Tabulka5[Data],D5666))","v":""},"","","",""]
[null,null,null,null,{"$f":"IF(D5667=\"\",\"\",COUNTIF(Tabulka5[Data],D5667))","v":""},"","","",""]
[null,null,null,null,{"$f":"IF(D5668=\"\",\"\",COUNTIF(Tabulka5[Data],D5668))","v":""},"","","",""]
[null,null,null,null,{"$f":"IF(D5669=\"\",\"\",COUNTIF(Tabulka5[Data],D5669))","v":""},"","","",""]
[null,null,null,null,{"$f":"IF(D5670=\"\",\"\",COUNTIF(Tabulka5[Data],D5670))","v":""},"","","",""]
[null,null,null,null,{"$f":"IF(D5671=\"\",\"\",COUNTIF(Tabulka5[Data],D5671))","v":""},"","","",""]
[null,null,null,null,{"$f":"IF(D5672=\"\",\"\",COUNTIF(Tabulka5[Data],D5672))","v":""},"","","",""]
[null,null,null,null,{"$f":"IF(D5673=\"\",\"\",COUNTIF(Tabulka5[Data],D5673))","v":""},"","","",""]
[null,null,null,null,{"$f":"IF(D5674=\"\",\"\",COUNTIF(Tabulka5[Data],D5674))","v":""},"","","",""]
[null,null,null,null,{"$f":"IF(D5675=\"\",\"\",COUNTIF(Tabulka5[Data],D5675))","v":""},"","","",""]
[null,null,null,null,{"$f":"IF(D5676=\"\",\"\",COUNTIF(Tabulka5[Data],D5676))","v":""},"","","",""]
[null,null,null,null,{"$f":"IF(D5677=\"\",\"\",COUNTIF(Tabulka5[Data],D5677))","v":""},"","","",""]
[null,null,null,null,{"$f":"IF(D5678=\"\",\"\",COUNTIF(Tabulka5[Data],D5678))","v":""},"","","",""]
[null,null,null,null,{"$f":"IF(D5679=\"\",\"\",COUNTIF(Tabulka5[Data],D5679))","v":""},"","","",""]
[null,null,null,null,{"$f":"IF(D5680=\"\",\"\",COUNTIF(Tabulka5[Data],D5680))","v":""},"","","",""]
[null,null,null,null,{"$f":"IF(D5681=\"\",\"\",COUNTIF(Tabulka5[Data],D5681))","v":""},"","","",""]
[null,null,null,null,{"$f":"IF(D5682=\"\",\"\",COUNTIF(Tabulka5[Data],D5682))","v":""},"","","",""]
[null,null,null,null,{"$f":"IF(D5683=\"\",\"\",COUNTIF(Tabulka5[Data],D5683))","v":""},"","","",""]
[null,null,null,null,{"$f":"IF(D5684=\"\",\"\",COUNTIF(Tabulka5[Data],D5684))","v":""},"","","",""]
[null,null,null,null,{"$f":"IF(D5685=\"\",\"\",COUNTIF(Tabulka5[Data],D5685))","v":""},"","","",""]
[null,null,null,null,{"$f":"IF(D5686=\"\",\"\",COUNTIF(Tabulka5[Data],D5686))","v":""},"","","",""]
[null,null,null,null,{"$f":"IF(D5687=\"\",\"\",COUNTIF(Tabulka5[Data],D5687))","v":""},"","","",""]
[null,null,null,null,{"$f":"IF(D5688=\"\",\"\",COUNTIF(Tabulka5[Data],D5688))","v":""},"","","",""]
[null,null,null,null,{"$f":"IF(D5689=\"\",\"\",COUNTIF(Tabulka5[Data],D5689))","v":""},"","","",""]
[null,null,null,null,{"$f":"IF(D5690=\"\",\"\",COUNTIF(Tabulka5[Data],D5690))","v":""},"","","",""]
[null,null,null,null,{"$f":"IF(D5691=\"\",\"\",COUNTIF(Tabulka5[Data],D5691))","v":""},"","","",""]
[null,null,null,null,{"$f":"IF(D5692=\"\",\"\",COUNTIF(Tabulka5[Data],D5692))","v":""},"","","",""]
[null,null,null,null,{"$f":"IF(D5693=\"\",\"\",COUNTIF(Tabulka5[Data],D5693))","v":""},"","","",""]
[null,null,null,null,{"$f":"IF(D5694=\"\",\"\",COUNTIF(Tabulka5[Data],D5694))","v":""},"","","",""]
[null,null,null,null,{"$f":"IF(D5695=\"\",\"\",COUNTIF(Tabulka5[Data],D5695))","v":""},"","","",""]
[null,null,null,null,{"$f":"IF(D5696=\"\",\"\",COUNTIF(Tabulka5[Data],D5696))","v":""},"","","",""]
[null,null,null,null,{"$f":"IF(D5697=\"\",\"\",COUNTIF(Tabulka5[Data],D5697))","v":""},"","","",""]
[null,null,null,null,{"$f":"IF(D5698=\"\",\"\",COUNTIF(Tabulka5[Data],D5698))","v":""},"","","",""]
[null,null,null,null,{"$f":"IF(D5699=\"\",\"\",COUNTIF(Tabulka5[Data],D5699))","v":""},"","","",""]
[null,null,null,null,{"$f":"IF(D5700=\"\",\"\",COUNTIF(Tabulka5[Data],D5700))","v":""},"","","",""]
[null,null,null,null,{"$f":"IF(D5701=\"\",\"\",COUNTIF(Tabulka5[Data],D5701))","v":""},"","","",""]
[null,null,null,null,{"$f":"IF(D5702=\"\",\"\",COUNTIF(Tabulka5[Data],D5702))","v":""},"","","",""]
[null,null,null,null,{"$f":"IF(D5703=\"\",\"\",COUNTIF(Tabulka5[Data],D5703))","v":""},"","","",""]
[null,null,null,null,{"$f":"IF(D5704=\"\",\"\",COUNTIF(Tabulka5[Data],D5704))","v":""},"","","",""]
[null,null,null,null,{"$f":"IF(D5705=\"\",\"\",COUNTIF(Tabulka5[Data],D5705))","v":""},"","","",""]
[null,null,null,null,{"$f":"IF(D5706=\"\",\"\",COUNTIF(Tabulka5[Data],D5706))","v":""},"","","",""]
[null,null,null,null,{"$f":"IF(D5707=\"\",\"\",COUNTIF(Tabulka5[Data],D5707))","v":""},"","","",""]
[null,null,null,null,{"$f":"IF(D5708=\"\",\"\",COUNTIF(Tabulka5[Data],D5708))","v":""},"","","",""]
[null,null,null,null,{"$f":"IF(D5709=\"\",\"\",COUNTIF(Tabulka5[Data],D5709))","v":""},"","","",""]
[null,null,null,null,{"$f":"IF(D5710=\"\",\"\",COUNTIF(Tabulka5[Data],D5710))","v":""},"","","",""]
[null,null,null,null,{"$f":"IF(D5711=\"\",\"\",COUNTIF(Tabulka5[Data],D5711))","v":""},"","","",""]
[null,null,null,null,{"$f":"IF(D5712=\"\",\"\",COUNTIF(Tabulka5[Data],D5712))","v":""},"","","",""]
[null,null,null,null,{"$f":"IF(D5713=\"\",\"\",COUNTIF(Tabulka5[Data],D5713))","v":""},{"$f":"IF(OR($K$11=0,D5713=\"\"),\"\",IF(D5714=\"\",1-I5712,ROUND(E5713/SUM($E$15:$E$6350),3)))","v":""},{"$f":"IF(OR(D5713=\"\",$A$11=\"nominální\"),\"\",G5712+E5713)","v":""},{"$f":"IF(OR($K$11=0,D5713=\"\",$A$11=\"nominální\"),\"\",H5712+F5713)","v":""},{"$f":"IF(OR($K$11=0,D5713=\"\"),\"\",I5712+F5713)","v":""}]
[null,null,null,null,{"$f":"IF(D5714=\"\",\"\",COUNTIF(Tabulka5[Data],D5714))","v":""},"","","",""]
[null,null,null,null,{"$f":"IF(D5715=\"\",\"\",COUNTIF(Tabulka5[Data],D5715))","v":""},"","","",""]
[null,null,null,null,{"$f":"IF(D5716=\"\",\"\",COUNTIF(Tabulka5[Data],D5716))","v":""},"","","",""]
[null,null,null,null,{"$f":"IF(D5717=\"\",\"\",COUNTIF(Tabulka5[Data],D5717))","v":""},"","","",""]
[null,null,null,null,{"$f":"IF(D5718=\"\",\"\",COUNTIF(Tabulka5[Data],D5718))","v":""},"","","",""]
[null,null,null,null,{"$f":"IF(D5719=\"\",\"\",COUNTIF(Tabulka5[Data],D5719))","v":""},"","","",""]
[null,null,null,null,{"$f":"IF(D5720=\"\",\"\",COUNTIF(Tabulka5[Data],D5720))","v":""},"","","",""]
[null,null,null,null,{"$f":"IF(D5721=\"\",\"\",COUNTIF(Tabulka5[Data],D5721))","v":""},"","","",""]
[null,null,null,null,{"$f":"IF(D5722=\"\",\"\",COUNTIF(Tabulka5[Data],D5722))","v":""},"","","",""]
[null,null,null,null,{"$f":"IF(D5723=\"\",\"\",COUNTIF(Tabulka5[Data],D5723))","v":""},"","","",""]
[null,null,null,null,{"$f":"IF(D5724=\"\",\"\",COUNTIF(Tabulka5[Data],D5724))","v":""},"","","",""]
[null,null,null,null,{"$f":"IF(D5725=\"\",\"\",COUNTIF(Tabulka5[Data],D5725))","v":""},"","","",""]
[null,null,null,null,{"$f":"IF(D5726=\"\",\"\",COUNTIF(Tabulka5[Data],D5726))","v":""},"","","",""]
[null,null,null,null,{"$f":"IF(D5727=\"\",\"\",COUNTIF(Tabulka5[Data],D5727))","v":""},"","","",""]
[null,null,null,null,{"$f":"IF(D5728=\"\",\"\",COUNTIF(Tabulka5[Data],D5728))","v":""},"","","",""]
[null,null,null,null,{"$f":"IF(D5729=\"\",\"\",COUNTIF(Tabulka5[Data],D5729))","v":""},"","","",""]
[null,null,null,null,{"$f":"IF(D5730=\"\",\"\",COUNTIF(Tabulka5[Data],D5730))","v":""},"","","",""]
[null,null,null,null,{"$f":"IF(D5731=\"\",\"\",COUNTIF(Tabulka5[Data],D5731))","v":""},"","","",""]
[null,null,null,null,{"$f":"IF(D5732=\"\",\"\",COUNTIF(Tabulka5[Data],D5732))","v":""},"","","",""]
[null,null,null,null,{"$f":"IF(D5733=\"\",\"\",COUNTIF(Tabulka5[Data],D5733))","v":""},"","","",""]
[null,null,null,null,{"$f":"IF(D5734=\"\",\"\",COUNTIF(Tabulka5[Data],D5734))","v":""},"","","",""]
[null,null,null,null,{"$f":"IF(D5735=\"\",\"\",COUNTIF(Tabulka5[Data],D5735))","v":""},"","","",""]
[null,null,null,null,{"$f":"IF(D5736=\"\",\"\",COUNTIF(Tabulka5[Data],D5736))","v":""},"","","",""]
[null,null,null,null,{"$f":"IF(D5737=\"\",\"\",COUNTIF(Tabulka5[Data],D5737))","v":""},"","","",""]
[null,null,null,null,{"$f":"IF(D5738=\"\",\"\",COUNTIF(Tabulka5[Data],D5738))","v":""},"","","",""]
[null,null,null,null,{"$f":"IF(D5739=\"\",\"\",COUNTIF(Tabulka5[Data],D5739))","v":""},"","","",""]
[null,null,null,null,{"$f":"IF(D5740=\"\",\"\",COUNTIF(Tabulka5[Data],D5740))","v":""},"","","",""]
[null,null,null,null,{"$f":"IF(D5741=\"\",\"\",COUNTIF(Tabulka5[Data],D5741))","v":""},"","","",""]
[null,null,null,null,{"$f":"IF(D5742=\"\",\"\",COUNTIF(Tabulka5[Data],D5742))","v":""},"","","",""]
[null,null,null,null,{"$f":"IF(D5743=\"\",\"\",COUNTIF(Tabulka5[Data],D5743))","v":""},"","","",""]
[null,null,null,null,{"$f":"IF(D5744=\"\",\"\",COUNTIF(Tabulka5[Data],D5744))","v":""},"","","",""]
[null,null,null,null,{"$f":"IF(D5745=\"\",\"\",COUNTIF(Tabulka5[Data],D5745))","v":""},"","","",""]
[null,null,null,null,{"$f":"IF(D5746=\"\",\"\",COUNTIF(Tabulka5[Data],D5746))","v":""},"","","",""]
[null,null,null,null,{"$f":"IF(D5747=\"\",\"\",COUNTIF(Tabulka5[Data],D5747))","v":""},"","","",""]
[null,null,null,null,{"$f":"IF(D5748=\"\",\"\",COUNTIF(Tabulka5[Data],D5748))","v":""},"","","",""]
[null,null,null,null,{"$f":"IF(D5749=\"\",\"\",COUNTIF(Tabulka5[Data],D5749))","v":""},"","","",""]
[null,null,null,null,{"$f":"IF(D5750=\"\",\"\",COUNTIF(Tabulka5[Data],D5750))","v":""},"","","",""]
[null,null,null,null,{"$f":"IF(D5751=\"\",\"\",COUNTIF(Tabulka5[Data],D5751))","v":""},"","","",""]
[null,null,null,null,{"$f":"IF(D5752=\"\",\"\",COUNTIF(Tabulka5[Data],D5752))","v":""},"","","",""]
[null,null,null,null,{"$f":"IF(D5753=\"\",\"\",COUNTIF(Tabulka5[Data],D5753))","v":""},"","","",""]
[null,null,null,null,{"$f":"IF(D5754=\"\",\"\",COUNTIF(Tabulka5[Data],D5754))","v":""},"","","",""]
[null,null,null,null,{"$f":"IF(D5755=\"\",\"\",COUNTIF(Tabulka5[Data],D5755))","v":""},"","","",""]
[null,null,null,null,{"$f":"IF(D5756=\"\",\"\",COUNTIF(Tabulka5[Data],D5756))","v":""},"","","",""]
[null,null,null,null,{"$f":"IF(D5757=\"\",\"\",COUNTIF(Tabulka5[Data],D5757))","v":""},"","","",""]
[null,null,null,null,{"$f":"IF(D5758=\"\",\"\",COUNTIF(Tabulka5[Data],D5758))","v":""},"","","",""]
[null,null,null,null,{"$f":"IF(D5759=\"\",\"\",COUNTIF(Tabulka5[Data],D5759))","v":""},"","","",""]
[null,null,null,null,{"$f":"IF(D5760=\"\",\"\",COUNTIF(Tabulka5[Data],D5760))","v":""},"","","",""]
[null,null,null,null,{"$f":"IF(D5761=\"\",\"\",COUNTIF(Tabulka5[Data],D5761))","v":""},"","","",""]
[null,null,null,null,{"$f":"IF(D5762=\"\",\"\",COUNTIF(Tabulka5[Data],D5762))","v":""},"","","",""]
[null,null,null,null,{"$f":"IF(D5763=\"\",\"\",COUNTIF(Tabulka5[Data],D5763))","v":""},"","","",""]
[null,null,null,null,{"$f":"IF(D5764=\"\",\"\",COUNTIF(Tabulka5[Data],D5764))","v":""},"","","",""]
[null,null,null,null,{"$f":"IF(D5765=\"\",\"\",COUNTIF(Tabulka5[Data],D5765))","v":""},"","","",""]
[null,null,null,null,{"$f":"IF(D5766=\"\",\"\",COUNTIF(Tabulka5[Data],D5766))","v":""},"","","",""]
[null,null,null,null,{"$f":"IF(D5767=\"\",\"\",COUNTIF(Tabulka5[Data],D5767))","v":""},"","","",""]
[null,null,null,null,{"$f":"IF(D5768=\"\",\"\",COUNTIF(Tabulka5[Data],D5768))","v":""},"","","",""]
[null,null,null,null,{"$f":"IF(D5769=\"\",\"\",COUNTIF(Tabulka5[Data],D5769))","v":""},"","","",""]
[null,null,null,null,{"$f":"IF(D5770=\"\",\"\",COUNTIF(Tabulka5[Data],D5770))","v":""},"","","",""]
[null,null,null,null,{"$f":"IF(D5771=\"\",\"\",COUNTIF(Tabulka5[Data],D5771))","v":""},"","","",""]
[null,null,null,null,{"$f":"IF(D5772=\"\",\"\",COUNTIF(Tabulka5[Data],D5772))","v":""},"","","",""]
[null,null,null,null,{"$f":"IF(D5773=\"\",\"\",COUNTIF(Tabulka5[Data],D5773))","v":""},"","","",""]
[null,null,null,null,{"$f":"IF(D5774=\"\",\"\",COUNTIF(Tabulka5[Data],D5774))","v":""},"","","",""]
[null,null,null,null,{"$f":"IF(D5775=\"\",\"\",COUNTIF(Tabulka5[Data],D5775))","v":""},"","","",""]
[null,null,null,null,{"$f":"IF(D5776=\"\",\"\",COUNTIF(Tabulka5[Data],D5776))","v":""},"","","",""]
[null,null,null,null,{"$f":"IF(D5777=\"\",\"\",COUNTIF(Tabulka5[Data],D5777))","v":""},{"$f":"IF(OR($K$11=0,D5777=\"\"),\"\",IF(D5778=\"\",1-I5776,ROUND(E5777/SUM($E$15:$E$6350),3)))","v":""},{"$f":"IF(OR(D5777=\"\",$A$11=\"nominální\"),\"\",G5776+E5777)","v":""},{"$f":"IF(OR($K$11=0,D5777=\"\",$A$11=\"nominální\"),\"\",H5776+F5777)","v":""},{"$f":"IF(OR($K$11=0,D5777=\"\"),\"\",I5776+F5777)","v":""}]
[null,null,null,null,{"$f":"IF(D5778=\"\",\"\",COUNTIF(Tabulka5[Data],D5778))","v":""},"","","",""]
[null,null,null,null,{"$f":"IF(D5779=\"\",\"\",COUNTIF(Tabulka5[Data],D5779))","v":""},"","","",""]
[null,null,null,null,{"$f":"IF(D5780=\"\",\"\",COUNTIF(Tabulka5[Data],D5780))","v":""},"","","",""]
[null,null,null,null,{"$f":"IF(D5781=\"\",\"\",COUNTIF(Tabulka5[Data],D5781))","v":""},"","","",""]
[null,null,null,null,{"$f":"IF(D5782=\"\",\"\",COUNTIF(Tabulka5[Data],D5782))","v":""},"","","",""]
[null,null,null,null,{"$f":"IF(D5783=\"\",\"\",COUNTIF(Tabulka5[Data],D5783))","v":""},"","","",""]
[null,null,null,null,{"$f":"IF(D5784=\"\",\"\",COUNTIF(Tabulka5[Data],D5784))","v":""},"","","",""]
[null,null,null,null,{"$f":"IF(D5785=\"\",\"\",COUNTIF(Tabulka5[Data],D5785))","v":""},"","","",""]
[null,null,null,null,{"$f":"IF(D5786=\"\",\"\",COUNTIF(Tabulka5[Data],D5786))","v":""},"","","",""]
[null,null,null,null,{"$f":"IF(D5787=\"\",\"\",COUNTIF(Tabulka5[Data],D5787))","v":""},"","","",""]
[null,null,null,null,{"$f":"IF(D5788=\"\",\"\",COUNTIF(Tabulka5[Data],D5788))","v":""},"","","",""]
[null,null,null,null,{"$f":"IF(D5789=\"\",\"\",COUNTIF(Tabulka5[Data],D5789))","v":""},"","","",""]
[null,null,null,null,{"$f":"IF(D5790=\"\",\"\",COUNTIF(Tabulka5[Data],D5790))","v":""},"","","",""]
[null,null,null,null,{"$f":"IF(D5791=\"\",\"\",COUNTIF(Tabulka5[Data],D5791))","v":""},"","","",""]
[null,null,null,null,{"$f":"IF(D5792=\"\",\"\",COUNTIF(Tabulka5[Data],D5792))","v":""},"","","",""]
[null,null,null,null,{"$f":"IF(D5793=\"\",\"\",COUNTIF(Tabulka5[Data],D5793))","v":""},"","","",""]
[null,null,null,null,{"$f":"IF(D5794=\"\",\"\",COUNTIF(Tabulka5[Data],D5794))","v":""},"","","",""]
[null,null,null,null,{"$f":"IF(D5795=\"\",\"\",COUNTIF(Tabulka5[Data],D5795))","v":""},"","","",""]
[null,null,null,null,{"$f":"IF(D5796=\"\",\"\",COUNTIF(Tabulka5[Data],D5796))","v":""},"","","",""]
[null,null,null,null,{"$f":"IF(D5797=\"\",\"\",COUNTIF(Tabulka5[Data],D5797))","v":""},"","","",""]
[null,null,null,null,{"$f":"IF(D5798=\"\",\"\",COUNTIF(Tabulka5[Data],D5798))","v":""},"","","",""]
[null,null,null,null,{"$f":"IF(D5799=\"\",\"\",COUNTIF(Tabulka5[Data],D5799))","v":""},"","","",""]
[null,null,null,null,{"$f":"IF(D5800=\"\",\"\",COUNTIF(Tabulka5[Data],D5800))","v":""},"","","",""]
[null,null,null,null,{"$f":"IF(D5801=\"\",\"\",COUNTIF(Tabulka5[Data],D5801))","v":""},"","","",""]
[null,null,null,null,{"$f":"IF(D5802=\"\",\"\",COUNTIF(Tabulka5[Data],D5802))","v":""},"","","",""]
[null,null,null,null,{"$f":"IF(D5803=\"\",\"\",COUNTIF(Tabulka5[Data],D5803))","v":""},"","","",""]
[null,null,null,null,{"$f":"IF(D5804=\"\",\"\",COUNTIF(Tabulka5[Data],D5804))","v":""},"","","",""]
[null,null,null,null,{"$f":"IF(D5805=\"\",\"\",COUNTIF(Tabulka5[Data],D5805))","v":""},"","","",""]
[null,null,null,null,{"$f":"IF(D5806=\"\",\"\",COUNTIF(Tabulka5[Data],D5806))","v":""},"","","",""]
[null,null,null,null,{"$f":"IF(D5807=\"\",\"\",COUNTIF(Tabulka5[Data],D5807))","v":""},"","","",""]
[null,null,null,null,{"$f":"IF(D5808=\"\",\"\",COUNTIF(Tabulka5[Data],D5808))","v":""},"","","",""]
[null,null,null,null,{"$f":"IF(D5809=\"\",\"\",COUNTIF(Tabulka5[Data],D5809))","v":""},"","","",""]
[null,null,null,null,{"$f":"IF(D5810=\"\",\"\",COUNTIF(Tabulka5[Data],D5810))","v":""},"","","",""]
[null,null,null,null,{"$f":"IF(D5811=\"\",\"\",COUNTIF(Tabulka5[Data],D5811))","v":""},"","","",""]
[null,null,null,null,{"$f":"IF(D5812=\"\",\"\",COUNTIF(Tabulka5[Data],D5812))","v":""},"","","",""]
[null,null,null,null,{"$f":"IF(D5813=\"\",\"\",COUNTIF(Tabulka5[Data],D5813))","v":""},"","","",""]
[null,null,null,null,{"$f":"IF(D5814=\"\",\"\",COUNTIF(Tabulka5[Data],D5814))","v":""},"","","",""]
[null,null,null,null,{"$f":"IF(D5815=\"\",\"\",COUNTIF(Tabulka5[Data],D5815))","v":""},"","","",""]
[null,null,null,null,{"$f":"IF(D5816=\"\",\"\",COUNTIF(Tabulka5[Data],D5816))","v":""},"","","",""]
[null,null,null,null,{"$f":"IF(D5817=\"\",\"\",COUNTIF(Tabulka5[Data],D5817))","v":""},"","","",""]
[null,null,null,null,{"$f":"IF(D5818=\"\",\"\",COUNTIF(Tabulka5[Data],D5818))","v":""},"","","",""]
[null,null,null,null,{"$f":"IF(D5819=\"\",\"\",COUNTIF(Tabulka5[Data],D5819))","v":""},"","","",""]
[null,null,null,null,{"$f":"IF(D5820=\"\",\"\",COUNTIF(Tabulka5[Data],D5820))","v":""},"","","",""]
[null,null,null,null,{"$f":"IF(D5821=\"\",\"\",COUNTIF(Tabulka5[Data],D5821))","v":""},"","","",""]
[null,null,null,null,{"$f":"IF(D5822=\"\",\"\",COUNTIF(Tabulka5[Data],D5822))","v":""},"","","",""]
[null,null,null,null,{"$f":"IF(D5823=\"\",\"\",COUNTIF(Tabulka5[Data],D5823))","v":""},"","","",""]
[null,null,null,null,{"$f":"IF(D5824=\"\",\"\",COUNTIF(Tabulka5[Data],D5824))","v":""},"","","",""]
[null,null,null,null,{"$f":"IF(D5825=\"\",\"\",COUNTIF(Tabulka5[Data],D5825))","v":""},"","","",""]
[null,null,null,null,{"$f":"IF(D5826=\"\",\"\",COUNTIF(Tabulka5[Data],D5826))","v":""},"","","",""]
[null,null,null,null,{"$f":"IF(D5827=\"\",\"\",COUNTIF(Tabulka5[Data],D5827))","v":""},"","","",""]
[null,null,null,null,{"$f":"IF(D5828=\"\",\"\",COUNTIF(Tabulka5[Data],D5828))","v":""},"","","",""]
[null,null,null,null,{"$f":"IF(D5829=\"\",\"\",COUNTIF(Tabulka5[Data],D5829))","v":""},"","","",""]
[null,null,null,null,{"$f":"IF(D5830=\"\",\"\",COUNTIF(Tabulka5[Data],D5830))","v":""},"","","",""]
[null,null,null,null,{"$f":"IF(D5831=\"\",\"\",COUNTIF(Tabulka5[Data],D5831))","v":""},"","","",""]
[null,null,null,null,{"$f":"IF(D5832=\"\",\"\",COUNTIF(Tabulka5[Data],D5832))","v":""},"","","",""]
[null,null,null,null,{"$f":"IF(D5833=\"\",\"\",COUNTIF(Tabulka5[Data],D5833))","v":""},"","","",""]
[null,null,null,null,{"$f":"IF(D5834=\"\",\"\",COUNTIF(Tabulka5[Data],D5834))","v":""},"","","",""]
[null,null,null,null,{"$f":"IF(D5835=\"\",\"\",COUNTIF(Tabulka5[Data],D5835))","v":""},"","","",""]
[null,null,null,null,{"$f":"IF(D5836=\"\",\"\",COUNTIF(Tabulka5[Data],D5836))","v":""},"","","",""]
[null,null,null,null,{"$f":"IF(D5837=\"\",\"\",COUNTIF(Tabulka5[Data],D5837))","v":""},"","","",""]
[null,null,null,null,{"$f":"IF(D5838=\"\",\"\",COUNTIF(Tabulka5[Data],D5838))","v":""},"","","",""]
[null,null,null,null,{"$f":"IF(D5839=\"\",\"\",COUNTIF(Tabulka5[Data],D5839))","v":""},"","","",""]
[null,null,null,null,{"$f":"IF(D5840=\"\",\"\",COUNTIF(Tabulka5[Data],D5840))","v":""},"","","",""]
[null,null,null,null,{"$f":"IF(D5841=\"\",\"\",COUNTIF(Tabulka5[Data],D5841))","v":""},{"$f":"IF(OR($K$11=0,D5841=\"\"),\"\",IF(D5842=\"\",1-I5840,ROUND(E5841/SUM($E$15:$E$6350),3)))","v":""},{"$f":"IF(OR(D5841=\"\",$A$11=\"nominální\"),\"\",G5840+E5841)","v":""},{"$f":"IF(OR($K$11=0,D5841=\"\",$A$11=\"nominální\"),\"\",H5840+F5841)","v":""},{"$f":"IF(OR($K$11=0,D5841=\"\"),\"\",I5840+F5841)","v":""}]
[null,null,null,null,{"$f":"IF(D5842=\"\",\"\",COUNTIF(Tabulka5[Data],D5842))","v":""},"","","",""]
[null,null,null,null,{"$f":"IF(D5843=\"\",\"\",COUNTIF(Tabulka5[Data],D5843))","v":""},"","","",""]
[null,null,null,null,{"$f":"IF(D5844=\"\",\"\",COUNTIF(Tabulka5[Data],D5844))","v":""},"","","",""]
[null,null,null,null,{"$f":"IF(D5845=\"\",\"\",COUNTIF(Tabulka5[Data],D5845))","v":""},"","","",""]
[null,null,null,null,{"$f":"IF(D5846=\"\",\"\",COUNTIF(Tabulka5[Data],D5846))","v":""},"","","",""]
[null,null,null,null,{"$f":"IF(D5847=\"\",\"\",COUNTIF(Tabulka5[Data],D5847))","v":""},"","","",""]
[null,null,null,null,{"$f":"IF(D5848=\"\",\"\",COUNTIF(Tabulka5[Data],D5848))","v":""},"","","",""]
[null,null,null,null,{"$f":"IF(D5849=\"\",\"\",COUNTIF(Tabulka5[Data],D5849))","v":""},"","","",""]
[null,null,null,null,{"$f":"IF(D5850=\"\",\"\",COUNTIF(Tabulka5[Data],D5850))","v":""},"","","",""]
[null,null,null,null,{"$f":"IF(D5851=\"\",\"\",COUNTIF(Tabulka5[Data],D5851))","v":""},"","","",""]
[null,null,null,null,{"$f":"IF(D5852=\"\",\"\",COUNTIF(Tabulka5[Data],D5852))","v":""},"","","",""]
[null,null,null,null,{"$f":"IF(D5853=\"\",\"\",COUNTIF(Tabulka5[Data],D5853))","v":""},"","","",""]
[null,null,null,null,{"$f":"IF(D5854=\"\",\"\",COUNTIF(Tabulka5[Data],D5854))","v":""},"","","",""]
[null,null,null,null,{"$f":"IF(D5855=\"\",\"\",COUNTIF(Tabulka5[Data],D5855))","v":""},"","","",""]
[null,null,null,null,{"$f":"IF(D5856=\"\",\"\",COUNTIF(Tabulka5[Data],D5856))","v":""},"","","",""]
[null,null,null,null,{"$f":"IF(D5857=\"\",\"\",COUNTIF(Tabulka5[Data],D5857))","v":""},"","","",""]
[null,null,null,null,{"$f":"IF(D5858=\"\",\"\",COUNTIF(Tabulka5[Data],D5858))","v":""},"","","",""]
[null,null,null,null,{"$f":"IF(D5859=\"\",\"\",COUNTIF(Tabulka5[Data],D5859))","v":""},"","","",""]
[null,null,null,null,{"$f":"IF(D5860=\"\",\"\",COUNTIF(Tabulka5[Data],D5860))","v":""},"","","",""]
[null,null,null,null,{"$f":"IF(D5861=\"\",\"\",COUNTIF(Tabulka5[Data],D5861))","v":""},"","","",""]
[null,null,null,null,{"$f":"IF(D5862=\"\",\"\",COUNTIF(Tabulka5[Data],D5862))","v":""},"","","",""]
[null,null,null,null,{"$f":"IF(D5863=\"\",\"\",COUNTIF(Tabulka5[Data],D5863))","v":""},"","","",""]
[null,null,null,null,{"$f":"IF(D5864=\"\",\"\",COUNTIF(Tabulka5[Data],D5864))","v":""},"","","",""]
[null,null,null,null,{"$f":"IF(D5865=\"\",\"\",COUNTIF(Tabulka5[Data],D5865))","v":""},"","","",""]
[null,null,null,null,{"$f":"IF(D5866=\"\",\"\",COUNTIF(Tabulka5[Data],D5866))","v":""},"","","",""]
[null,null,null,null,{"$f":"IF(D5867=\"\",\"\",COUNTIF(Tabulka5[Data],D5867))","v":""},"","","",""]
[null,null,null,null,{"$f":"IF(D5868=\"\",\"\",COUNTIF(Tabulka5[Data],D5868))","v":""},"","","",""]
[null,null,null,null,{"$f":"IF(D5869=\"\",\"\",COUNTIF(Tabulka5[Data],D5869))","v":""},"","","",""]
[null,null,null,null,{"$f":"IF(D5870=\"\",\"\",COUNTIF(Tabulka5[Data],D5870))","v":""},"","","",""]
[null,null,null,null,{"$f":"IF(D5871=\"\",\"\",COUNTIF(Tabulka5[Data],D5871))","v":""},"","","",""]
[null,null,null,null,{"$f":"IF(D5872=\"\",\"\",COUNTIF(Tabulka5[Data],D5872))","v":""},"","","",""]
[null,null,null,null,{"$f":"IF(D5873=\"\",\"\",COUNTIF(Tabulka5[Data],D5873))","v":""},"","","",""]
[null,null,null,null,{"$f":"IF(D5874=\"\",\"\",COUNTIF(Tabulka5[Data],D5874))","v":""},"","","",""]
[null,null,null,null,{"$f":"IF(D5875=\"\",\"\",COUNTIF(Tabulka5[Data],D5875))","v":""},"","","",""]
[null,null,null,null,{"$f":"IF(D5876=\"\",\"\",COUNTIF(Tabulka5[Data],D5876))","v":""},"","","",""]
[null,null,null,null,{"$f":"IF(D5877=\"\",\"\",COUNTIF(Tabulka5[Data],D5877))","v":""},"","","",""]
[null,null,null,null,{"$f":"IF(D5878=\"\",\"\",COUNTIF(Tabulka5[Data],D5878))","v":""},"","","",""]
[null,null,null,null,{"$f":"IF(D5879=\"\",\"\",COUNTIF(Tabulka5[Data],D5879))","v":""},"","","",""]
[null,null,null,null,{"$f":"IF(D5880=\"\",\"\",COUNTIF(Tabulka5[Data],D5880))","v":""},"","","",""]
[null,null,null,null,{"$f":"IF(D5881=\"\",\"\",COUNTIF(Tabulka5[Data],D5881))","v":""},"","","",""]
[null,null,null,null,{"$f":"IF(D5882=\"\",\"\",COUNTIF(Tabulka5[Data],D5882))","v":""},"","","",""]
[null,null,null,null,{"$f":"IF(D5883=\"\",\"\",COUNTIF(Tabulka5[Data],D5883))","v":""},"","","",""]
[null,null,null,null,{"$f":"IF(D5884=\"\",\"\",COUNTIF(Tabulka5[Data],D5884))","v":""},"","","",""]
[null,null,null,null,{"$f":"IF(D5885=\"\",\"\",COUNTIF(Tabulka5[Data],D5885))","v":""},"","","",""]
[null,null,null,null,{"$f":"IF(D5886=\"\",\"\",COUNTIF(Tabulka5[Data],D5886))","v":""},"","","",""]
[null,null,null,null,{"$f":"IF(D5887=\"\",\"\",COUNTIF(Tabulka5[Data],D5887))","v":""},"","","",""]
[null,null,null,null,{"$f":"IF(D5888=\"\",\"\",COUNTIF(Tabulka5[Data],D5888))","v":""},"","","",""]
[null,null,null,null,{"$f":"IF(D5889=\"\",\"\",COUNTIF(Tabulka5[Data],D5889))","v":""},"","","",""]
[null,null,null,null,{"$f":"IF(D5890=\"\",\"\",COUNTIF(Tabulka5[Data],D5890))","v":""},"","","",""]
[null,null,null,null,{"$f":"IF(D5891=\"\",\"\",COUNTIF(Tabulka5[Data],D5891))","v":""},"","","",""]
[null,null,null,null,{"$f":"IF(D5892=\"\",\"\",COUNTIF(Tabulka5[Data],D5892))","v":""},"","","",""]
[null,null,null,null,{"$f":"IF(D5893=\"\",\"\",COUNTIF(Tabulka5[Data],D5893))","v":""},"","","",""]
[null,null,null,null,{"$f":"IF(D5894=\"\",\"\",COUNTIF(Tabulka5[Data],D5894))","v":""},"","","",""]
[null,null,null,null,{"$f":"IF(D5895=\"\",\"\",COUNTIF(Tabulka5[Data],D5895))","v":""},"","","",""]
[null,null,null,null,{"$f":"IF(D5896=\"\",\"\",COUNTIF(Tabulka5[Data],D5896))","v":""},"","","",""]
[null,null,null,null,{"$f":"IF(D5897=\"\",\"\",COUNTIF(Tabulka5[Data],D5897))","v":""},"","","",""]
[null,null,null,null,{"$f":"IF(D5898=\"\",\"\",COUNTIF(Tabulka5[Data],D5898))","v":""},"","","",""]
[null,null,null,null,{"$f":"IF(D5899=\"\",\"\",COUNTIF(Tabulka5[Data],D5899))","v":""},"","","",""]
[null,null,null,null,{"$f":"IF(D5900=\"\",\"\",COUNTIF(Tabulka5[Data],D5900))","v":""},"","","",""]
[null,null,null,null,{"$f":"IF(D5901=\"\",\"\",COUNTIF(Tabulka5[Data],D5901))","v":""},"","","",""]
[null,null,null,null,{"$f":"IF(D5902=\"\",\"\",COUNTIF(Tabulka5[Data],D5902))","v":""},"","","",""]
[null,null,null,null,{"$f":"IF(D5903=\"\",\"\",COUNTIF(Tabulka5[Data],D5903))","v":""},"","","",""]
[null,null,null,null,{"$f":"IF(D5904=\"\",\"\",COUNTIF(Tabulka5[Data],D5904))","v":""},"","","",""]
[null,null,null,null,{"$f":"IF(D5905=\"\",\"\",COUNTIF(Tabulka5[Data],D5905))","v":""},{"$f":"IF(OR($K$11=0,D5905=\"\"),\"\",IF(D5906=\"\",1-I5904,ROUND(E5905/SUM($E$15:$E$6350),3)))","v":""},{"$f":"IF(OR(D5905=\"\",$A$11=\"nominální\"),\"\",G5904+E5905)","v":""},{"$f":"IF(OR($K$11=0,D5905=\"\",$A$11=\"nominální\"),\"\",H5904+F5905)","v":""},{"$f":"IF(OR($K$11=0,D5905=\"\"),\"\",I5904+F5905)","v":""}]
[null,null,null,null,{"$f":"IF(D5906=\"\",\"\",COUNTIF(Tabulka5[Data],D5906))","v":""},"","","",""]
[null,null,null,null,{"$f":"IF(D5907=\"\",\"\",COUNTIF(Tabulka5[Data],D5907))","v":""},"","","",""]
[null,null,null,null,{"$f":"IF(D5908=\"\",\"\",COUNTIF(Tabulka5[Data],D5908))","v":""},"","","",""]
[null,null,null,null,{"$f":"IF(D5909=\"\",\"\",COUNTIF(Tabulka5[Data],D5909))","v":""},"","","",""]
[null,null,null,null,{"$f":"IF(D5910=\"\",\"\",COUNTIF(Tabulka5[Data],D5910))","v":""},"","","",""]
[null,null,null,null,{"$f":"IF(D5911=\"\",\"\",COUNTIF(Tabulka5[Data],D5911))","v":""},"","","",""]
[null,null,null,null,{"$f":"IF(D5912=\"\",\"\",COUNTIF(Tabulka5[Data],D5912))","v":""},"","","",""]
[null,null,null,null,{"$f":"IF(D5913=\"\",\"\",COUNTIF(Tabulka5[Data],D5913))","v":""},"","","",""]
[null,null,null,null,{"$f":"IF(D5914=\"\",\"\",COUNTIF(Tabulka5[Data],D5914))","v":""},"","","",""]
[null,null,null,null,{"$f":"IF(D5915=\"\",\"\",COUNTIF(Tabulka5[Data],D5915))","v":""},"","","",""]
[null,null,null,null,{"$f":"IF(D5916=\"\",\"\",COUNTIF(Tabulka5[Data],D5916))","v":""},"","","",""]
[null,null,null,null,{"$f":"IF(D5917=\"\",\"\",COUNTIF(Tabulka5[Data],D5917))","v":""},"","","",""]
[null,null,null,null,{"$f":"IF(D5918=\"\",\"\",COUNTIF(Tabulka5[Data],D5918))","v":""},"","","",""]
[null,null,null,null,{"$f":"IF(D5919=\"\",\"\",COUNTIF(Tabulka5[Data],D5919))","v":""},"","","",""]
[null,null,null,null,{"$f":"IF(D5920=\"\",\"\",COUNTIF(Tabulka5[Data],D5920))","v":""},"","","",""]
[null,null,null,null,{"$f":"IF(D5921=\"\",\"\",COUNTIF(Tabulka5[Data],D5921))","v":""},"","","",""]
[null,null,null,null,{"$f":"IF(D5922=\"\",\"\",COUNTIF(Tabulka5[Data],D5922))","v":""},"","","",""]
[null,null,null,null,{"$f":"IF(D5923=\"\",\"\",COUNTIF(Tabulka5[Data],D5923))","v":""},"","","",""]
[null,null,null,null,{"$f":"IF(D5924=\"\",\"\",COUNTIF(Tabulka5[Data],D5924))","v":""},"","","",""]
[null,null,null,null,{"$f":"IF(D5925=\"\",\"\",COUNTIF(Tabulka5[Data],D5925))","v":""},"","","",""]
[null,null,null,null,{"$f":"IF(D5926=\"\",\"\",COUNTIF(Tabulka5[Data],D5926))","v":""},"","","",""]
[null,null,null,null,{"$f":"IF(D5927=\"\",\"\",COUNTIF(Tabulka5[Data],D5927))","v":""},"","","",""]
[null,null,null,null,{"$f":"IF(D5928=\"\",\"\",COUNTIF(Tabulka5[Data],D5928))","v":""},"","","",""]
[null,null,null,null,{"$f":"IF(D5929=\"\",\"\",COUNTIF(Tabulka5[Data],D5929))","v":""},"","","",""]
[null,null,null,null,{"$f":"IF(D5930=\"\",\"\",COUNTIF(Tabulka5[Data],D5930))","v":""},"","","",""]
[null,null,null,null,{"$f":"IF(D5931=\"\",\"\",COUNTIF(Tabulka5[Data],D5931))","v":""},"","","",""]
[null,null,null,null,{"$f":"IF(D5932=\"\",\"\",COUNTIF(Tabulka5[Data],D5932))","v":""},"","","",""]
[null,null,null,null,{"$f":"IF(D5933=\"\",\"\",COUNTIF(Tabulka5[Data],D5933))","v":""},"","","",""]
[null,null,null,null,{"$f":"IF(D5934=\"\",\"\",COUNTIF(Tabulka5[Data],D5934))","v":""},"","","",""]
[null,null,null,null,{"$f":"IF(D5935=\"\",\"\",COUNTIF(Tabulka5[Data],D5935))","v":""},"","","",""]
[null,null,null,null,{"$f":"IF(D5936=\"\",\"\",COUNTIF(Tabulka5[Data],D5936))","v":""},"","","",""]
[null,null,null,null,{"$f":"IF(D5937=\"\",\"\",COUNTIF(Tabulka5[Data],D5937))","v":""},"","","",""]
[null,null,null,null,{"$f":"IF(D5938=\"\",\"\",COUNTIF(Tabulka5[Data],D5938))","v":""},"","","",""]
[null,null,null,null,{"$f":"IF(D5939=\"\",\"\",COUNTIF(Tabulka5[Data],D5939))","v":""},"","","",""]
[null,null,null,null,{"$f":"IF(D5940=\"\",\"\",COUNTIF(Tabulka5[Data],D5940))","v":""},"","","",""]
[null,null,null,null,{"$f":"IF(D5941=\"\",\"\",COUNTIF(Tabulka5[Data],D5941))","v":""},"","","",""]
[null,null,null,null,{"$f":"IF(D5942=\"\",\"\",COUNTIF(Tabulka5[Data],D5942))","v":""},"","","",""]
[null,null,null,null,{"$f":"IF(D5943=\"\",\"\",COUNTIF(Tabulka5[Data],D5943))","v":""},"","","",""]
[null,null,null,null,{"$f":"IF(D5944=\"\",\"\",COUNTIF(Tabulka5[Data],D5944))","v":""},"","","",""]
[null,null,null,null,{"$f":"IF(D5945=\"\",\"\",COUNTIF(Tabulka5[Data],D5945))","v":""},"","","",""]
[null,null,null,null,{"$f":"IF(D5946=\"\",\"\",COUNTIF(Tabulka5[Data],D5946))","v":""},"","","",""]
[null,null,null,null,{"$f":"IF(D5947=\"\",\"\",COUNTIF(Tabulka5[Data],D5947))","v":""},"","","",""]
[null,null,null,null,{"$f":"IF(D5948=\"\",\"\",COUNTIF(Tabulka5[Data],D5948))","v":""},"","","",""]
[null,null,null,null,{"$f":"IF(D5949=\"\",\"\",COUNTIF(Tabulka5[Data],D5949))","v":""},"","","",""]
[null,null,null,null,{"$f":"IF(D5950=\"\",\"\",COUNTIF(Tabulka5[Data],D5950))","v":""},"","","",""]
[null,null,null,null,{"$f":"IF(D5951=\"\",\"\",COUNTIF(Tabulka5[Data],D5951))","v":""},"","","",""]
[null,null,null,null,{"$f":"IF(D5952=\"\",\"\",COUNTIF(Tabulka5[Data],D5952))","v":""},"","","",""]
[null,null,null,null,{"$f":"IF(D5953=\"\",\"\",COUNTIF(Tabulka5[Data],D5953))","v":""},"","","",""]
[null,null,null,null,{"$f":"IF(D5954=\"\",\"\",COUNTIF(Tabulka5[Data],D5954))","v":""},"","","",""]
[null,null,null,null,{"$f":"IF(D5955=\"\",\"\",COUNTIF(Tabulka5[Data],D5955))","v":""},"","","",""]
[null,null,null,null,{"$f":"IF(D5956=\"\",\"\",COUNTIF(Tabulka5[Data],D5956))","v":""},"","","",""]
[null,null,null,null,{"$f":"IF(D5957=\"\",\"\",COUNTIF(Tabulka5[Data],D5957))","v":""},"","","",""]
[null,null,null,null,{"$f":"IF(D5958=\"\",\"\",COUNTIF(Tabulka5[Data],D5958))","v":""},"","","",""]
[null,null,null,null,{"$f":"IF(D5959=\"\",\"\",COUNTIF(Tabulka5[Data],D5959))","v":""},"","","",""]
[null,null,null,null,{"$f":"IF(D5960=\"\",\"\",COUNTIF(Tabulka5[Data],D5960))","v":""},"","","",""]
[null,null,null,null,{"$f":"IF(D5961=\"\",\"\",COUNTIF(Tabulka5[Data],D5961))","v":""},"","","",""]
[null,null,null,null,{"$f":"IF(D5962=\"\",\"\",COUNTIF(Tabulka5[Data],D5962))","v":""},"","","",""]
[null,null,null,null,{"$f":"IF(D5963=\"\",\"\",COUNTIF(Tabulka5[Data],D5963))","v":""},"","","",""]
[null,null,null,null,{"$f":"IF(D5964=\"\",\"\",COUNTIF(Tabulka5[Data],D5964))","v":""},"","","",""]
[null,null,null,null,{"$f":"IF(D5965=\"\",\"\",COUNTIF(Tabulka5[Data],D5965))","v":""},"","","",""]
[null,null,null,null,{"$f":"IF(D5966=\"\",\"\",COUNTIF(Tabulka5[Data],D5966))","v":""},"","","",""]
[null,null,null,null,{"$f":"IF(D5967=\"\",\"\",COUNTIF(Tabulka5[Data],D5967))","v":""},"","","",""]
[null,null,null,null,{"$f":"IF(D5968=\"\",\"\",COUNTIF(Tabulka5[Data],D5968))","v":""},"","","",""]
[null,null,null,null,{"$f":"IF(D5969=\"\",\"\",COUNTIF(Tabulka5[Data],D5969))","v":""},{"$f":"IF(OR($K$11=0,D5969=\"\"),\"\",IF(D5970=\"\",1-I5968,ROUND(E5969/SUM($E$15:$E$6350),3)))","v":""},{"$f":"IF(OR(D5969=\"\",$A$11=\"nominální\"),\"\",G5968+E5969)","v":""},{"$f":"IF(OR($K$11=0,D5969=\"\",$A$11=\"nominální\"),\"\",H5968+F5969)","v":""},{"$f":"IF(OR($K$11=0,D5969=\"\"),\"\",I5968+F5969)","v":""}]
[null,null,null,null,{"$f":"IF(D5970=\"\",\"\",COUNTIF(Tabulka5[Data],D5970))","v":""},"","","",""]
[null,null,null,null,{"$f":"IF(D5971=\"\",\"\",COUNTIF(Tabulka5[Data],D5971))","v":""},"","","",""]
[null,null,null,null,{"$f":"IF(D5972=\"\",\"\",COUNTIF(Tabulka5[Data],D5972))","v":""},"","","",""]
[null,null,null,null,{"$f":"IF(D5973=\"\",\"\",COUNTIF(Tabulka5[Data],D5973))","v":""},"","","",""]
[null,null,null,null,{"$f":"IF(D5974=\"\",\"\",COUNTIF(Tabulka5[Data],D5974))","v":""},"","","",""]
[null,null,null,null,{"$f":"IF(D5975=\"\",\"\",COUNTIF(Tabulka5[Data],D5975))","v":""},"","","",""]
[null,null,null,null,{"$f":"IF(D5976=\"\",\"\",COUNTIF(Tabulka5[Data],D5976))","v":""},"","","",""]
[null,null,null,null,{"$f":"IF(D5977=\"\",\"\",COUNTIF(Tabulka5[Data],D5977))","v":""},"","","",""]
[null,null,null,null,{"$f":"IF(D5978=\"\",\"\",COUNTIF(Tabulka5[Data],D5978))","v":""},"","","",""]
[null,null,null,null,{"$f":"IF(D5979=\"\",\"\",COUNTIF(Tabulka5[Data],D5979))","v":""},"","","",""]
[null,null,null,null,{"$f":"IF(D5980=\"\",\"\",COUNTIF(Tabulka5[Data],D5980))","v":""},"","","",""]
[null,null,null,null,{"$f":"IF(D5981=\"\",\"\",COUNTIF(Tabulka5[Data],D5981))","v":""},"","","",""]
[null,null,null,null,{"$f":"IF(D5982=\"\",\"\",COUNTIF(Tabulka5[Data],D5982))","v":""},"","","",""]
[null,null,null,null,{"$f":"IF(D5983=\"\",\"\",COUNTIF(Tabulka5[Data],D5983))","v":""},"","","",""]
[null,null,null,null,{"$f":"IF(D5984=\"\",\"\",COUNTIF(Tabulka5[Data],D5984))","v":""},"","","",""]
[null,null,null,null,{"$f":"IF(D5985=\"\",\"\",COUNTIF(Tabulka5[Data],D5985))","v":""},"","","",""]
[null,null,null,null,{"$f":"IF(D5986=\"\",\"\",COUNTIF(Tabulka5[Data],D5986))","v":""},"","","",""]
[null,null,null,null,{"$f":"IF(D5987=\"\",\"\",COUNTIF(Tabulka5[Data],D5987))","v":""},"","","",""]
[null,null,null,null,{"$f":"IF(D5988=\"\",\"\",COUNTIF(Tabulka5[Data],D5988))","v":""},"","","",""]
[null,null,null,null,{"$f":"IF(D5989=\"\",\"\",COUNTIF(Tabulka5[Data],D5989))","v":""},"","","",""]
[null,null,null,null,{"$f":"IF(D5990=\"\",\"\",COUNTIF(Tabulka5[Data],D5990))","v":""},"","","",""]
[null,null,null,null,{"$f":"IF(D5991=\"\",\"\",COUNTIF(Tabulka5[Data],D5991))","v":""},"","","",""]
[null,null,null,null,{"$f":"IF(D5992=\"\",\"\",COUNTIF(Tabulka5[Data],D5992))","v":""},"","","",""]
[null,null,null,null,{"$f":"IF(D5993=\"\",\"\",COUNTIF(Tabulka5[Data],D5993))","v":""},"","","",""]
[null,null,null,null,{"$f":"IF(D5994=\"\",\"\",COUNTIF(Tabulka5[Data],D5994))","v":""},"","","",""]
[null,null,null,null,{"$f":"IF(D5995=\"\",\"\",COUNTIF(Tabulka5[Data],D5995))","v":""},"","","",""]
[null,null,null,null,{"$f":"IF(D5996=\"\",\"\",COUNTIF(Tabulka5[Data],D5996))","v":""},"","","",""]
[null,null,null,null,{"$f":"IF(D5997=\"\",\"\",COUNTIF(Tabulka5[Data],D5997))","v":""},"","","",""]
[null,null,null,null,{"$f":"IF(D5998=\"\",\"\",COUNTIF(Tabulka5[Data],D5998))","v":""},"","","",""]
[null,null,null,null,{"$f":"IF(D5999=\"\",\"\",COUNTIF(Tabulka5[Data],D5999))","v":""},"","","",""]
[null,null,null,null,{"$f":"IF(D6000=\"\",\"\",COUNTIF(Tabulka5[Data],D6000))","v":""},"","","",""]
[null,null,null,null,{"$f":"IF(D6001=\"\",\"\",COUNTIF(Tabulka5[Data],D6001))","v":""},"","","",""]
[null,null,null,null,{"$f":"IF(D6002=\"\",\"\",COUNTIF(Tabulka5[Data],D6002))","v":""},"","","",""]
[null,null,null,null,{"$f":"IF(D6003=\"\",\"\",COUNTIF(Tabulka5[Data],D6003))","v":""},"","","",""]
[null,null,null,null,{"$f":"IF(D6004=\"\",\"\",COUNTIF(Tabulka5[Data],D6004))","v":""},"","","",""]
[null,null,null,null,{"$f":"IF(D6005=\"\",\"\",COUNTIF(Tabulka5[Data],D6005))","v":""},"","","",""]
[null,null,null,null,{"$f":"IF(D6006=\"\",\"\",COUNTIF(Tabulka5[Data],D6006))","v":""},"","","",""]
[null,null,null,null,{"$f":"IF(D6007=\"\",\"\",COUNTIF(Tabulka5[Data],D6007))","v":""},"","","",""]
[null,null,null,null,{"$f":"IF(D6008=\"\",\"\",COUNTIF(Tabulka5[Data],D6008))","v":""},"","","",""]
[null,null,null,null,{"$f":"IF(D6009=\"\",\"\",COUNTIF(Tabulka5[Data],D6009))","v":""},"","","",""]
[null,null,null,null,{"$f":"IF(D6010=\"\",\"\",COUNTIF(Tabulka5[Data],D6010))","v":""},"","","",""]
[null,null,null,null,{"$f":"IF(D6011=\"\",\"\",COUNTIF(Tabulka5[Data],D6011))","v":""},"","","",""]
[null,null,null,null,{"$f":"IF(D6012=\"\",\"\",COUNTIF(Tabulka5[Data],D6012))","v":""},"","","",""]
[null,null,null,null,{"$f":"IF(D6013=\"\",\"\",COUNTIF(Tabulka5[Data],D6013))","v":""},"","","",""]
[null,null,null,null,{"$f":"IF(D6014=\"\",\"\",COUNTIF(Tabulka5[Data],D6014))","v":""},"","","",""]
[null,null,null,null,{"$f":"IF(D6015=\"\",\"\",COUNTIF(Tabulka5[Data],D6015))","v":""},"","","",""]
[null,null,null,null,{"$f":"IF(D6016=\"\",\"\",COUNTIF(Tabulka5[Data],D6016))","v":""},"","","",""]
[null,null,null,null,{"$f":"IF(D6017=\"\",\"\",COUNTIF(Tabulka5[Data],D6017))","v":""},"","","",""]
[null,null,null,null,{"$f":"IF(D6018=\"\",\"\",COUNTIF(Tabulka5[Data],D6018))","v":""},"","","",""]
[null,null,null,null,{"$f":"IF(D6019=\"\",\"\",COUNTIF(Tabulka5[Data],D6019))","v":""},"","","",""]
[null,null,null,null,{"$f":"IF(D6020=\"\",\"\",COUNTIF(Tabulka5[Data],D6020))","v":""},"","","",""]
[null,null,null,null,{"$f":"IF(D6021=\"\",\"\",COUNTIF(Tabulka5[Data],D6021))","v":""},"","","",""]
[null,null,null,null,{"$f":"IF(D6022=\"\",\"\",COUNTIF(Tabulka5[Data],D6022))","v":""},"","","",""]
[null,null,null,null,{"$f":"IF(D6023=\"\",\"\",COUNTIF(Tabulka5[Data],D6023))","v":""},"","","",""]
[null,null,null,null,{"$f":"IF(D6024=\"\",\"\",COUNTIF(Tabulka5[Data],D6024))","v":""},"","","",""]
[null,null,null,null,{"$f":"IF(D6025=\"\",\"\",COUNTIF(Tabulka5[Data],D6025))","v":""},"","","",""]
[null,null,null,null,{"$f":"IF(D6026=\"\",\"\",COUNTIF(Tabulka5[Data],D6026))","v":""},"","","",""]
[null,null,null,null,{"$f":"IF(D6027=\"\",\"\",COUNTIF(Tabulka5[Data],D6027))","v":""},"","","",""]
[null,null,null,null,{"$f":"IF(D6028=\"\",\"\",COUNTIF(Tabulka5[Data],D6028))","v":""},"","","",""]
[null,null,null,null,{"$f":"IF(D6029=\"\",\"\",COUNTIF(Tabulka5[Data],D6029))","v":""},"","","",""]
[null,null,null,null,{"$f":"IF(D6030=\"\",\"\",COUNTIF(Tabulka5[Data],D6030))","v":""},"","","",""]
[null,null,null,null,{"$f":"IF(D6031=\"\",\"\",COUNTIF(Tabulka5[Data],D6031))","v":""},"","","",""]
[null,null,null,null,{"$f":"IF(D6032=\"\",\"\",COUNTIF(Tabulka5[Data],D6032))","v":""},"","","",""]
[null,null,null,null,{"$f":"IF(D6033=\"\",\"\",COUNTIF(Tabulka5[Data],D6033))","v":""},{"$f":"IF(OR($K$11=0,D6033=\"\"),\"\",IF(D6034=\"\",1-I6032,ROUND(E6033/SUM($E$15:$E$6350),3)))","v":""},{"$f":"IF(OR(D6033=\"\",$A$11=\"nominální\"),\"\",G6032+E6033)","v":""},{"$f":"IF(OR($K$11=0,D6033=\"\",$A$11=\"nominální\"),\"\",H6032+F6033)","v":""},{"$f":"IF(OR($K$11=0,D6033=\"\"),\"\",I6032+F6033)","v":""}]
[null,null,null,null,{"$f":"IF(D6034=\"\",\"\",COUNTIF(Tabulka5[Data],D6034))","v":""},"","","",""]
[null,null,null,null,{"$f":"IF(D6035=\"\",\"\",COUNTIF(Tabulka5[Data],D6035))","v":""},"","","",""]
[null,null,null,null,{"$f":"IF(D6036=\"\",\"\",COUNTIF(Tabulka5[Data],D6036))","v":""},"","","",""]
[null,null,null,null,{"$f":"IF(D6037=\"\",\"\",COUNTIF(Tabulka5[Data],D6037))","v":""},"","","",""]
[null,null,null,null,{"$f":"IF(D6038=\"\",\"\",COUNTIF(Tabulka5[Data],D6038))","v":""},"","","",""]
[null,null,null,null,{"$f":"IF(D6039=\"\",\"\",COUNTIF(Tabulka5[Data],D6039))","v":""},"","","",""]
[null,null,null,null,{"$f":"IF(D6040=\"\",\"\",COUNTIF(Tabulka5[Data],D6040))","v":""},"","","",""]
[null,null,null,null,{"$f":"IF(D6041=\"\",\"\",COUNTIF(Tabulka5[Data],D6041))","v":""},"","","",""]
[null,null,null,null,{"$f":"IF(D6042=\"\",\"\",COUNTIF(Tabulka5[Data],D6042))","v":""},"","","",""]
[null,null,null,null,{"$f":"IF(D6043=\"\",\"\",COUNTIF(Tabulka5[Data],D6043))","v":""},"","","",""]
[null,null,null,null,{"$f":"IF(D6044=\"\",\"\",COUNTIF(Tabulka5[Data],D6044))","v":""},"","","",""]
[null,null,null,null,{"$f":"IF(D6045=\"\",\"\",COUNTIF(Tabulka5[Data],D6045))","v":""},"","","",""]
[null,null,null,null,{"$f":"IF(D6046=\"\",\"\",COUNTIF(Tabulka5[Data],D6046))","v":""},"","","",""]
[null,null,null,null,{"$f":"IF(D6047=\"\",\"\",COUNTIF(Tabulka5[Data],D6047))","v":""},"","","",""]
[null,null,null,null,{"$f":"IF(D6048=\"\",\"\",COUNTIF(Tabulka5[Data],D6048))","v":""},"","","",""]
[null,null,null,null,{"$f":"IF(D6049=\"\",\"\",COUNTIF(Tabulka5[Data],D6049))","v":""},"","","",""]
[null,null,null,null,{"$f":"IF(D6050=\"\",\"\",COUNTIF(Tabulka5[Data],D6050))","v":""},"","","",""]
[null,null,null,null,{"$f":"IF(D6051=\"\",\"\",COUNTIF(Tabulka5[Data],D6051))","v":""},"","","",""]
[null,null,null,null,{"$f":"IF(D6052=\"\",\"\",COUNTIF(Tabulka5[Data],D6052))","v":""},"","","",""]
[null,null,null,null,{"$f":"IF(D6053=\"\",\"\",COUNTIF(Tabulka5[Data],D6053))","v":""},"","","",""]
[null,null,null,null,{"$f":"IF(D6054=\"\",\"\",COUNTIF(Tabulka5[Data],D6054))","v":""},"","","",""]
[null,null,null,null,{"$f":"IF(D6055=\"\",\"\",COUNTIF(Tabulka5[Data],D6055))","v":""},"","","",""]
[null,null,null,null,{"$f":"IF(D6056=\"\",\"\",COUNTIF(Tabulka5[Data],D6056))","v":""},"","","",""]
[null,null,null,null,{"$f":"IF(D6057=\"\",\"\",COUNTIF(Tabulka5[Data],D6057))","v":""},"","","",""]
[null,null,null,null,{"$f":"IF(D6058=\"\",\"\",COUNTIF(Tabulka5[Data],D6058))","v":""},"","","",""]
[null,null,null,null,{"$f":"IF(D6059=\"\",\"\",COUNTIF(Tabulka5[Data],D6059))","v":""},"","","",""]
[null,null,null,null,{"$f":"IF(D6060=\"\",\"\",COUNTIF(Tabulka5[Data],D6060))","v":""},"","","",""]
[null,null,null,null,{"$f":"IF(D6061=\"\",\"\",COUNTIF(Tabulka5[Data],D6061))","v":""},"","","",""]
[null,null,null,null,{"$f":"IF(D6062=\"\",\"\",COUNTIF(Tabulka5[Data],D6062))","v":""},"","","",""]
[null,null,null,null,{"$f":"IF(D6063=\"\",\"\",COUNTIF(Tabulka5[Data],D6063))","v":""},"","","",""]
[null,null,null,null,{"$f":"IF(D6064=\"\",\"\",COUNTIF(Tabulka5[Data],D6064))","v":""},"","","",""]
[null,null,null,null,{"$f":"IF(D6065=\"\",\"\",COUNTIF(Tabulka5[Data],D6065))","v":""},"","","",""]
[null,null,null,null,{"$f":"IF(D6066=\"\",\"\",COUNTIF(Tabulka5[Data],D6066))","v":""},"","","",""]
[null,null,null,null,{"$f":"IF(D6067=\"\",\"\",COUNTIF(Tabulka5[Data],D6067))","v":""},"","","",""]
[null,null,null,null,{"$f":"IF(D6068=\"\",\"\",COUNTIF(Tabulka5[Data],D6068))","v":""},"","","",""]
[null,null,null,null,{"$f":"IF(D6069=\"\",\"\",COUNTIF(Tabulka5[Data],D6069))","v":""},"","","",""]
[null,null,null,null,{"$f":"IF(D6070=\"\",\"\",COUNTIF(Tabulka5[Data],D6070))","v":""},"","","",""]
[null,null,null,null,{"$f":"IF(D6071=\"\",\"\",COUNTIF(Tabulka5[Data],D6071))","v":""},"","","",""]
[null,null,null,null,{"$f":"IF(D6072=\"\",\"\",COUNTIF(Tabulka5[Data],D6072))","v":""},"","","",""]
[null,null,null,null,{"$f":"IF(D6073=\"\",\"\",COUNTIF(Tabulka5[Data],D6073))","v":""},"","","",""]
[null,null,null,null,{"$f":"IF(D6074=\"\",\"\",COUNTIF(Tabulka5[Data],D6074))","v":""},"","","",""]
[null,null,null,null,{"$f":"IF(D6075=\"\",\"\",COUNTIF(Tabulka5[Data],D6075))","v":""},"","","",""]
[null,null,null,null,{"$f":"IF(D6076=\"\",\"\",COUNTIF(Tabulka5[Data],D6076))","v":""},"","","",""]
[null,null,null,null,{"$f":"IF(D6077=\"\",\"\",COUNTIF(Tabulka5[Data],D6077))","v":""},"","","",""]
[null,null,null,null,{"$f":"IF(D6078=\"\",\"\",COUNTIF(Tabulka5[Data],D6078))","v":""},"","","",""]
[null,null,null,null,{"$f":"IF(D6079=\"\",\"\",COUNTIF(Tabulka5[Data],D6079))","v":""},"","","",""]
[null,null,null,null,{"$f":"IF(D6080=\"\",\"\",COUNTIF(Tabulka5[Data],D6080))","v":""},"","","",""]
[null,null,null,null,{"$f":"IF(D6081=\"\",\"\",COUNTIF(Tabulka5[Data],D6081))","v":""},"","","",""]
[null,null,null,null,{"$f":"IF(D6082=\"\",\"\",COUNTIF(Tabulka5[Data],D6082))","v":""},"","","",""]
[null,null,null,null,{"$f":"IF(D6083=\"\",\"\",COUNTIF(Tabulka5[Data],D6083))","v":""},"","","",""]
[null,null,null,null,{"$f":"IF(D6084=\"\",\"\",COUNTIF(Tabulka5[Data],D6084))","v":""},"","","",""]
[null,null,null,null,{"$f":"IF(D6085=\"\",\"\",COUNTIF(Tabulka5[Data],D6085))","v":""},"","","",""]
[null,null,null,null,{"$f":"IF(D6086=\"\",\"\",COUNTIF(Tabulka5[Data],D6086))","v":""},"","","",""]
[null,null,null,null,{"$f":"IF(D6087=\"\",\"\",COUNTIF(Tabulka5[Data],D6087))","v":""},"","","",""]
[null,null,null,null,{"$f":"IF(D6088=\"\",\"\",COUNTIF(Tabulka5[Data],D6088))","v":""},"","","",""]
[null,null,null,null,{"$f":"IF(D6089=\"\",\"\",COUNTIF(Tabulka5[Data],D6089))","v":""},"","","",""]
[null,null,null,null,{"$f":"IF(D6090=\"\",\"\",COUNTIF(Tabulka5[Data],D6090))","v":""},"","","",""]
[null,null,null,null,{"$f":"IF(D6091=\"\",\"\",COUNTIF(Tabulka5[Data],D6091))","v":""},"","","",""]
[null,null,null,null,{"$f":"IF(D6092=\"\",\"\",COUNTIF(Tabulka5[Data],D6092))","v":""},"","","",""]
[null,null,null,null,{"$f":"IF(D6093=\"\",\"\",COUNTIF(Tabulka5[Data],D6093))","v":""},"","","",""]
[null,null,null,null,{"$f":"IF(D6094=\"\",\"\",COUNTIF(Tabulka5[Data],D6094))","v":""},"","","",""]
[null,null,null,null,{"$f":"IF(D6095=\"\",\"\",COUNTIF(Tabulka5[Data],D6095))","v":""},"","","",""]
[null,null,null,null,{"$f":"IF(D6096=\"\",\"\",COUNTIF(Tabulka5[Data],D6096))","v":""},"","","",""]
[null,null,null,null,{"$f":"IF(D6097=\"\",\"\",COUNTIF(Tabulka5[Data],D6097))","v":""},{"$f":"IF(OR($K$11=0,D6097=\"\"),\"\",IF(D6098=\"\",1-I6096,ROUND(E6097/SUM($E$15:$E$6350),3)))","v":""},{"$f":"IF(OR(D6097=\"\",$A$11=\"nominální\"),\"\",G6096+E6097)","v":""},{"$f":"IF(OR($K$11=0,D6097=\"\",$A$11=\"nominální\"),\"\",H6096+F6097)","v":""},{"$f":"IF(OR($K$11=0,D6097=\"\"),\"\",I6096+F6097)","v":""}]
[null,null,null,null,{"$f":"IF(D6098=\"\",\"\",COUNTIF(Tabulka5[Data],D6098))","v":""},"","","",""]
[null,null,null,null,{"$f":"IF(D6099=\"\",\"\",COUNTIF(Tabulka5[Data],D6099))","v":""},"","","",""]
[null,null,null,null,{"$f":"IF(D6100=\"\",\"\",COUNTIF(Tabulka5[Data],D6100))","v":""},"","","",""]
[null,null,null,null,{"$f":"IF(D6101=\"\",\"\",COUNTIF(Tabulka5[Data],D6101))","v":""},"","","",""]
[null,null,null,null,{"$f":"IF(D6102=\"\",\"\",COUNTIF(Tabulka5[Data],D6102))","v":""},"","","",""]
[null,null,null,null,{"$f":"IF(D6103=\"\",\"\",COUNTIF(Tabulka5[Data],D6103))","v":""},"","","",""]
[null,null,null,null,{"$f":"IF(D6104=\"\",\"\",COUNTIF(Tabulka5[Data],D6104))","v":""},"","","",""]
[null,null,null,null,{"$f":"IF(D6105=\"\",\"\",COUNTIF(Tabulka5[Data],D6105))","v":""},"","","",""]
[null,null,null,null,{"$f":"IF(D6106=\"\",\"\",COUNTIF(Tabulka5[Data],D6106))","v":""},"","","",""]
[null,null,null,null,{"$f":"IF(D6107=\"\",\"\",COUNTIF(Tabulka5[Data],D6107))","v":""},"","","",""]
[null,null,null,null,{"$f":"IF(D6108=\"\",\"\",COUNTIF(Tabulka5[Data],D6108))","v":""},"","","",""]
[null,null,null,null,{"$f":"IF(D6109=\"\",\"\",COUNTIF(Tabulka5[Data],D6109))","v":""},"","","",""]
[null,null,null,null,{"$f":"IF(D6110=\"\",\"\",COUNTIF(Tabulka5[Data],D6110))","v":""},"","","",""]
[null,null,null,null,{"$f":"IF(D6111=\"\",\"\",COUNTIF(Tabulka5[Data],D6111))","v":""},"","","",""]
[null,null,null,null,{"$f":"IF(D6112=\"\",\"\",COUNTIF(Tabulka5[Data],D6112))","v":""},"","","",""]
[null,null,null,null,{"$f":"IF(D6113=\"\",\"\",COUNTIF(Tabulka5[Data],D6113))","v":""},"","","",""]
[null,null,null,null,{"$f":"IF(D6114=\"\",\"\",COUNTIF(Tabulka5[Data],D6114))","v":""},"","","",""]
[null,null,null,null,{"$f":"IF(D6115=\"\",\"\",COUNTIF(Tabulka5[Data],D6115))","v":""},"","","",""]
[null,null,null,null,{"$f":"IF(D6116=\"\",\"\",COUNTIF(Tabulka5[Data],D6116))","v":""},"","","",""]
[null,null,null,null,{"$f":"IF(D6117=\"\",\"\",COUNTIF(Tabulka5[Data],D6117))","v":""},"","","",""]
[null,null,null,null,{"$f":"IF(D6118=\"\",\"\",COUNTIF(Tabulka5[Data],D6118))","v":""},"","","",""]
[null,null,null,null,{"$f":"IF(D6119=\"\",\"\",COUNTIF(Tabulka5[Data],D6119))","v":""},"","","",""]
[null,null,null,null,{"$f":"IF(D6120=\"\",\"\",COUNTIF(Tabulka5[Data],D6120))","v":""},"","","",""]
[null,null,null,null,{"$f":"IF(D6121=\"\",\"\",COUNTIF(Tabulka5[Data],D6121))","v":""},"","","",""]
[null,null,null,null,{"$f":"IF(D6122=\"\",\"\",COUNTIF(Tabulka5[Data],D6122))","v":""},"","","",""]
[null,null,null,null,{"$f":"IF(D6123=\"\",\"\",COUNTIF(Tabulka5[Data],D6123))","v":""},"","","",""]
[null,null,null,null,{"$f":"IF(D6124=\"\",\"\",COUNTIF(Tabulka5[Data],D6124))","v":""},"","","",""]
[null,null,null,null,{"$f":"IF(D6125=\"\",\"\",COUNTIF(Tabulka5[Data],D6125))","v":""},"","","",""]
[null,null,null,null,{"$f":"IF(D6126=\"\",\"\",COUNTIF(Tabulka5[Data],D6126))","v":""},"","","",""]
[null,null,null,null,{"$f":"IF(D6127=\"\",\"\",COUNTIF(Tabulka5[Data],D6127))","v":""},"","","",""]
[null,null,null,null,{"$f":"IF(D6128=\"\",\"\",COUNTIF(Tabulka5[Data],D6128))","v":""},"","","",""]
[null,null,null,null,{"$f":"IF(D6129=\"\",\"\",COUNTIF(Tabulka5[Data],D6129))","v":""},"","","",""]
[null,null,null,null,{"$f":"IF(D6130=\"\",\"\",COUNTIF(Tabulka5[Data],D6130))","v":""},"","","",""]
[null,null,null,null,{"$f":"IF(D6131=\"\",\"\",COUNTIF(Tabulka5[Data],D6131))","v":""},"","","",""]
[null,null,null,null,{"$f":"IF(D6132=\"\",\"\",COUNTIF(Tabulka5[Data],D6132))","v":""},"","","",""]
[null,null,null,null,{"$f":"IF(D6133=\"\",\"\",COUNTIF(Tabulka5[Data],D6133))","v":""},"","","",""]
[null,null,null,null,{"$f":"IF(D6134=\"\",\"\",COUNTIF(Tabulka5[Data],D6134))","v":""},"","","",""]
[null,null,null,null,{"$f":"IF(D6135=\"\",\"\",COUNTIF(Tabulka5[Data],D6135))","v":""},"","","",""]
[null,null,null,null,{"$f":"IF(D6136=\"\",\"\",COUNTIF(Tabulka5[Data],D6136))","v":""},"","","",""]
[null,null,null,null,{"$f":"IF(D6137=\"\",\"\",COUNTIF(Tabulka5[Data],D6137))","v":""},"","","",""]
[null,null,null,null,{"$f":"IF(D6138=\"\",\"\",COUNTIF(Tabulka5[Data],D6138))","v":""},"","","",""]
[null,null,null,null,{"$f":"IF(D6139=\"\",\"\",COUNTIF(Tabulka5[Data],D6139))","v":""},"","","",""]
[null,null,null,null,{"$f":"IF(D6140=\"\",\"\",COUNTIF(Tabulka5[Data],D6140))","v":""},"","","",""]
[null,null,null,null,{"$f":"IF(D6141=\"\",\"\",COUNTIF(Tabulka5[Data],D6141))","v":""},"","","",""]
[null,null,null,null,{"$f":"IF(D6142=\"\",\"\",COUNTIF(Tabulka5[Data],D6142))","v":""},"","","",""]
[null,null,null,null,{"$f":"IF(D6143=\"\",\"\",COUNTIF(Tabulka5[Data],D6143))","v":""},"","","",""]
[null,null,null,null,{"$f":"IF(D6144=\"\",\"\",COUNTIF(Tabulka5[Data],D6144))","v":""},"","","",""]
[null,null,null,null,{"$f":"IF(D6145=\"\",\"\",COUNTIF(Tabulka5[Data],D6145))","v":""},"","","",""]
[null,null,null,null,{"$f":"IF(D6146=\"\",\"\",COUNTIF(Tabulka5[Data],D6146))","v":""},"","","",""]
[null,null,null,null,{"$f":"IF(D6147=\"\",\"\",COUNTIF(Tabulka5[Data],D6147))","v":""},"","","",""]
[null,null,null,null,{"$f":"IF(D6148=\"\",\"\",COUNTIF(Tabulka5[Data],D6148))","v":""},"","","",""]
[null,null,null,null,{"$f":"IF(D6149=\"\",\"\",COUNTIF(Tabulka5[Data],D6149))","v":""},"","","",""]
[null,null,null,null,{"$f":"IF(D6150=\"\",\"\",COUNTIF(Tabulka5[Data],D6150))","v":""},"","","",""]
[null,null,null,null,{"$f":"IF(D6151=\"\",\"\",COUNTIF(Tabulka5[Data],D6151))","v":""},"","","",""]
[null,null,null,null,{"$f":"IF(D6152=\"\",\"\",COUNTIF(Tabulka5[Data],D6152))","v":""},"","","",""]
[null,null,null,null,{"$f":"IF(D6153=\"\",\"\",COUNTIF(Tabulka5[Data],D6153))","v":""},"","","",""]
[null,null,null,null,{"$f":"IF(D6154=\"\",\"\",COUNTIF(Tabulka5[Data],D6154))","v":""},"","","",""]
[null,null,null,null,{"$f":"IF(D6155=\"\",\"\",COUNTIF(Tabulka5[Data],D6155))","v":""},"","","",""]
[null,null,null,null,{"$f":"IF(D6156=\"\",\"\",COUNTIF(Tabulka5[Data],D6156))","v":""},"","","",""]
[null,null,null,null,{"$f":"IF(D6157=\"\",\"\",COUNTIF(Tabulka5[Data],D6157))","v":""},"","","",""]
[null,null,null,null,{"$f":"IF(D6158=\"\",\"\",COUNTIF(Tabulka5[Data],D6158))","v":""},"","","",""]
[null,null,null,null,{"$f":"IF(D6159=\"\",\"\",COUNTIF(Tabulka5[Data],D6159))","v":""},"","","",""]
[null,null,null,null,{"$f":"IF(D6160=\"\",\"\",COUNTIF(Tabulka5[Data],D6160))","v":""},"","","",""]
[null,null,null,null,{"$f":"IF(D6161=\"\",\"\",COUNTIF(Tabulka5[Data],D6161))","v":""},{"$f":"IF(OR($K$11=0,D6161=\"\"),\"\",IF(D6162=\"\",1-I6160,ROUND(E6161/SUM($E$15:$E$6350),3)))","v":""},{"$f":"IF(OR(D6161=\"\",$A$11=\"nominální\"),\"\",G6160+E6161)","v":""},{"$f":"IF(OR($K$11=0,D6161=\"\",$A$11=\"nominální\"),\"\",H6160+F6161)","v":""},{"$f":"IF(OR($K$11=0,D6161=\"\"),\"\",I6160+F6161)","v":""}]
[null,null,null,null,{"$f":"IF(D6162=\"\",\"\",COUNTIF(Tabulka5[Data],D6162))","v":""},"","","",""]
[null,null,null,null,{"$f":"IF(D6163=\"\",\"\",COUNTIF(Tabulka5[Data],D6163))","v":""},"","","",""]
[null,null,null,null,{"$f":"IF(D6164=\"\",\"\",COUNTIF(Tabulka5[Data],D6164))","v":""},"","","",""]
[null,null,null,null,{"$f":"IF(D6165=\"\",\"\",COUNTIF(Tabulka5[Data],D6165))","v":""},"","","",""]
[null,null,null,null,{"$f":"IF(D6166=\"\",\"\",COUNTIF(Tabulka5[Data],D6166))","v":""},"","","",""]
[null,null,null,null,{"$f":"IF(D6167=\"\",\"\",COUNTIF(Tabulka5[Data],D6167))","v":""},"","","",""]
[null,null,null,null,{"$f":"IF(D6168=\"\",\"\",COUNTIF(Tabulka5[Data],D6168))","v":""},"","","",""]
[null,null,null,null,{"$f":"IF(D6169=\"\",\"\",COUNTIF(Tabulka5[Data],D6169))","v":""},"","","",""]
[null,null,null,null,{"$f":"IF(D6170=\"\",\"\",COUNTIF(Tabulka5[Data],D6170))","v":""},"","","",""]
[null,null,null,null,{"$f":"IF(D6171=\"\",\"\",COUNTIF(Tabulka5[Data],D6171))","v":""},"","","",""]
[null,null,null,null,{"$f":"IF(D6172=\"\",\"\",COUNTIF(Tabulka5[Data],D6172))","v":""},"","","",""]
[null,null,null,null,{"$f":"IF(D6173=\"\",\"\",COUNTIF(Tabulka5[Data],D6173))","v":""},"","","",""]
[null,null,null,null,{"$f":"IF(D6174=\"\",\"\",COUNTIF(Tabulka5[Data],D6174))","v":""},"","","",""]
[null,null,null,null,{"$f":"IF(D6175=\"\",\"\",COUNTIF(Tabulka5[Data],D6175))","v":""},"","","",""]
[null,null,null,null,{"$f":"IF(D6176=\"\",\"\",COUNTIF(Tabulka5[Data],D6176))","v":""},"","","",""]
[null,null,null,null,{"$f":"IF(D6177=\"\",\"\",COUNTIF(Tabulka5[Data],D6177))","v":""},"","","",""]
[null,null,null,null,{"$f":"IF(D6178=\"\",\"\",COUNTIF(Tabulka5[Data],D6178))","v":""},"","","",""]
[null,null,null,null,{"$f":"IF(D6179=\"\",\"\",COUNTIF(Tabulka5[Data],D6179))","v":""},"","","",""]
[null,null,null,null,{"$f":"IF(D6180=\"\",\"\",COUNTIF(Tabulka5[Data],D6180))","v":""},"","","",""]
[null,null,null,null,{"$f":"IF(D6181=\"\",\"\",COUNTIF(Tabulka5[Data],D6181))","v":""},"","","",""]
[null,null,null,null,{"$f":"IF(D6182=\"\",\"\",COUNTIF(Tabulka5[Data],D6182))","v":""},"","","",""]
[null,null,null,null,{"$f":"IF(D6183=\"\",\"\",COUNTIF(Tabulka5[Data],D6183))","v":""},"","","",""]
[null,null,null,null,{"$f":"IF(D6184=\"\",\"\",COUNTIF(Tabulka5[Data],D6184))","v":""},"","","",""]
[null,null,null,null,{"$f":"IF(D6185=\"\",\"\",COUNTIF(Tabulka5[Data],D6185))","v":""},"","","",""]
[null,null,null,null,{"$f":"IF(D6186=\"\",\"\",COUNTIF(Tabulka5[Data],D6186))","v":""},"","","",""]
[null,null,null,null,{"$f":"IF(D6187=\"\",\"\",COUNTIF(Tabulka5[Data],D6187))","v":""},"","","",""]
[null,null,null,null,{"$f":"IF(D6188=\"\",\"\",COUNTIF(Tabulka5[Data],D6188))","v":""},"","","",""]
[null,null,null,null,{"$f":"IF(D6189=\"\",\"\",COUNTIF(Tabulka5[Data],D6189))","v":""},"","","",""]
[null,null,null,null,{"$f":"IF(D6190=\"\",\"\",COUNTIF(Tabulka5[Data],D6190))","v":""},"","","",""]
[null,null,null,null,{"$f":"IF(D6191=\"\",\"\",COUNTIF(Tabulka5[Data],D6191))","v":""},"","","",""]
[null,null,null,null,{"$f":"IF(D6192=\"\",\"\",COUNTIF(Tabulka5[Data],D6192))","v":""},"","","",""]
[null,null,null,null,{"$f":"IF(D6193=\"\",\"\",COUNTIF(Tabulka5[Data],D6193))","v":""},"","","",""]
[null,null,null,null,{"$f":"IF(D6194=\"\",\"\",COUNTIF(Tabulka5[Data],D6194))","v":""},"","","",""]
[null,null,null,null,{"$f":"IF(D6195=\"\",\"\",COUNTIF(Tabulka5[Data],D6195))","v":""},"","","",""]
[null,null,null,null,{"$f":"IF(D6196=\"\",\"\",COUNTIF(Tabulka5[Data],D6196))","v":""},"","","",""]
[null,null,null,null,{"$f":"IF(D6197=\"\",\"\",COUNTIF(Tabulka5[Data],D6197))","v":""},"","","",""]
[null,null,null,null,{"$f":"IF(D6198=\"\",\"\",COUNTIF(Tabulka5[Data],D6198))","v":""},"","","",""]
[null,null,null,null,{"$f":"IF(D6199=\"\",\"\",COUNTIF(Tabulka5[Data],D6199))","v":""},"","","",""]
[null,null,null,null,{"$f":"IF(D6200=\"\",\"\",COUNTIF(Tabulka5[Data],D6200))","v":""},"","","",""]
[null,null,null,null,{"$f":"IF(D6201=\"\",\"\",COUNTIF(Tabulka5[Data],D6201))","v":""},"","","",""]
[null,null,null,null,{"$f":"IF(D6202=\"\",\"\",COUNTIF(Tabulka5[Data],D6202))","v":""},"","","",""]
[null,null,null,null,{"$f":"IF(D6203=\"\",\"\",COUNTIF(Tabulka5[Data],D6203))","v":""},"","","",""]
[null,null,null,null,{"$f":"IF(D6204=\"\",\"\",COUNTIF(Tabulka5[Data],D6204))","v":""},"","","",""]
[null,null,null,null,{"$f":"IF(D6205=\"\",\"\",COUNTIF(Tabulka5[Data],D6205))","v":""},"","","",""]
[null,null,null,null,{"$f":"IF(D6206=\"\",\"\",COUNTIF(Tabulka5[Data],D6206))","v":""},"","","",""]
[null,null,null,null,{"$f":"IF(D6207=\"\",\"\",COUNTIF(Tabulka5[Data],D6207))","v":""},"","","",""]
[null,null,null,null,{"$f":"IF(D6208=\"\",\"\",COUNTIF(Tabulka5[Data],D6208))","v":""},"","","",""]
[null,null,null,null,{"$f":"IF(D6209=\"\",\"\",COUNTIF(Tabulka5[Data],D6209))","v":""},"","","",""]
[null,null,null,null,{"$f":"IF(D6210=\"\",\"\",COUNTIF(Tabulka5[Data],D6210))","v":""},"","","",""]
[null,null,null,null,{"$f":"IF(D6211=\"\",\"\",COUNTIF(Tabulka5[Data],D6211))","v":""},"","","",""]
[null,null,null,null,{"$f":"IF(D6212=\"\",\"\",COUNTIF(Tabulka5[Data],D6212))","v":""},"","","",""]
[null,null,null,null,{"$f":"IF(D6213=\"\",\"\",COUNTIF(Tabulka5[Data],D6213))","v":""},"","","",""]
[null,null,null,null,{"$f":"IF(D6214=\"\",\"\",COUNTIF(Tabulka5[Data],D6214))","v":""},"","","",""]
[null,null,null,null,{"$f":"IF(D6215=\"\",\"\",COUNTIF(Tabulka5[Data],D6215))","v":""},"","","",""]
[null,null,null,null,{"$f":"IF(D6216=\"\",\"\",COUNTIF(Tabulka5[Data],D6216))","v":""},"","","",""]
[null,null,null,null,{"$f":"IF(D6217=\"\",\"\",COUNTIF(Tabulka5[Data],D6217))","v":""},"","","",""]
[null,null,null,null,{"$f":"IF(D6218=\"\",\"\",COUNTIF(Tabulka5[Data],D6218))","v":""},"","","",""]
[null,null,null,null,{"$f":"IF(D6219=\"\",\"\",COUNTIF(Tabulka5[Data],D6219))","v":""},"","","",""]
[null,null,null,null,{"$f":"IF(D6220=\"\",\"\",COUNTIF(Tabulka5[Data],D6220))","v":""},"","","",""]
[null,null,null,null,{"$f":"IF(D6221=\"\",\"\",COUNTIF(Tabulka5[Data],D6221))","v":""},"","","",""]
[null,null,null,null,{"$f":"IF(D6222=\"\",\"\",COUNTIF(Tabulka5[Data],D6222))","v":""},"","","",""]
[null,null,null,null,{"$f":"IF(D6223=\"\",\"\",COUNTIF(Tabulka5[Data],D6223))","v":""},"","","",""]
[null,null,null,null,{"$f":"IF(D6224=\"\",\"\",COUNTIF(Tabulka5[Data],D6224))","v":""},"","","",""]
[null,null,null,null,{"$f":"IF(D6225=\"\",\"\",COUNTIF(Tabulka5[Data],D6225))","v":""},{"$f":"IF(OR($K$11=0,D6225=\"\"),\"\",IF(D6226=\"\",1-I6224,ROUND(E6225/SUM($E$15:$E$6350),3)))","v":""},{"$f":"IF(OR(D6225=\"\",$A$11=\"nominální\"),\"\",G6224+E6225)","v":""},{"$f":"IF(OR($K$11=0,D6225=\"\",$A$11=\"nominální\"),\"\",H6224+F6225)","v":""},{"$f":"IF(OR($K$11=0,D6225=\"\"),\"\",I6224+F6225)","v":""}]
[null,null,null,null,{"$f":"IF(D6226=\"\",\"\",COUNTIF(Tabulka5[Data],D6226))","v":""},"","","",""]
[null,null,null,null,{"$f":"IF(D6227=\"\",\"\",COUNTIF(Tabulka5[Data],D6227))","v":""},"","","",""]
[null,null,null,null,{"$f":"IF(D6228=\"\",\"\",COUNTIF(Tabulka5[Data],D6228))","v":""},"","","",""]
[null,null,null,null,{"$f":"IF(D6229=\"\",\"\",COUNTIF(Tabulka5[Data],D6229))","v":""},"","","",""]
[null,null,null,null,{"$f":"IF(D6230=\"\",\"\",COUNTIF(Tabulka5[Data],D6230))","v":""},"","","",""]
[null,null,null,null,{"$f":"IF(D6231=\"\",\"\",COUNTIF(Tabulka5[Data],D6231))","v":""},"","","",""]
[null,null,null,null,{"$f":"IF(D6232=\"\",\"\",COUNTIF(Tabulka5[Data],D6232))","v":""},"","","",""]
[null,null,null,null,{"$f":"IF(D6233=\"\",\"\",COUNTIF(Tabulka5[Data],D6233))","v":""},"","","",""]
[null,null,null,null,{"$f":"IF(D6234=\"\",\"\",COUNTIF(Tabulka5[Data],D6234))","v":""},"","","",""]
[null,null,null,null,{"$f":"IF(D6235=\"\",\"\",COUNTIF(Tabulka5[Data],D6235))","v":""},"","","",""]
[null,null,null,null,{"$f":"IF(D6236=\"\",\"\",COUNTIF(Tabulka5[Data],D6236))","v":""},"","","",""]
[null,null,null,null,{"$f":"IF(D6237=\"\",\"\",COUNTIF(Tabulka5[Data],D6237))","v":""},"","","",""]
[null,null,null,null,{"$f":"IF(D6238=\"\",\"\",COUNTIF(Tabulka5[Data],D6238))","v":""},"","","",""]
[null,null,null,null,{"$f":"IF(D6239=\"\",\"\",COUNTIF(Tabulka5[Data],D6239))","v":""},"","","",""]
[null,null,null,null,{"$f":"IF(D6240=\"\",\"\",COUNTIF(Tabulka5[Data],D6240))","v":""},"","","",""]
[null,null,null,null,{"$f":"IF(D6241=\"\",\"\",COUNTIF(Tabulka5[Data],D6241))","v":""},"","","",""]
[null,null,null,null,{"$f":"IF(D6242=\"\",\"\",COUNTIF(Tabulka5[Data],D6242))","v":""},"","","",""]
[null,null,null,null,{"$f":"IF(D6243=\"\",\"\",COUNTIF(Tabulka5[Data],D6243))","v":""},"","","",""]
[null,null,null,null,{"$f":"IF(D6244=\"\",\"\",COUNTIF(Tabulka5[Data],D6244))","v":""},"","","",""]
[null,null,null,null,{"$f":"IF(D6245=\"\",\"\",COUNTIF(Tabulka5[Data],D6245))","v":""},"","","",""]
[null,null,null,null,{"$f":"IF(D6246=\"\",\"\",COUNTIF(Tabulka5[Data],D6246))","v":""},"","","",""]
[null,null,null,null,{"$f":"IF(D6247=\"\",\"\",COUNTIF(Tabulka5[Data],D6247))","v":""},"","","",""]
[null,null,null,null,{"$f":"IF(D6248=\"\",\"\",COUNTIF(Tabulka5[Data],D6248))","v":""},"","","",""]
[null,null,null,null,{"$f":"IF(D6249=\"\",\"\",COUNTIF(Tabulka5[Data],D6249))","v":""},"","","",""]
[null,null,null,null,{"$f":"IF(D6250=\"\",\"\",COUNTIF(Tabulka5[Data],D6250))","v":""},"","","",""]
[null,null,null,null,{"$f":"IF(D6251=\"\",\"\",COUNTIF(Tabulka5[Data],D6251))","v":""},"","","",""]
[null,null,null,null,{"$f":"IF(D6252=\"\",\"\",COUNTIF(Tabulka5[Data],D6252))","v":""},"","","",""]
[null,null,null,null,{"$f":"IF(D6253=\"\",\"\",COUNTIF(Tabulka5[Data],D6253))","v":""},"","","",""]
[null,null,null,null,{"$f":"IF(D6254=\"\",\"\",COUNTIF(Tabulka5[Data],D6254))","v":""},"","","",""]
[null,null,null,null,{"$f":"IF(D6255=\"\",\"\",COUNTIF(Tabulka5[Data],D6255))","v":""},"","","",""]
[null,null,null,null,{"$f":"IF(D6256=\"\",\"\",COUNTIF(Tabulka5[Data],D6256))","v":""},"","","",""]
[null,null,null,null,{"$f":"IF(D6257=\"\",\"\",COUNTIF(Tabulka5[Data],D6257))","v":""},"","","",""]
[null,null,null,null,{"$f":"IF(D6258=\"\",\"\",COUNTIF(Tabulka5[Data],D6258))","v":""},"","","",""]
[null,null,null,null,{"$f":"IF(D6259=\"\",\"\",COUNTIF(Tabulka5[Data],D6259))","v":""},"","","",""]
[null,null,null,null,{"$f":"IF(D6260=\"\",\"\",COUNTIF(Tabulka5[Data],D6260))","v":""},"","","",""]
[null,null,null,null,{"$f":"IF(D6261=\"\",\"\",COUNTIF(Tabulka5[Data],D6261))","v":""},"","","",""]
[null,null,null,null,{"$f":"IF(D6262=\"\",\"\",COUNTIF(Tabulka5[Data],D6262))","v":""},"","","",""]
[null,null,null,null,{"$f":"IF(D6263=\"\",\"\",COUNTIF(Tabulka5[Data],D6263))","v":""},"","","",""]
[null,null,null,null,{"$f":"IF(D6264=\"\",\"\",COUNTIF(Tabulka5[Data],D6264))","v":""},"","","",""]
[null,null,null,null,{"$f":"IF(D6265=\"\",\"\",COUNTIF(Tabulka5[Data],D6265))","v":""},"","","",""]
[null,null,null,null,{"$f":"IF(D6266=\"\",\"\",COUNTIF(Tabulka5[Data],D6266))","v":""},"","","",""]
[null,null,null,null,{"$f":"IF(D6267=\"\",\"\",COUNTIF(Tabulka5[Data],D6267))","v":""},"","","",""]
[null,null,null,null,{"$f":"IF(D6268=\"\",\"\",COUNTIF(Tabulka5[Data],D6268))","v":""},"","","",""]
[null,null,null,null,{"$f":"IF(D6269=\"\",\"\",COUNTIF(Tabulka5[Data],D6269))","v":""},"","","",""]
[null,null,null,null,{"$f":"IF(D6270=\"\",\"\",COUNTIF(Tabulka5[Data],D6270))","v":""},"","","",""]
[null,null,null,null,{"$f":"IF(D6271=\"\",\"\",COUNTIF(Tabulka5[Data],D6271))","v":""},"","","",""]
[null,null,null,null,{"$f":"IF(D6272=\"\",\"\",COUNTIF(Tabulka5[Data],D6272))","v":""},"","","",""]
[null,null,null,null,{"$f":"IF(D6273=\"\",\"\",COUNTIF(Tabulka5[Data],D6273))","v":""},"","","",""]
[null,null,null,null,{"$f":"IF(D6274=\"\",\"\",COUNTIF(Tabulka5[Data],D6274))","v":""},"","","",""]
[null,null,null,null,{"$f":"IF(D6275=\"\",\"\",COUNTIF(Tabulka5[Data],D6275))","v":""},"","","",""]
[null,null,null,null,{"$f":"IF(D6276=\"\",\"\",COUNTIF(Tabulka5[Data],D6276))","v":""},"","","",""]
[null,null,null,null,{"$f":"IF(D6277=\"\",\"\",COUNTIF(Tabulka5[Data],D6277))","v":""},"","","",""]
[null,null,null,null,{"$f":"IF(D6278=\"\",\"\",COUNTIF(Tabulka5[Data],D6278))","v":""},"","","",""]
[null,null,null,null,{"$f":"IF(D6279=\"\",\"\",COUNTIF(Tabulka5[Data],D6279))","v":""},"","","",""]
[null,null,null,null,{"$f":"IF(D6280=\"\",\"\",COUNTIF(Tabulka5[Data],D6280))","v":""},"","","",""]
[null,null,null,null,{"$f":"IF(D6281=\"\",\"\",COUNTIF(Tabulka5[Data],D6281))","v":""},"","","",""]
[null,null,null,null,{"$f":"IF(D6282=\"\",\"\",COUNTIF(Tabulka5[Data],D6282))","v":""},"","","",""]
[null,null,null,null,{"$f":"IF(D6283=\"\",\"\",COUNTIF(Tabulka5[Data],D6283))","v":""},"","","",""]
[null,null,null,null,{"$f":"IF(D6284=\"\",\"\",COUNTIF(Tabulka5[Data],D6284))","v":""},"","","",""]
[null,null,null,null,{"$f":"IF(D6285=\"\",\"\",COUNTIF(Tabulka5[Data],D6285))","v":""},"","","",""]
[null,null,null,null,{"$f":"IF(D6286=\"\",\"\",COUNTIF(Tabulka5[Data],D6286))","v":""},"","","",""]
[null,null,null,null,{"$f":"IF(D6287=\"\",\"\",COUNTIF(Tabulka5[Data],D6287))","v":""},"","","",""]
[null,null,null,null,{"$f":"IF(D6288=\"\",\"\",COUNTIF(Tabulka5[Data],D6288))","v":""},"","","",""]
[null,null,null,null,{"$f":"IF(D6289=\"\",\"\",COUNTIF(Tabulka5[Data],D6289))","v":""},{"$f":"IF(OR($K$11=0,D6289=\"\"),\"\",IF(D6290=\"\",1-I6288,ROUND(E6289/SUM($E$15:$E$6350),3)))","v":""},{"$f":"IF(OR(D6289=\"\",$A$11=\"nominální\"),\"\",G6288+E6289)","v":""},{"$f":"IF(OR($K$11=0,D6289=\"\",$A$11=\"nominální\"),\"\",H6288+F6289)","v":""},{"$f":"IF(OR($K$11=0,D6289=\"\"),\"\",I6288+F6289)","v":""}]
[null,null,null,null,{"$f":"IF(D6290=\"\",\"\",COUNTIF(Tabulka5[Data],D6290))","v":""},"","","",""]
[null,null,null,null,{"$f":"IF(D6291=\"\",\"\",COUNTIF(Tabulka5[Data],D6291))","v":""},"","","",""]
[null,null,null,null,{"$f":"IF(D6292=\"\",\"\",COUNTIF(Tabulka5[Data],D6292))","v":""},"","","",""]
[null,null,null,null,{"$f":"IF(D6293=\"\",\"\",COUNTIF(Tabulka5[Data],D6293))","v":""},"","","",""]
[null,null,null,null,{"$f":"IF(D6294=\"\",\"\",COUNTIF(Tabulka5[Data],D6294))","v":""},"","","",""]
[null,null,null,null,{"$f":"IF(D6295=\"\",\"\",COUNTIF(Tabulka5[Data],D6295))","v":""},"","","",""]
[null,null,null,null,{"$f":"IF(D6296=\"\",\"\",COUNTIF(Tabulka5[Data],D6296))","v":""},"","","",""]
[null,null,null,null,{"$f":"IF(D6297=\"\",\"\",COUNTIF(Tabulka5[Data],D6297))","v":""},"","","",""]
[null,null,null,null,{"$f":"IF(D6298=\"\",\"\",COUNTIF(Tabulka5[Data],D6298))","v":""},"","","",""]
[null,null,null,null,{"$f":"IF(D6299=\"\",\"\",COUNTIF(Tabulka5[Data],D6299))","v":""},"","","",""]
[null,null,null,null,{"$f":"IF(D6300=\"\",\"\",COUNTIF(Tabulka5[Data],D6300))","v":""},"","","",""]
[null,null,null,null,{"$f":"IF(D6301=\"\",\"\",COUNTIF(Tabulka5[Data],D6301))","v":""},"","","",""]
[null,null,null,null,{"$f":"IF(D6302=\"\",\"\",COUNTIF(Tabulka5[Data],D6302))","v":""},"","","",""]
[null,null,null,null,{"$f":"IF(D6303=\"\",\"\",COUNTIF(Tabulka5[Data],D6303))","v":""},"","","",""]
[null,null,null,null,{"$f":"IF(D6304=\"\",\"\",COUNTIF(Tabulka5[Data],D6304))","v":""},"","","",""]
[null,null,null,null,{"$f":"IF(D6305=\"\",\"\",COUNTIF(Tabulka5[Data],D6305))","v":""},"","","",""]
[null,null,null,null,{"$f":"IF(D6306=\"\",\"\",COUNTIF(Tabulka5[Data],D6306))","v":""},"","","",""]
[null,null,null,null,{"$f":"IF(D6307=\"\",\"\",COUNTIF(Tabulka5[Data],D6307))","v":""},"","","",""]
[null,null,null,null,{"$f":"IF(D6308=\"\",\"\",COUNTIF(Tabulka5[Data],D6308))","v":""},"","","",""]
[null,null,null,null,{"$f":"IF(D6309=\"\",\"\",COUNTIF(Tabulka5[Data],D6309))","v":""},"","","",""]
[null,null,null,null,{"$f":"IF(D6310=\"\",\"\",COUNTIF(Tabulka5[Data],D6310))","v":""},"","","",""]
[null,null,null,null,{"$f":"IF(D6311=\"\",\"\",COUNTIF(Tabulka5[Data],D6311))","v":""},"","","",""]
[null,null,null,null,{"$f":"IF(D6312=\"\",\"\",COUNTIF(Tabulka5[Data],D6312))","v":""},"","","",""]
[null,null,null,null,{"$f":"IF(D6313=\"\",\"\",COUNTIF(Tabulka5[Data],D6313))","v":""},"","","",""]
[null,null,null,null,{"$f":"IF(D6314=\"\",\"\",COUNTIF(Tabulka5[Data],D6314))","v":""},"","","",""]
[null,null,null,null,{"$f":"IF(D6315=\"\",\"\",COUNTIF(Tabulka5[Data],D6315))","v":""},"","","",""]
[null,null,null,null,{"$f":"IF(D6316=\"\",\"\",COUNTIF(Tabulka5[Data],D6316))","v":""},"","","",""]
[null,null,null,null,{"$f":"IF(D6317=\"\",\"\",COUNTIF(Tabulka5[Data],D6317))","v":""},"","","",""]
[null,null,null,null,{"$f":"IF(D6318=\"\",\"\",COUNTIF(Tabulka5[Data],D6318))","v":""},"","","",""]
[null,null,null,null,{"$f":"IF(D6319=\"\",\"\",COUNTIF(Tabulka5[Data],D6319))","v":""},"","","",""]
[null,null,null,null,{"$f":"IF(D6320=\"\",\"\",COUNTIF(Tabulka5[Data],D6320))","v":""},"","","",""]
[null,null,null,null,{"$f":"IF(D6321=\"\",\"\",COUNTIF(Tabulka5[Data],D6321))","v":""},"","","",""]
[null,null,null,null,{"$f":"IF(D6322=\"\",\"\",COUNTIF(Tabulka5[Data],D6322))","v":""},"","","",""]
[null,null,null,null,{"$f":"IF(D6323=\"\",\"\",COUNTIF(Tabulka5[Data],D6323))","v":""},"","","",""]
[null,null,null,null,{"$f":"IF(D6324=\"\",\"\",COUNTIF(Tabulka5[Data],D6324))","v":""},"","","",""]
[null,null,null,null,{"$f":"IF(D6325=\"\",\"\",COUNTIF(Tabulka5[Data],D6325))","v":""},"","","",""]
[null,null,null,null,{"$f":"IF(D6326=\"\",\"\",COUNTIF(Tabulka5[Data],D6326))","v":""},"","","",""]
[null,null,null,null,{"$f":"IF(D6327=\"\",\"\",COUNTIF(Tabulka5[Data],D6327))","v":""},"","","",""]
[null,null,null,null,{"$f":"IF(D6328=\"\",\"\",COUNTIF(Tabulka5[Data],D6328))","v":""},"","","",""]
[null,null,null,null,{"$f":"IF(D6329=\"\",\"\",COUNTIF(Tabulka5[Data],D6329))","v":""},"","","",""]
[null,null,null,null,{"$f":"IF(D6330=\"\",\"\",COUNTIF(Tabulka5[Data],D6330))","v":""},"","","",""]
[null,null,null,null,{"$f":"IF(D6331=\"\",\"\",COUNTIF(Tabulka5[Data],D6331))","v":""},"","","",""]
[null,null,null,null,{"$f":"IF(D6332=\"\",\"\",COUNTIF(Tabulka5[Data],D6332))","v":""},"","","",""]
[null,null,null,null,{"$f":"IF(D6333=\"\",\"\",COUNTIF(Tabulka5[Data],D6333))","v":""},"","","",""]
[null,null,null,null,{"$f":"IF(D6334=\"\",\"\",COUNTIF(Tabulka5[Data],D6334))","v":""},"","","",""]
[null,null,null,null,{"$f":"IF(D6335=\"\",\"\",COUNTIF(Tabulka5[Data],D6335))","v":""},"","","",""]
[null,null,null,null,{"$f":"IF(D6336=\"\",\"\",COUNTIF(Tabulka5[Data],D6336))","v":""},"","","",""]
[null,null,null,null,{"$f":"IF(D6337=\"\",\"\",COUNTIF(Tabulka5[Data],D6337))","v":""},"","","",""]
[null,null,null,null,{"$f":"IF(D6338=\"\",\"\",COUNTIF(Tabulka5[Data],D6338))","v":""},"","","",""]
[null,null,null,null,{"$f":"IF(D6339=\"\",\"\",COUNTIF(Tabulka5[Data],D6339))","v":""},"","","",""]
[null,null,null,null,{"$f":"IF(D6340=\"\",\"\",COUNTIF(Tabulka5[Data],D6340))","v":""},"","","",""]
[null,null,null,null,{"$f":"IF(D6341=\"\",\"\",COUNTIF(Tabulka5[Data],D6341))","v":""},"","","",""]
[null,null,null,null,{"$f":"IF(D6342=\"\",\"\",COUNTIF(Tabulka5[Data],D6342))","v":""},"","","",""]
[null,null,null,null,{"$f":"IF(D6343=\"\",\"\",COUNTIF(Tabulka5[Data],D6343))","v":""},"","","",""]
[null,null,null,null,{"$f":"IF(D6344=\"\",\"\",COUNTIF(Tabulka5[Data],D6344))","v":""},"","","",""]
[null,null,null,null,{"$f":"IF(D6345=\"\",\"\",COUNTIF(Tabulka5[Data],D6345))","v":""},"","","",""]
[null,null,null,null,{"$f":"IF(D6346=\"\",\"\",COUNTIF(Tabulka5[Data],D6346))","v":""},"","","",""]
[null,null,null,null,{"$f":"IF(D6347=\"\",\"\",COUNTIF(Tabulka5[Data],D6347))","v":""},"","","",""]
[null,null,null,null,{"$f":"IF(D6348=\"\",\"\",COUNTIF(Tabulka5[Data],D6348))","v":""},"","","",""]
[null,null,null,null,{"$f":"IF(D6349=\"\",\"\",COUNTIF(Tabulka5[Data],D6349))","v":""},"","","",""]
[null,null,null,null,{"$f":"IF(D6350=\"\",\"\",COUNTIF(Tabulka5[Data],D6350))","v":""},"","","",""]

{"sheet":"Test normality","index":5,"n_rows":11,"n_cols":14,"rows_kept":11,"cut":false,"hidden":true,"merged":[]}
["suma_2","suma_3","suma_4","šikmost","var_šikmost","špičatost","var_špičatost","t","p-hodnota",null,"alfa",null,null,0.01]
[{"$f":"SUM(IF(('Numerická proměnná'!$A$14:$A$1727<>\"\"),('Numerická proměnná'!$A$14:$A$1727-'Numerická proměnná'!$G$17)^2))","v":6180.3600000000006},{"$f":"SUM(IF(('Numerická proměnná'!$A$14:$A$1727<>\"\"),('Numerická proměnná'!$A$14:$A$1727-'Numerická proměnná'!$G$17)^3))","v":-86363.337600000086},{"$f":"SUM(IF(('Numerická proměnná'!$A$14:$A$1727<>\"\"),('Numerická proměnná'!$A$14:$A$1727-'Numerická proměnná'!$G$17)^4))","v":4711179.1881119907},{"$f":"'Numerická proměnná'!G29","v":-1.8046803090801813},{"$f":"IF(Rozsah<1,\"\",6*(Rozsah-2)/((Rozsah+1)*(Rozsah+3)))","v":5.6522157070075942E-2},{"$f":"'Numerická proměnná'!G30","v":9.8805108044693775},{"$f":"IF(Rozsah<1,\"\",(24*Rozsah*(Rozsah-2)*(Rozsah-3))/((Rozsah+1)*(Rozsah+1)*(Rozsah+3)*(Rozsah+5)))","v":0.20679487923799589},{"$f":"((D2^2)/E2)+((F2^2)/G2)","v":529.70484789012448},{"$f":"ROUND(2*MIN(1-CHIDIST(H2,2),CHIDIST(H2,2)),4)","v":0},null,{"$f":"'Numerická proměnná'!J34","v":0.01},{"$f":"IF($I$2=0,\"<<<0,001\",CONCATENATE(\"=\",I2))","v":"<<<0,001"},null,0.05]
[null,null,null,null,null,null,null,null,null,null,null,null,null,0.1]
["Kombinovaný test na základě šikmosti a špičatosti"]
[]
[]
[{"$f":"CONCATENATE(\"Na hladině významnosti \",$K$2,\" zamítáme předpoklad o normalitě výběru (p-hodnota\",$L$2,\").\")","v":"Na hladině významnosti 0,01 zamítáme předpoklad o normalitě výběru (p-hodnota<<<0,001)."}]
[{"$f":"CONCATENATE(\"Na hladině významnosti \",$K$2,\" nezamítáme předpoklad o normalitě výběru (p-hodnota\",$L$2,\").\")","v":"Na hladině významnosti 0,01 nezamítáme předpoklad o normalitě výběru (p-hodnota<<<0,001)."}]
[]
["Rozhodnutí"]
[{"$f":"IF($I$2<$K$2,$A$7,$A$8)","v":"Na hladině významnosti 0,01 zamítáme předpoklad o normalitě výběru (p-hodnota<<<0,001)."}]